{"text_format":"1","workbook":"xlsx","n_sheets":9,"sheets":["Home","NHS Health Check Invoice","IUCD Invoice","Contraceptive Implant Invoice","Chlamydia Invoice","HIV Invoice","Lookup","Raw Data","Backing"],"not_rendered":{"charts":0,"images":10,"macros":1,"external_links":1,"defined_names":89,"comments":0,"pivot_tables":0},"unopened":[],"bounds":{"document_bytes":16777216,"sheet_cells":100000,"rows_first":2000,"rows_last":500,"rows_between":2000,"halvings":0,"cell_chars":16384,"cell_head_chars":4096},"cells_cut":0,"cells_raw":0,"read":"whole","date_system":"1900"}

{"sheet":"Home","index":0,"n_rows":40,"n_cols":14,"rows_kept":40,"cut":false,"hidden":false,"merged":[[39,5,39,7],[32,3,32,4],[39,2,39,4],[20,3,20,4],[21,3,21,4],[23,2,23,4],[24,3,24,4],[27,2,27,4],[28,3,28,4],[31,3,31,4],[34,2,34,4],[37,3,37,4],[30,3,30,4],[33,2,33,3],[38,2,38,3],[25,3,25,4],[6,1,6,8],[6,9,6,10],[9,2,9,3],[22,2,22,3],[2,4,4,9],[8,1,8,10],[12,2,12,4],[13,2,13,4],[19,2,19,4],[11,13,11,19],[35,3,35,4],[36,3,36,4],[12,13,12,19],[16,13,16,19],[29,3,29,4],[19,13,20,19],[14,13,15,19],[26,2,26,3]]}
[]
[]
[null,null,null,null,"Newham Public Health Invoice Tool, Qtr-4 2023-24"]
[]
[]
[]
[]
[null,"Instructions",null,null,"1- Import CSV file",null,"2- Generate Invoices",null,null,"Reset Invoice"]
[null,"Please confirm below if you have signed up for this service in 2023-24"]
[null,null,"Backing Data Export"]
[]
[null,null,null,"Invoice Summery ",null,null,null,null,null,null,null,null,null,"Quick guide to generate PH invoices"]
[null,null,"Services",null,null,"Signed up for this service?","Activity","Price","Payment",null,null,null,null,"Note: Before running the tool make sure you have the EMIS report."]
[null,null,"1. NHS Health Checks ",null,null,null,null,null,null,null,null,null,null,"Step - 1: Click the csv file                icon to select the exported EMIS CSV report."]
[null,null,null,"NHS Health Check",null,null,{"$f":"rngNhsCheckActivities","v":0},{"$f":"'NHS Health Check Invoice'!F19","v":25.96},{"$f":"'NHS Health Check Invoice'!H19","v":0},null,null,null,null,"Step - 2:  Click the 'Generate Invoice'                 button to calculate invoice totals."]
[null,null,null,"HbA1c Test",null,null,{"$f":"rngNHC_HbA1cActivities","v":0},{"$f":"'NHS Health Check Invoice'!F20","v":6.88},{"$f":"'NHS Health Check Invoice'!H20","v":0}]
[null,null,null,"Lipid Test",null,null,{"$f":"rngNHC_LipidActivities","v":0},{"$f":"'NHS Health Check Invoice'!F21","v":5.61},{"$f":"'NHS Health Check Invoice'!H21","v":0},null,null,null,null,"Step - 3:  Navigate to individual invoices and enter invoice number."]
[null,null,null,"PHQ-9 and GAD-7",null,null,{"$f":"rngNHC_PHQ7GAD7Activities","v":0},{"$f":"'NHS Health Check Invoice'!F22","v":5},{"$f":"'NHS Health Check Invoice'!H22","v":0},null,null,null,null,"Step - 4:  To export the generated invoice click 'Save as PDF'               icon."]
[]
[null,null,"2. Intrauterine Contraceptive Device (IUCD)",null,null,null,null,null,null,null,null,null,null,"Note:  Practices will need to email the invoice at: \nnewccg.nhcinvoice-ph@nhs.net"]
[null,null,null,"IUCD Insertions",null,null,{"$f":"rngIUCDInsertionActivities","v":0},{"$f":"'IUCD Invoice'!F19","v":99},{"$f":"'IUCD Invoice'!H19","v":0}]
[null,null,null,"IUCD Removals",null,null,{"$f":"rngIUCDRemovalActivities","v":0},{"$f":"'IUCD Invoice'!F20","v":21},{"$f":"'IUCD Invoice'!H20","v":0}]
[]
[null,null,"3. Contraceptive Implant"]
[null,null,null,"Insertion",null,null,{"$f":"rngContraInsertionActivities","v":0},{"$f":"'Contraceptive Implant Invoice'!F19","v":52.8},{"$f":"'Contraceptive Implant Invoice'!H19","v":0}]
[null,null,null,"Removal",null,null,{"$f":"rngContraRemovalActivities","v":0},{"$f":"'Contraceptive Implant Invoice'!F20","v":34.65},{"$f":"'Contraceptive Implant Invoice'!H20","v":0}]
[]
[null,null,"4. Chlamydia "]
[null,null,null,"Screening (0-9%)",null,null,{"$f":"rngChlamydiaActivity9Per","v":0},{"$f":"'Chlamydia Invoice'!H20","v":5},{"$f":"'Chlamydia Invoice'!I20","v":0}]
[null,null,null,"Screening (10-14%)",null,null,{"$f":"rngChlamydiaActivity14Per","v":0},{"$f":"'Chlamydia Invoice'!H21","v":7.5},{"$f":"'Chlamydia Invoice'!I21","v":0}]
[null,null,null,"Screening (15+%)",null,null,{"$f":"rngChlamydiaActivity15PlusPer","v":0},{"$f":"'Chlamydia Invoice'!H22","v":10},{"$f":"'Chlamydia Invoice'!I22","v":0}]
[null,null,null,"Screened Positive Results",null,null,{"$f":"rngChlamydiaPosResultAct","v":0},{"$f":"'Chlamydia Invoice'!H23","v":20},{"$f":"'Chlamydia Invoice'!I23","v":0}]
[null,null,null,"Positive with Partner Notification & Treatment",null,null,{"$f":"rngChlyPosResPtnNotifAct","v":0},{"$f":"'Chlamydia Invoice'!H24","v":20},{"$f":"'Chlamydia Invoice'!I24","v":0}]
[]
[null,null,"5. HIV Screening"]
[null,null,null,"TDL Mouth Swab",null,null,{"$f":"rngHIVTDLMouthActivities","v":0},{"$f":"'HIV Invoice'!F19","v":2.7},{"$f":"'HIV Invoice'!H19","v":0}]
[null,null,null,"Phlebotomy",null,null,{"$f":"rngHIVPhlebotomyActivities","v":0},{"$f":"'HIV Invoice'!F20","v":5},{"$f":"'HIV Invoice'!H20","v":0}]
[null,null,null,"Positive with Follow up",null,null,{"$f":"rngHIVFollowupActivities","v":0},{"$f":"'HIV Invoice'!F21","v":100},{"$f":"'HIV Invoice'!H21","v":0}]
[]
[null,null,"TOTAL",null,null,null,null,null,{"$f":"SUM(I15:I18,I21:I22,I25:I26,I29:I33,I36:I38)","v":0}]

{"sheet":"NHS Health Check Invoice","index":1,"n_rows":30,"n_cols":8,"rows_kept":30,"cut":false,"hidden":false,"merged":[[2,2,4,7],[6,5,6,6],[6,1,6,4],[10,2,10,3],[12,2,12,3],[7,1,7,7],[8,1,8,6],[12,5,12,6],[17,1,17,2],[17,3,17,4],[17,5,17,6],[22,1,22,2],[19,1,19,2],[19,3,19,4],[19,5,19,6],[20,1,20,2],[20,3,20,4],[20,5,20,6],[18,1,18,2],[18,3,18,4],[18,5,18,6],[22,3,22,4],[25,1,25,6],[24,1,24,7],[21,1,21,2],[21,3,21,4],[21,5,21,6],[23,1,23,2],[23,3,23,6],[22,5,22,6]]}
[]
[]
[null,null,"Newham Public Health Invoice Tool, Qtr-4 2023-24"]
[]
[]
[]
[null,"E-mail PDF to: newccg.nhcinvoice-ph@nhs.net",null,null,null,"Save as PDF"]
[null,"Newham Public Health NHS Health Check Invoice, Qtr-4 2023-24"]
[]
[]
[null,"INVOICE No:","",null,null,null,"Date:"]
[]
[null,"Vendor Number:",null,null,null,"PO Number:"]
[]
[]
[]
[]
[null,"Service",null,"Activity",null,"Price",null,"Payment"]
[null,"NHS Health Check",null,0,null,25.96,null,{"$f":"D19*F19","v":0}]
[null,"HbA1c Test",null,0,null,6.88,null,{"$f":"D20*F20","v":0}]
[null,"Lipid Test",null,0,null,5.61,null,{"$f":"D21*F21","v":0}]
[null,"PHQ-9 and GAD-7",null,0,null,5,null,{"$f":"D22*F22","v":0}]
[]
[null,"TOTAL",null,null,null,null,null,{"$f":"SUM(H19:H22)","v":0}]
[]
[null,"TOTAL TO BE PAID TO PRACTICE",null,null,null,null,null,{"$f":"H24","v":0}]
[]
[null,"Account Name:"]
[null,"Sort Code:"]
[null,"Account Number:"]

{"sheet":"IUCD Invoice","index":2,"n_rows":28,"n_cols":8,"rows_kept":28,"cut":false,"hidden":false,"merged":[[10,2,10,3],[19,1,19,2],[19,3,19,4],[19,5,19,6],[12,2,12,3],[17,1,17,2],[17,3,17,4],[17,5,17,6],[18,1,18,2],[18,3,18,4],[18,5,18,6],[7,1,7,7],[8,1,8,6],[2,2,4,7],[6,1,6,4],[6,5,6,6],[23,1,23,6],[20,1,20,2],[20,3,20,4],[20,5,20,6],[21,1,21,2],[21,3,21,6],[22,1,22,7]]}
[]
[]
[null,null,"Newham Public Health Invoice Tool, Qtr-4 2023-24"]
[]
[]
[]
[null,"E-mail PDF to: newccg.nhcinvoice-ph@nhs.net",null,null,null,"Save as PDF"]
[null,"Newham Public Health IUCD Invoice, Qtr-4 2023-24"]
[]
[]
[null,"INVOICE No:","",null,null,null,"Date:"]
[]
[null,"Vendor Number:",null,null,null,null,"PO Number:"]
[]
[]
[]
[]
[null,"IUCD Services",null,"Activity",null,"Price",null,"Payment"]
[null,"IUCD Insertions",null,0,null,99,null,{"$f":"D19*F19","v":0}]
[null,"IUCD Removals",null,0,null,21,null,{"$f":"D20*F20","v":0}]
[]
[null,"TOTAL",null,null,null,null,null,{"$f":"SUM(H19:H20)","v":0}]
[]
[null,"TOTAL TO BE PAID TO PRACTICE",null,null,null,null,null,{"$f":"H22","v":0}]
[]
[null,"Account Name:"]
[null,"Sort Code:"]
[null,"Account Number:"]

{"sheet":"Contraceptive Implant Invoice","index":3,"n_rows":28,"n_cols":8,"rows_kept":28,"cut":false,"hidden":false,"merged":[[19,1,19,2],[19,3,19,4],[19,5,19,6],[12,2,12,3],[17,1,17,2],[17,3,17,4],[17,5,17,6],[18,1,18,2],[18,3,18,4],[18,5,18,6],[23,1,23,6],[20,1,20,2],[20,3,20,4],[20,5,20,6],[21,1,21,2],[21,3,21,6],[22,1,22,7],[10,2,10,3],[7,1,7,7],[8,1,8,6],[2,2,4,7],[6,1,6,4],[6,5,6,6]]}
[]
[]
[null,null,"Newham Public Health Invoice Tool, Qtr-4 2023-24"]
[]
[]
[]
[null,"E-mail PDF to: newccg.nhcinvoice-ph@nhs.net",null,null,null,"Save as PDF"]
[null,"Newham Public Health Contraceptive Implant Invoice, Qtr-4 2023-24"]
[]
[]
[null,"INVOICE No:","",null,null,null,"Date:"]
[]
[null,"Vendor Number:",null,null,null,null,"PO Number:"]
[]
[]
[]
[]
[null,"Contraceptive Implant Services",null,"Activity",null,"Price",null,"Payment"]
[null,"Insertions",null,0,null,52.8,null,{"$f":"D19*F19","v":0}]
[null,"Removals",null,0,null,34.65,null,{"$f":"D20*F20","v":0}]
[]
[null,"TOTAL",null,null,null,null,null,{"$f":"SUM(H19:H20)","v":0}]
[]
[null,"TOTAL TO BE PAID TO PRACTICE",null,null,null,null,null,{"$f":"H22","v":0}]
[]
[null,"Account Name:"]
[null,"Sort Code:"]
[null,"Account Number:"]

{"sheet":"Chlamydia Invoice","index":4,"n_rows":31,"n_cols":9,"rows_kept":31,"cut":false,"hidden":false,"merged":[[19,1,19,3],[19,4,19,5],[21,4,21,5],[20,4,20,5],[2,2,4,8],[6,1,6,4],[6,6,6,7],[8,1,8,7],[17,4,17,5],[18,1,18,3],[18,4,18,5],[7,1,7,8],[10,2,10,3],[12,2,12,3],[17,1,17,3],[26,1,26,7],[21,1,21,3],[20,1,20,3],[22,1,22,3],[22,4,22,5],[25,1,25,8],[23,4,23,5],[24,4,24,7],[23,1,23,3],[24,1,24,3]]}
[]
[]
[null,null,"Newham Public Health Invoice Tool, Qtr-4 2023-24"]
[]
[]
[]
[null,"E-mail PDF to: newccg.nhcinvoice-ph@nhs.net",null,null,null,null,"Save as PDF"]
[null,"Newham Public Health Chlamydia Invoice, Qtr-4 2023-24"]
[]
[]
[null,"INVOICE No:","",null,null,null,null,"Date:"]
[]
[null,"Vendor Number:",null,null,null,null,null,"PO Number:"]
[]
[]
[]
[]
[null,"Chlamydia Services",null,null,"Eligible",null,"Activity","Price","Payment"]
[null,"Eligible for Chlamydia",null,null,0,null,"-","-","-"]
[null,"Screening (0-9%)",null,null,0,null,0,5,{"$f":"G20*H20","v":0}]
[null,"Screening (10-14%)",null,null,0,null,0,7.5,{"$f":"G21*H21","v":0}]
[null,"Screening (15+%)",null,null,0,null,0,10,{"$f":"G22*H22","v":0}]
[null,"Screened Positive Results",null,null,"-","-",0,20,{"$f":"G23*H23","v":0}]
[null,"Positive with Partner Notification & Treatment",null,null,"-",null,0,20,{"$f":"G24*H24","v":0}]
[null,"TOTAL",null,null,null,null,null,null,{"$f":"SUM(I20:I24)","v":0}]
[]
[null,"TOTAL TO BE PAID TO PRACTICE",null,null,null,null,null,null,{"$f":"I25","v":0}]
[]
[null,"Account Name:"]
[null,"Sort Code:"]
[null,"Account Number:"]

{"sheet":"HIV Invoice","index":5,"n_rows":28,"n_cols":8,"rows_kept":28,"cut":false,"hidden":false,"merged":[[7,1,7,7],[6,5,6,6],[6,1,6,4],[8,1,8,6],[2,2,4,7],[10,2,10,3],[12,2,12,3],[17,1,17,2],[17,3,17,4],[17,5,17,6],[23,1,23,6],[18,1,18,2],[18,5,18,6],[18,3,18,4],[19,1,19,2],[19,3,19,4],[19,5,19,6],[21,1,21,2],[21,3,21,6],[22,1,22,7],[20,1,20,2],[20,3,20,4],[20,5,20,6]]}
[]
[]
[null,null,"Newham Public Health Invoice Tool, Qtr-4 2023-24"]
[]
[]
[]
[null,"E-mail PDF to: newccg.nhcinvoice-ph@nhs.net",null,null,null,"Save as PDF"]
[null,"Newham Public Health HIV Invoice, Qtr-4 2023-24"]
[]
[]
[null,"INVOICE No:","",null,null,null,"Date:"]
[]
[null,"Vendor Number:",null,null,null,null,"PO Number:"]
[]
[]
[]
[]
[null,"HIV Services",null,"Activity",null,"Price",null,"Payment"]
[null,"TDL Mouth Swab",null,0,null,2.7,null,{"$f":"D19*F19","v":0}]
[null,"Phlebotomy",null,0,null,5,null,{"$f":"D20*F20","v":0}]
[null,"Positive with Follow up",null,0,null,100,null,{"$f":"D21*F21","v":0}]
[null,"TOTAL",null,null,null,null,null,{"$f":"SUM(H19:H21)","v":0}]
[]
[null,"TOTAL TO BE PAID TO PRACTICE",null,null,null,null,null,{"$f":"H22","v":0}]
[]
[null,"Account Name:"]
[null,"Sort Code:"]
[null,"Account Number:"]

{"sheet":"Lookup","index":6,"n_rows":47,"n_cols":13,"rows_kept":47,"cut":false,"hidden":true,"merged":[[0,0,0,3]]}
["Newham Public Health Qtr 2 2023-24"]
["CDB No","Practices","Vendor No","PO Number for NHS Health Checks ","PO Number for IUCD","PO Number for Cont. implants","PO Number for Chlamydia","Eligible for Chlamydia","Chlamydia 0-9%","Chlamydia 10-14%","Chlamydia 15% and over","Activity to date","PO Number for HIV"]
["F84124","The Project Surgery",259813,"PO-0583",null,null,"PO-0584",659,{"$f":"SUM(H3*9%)","v":59.309999999999995},{"$f":"SUM(H3*14%)-I3","v":32.95000000000001},{"$f":"H3-I3-J3","v":566.74},0,"PO-0585"]
["F84074","Wordsworth Health Centre",223612,"PO-0637","PO-0640","PO-0639","PO-0638",1256,{"$f":"SUM(H4*9%)","v":113.03999999999999},{"$f":"SUM(H4*14%)-I4","v":62.800000000000011},{"$f":"H4-I4-J4","v":1080.1600000000001},4,"PO-0641"]
["F84717","Royal Docks Medical Practice",222423,"PO-0750","PO-0753","PO-0752","PO-0751",1702,153.18,85.100000000000023,1463.7199999999998,7,"PO-0754"]
["F84004","MARKET STREET HEALTH GROUP",262327,"PO-0559",null,null,"PO-0560",1725,155.25,86.250000000000028,1483.5,0,"PO-0561"]
["F84006","Shrewsbury Road Surgery",292031,"PO-0632","PO-0635","PO-0634","PO-0633",2217,199.53,110.85000000000005,1906.62,12,"PO-0636"]
["F84009","Stratford Village Surgery",202283,"PO-0670",null,null,"PO-0671",1518,136.62,75.900000000000006,1305.48,0,"PO-0672"]
["F84010","ST. BARTHOLOMEWS SURGERY",206987,"PO-0562","PO-0565","PO-0564","PO-0563",1326,119.33999999999999,66.300000000000026,1140.3600000000001,1,"PO-0566"]
["F84014","The Upton Lane Medical Centre",217601,"PO-0692",null,null,"PO-0693",1126,101.33999999999999,56.300000000000026,968.36,0,"PO-0694"]
["F84017","Star Lane Medical Centre",235020,"PO-0716","PO-0719","PO-0718","PO-0717",2312,208.07999999999998,115.60000000000002,1988.3200000000002,3,"PO-0720"]
["F84022","STRATFORD HEALTH CENTRE",291796,"PO-0664",null,"PO-1503","PO-0665",1033,92.97,51.650000000000006,888.38,3,"PO-0666"]
["F84047","Custom House Surgery",300298,"PO-0721","PO-0724","PO-0723","PO-0722",1302,117.17999999999999,65.100000000000037,1119.7199999999998,2,"PO-0725"]
["F84050","BOLEYN MEDICAL CENTRE",214111,"PO-0570",null,null,"PO-0571",1902,171.18,95.100000000000023,1635.7199999999998,0,"PO-0572"]
["F84052","ESSEX LODGE",294866,"PO-0586","PO-0589","PO-0588","PO-0587",1764,158.76,88.200000000000045,1517.04,2,"PO-0590"]
["F84053","GREENGATE MEDICAL CENTRE",223366,"PO-0578","PO-0581","PO-0580","PO-0579",973,87.57,48.650000000000006,836.78000000000009,1,"PO-0582"]
["F84070","LATHOM ROAD MEDICAL CENTRE",266734,"PO-0627","PO-0630","PO-0629","PO-0628",1056,95.039999999999992,52.800000000000011,908.16000000000008,25,"PO-0631"]
["F84077","Newham Vicarage Practice",228755,"PO-0679",null,null,"PO-0680",899,80.91,44.950000000000017,773.14,3,"PO-0681"]
["F84086","THE FOREST PRACTICE",223246,"PO-0703","PO-0706","PO-0705","PO-0704",660,59.4,33.000000000000007,567.6,9,"PO-0707"]
["F84088","Plashet Medical Centre",226372,"PO-0610",null,null,"PO-0611",895,80.55,44.750000000000014,769.7,2,"PO-0612"]
["F84092","Glen Road Medical Centre",223332,"PO-0729","PO-0732","PO-0731","PO-0730",1642,147.78,82.100000000000023,1412.12,1,"PO-0733"]
["F84093","TOLLGATE MEDICAL CENTRE",264554,"PO-0740","PO-0742",null,"PO-0741",1829,164.60999999999999,91.450000000000017,1572.94,10,"PO-0743"]
["F84097","Claremont Clinic",212951,"PO-0708","PO-0711","PO-0710","PO-0709",1457,131.13,72.850000000000023,1253.02,2,"PO-0712"]
["F84111","Abbey Road Medical Practice",260347,"PO-0659","PO-0662","PO-0661","PO-0660",1447,130.22999999999999,72.350000000000023,1244.42,8,"PO-0663"]
["F84121","E12 HEALTH - F4HG",223249,"PO-0642",null,null,"PO-0643",2139,192.51,106.95000000000005,1839.54,2,"PO-0644"]
["F84641","Birchdale Road Medical Centre",290020,"PO-0607",null,null,"PO-0608",419,37.71,20.950000000000003,360.34000000000003,2,"PO-0609"]
["F84642","Lucas Avenue Practice",220133,"PO-0591",null,null,"PO-0592",1758,158.22,87.900000000000034,1511.8799999999999,0,"PO-0593"]
["F84658","SANGAM SURGERY",292039,"PO-0616","PO-0619","PO-0618","PO-0617",1126,101.33999999999999,56.300000000000026,968.36,17,"PO-0620"]
["F84660","Dr CM Patel Surgery",223630,"PO-0624",null,null,"PO-0625",420,37.799999999999997,21.000000000000007,361.2,19,"PO-0626"]
["F84666","St Luke`s Medical Centre",292823,"PO-0726",null,null,"PO-0727",579,52.11,28.950000000000003,497.94,1,"PO-0728"]
["F84669","NEWHAM MEDICAL CENTRE",223248,"PO-0567",null,"PO-2153","PO-0568",1365,122.85,68.250000000000028,1173.9000000000001,7,"PO-0569"]
["F84670","The Westbury Road Medical Practice",223579,"PO-0613",null,null,"PO-0614",865,77.849999999999994,43.250000000000014,743.9,5,"PO-0615"]
["F84672","E7 Health - F4HG",296055,"PO-0676",null,null,"PO-0677",880,79.2,44.000000000000014,756.8,1,"PO-0678"]
["F84677","EAST END MEDICAL CENTRE",300135,"PO-0602","PO-0605","PO-0604","PO-0603",970,87.3,48.500000000000014,834.2,7,"PO-0606"]
["F84681","BALAAM STREET PRACTICE",222660,"PO-0594",null,null,"PO-0595",904,81.36,45.200000000000017,777.43999999999994,0,"PO-0596"]
["F84724","Woodgrange Medical Practice",295431,"PO-0695","PO-0698","PO-0697","PO-0696",1872,168.48,93.600000000000051,1609.9199999999998,1,"PO-0699"]
["F84729","THE MANOR PARK PRACTICE",204865,"PO-0621",null,null,"PO-0622",677,60.93,33.850000000000016,582.22,0,"PO-0623"]
["F84730","The Vicarage Lane Surgery",223804,"PO-0673",null,null,"PO-0674",997,89.72999999999999,49.850000000000023,857.42,1,"PO-0675"]
["F84735","The Azad Practice",285343,"PO-0573","PO-0576","PO-0575","PO-0574",1137,102.33,56.850000000000009,977.82,0,"PO-0577"]
["F84739","E12 MEDICAL CENTRE",223578,"PO-0645","PO-0648","PO-0647","PO-0646",724,65.16,36.200000000000017,622.64,31,"PO-0649"]
["F84740","Newham Transitional (Dr Trathen)",213028,"PO-0656",null,null,"PO-0657",441,39.69,22.050000000000011,379.26,3,"PO-0658"]
["F84741","Dr Bapu Sathyajith",211289,"PO-0650",null,null,"PO-0651",303,27.27,15.150000000000002,260.58000000000004,2,"PO-0652"]
["F84749","Carpenters Practice",300285,"PO-0687","PO-0690","PO-0689","PO-0688",3785,340.65,189.25000000000011,3255.1,2,"PO-0691"]
["Y02928","E16 Health - Albert Road Surgery",300276,"PO-0744",null,null,"PO-0745",2126,191.34,106.30000000000004,1828.3600000000001,10,"PO-0746"]
["Y04273","Liberty Bridge Practice",222656,"PO-0682","PO-0685","PO-0684","PO-0683",2380,214.2,119.00000000000006,2046.8000000000002,8,"PO-0686"]
[null,null,null,null,null,null,null,null," ",null," "," "]
[null,null,null,null,null,null,null,null,null,null,null," "]

{"sheet":"Raw Data","index":7,"n_rows":0,"n_cols":0,"rows_kept":0,"cut":false,"hidden":true,"merged":[]}

{"sheet":"Backing","index":8,"n_rows":0,"n_cols":0,"rows_kept":0,"cut":false,"hidden":true,"merged":[]}