{"text_format":"1","workbook":"xlsx","n_sheets":12,"sheets":["Cover Sheet","Network Summary","Patients becoming 12m","Patients becoming 24m","Patients becoming 5y","Trending","Rows","Lookup","Control Panel","Data","01072021","Sheet2"],"not_rendered":{"charts":1,"images":7,"macros":1,"external_links":1,"defined_names":9,"comments":0,"pivot_tables":0},"unopened":[],"bounds":{"document_bytes":16777216,"sheet_cells":100000,"rows_first":2000,"rows_last":500,"rows_between":2000,"halvings":0,"cell_chars":16384,"cell_head_chars":4096},"cells_cut":0,"cells_raw":0,"read":"whole","date_system":"1900"}

{"sheet":"Cover Sheet","index":0,"n_rows":51,"n_cols":13,"rows_kept":51,"cut":false,"hidden":false,"merged":[]}
[]
[]
[]
[null,null,null,null,null,"Waltham Forest Childhood Immunisations Dashboard"]
[]
[null,null,null,null,null,"Report designed following the parameters of the Public Health England COVER programme"]
[]
[null,null,null,null,null,"Contains data on immunisation uptake for children becoming 12m, 24m and 5yrs in the quarter"]
[]
[null,null,null,null,null,"Patients becoming 12m"]
[]
[null,null,null,null,null,"DTaP/IPV/Hib/HepB"]
[null,null,null,null,null,"Men B"]
[null,null,null,null,null,"PCV"]
[null,null,null,null,null,"Rotavirus"]
[]
[]
[null,null,null,null,null,"Patients becoming 24m"]
[]
[null,null,null,null,null,"DTaP/IPV/Hib/HepB"]
[null,null,null,null,null,"MMR"]
[null,null,null,null,null,"HiB/Men C"]
[null,null,null,null,null,"PCV (Booster)"]
[null,null,null,null,null,"Men B (Booster)"]
[null,null,null,null,null,"Patients becoming 5y"]
[]
[null,null,null,null,null,"DTaP/IPV/Hib/HepB"]
[null,null,null,null,null,"MMR (Primary)"]
[null,null,null,null,null,"DTaP/IPV (Booster)"]
[null,null,null,null,null,"MMR (Booster)"]
[null,null,null,null,null,"HiB/Men C"]
[]
[null,null,null,null,null,"N.B. Rotavirus not included in performance target"]
[null,null,null,null,null,"Version tracking"]
[null,null,null,null,null,"Version 2.8","- PCV Schedule updated",null,null,null,null,null,"December 2020"]
[]
[null,null,null,null,null,"Version 2.7","- Removed the 5in1 from Patients becoming 12m, now only 6in1",null,null,null,null,null,"April 2019"]
[]
[null,null,null,null,null,"Version 2.6","- Men B (Booster) included and 5in1 to have to become 6in1 for patients born after 01/08/2017",null,null,null,null,null,"April 2018"]
[]
[null,null,null,null,null,"Version 2.5","- Men C removed Men B included",null,null,null,null,null,"May 2017"]
[]
[null,null,null,null,null,"Version 2.4","- DTaP/IPV (Booster) (NO LOWER AGE LIMIT) Removed",null,null,null,null,null,"May 2016"]
[]
[null,null,null,null,null,"Version 2.3","- Lower age limit for MMR, HiB/Men C and PCV adjusted to 1 year in line with NHSE guidance",null,null,null,null,null,"May 2015"]
[]
[null,null,null,null,null,"Version 2.2","- Cluster configuration and practice names updated",null,null,null,null,null,"April 2015"]
[]
[null,null,null,null,null,"Version 2.1","-DTaP/IPV/Hib/HepB (No lower age limit) added to 5yr cohort",null,null,null,null,null,"October 2014"]
[]
[null,null,null,null,null,"Version 2.0","- Specification and presentation used from CEG report for Tower Hamlets",null,null,null,null,null,"September 2014"]

{"sheet":"Network Summary","index":1,"n_rows":37,"n_cols":37,"rows_kept":37,"cut":false,"hidden":false,"merged":[[4,7,4,10],[11,31,11,33],[11,35,11,37],[11,4,11,5],[11,7,11,9],[11,11,11,13],[11,15,11,17],[11,19,11,21],[11,23,11,25],[11,27,11,29],[5,4,6,17]]}
[]
[null,null,null,null,null,null,null,null,null,null,null,null,"March 2023"]
[null,null,null,null,"Waltham Forest Childhood Immunisations Dashboard: Metric Details"]
[null,null,null,null,"Network Summary"]
[]
[null,null,null,null,"*report labelled 01-01-2023 will show above as December 2022 and reflect end 2022/23 Q3 data, i.e. children who became a certain age between 1st Oct 2022 and 31st Dec 2022, and had received a vaccination by the end of Dec 2022."]
[null,null,null,null,null,null,null,null,null,null,null,null,null,null,null,null,null,null,null,null,null,null,null,0.96,"95% and over"]
[null,null,null,null,"Coverage","Percentage of target population immunised",null,null,null,null,null,null,null,null,null,null,null,null,null,null,null,null,null,0.94,0.9]
[null,null,null,null,"Activity","Number of patients immunised",null,null,null,null,null,null,null,null,null,null,null,null,null,null,null,null,null,0.89,0.85]
[null,null,null,null,"Required","Number of patients requiring immunisation for network to attain 95% coverage",null,null,null,null,null,null,null,null,null,null,null,null,null,null,null,null,null,0.1,"Less than 85%"]
[null,null,null,null,null,null,null,null,"WF-1",null,null,null,"WF-2",null,null,null,"WF-3",null,null,null,"WF-4",null,null,null,"WF-5",null,null,null,"WF-6",null,null,null,"WF-7",null,null,null,"NW8"]
[null,null,null,null,"Waltham Forest Total",null,null,{"$f":"'Control Panel'!I78","v":"Chingford/ Walthamstow"},null,null,null,{"$f":"'Control Panel'!I79","v":"Chingford E4"},null,null,null,{"$f":"'Control Panel'!I80","v":"Leyton Collaborative"},null,null,null,{"$f":"'Control Panel'!I81","v":"Forest Integrated Health"},null,null,null,{"$f":"'Control Panel'!I82","v":"South Leytonstone"},null,null,null,{"$f":"'Control Panel'!I83","v":"Central Walthamstow"},null,null,null,{"$f":"'Control Panel'!I84","v":"Walthamstow West"}]
[]
[]
[null,"(01) 12 MONTH COHORT",{"$f":"\"Patients becoming 12m within \"&'Control Panel'!$B$1","v":"Patients becoming 12m within Q"},null,null,{"$f":"I15+M15+Q15+U15+Y15+AC15+AG15","v":916},null,null,{"$f":"SUMIFS(OFFSET(REL_D,,MATCH(B15,IND,0)-1),REL_D,$M$2,total,$I$11)","v":171},null,null,null,{"$f":"SUMIFS(OFFSET(REL_D,,MATCH(B15,IND,0)-1),REL_D,$M$2,total,$M$11)","v":132},null,null,null,{"$f":"SUMIFS(OFFSET(REL_D,,MATCH($B15,IND,0)-1),REL_D,$M$2,total,$Q$11)","v":88},null,null,null,{"$f":"SUMIFS(OFFSET(REL_D,,MATCH($B15,IND,0)-1),REL_D,$M$2,total,$U$11)","v":180},null,null,null,{"$f":"SUMIFS(OFFSET(REL_D,,MATCH($B15,IND,0)-1),REL_D,$M$2,total,$Y$11)","v":82},null,null,null,{"$f":"SUMIFS(OFFSET(REL_D,,MATCH($B15,IND,0)-1),REL_D,$M$2,total,$AC$11)","v":121},null,null,null,{"$f":"SUMIFS(OFFSET(REL_D,,MATCH($B15,IND,0)-1),REL_D,$M$2,total,$AG$11)","v":142}]
[null,null,null,null,"Coverage","Activity",null,"Coverage","Activity","Required",null,"Coverage","Activity","Required",null,"Coverage","Activity","Required",null,"Coverage","Activity","Required",null,"Coverage","Activity","Required",null,"Coverage","Activity","Required",null,"Coverage","Activity","Required"]
[null,{"$f":"'Control Panel'!E4","v":"(01.01) DTaP/IPV/Hib 6in1"},"DTaP/IPV/Hib/HepB",null,{"$f":"IFERROR(F17/F$15,\"-\")","v":0.88646288209606983},{"$f":"I17+M17+Q17+U17+Y17+AC17+AG17","v":812},null,{"$f":"IFERROR(I17/I$15,\"-\")","v":0.9064327485380117},{"$f":"SUMIFS(OFFSET(REL_D,,MATCH(B17,IND,0)-1),REL_D,$M$2,total,$I$11)","v":155},{"$f":"IF(AND(I$15*0.9-I17<1,(I$15*0.9-I17>0)),1,IF(I$15*0.9-I17<=0,\"\",I$15*0.9-I17))","v":""},null,{"$f":"IFERROR(M17/M$15,\"-\")","v":0.95454545454545459},{"$f":"SUMIFS(OFFSET(REL_D,,MATCH(B17,IND,0)-1),REL_D,$M$2,total,$M$11)","v":126},{"$f":"IF(AND(M$15*0.9-M17<1,(M$15*0.9-M17>0)),1,IF(M$15*0.9-M17<=0,\"\",M$15*0.9-M17))","v":""},null,{"$f":"IFERROR(Q17/Q$15,\"-\")","v":0.85227272727272729},{"$f":"SUMIFS(OFFSET(REL_D,,MATCH($B17,IND,0)-1),REL_D,$M$2,total,$Q$11)","v":75},{"$f":"IF(AND(Q$15*0.9-Q17<1,(Q$15*0.9-Q17>0)),1,IF(Q$15*0.9-Q17<=0,\"\",Q$15*0.9-Q17))","v":4.2000000000000028},null,{"$f":"IFERROR(U17/U$15,\"-\")","v":0.8666666666666667},{"$f":"SUMIFS(OFFSET(REL_D,,MATCH($B17,IND,0)-1),REL_D,$M$2,total,$U$11)","v":156},{"$f":"IF(AND(U$15*0.9-U17<1,(U$15*0.9-U17>0)),1,IF(U$15*0.9-U17<=0,\"\",U$15*0.9-U17))","v":6},null,{"$f":"IFERROR(Y17/Y$15,\"-\")","v":0.86585365853658536},{"$f":"SUMIFS(OFFSET(REL_D,,MATCH($B17,IND,0)-1),REL_D,$M$2,total,$Y$11)","v":71},{"$f":"IF(AND(Y$15*0.9-Y17<1,(Y$15*0.9-Y17>0)),1,IF(Y$15*0.9-Y17<=0,\"\",Y$15*0.9-Y17))","v":2.7999999999999972},null,{"$f":"IFERROR(AC17/AC$15,\"-\")","v":0.90909090909090906},{"$f":"SUMIFS(OFFSET(REL_D,,MATCH($B17,IND,0)-1),REL_D,$M$2,total,$AC$11)","v":110},{"$f":"IF(AND(AC$15*0.9-AC17<1,(AC$15*0.9-AC17>0)),1,IF(AC$15*0.9-AC17<=0,\"\",AC$15*0.9-AC17))","v":""},null,{"$f":"IFERROR(AG17/AG$15,\"-\")","v":0.8380281690140845},{"$f":"SUMIFS(OFFSET(REL_D,,MATCH($B17,IND,0)-1),REL_D,$M$2,total,$AG$11)","v":119},{"$f":"IF(AND(AG$15*0.9-AG17<1,(AG$15*0.9-AG17>0)),1,IF(AG$15*0.9-AG17<=0,\"\",AG$15*0.9-AG17))","v":8.7999999999999972}]
[null,"(01.02) Men B (1st and 2nd)","Men B",null,{"$f":"IFERROR(F18/F$15,\"-\")","v":0.86790393013100442},{"$f":"I18+M18+Q18+U18+Y18+AC18+AG18","v":795},null,{"$f":"IFERROR(I18/I$15,\"-\")","v":0.89473684210526316},{"$f":"SUMIFS(OFFSET(REL_D,,MATCH(B18,IND,0)-1),REL_D,$M$2,total,$I$11)","v":153},{"$f":"IF(AND(I$15*0.9-I18<1,(I$15*0.9-I18>0)),1,IF(I$15*0.9-I18<=0,\"\",I$15*0.9-I18))","v":1},null,{"$f":"IFERROR(M18/M$15,\"-\")","v":0.93181818181818177},{"$f":"SUMIFS(OFFSET(REL_D,,MATCH(B18,IND,0)-1),REL_D,$M$2,total,$M$11)","v":123},{"$f":"IF(AND(M$15*0.9-M18<1,(M$15*0.9-M18>0)),1,IF(M$15*0.9-M18<=0,\"\",M$15*0.9-M18))","v":""},null,{"$f":"IFERROR(Q18/Q$15,\"-\")","v":0.85227272727272729},{"$f":"SUMIFS(OFFSET(REL_D,,MATCH($B18,IND,0)-1),REL_D,$M$2,total,$Q$11)","v":75},{"$f":"IF(AND(Q$15*0.9-Q18<1,(Q$15*0.9-Q18>0)),1,IF(Q$15*0.9-Q18<=0,\"\",Q$15*0.9-Q18))","v":4.2000000000000028},null,{"$f":"IFERROR(U18/U$15,\"-\")","v":0.84444444444444444},{"$f":"SUMIFS(OFFSET(REL_D,,MATCH($B18,IND,0)-1),REL_D,$M$2,total,$U$11)","v":152},{"$f":"IF(AND(U$15*0.9-U18<1,(U$15*0.9-U18>0)),1,IF(U$15*0.9-U18<=0,\"\",U$15*0.9-U18))","v":10},null,{"$f":"IFERROR(Y18/Y$15,\"-\")","v":0.84146341463414631},{"$f":"SUMIFS(OFFSET(REL_D,,MATCH($B18,IND,0)-1),REL_D,$M$2,total,$Y$11)","v":69},{"$f":"IF(AND(Y$15*0.9-Y18<1,(Y$15*0.9-Y18>0)),1,IF(Y$15*0.9-Y18<=0,\"\",Y$15*0.9-Y18))","v":4.7999999999999972},null,{"$f":"IFERROR(AC18/AC$15,\"-\")","v":0.90082644628099173},{"$f":"SUMIFS(OFFSET(REL_D,,MATCH($B18,IND,0)-1),REL_D,$M$2,total,$AC$11)","v":109},{"$f":"IF(AND(AC$15*0.9-AC18<1,(AC$15*0.9-AC18>0)),1,IF(AC$15*0.9-AC18<=0,\"\",AC$15*0.9-AC18))","v":""},null,{"$f":"IFERROR(AG18/AG$15,\"-\")","v":0.80281690140845074},{"$f":"SUMIFS(OFFSET(REL_D,,MATCH($B18,IND,0)-1),REL_D,$M$2,total,$AG$11)","v":114},{"$f":"IF(AND(AG$15*0.9-AG18<1,(AG$15*0.9-AG18>0)),1,IF(AG$15*0.9-AG18<=0,\"\",AG$15*0.9-AG18))","v":13.799999999999997}]
[null,"(01.03) PCV","PCV",null,0.9246724890829694,847,null,0.95321637426900585,{"$f":"SUMIFS(OFFSET(REL_D,,MATCH(B19,IND,0)-1),REL_D,$M$2,total,$I$11)","v":163},{"$f":"IF(AND(I$15*0.9-I19<1,(I$15*0.9-I19>0)),1,IF(I$15*0.9-I19<=0,\"\",I$15*0.9-I19))","v":""},null,0.96212121212121215,{"$f":"SUMIFS(OFFSET(REL_D,,MATCH(B19,IND,0)-1),REL_D,$M$2,total,$M$11)","v":127},{"$f":"IF(AND(M$15*0.9-M19<1,(M$15*0.9-M19>0)),1,IF(M$15*0.9-M19<=0,\"\",M$15*0.9-M19))","v":""},null,0.92045454545454541,{"$f":"SUMIFS(OFFSET(REL_D,,MATCH($B19,IND,0)-1),REL_D,$M$2,total,$Q$11)","v":81},{"$f":"IF(AND(Q$15*0.9-Q19<1,(Q$15*0.9-Q19>0)),1,IF(Q$15*0.9-Q19<=0,\"\",Q$15*0.9-Q19))","v":""},null,0.90555555555555556,{"$f":"SUMIFS(OFFSET(REL_D,,MATCH($B19,IND,0)-1),REL_D,$M$2,total,$U$11)","v":163},{"$f":"IF(AND(U$15*0.9-U19<1,(U$15*0.9-U19>0)),1,IF(U$15*0.9-U19<=0,\"\",U$15*0.9-U19))","v":""},null,0.90243902439024393,{"$f":"SUMIFS(OFFSET(REL_D,,MATCH($B19,IND,0)-1),REL_D,$M$2,total,$Y$11)","v":74},{"$f":"IF(AND(Y$15*0.9-Y19<1,(Y$15*0.9-Y19>0)),1,IF(Y$15*0.9-Y19<=0,\"\",Y$15*0.9-Y19))","v":""},null,0.94214876033057848,{"$f":"SUMIFS(OFFSET(REL_D,,MATCH($B19,IND,0)-1),REL_D,$M$2,total,$AC$11)","v":114},{"$f":"IF(AND(AC$15*0.9-AC19<1,(AC$15*0.9-AC19>0)),1,IF(AC$15*0.9-AC19<=0,\"\",AC$15*0.9-AC19))","v":""},null,0.88028169014084512,{"$f":"SUMIFS(OFFSET(REL_D,,MATCH($B19,IND,0)-1),REL_D,$M$2,total,$AG$11)","v":125},{"$f":"IF(AND(AG$15*0.9-AG19<1,(AG$15*0.9-AG19>0)),1,IF(AG$15*0.9-AG19<=0,\"\",AG$15*0.9-AG19))","v":2.7999999999999972}]
[null,"(01.04) Rotavirus","Rotavirus",null,0.87445414847161573,801,null,0.9064327485380117,{"$f":"SUMIFS(OFFSET(REL_D,,MATCH(B20,IND,0)-1),REL_D,$M$2,total,$I$11)","v":155},{"$f":"IF(AND(I$15*0.9-I20<1,(I$15*0.9-I20>0)),1,IF(I$15*0.9-I20<=0,\"\",I$15*0.9-I20))","v":""},null,0.90151515151515149,{"$f":"SUMIFS(OFFSET(REL_D,,MATCH(B20,IND,0)-1),REL_D,$M$2,total,$M$11)","v":119},{"$f":"IF(AND(M$15*0.9-M20<1,(M$15*0.9-M20>0)),1,IF(M$15*0.9-M20<=0,\"\",M$15*0.9-M20))","v":""},null,0.86363636363636365,{"$f":"SUMIFS(OFFSET(REL_D,,MATCH($B20,IND,0)-1),REL_D,$M$2,total,$Q$11)","v":76},{"$f":"IF(AND(Q$15*0.9-Q20<1,(Q$15*0.9-Q20>0)),1,IF(Q$15*0.9-Q20<=0,\"\",Q$15*0.9-Q20))","v":3.2000000000000028},null,0.85555555555555551,{"$f":"SUMIFS(OFFSET(REL_D,,MATCH($B20,IND,0)-1),REL_D,$M$2,total,$U$11)","v":154},{"$f":"IF(AND(U$15*0.9-U20<1,(U$15*0.9-U20>0)),1,IF(U$15*0.9-U20<=0,\"\",U$15*0.9-U20))","v":8},null,0.84146341463414631,{"$f":"SUMIFS(OFFSET(REL_D,,MATCH($B20,IND,0)-1),REL_D,$M$2,total,$Y$11)","v":69},{"$f":"IF(AND(Y$15*0.9-Y20<1,(Y$15*0.9-Y20>0)),1,IF(Y$15*0.9-Y20<=0,\"\",Y$15*0.9-Y20))","v":4.7999999999999972},null,0.88429752066115708,{"$f":"SUMIFS(OFFSET(REL_D,,MATCH($B20,IND,0)-1),REL_D,$M$2,total,$AC$11)","v":107},{"$f":"IF(AND(AC$15*0.9-AC20<1,(AC$15*0.9-AC20>0)),1,IF(AC$15*0.9-AC20<=0,\"\",AC$15*0.9-AC20))","v":1.9000000000000057},null,0.852112676056338,{"$f":"SUMIFS(OFFSET(REL_D,,MATCH($B20,IND,0)-1),REL_D,$M$2,total,$AG$11)","v":121},{"$f":"IF(AND(AG$15*0.9-AG20<1,(AG$15*0.9-AG20>0)),1,IF(AG$15*0.9-AG20<=0,\"\",AG$15*0.9-AG20))","v":6.7999999999999972}]
[null,"(01.05) BCG","BCG",null,0,{"$f":"I21+M21+Q21+U21+Y21+AC21+AG21+AK21","v":0},null,0,{"$f":"SUMIFS(OFFSET(REL_D,,MATCH(B21,IND,0)-1),REL_D,$M$2,IF(LEFT($I$11,1)=\"W\",NwID,OrgID),$I$11)","v":0},{"$f":"IF(AND(I$15*0.9-I21<1,(I$15*0.9-I21>0)),1,IF(I$15*0.9-I21<=0,\"\",I$15*0.9-I21))","v":153.9},null,0,{"$f":"SUMIFS(OFFSET(REL_D,,MATCH($B21,IND,0)-1),REL_D,$M$2,IF(LEFT($M$11,1)=\"W\",NwID,OrgID),$M$11)","v":0},{"$f":"IF(AND(M$15*0.9-M21<1,(M$15*0.9-M21>0)),1,IF(M$15*0.9-M21<=0,\"\",M$15*0.9-M21))","v":118.8},null,0,{"$f":"SUMIFS(OFFSET(REL_D,,MATCH($B21,IND,0)-1),REL_D,$M$2,IF(LEFT($Q$11,1)=\"W\",NwID,OrgID),$Q$11)","v":0},{"$f":"IF(AND(Q$15*0.9-Q21<1,(Q$15*0.9-Q21>0)),1,IF(Q$15*0.9-Q21<=0,\"\",Q$15*0.9-Q21))","v":79.2},null,0,{"$f":"SUMIFS(OFFSET(REL_D,,MATCH($B21,IND,0)-1),REL_D,$M$2,IF(LEFT($U$11,1)=\"W\",NwID,OrgID),$U$11)","v":0},{"$f":"IF(AND(U$15*0.9-U21<1,(U$15*0.9-U21>0)),1,IF(U$15*0.9-U21<=0,\"\",U$15*0.9-U21))","v":162},null,0,{"$f":"SUMIFS(OFFSET(REL_D,,MATCH($B21,IND,0)-1),REL_D,$M$2,IF(LEFT($Y$11,1)=\"W\",NwID,OrgID),$Y$11)","v":0},{"$f":"IF(AND(Y$15*0.9-Y21<1,(Y$15*0.9-Y21>0)),1,IF(Y$15*0.9-Y21<=0,\"\",Y$15*0.9-Y21))","v":73.8},null,0,{"$f":"SUMIFS(OFFSET(REL_D,,MATCH($B21,IND,0)-1),REL_D,$M$2,IF(LEFT($AC$11,1)=\"W\",NwID,OrgID),$AC$11)","v":0},{"$f":"IF(AND(AC$15*0.9-AC21<1,(AC$15*0.9-AC21>0)),1,IF(AC$15*0.9-AC21<=0,\"\",AC$15*0.9-AC21))","v":108.9},null,0,{"$f":"SUMIFS(OFFSET(REL_D,,MATCH($B21,IND,0)-1),REL_D,$M$2,IF(LEFT($AG$11,1)=\"W\",NwID,OrgID),$AG$11)","v":0},{"$f":"IF(AND(AG$15*0.9-AG21<1,(AG$15*0.9-AG21>0)),1,IF(AG$15*0.9-AG21<=0,\"\",AG$15*0.9-AG21))","v":127.8}]
[]
[null,"(02) 24 MONTH COHORT",{"$f":"\"Patients becoming 24m within \"&'Control Panel'!$B$1","v":"Patients becoming 24m within Q"},null,null,{"$f":"I23+M23+Q23+U23+Y23+AC23+AG23","v":939},null,null,{"$f":"SUMIFS(OFFSET(REL_D,,MATCH(B23,IND,0)-1),REL_D,$M$2,total,$I$11)","v":186},null,null,null,{"$f":"SUMIFS(OFFSET(REL_D,,MATCH(B23,IND,0)-1),REL_D,$M$2,total,$M$11)","v":156},null,null,null,{"$f":"SUMIFS(OFFSET(REL_D,,MATCH($B23,IND,0)-1),REL_D,$M$2,total,$Q$11)","v":87},null,null,null,{"$f":"SUMIFS(OFFSET(REL_D,,MATCH($B23,IND,0)-1),REL_D,$M$2,total,$U$11)","v":138},null,null,null,{"$f":"SUMIFS(OFFSET(REL_D,,MATCH($B23,IND,0)-1),REL_D,$M$2,total,$Y$11)","v":106},null,null,null,{"$f":"SUMIFS(OFFSET(REL_D,,MATCH($B23,IND,0)-1),REL_D,$M$2,total,$AC$11)","v":123},null,null,null,{"$f":"SUMIFS(OFFSET(REL_D,,MATCH($B23,IND,0)-1),REL_D,$M$2,total,$AG$11)","v":143}]
[null,null,null,null,"Coverage","Activity",null,"Coverage","Activity","Required",null,"Coverage","Activity","Required",null,"Coverage","Activity","Required",null,"Coverage","Activity","Required",null,"Coverage","Activity","Required",null,"Coverage","Activity","Required",null,"Coverage","Activity","Required"]
[null,{"$f":"'Control Panel'!E27","v":"(02.01) DTaP/IPV/Hib or DTaP/IPV/Hib/HepB"},"DTaP/IPV/Hib/HepB",null,{"$f":"IFERROR(F25/F$23,\"-\")","v":0.88711395101171464},{"$f":"I25+M25+Q25+U25+Y25+AC25+AG25","v":833},null,{"$f":"IFERROR(I25/I$23,\"-\")","v":0.90860215053763438},{"$f":"SUMIFS(OFFSET(REL_D,,MATCH(B25,IND,0)-1),REL_D,$M$2,total,$I$11)","v":169},{"$f":"IF(AND(I$23*0.9-I25<1,(I$23*0.9-I25>0)),1,IF(I$23*0.9-I25<=0,\"\",I$23*0.9-I25))","v":""},null,{"$f":"IFERROR(M25/M$23,\"-\")","v":0.92948717948717952},{"$f":"SUMIFS(OFFSET(REL_D,,MATCH(B25,IND,0)-1),REL_D,$M$2,total,$M$11)","v":145},{"$f":"IF(AND(M$23*0.9-M25<1,(M$23*0.9-M25>0)),1,IF(M$23*0.9-M25<=0,\"\",M$23*0.9-M25))","v":""},null,{"$f":"IFERROR(Q25/Q$23,\"-\")","v":0.88505747126436785},{"$f":"SUMIFS(OFFSET(REL_D,,MATCH($B25,IND,0)-1),REL_D,$M$2,total,$Q$11)","v":77},{"$f":"IF(AND(Q$23*0.9-Q25<1,(Q$23*0.9-Q25>0)),1,IF(Q$23*0.9-Q25<=0,\"\",Q$23*0.9-Q25))","v":1.2999999999999972},null,{"$f":"IFERROR(U25/U$23,\"-\")","v":0.87681159420289856},{"$f":"SUMIFS(OFFSET(REL_D,,MATCH($B25,IND,0)-1),REL_D,$M$2,total,$U$11)","v":121},{"$f":"IF(AND(U$23*0.9-U25<1,(U$23*0.9-U25>0)),1,IF(U$23*0.9-U25<=0,\"\",U$23*0.9-U25))","v":3.2000000000000028},null,{"$f":"IFERROR(Y25/Y$23,\"-\")","v":0.86792452830188682},{"$f":"SUMIFS(OFFSET(REL_D,,MATCH($B25,IND,0)-1),REL_D,$M$2,total,$Y$11)","v":92},{"$f":"IF(AND(Y$23*0.9-Y25<1,(Y$23*0.9-Y25>0)),1,IF(Y$23*0.9-Y25<=0,\"\",Y$23*0.9-Y25))","v":3.4000000000000057},null,{"$f":"IFERROR(AC25/AC$23,\"-\")","v":0.83739837398373984},{"$f":"SUMIFS(OFFSET(REL_D,,MATCH($B25,IND,0)-1),REL_D,$M$2,total,$AC$11)","v":103},{"$f":"IF(AND(AC$23*0.9-AC25<1,(AC$23*0.9-AC25>0)),1,IF(AC$23*0.9-AC25<=0,\"\",AC$23*0.9-AC25))","v":7.7000000000000028},null,{"$f":"IFERROR(AG25/AG$23,\"-\")","v":0.88111888111888115},{"$f":"SUMIFS(OFFSET(REL_D,,MATCH($B25,IND,0)-1),REL_D,$M$2,total,$AG$11)","v":126},{"$f":"IF(AND(AG$23*0.9-AG25<1,(AG$23*0.9-AG25>0)),1,IF(AG$23*0.9-AG25<=0,\"\",AG$23*0.9-AG25))","v":2.7000000000000171}]
[null,"(02.02) MMR","MMR",null,{"$f":"IFERROR(F26/F$23,\"-\")","v":0.8477103301384451},796,null,{"$f":"IFERROR(I26/I$23,\"-\")","v":0.88709677419354838},{"$f":"SUMIFS(OFFSET(REL_D,,MATCH(B26,IND,0)-1),REL_D,$M$2,total,$I$11)","v":165},{"$f":"IF(AND(I$23*0.9-I26<1,(I$23*0.9-I26>0)),1,IF(I$23*0.9-I26<=0,\"\",I$23*0.9-I26))","v":2.4000000000000057},null,{"$f":"IFERROR(M26/M$23,\"-\")","v":0.83333333333333337},{"$f":"SUMIFS(OFFSET(REL_D,,MATCH(B26,IND,0)-1),REL_D,$M$2,total,$M$11)","v":130},{"$f":"IF(AND(M$23*0.9-M26<1,(M$23*0.9-M26>0)),1,IF(M$23*0.9-M26<=0,\"\",M$23*0.9-M26))","v":10.400000000000006},null,{"$f":"IFERROR(Q26/Q$23,\"-\")","v":0.89655172413793105},{"$f":"SUMIFS(OFFSET(REL_D,,MATCH($B26,IND,0)-1),REL_D,$M$2,total,$Q$11)","v":78},{"$f":"IF(AND(Q$23*0.9-Q26<1,(Q$23*0.9-Q26>0)),1,IF(Q$23*0.9-Q26<=0,\"\",Q$23*0.9-Q26))","v":1},null,{"$f":"IFERROR(U26/U$23,\"-\")","v":0.84057971014492749},{"$f":"SUMIFS(OFFSET(REL_D,,MATCH($B26,IND,0)-1),REL_D,$M$2,total,$U$11)","v":116},{"$f":"IF(AND(U$23*0.9-U26<1,(U$23*0.9-U26>0)),1,IF(U$23*0.9-U26<=0,\"\",U$23*0.9-U26))","v":8.2000000000000028},null,{"$f":"IFERROR(Y26/Y$23,\"-\")","v":0.80188679245283023},{"$f":"SUMIFS(OFFSET(REL_D,,MATCH($B26,IND,0)-1),REL_D,$M$2,total,$Y$11)","v":85},{"$f":"IF(AND(Y$23*0.9-Y26<1,(Y$23*0.9-Y26>0)),1,IF(Y$23*0.9-Y26<=0,\"\",Y$23*0.9-Y26))","v":10.400000000000006},null,{"$f":"IFERROR(AC26/AC$23,\"-\")","v":0.82926829268292679},{"$f":"SUMIFS(OFFSET(REL_D,,MATCH($B26,IND,0)-1),REL_D,$M$2,total,$AC$11)","v":102},{"$f":"IF(AND(AC$23*0.9-AC26<1,(AC$23*0.9-AC26>0)),1,IF(AC$23*0.9-AC26<=0,\"\",AC$23*0.9-AC26))","v":8.7000000000000028},null,{"$f":"IFERROR(AG26/AG$23,\"-\")","v":0.83916083916083917},{"$f":"SUMIFS(OFFSET(REL_D,,MATCH($B26,IND,0)-1),REL_D,$M$2,total,$AG$11)","v":120},{"$f":"IF(AND(AG$23*0.9-AG26<1,(AG$23*0.9-AG26>0)),1,IF(AG$23*0.9-AG26<=0,\"\",AG$23*0.9-AG26))","v":8.7000000000000171}]
[null,"(02.03) HiB/Men C","HiB/Men C",null,0.8434504792332268,792,null,{"$f":"IFERROR(I27/I$23,\"-\")","v":0.87634408602150538},{"$f":"SUMIFS(OFFSET(REL_D,,MATCH(B27,IND,0)-1),REL_D,$M$2,total,$I$11)","v":163},{"$f":"IF(AND(I$23*0.9-I27<1,(I$23*0.9-I27>0)),1,IF(I$23*0.9-I27<=0,\"\",I$23*0.9-I27))","v":4.4000000000000057},null,0.84615384615384615,{"$f":"SUMIFS(OFFSET(REL_D,,MATCH(B27,IND,0)-1),REL_D,$M$2,total,$M$11)","v":132},{"$f":"IF(AND(M$23*0.9-M27<1,(M$23*0.9-M27>0)),1,IF(M$23*0.9-M27<=0,\"\",M$23*0.9-M27))","v":8.4000000000000057},null,0.87356321839080464,{"$f":"SUMIFS(OFFSET(REL_D,,MATCH($B27,IND,0)-1),REL_D,$M$2,total,$Q$11)","v":76},{"$f":"IF(AND(Q$23*0.9-Q27<1,(Q$23*0.9-Q27>0)),1,IF(Q$23*0.9-Q27<=0,\"\",Q$23*0.9-Q27))","v":2.2999999999999972},null,0.84782608695652173,{"$f":"SUMIFS(OFFSET(REL_D,,MATCH($B27,IND,0)-1),REL_D,$M$2,total,$U$11)","v":117},{"$f":"IF(AND(U$23*0.9-U27<1,(U$23*0.9-U27>0)),1,IF(U$23*0.9-U27<=0,\"\",U$23*0.9-U27))","v":7.2000000000000028},null,0.76415094339622647,{"$f":"SUMIFS(OFFSET(REL_D,,MATCH($B27,IND,0)-1),REL_D,$M$2,total,$Y$11)","v":81},{"$f":"IF(AND(Y$23*0.9-Y27<1,(Y$23*0.9-Y27>0)),1,IF(Y$23*0.9-Y27<=0,\"\",Y$23*0.9-Y27))","v":14.400000000000006},null,0.83739837398373984,{"$f":"SUMIFS(OFFSET(REL_D,,MATCH($B27,IND,0)-1),REL_D,$M$2,total,$AC$11)","v":103},{"$f":"IF(AND(AC$23*0.9-AC27<1,(AC$23*0.9-AC27>0)),1,IF(AC$23*0.9-AC27<=0,\"\",AC$23*0.9-AC27))","v":7.7000000000000028},null,0.83916083916083917,{"$f":"SUMIFS(OFFSET(REL_D,,MATCH($B27,IND,0)-1),REL_D,$M$2,total,$AG$11)","v":120},{"$f":"IF(AND(AG$23*0.9-AG27<1,(AG$23*0.9-AG27>0)),1,IF(AG$23*0.9-AG27<=0,\"\",AG$23*0.9-AG27))","v":8.7000000000000171}]
[null,"(02.04) PCV (Booster)","PCV (Booster)",null,0.84558040468583595,794,null,{"$f":"IFERROR(I28/I$23,\"-\")","v":0.87096774193548387},{"$f":"SUMIFS(OFFSET(REL_D,,MATCH(B28,IND,0)-1),REL_D,$M$2,total,$I$11)","v":162},{"$f":"IF(AND(I$23*0.9-I28<1,(I$23*0.9-I28>0)),1,IF(I$23*0.9-I28<=0,\"\",I$23*0.9-I28))","v":5.4000000000000057},null,0.83974358974358976,{"$f":"SUMIFS(OFFSET(REL_D,,MATCH(B28,IND,0)-1),REL_D,$M$2,total,$M$11)","v":131},{"$f":"IF(AND(M$23*0.9-M28<1,(M$23*0.9-M28>0)),1,IF(M$23*0.9-M28<=0,\"\",M$23*0.9-M28))","v":9.4000000000000057},null,0.88505747126436785,{"$f":"SUMIFS(OFFSET(REL_D,,MATCH($B28,IND,0)-1),REL_D,$M$2,total,$Q$11)","v":77},{"$f":"IF(AND(Q$23*0.9-Q28<1,(Q$23*0.9-Q28>0)),1,IF(Q$23*0.9-Q28<=0,\"\",Q$23*0.9-Q28))","v":1.2999999999999972},null,0.84057971014492749,{"$f":"SUMIFS(OFFSET(REL_D,,MATCH($B28,IND,0)-1),REL_D,$M$2,total,$U$11)","v":116},{"$f":"IF(AND(U$23*0.9-U28<1,(U$23*0.9-U28>0)),1,IF(U$23*0.9-U28<=0,\"\",U$23*0.9-U28))","v":8.2000000000000028},null,0.80188679245283023,{"$f":"SUMIFS(OFFSET(REL_D,,MATCH($B28,IND,0)-1),REL_D,$M$2,total,$Y$11)","v":85},{"$f":"IF(AND(Y$23*0.9-Y28<1,(Y$23*0.9-Y28>0)),1,IF(Y$23*0.9-Y28<=0,\"\",Y$23*0.9-Y28))","v":10.400000000000006},null,0.84552845528455289,{"$f":"SUMIFS(OFFSET(REL_D,,MATCH($B28,IND,0)-1),REL_D,$M$2,total,$AC$11)","v":104},{"$f":"IF(AND(AC$23*0.9-AC28<1,(AC$23*0.9-AC28>0)),1,IF(AC$23*0.9-AC28<=0,\"\",AC$23*0.9-AC28))","v":6.7000000000000028},null,0.83216783216783219,{"$f":"SUMIFS(OFFSET(REL_D,,MATCH($B28,IND,0)-1),REL_D,$M$2,total,$AG$11)","v":119},{"$f":"IF(AND(AG$23*0.9-AG28<1,(AG$23*0.9-AG28>0)),1,IF(AG$23*0.9-AG28<=0,\"\",AG$23*0.9-AG28))","v":9.7000000000000171}]
[null,"(02.05) Men B (Booster)","MenB (Booster) ",null,0.85090521831735888,799,null,{"$f":"IFERROR(I29/I$23,\"-\")","v":0.89784946236559138},{"$f":"SUMIFS(OFFSET(REL_D,,MATCH(B29,IND,0)-1),REL_D,$M$2,total,$I$11)","v":167},{"$f":"IF(AND(I$23*0.9-I29<1,(I$23*0.9-I29>0)),1,IF(I$23*0.9-I29<=0,\"\",I$23*0.9-I29))","v":1},null,0.85897435897435892,{"$f":"SUMIFS(OFFSET(REL_D,,MATCH(B29,IND,0)-1),REL_D,$M$2,total,$M$11)","v":134},{"$f":"IF(AND(M$23*0.9-M29<1,(M$23*0.9-M29>0)),1,IF(M$23*0.9-M29<=0,\"\",M$23*0.9-M29))","v":6.4000000000000057},null,0.87356321839080464,{"$f":"SUMIFS(OFFSET(REL_D,,MATCH($B29,IND,0)-1),REL_D,$M$2,total,$Q$11)","v":76},{"$f":"IF(AND(Q$23*0.9-Q29<1,(Q$23*0.9-Q29>0)),1,IF(Q$23*0.9-Q29<=0,\"\",Q$23*0.9-Q29))","v":2.2999999999999972},null,0.84782608695652173,{"$f":"SUMIFS(OFFSET(REL_D,,MATCH($B29,IND,0)-1),REL_D,$M$2,total,$U$11)","v":117},{"$f":"IF(AND(U$23*0.9-U29<1,(U$23*0.9-U29>0)),1,IF(U$23*0.9-U29<=0,\"\",U$23*0.9-U29))","v":7.2000000000000028},null,0.77358490566037741,{"$f":"SUMIFS(OFFSET(REL_D,,MATCH($B29,IND,0)-1),REL_D,$M$2,total,$Y$11)","v":82},{"$f":"IF(AND(Y$23*0.9-Y29<1,(Y$23*0.9-Y29>0)),1,IF(Y$23*0.9-Y29<=0,\"\",Y$23*0.9-Y29))","v":13.400000000000006},null,0.85365853658536583,{"$f":"SUMIFS(OFFSET(REL_D,,MATCH($B29,IND,0)-1),REL_D,$M$2,total,$AC$11)","v":105},{"$f":"IF(AND(AC$23*0.9-AC29<1,(AC$23*0.9-AC29>0)),1,IF(AC$23*0.9-AC29<=0,\"\",AC$23*0.9-AC29))","v":5.7000000000000028},null,0.82517482517482521,{"$f":"SUMIFS(OFFSET(REL_D,,MATCH($B29,IND,0)-1),REL_D,$M$2,total,$AG$11)","v":118},{"$f":"IF(AND(AG$23*0.9-AG29<1,(AG$23*0.9-AG29>0)),1,IF(AG$23*0.9-AG29<=0,\"\",AG$23*0.9-AG29))","v":10.700000000000017}]
[]
[null,"(03) 5 YEAR COHORT",{"$f":"\"Patients becoming 5y within \"&'Control Panel'!$B$1","v":"Patients becoming 5y within Q"},null,null,{"$f":"I31+M31+Q31+U31+Y31+AC31+AG31","v":867},null,null,{"$f":"SUMIFS(OFFSET(REL_D,,MATCH(B31,IND,0)-1),REL_D,$M$2,total,$I$11)","v":158},null,null,null,{"$f":"SUMIFS(OFFSET(REL_D,,MATCH(B31,IND,0)-1),REL_D,$M$2,total,$M$11)","v":155},null,null,null,{"$f":"SUMIFS(OFFSET(REL_D,,MATCH($B31,IND,0)-1),REL_D,$M$2,total,$Q$11)","v":100},null,null,null,{"$f":"SUMIFS(OFFSET(REL_D,,MATCH($B31,IND,0)-1),REL_D,$M$2,total,$U$11)","v":154},null,null,null,{"$f":"SUMIFS(OFFSET(REL_D,,MATCH($B31,IND,0)-1),REL_D,$M$2,total,$Y$11)","v":83},null,null,null,{"$f":"SUMIFS(OFFSET(REL_D,,MATCH($B31,IND,0)-1),REL_D,$M$2,total,$AC$11)","v":115},null,null,null,{"$f":"SUMIFS(OFFSET(REL_D,,MATCH($B31,IND,0)-1),REL_D,$M$2,total,$AG$11)","v":102}]
[null,null,null,null,"Coverage","Activity",null,"Coverage","Activity","Required",null,"Coverage","Activity","Required",null,"Coverage","Activity","Required",null,"Coverage","Activity","Required",null,"Coverage","Activity","Required",null,"Coverage","Activity","Required",null,"Coverage","Activity","Required"]
[null,{"$f":"'Control Panel'!E50","v":"(03.01) DTaP/IPV/Hib or DTaP/IPV/Hib/HepB"},"DTaP/IPV/Hib/HepB",null,{"$f":"IFERROR(F33/F$31,\"-\")","v":0.88465974625144173},{"$f":"I33+M33+Q33+U33+Y33+AC33+AG33","v":767},null,{"$f":"IFERROR(I33/I$31,\"-\")","v":0.89873417721518989},{"$f":"SUMIFS(OFFSET(REL_D,,MATCH(B33,IND,0)-1),REL_D,$M$2,total,$I$11)","v":142},{"$f":"IF(AND(I$31*0.9-I33<1,(I$31*0.9-I33>0)),1,IF(I$31*0.9-I33<=0,\"\",I$31*0.9-I33))","v":1},null,{"$f":"IFERROR(M33/M$31,\"-\")","v":0.92258064516129035},{"$f":"SUMIFS(OFFSET(REL_D,,MATCH(B33,IND,0)-1),REL_D,$M$2,total,$M$11)","v":143},{"$f":"IF(AND(M$31*0.9-M33<1,(M$31*0.9-M33>0)),1,IF(M$31*0.9-M33<=0,\"\",M$31*0.9-M33))","v":""},null,{"$f":"IFERROR(Q33/Q$31,\"-\")","v":0.83},{"$f":"SUMIFS(OFFSET(REL_D,,MATCH($B33,IND,0)-1),REL_D,$M$2,total,$Q$11)","v":83},{"$f":"IF(AND(Q$31*0.9-Q33<1,(Q$31*0.9-Q33>0)),1,IF(Q$31*0.9-Q33<=0,\"\",Q$31*0.9-Q33))","v":7},null,{"$f":"IFERROR(U33/U$31,\"-\")","v":0.83766233766233766},{"$f":"SUMIFS(OFFSET(REL_D,,MATCH($B33,IND,0)-1),REL_D,$M$2,total,$U$11)","v":129},{"$f":"IF(AND(U$31*0.9-U33<1,(U$31*0.9-U33>0)),1,IF(U$31*0.9-U33<=0,\"\",U$31*0.9-U33))","v":9.5999999999999943},null,{"$f":"IFERROR(Y33/Y$31,\"-\")","v":0.86746987951807231},{"$f":"SUMIFS(OFFSET(REL_D,,MATCH($B33,IND,0)-1),REL_D,$M$2,total,$Y$11)","v":72},{"$f":"IF(AND(Y$31*0.9-Y33<1,(Y$31*0.9-Y33>0)),1,IF(Y$31*0.9-Y33<=0,\"\",Y$31*0.9-Y33))","v":2.7000000000000028},null,{"$f":"IFERROR(AC33/AC$31,\"-\")","v":0.87826086956521743},{"$f":"SUMIFS(OFFSET(REL_D,,MATCH($B33,IND,0)-1),REL_D,$M$2,total,$AC$11)","v":101},{"$f":"IF(AND(AC$31*0.9-AC33<1,(AC$31*0.9-AC33>0)),1,IF(AC$31*0.9-AC33<=0,\"\",AC$31*0.9-AC33))","v":2.5},null,{"$f":"IFERROR(AG33/AG$31,\"-\")","v":0.9509803921568627},{"$f":"SUMIFS(OFFSET(REL_D,,MATCH($B33,IND,0)-1),REL_D,$M$2,total,$AG$11)","v":97},{"$f":"IF(AND(AG$31*0.9-AG33<1,(AG$31*0.9-AG33>0)),1,IF(AG$31*0.9-AG33<=0,\"\",AG$31*0.9-AG33))","v":""}]
[null,"(03.02) MMR (Primary)","MMR (Primary)",null,{"$f":"IFERROR(F34/F$31,\"-\")","v":0.88465974625144173},767,null,{"$f":"IFERROR(I34/I$31,\"-\")","v":0.88607594936708856},{"$f":"SUMIFS(OFFSET(REL_D,,MATCH(B34,IND,0)-1),REL_D,$M$2,total,$I$11)","v":140},{"$f":"IF(AND(I$31*0.9-I34<1,(I$31*0.9-I34>0)),1,IF(I$31*0.9-I34<=0,\"\",I$31*0.9-I34))","v":2.2000000000000171},null,{"$f":"IFERROR(M34/M$31,\"-\")","v":0.92258064516129035},{"$f":"SUMIFS(OFFSET(REL_D,,MATCH(B34,IND,0)-1),REL_D,$M$2,total,$M$11)","v":143},{"$f":"IF(AND(M$31*0.9-M34<1,(M$31*0.9-M34>0)),1,IF(M$31*0.9-M34<=0,\"\",M$31*0.9-M34))","v":""},null,{"$f":"IFERROR(Q34/Q$31,\"-\")","v":0.89},{"$f":"SUMIFS(OFFSET(REL_D,,MATCH($B34,IND,0)-1),REL_D,$M$2,total,$Q$11)","v":89},{"$f":"IF(AND(Q$31*0.9-Q34<1,(Q$31*0.9-Q34>0)),1,IF(Q$31*0.9-Q34<=0,\"\",Q$31*0.9-Q34))","v":1},null,{"$f":"IFERROR(U34/U$31,\"-\")","v":0.85064935064935066},{"$f":"SUMIFS(OFFSET(REL_D,,MATCH($B34,IND,0)-1),REL_D,$M$2,total,$U$11)","v":131},{"$f":"IF(AND(U$31*0.9-U34<1,(U$31*0.9-U34>0)),1,IF(U$31*0.9-U34<=0,\"\",U$31*0.9-U34))","v":7.5999999999999943},null,{"$f":"IFERROR(Y34/Y$31,\"-\")","v":0.85542168674698793},{"$f":"SUMIFS(OFFSET(REL_D,,MATCH($B34,IND,0)-1),REL_D,$M$2,total,$Y$11)","v":71},{"$f":"IF(AND(Y$31*0.9-Y34<1,(Y$31*0.9-Y34>0)),1,IF(Y$31*0.9-Y34<=0,\"\",Y$31*0.9-Y34))","v":3.7000000000000028},null,{"$f":"IFERROR(AC34/AC$31,\"-\")","v":0.85217391304347823},{"$f":"SUMIFS(OFFSET(REL_D,,MATCH($B34,IND,0)-1),REL_D,$M$2,total,$AC$11)","v":98},{"$f":"IF(AND(AC$31*0.9-AC34<1,(AC$31*0.9-AC34>0)),1,IF(AC$31*0.9-AC34<=0,\"\",AC$31*0.9-AC34))","v":5.5},null,{"$f":"IFERROR(AG34/AG$31,\"-\")","v":0.93137254901960786},{"$f":"SUMIFS(OFFSET(REL_D,,MATCH($B34,IND,0)-1),REL_D,$M$2,total,$AG$11)","v":95},{"$f":"IF(AND(AG$31*0.9-AG34<1,(AG$31*0.9-AG34>0)),1,IF(AG$31*0.9-AG34<=0,\"\",AG$31*0.9-AG34))","v":""}]
[null,"(03.03) DTaP/IPV (Booster)","DTaP/IPV (Booster)",null,0.79123414071510956,686,null,{"$f":"IFERROR(I35/I$31,\"-\")","v":0.810126582278481},{"$f":"SUMIFS(OFFSET(REL_D,,MATCH(B35,IND,0)-1),REL_D,$M$2,total,$I$11)","v":128},{"$f":"IF(AND(I$31*0.9-I35<1,(I$31*0.9-I35>0)),1,IF(I$31*0.9-I35<=0,\"\",I$31*0.9-I35))","v":14.200000000000017},null,0.84516129032258069,{"$f":"SUMIFS(OFFSET(REL_D,,MATCH(B35,IND,0)-1),REL_D,$M$2,total,$M$11)","v":131},{"$f":"IF(AND(M$31*0.9-M35<1,(M$31*0.9-M35>0)),1,IF(M$31*0.9-M35<=0,\"\",M$31*0.9-M35))","v":8.5},null,0.8,{"$f":"SUMIFS(OFFSET(REL_D,,MATCH($B35,IND,0)-1),REL_D,$M$2,total,$Q$11)","v":80},{"$f":"IF(AND(Q$31*0.9-Q35<1,(Q$31*0.9-Q35>0)),1,IF(Q$31*0.9-Q35<=0,\"\",Q$31*0.9-Q35))","v":10},null,0.7142857142857143,{"$f":"SUMIFS(OFFSET(REL_D,,MATCH($B35,IND,0)-1),REL_D,$M$2,total,$U$11)","v":110},{"$f":"IF(AND(U$31*0.9-U35<1,(U$31*0.9-U35>0)),1,IF(U$31*0.9-U35<=0,\"\",U$31*0.9-U35))","v":28.599999999999994},null,0.75903614457831325,{"$f":"SUMIFS(OFFSET(REL_D,,MATCH($B35,IND,0)-1),REL_D,$M$2,total,$Y$11)","v":63},{"$f":"IF(AND(Y$31*0.9-Y35<1,(Y$31*0.9-Y35>0)),1,IF(Y$31*0.9-Y35<=0,\"\",Y$31*0.9-Y35))","v":11.700000000000003},null,0.77391304347826084,{"$f":"SUMIFS(OFFSET(REL_D,,MATCH($B35,IND,0)-1),REL_D,$M$2,total,$AC$11)","v":89},{"$f":"IF(AND(AC$31*0.9-AC35<1,(AC$31*0.9-AC35>0)),1,IF(AC$31*0.9-AC35<=0,\"\",AC$31*0.9-AC35))","v":14.5},null,0.83333333333333337,{"$f":"SUMIFS(OFFSET(REL_D,,MATCH($B35,IND,0)-1),REL_D,$M$2,total,$AG$11)","v":85},{"$f":"IF(AND(AG$31*0.9-AG35<1,(AG$31*0.9-AG35>0)),1,IF(AG$31*0.9-AG35<=0,\"\",AG$31*0.9-AG35))","v":6.7999999999999972}]
[null,"(03.05) MMR (Booster)","MMR (Booster)",null,0.79469434832756636,689,null,0.810126582278481,{"$f":"SUMIFS(OFFSET(REL_D,,MATCH(B36,IND,0)-1),REL_D,$M$2,total,$I$11)","v":128},{"$f":"IF(AND(I$31*0.9-I36<1,(I$31*0.9-I36>0)),1,IF(I$31*0.9-I36<=0,\"\",I$31*0.9-I36))","v":14.200000000000017},null,0.86451612903225805,{"$f":"SUMIFS(OFFSET(REL_D,,MATCH(B36,IND,0)-1),REL_D,$M$2,total,$M$11)","v":134},{"$f":"IF(AND(M$31*0.9-M36<1,(M$31*0.9-M36>0)),1,IF(M$31*0.9-M36<=0,\"\",M$31*0.9-M36))","v":5.5},null,0.78,{"$f":"SUMIFS(OFFSET(REL_D,,MATCH($B36,IND,0)-1),REL_D,$M$2,total,$Q$11)","v":78},{"$f":"IF(AND(Q$31*0.9-Q36<1,(Q$31*0.9-Q36>0)),1,IF(Q$31*0.9-Q36<=0,\"\",Q$31*0.9-Q36))","v":12},null,0.72077922077922074,{"$f":"SUMIFS(OFFSET(REL_D,,MATCH($B36,IND,0)-1),REL_D,$M$2,total,$U$11)","v":111},{"$f":"IF(AND(U$31*0.9-U36<1,(U$31*0.9-U36>0)),1,IF(U$31*0.9-U36<=0,\"\",U$31*0.9-U36))","v":27.599999999999994},null,0.74698795180722888,{"$f":"SUMIFS(OFFSET(REL_D,,MATCH($B36,IND,0)-1),REL_D,$M$2,total,$Y$11)","v":62},{"$f":"IF(AND(Y$31*0.9-Y36<1,(Y$31*0.9-Y36>0)),1,IF(Y$31*0.9-Y36<=0,\"\",Y$31*0.9-Y36))","v":12.700000000000003},null,0.76521739130434785,{"$f":"SUMIFS(OFFSET(REL_D,,MATCH($B36,IND,0)-1),REL_D,$M$2,total,$AC$11)","v":88},{"$f":"IF(AND(AC$31*0.9-AC36<1,(AC$31*0.9-AC36>0)),1,IF(AC$31*0.9-AC36<=0,\"\",AC$31*0.9-AC36))","v":15.5},null,0.86274509803921573,{"$f":"SUMIFS(OFFSET(REL_D,,MATCH($B36,IND,0)-1),REL_D,$M$2,total,$AG$11)","v":88},{"$f":"IF(AND(AG$31*0.9-AG36<1,(AG$31*0.9-AG36>0)),1,IF(AG$31*0.9-AG36<=0,\"\",AG$31*0.9-AG36))","v":3.7999999999999972}]
[null,"(03.04) HiB/Men C","HiB/Men C",null,0.86620530565167242,751,null,0.879746835443038,{"$f":"SUMIFS(OFFSET(REL_D,,MATCH(B37,IND,0)-1),REL_D,$M$2,total,$I$11)","v":139},{"$f":"IF(AND(I$31*0.9-I37<1,(I$31*0.9-I37>0)),1,IF(I$31*0.9-I37<=0,\"\",I$31*0.9-I37))","v":3.2000000000000171},null,0.89032258064516134,{"$f":"SUMIFS(OFFSET(REL_D,,MATCH(B37,IND,0)-1),REL_D,$M$2,total,$M$11)","v":138},{"$f":"IF(AND(M$31*0.9-M37<1,(M$31*0.9-M37>0)),1,IF(M$31*0.9-M37<=0,\"\",M$31*0.9-M37))","v":1.5},null,0.87,{"$f":"SUMIFS(OFFSET(REL_D,,MATCH($B37,IND,0)-1),REL_D,$M$2,total,$Q$11)","v":87},{"$f":"IF(AND(Q$31*0.9-Q37<1,(Q$31*0.9-Q37>0)),1,IF(Q$31*0.9-Q37<=0,\"\",Q$31*0.9-Q37))","v":3},null,0.81818181818181823,{"$f":"SUMIFS(OFFSET(REL_D,,MATCH($B37,IND,0)-1),REL_D,$M$2,total,$U$11)","v":126},{"$f":"IF(AND(U$31*0.9-U37<1,(U$31*0.9-U37>0)),1,IF(U$31*0.9-U37<=0,\"\",U$31*0.9-U37))","v":12.599999999999994},null,0.85542168674698793,{"$f":"SUMIFS(OFFSET(REL_D,,MATCH($B37,IND,0)-1),REL_D,$M$2,total,$Y$11)","v":71},{"$f":"IF(AND(Y$31*0.9-Y37<1,(Y$31*0.9-Y37>0)),1,IF(Y$31*0.9-Y37<=0,\"\",Y$31*0.9-Y37))","v":3.7000000000000028},null,0.84347826086956523,{"$f":"SUMIFS(OFFSET(REL_D,,MATCH($B37,IND,0)-1),REL_D,$M$2,total,$AC$11)","v":97},{"$f":"IF(AND(AC$31*0.9-AC37<1,(AC$31*0.9-AC37>0)),1,IF(AC$31*0.9-AC37<=0,\"\",AC$31*0.9-AC37))","v":6.5},null,0.91176470588235292,{"$f":"SUMIFS(OFFSET(REL_D,,MATCH($B37,IND,0)-1),REL_D,$M$2,total,$AG$11)","v":93},{"$f":"IF(AND(AG$31*0.9-AG37<1,(AG$31*0.9-AG37>0)),1,IF(AG$31*0.9-AG37<=0,\"\",AG$31*0.9-AG37))","v":""}]

{"sheet":"Patients becoming 12m","index":2,"n_rows":57,"n_cols":16,"rows_kept":57,"cut":false,"hidden":false,"merged":[[15,0,16,2],[15,4,16,4]]}
[]
[null,null,null,"Waltham Forest Childhood Immunisations Dashboard: Metric Details"]
[null,{"$f":"VLOOKUP(C5,'Control Panel'!Y49:Z60,2,FALSE)","v":{"$error":"#N/A"}},null,"Patients becoming 12m",null,{"$f":"E15","v":916}]
[null,"2020-02-01"]
[null,null,"March 2023","All Patients","(01) 12 MONTH COHORT","(01.01) DTaP/IPV/Hib 6in1","DTaP/IPV/Hib(%)","Patients required to achieve NHSE Target (90%)","(01.02) Men B (1st and 2nd)","Men B(%)","Patients required to achieve NHSE Target (90%)","(01.03) PCV","PCV(%)","Patients required to achieve NHSE Target (90%)","(01.04) Rotavirus","Rotavirus(%)"]
[null,"Home",null,"Listsize ","Patients becoming 12m","DTaP/IPV/Hib/HepB","DTaP/IPV/Hib/HepB(%)","Patients required to achieve 95%","Men B","Men B(%)","Patients required to achieve 95%","PCV","PCV(%)","Patients required to achieve 95%","Rotavirus","Rotavirus(%)"]
["Cluster"]
["WF-1","Chingford/ Walthamstow",null,{"$f":"SUM(IF($A8=$A$19:$A$57,D$19:D$57))","v":52462},{"$f":"SUM(IF($A8=$A$19:$A$57,E$19:E$57))","v":171},{"$f":"SUM(IF($A8=$A$19:$A$57,F$19:F$57))","v":155},{"$f":"IF(OR(ISTEXT($E8),$E8=0),\"N/A\",F8/$E8)","v":0.9064327485380117},null,{"$f":"SUM(IF($A8=$A$19:$A$57,I$19:I$57))","v":153},{"$f":"IF(OR(ISTEXT($E8),$E8=0),\"N/A\",I8/$E8)","v":0.89473684210526316},null,{"$f":"SUM(IF($A8=$A$19:$A$57,L$19:L$57))","v":163},{"$f":"IF(OR(ISTEXT($E8),$E8=0),\"N/A\",L8/$E8)","v":0.95321637426900585},null,{"$f":"SUM(IF($A8=$A$19:$A$57,O$19:O$57))","v":155},{"$f":"IF(OR(ISTEXT($E8),$E8=0),\"N/A\",O8/$E8)","v":0.9064327485380117}]
["WF-2","Chingford E4",null,{"$f":"SUM(IF($A9=$A$19:$A$57,D$19:D$57))","v":54070},{"$f":"SUM(IF($A9=$A$19:$A$57,E$19:E$57))","v":132},{"$f":"SUM(IF($A9=$A$19:$A$57,F$19:F$57))","v":126},0.95454545454545459,null,{"$f":"SUM(IF($A9=$A$19:$A$57,I$19:I$57))","v":123},{"$f":"IF(OR(ISTEXT($E9),$E9=0),\"N/A\",I9/$E9)","v":0.93181818181818177},null,{"$f":"SUM(IF($A9=$A$19:$A$57,L$19:L$57))","v":127},{"$f":"IF(OR(ISTEXT($E9),$E9=0),\"N/A\",L9/$E9)","v":0.96212121212121215},null,{"$f":"SUM(IF($A9=$A$19:$A$57,O$19:O$57))","v":119},{"$f":"IF(OR(ISTEXT($E9),$E9=0),\"N/A\",O9/$E9)","v":0.90151515151515149}]
["WF-3","Leyton Collaborative",null,{"$f":"SUM(IF($A10=$A$19:$A$57,D$19:D$57))","v":35906},{"$f":"SUM(IF($A10=$A$19:$A$57,E$19:E$57))","v":88},{"$f":"SUM(IF($A10=$A$19:$A$57,F$19:F$57))","v":75},0.85227272727272729,null,{"$f":"SUM(IF($A10=$A$19:$A$57,I$19:I$57))","v":75},0.85227272727272729,null,{"$f":"SUM(IF($A10=$A$19:$A$57,L$19:L$57))","v":81},0.92045454545454541,null,{"$f":"SUM(IF($A10=$A$19:$A$57,O$19:O$57))","v":76},0.86363636363636365]
["WF-4","Forest Integrated Health",null,{"$f":"SUM(IF($A11=$A$19:$A$57,D$19:D$57))","v":58263},{"$f":"SUM(IF($A11=$A$19:$A$57,E$19:E$57))","v":180},{"$f":"SUM(IF($A11=$A$19:$A$57,F$19:F$57))","v":156},0.8666666666666667,null,{"$f":"SUM(IF($A11=$A$19:$A$57,I$19:I$57))","v":152},0.84444444444444444,null,{"$f":"SUM(IF($A11=$A$19:$A$57,L$19:L$57))","v":163},0.90555555555555556,null,{"$f":"SUM(IF($A11=$A$19:$A$57,O$19:O$57))","v":154},0.85555555555555551]
["WF-5","South Leytonstone",null,{"$f":"SUM(IF($A12=$A$19:$A$57,D$19:D$57))","v":36965},{"$f":"SUM(IF($A12=$A$19:$A$57,E$19:E$57))","v":82},{"$f":"SUM(IF($A12=$A$19:$A$57,F$19:F$57))","v":71},0.86585365853658536,null,{"$f":"SUM(IF($A12=$A$19:$A$57,I$19:I$57))","v":69},0.84146341463414631,null,{"$f":"SUM(IF($A12=$A$19:$A$57,L$19:L$57))","v":74},0.90243902439024393,null,{"$f":"SUM(IF($A12=$A$19:$A$57,O$19:O$57))","v":69},0.84146341463414631]
["WF-6","Central Walthamstow",null,{"$f":"SUM(IF($A13=$A$19:$A$57,D$19:D$57))","v":42920},{"$f":"SUM(IF($A13=$A$19:$A$57,E$19:E$57))","v":121},{"$f":"SUM(IF($A13=$A$19:$A$57,F$19:F$57))","v":110},0.90909090909090906,null,{"$f":"SUM(IF($A13=$A$19:$A$57,I$19:I$57))","v":109},0.90082644628099173,null,{"$f":"SUM(IF($A13=$A$19:$A$57,L$19:L$57))","v":114},0.94214876033057848,null,{"$f":"SUM(IF($A13=$A$19:$A$57,O$19:O$57))","v":107},0.88429752066115708]
["WF-7","Walthamstow West",null,{"$f":"SUM(IF($A14=$A$19:$A$57,D$19:D$57))","v":44861},{"$f":"SUM(IF($A14=$A$19:$A$57,E$19:E$57))","v":142},{"$f":"SUM(IF($A14=$A$19:$A$57,F$19:F$57))","v":119},0.8380281690140845,null,{"$f":"SUM(IF($A14=$A$19:$A$57,I$19:I$57))","v":114},0.80281690140845074,null,{"$f":"SUM(IF($A14=$A$19:$A$57,L$19:L$57))","v":125},0.88028169014084512,null,{"$f":"SUM(IF($A14=$A$19:$A$57,O$19:O$57))","v":121},0.852112676056338]
["Total",null,null,{"$f":"SUM(D8:D14)","v":325447},{"$f":"SUM(E8:E14)","v":916},{"$f":"SUM(F8:F14)","v":812},0.88646288209606983,null,{"$f":"SUM(I8:I14)","v":795},0.86790393013100442,null,{"$f":"SUM(L8:L14)","v":847},0.9246724890829694,null,{"$f":"SUM(O8:O14)","v":801},0.87445414847161573]
["Minimum and Maximum %",null,null,null,null,"Min","Max",null,"Min","Max",null,"Min","Max",null,"Min","Max"]
[null,null,null,null,null,{"$f":"SMALL(G19:G51,COUNTIF(G19:G51,0)+1)","v":0.625},{"$f":"MAX(G19:G51)","v":1},null,{"$f":"SMALL(J19:J51,COUNTIF(J19:J51,0)+1)","v":0.5625},{"$f":"MAX(J19:J51)","v":1},null,{"$f":"SMALL(M19:M51,COUNTIF(M19:M51,0)+1)","v":0.625},{"$f":"MAX(M19:M51)","v":1},null,{"$f":"SMALL(P19:P51,COUNTIF(P19:P51,0)+1)","v":0.66666666666666663},{"$f":"MAX(P19:P51)","v":1}]
["Practices","* SystmOne Practices - No Data"]
[{"$f":"VLOOKUP(C19,'Control Panel'!$G$132:$K$171,5,FALSE)","v":"WF-1"},{"$f":"VLOOKUP(C19,'Control Panel'!$A$85:$F$124,2,FALSE)","v":"Kings Head Medical Practice"},"F86700",{"$f":"SUMIFS(OFFSET(REL_D,,MATCH($D$5,IND,0)-1),REL_D,$C$5,OrgID,$C19)","v":3845},{"$f":"SUMIFS(OFFSET(REL_D,,MATCH($E$5,IND,0)-1),REL_D,$C$5,OrgID,$C19)","v":10},{"$f":"SUMIFS(OFFSET(REL_D,,MATCH($F$5,IND,0)-1),REL_D,$C$5,OrgID,$C19)","v":7},{"$f":"IF(OR(ISTEXT($E19),$E19=0),\"N/A\",F19/$E19)","v":0.7},{"$f":"IFERROR(ROUNDUP(IF($E19*0.95-F19>=0,$E19*0.95-F19,\"\"),0),\"\")","v":3},{"$f":"SUMIFS(OFFSET(REL_D,,MATCH($I$5,IND,0)-1),REL_D,$C$5,OrgID,$C19)","v":6},{"$f":"IF(OR(ISTEXT($E19),$E19=0),\"N/A\",I19/$E19)","v":0.6},{"$f":"IFERROR(ROUNDUP(IF($E19*0.95-I19>=0,$E19*0.95-I19,\"\"),0),\"\")","v":4},{"$f":"SUMIFS(OFFSET(REL_D,,MATCH($L$5,IND,0)-1),REL_D,$C$5,OrgID,$C19)","v":9},{"$f":"IF(OR(ISTEXT($E19),$E19=0),\"N/A\",L19/$E19)","v":0.9},{"$f":"IFERROR(ROUNDUP(IF($E19*0.95-L19>=0,$E19*0.95-L19,\"\"),0),\"\")","v":1},{"$f":"SUMIFS(OFFSET(REL_D,,MATCH($O$5,IND,0)-1),REL_D,$C$5,OrgID,$C19)","v":7},{"$f":"IF(OR(ISTEXT($E19),$E19=0),\"N/A\",O19/$E19)","v":0.7}]
[{"$f":"VLOOKUP(C20,'Control Panel'!$G$132:$K$171,5,FALSE)","v":"WF-1"},{"$f":"VLOOKUP(C20,'Control Panel'!$A$85:$F$124,2,FALSE)","v":"Larkshall Medical Centre"},"F86664",8579,18,18,1,{"$f":"IFERROR(ROUNDUP(IF($E20*0.95-F20>=0,$E20*0.95-F20,\"\"),0),\"\")","v":""},17,0.94444444444444442,{"$f":"IFERROR(ROUNDUP(IF($E20*0.95-I20>=0,$E20*0.95-I20,\"\"),0),\"\")","v":1},18,1,{"$f":"IFERROR(ROUNDUP(IF($E20*0.95-L20>=0,$E20*0.95-L20,\"\"),0),\"\")","v":""},18,{"$f":"IF(OR(ISTEXT($E20),$E20=0),\"N/A\",O20/$E20)","v":1}]
[{"$f":"VLOOKUP(C21,'Control Panel'!$G$132:$K$171,5,FALSE)","v":"WF-1"},{"$f":"VLOOKUP(C21,'Control Panel'!$A$85:$F$124,2,FALSE)","v":"The Microfaculty*"},"F86638",4981,11,11,{"$f":"IF(OR(ISTEXT($E21),$E21=0),\"N/A\",F21/$E21)","v":1},"",11,{"$f":"IF(OR(ISTEXT($E21),$E21=0),\"N/A\",I21/$E21)","v":1},"",11,{"$f":"IF(OR(ISTEXT($E21),$E21=0),\"N/A\",L21/$E21)","v":1},"",10,{"$f":"IF(OR(ISTEXT($E21),$E21=0),\"N/A\",O21/$E21)","v":0.90909090909090906}]
[{"$f":"VLOOKUP(C22,'Control Panel'!$G$132:$K$171,5,FALSE)","v":"WF-1"},{"$f":"VLOOKUP(C22,'Control Panel'!$A$85:$F$124,2,FALSE)","v":" The Penryhn Surgery"},"F86005",9530,44,39,0.88636363636363635,3,37,0.84090909090909094,5,42,0.95454545454545459,"",39,0.88636363636363635]
[{"$f":"VLOOKUP(C23,'Control Panel'!$G$132:$K$171,5,FALSE)","v":"WF-1"},{"$f":"VLOOKUP(C23,'Control Panel'!$A$85:$F$124,2,FALSE)","v":"Dr Shantir Practice"},"F86626",7441,21,20,0.95238095238095233,"",21,1,"",20,0.95238095238095233,"",20,0.95238095238095233]
[{"$f":"VLOOKUP(C24,'Control Panel'!$G$132:$K$171,5,FALSE)","v":"WF-1"},{"$f":"VLOOKUP(C24,'Control Panel'!$A$85:$F$124,2,FALSE)","v":"Lime Tree & Sinnott Healthcare Ltd"},"Y01839",6601,17,16,{"$f":"IF(OR(ISTEXT($E24),$E24=0),\"N/A\",F24/$E24)","v":0.94117647058823528},1,16,{"$f":"IF(OR(ISTEXT($E24),$E24=0),\"N/A\",I24/$E24)","v":0.94117647058823528},1,17,{"$f":"IF(OR(ISTEXT($E24),$E24=0),\"N/A\",L24/$E24)","v":1},"",16,{"$f":"IF(OR(ISTEXT($E24),$E24=0),\"N/A\",O24/$E24)","v":0.94117647058823528}]
[{"$f":"VLOOKUP(C25,'Control Panel'!$G$132:$K$171,5,FALSE)","v":"WF-1"},{"$f":"VLOOKUP(C25,'Control Panel'!$A$85:$F$124,2,FALSE)","v":"The Bailey Practice"},"F86689",4367,30,26,0.8666666666666667,3,26,0.8666666666666667,3,27,0.9,2,26,0.8666666666666667]
[{"$f":"VLOOKUP(C26,'Control Panel'!$G$132:$K$171,5,FALSE)","v":"WF-1"},{"$f":"VLOOKUP(C26,'Control Panel'!$A$85:$F$124,2,FALSE)","v":"Forest Surgery*"},"F86026",7118,20,18,{"$f":"IF(OR(ISTEXT($E26),$E26=0),\"N/A\",F26/$E26)","v":0.9},1,19,{"$f":"IF(OR(ISTEXT($E26),$E26=0),\"N/A\",I26/$E26)","v":0.95},0,19,{"$f":"IF(OR(ISTEXT($E26),$E26=0),\"N/A\",L26/$E26)","v":0.95},0,19,{"$f":"IF(OR(ISTEXT($E26),$E26=0),\"N/A\",O26/$E26)","v":0.95}]
[{"$f":"VLOOKUP(C27,'Control Panel'!$G$132:$K$171,5,FALSE)","v":"WF-2"},{"$f":"VLOOKUP(C27,'Control Panel'!$A$85:$F$124,2,FALSE)","v":"Handsworth Medical Centre*"},"F86004",16038,29,27,0.93103448275862066,1,24,0.82758620689655171,4,27,0.93103448275862066,1,27,0.93103448275862066]
[{"$f":"VLOOKUP(C28,'Control Panel'!$G$132:$K$171,5,FALSE)","v":"WF-2"},{"$f":"VLOOKUP(C28,'Control Panel'!$A$85:$F$124,2,FALSE)","v":"Chingford Medical Practice"},"Y01291",9699,32,31,0.96875,"",31,0.96875,"",31,0.96875,"",29,0.90625]
[{"$f":"VLOOKUP(C29,'Control Panel'!$G$132:$K$171,5,FALSE)","v":"WF-2"},{"$f":"VLOOKUP(C29,'Control Panel'!$A$85:$F$124,2,FALSE)","v":"Churchill Medical Centre"},"F86627",13171,21,20,0.95238095238095233,"",20,0.95238095238095233,"",20,0.95238095238095233,"",17,0.80952380952380953]
[{"$f":"VLOOKUP(C30,'Control Panel'!$G$132:$K$171,5,FALSE)","v":"WF-2"},{"$f":"VLOOKUP(C30,'Control Panel'!$A$85:$F$124,2,FALSE)","v":"The Ridgeway Surgery"},"F86078",6811,12,11,0.91666666666666663,1,11,0.91666666666666663,1,12,1,"",11,0.91666666666666663]
[{"$f":"VLOOKUP(C31,'Control Panel'!$G$132:$K$171,5,FALSE)","v":"WF-2"},{"$f":"VLOOKUP(C31,'Control Panel'!$A$85:$F$124,2,FALSE)","v":"Old Church Surgery"},"F86616",8351,38,37,0.97368421052631582,"",37,0.97368421052631582,"",37,0.97368421052631582,"",35,0.92105263157894735]
[{"$f":"VLOOKUP(C32,'Control Panel'!$G$132:$K$171,5,FALSE)","v":"WF-3"},{"$f":"VLOOKUP(C32,'Control Panel'!$A$85:$F$124,2,FALSE)","v":"The Manor Practice"},"F86011",9774,20,17,0.85,2,16,0.8,3,18,0.9,1,17,0.85]
[{"$f":"VLOOKUP(C33,'Control Panel'!$G$132:$K$171,5,FALSE)","v":"WF-3"},{"$f":"VLOOKUP(C33,'Control Panel'!$A$85:$F$124,2,FALSE)","v":"Sma Medical Centre"},"F86038",11059,29,22,{"$f":"IF(OR(ISTEXT($E33),$E33=0),\"N/A\",F33/$E33)","v":0.75862068965517238},{"$f":"IFERROR(ROUNDUP(IF($E33*0.95-F33>=0,$E33*0.95-F33,\"\"),0),\"\")","v":6},22,{"$f":"IF(OR(ISTEXT($E33),$E33=0),\"N/A\",I33/$E33)","v":0.75862068965517238},{"$f":"IFERROR(ROUNDUP(IF($E33*0.95-I33>=0,$E33*0.95-I33,\"\"),0),\"\")","v":6},25,{"$f":"IF(OR(ISTEXT($E33),$E33=0),\"N/A\",L33/$E33)","v":0.86206896551724133},{"$f":"IFERROR(ROUNDUP(IF($E33*0.95-L33>=0,$E33*0.95-L33,\"\"),0),\"\")","v":3},25,{"$f":"IF(OR(ISTEXT($E33),$E33=0),\"N/A\",O33/$E33)","v":0.86206896551724133}]
[{"$f":"VLOOKUP(C34,'Control Panel'!$G$132:$K$171,5,FALSE)","v":"WF-3"},{"$f":"VLOOKUP(C34,'Control Panel'!$A$85:$F$124,2,FALSE)","v":"Leyton Healthcare (Oliver Road)*"},"F86074",15073,39,36,0.92307692307692313,2,37,0.94871794871794868,1,38,0.97435897435897434,"",34,0.87179487179487181]
[{"$f":"VLOOKUP(C35,'Control Panel'!$G$132:$K$171,5,FALSE)","v":"WF-4"},{"$f":"VLOOKUP(C35,'Control Panel'!$A$85:$F$124,2,FALSE)","v":"The Allum Medical Centre"},"F86036",14350,43,41,0.95348837209302328,"",40,0.93023255813953487,1,41,0.95348837209302328,"",41,0.95348837209302328]
[{"$f":"VLOOKUP(C36,'Control Panel'!$G$132:$K$171,5,FALSE)","v":"WF-4"},{"$f":"VLOOKUP(C36,'Control Panel'!$A$85:$F$124,2,FALSE)","v":" Crawley Road Medical Centre"},"F86044",10497,27,22,0.81481481481481477,4,22,0.81481481481481477,4,24,0.88888888888888884,2,22,0.81481481481481477]
[{"$f":"VLOOKUP(C37,'Control Panel'!$G$132:$K$171,5,FALSE)","v":"WF-4"},{"$f":"VLOOKUP(C37,'Control Panel'!$A$85:$F$124,2,FALSE)","v":"Francis Road Medical Centre"},"F86696",7132,32,25,0.78125,6,22,0.6875,9,27,0.84375,4,23,0.71875]
[{"$f":"VLOOKUP(C38,'Control Panel'!$G$132:$K$171,5,FALSE)","v":"WF-4"},{"$f":"VLOOKUP(C38,'Control Panel'!$A$85:$F$124,2,FALSE)","v":"Hampton Medical Centre"},"F86712",3433,10,10,1,"",9,0.9,1,10,1,"",10,1]
[{"$f":"VLOOKUP(C39,'Control Panel'!$G$132:$K$171,5,FALSE)","v":"WF-4"},{"$f":"VLOOKUP(C39,'Control Panel'!$A$85:$F$124,2,FALSE)","v":"Lime Tree Surgery"},"F86650",7953,22,17,0.77272727272727271,4,17,0.77272727272727271,4,18,0.81818181818181823,3,15,0.68181818181818177]
[{"$f":"VLOOKUP(C40,'Control Panel'!$G$132:$K$171,5,FALSE)","v":"WF-4"},{"$f":"VLOOKUP(C40,'Control Panel'!$A$85:$F$124,2,FALSE)","v":"The Lyndhurst Surgery"},"F86088",5098,14,13,0.9285714285714286,1,13,0.9285714285714286,1,13,0.9285714285714286,1,13,0.9285714285714286]
[{"$f":"VLOOKUP(C41,'Control Panel'!$G$132:$K$171,5,FALSE)","v":"WF-4"},{"$f":"VLOOKUP(C41,'Control Panel'!$A$85:$F$124,2,FALSE)","v":"The Ecclesbourne Practice*"},"F86018",9800,32,28,0.875,3,29,0.90625,2,30,0.9375,1,30,0.9375]
[{"$f":"VLOOKUP(C42,'Control Panel'!$G$132:$K$171,5,FALSE)","v":"WF-5"},{"$f":"VLOOKUP(C42,'Control Panel'!$A$85:$F$124,2,FALSE)","v":"Green Man Medical Centre"},"F86621",6805,16,10,0.625,6,9,0.5625,7,13,0.8125,3,11,0.6875]
[{"$f":"VLOOKUP(C43,'Control Panel'!$G$132:$K$171,5,FALSE)","v":"WF-5"},{"$f":"VLOOKUP(C43,'Control Panel'!$A$85:$F$124,2,FALSE)","v":"High Road Surgery"},"F86045",2032,3,3,1,"",3,1,"",3,1,"",3,1]
[{"$f":"VLOOKUP(C44,'Control Panel'!$G$132:$K$171,5,FALSE)","v":"WF-5"},{"$f":"VLOOKUP(C44,'Control Panel'!$A$85:$F$124,2,FALSE)","v":"Kiyani Medical Practice"},"F86701",4010,8,6,0.75,2,5,0.625,3,5,0.625,3,6,0.75]
[{"$f":"VLOOKUP(C45,'Control Panel'!$G$132:$K$171,5,FALSE)","v":"WF-5"},{"$f":"VLOOKUP(C45,'Control Panel'!$A$85:$F$124,2,FALSE)","v":"LL Medical Care (Agarwal & Agrwal Practice)"},"F86625",5726,6,5,0.83333333333333337,1,5,0.83333333333333337,1,5,0.83333333333333337,1,4,0.66666666666666663]
[{"$f":"VLOOKUP(C46,'Control Panel'!$G$132:$K$171,5,FALSE)","v":"WF-5"},{"$f":"VLOOKUP(C46,'Control Panel'!$A$85:$F$124,2,FALSE)","v":"The Harrow Road Surgery"},"F86666",14945,35,33,0.94285714285714284,1,33,0.94285714285714284,1,34,0.97142857142857142,"",31,0.88571428571428568]
[{"$f":"VLOOKUP(C47,'Control Panel'!$G$132:$K$171,5,FALSE)","v":"WF-5"},{"$f":"VLOOKUP(C47,'Control Panel'!$A$85:$F$124,2,FALSE)","v":"The Langthorne Sharma Family Practice"},"F86705",3447,14,14,1,"",14,1,"",14,1,"",14,1]
[{"$f":"VLOOKUP(C48,'Control Panel'!$G$132:$K$171,5,FALSE)","v":"WF-6"},{"$f":"VLOOKUP(C48,'Control Panel'!$A$85:$F$124,2,FALSE)","v":"Addison Road Medical Practice"},"F86607",16152,54,53,0.98148148148148151,"",53,0.98148148148148151,"",54,1,"",50,0.92592592592592593]
[{"$f":"VLOOKUP(C49,'Control Panel'!$G$132:$K$171,5,FALSE)","v":"WF-6"},{"$f":"VLOOKUP(C49,'Control Panel'!$A$85:$F$124,2,FALSE)","v":"Claremont Medical Centre"},"F86708",2843,5,4,0.8,1,4,0.8,1,4,0.8,1,4,0.8]
[{"$f":"VLOOKUP(C50,'Control Panel'!$G$132:$K$171,5,FALSE)","v":"WF-6"},{"$f":"VLOOKUP(C50,'Control Panel'!$A$85:$F$124,2,FALSE)","v":" The Firs"},"F86001",8444,16,11,0.6875,5,10,0.625,6,11,0.6875,5,12,0.75]
[{"$f":"VLOOKUP(C51,'Control Panel'!$G$132:$K$171,5,FALSE)","v":"WF-6"},{"$f":"VLOOKUP(C51,'Control Panel'!$A$85:$F$124,2,FALSE)","v":"Dr Dhital Practice"},"F86086",6398,25,22,0.88,2,22,0.88,2,25,1,"",22,0.88]
[{"$f":"VLOOKUP(C52,'Control Panel'!$G$132:$K$171,5,FALSE)","v":"WF-6"},{"$f":"VLOOKUP(C52,'Control Panel'!$A$85:$F$124,2,FALSE)","v":"Waltham Forest Community & Family Health Services Ltd"},"F86644",9083,21,20,0.95238095238095233,"",20,0.95238095238095233,"",20,0.95238095238095233,"",19,0.90476190476190477]
[{"$f":"VLOOKUP(C53,'Control Panel'!$G$132:$K$171,5,FALSE)","v":"WF-7"},{"$f":"VLOOKUP(C53,'Control Panel'!$A$85:$F$124,2,FALSE)","v":"Seymour Medical centre "},"F86006",7082,16,13,0.8125,3,13,0.8125,3,13,0.8125,3,13,0.8125]
[{"$f":"VLOOKUP(C54,'Control Panel'!$G$132:$K$171,5,FALSE)","v":"WF-7"},{"$f":"VLOOKUP(C54,'Control Panel'!$A$85:$F$124,2,FALSE)","v":" Queens Road Medical Centre"},"F86030",8280,21,17,0.80952380952380953,3,16,0.76190476190476186,4,20,0.95238095238095233,"",18,0.8571428571428571]
[{"$f":"VLOOKUP(C55,'Control Panel'!$G$132:$K$171,5,FALSE)","v":"WF-7"},{"$f":"VLOOKUP(C55,'Control Panel'!$A$85:$F$124,2,FALSE)","v":"The Grove Road Medical Centre "},"F86062",7220,23,20,0.86956521739130432,2,18,0.78260869565217395,4,20,0.86956521739130432,2,20,0.86956521739130432]
[{"$f":"VLOOKUP(C56,'Control Panel'!$G$132:$K$171,5,FALSE)","v":"WF-7"},{"$f":"VLOOKUP(C56,'Control Panel'!$A$85:$F$124,2,FALSE)","v":"Higham Hill Medical Centre"},"F86679",6412,26,21,0.80769230769230771,4,21,0.80769230769230771,4,22,0.84615384615384615,3,22,0.84615384615384615]
[{"$f":"VLOOKUP(C57,'Control Panel'!$G$132:$K$171,5,FALSE)","v":"WF-7"},{"$f":"VLOOKUP(C57,'Control Panel'!$A$85:$F$124,2,FALSE)","v":"St James Medical Practice Ltd"},"F86058",15867,56,48,0.8571428571428571,6,46,0.8214285714285714,8,50,0.8928571428571429,4,48,0.8571428571428571]

{"sheet":"Patients becoming 24m","index":3,"n_rows":57,"n_cols":18,"rows_kept":57,"cut":false,"hidden":false,"merged":[[15,0,16,2]]}
[]
[null,null,null,"Waltham Forest Childhood Immunisations Dashboard: Metric Details"]
[null,{"$f":"VLOOKUP(C5,'Control Panel'!Y49:Z60,2,FALSE)","v":{"$error":"#N/A"}},null,"Patients becoming 24m",null,{"$f":"E15","v":939}]
[null,"2020-02-01"]
[null,null,"March 2023","All Patients","(02) 24 MONTH COHORT","(02.01) DTaP/IPV/Hib or DTaP/IPV/Hib/HepB","DTaP/IPV/Hib(%)","(02.02) MMR","MMR(%)","Patients required to achieve NHSE Target (90%)","(02.03) HiB/Men C","HiB/Men C (%)","Patients required to achieve NHSE Target (90%)","(02.04) PCV (Booster)","PCV (Booster)(%)","Patients required to achieve NHSE Target (90%)","(02.05) Men B (Booster)","Men B (Booster)(%)"]
[null,"Home",null,"Listsize ","Patients becoming 24m","DTaP/IPV/Hib/HepB","DTaP/IPV/Hib/HepB(%)","MMR","MMR(%)","Patients required to achieve 95%","HiB/Men C","HiB/Men C (%)","Patients required to achieve 95%","PCV (Booster)","PCV (Booster)(%)","Patients required to achieve 95%","Men B (Booster)","Men B (Booster)(%)"]
["Cluster"]
["WF-1","Chingford/ Walthamstow",null,{"$f":"SUM(IF($A8=$A$19:$A$57,D$19:D$57))","v":52462},{"$f":"SUM(IF($A8=$A$19:$A$57,E$19:E$57))","v":186},{"$f":"SUM(IF($A8=$A$19:$A$57,F$19:F$57))","v":169},{"$f":"IF(OR(ISTEXT($E8),$E8=0),\"N/A\",F8/$E8)","v":0.90860215053763438},{"$f":"SUM(IF($A8=$A$19:$A$57,H$19:H$57))","v":165},{"$f":"IF(OR(ISTEXT($E8),$E8=0),\"N/A\",H8/$E8)","v":0.88709677419354838},null,{"$f":"SUM(IF($A8=$A$19:$A$57,K$19:K$57))","v":163},{"$f":"IF(OR(ISTEXT($E8),$E8=0),\"N/A\",K8/$E8)","v":0.87634408602150538},null,{"$f":"SUM(IF($A8=$A$19:$A$57,N$19:N$57))","v":162},{"$f":"IF(OR(ISTEXT($E8),$E8=0),\"N/A\",N8/$E8)","v":0.87096774193548387},null,{"$f":"SUM(IF($A8=$A$19:$A$57,Q$19:Q$57))","v":167},{"$f":"IF(OR(ISTEXT($E8),$E8=0),\"N/A\",Q8/$E8)","v":0.89784946236559138}]
["WF-2","Chingford E4",null,{"$f":"SUM(IF($A9=$A$19:$A$57,D$19:D$57))","v":54070},{"$f":"SUM(IF($A9=$A$19:$A$57,E$19:E$57))","v":156},{"$f":"SUM(IF($A9=$A$19:$A$57,F$19:F$57))","v":145},{"$f":"IF(OR(ISTEXT($E9),$E9=0),\"N/A\",F9/$E9)","v":0.92948717948717952},{"$f":"SUM(IF($A9=$A$19:$A$57,H$19:H$57))","v":130},{"$f":"IF(OR(ISTEXT($E9),$E9=0),\"N/A\",H9/$E9)","v":0.83333333333333337},null,{"$f":"SUM(IF($A9=$A$19:$A$57,K$19:K$57))","v":132},{"$f":"IF(OR(ISTEXT($E9),$E9=0),\"N/A\",K9/$E9)","v":0.84615384615384615},null,{"$f":"SUM(IF($A9=$A$19:$A$57,N$19:N$57))","v":131},{"$f":"IF(OR(ISTEXT($E9),$E9=0),\"N/A\",N9/$E9)","v":0.83974358974358976},null,{"$f":"SUM(IF($A9=$A$19:$A$57,Q$19:Q$57))","v":134},{"$f":"IF(OR(ISTEXT($E9),$E9=0),\"N/A\",Q9/$E9)","v":0.85897435897435892}]
["WF-3","Leyton Collaborative",null,{"$f":"SUM(IF($A10=$A$19:$A$57,D$19:D$57))","v":35906},{"$f":"SUM(IF($A10=$A$19:$A$57,E$19:E$57))","v":87},{"$f":"SUM(IF($A10=$A$19:$A$57,F$19:F$57))","v":77},0.88505747126436785,{"$f":"SUM(IF($A10=$A$19:$A$57,H$19:H$57))","v":78},0.89655172413793105,null,{"$f":"SUM(IF($A10=$A$19:$A$57,K$19:K$57))","v":76},0.87356321839080464,null,{"$f":"SUM(IF($A10=$A$19:$A$57,N$19:N$57))","v":77},0.88505747126436785,null,{"$f":"SUM(IF($A10=$A$19:$A$57,Q$19:Q$57))","v":76},0.87356321839080464]
["WF-4","Forest Integrated Health",null,{"$f":"SUM(IF($A11=$A$19:$A$57,D$19:D$57))","v":58263},{"$f":"SUM(IF($A11=$A$19:$A$57,E$19:E$57))","v":138},{"$f":"SUM(IF($A11=$A$19:$A$57,F$19:F$57))","v":121},0.87681159420289856,{"$f":"SUM(IF($A11=$A$19:$A$57,H$19:H$57))","v":116},0.84057971014492749,null,{"$f":"SUM(IF($A11=$A$19:$A$57,K$19:K$57))","v":117},0.84782608695652173,null,{"$f":"SUM(IF($A11=$A$19:$A$57,N$19:N$57))","v":116},0.84057971014492749,null,{"$f":"SUM(IF($A11=$A$19:$A$57,Q$19:Q$57))","v":117},0.84782608695652173]
["WF-5","South Leytonstone",null,{"$f":"SUM(IF($A12=$A$19:$A$57,D$19:D$57))","v":36965},{"$f":"SUM(IF($A12=$A$19:$A$57,E$19:E$57))","v":106},{"$f":"SUM(IF($A12=$A$19:$A$57,F$19:F$57))","v":92},0.86792452830188682,{"$f":"SUM(IF($A12=$A$19:$A$57,H$19:H$57))","v":85},0.80188679245283023,null,{"$f":"SUM(IF($A12=$A$19:$A$57,K$19:K$57))","v":81},0.76415094339622647,null,{"$f":"SUM(IF($A12=$A$19:$A$57,N$19:N$57))","v":85},0.80188679245283023,null,{"$f":"SUM(IF($A12=$A$19:$A$57,Q$19:Q$57))","v":82},0.77358490566037741]
["WF-6","Central Walthamstow",null,{"$f":"SUM(IF($A13=$A$19:$A$57,D$19:D$57))","v":42920},{"$f":"SUM(IF($A13=$A$19:$A$57,E$19:E$57))","v":123},{"$f":"SUM(IF($A13=$A$19:$A$57,F$19:F$57))","v":103},0.83739837398373984,{"$f":"SUM(IF($A13=$A$19:$A$57,H$19:H$57))","v":102},0.82926829268292679,null,{"$f":"SUM(IF($A13=$A$19:$A$57,K$19:K$57))","v":103},0.83739837398373984,null,{"$f":"SUM(IF($A13=$A$19:$A$57,N$19:N$57))","v":104},0.84552845528455289,null,{"$f":"SUM(IF($A13=$A$19:$A$57,Q$19:Q$57))","v":105},0.85365853658536583]
["WF-7","Walthamstow West",null,{"$f":"SUM(IF($A14=$A$19:$A$57,D$19:D$57))","v":44861},{"$f":"SUM(IF($A14=$A$19:$A$57,E$19:E$57))","v":143},{"$f":"SUM(IF($A14=$A$19:$A$57,F$19:F$57))","v":126},0.88111888111888115,{"$f":"SUM(IF($A14=$A$19:$A$57,H$19:H$57))","v":120},0.83916083916083917,null,{"$f":"SUM(IF($A14=$A$19:$A$57,K$19:K$57))","v":120},0.83916083916083917,null,{"$f":"SUM(IF($A14=$A$19:$A$57,N$19:N$57))","v":119},0.83216783216783219,null,{"$f":"SUM(IF($A14=$A$19:$A$57,Q$19:Q$57))","v":118},0.82517482517482521]
["Total",null,null,{"$f":"SUM(D8:D14)","v":325447},{"$f":"SUM(E8:E14)","v":939},{"$f":"SUM(F8:F14)","v":833},0.88711395101171464,{"$f":"SUM(H8:H14)","v":796},0.8477103301384451,null,{"$f":"SUM(K8:K14)","v":792},0.8434504792332268,null,{"$f":"SUM(N8:N14)","v":794},0.84558040468583595,null,{"$f":"SUM(Q8:Q14)","v":799},0.85090521831735888]
["Minimum and Maximum %",null,null,null,null,"Min","Max","Min","Max",null,"Min","Max",null,"Min","Max",null,"Min","Max"]
[null,null,null,null,null,{"$f":"SMALL(G19:G51,COUNTIF(G19:G51,0)+1)","v":0.75},{"$f":"MAX(G19:G51)","v":1},{"$f":"SMALL(I19:I51,COUNTIF(I19:I51,0)+1)","v":0.66666666666666663},{"$f":"MAX(I19:I51)","v":1},null,{"$f":"SMALL(L19:L51,COUNTIF(L19:L51,0)+1)","v":0.6},{"$f":"MAX(L19:L51)","v":1},null,{"$f":"SMALL(O19:O51,COUNTIF(O19:O51,0)+1)","v":0.66666666666666663},{"$f":"MAX(O19:O51)","v":1},null,{"$f":"SMALL(R19:R51,COUNTIF(R19:R51,0)+1)","v":0.6},{"$f":"MAX(R19:R51)","v":0.98113207547169812}]
["Practices","* SystmOne Practices - No Data"]
[{"$f":"VLOOKUP(C19,'Control Panel'!$G$132:$K$171,5,FALSE)","v":"WF-1"},{"$f":"VLOOKUP(C19,'Control Panel'!$A$85:$F$124,2,FALSE)","v":"Kings Head Medical Practice"},"F86700",{"$f":"SUMIFS(OFFSET(REL_D,,MATCH($D$5,IND,0)-1),REL_D,$C$5,OrgID,$C19)","v":3845},{"$f":"SUMIFS(OFFSET(REL_D,,MATCH($E$5,IND,0)-1),REL_D,$C$5,OrgID,$C19)","v":11},{"$f":"SUMIFS(OFFSET(REL_D,,MATCH($F$5,IND,0)-1),REL_D,$C$5,OrgID,$C19)","v":9},{"$f":"IF(OR(ISTEXT($E19),$E19=0),\"N/A\",F19/$E19)","v":0.81818181818181823},{"$f":"SUMIFS(OFFSET(REL_D,,MATCH($H$5,IND,0)-1),REL_D,$C$5,OrgID,$C19)","v":8},{"$f":"IF(OR(ISTEXT($E19),$E19=0),\"N/A\",H19/$E19)","v":0.72727272727272729},{"$f":"IFERROR(ROUNDUP(IF($E19*0.95-H19>=0,$E19*0.95-H19,\"\"),0),\"\")","v":3},{"$f":"SUMIFS(OFFSET(REL_D,,MATCH($K$5,IND,0)-1),REL_D,$C$5,OrgID,$C19)","v":8},{"$f":"IF(OR(ISTEXT($E19),$E19=0),\"N/A\",K19/$E19)","v":0.72727272727272729},{"$f":"IFERROR(ROUNDUP(IF($E19*0.95-K19>=0,$E19*0.95-K19,\"\"),0),\"\")","v":3},{"$f":"SUMIFS(OFFSET(REL_D,,MATCH($N$5,IND,0)-1),REL_D,$C$5,OrgID,$C19)","v":8},{"$f":"IF(OR(ISTEXT($E19),$E19=0),\"N/A\",N19/$E19)","v":0.72727272727272729},{"$f":"IFERROR(ROUNDUP(IF($E19*0.95-N19>=0,$E19*0.95-N19,\"\"),0),\"\")","v":3},{"$f":"SUMIFS(OFFSET(REL_D,,MATCH($Q$5,IND,0)-1),REL_D,$C$5,OrgID,$C19)","v":8},{"$f":"IF(OR(ISTEXT($E19),$E19=0),\"N/A\",Q19/$E19)","v":0.72727272727272729}]
[{"$f":"VLOOKUP(C20,'Control Panel'!$G$132:$K$171,5,FALSE)","v":"WF-1"},{"$f":"VLOOKUP(C20,'Control Panel'!$A$85:$F$124,2,FALSE)","v":"Larkshall Medical Centre"},"F86664",8579,34,32,{"$f":"IF(OR(ISTEXT($E20),$E20=0),\"N/A\",F20/$E20)","v":0.94117647058823528},30,{"$f":"IF(OR(ISTEXT($E20),$E20=0),\"N/A\",H20/$E20)","v":0.88235294117647056},{"$f":"IFERROR(ROUNDUP(IF($E20*0.95-H20>=0,$E20*0.95-H20,\"\"),0),\"\")","v":3},30,{"$f":"IF(OR(ISTEXT($E20),$E20=0),\"N/A\",K20/$E20)","v":0.88235294117647056},{"$f":"IFERROR(ROUNDUP(IF($E20*0.95-K20>=0,$E20*0.95-K20,\"\"),0),\"\")","v":3},{"$f":"SUMIFS(OFFSET(REL_D,,MATCH($N$5,IND,0)-1),REL_D,$C$5,OrgID,$C20)","v":30},{"$f":"IF(OR(ISTEXT($E20),$E20=0),\"N/A\",N20/$E20)","v":0.88235294117647056},{"$f":"IFERROR(ROUNDUP(IF($E20*0.95-N20>=0,$E20*0.95-N20,\"\"),0),\"\")","v":3},30,{"$f":"IF(OR(ISTEXT($E20),$E20=0),\"N/A\",Q20/$E20)","v":0.88235294117647056}]
[{"$f":"VLOOKUP(C21,'Control Panel'!$G$132:$K$171,5,FALSE)","v":"WF-1"},{"$f":"VLOOKUP(C21,'Control Panel'!$A$85:$F$124,2,FALSE)","v":"The Microfaculty*"},"F86638",4981,18,14,0.77777777777777779,12,0.66666666666666663,6,13,0.72222222222222221,5,{"$f":"SUMIFS(OFFSET(REL_D,,MATCH($N$5,IND,0)-1),REL_D,$C$5,OrgID,$C21)","v":12},0.66666666666666663,6,14,0.77777777777777779]
[{"$f":"VLOOKUP(C22,'Control Panel'!$G$132:$K$171,5,FALSE)","v":"WF-1"},{"$f":"VLOOKUP(C22,'Control Panel'!$A$85:$F$124,2,FALSE)","v":" The Penryhn Surgery"},"F86005",9530,39,38,0.97435897435897434,38,0.97435897435897434,"",38,0.97435897435897434,"",{"$f":"SUMIFS(OFFSET(REL_D,,MATCH($N$5,IND,0)-1),REL_D,$C$5,OrgID,$C22)","v":37},0.94871794871794868,1,37,0.94871794871794868]
[{"$f":"VLOOKUP(C23,'Control Panel'!$G$132:$K$171,5,FALSE)","v":"WF-1"},{"$f":"VLOOKUP(C23,'Control Panel'!$A$85:$F$124,2,FALSE)","v":"Dr Shantir Practice"},"F86626",7441,25,22,0.88,22,0.88,2,20,0.8,4,{"$f":"SUMIFS(OFFSET(REL_D,,MATCH($N$5,IND,0)-1),REL_D,$C$5,OrgID,$C23)","v":21},0.84,3,23,0.92]
[{"$f":"VLOOKUP(C24,'Control Panel'!$G$132:$K$171,5,FALSE)","v":"WF-1"},{"$f":"VLOOKUP(C24,'Control Panel'!$A$85:$F$124,2,FALSE)","v":"Lime Tree & Sinnott Healthcare Ltd"},"Y01839",6601,20,19,0.95,19,0.95,0,19,0.95,0,{"$f":"SUMIFS(OFFSET(REL_D,,MATCH($N$5,IND,0)-1),REL_D,$C$5,OrgID,$C24)","v":19},0.95,0,19,0.95]
[{"$f":"VLOOKUP(C25,'Control Panel'!$G$132:$K$171,5,FALSE)","v":"WF-1"},{"$f":"VLOOKUP(C25,'Control Panel'!$A$85:$F$124,2,FALSE)","v":"The Bailey Practice"},"F86689",4367,21,19,0.90476190476190477,21,1,"",21,1,"",{"$f":"SUMIFS(OFFSET(REL_D,,MATCH($N$5,IND,0)-1),REL_D,$C$5,OrgID,$C25)","v":21},1,"",20,0.95238095238095233]
[{"$f":"VLOOKUP(C26,'Control Panel'!$G$132:$K$171,5,FALSE)","v":"WF-1"},{"$f":"VLOOKUP(C26,'Control Panel'!$A$85:$F$124,2,FALSE)","v":"Forest Surgery*"},"F86026",7118,18,16,0.88888888888888884,15,0.83333333333333337,3,14,0.77777777777777779,4,{"$f":"SUMIFS(OFFSET(REL_D,,MATCH($N$5,IND,0)-1),REL_D,$C$5,OrgID,$C26)","v":14},0.77777777777777779,4,16,0.88888888888888884]
[{"$f":"VLOOKUP(C27,'Control Panel'!$G$132:$K$171,5,FALSE)","v":"WF-2"},{"$f":"VLOOKUP(C27,'Control Panel'!$A$85:$F$124,2,FALSE)","v":"Handsworth Medical Centre*"},"F86004",16038,53,52,0.98113207547169812,48,0.90566037735849059,3,50,0.94339622641509435,1,{"$f":"SUMIFS(OFFSET(REL_D,,MATCH($N$5,IND,0)-1),REL_D,$C$5,OrgID,$C27)","v":50},0.94339622641509435,1,52,0.98113207547169812]
[{"$f":"VLOOKUP(C28,'Control Panel'!$G$132:$K$171,5,FALSE)","v":"WF-2"},{"$f":"VLOOKUP(C28,'Control Panel'!$A$85:$F$124,2,FALSE)","v":"Chingford Medical Practice"},"Y01291",9699,27,25,0.92592592592592593,24,0.88888888888888884,2,24,0.88888888888888884,2,{"$f":"SUMIFS(OFFSET(REL_D,,MATCH($N$5,IND,0)-1),REL_D,$C$5,OrgID,$C28)","v":24},0.88888888888888884,2,24,0.88888888888888884]
[{"$f":"VLOOKUP(C29,'Control Panel'!$G$132:$K$171,5,FALSE)","v":"WF-2"},{"$f":"VLOOKUP(C29,'Control Panel'!$A$85:$F$124,2,FALSE)","v":"Churchill Medical Centre"},"F86627",13171,29,26,0.89655172413793105,22,0.75862068965517238,6,21,0.72413793103448276,7,{"$f":"SUMIFS(OFFSET(REL_D,,MATCH($N$5,IND,0)-1),REL_D,$C$5,OrgID,$C29)","v":20},0.68965517241379315,8,21,0.72413793103448276]
[{"$f":"VLOOKUP(C30,'Control Panel'!$G$132:$K$171,5,FALSE)","v":"WF-2"},{"$f":"VLOOKUP(C30,'Control Panel'!$A$85:$F$124,2,FALSE)","v":"The Ridgeway Surgery"},"F86078",6811,12,12,1,10,0.83333333333333337,2,10,0.83333333333333337,2,{"$f":"SUMIFS(OFFSET(REL_D,,MATCH($N$5,IND,0)-1),REL_D,$C$5,OrgID,$C30)","v":10},0.83333333333333337,2,10,0.83333333333333337]
[{"$f":"VLOOKUP(C31,'Control Panel'!$G$132:$K$171,5,FALSE)","v":"WF-2"},{"$f":"VLOOKUP(C31,'Control Panel'!$A$85:$F$124,2,FALSE)","v":"Old Church Surgery"},"F86616",8351,35,30,0.8571428571428571,26,0.74285714285714288,8,27,0.77142857142857146,7,{"$f":"SUMIFS(OFFSET(REL_D,,MATCH($N$5,IND,0)-1),REL_D,$C$5,OrgID,$C31)","v":27},0.77142857142857146,7,27,0.77142857142857146]
[{"$f":"VLOOKUP(C32,'Control Panel'!$G$132:$K$171,5,FALSE)","v":"WF-3"},{"$f":"VLOOKUP(C32,'Control Panel'!$A$85:$F$124,2,FALSE)","v":"The Manor Practice"},"F86011",9774,25,21,0.84,19,0.76,5,19,0.76,5,{"$f":"SUMIFS(OFFSET(REL_D,,MATCH($N$5,IND,0)-1),REL_D,$C$5,OrgID,$C32)","v":19},0.76,5,19,0.76]
[{"$f":"VLOOKUP(C33,'Control Panel'!$G$132:$K$171,5,FALSE)","v":"WF-3"},{"$f":"VLOOKUP(C33,'Control Panel'!$A$85:$F$124,2,FALSE)","v":"Sma Medical Centre"},"F86038",11059,26,24,{"$f":"IF(OR(ISTEXT($E33),$E33=0),\"N/A\",F33/$E33)","v":0.92307692307692313},26,{"$f":"IF(OR(ISTEXT($E33),$E33=0),\"N/A\",H33/$E33)","v":1},{"$f":"IFERROR(ROUNDUP(IF($E33*0.95-H33>=0,$E33*0.95-H33,\"\"),0),\"\")","v":""},26,{"$f":"IF(OR(ISTEXT($E33),$E33=0),\"N/A\",K33/$E33)","v":1},{"$f":"IFERROR(ROUNDUP(IF($E33*0.95-K33>=0,$E33*0.95-K33,\"\"),0),\"\")","v":""},{"$f":"SUMIFS(OFFSET(REL_D,,MATCH($N$5,IND,0)-1),REL_D,$C$5,OrgID,$C33)","v":26},{"$f":"IF(OR(ISTEXT($E33),$E33=0),\"N/A\",N33/$E33)","v":1},{"$f":"IFERROR(ROUNDUP(IF($E33*0.95-N33>=0,$E33*0.95-N33,\"\"),0),\"\")","v":""},25,{"$f":"IF(OR(ISTEXT($E33),$E33=0),\"N/A\",Q33/$E33)","v":0.96153846153846156}]
[{"$f":"VLOOKUP(C34,'Control Panel'!$G$132:$K$171,5,FALSE)","v":"WF-3"},{"$f":"VLOOKUP(C34,'Control Panel'!$A$85:$F$124,2,FALSE)","v":"Leyton Healthcare (Oliver Road)*"},"F86074",15073,36,32,0.88888888888888884,33,0.91666666666666663,2,31,0.86111111111111116,4,{"$f":"SUMIFS(OFFSET(REL_D,,MATCH($N$5,IND,0)-1),REL_D,$C$5,OrgID,$C34)","v":32},0.88888888888888884,3,32,0.88888888888888884]
[{"$f":"VLOOKUP(C35,'Control Panel'!$G$132:$K$171,5,FALSE)","v":"WF-4"},{"$f":"VLOOKUP(C35,'Control Panel'!$A$85:$F$124,2,FALSE)","v":"The Allum Medical Centre"},"F86036",14350,32,29,0.90625,28,0.875,3,28,0.875,3,{"$f":"SUMIFS(OFFSET(REL_D,,MATCH($N$5,IND,0)-1),REL_D,$C$5,OrgID,$C35)","v":28},0.875,3,28,0.875]
[{"$f":"VLOOKUP(C36,'Control Panel'!$G$132:$K$171,5,FALSE)","v":"WF-4"},{"$f":"VLOOKUP(C36,'Control Panel'!$A$85:$F$124,2,FALSE)","v":" Crawley Road Medical Centre"},"F86044",10497,30,26,0.8666666666666667,27,0.9,2,27,0.9,2,{"$f":"SUMIFS(OFFSET(REL_D,,MATCH($N$5,IND,0)-1),REL_D,$C$5,OrgID,$C36)","v":27},0.9,2,26,0.8666666666666667]
[{"$f":"VLOOKUP(C37,'Control Panel'!$G$132:$K$171,5,FALSE)","v":"WF-4"},{"$f":"VLOOKUP(C37,'Control Panel'!$A$85:$F$124,2,FALSE)","v":"Francis Road Medical Centre"},"F86696",7132,21,19,0.90476190476190477,17,0.80952380952380953,3,17,0.80952380952380953,3,{"$f":"SUMIFS(OFFSET(REL_D,,MATCH($N$5,IND,0)-1),REL_D,$C$5,OrgID,$C37)","v":17},0.80952380952380953,3,17,0.80952380952380953]
[{"$f":"VLOOKUP(C38,'Control Panel'!$G$132:$K$171,5,FALSE)","v":"WF-4"},{"$f":"VLOOKUP(C38,'Control Panel'!$A$85:$F$124,2,FALSE)","v":"Hampton Medical Centre"},"F86712",3433,8,6,0.75,6,0.75,2,6,0.75,2,{"$f":"SUMIFS(OFFSET(REL_D,,MATCH($N$5,IND,0)-1),REL_D,$C$5,OrgID,$C38)","v":6},0.75,2,6,0.75]
[{"$f":"VLOOKUP(C39,'Control Panel'!$G$132:$K$171,5,FALSE)","v":"WF-4"},{"$f":"VLOOKUP(C39,'Control Panel'!$A$85:$F$124,2,FALSE)","v":"Lime Tree Surgery"},"F86650",7953,20,17,0.85,16,0.8,3,16,0.8,3,{"$f":"SUMIFS(OFFSET(REL_D,,MATCH($N$5,IND,0)-1),REL_D,$C$5,OrgID,$C39)","v":16},0.8,3,16,0.8]
[{"$f":"VLOOKUP(C40,'Control Panel'!$G$132:$K$171,5,FALSE)","v":"WF-4"},{"$f":"VLOOKUP(C40,'Control Panel'!$A$85:$F$124,2,FALSE)","v":"The Lyndhurst Surgery"},"F86088",5098,11,9,0.81818181818181823,9,0.81818181818181823,2,9,0.81818181818181823,2,{"$f":"SUMIFS(OFFSET(REL_D,,MATCH($N$5,IND,0)-1),REL_D,$C$5,OrgID,$C40)","v":9},0.81818181818181823,2,9,0.81818181818181823]
[{"$f":"VLOOKUP(C41,'Control Panel'!$G$132:$K$171,5,FALSE)","v":"WF-4"},{"$f":"VLOOKUP(C41,'Control Panel'!$A$85:$F$124,2,FALSE)","v":"The Ecclesbourne Practice*"},"F86018",9800,16,15,0.9375,13,0.8125,3,14,0.875,2,{"$f":"SUMIFS(OFFSET(REL_D,,MATCH($N$5,IND,0)-1),REL_D,$C$5,OrgID,$C41)","v":13},0.8125,3,15,0.9375]
[{"$f":"VLOOKUP(C42,'Control Panel'!$G$132:$K$171,5,FALSE)","v":"WF-5"},{"$f":"VLOOKUP(C42,'Control Panel'!$A$85:$F$124,2,FALSE)","v":"Green Man Medical Centre"},"F86621",6805,25,21,0.84,19,0.76,5,19,0.76,5,{"$f":"SUMIFS(OFFSET(REL_D,,MATCH($N$5,IND,0)-1),REL_D,$C$5,OrgID,$C42)","v":20},0.8,4,18,0.72]
[{"$f":"VLOOKUP(C43,'Control Panel'!$G$132:$K$171,5,FALSE)","v":"WF-5"},{"$f":"VLOOKUP(C43,'Control Panel'!$A$85:$F$124,2,FALSE)","v":"High Road Surgery"},"F86045",2032,6,6,1,5,0.83333333333333337,1,5,0.83333333333333337,1,{"$f":"SUMIFS(OFFSET(REL_D,,MATCH($N$5,IND,0)-1),REL_D,$C$5,OrgID,$C43)","v":5},0.83333333333333337,1,5,0.83333333333333337]
[{"$f":"VLOOKUP(C44,'Control Panel'!$G$132:$K$171,5,FALSE)","v":"WF-5"},{"$f":"VLOOKUP(C44,'Control Panel'!$A$85:$F$124,2,FALSE)","v":"Kiyani Medical Practice"},"F86701",4010,11,10,0.90909090909090906,8,0.72727272727272729,3,8,0.72727272727272729,3,{"$f":"SUMIFS(OFFSET(REL_D,,MATCH($N$5,IND,0)-1),REL_D,$C$5,OrgID,$C44)","v":9},0.81818181818181823,2,9,0.81818181818181823]
[{"$f":"VLOOKUP(C45,'Control Panel'!$G$132:$K$171,5,FALSE)","v":"WF-5"},{"$f":"VLOOKUP(C45,'Control Panel'!$A$85:$F$124,2,FALSE)","v":"LL Medical Care (Agarwal & Agrwal Practice)"},"F86625",5726,9,7,0.77777777777777779,7,0.77777777777777779,2,7,0.77777777777777779,2,{"$f":"SUMIFS(OFFSET(REL_D,,MATCH($N$5,IND,0)-1),REL_D,$C$5,OrgID,$C45)","v":7},0.77777777777777779,2,7,0.77777777777777779]
[{"$f":"VLOOKUP(C46,'Control Panel'!$G$132:$K$171,5,FALSE)","v":"WF-5"},{"$f":"VLOOKUP(C46,'Control Panel'!$A$85:$F$124,2,FALSE)","v":"The Harrow Road Surgery"},"F86666",14945,50,43,0.86,41,0.82,7,39,0.78,9,{"$f":"SUMIFS(OFFSET(REL_D,,MATCH($N$5,IND,0)-1),REL_D,$C$5,OrgID,$C46)","v":40},0.8,8,40,0.8]
[{"$f":"VLOOKUP(C47,'Control Panel'!$G$132:$K$171,5,FALSE)","v":"WF-5"},{"$f":"VLOOKUP(C47,'Control Panel'!$A$85:$F$124,2,FALSE)","v":"The Langthorne Sharma Family Practice"},"F86705",3447,5,5,1,5,1,"",3,0.6,2,{"$f":"SUMIFS(OFFSET(REL_D,,MATCH($N$5,IND,0)-1),REL_D,$C$5,OrgID,$C47)","v":4},0.8,1,3,0.6]
[{"$f":"VLOOKUP(C48,'Control Panel'!$G$132:$K$171,5,FALSE)","v":"WF-6"},{"$f":"VLOOKUP(C48,'Control Panel'!$A$85:$F$124,2,FALSE)","v":"Addison Road Medical Practice"},"F86607",16152,50,39,0.78,44,0.88,4,44,0.88,4,{"$f":"SUMIFS(OFFSET(REL_D,,MATCH($N$5,IND,0)-1),REL_D,$C$5,OrgID,$C48)","v":44},0.88,4,45,0.9]
[{"$f":"VLOOKUP(C49,'Control Panel'!$G$132:$K$171,5,FALSE)","v":"WF-6"},{"$f":"VLOOKUP(C49,'Control Panel'!$A$85:$F$124,2,FALSE)","v":"Claremont Medical Centre"},"F86708",2843,7,6,0.8571428571428571,6,0.8571428571428571,1,5,0.7142857142857143,2,{"$f":"SUMIFS(OFFSET(REL_D,,MATCH($N$5,IND,0)-1),REL_D,$C$5,OrgID,$C49)","v":6},0.8571428571428571,1,5,0.7142857142857143]
[{"$f":"VLOOKUP(C50,'Control Panel'!$G$132:$K$171,5,FALSE)","v":"WF-6"},{"$f":"VLOOKUP(C50,'Control Panel'!$A$85:$F$124,2,FALSE)","v":" The Firs"},"F86001",8444,17,15,0.88235294117647056,13,0.76470588235294112,4,13,0.76470588235294112,4,{"$f":"SUMIFS(OFFSET(REL_D,,MATCH($N$5,IND,0)-1),REL_D,$C$5,OrgID,$C50)","v":13},0.76470588235294112,4,14,0.82352941176470584]
[{"$f":"VLOOKUP(C51,'Control Panel'!$G$132:$K$171,5,FALSE)","v":"WF-6"},{"$f":"VLOOKUP(C51,'Control Panel'!$A$85:$F$124,2,FALSE)","v":"Dr Dhital Practice"},"F86086",6398,27,22,0.81481481481481477,20,0.7407407407407407,6,20,0.7407407407407407,6,{"$f":"SUMIFS(OFFSET(REL_D,,MATCH($N$5,IND,0)-1),REL_D,$C$5,OrgID,$C51)","v":20},0.7407407407407407,6,20,0.7407407407407407]
[{"$f":"VLOOKUP(C52,'Control Panel'!$G$132:$K$171,5,FALSE)","v":"WF-6"},{"$f":"VLOOKUP(C52,'Control Panel'!$A$85:$F$124,2,FALSE)","v":"Waltham Forest Community & Family Health Services Ltd"},"F86644",9083,22,21,0.95454545454545459,19,0.86363636363636365,2,21,0.95454545454545459,"",{"$f":"SUMIFS(OFFSET(REL_D,,MATCH($N$5,IND,0)-1),REL_D,$C$5,OrgID,$C52)","v":21},0.95454545454545459,"",21,0.95454545454545459]
[{"$f":"VLOOKUP(C53,'Control Panel'!$G$132:$K$171,5,FALSE)","v":"WF-7"},{"$f":"VLOOKUP(C53,'Control Panel'!$A$85:$F$124,2,FALSE)","v":"Seymour Medical centre "},"F86006",7082,22,21,0.95454545454545459,21,0.95454545454545459,"",20,0.90909090909090906,1,{"$f":"SUMIFS(OFFSET(REL_D,,MATCH($N$5,IND,0)-1),REL_D,$C$5,OrgID,$C53)","v":19},0.86363636363636365,2,20,0.90909090909090906]
[{"$f":"VLOOKUP(C54,'Control Panel'!$G$132:$K$171,5,FALSE)","v":"WF-7"},{"$f":"VLOOKUP(C54,'Control Panel'!$A$85:$F$124,2,FALSE)","v":" Queens Road Medical Centre"},"F86030",8280,24,19,0.79166666666666663,21,0.875,2,21,0.875,2,{"$f":"SUMIFS(OFFSET(REL_D,,MATCH($N$5,IND,0)-1),REL_D,$C$5,OrgID,$C54)","v":19},0.79166666666666663,4,19,0.79166666666666663]
[{"$f":"VLOOKUP(C55,'Control Panel'!$G$132:$K$171,5,FALSE)","v":"WF-7"},{"$f":"VLOOKUP(C55,'Control Panel'!$A$85:$F$124,2,FALSE)","v":"The Grove Road Medical Centre "},"F86062",7220,6,5,0.83333333333333337,4,0.66666666666666663,2,4,0.66666666666666663,2,{"$f":"SUMIFS(OFFSET(REL_D,,MATCH($N$5,IND,0)-1),REL_D,$C$5,OrgID,$C55)","v":4},0.66666666666666663,2,4,0.66666666666666663]
[{"$f":"VLOOKUP(C56,'Control Panel'!$G$132:$K$171,5,FALSE)","v":"WF-7"},{"$f":"VLOOKUP(C56,'Control Panel'!$A$85:$F$124,2,FALSE)","v":"Higham Hill Medical Centre"},"F86679",6412,30,27,0.9,23,0.76666666666666672,6,23,0.76666666666666672,6,{"$f":"SUMIFS(OFFSET(REL_D,,MATCH($N$5,IND,0)-1),REL_D,$C$5,OrgID,$C56)","v":23},0.76666666666666672,6,23,0.76666666666666672]
[{"$f":"VLOOKUP(C57,'Control Panel'!$G$132:$K$171,5,FALSE)","v":"WF-7"},{"$f":"VLOOKUP(C57,'Control Panel'!$A$85:$F$124,2,FALSE)","v":"St James Medical Practice Ltd"},"F86058",15867,61,54,0.88524590163934425,51,0.83606557377049184,7,52,0.85245901639344257,6,{"$f":"SUMIFS(OFFSET(REL_D,,MATCH($N$5,IND,0)-1),REL_D,$C$5,OrgID,$C57)","v":54},0.88524590163934425,4,52,0.85245901639344257]

{"sheet":"Patients becoming 5y","index":4,"n_rows":57,"n_cols":17,"rows_kept":57,"cut":false,"hidden":false,"merged":[[15,0,16,2],[15,4,16,4]]}
[]
[null,null,null,"Waltham Forest Childhood Immunisations Dashboard: Metric Details"]
[null,{"$f":"VLOOKUP(C5,'Control Panel'!Y49:Z60,2,FALSE)","v":{"$error":"#N/A"}},null,"Patients becoming 5y",null,{"$f":"E15","v":867}]
[null,"2020-02-01"]
[null,null,"March 2023","All Patients","(03) 5 YEAR COHORT","(03.01) DTaP/IPV/Hib or DTaP/IPV/Hib/HepB","DTaP/IPV/Hib(%)","(03.02) MMR (Primary)","MMR (Primary)(%)","(03.03) DTaP/IPV (Booster)","DTaP/IPV (Booster)(%)","Patients required to achieve NHSE Target (90%)","(03.05) MMR (Booster)","MMR (Booster)(%)","Patients required to achieve NHSE Target (90%)","(03.04) HiB/Men C","HiB/Men C(%)"]
[null,"Home",null,"Listsize ","Patients becoming 5y","DTaP/IPV/Hib/HepB","DTaP/IPV/Hib/HepB(%)","MMR (Primary)","MMR (Primary)(%)","DTaP/IPV (Booster)","DTaP/IPV (Booster)(%)","Patients required to achieve 95%","MMR (Booster)","MMR (Booster)(%)","Patients required to achieve 95%","HiB/Men C","HiB/Men C(%)"]
["Cluster"]
["WF-1","Chingford/ Walthamstow",null,{"$f":"SUM(IF($A8=$A$19:$A$57,D$19:D$57))","v":52462},{"$f":"SUM(IF($A8=$A$19:$A$57,E$19:E$57))","v":158},{"$f":"SUM(IF($A8=$A$19:$A$57,F$19:F$57))","v":142},{"$f":"IF(OR(ISTEXT($E8),$E8=0),\"N/A\",F8/$E8)","v":0.89873417721518989},{"$f":"SUM(IF($A8=$A$19:$A$57,H$19:H$57))","v":140},{"$f":"IF(OR(ISTEXT($E8),$E8=0),\"N/A\",H8/$E8)","v":0.88607594936708856},{"$f":"SUM(IF($A8=$A$19:$A$57,J$19:J$57))","v":128},{"$f":"IF(OR(ISTEXT($E8),$E8=0),\"N/A\",J8/$E8)","v":0.810126582278481},null,{"$f":"SUM(IF($A8=$A$19:$A$57,M$19:M$57))","v":128},{"$f":"IF(OR(ISTEXT($E8),$E8=0),\"N/A\",M8/$E8)","v":0.810126582278481},null,{"$f":"SUM(IF($A8=$A$19:$A$57,P$19:P$57))","v":139},{"$f":"IF(OR(ISTEXT($E8),$E8=0),\"N/A\",P8/$E8)","v":0.879746835443038}]
["WF-2","Chingford E4",null,{"$f":"SUM(IF($A9=$A$19:$A$57,D$19:D$57))","v":54070},{"$f":"SUM(IF($A9=$A$19:$A$57,E$19:E$57))","v":155},{"$f":"SUM(IF($A9=$A$19:$A$57,F$19:F$57))","v":143},{"$f":"IF(OR(ISTEXT($E9),$E9=0),\"N/A\",F9/$E9)","v":0.92258064516129035},{"$f":"SUM(IF($A9=$A$19:$A$57,H$19:H$57))","v":143},{"$f":"IF(OR(ISTEXT($E9),$E9=0),\"N/A\",H9/$E9)","v":0.92258064516129035},{"$f":"SUM(IF($A9=$A$19:$A$57,J$19:J$57))","v":131},{"$f":"IF(OR(ISTEXT($E9),$E9=0),\"N/A\",J9/$E9)","v":0.84516129032258069},null,{"$f":"SUM(IF($A9=$A$19:$A$57,M$19:M$57))","v":134},{"$f":"IF(OR(ISTEXT($E9),$E9=0),\"N/A\",M9/$E9)","v":0.86451612903225805},null,{"$f":"SUM(IF($A9=$A$19:$A$57,P$19:P$57))","v":138},{"$f":"IF(OR(ISTEXT($E9),$E9=0),\"N/A\",P9/$E9)","v":0.89032258064516134}]
["WF-3","Leyton Collaborative",null,{"$f":"SUM(IF($A10=$A$19:$A$57,D$19:D$57))","v":35906},{"$f":"SUM(IF($A10=$A$19:$A$57,E$19:E$57))","v":100},{"$f":"SUM(IF($A10=$A$19:$A$57,F$19:F$57))","v":83},0.83,{"$f":"SUM(IF($A10=$A$19:$A$57,H$19:H$57))","v":89},0.89,{"$f":"SUM(IF($A10=$A$19:$A$57,J$19:J$57))","v":80},0.8,null,{"$f":"SUM(IF($A10=$A$19:$A$57,M$19:M$57))","v":78},0.78,null,{"$f":"SUM(IF($A10=$A$19:$A$57,P$19:P$57))","v":87},0.87]
["WF-4","Forest Integrated Health",null,{"$f":"SUM(IF($A11=$A$19:$A$57,D$19:D$57))","v":58263},{"$f":"SUM(IF($A11=$A$19:$A$57,E$19:E$57))","v":154},{"$f":"SUM(IF($A11=$A$19:$A$57,F$19:F$57))","v":129},0.83766233766233766,{"$f":"SUM(IF($A11=$A$19:$A$57,H$19:H$57))","v":131},0.85064935064935066,{"$f":"SUM(IF($A11=$A$19:$A$57,J$19:J$57))","v":110},0.7142857142857143,null,{"$f":"SUM(IF($A11=$A$19:$A$57,M$19:M$57))","v":111},0.72077922077922074,null,{"$f":"SUM(IF($A11=$A$19:$A$57,P$19:P$57))","v":126},0.81818181818181823]
["WF-5","South Leytonstone",null,{"$f":"SUM(IF($A12=$A$19:$A$57,D$19:D$57))","v":36965},{"$f":"SUM(IF($A12=$A$19:$A$57,E$19:E$57))","v":83},{"$f":"SUM(IF($A12=$A$19:$A$57,F$19:F$57))","v":72},0.86746987951807231,{"$f":"SUM(IF($A12=$A$19:$A$57,H$19:H$57))","v":71},0.85542168674698793,{"$f":"SUM(IF($A12=$A$19:$A$57,J$19:J$57))","v":63},0.75903614457831325,null,{"$f":"SUM(IF($A12=$A$19:$A$57,M$19:M$57))","v":62},0.74698795180722888,null,{"$f":"SUM(IF($A12=$A$19:$A$57,P$19:P$57))","v":71},0.85542168674698793]
["WF-6","Central Walthamstow",null,{"$f":"SUM(IF($A13=$A$19:$A$57,D$19:D$57))","v":42920},{"$f":"SUM(IF($A13=$A$19:$A$57,E$19:E$57))","v":115},{"$f":"SUM(IF($A13=$A$19:$A$57,F$19:F$57))","v":101},0.87826086956521743,{"$f":"SUM(IF($A13=$A$19:$A$57,H$19:H$57))","v":98},0.85217391304347823,{"$f":"SUM(IF($A13=$A$19:$A$57,J$19:J$57))","v":89},0.77391304347826084,null,{"$f":"SUM(IF($A13=$A$19:$A$57,M$19:M$57))","v":88},0.76521739130434785,null,{"$f":"SUM(IF($A13=$A$19:$A$57,P$19:P$57))","v":97},0.84347826086956523]
["WF-7","Walthamstow West",null,{"$f":"SUM(IF($A14=$A$19:$A$57,D$19:D$57))","v":44861},{"$f":"SUM(IF($A14=$A$19:$A$57,E$19:E$57))","v":102},{"$f":"SUM(IF($A14=$A$19:$A$57,F$19:F$57))","v":97},0.9509803921568627,{"$f":"SUM(IF($A14=$A$19:$A$57,H$19:H$57))","v":95},0.93137254901960786,{"$f":"SUM(IF($A14=$A$19:$A$57,J$19:J$57))","v":85},0.83333333333333337,null,{"$f":"SUM(IF($A14=$A$19:$A$57,M$19:M$57))","v":88},0.86274509803921573,null,{"$f":"SUM(IF($A14=$A$19:$A$57,P$19:P$57))","v":93},0.91176470588235292]
["Total",null,null,{"$f":"SUM(D8:D14)","v":325447},{"$f":"SUM(E8:E14)","v":867},{"$f":"SUM(F8:F14)","v":767},0.88465974625144173,{"$f":"SUM(H8:H14)","v":767},0.88465974625144173,{"$f":"SUM(J8:J14)","v":686},0.79123414071510956,null,{"$f":"SUM(M8:M14)","v":689},0.79469434832756636,null,{"$f":"SUM(P8:P14)","v":751},0.86620530565167242]
["Minimum and Maximum %",null,null,null,null,"Min","Max","Min","Max","Min","Max",null,"Min","Max",null,"Min","Max"]
[null,null,null,null,null,{"$f":"SMALL(G19:G51,COUNTIF(G19:G51,0)+1)","v":0.70588235294117652},{"$f":"MAX(G19:G51)","v":1},{"$f":"SMALL(I19:I51,COUNTIF(I19:I51,0)+1)","v":0.58823529411764708},{"$f":"MAX(I19:I51)","v":1},{"$f":"SMALL(K19:K51,COUNTIF(K19:K51,0)+1)","v":0.5757575757575758},{"$f":"MAX(K19:K51)","v":1},null,{"$f":"SMALL(N19:N51,COUNTIF(N19:N51,0)+1)","v":0.58823529411764708},{"$f":"MAX(N19:N51)","v":1},null,{"$f":"SMALL(Q19:Q51,COUNTIF(Q19:Q51,0)+1)","v":0.58823529411764708},{"$f":"MAX(Q19:Q51)","v":1}]
["Practices","* SystmOne Practices - No Data"]
[{"$f":"VLOOKUP(C19,'Control Panel'!$G$132:$K$171,5,FALSE)","v":"WF-1"},{"$f":"VLOOKUP(C19,'Control Panel'!$A$85:$F$124,2,FALSE)","v":"Kings Head Medical Practice"},"F86700",{"$f":"SUMIFS(OFFSET(REL_D,,MATCH($D$5,IND,0)-1),REL_D,$C$5,OrgID,$C19)","v":3845},{"$f":"SUMIFS(OFFSET(REL_D,,MATCH($E$5,IND,0)-1),REL_D,$C$5,OrgID,$C19)","v":10},{"$f":"SUMIFS(OFFSET(REL_D,,MATCH($F$5,IND,0)-1),REL_D,$C$5,OrgID,$C19)","v":9},{"$f":"IF(OR(ISTEXT($E19),$E19=0),\"N/A\",F19/$E19)","v":0.9},{"$f":"SUMIFS(OFFSET(REL_D,,MATCH($H$5,IND,0)-1),REL_D,$C$5,OrgID,$C19)","v":9},{"$f":"IF(OR(ISTEXT($E19),$E19=0),\"N/A\",H19/$E19)","v":0.9},{"$f":"SUMIFS(OFFSET(REL_D,,MATCH($J$5,IND,0)-1),REL_D,$C$5,OrgID,$C19)","v":9},{"$f":"IF(OR(ISTEXT($E19),$E19=0),\"N/A\",J19/$E19)","v":0.9},{"$f":"IFERROR(ROUNDUP(IF($E19*0.95-J19>=0,$E19*0.95-J19,\"\"),0),\"\")","v":1},{"$f":"SUMIFS(OFFSET(REL_D,,MATCH($M$5,IND,0)-1),REL_D,$C$5,OrgID,$C19)","v":9},{"$f":"IF(OR(ISTEXT($E19),$E19=0),\"N/A\",M19/$E19)","v":0.9},{"$f":"IFERROR(ROUNDUP(IF($E19*0.95-M19>=0,$E19*0.95-M19,\"\"),0),\"\")","v":1},{"$f":"SUMIFS(OFFSET(REL_D,,MATCH($P$5,IND,0)-1),REL_D,$C$5,OrgID,$C19)","v":9},{"$f":"IF(OR(ISTEXT($E19),$E19=0),\"N/A\",P19/$E19)","v":0.9}]
[{"$f":"VLOOKUP(C20,'Control Panel'!$G$132:$K$171,5,FALSE)","v":"WF-1"},{"$f":"VLOOKUP(C20,'Control Panel'!$A$85:$F$124,2,FALSE)","v":"Larkshall Medical Centre"},"F86664",8579,18,16,{"$f":"IF(OR(ISTEXT($E20),$E20=0),\"N/A\",F20/$E20)","v":0.88888888888888884},15,{"$f":"IF(OR(ISTEXT($E20),$E20=0),\"N/A\",H20/$E20)","v":0.83333333333333337},13,{"$f":"IF(OR(ISTEXT($E20),$E20=0),\"N/A\",J20/$E20)","v":0.72222222222222221},{"$f":"IFERROR(ROUNDUP(IF($E20*0.95-J20>=0,$E20*0.95-J20,\"\"),0),\"\")","v":5},{"$f":"SUMIFS(OFFSET(REL_D,,MATCH($M$5,IND,0)-1),REL_D,$C$5,OrgID,$C20)","v":13},{"$f":"IF(OR(ISTEXT($E20),$E20=0),\"N/A\",M20/$E20)","v":0.72222222222222221},{"$f":"IFERROR(ROUNDUP(IF($E20*0.95-M20>=0,$E20*0.95-M20,\"\"),0),\"\")","v":5},15,{"$f":"IF(OR(ISTEXT($E20),$E20=0),\"N/A\",P20/$E20)","v":0.83333333333333337}]
[{"$f":"VLOOKUP(C21,'Control Panel'!$G$132:$K$171,5,FALSE)","v":"WF-1"},{"$f":"VLOOKUP(C21,'Control Panel'!$A$85:$F$124,2,FALSE)","v":"The Microfaculty*"},"F86638",4981,18,16,0.88888888888888884,15,0.83333333333333337,13,0.72222222222222221,5,{"$f":"SUMIFS(OFFSET(REL_D,,MATCH($M$5,IND,0)-1),REL_D,$C$5,OrgID,$C21)","v":13},0.72222222222222221,5,15,0.83333333333333337]
[{"$f":"VLOOKUP(C22,'Control Panel'!$G$132:$K$171,5,FALSE)","v":"WF-1"},{"$f":"VLOOKUP(C22,'Control Panel'!$A$85:$F$124,2,FALSE)","v":" The Penryhn Surgery"},"F86005",9530,34,32,0.94117647058823528,31,0.91176470588235292,28,{"$f":"IF(OR(ISTEXT($E22),$E22=0),\"N/A\",J22/$E22)","v":0.82352941176470584},5,{"$f":"SUMIFS(OFFSET(REL_D,,MATCH($M$5,IND,0)-1),REL_D,$C$5,OrgID,$C22)","v":28},0.82352941176470584,5,30,0.88235294117647056]
[{"$f":"VLOOKUP(C23,'Control Panel'!$G$132:$K$171,5,FALSE)","v":"WF-1"},{"$f":"VLOOKUP(C23,'Control Panel'!$A$85:$F$124,2,FALSE)","v":"Dr Shantir Practice"},"F86626",7441,20,18,0.9,18,0.9,18,0.9,1,{"$f":"SUMIFS(OFFSET(REL_D,,MATCH($M$5,IND,0)-1),REL_D,$C$5,OrgID,$C23)","v":18},0.9,1,18,0.9]
[{"$f":"VLOOKUP(C24,'Control Panel'!$G$132:$K$171,5,FALSE)","v":"WF-1"},{"$f":"VLOOKUP(C24,'Control Panel'!$A$85:$F$124,2,FALSE)","v":"Lime Tree & Sinnott Healthcare Ltd"},"Y01839",6601,20,18,0.9,16,0.8,14,0.7,5,{"$f":"SUMIFS(OFFSET(REL_D,,MATCH($M$5,IND,0)-1),REL_D,$C$5,OrgID,$C24)","v":14},0.7,5,16,0.8]
[{"$f":"VLOOKUP(C25,'Control Panel'!$G$132:$K$171,5,FALSE)","v":"WF-1"},{"$f":"VLOOKUP(C25,'Control Panel'!$A$85:$F$124,2,FALSE)","v":"The Bailey Practice"},"F86689",4367,21,21,1,20,0.95238095238095233,19,0.90476190476190477,1,{"$f":"SUMIFS(OFFSET(REL_D,,MATCH($M$5,IND,0)-1),REL_D,$C$5,OrgID,$C25)","v":19},0.90476190476190477,1,20,0.95238095238095233]
[{"$f":"VLOOKUP(C26,'Control Panel'!$G$132:$K$171,5,FALSE)","v":"WF-1"},{"$f":"VLOOKUP(C26,'Control Panel'!$A$85:$F$124,2,FALSE)","v":"Forest Surgery*"},"F86026",7118,17,12,0.70588235294117652,16,0.94117647058823528,14,0.82352941176470584,3,{"$f":"SUMIFS(OFFSET(REL_D,,MATCH($M$5,IND,0)-1),REL_D,$C$5,OrgID,$C26)","v":14},0.82352941176470584,3,16,0.94117647058823528]
[{"$f":"VLOOKUP(C27,'Control Panel'!$G$132:$K$171,5,FALSE)","v":"WF-2"},{"$f":"VLOOKUP(C27,'Control Panel'!$A$85:$F$124,2,FALSE)","v":"Handsworth Medical Centre*"},"F86004",16038,47,44,0.93617021276595747,44,0.93617021276595747,40,0.85106382978723405,5,{"$f":"SUMIFS(OFFSET(REL_D,,MATCH($M$5,IND,0)-1),REL_D,$C$5,OrgID,$C27)","v":42},0.8936170212765957,3,42,0.8936170212765957]
[{"$f":"VLOOKUP(C28,'Control Panel'!$G$132:$K$171,5,FALSE)","v":"WF-2"},{"$f":"VLOOKUP(C28,'Control Panel'!$A$85:$F$124,2,FALSE)","v":"Chingford Medical Practice"},"Y01291",9699,32,29,0.90625,28,0.875,28,0.875,3,{"$f":"SUMIFS(OFFSET(REL_D,,MATCH($M$5,IND,0)-1),REL_D,$C$5,OrgID,$C28)","v":28},0.875,3,27,0.84375]
[{"$f":"VLOOKUP(C29,'Control Panel'!$G$132:$K$171,5,FALSE)","v":"WF-2"},{"$f":"VLOOKUP(C29,'Control Panel'!$A$85:$F$124,2,FALSE)","v":"Churchill Medical Centre"},"F86627",13171,32,30,0.9375,30,0.9375,25,0.78125,6,{"$f":"SUMIFS(OFFSET(REL_D,,MATCH($M$5,IND,0)-1),REL_D,$C$5,OrgID,$C29)","v":26},0.8125,5,29,0.90625]
[{"$f":"VLOOKUP(C30,'Control Panel'!$G$132:$K$171,5,FALSE)","v":"WF-2"},{"$f":"VLOOKUP(C30,'Control Panel'!$A$85:$F$124,2,FALSE)","v":"The Ridgeway Surgery"},"F86078",6811,13,13,1,13,1,12,0.92307692307692313,1,{"$f":"SUMIFS(OFFSET(REL_D,,MATCH($M$5,IND,0)-1),REL_D,$C$5,OrgID,$C30)","v":11},0.84615384615384615,2,13,1]
[{"$f":"VLOOKUP(C31,'Control Panel'!$G$132:$K$171,5,FALSE)","v":"WF-2"},{"$f":"VLOOKUP(C31,'Control Panel'!$A$85:$F$124,2,FALSE)","v":"Old Church Surgery"},"F86616",8351,31,27,0.87096774193548387,28,0.90322580645161288,26,0.83870967741935487,4,{"$f":"SUMIFS(OFFSET(REL_D,,MATCH($M$5,IND,0)-1),REL_D,$C$5,OrgID,$C31)","v":27},0.87096774193548387,3,27,0.87096774193548387]
[{"$f":"VLOOKUP(C32,'Control Panel'!$G$132:$K$171,5,FALSE)","v":"WF-3"},{"$f":"VLOOKUP(C32,'Control Panel'!$A$85:$F$124,2,FALSE)","v":"The Manor Practice"},"F86011",9774,21,20,0.95238095238095233,19,0.90476190476190477,15,0.7142857142857143,5,{"$f":"SUMIFS(OFFSET(REL_D,,MATCH($M$5,IND,0)-1),REL_D,$C$5,OrgID,$C32)","v":15},0.7142857142857143,5,18,0.8571428571428571]
[{"$f":"VLOOKUP(C33,'Control Panel'!$G$132:$K$171,5,FALSE)","v":"WF-3"},{"$f":"VLOOKUP(C33,'Control Panel'!$A$85:$F$124,2,FALSE)","v":"Sma Medical Centre"},"F86038",11059,39,34,{"$f":"IF(OR(ISTEXT($E33),$E33=0),\"N/A\",F33/$E33)","v":0.87179487179487181},34,{"$f":"IF(OR(ISTEXT($E33),$E33=0),\"N/A\",H33/$E33)","v":0.87179487179487181},31,{"$f":"IF(OR(ISTEXT($E33),$E33=0),\"N/A\",J33/$E33)","v":0.79487179487179482},{"$f":"IFERROR(ROUNDUP(IF($E33*0.95-J33>=0,$E33*0.95-J33,\"\"),0),\"\")","v":7},{"$f":"SUMIFS(OFFSET(REL_D,,MATCH($M$5,IND,0)-1),REL_D,$C$5,OrgID,$C33)","v":30},{"$f":"IF(OR(ISTEXT($E33),$E33=0),\"N/A\",M33/$E33)","v":0.76923076923076927},{"$f":"IFERROR(ROUNDUP(IF($E33*0.95-M33>=0,$E33*0.95-M33,\"\"),0),\"\")","v":8},34,{"$f":"IF(OR(ISTEXT($E33),$E33=0),\"N/A\",P33/$E33)","v":0.87179487179487181}]
[{"$f":"VLOOKUP(C34,'Control Panel'!$G$132:$K$171,5,FALSE)","v":"WF-3"},{"$f":"VLOOKUP(C34,'Control Panel'!$A$85:$F$124,2,FALSE)","v":"Leyton Healthcare (Oliver Road)*"},"F86074",15073,40,29,0.72499999999999998,36,0.9,34,0.85,4,{"$f":"SUMIFS(OFFSET(REL_D,,MATCH($M$5,IND,0)-1),REL_D,$C$5,OrgID,$C34)","v":33},0.82499999999999996,5,35,0.875]
[{"$f":"VLOOKUP(C35,'Control Panel'!$G$132:$K$171,5,FALSE)","v":"WF-4"},{"$f":"VLOOKUP(C35,'Control Panel'!$A$85:$F$124,2,FALSE)","v":"The Allum Medical Centre"},"F86036",14350,36,34,0.94444444444444442,33,0.91666666666666663,31,0.86111111111111116,4,{"$f":"SUMIFS(OFFSET(REL_D,,MATCH($M$5,IND,0)-1),REL_D,$C$5,OrgID,$C35)","v":31},0.86111111111111116,4,33,0.91666666666666663]
[{"$f":"VLOOKUP(C36,'Control Panel'!$G$132:$K$171,5,FALSE)","v":"WF-4"},{"$f":"VLOOKUP(C36,'Control Panel'!$A$85:$F$124,2,FALSE)","v":" Crawley Road Medical Centre"},"F86044",10497,30,24,0.8,27,0.9,23,0.76666666666666672,6,{"$f":"SUMIFS(OFFSET(REL_D,,MATCH($M$5,IND,0)-1),REL_D,$C$5,OrgID,$C36)","v":23},0.76666666666666672,6,25,0.83333333333333337]
[{"$f":"VLOOKUP(C37,'Control Panel'!$G$132:$K$171,5,FALSE)","v":"WF-4"},{"$f":"VLOOKUP(C37,'Control Panel'!$A$85:$F$124,2,FALSE)","v":"Francis Road Medical Centre"},"F86696",7132,21,18,0.8571428571428571,17,0.80952380952380953,14,0.66666666666666663,6,{"$f":"SUMIFS(OFFSET(REL_D,,MATCH($M$5,IND,0)-1),REL_D,$C$5,OrgID,$C37)","v":13},0.61904761904761907,7,17,0.80952380952380953]
[{"$f":"VLOOKUP(C38,'Control Panel'!$G$132:$K$171,5,FALSE)","v":"WF-4"},{"$f":"VLOOKUP(C38,'Control Panel'!$A$85:$F$124,2,FALSE)","v":"Hampton Medical Centre"},"F86712",3433,11,8,0.72727272727272729,8,0.72727272727272729,8,0.72727272727272729,3,{"$f":"SUMIFS(OFFSET(REL_D,,MATCH($M$5,IND,0)-1),REL_D,$C$5,OrgID,$C38)","v":7},0.63636363636363635,4,7,0.63636363636363635]
[{"$f":"VLOOKUP(C39,'Control Panel'!$G$132:$K$171,5,FALSE)","v":"WF-4"},{"$f":"VLOOKUP(C39,'Control Panel'!$A$85:$F$124,2,FALSE)","v":"Lime Tree Surgery"},"F86650",7953,16,13,0.8125,14,0.875,10,0.625,6,{"$f":"SUMIFS(OFFSET(REL_D,,MATCH($M$5,IND,0)-1),REL_D,$C$5,OrgID,$C39)","v":10},0.625,6,14,0.875]
[{"$f":"VLOOKUP(C40,'Control Panel'!$G$132:$K$171,5,FALSE)","v":"WF-4"},{"$f":"VLOOKUP(C40,'Control Panel'!$A$85:$F$124,2,FALSE)","v":"The Lyndhurst Surgery"},"F86088",5098,7,5,0.7142857142857143,5,0.7142857142857143,5,0.7142857142857143,2,{"$f":"SUMIFS(OFFSET(REL_D,,MATCH($M$5,IND,0)-1),REL_D,$C$5,OrgID,$C40)","v":5},0.7142857142857143,2,5,0.7142857142857143]
[{"$f":"VLOOKUP(C41,'Control Panel'!$G$132:$K$171,5,FALSE)","v":"WF-4"},{"$f":"VLOOKUP(C41,'Control Panel'!$A$85:$F$124,2,FALSE)","v":"The Ecclesbourne Practice*"},"F86018",9800,33,27,0.81818181818181823,27,0.81818181818181823,19,0.5757575757575758,13,{"$f":"SUMIFS(OFFSET(REL_D,,MATCH($M$5,IND,0)-1),REL_D,$C$5,OrgID,$C41)","v":22},0.66666666666666663,10,25,0.75757575757575757]
[{"$f":"VLOOKUP(C42,'Control Panel'!$G$132:$K$171,5,FALSE)","v":"WF-5"},{"$f":"VLOOKUP(C42,'Control Panel'!$A$85:$F$124,2,FALSE)","v":"Green Man Medical Centre"},"F86621",6805,12,11,0.91666666666666663,12,1,9,0.75,3,{"$f":"SUMIFS(OFFSET(REL_D,,MATCH($M$5,IND,0)-1),REL_D,$C$5,OrgID,$C42)","v":9},0.75,3,11,0.91666666666666663]
[{"$f":"VLOOKUP(C43,'Control Panel'!$G$132:$K$171,5,FALSE)","v":"WF-5"},{"$f":"VLOOKUP(C43,'Control Panel'!$A$85:$F$124,2,FALSE)","v":"High Road Surgery"},"F86045",2032,4,4,1,4,1,4,1,"",{"$f":"SUMIFS(OFFSET(REL_D,,MATCH($M$5,IND,0)-1),REL_D,$C$5,OrgID,$C43)","v":4},1,"",3,0.75]
[{"$f":"VLOOKUP(C44,'Control Panel'!$G$132:$K$171,5,FALSE)","v":"WF-5"},{"$f":"VLOOKUP(C44,'Control Panel'!$A$85:$F$124,2,FALSE)","v":"Kiyani Medical Practice"},"F86701",4010,7,7,1,7,1,7,1,"",{"$f":"SUMIFS(OFFSET(REL_D,,MATCH($M$5,IND,0)-1),REL_D,$C$5,OrgID,$C44)","v":7},1,"",7,1]
[{"$f":"VLOOKUP(C45,'Control Panel'!$G$132:$K$171,5,FALSE)","v":"WF-5"},{"$f":"VLOOKUP(C45,'Control Panel'!$A$85:$F$124,2,FALSE)","v":"LL Medical Care (Agarwal & Agrwal Practice)"},"F86625",5726,18,16,0.88888888888888884,15,0.83333333333333337,11,0.61111111111111116,7,{"$f":"SUMIFS(OFFSET(REL_D,,MATCH($M$5,IND,0)-1),REL_D,$C$5,OrgID,$C45)","v":11},0.61111111111111116,7,15,0.83333333333333337]
[{"$f":"VLOOKUP(C46,'Control Panel'!$G$132:$K$171,5,FALSE)","v":"WF-5"},{"$f":"VLOOKUP(C46,'Control Panel'!$A$85:$F$124,2,FALSE)","v":"The Harrow Road Surgery"},"F86666",14945,34,28,0.82352941176470584,27,0.79411764705882348,26,0.76470588235294112,7,{"$f":"SUMIFS(OFFSET(REL_D,,MATCH($M$5,IND,0)-1),REL_D,$C$5,OrgID,$C46)","v":25},0.73529411764705888,8,29,0.8529411764705882]
[{"$f":"VLOOKUP(C47,'Control Panel'!$G$132:$K$171,5,FALSE)","v":"WF-5"},{"$f":"VLOOKUP(C47,'Control Panel'!$A$85:$F$124,2,FALSE)","v":"The Langthorne Sharma Family Practice"},"F86705",3447,8,6,0.75,6,0.75,6,0.75,2,{"$f":"SUMIFS(OFFSET(REL_D,,MATCH($M$5,IND,0)-1),REL_D,$C$5,OrgID,$C47)","v":6},0.75,2,6,0.75]
[{"$f":"VLOOKUP(C48,'Control Panel'!$G$132:$K$171,5,FALSE)","v":"WF-6"},{"$f":"VLOOKUP(C48,'Control Panel'!$A$85:$F$124,2,FALSE)","v":"Addison Road Medical Practice"},"F86607",16152,49,44,0.89795918367346939,42,0.8571428571428571,41,0.83673469387755106,6,{"$f":"SUMIFS(OFFSET(REL_D,,MATCH($M$5,IND,0)-1),REL_D,$C$5,OrgID,$C48)","v":40},0.81632653061224492,7,43,0.87755102040816324]
[{"$f":"VLOOKUP(C49,'Control Panel'!$G$132:$K$171,5,FALSE)","v":"WF-6"},{"$f":"VLOOKUP(C49,'Control Panel'!$A$85:$F$124,2,FALSE)","v":"Claremont Medical Centre"},"F86708",2843,7,6,0.8571428571428571,6,0.8571428571428571,5,0.7142857142857143,2,{"$f":"SUMIFS(OFFSET(REL_D,,MATCH($M$5,IND,0)-1),REL_D,$C$5,OrgID,$C49)","v":5},0.7142857142857143,2,5,0.7142857142857143]
[{"$f":"VLOOKUP(C50,'Control Panel'!$G$132:$K$171,5,FALSE)","v":"WF-6"},{"$f":"VLOOKUP(C50,'Control Panel'!$A$85:$F$124,2,FALSE)","v":" The Firs"},"F86001",8444,17,12,0.70588235294117652,10,0.58823529411764708,10,0.58823529411764708,7,{"$f":"SUMIFS(OFFSET(REL_D,,MATCH($M$5,IND,0)-1),REL_D,$C$5,OrgID,$C50)","v":10},0.58823529411764708,7,10,0.58823529411764708]
[{"$f":"VLOOKUP(C51,'Control Panel'!$G$132:$K$171,5,FALSE)","v":"WF-6"},{"$f":"VLOOKUP(C51,'Control Panel'!$A$85:$F$124,2,FALSE)","v":"Dr Dhital Practice"},"F86086",6398,24,22,0.91666666666666663,23,0.95833333333333337,18,0.75,5,{"$f":"SUMIFS(OFFSET(REL_D,,MATCH($M$5,IND,0)-1),REL_D,$C$5,OrgID,$C51)","v":18},0.75,5,23,0.95833333333333337]
[{"$f":"VLOOKUP(C52,'Control Panel'!$G$132:$K$171,5,FALSE)","v":"WF-6"},{"$f":"VLOOKUP(C52,'Control Panel'!$A$85:$F$124,2,FALSE)","v":"Waltham Forest Community & Family Health Services Ltd"},"F86644",9083,18,17,0.94444444444444442,17,0.94444444444444442,15,0.83333333333333337,3,{"$f":"SUMIFS(OFFSET(REL_D,,MATCH($M$5,IND,0)-1),REL_D,$C$5,OrgID,$C52)","v":15},0.83333333333333337,3,16,0.88888888888888884]
[{"$f":"VLOOKUP(C53,'Control Panel'!$G$132:$K$171,5,FALSE)","v":"WF-7"},{"$f":"VLOOKUP(C53,'Control Panel'!$A$85:$F$124,2,FALSE)","v":"Seymour Medical centre "},"F86006",7082,18,16,0.88888888888888884,15,0.83333333333333337,15,0.83333333333333337,3,{"$f":"SUMIFS(OFFSET(REL_D,,MATCH($M$5,IND,0)-1),REL_D,$C$5,OrgID,$C53)","v":15},0.83333333333333337,3,15,0.83333333333333337]
[{"$f":"VLOOKUP(C54,'Control Panel'!$G$132:$K$171,5,FALSE)","v":"WF-7"},{"$f":"VLOOKUP(C54,'Control Panel'!$A$85:$F$124,2,FALSE)","v":" Queens Road Medical Centre"},"F86030",8280,16,16,1,15,0.9375,14,0.875,2,{"$f":"SUMIFS(OFFSET(REL_D,,MATCH($M$5,IND,0)-1),REL_D,$C$5,OrgID,$C54)","v":14},0.875,2,15,0.9375]
[{"$f":"VLOOKUP(C55,'Control Panel'!$G$132:$K$171,5,FALSE)","v":"WF-7"},{"$f":"VLOOKUP(C55,'Control Panel'!$A$85:$F$124,2,FALSE)","v":"The Grove Road Medical Centre "},"F86062",7220,13,12,0.92307692307692313,13,1,11,0.84615384615384615,2,{"$f":"SUMIFS(OFFSET(REL_D,,MATCH($M$5,IND,0)-1),REL_D,$C$5,OrgID,$C55)","v":11},0.84615384615384615,2,12,0.92307692307692313]
[{"$f":"VLOOKUP(C56,'Control Panel'!$G$132:$K$171,5,FALSE)","v":"WF-7"},{"$f":"VLOOKUP(C56,'Control Panel'!$A$85:$F$124,2,FALSE)","v":"Higham Hill Medical Centre"},"F86679",6412,13,12,0.92307692307692313,13,1,11,0.84615384615384615,2,{"$f":"SUMIFS(OFFSET(REL_D,,MATCH($M$5,IND,0)-1),REL_D,$C$5,OrgID,$C56)","v":12},0.92307692307692313,1,13,1]
[{"$f":"VLOOKUP(C57,'Control Panel'!$G$132:$K$171,5,FALSE)","v":"WF-7"},{"$f":"VLOOKUP(C57,'Control Panel'!$A$85:$F$124,2,FALSE)","v":"St James Medical Practice Ltd"},"F86058",15867,42,41,0.97619047619047616,39,0.9285714285714286,34,0.80952380952380953,6,{"$f":"SUMIFS(OFFSET(REL_D,,MATCH($M$5,IND,0)-1),REL_D,$C$5,OrgID,$C57)","v":36},0.8571428571428571,4,38,0.90476190476190477]

{"sheet":"Trending","index":5,"n_rows":93,"n_cols":13,"rows_kept":93,"cut":false,"hidden":false,"merged":[[1,3,1,4]]}
[null,null,null,"Waltham Forest - Childhood Immunisations",null,null,null,null,null,null,null,null,{"$f":"\"'\"&K3&\"'!$C$9:$AT$71\"","v":"'1st April 2016'!$C$9:$AT$71"}]
[null,null,null,null,null,null,"Waltham Forest"]
[null,"2015/16 Q1",{"$f":"VLOOKUP(D3,'Control Panel'!J77:K119,2,FALSE)","v":"Total"},{"$f":"VLOOKUP(G2,'Control Panel'!I77:J119,2,FALSE)","v":"Total"},{"$f":"IF(D3=\"Total\",TRUE,IF(LEFT($C$3,1)=\"*\",TRUE,FALSE))","v":true},{"$f":"IF(D3=\"Total\",\"WF\",D3)","v":"WF"},"FHV",null,null,null,"1st April 2016"]
[null,null,null,null,null,null,"Patient becoming 12m","Control Panel'!J34:J36"]
[]
[null,{"$f":"INDEX(INDIRECT(VLOOKUP($G$4,'Control Panel'!$J$41:$K$43,2,FALSE)),COLUMN(Rows!A1))","v":"(01) 12 MONTH COHORT"},{"$f":"INDEX(INDIRECT(VLOOKUP($G$4,'Control Panel'!$J$41:$K$43,2,FALSE)),COLUMN(Rows!B1))","v":"(01.01) DTaP/IPV/Hib 6in1"},{"$f":"INDEX(INDIRECT(VLOOKUP($G$4,'Control Panel'!$J$41:$K$43,2,FALSE)),COLUMN(Rows!C1))","v":"(01.02) Men B (1st and 2nd)"},{"$f":"INDEX(INDIRECT(VLOOKUP($G$4,'Control Panel'!$J$41:$K$43,2,FALSE)),COLUMN(Rows!D1))","v":"(01.03) PCV"}]
["Time Stamp",{"$f":"IFERROR(INDEX(INDIRECT(VLOOKUP($G$4,'Control Panel'!$J$36:$L$38,3,FALSE)),COLUMN(Rows!B17)),\"\")","v":"DTaP/IPV/Hib %"},{"$f":"IFERROR(INDEX(INDIRECT(VLOOKUP($G$4,'Control Panel'!$J$36:$L$38,3,FALSE)),COLUMN(Rows!C17)),\"\")","v":"Men C / Men B %"},{"$f":"IFERROR(INDEX(INDIRECT(VLOOKUP($G$4,'Control Panel'!$J$36:$L$38,3,FALSE)),COLUMN(Rows!D17)),\"\")","v":"PCV %"}]
["2019/20 Q1",{"$f":"IFERROR(C56/B56,\"\")","v":0.86},{"$f":"IFERROR(D56/B56,\"\")","v":0.85789473684210527},{"$f":"IFERROR(E56/B56,NA())","v":0.87578947368421056}]
["2019/20 Q2",{"$f":"IFERROR(C57/B57,\"\")","v":0.88126919140225179},{"$f":"IFERROR(D57/B57,\"\")","v":0.87001023541453426},{"$f":"IFERROR(E57/B57,NA())","v":0.88638689866939613}]
["2019/20 Q3",0.8851774530271399,0.89039665970772441,0.89979123173277664]
["2019/20 Q4",0.8951048951048951,0.88694638694638694,0.89976689976689972]
["2020/21 Q1",0.89819724284199365,0.89077412513255572,0.90986214209968186]
["2020/21 Q2",0.87804878048780488,0.88137472283813745,0.89246119733924612]
["2020/21 Q3",0.86486486486486491,0.86486486486486491,0.84324324324324329]
["2020/21 Q4",0.86910377358490565,0.86910377358490565,0.91155660377358494]
["2021/22 Q1",0.84892787524366475,0.84795321637426901,0.87231968810916183]
["2021/22 Q2",0.86796785304247992,0.8576349024110218,0.89207807118254878]
["2021/22 Q3",0.90709046454767728,0.89364303178484106,0.9205378973105135]
["2021/22 Q4",0.892459826946848,0.88504326328800986,0.92459826946847956]
["2022/23 Q1",0.90098039215686276,0.88921568627450975,0.91862745098039211]
["2022/23 Q2",0.89879294336118853,0.88579387186629521,0.90250696378830086]
["2022/23 Q3",0.90711462450592883,0.89822134387351782,0.93675889328063244]
["2022/23 Q4",{"$f":"IFERROR(C71/B71,\"\")","v":0.88646288209606983},{"$f":"IFERROR(D71/B71,\"\")","v":0.86790393013100442},{"$f":"IFERROR(E71/B71,NA())","v":0.9246724890829694}]
[null,{"$f":"IFERROR(C75/B75,\"\")","v":""},{"$f":"IFERROR(D75/B75,\"\")","v":""},{"$f":"IFERROR(E75/B75,NA())","v":{"$error":"#N/A"}}]
[null,"","",{"$error":"#N/A"}]
[null,"","",{"$error":"#N/A"}]
[null,"","",{"$error":"#N/A"}]
[null,"","",{"$error":"#N/A"}]
[null,"","",{"$error":"#N/A"}]
[null,"","",{"$error":"#N/A"}]
[null,"","",{"$error":"#N/A"}]
[null,"","",{"$error":"#N/A"}]
[null,"","",{"$error":"#N/A"}]
[null,"","",{"$error":"#N/A"}]
[null,{"$f":"IFERROR(C86/B86,\"\")","v":""},{"$f":"IFERROR(D86/B86,\"\")","v":""},{"$f":"IFERROR(E86/B86,NA())","v":{"$error":"#N/A"}}]
[null,{"$f":"IFERROR(C87/B87,\"\")","v":""},{"$f":"IFERROR(D87/B87,\"\")","v":""},{"$f":"IFERROR(E87/B87,NA())","v":{"$error":"#N/A"}}]
[null,{"$f":"IFERROR(C88/B88,\"\")","v":""},{"$f":"IFERROR(D88/B88,\"\")","v":""},{"$f":"IFERROR(E88/B88,NA())","v":{"$error":"#N/A"}}]
[null,{"$f":"IFERROR(C89/B89,\"\")","v":""},{"$f":"IFERROR(D89/B89,\"\")","v":""},{"$f":"IFERROR(E89/B89,NA())","v":{"$error":"#N/A"}}]
[null,{"$f":"IFERROR(C90/B90,\"\")","v":""},{"$f":"IFERROR(D90/B90,\"\")","v":""},{"$f":"IFERROR(E90/B90,NA())","v":{"$error":"#N/A"}}]
[null,{"$f":"IFERROR(C91/B91,\"\")","v":""},{"$f":"IFERROR(D91/B91,\"\")","v":""},{"$f":"IFERROR(E91/B91,NA())","v":{"$error":"#N/A"}}]
[null,{"$f":"IFERROR(C92/B92,\"\")","v":""},{"$f":"IFERROR(D92/B92,\"\")","v":""},{"$f":"IFERROR(E92/B92,NA())","v":{"$error":"#N/A"}}]
[null,{"$f":"IFERROR(C93/B93,\"\")","v":""},{"$f":"IFERROR(D93/B93,\"\")","v":""},{"$f":"IFERROR(E93/B93,NA())","v":{"$error":"#N/A"}},{"$f":"IFERROR(SUMIFS(OFFSET(REL_D,,MATCH($E$6,IND,0)-1),REL_D,$A29,IF(LEFT($D$3,1)=\"W\",NwID,OrgID),$D$3),\"\")","v":0}]
[null,{"$f":"IFERROR(C94/B94,\"\")","v":""},{"$f":"IFERROR(D94/B94,\"\")","v":""},{"$f":"IFERROR(E94/B94,NA())","v":{"$error":"#N/A"}}]
[null,"","",{"$error":"#N/A"}]
[null,"","",{"$error":"#N/A"}]
[null,"","",{"$error":"#N/A"}]
["2019-04-01",{"$f":"SUMIFS(OFFSET(REL_D,,MATCH($B$6,IND,0)-1),REL_D,$A47,IF($E$3,NwID,OrgID),$F$3)","v":0},{"$f":"SUMIFS(OFFSET(REL_D,,MATCH($C$6,IND,0)-1),REL_D,$A47,IF($E$3,NwID,OrgID),$F$3)","v":0},{"$f":"SUMIFS(OFFSET(REL_D,,MATCH($D$6,IND,0)-1),REL_D,$A47,IF($E$3,NwID,OrgID),$F$3)","v":0},{"$f":"SUMIFS(OFFSET(REL_D,,MATCH($E$6,IND,0)-1),REL_D,$A47,IF($E$3,NwID,OrgID),$F$3)","v":0}]
["2019-05-01",{"$f":"SUMIFS(OFFSET(REL_D,,MATCH($B$6,IND,0)-1),REL_D,$A48,IF($E$3,NwID,OrgID),$F$3)","v":0},{"$f":"SUMIFS(OFFSET(REL_D,,MATCH($C$6,IND,0)-1),REL_D,$A48,IF($E$3,NwID,OrgID),$F$3)","v":0},{"$f":"SUMIFS(OFFSET(REL_D,,MATCH($D$6,IND,0)-1),REL_D,$A48,IF($E$3,NwID,OrgID),$F$3)","v":0},{"$f":"SUMIFS(OFFSET(REL_D,,MATCH($E$6,IND,0)-1),REL_D,$A48,IF($E$3,NwID,OrgID),$F$3)","v":0}]
["2019-06-01",{"$f":"SUMIFS(OFFSET(REL_D,,MATCH($B$6,IND,0)-1),REL_D,$A49,IF($E$3,NwID,OrgID),$F$3)","v":0},{"$f":"SUMIFS(OFFSET(REL_D,,MATCH($C$6,IND,0)-1),REL_D,$A49,IF($E$3,NwID,OrgID),$F$3)","v":0},{"$f":"SUMIFS(OFFSET(REL_D,,MATCH($D$6,IND,0)-1),REL_D,$A49,IF($E$3,NwID,OrgID),$F$3)","v":0},{"$f":"SUMIFS(OFFSET(REL_D,,MATCH($E$6,IND,0)-1),REL_D,$A49,IF($E$3,NwID,OrgID),$F$3)","v":0}]
["2019-07-01",{"$f":"SUMIFS(OFFSET(REL_D,,MATCH($B$6,IND,0)-1),REL_D,$A50,IF($E$3,NwID,OrgID),$F$3)","v":0},{"$f":"SUMIFS(OFFSET(REL_D,,MATCH($C$6,IND,0)-1),REL_D,$A50,IF($E$3,NwID,OrgID),$F$3)","v":0},{"$f":"SUMIFS(OFFSET(REL_D,,MATCH($D$6,IND,0)-1),REL_D,$A50,IF($E$3,NwID,OrgID),$F$3)","v":0},{"$f":"SUMIFS(OFFSET(REL_D,,MATCH($E$6,IND,0)-1),REL_D,$A50,IF($E$3,NwID,OrgID),$F$3)","v":0}]
["2019-08-01",{"$f":"SUMIFS(OFFSET(REL_D,,MATCH($B$6,IND,0)-1),REL_D,$A51,IF($E$3,NwID,OrgID),$F$3)","v":0},{"$f":"SUMIFS(OFFSET(REL_D,,MATCH($C$6,IND,0)-1),REL_D,$A51,IF($E$3,NwID,OrgID),$F$3)","v":0},{"$f":"SUMIFS(OFFSET(REL_D,,MATCH($D$6,IND,0)-1),REL_D,$A51,IF($E$3,NwID,OrgID),$F$3)","v":0},{"$f":"SUMIFS(OFFSET(REL_D,,MATCH($E$6,IND,0)-1),REL_D,$A51,IF($E$3,NwID,OrgID),$F$3)","v":0}]
["2019-09-01",{"$f":"SUMIFS(OFFSET(REL_D,,MATCH($B$6,IND,0)-1),REL_D,$A52,IF($E$3,NwID,OrgID),$F$3)","v":0},{"$f":"SUMIFS(OFFSET(REL_D,,MATCH($C$6,IND,0)-1),REL_D,$A52,IF($E$3,NwID,OrgID),$F$3)","v":0},{"$f":"SUMIFS(OFFSET(REL_D,,MATCH($D$6,IND,0)-1),REL_D,$A52,IF($E$3,NwID,OrgID),$F$3)","v":0},{"$f":"SUMIFS(OFFSET(REL_D,,MATCH($E$6,IND,0)-1),REL_D,$A52,IF($E$3,NwID,OrgID),$F$3)","v":0}]
["2019-10-01",{"$f":"SUMIFS(OFFSET(REL_D,,MATCH($B$6,IND,0)-1),REL_D,$A53,IF($E$3,NwID,OrgID),$F$3)","v":0},{"$f":"SUMIFS(OFFSET(REL_D,,MATCH($C$6,IND,0)-1),REL_D,$A53,IF($E$3,NwID,OrgID),$F$3)","v":0},{"$f":"SUMIFS(OFFSET(REL_D,,MATCH($D$6,IND,0)-1),REL_D,$A53,IF($E$3,NwID,OrgID),$F$3)","v":0},{"$f":"SUMIFS(OFFSET(REL_D,,MATCH($E$6,IND,0)-1),REL_D,$A53,IF($E$3,NwID,OrgID),$F$3)","v":0}]
["2019-11-01",{"$f":"SUMIFS(OFFSET(REL_D,,MATCH($B$6,IND,0)-1),REL_D,$A54,IF($E$3,NwID,OrgID),$F$3)","v":0},{"$f":"SUMIFS(OFFSET(REL_D,,MATCH($C$6,IND,0)-1),REL_D,$A54,IF($E$3,NwID,OrgID),$F$3)","v":0},{"$f":"SUMIFS(OFFSET(REL_D,,MATCH($D$6,IND,0)-1),REL_D,$A54,IF($E$3,NwID,OrgID),$F$3)","v":0},{"$f":"SUMIFS(OFFSET(REL_D,,MATCH($E$6,IND,0)-1),REL_D,$A54,IF($E$3,NwID,OrgID),$F$3)","v":0}]
["2019-12-01",{"$f":"SUMIFS(OFFSET(REL_D,,MATCH($B$6,IND,0)-1),REL_D,$A55,IF($E$3,NwID,OrgID),$F$3)","v":0},{"$f":"SUMIFS(OFFSET(REL_D,,MATCH($C$6,IND,0)-1),REL_D,$A55,IF($E$3,NwID,OrgID),$F$3)","v":0},{"$f":"SUMIFS(OFFSET(REL_D,,MATCH($D$6,IND,0)-1),REL_D,$A55,IF($E$3,NwID,OrgID),$F$3)","v":0},{"$f":"SUMIFS(OFFSET(REL_D,,MATCH($E$6,IND,0)-1),REL_D,$A55,IF($E$3,NwID,OrgID),$F$3)","v":0}]
["2019-06-01",{"$f":"SUMIFS(OFFSET(REL_D,,MATCH($B$6,IND,0)-1),REL_D,$A56,IF(LEFT($D$3,1)=\"W\",NwID,OrgID),$D$3)","v":950},{"$f":"SUMIFS(OFFSET(REL_D,,MATCH($C$6,IND,0)-1),REL_D,$A56,IF(LEFT($D$3,1)=\"W\",NwID,OrgID),$D$3)","v":817},{"$f":"SUMIFS(OFFSET(REL_D,,MATCH($D$6,IND,0)-1),REL_D,$A56,IF(LEFT($D$3,1)=\"W\",NwID,OrgID),$D$3)","v":815},{"$f":"SUMIFS(OFFSET(REL_D,,MATCH($E$6,IND,0)-1),REL_D,$A56,IF(LEFT($D$3,1)=\"W\",NwID,OrgID),$D$3)","v":832}]
["2019-09-01",{"$f":"SUMIFS(OFFSET(REL_D,,MATCH($B$6,IND,0)-1),REL_D,$A57,IF(LEFT($D$3,1)=\"W\",NwID,OrgID),$D$3)","v":977},{"$f":"SUMIFS(OFFSET(REL_D,,MATCH($C$6,IND,0)-1),REL_D,$A57,IF(LEFT($D$3,1)=\"W\",NwID,OrgID),$D$3)","v":861},{"$f":"SUMIFS(OFFSET(REL_D,,MATCH($D$6,IND,0)-1),REL_D,$A57,IF(LEFT($D$3,1)=\"W\",NwID,OrgID),$D$3)","v":850},{"$f":"SUMIFS(OFFSET(REL_D,,MATCH($E$6,IND,0)-1),REL_D,$A57,IF(LEFT($D$3,1)=\"W\",NwID,OrgID),$D$3)","v":866}]
["2019-12-01",{"$f":"SUMIFS(OFFSET(REL_D,,MATCH($B$6,IND,0)-1),REL_D,$A58,IF(LEFT($D$3,1)=\"W\",NwID,OrgID),$D$3)","v":958},{"$f":"SUMIFS(OFFSET(REL_D,,MATCH($C$6,IND,0)-1),REL_D,$A58,IF(LEFT($D$3,1)=\"W\",NwID,OrgID),$D$3)","v":848},{"$f":"SUMIFS(OFFSET(REL_D,,MATCH($D$6,IND,0)-1),REL_D,$A58,IF(LEFT($D$3,1)=\"W\",NwID,OrgID),$D$3)","v":853},{"$f":"SUMIFS(OFFSET(REL_D,,MATCH($E$6,IND,0)-1),REL_D,$A58,IF(LEFT($D$3,1)=\"W\",NwID,OrgID),$D$3)","v":862}]
["2020-03-01",{"$f":"SUMIFS(OFFSET(REL_D,,MATCH($B$6,IND,0)-1),REL_D,$A59,IF(LEFT($D$3,1)=\"W\",NwID,OrgID),$D$3)","v":858},{"$f":"SUMIFS(OFFSET(REL_D,,MATCH($C$6,IND,0)-1),REL_D,$A59,IF(LEFT($D$3,1)=\"W\",NwID,OrgID),$D$3)","v":768},{"$f":"SUMIFS(OFFSET(REL_D,,MATCH($D$6,IND,0)-1),REL_D,$A59,IF(LEFT($D$3,1)=\"W\",NwID,OrgID),$D$3)","v":761},{"$f":"SUMIFS(OFFSET(REL_D,,MATCH($E$6,IND,0)-1),REL_D,$A59,IF(LEFT($D$3,1)=\"W\",NwID,OrgID),$D$3)","v":772}]
["2020-06-01",{"$f":"SUMIFS(OFFSET(REL_D,,MATCH($B$6,IND,0)-1),REL_D,$A60,IF(LEFT($D$3,1)=\"W\",NwID,OrgID),$D$3)","v":943},{"$f":"SUMIFS(OFFSET(REL_D,,MATCH($C$6,IND,0)-1),REL_D,$A60,IF(LEFT($D$3,1)=\"W\",NwID,OrgID),$D$3)","v":847},{"$f":"SUMIFS(OFFSET(REL_D,,MATCH($D$6,IND,0)-1),REL_D,$A60,IF(LEFT($D$3,1)=\"W\",NwID,OrgID),$D$3)","v":840},{"$f":"SUMIFS(OFFSET(REL_D,,MATCH($E$6,IND,0)-1),REL_D,$A60,IF(LEFT($D$3,1)=\"W\",NwID,OrgID),$D$3)","v":858}]
["2020-09-01",{"$f":"SUMIFS(OFFSET(REL_D,,MATCH($B$6,IND,0)-1),REL_D,$A61,IF(LEFT($D$3,1)=\"W\",NwID,OrgID),$D$3)","v":902},{"$f":"SUMIFS(OFFSET(REL_D,,MATCH($C$6,IND,0)-1),REL_D,$A61,IF(LEFT($D$3,1)=\"W\",NwID,OrgID),$D$3)","v":792},{"$f":"SUMIFS(OFFSET(REL_D,,MATCH($D$6,IND,0)-1),REL_D,$A61,IF(LEFT($D$3,1)=\"W\",NwID,OrgID),$D$3)","v":795},{"$f":"SUMIFS(OFFSET(REL_D,,MATCH($E$6,IND,0)-1),REL_D,$A61,IF(LEFT($D$3,1)=\"W\",NwID,OrgID),$D$3)","v":805}]
["2020-12-01",{"$f":"SUMIFS(OFFSET(REL_D,,MATCH($B$6,IND,0)-1),REL_D,$A62,IF(LEFT($D$3,1)=\"W\",NwID,OrgID),$D$3)","v":925},{"$f":"SUMIFS(OFFSET(REL_D,,MATCH($C$6,IND,0)-1),REL_D,$A62,IF(LEFT($D$3,1)=\"W\",NwID,OrgID),$D$3)","v":800},{"$f":"SUMIFS(OFFSET(REL_D,,MATCH($D$6,IND,0)-1),REL_D,$A62,IF(LEFT($D$3,1)=\"W\",NwID,OrgID),$D$3)","v":800},{"$f":"SUMIFS(OFFSET(REL_D,,MATCH($E$6,IND,0)-1),REL_D,$A62,IF(LEFT($D$3,1)=\"W\",NwID,OrgID),$D$3)","v":780}]
["2021-03-01",{"$f":"SUMIFS(OFFSET(REL_D,,MATCH($B$6,IND,0)-1),REL_D,$A63,IF(LEFT($D$3,1)=\"W\",NwID,OrgID),$D$3)","v":848},{"$f":"SUMIFS(OFFSET(REL_D,,MATCH($C$6,IND,0)-1),REL_D,$A63,IF(LEFT($D$3,1)=\"W\",NwID,OrgID),$D$3)","v":737},{"$f":"SUMIFS(OFFSET(REL_D,,MATCH($D$6,IND,0)-1),REL_D,$A63,IF(LEFT($D$3,1)=\"W\",NwID,OrgID),$D$3)","v":737},{"$f":"SUMIFS(OFFSET(REL_D,,MATCH($E$6,IND,0)-1),REL_D,$A63,IF(LEFT($D$3,1)=\"W\",NwID,OrgID),$D$3)","v":773}]
["2021-06-01",{"$f":"SUMIFS(OFFSET(REL_D,,MATCH($B$6,IND,0)-1),REL_D,$A64,IF(LEFT($D$3,1)=\"W\",NwID,OrgID),$D$3)","v":1026},{"$f":"SUMIFS(OFFSET(REL_D,,MATCH($C$6,IND,0)-1),REL_D,$A64,IF(LEFT($D$3,1)=\"W\",NwID,OrgID),$D$3)","v":871},{"$f":"SUMIFS(OFFSET(REL_D,,MATCH($D$6,IND,0)-1),REL_D,$A64,IF(LEFT($D$3,1)=\"W\",NwID,OrgID),$D$3)","v":870},{"$f":"SUMIFS(OFFSET(REL_D,,MATCH($E$6,IND,0)-1),REL_D,$A64,IF(LEFT($D$3,1)=\"W\",NwID,OrgID),$D$3)","v":895}]
["2021-09-01",{"$f":"SUMIFS(OFFSET(REL_D,,MATCH($B$6,IND,0)-1),REL_D,$A65,IF(LEFT($D$3,1)=\"W\",NwID,OrgID),$D$3)","v":871},{"$f":"SUMIFS(OFFSET(REL_D,,MATCH($C$6,IND,0)-1),REL_D,$A65,IF(LEFT($D$3,1)=\"W\",NwID,OrgID),$D$3)","v":756},{"$f":"SUMIFS(OFFSET(REL_D,,MATCH($D$6,IND,0)-1),REL_D,$A65,IF(LEFT($D$3,1)=\"W\",NwID,OrgID),$D$3)","v":747},{"$f":"SUMIFS(OFFSET(REL_D,,MATCH($E$6,IND,0)-1),REL_D,$A65,IF(LEFT($D$3,1)=\"W\",NwID,OrgID),$D$3)","v":777}]
["2021-12-01",{"$f":"SUMIFS(OFFSET(REL_D,,MATCH($B$6,IND,0)-1),REL_D,$A66,IF(LEFT($D$3,1)=\"W\",NwID,OrgID),$D$3)","v":818},{"$f":"SUMIFS(OFFSET(REL_D,,MATCH($C$6,IND,0)-1),REL_D,$A66,IF(LEFT($D$3,1)=\"W\",NwID,OrgID),$D$3)","v":742},{"$f":"SUMIFS(OFFSET(REL_D,,MATCH($D$6,IND,0)-1),REL_D,$A66,IF(LEFT($D$3,1)=\"W\",NwID,OrgID),$D$3)","v":731},{"$f":"SUMIFS(OFFSET(REL_D,,MATCH($E$6,IND,0)-1),REL_D,$A66,IF(LEFT($D$3,1)=\"W\",NwID,OrgID),$D$3)","v":753}]
["2022-03-01",{"$f":"SUMIFS(OFFSET(REL_D,,MATCH($B$6,IND,0)-1),REL_D,$A67,IF(LEFT($D$3,1)=\"W\",NwID,OrgID),$D$3)","v":809},{"$f":"SUMIFS(OFFSET(REL_D,,MATCH($C$6,IND,0)-1),REL_D,$A67,IF(LEFT($D$3,1)=\"W\",NwID,OrgID),$D$3)","v":722},{"$f":"SUMIFS(OFFSET(REL_D,,MATCH($D$6,IND,0)-1),REL_D,$A67,IF(LEFT($D$3,1)=\"W\",NwID,OrgID),$D$3)","v":716},{"$f":"SUMIFS(OFFSET(REL_D,,MATCH($E$6,IND,0)-1),REL_D,$A67,IF(LEFT($D$3,1)=\"W\",NwID,OrgID),$D$3)","v":748}]
["2022-06-01",{"$f":"SUMIFS(OFFSET(REL_D,,MATCH($B$6,IND,0)-1),REL_D,$A68,IF(LEFT($D$3,1)=\"W\",NwID,OrgID),$D$3)","v":1020},{"$f":"SUMIFS(OFFSET(REL_D,,MATCH($C$6,IND,0)-1),REL_D,$A68,IF(LEFT($D$3,1)=\"W\",NwID,OrgID),$D$3)","v":919},{"$f":"SUMIFS(OFFSET(REL_D,,MATCH($D$6,IND,0)-1),REL_D,$A68,IF(LEFT($D$3,1)=\"W\",NwID,OrgID),$D$3)","v":907},{"$f":"SUMIFS(OFFSET(REL_D,,MATCH($E$6,IND,0)-1),REL_D,$A68,IF(LEFT($D$3,1)=\"W\",NwID,OrgID),$D$3)","v":937}]
["2022-09-01",{"$f":"SUMIFS(OFFSET(REL_D,,MATCH($B$6,IND,0)-1),REL_D,$A69,IF(LEFT($D$3,1)=\"W\",NwID,OrgID),$D$3)","v":1077},{"$f":"SUMIFS(OFFSET(REL_D,,MATCH($C$6,IND,0)-1),REL_D,$A69,IF(LEFT($D$3,1)=\"W\",NwID,OrgID),$D$3)","v":968},{"$f":"SUMIFS(OFFSET(REL_D,,MATCH($D$6,IND,0)-1),REL_D,$A69,IF(LEFT($D$3,1)=\"W\",NwID,OrgID),$D$3)","v":954},{"$f":"SUMIFS(OFFSET(REL_D,,MATCH($E$6,IND,0)-1),REL_D,$A69,IF(LEFT($D$3,1)=\"W\",NwID,OrgID),$D$3)","v":972}]
["2022-12-01",{"$f":"SUMIFS(OFFSET(REL_D,,MATCH($B$6,IND,0)-1),REL_D,$A70,IF(LEFT($D$3,1)=\"W\",NwID,OrgID),$D$3)","v":1012},{"$f":"SUMIFS(OFFSET(REL_D,,MATCH($C$6,IND,0)-1),REL_D,$A70,IF(LEFT($D$3,1)=\"W\",NwID,OrgID),$D$3)","v":918},{"$f":"SUMIFS(OFFSET(REL_D,,MATCH($D$6,IND,0)-1),REL_D,$A70,IF(LEFT($D$3,1)=\"W\",NwID,OrgID),$D$3)","v":909},{"$f":"SUMIFS(OFFSET(REL_D,,MATCH($E$6,IND,0)-1),REL_D,$A70,IF(LEFT($D$3,1)=\"W\",NwID,OrgID),$D$3)","v":948}]
["2023-03-01",{"$f":"SUMIFS(OFFSET(REL_D,,MATCH($B$6,IND,0)-1),REL_D,$A71,IF(LEFT($D$3,1)=\"W\",NwID,OrgID),$D$3)","v":916},{"$f":"SUMIFS(OFFSET(REL_D,,MATCH($C$6,IND,0)-1),REL_D,$A71,IF(LEFT($D$3,1)=\"W\",NwID,OrgID),$D$3)","v":812},{"$f":"SUMIFS(OFFSET(REL_D,,MATCH($D$6,IND,0)-1),REL_D,$A71,IF(LEFT($D$3,1)=\"W\",NwID,OrgID),$D$3)","v":795},{"$f":"SUMIFS(OFFSET(REL_D,,MATCH($E$6,IND,0)-1),REL_D,$A71,IF(LEFT($D$3,1)=\"W\",NwID,OrgID),$D$3)","v":847}]
[null,{"$f":"SUMIFS(OFFSET(REL_D,,MATCH($B$6,IND,0)-1),REL_D,$A72,IF($E$3,NwID,OrgID),$F$3)","v":0},{"$f":"SUMIFS(OFFSET(REL_D,,MATCH($C$6,IND,0)-1),REL_D,$A72,IF($E$3,NwID,OrgID),$F$3)","v":0},{"$f":"SUMIFS(OFFSET(REL_D,,MATCH($D$6,IND,0)-1),REL_D,$A72,IF($E$3,NwID,OrgID),$F$3)","v":0},{"$f":"SUMIFS(OFFSET(REL_D,,MATCH($E$6,IND,0)-1),REL_D,$A72,IF($E$3,NwID,OrgID),$F$3)","v":0}]
[null,{"$f":"SUMIFS(OFFSET(REL_D,,MATCH($B$6,IND,0)-1),REL_D,$A73,IF($E$3,NwID,OrgID),$F$3)","v":0},{"$f":"SUMIFS(OFFSET(REL_D,,MATCH($C$6,IND,0)-1),REL_D,$A73,IF($E$3,NwID,OrgID),$F$3)","v":0},{"$f":"SUMIFS(OFFSET(REL_D,,MATCH($D$6,IND,0)-1),REL_D,$A73,IF($E$3,NwID,OrgID),$F$3)","v":0},{"$f":"SUMIFS(OFFSET(REL_D,,MATCH($E$6,IND,0)-1),REL_D,$A73,IF($E$3,NwID,OrgID),$F$3)","v":0}]
[null,{"$f":"SUMIFS(OFFSET(REL_D,,MATCH($B$6,IND,0)-1),REL_D,$A74,IF($E$3,NwID,OrgID),$F$3)","v":0},{"$f":"SUMIFS(OFFSET(REL_D,,MATCH($C$6,IND,0)-1),REL_D,$A74,IF($E$3,NwID,OrgID),$F$3)","v":0},{"$f":"SUMIFS(OFFSET(REL_D,,MATCH($D$6,IND,0)-1),REL_D,$A74,IF($E$3,NwID,OrgID),$F$3)","v":0},{"$f":"SUMIFS(OFFSET(REL_D,,MATCH($E$6,IND,0)-1),REL_D,$A74,IF($E$3,NwID,OrgID),$F$3)","v":0}]
[null,{"$f":"SUMIFS(OFFSET(REL_D,,MATCH($B$6,IND,0)-1),REL_D,$A75,IF($E$3,NwID,OrgID),$F$3)","v":0},{"$f":"SUMIFS(OFFSET(REL_D,,MATCH($C$6,IND,0)-1),REL_D,$A75,IF($E$3,NwID,OrgID),$F$3)","v":0},{"$f":"SUMIFS(OFFSET(REL_D,,MATCH($D$6,IND,0)-1),REL_D,$A75,IF($E$3,NwID,OrgID),$F$3)","v":0},{"$f":"SUMIFS(OFFSET(REL_D,,MATCH($E$6,IND,0)-1),REL_D,$A75,IF($E$3,NwID,OrgID),$F$3)","v":0}]
[null,{"$f":"SUMIFS(OFFSET(REL_D,,MATCH($B$6,IND,0)-1),REL_D,$A76,IF($E$3,NwID,OrgID),$F$3)","v":0},{"$f":"SUMIFS(OFFSET(REL_D,,MATCH($C$6,IND,0)-1),REL_D,$A76,IF($E$3,NwID,OrgID),$F$3)","v":0},{"$f":"SUMIFS(OFFSET(REL_D,,MATCH($D$6,IND,0)-1),REL_D,$A76,IF($E$3,NwID,OrgID),$F$3)","v":0},{"$f":"SUMIFS(OFFSET(REL_D,,MATCH($E$6,IND,0)-1),REL_D,$A76,IF($E$3,NwID,OrgID),$F$3)","v":0}]
[null,{"$f":"SUMIFS(OFFSET(REL_D,,MATCH($B$6,IND,0)-1),REL_D,$A77,IF($E$3,NwID,OrgID),$F$3)","v":0},{"$f":"SUMIFS(OFFSET(REL_D,,MATCH($C$6,IND,0)-1),REL_D,$A77,IF($E$3,NwID,OrgID),$F$3)","v":0},{"$f":"SUMIFS(OFFSET(REL_D,,MATCH($D$6,IND,0)-1),REL_D,$A77,IF($E$3,NwID,OrgID),$F$3)","v":0},{"$f":"SUMIFS(OFFSET(REL_D,,MATCH($E$6,IND,0)-1),REL_D,$A77,IF($E$3,NwID,OrgID),$F$3)","v":0}]
[null,{"$f":"SUMIFS(OFFSET(REL_D,,MATCH($B$6,IND,0)-1),REL_D,$A78,IF($E$3,NwID,OrgID),$F$3)","v":0},{"$f":"SUMIFS(OFFSET(REL_D,,MATCH($C$6,IND,0)-1),REL_D,$A78,IF($E$3,NwID,OrgID),$F$3)","v":0},{"$f":"SUMIFS(OFFSET(REL_D,,MATCH($D$6,IND,0)-1),REL_D,$A78,IF($E$3,NwID,OrgID),$F$3)","v":0},{"$f":"SUMIFS(OFFSET(REL_D,,MATCH($E$6,IND,0)-1),REL_D,$A78,IF($E$3,NwID,OrgID),$F$3)","v":0}]
[null,{"$f":"SUMIFS(OFFSET(REL_D,,MATCH($B$6,IND,0)-1),REL_D,$A79,IF($E$3,NwID,OrgID),$F$3)","v":0},{"$f":"SUMIFS(OFFSET(REL_D,,MATCH($C$6,IND,0)-1),REL_D,$A79,IF($E$3,NwID,OrgID),$F$3)","v":0},{"$f":"SUMIFS(OFFSET(REL_D,,MATCH($D$6,IND,0)-1),REL_D,$A79,IF($E$3,NwID,OrgID),$F$3)","v":0},{"$f":"SUMIFS(OFFSET(REL_D,,MATCH($E$6,IND,0)-1),REL_D,$A79,IF($E$3,NwID,OrgID),$F$3)","v":0}]
[null,{"$f":"SUMIFS(OFFSET(REL_D,,MATCH($B$6,IND,0)-1),REL_D,$A80,IF($E$3,NwID,OrgID),$F$3)","v":0},{"$f":"SUMIFS(OFFSET(REL_D,,MATCH($C$6,IND,0)-1),REL_D,$A80,IF($E$3,NwID,OrgID),$F$3)","v":0},{"$f":"SUMIFS(OFFSET(REL_D,,MATCH($D$6,IND,0)-1),REL_D,$A80,IF($E$3,NwID,OrgID),$F$3)","v":0},{"$f":"SUMIFS(OFFSET(REL_D,,MATCH($E$6,IND,0)-1),REL_D,$A80,IF($E$3,NwID,OrgID),$F$3)","v":0}]
[null,{"$f":"SUMIFS(OFFSET(REL_D,,MATCH($B$6,IND,0)-1),REL_D,$A81,IF($E$3,NwID,OrgID),$F$3)","v":0},{"$f":"SUMIFS(OFFSET(REL_D,,MATCH($C$6,IND,0)-1),REL_D,$A81,IF($E$3,NwID,OrgID),$F$3)","v":0},{"$f":"SUMIFS(OFFSET(REL_D,,MATCH($D$6,IND,0)-1),REL_D,$A81,IF($E$3,NwID,OrgID),$F$3)","v":0},{"$f":"SUMIFS(OFFSET(REL_D,,MATCH($E$6,IND,0)-1),REL_D,$A81,IF($E$3,NwID,OrgID),$F$3)","v":0}]
[null,{"$f":"SUMIFS(OFFSET(REL_D,,MATCH($B$6,IND,0)-1),REL_D,$A82,IF($E$3,NwID,OrgID),$F$3)","v":0},{"$f":"SUMIFS(OFFSET(REL_D,,MATCH($C$6,IND,0)-1),REL_D,$A82,IF($E$3,NwID,OrgID),$F$3)","v":0},{"$f":"SUMIFS(OFFSET(REL_D,,MATCH($D$6,IND,0)-1),REL_D,$A82,IF($E$3,NwID,OrgID),$F$3)","v":0},{"$f":"SUMIFS(OFFSET(REL_D,,MATCH($E$6,IND,0)-1),REL_D,$A82,IF($E$3,NwID,OrgID),$F$3)","v":0}]
[null,{"$f":"SUMIFS(OFFSET(REL_D,,MATCH($B$6,IND,0)-1),REL_D,$A83,IF($E$3,NwID,OrgID),$F$3)","v":0},{"$f":"SUMIFS(OFFSET(REL_D,,MATCH($C$6,IND,0)-1),REL_D,$A83,IF($E$3,NwID,OrgID),$F$3)","v":0},{"$f":"SUMIFS(OFFSET(REL_D,,MATCH($D$6,IND,0)-1),REL_D,$A83,IF($E$3,NwID,OrgID),$F$3)","v":0},{"$f":"SUMIFS(OFFSET(REL_D,,MATCH($E$6,IND,0)-1),REL_D,$A83,IF($E$3,NwID,OrgID),$F$3)","v":0}]
[null,{"$f":"SUMIFS(OFFSET(REL_D,,MATCH($B$6,IND,0)-1),REL_D,$A84,IF($E$3,NwID,OrgID),$F$3)","v":0},{"$f":"SUMIFS(OFFSET(REL_D,,MATCH($C$6,IND,0)-1),REL_D,$A84,IF($E$3,NwID,OrgID),$F$3)","v":0},{"$f":"SUMIFS(OFFSET(REL_D,,MATCH($D$6,IND,0)-1),REL_D,$A84,IF($E$3,NwID,OrgID),$F$3)","v":0},{"$f":"SUMIFS(OFFSET(REL_D,,MATCH($E$6,IND,0)-1),REL_D,$A84,IF($E$3,NwID,OrgID),$F$3)","v":0}]
[null,{"$f":"SUMIFS(OFFSET(REL_D,,MATCH($B$6,IND,0)-1),REL_D,$A85,IF($E$3,NwID,OrgID),$F$3)","v":0},{"$f":"SUMIFS(OFFSET(REL_D,,MATCH($C$6,IND,0)-1),REL_D,$A85,IF($E$3,NwID,OrgID),$F$3)","v":0},{"$f":"SUMIFS(OFFSET(REL_D,,MATCH($D$6,IND,0)-1),REL_D,$A85,IF($E$3,NwID,OrgID),$F$3)","v":0},{"$f":"SUMIFS(OFFSET(REL_D,,MATCH($E$6,IND,0)-1),REL_D,$A85,IF($E$3,NwID,OrgID),$F$3)","v":0}]
[null,{"$f":"SUMIFS(OFFSET(REL_D,,MATCH($B$6,IND,0)-1),REL_D,$A86,IF($E$3,NwID,OrgID),$F$3)","v":0},{"$f":"SUMIFS(OFFSET(REL_D,,MATCH($C$6,IND,0)-1),REL_D,$A86,IF($E$3,NwID,OrgID),$F$3)","v":0},{"$f":"SUMIFS(OFFSET(REL_D,,MATCH($D$6,IND,0)-1),REL_D,$A86,IF($E$3,NwID,OrgID),$F$3)","v":0},{"$f":"SUMIFS(OFFSET(REL_D,,MATCH($E$6,IND,0)-1),REL_D,$A86,IF($E$3,NwID,OrgID),$F$3)","v":0}]
[null,{"$f":"SUMIFS(OFFSET(REL_D,,MATCH($B$6,IND,0)-1),REL_D,$A87,IF($E$3,NwID,OrgID),$F$3)","v":0},{"$f":"SUMIFS(OFFSET(REL_D,,MATCH($C$6,IND,0)-1),REL_D,$A87,IF($E$3,NwID,OrgID),$F$3)","v":0},{"$f":"SUMIFS(OFFSET(REL_D,,MATCH($D$6,IND,0)-1),REL_D,$A87,IF($E$3,NwID,OrgID),$F$3)","v":0},{"$f":"SUMIFS(OFFSET(REL_D,,MATCH($E$6,IND,0)-1),REL_D,$A87,IF($E$3,NwID,OrgID),$F$3)","v":0}]
[null,{"$f":"SUMIFS(OFFSET(REL_D,,MATCH($B$6,IND,0)-1),REL_D,$A88,IF($E$3,NwID,OrgID),$F$3)","v":0},{"$f":"SUMIFS(OFFSET(REL_D,,MATCH($C$6,IND,0)-1),REL_D,$A88,IF($E$3,NwID,OrgID),$F$3)","v":0},{"$f":"SUMIFS(OFFSET(REL_D,,MATCH($D$6,IND,0)-1),REL_D,$A88,IF($E$3,NwID,OrgID),$F$3)","v":0},{"$f":"SUMIFS(OFFSET(REL_D,,MATCH($E$6,IND,0)-1),REL_D,$A88,IF($E$3,NwID,OrgID),$F$3)","v":0}]
[null,{"$f":"SUMIFS(OFFSET(REL_D,,MATCH($B$6,IND,0)-1),REL_D,$A89,IF($E$3,NwID,OrgID),$F$3)","v":0},{"$f":"SUMIFS(OFFSET(REL_D,,MATCH($C$6,IND,0)-1),REL_D,$A89,IF($E$3,NwID,OrgID),$F$3)","v":0},{"$f":"SUMIFS(OFFSET(REL_D,,MATCH($D$6,IND,0)-1),REL_D,$A89,IF($E$3,NwID,OrgID),$F$3)","v":0},{"$f":"SUMIFS(OFFSET(REL_D,,MATCH($E$6,IND,0)-1),REL_D,$A89,IF($E$3,NwID,OrgID),$F$3)","v":0}]
[null,{"$f":"SUMIFS(OFFSET(REL_D,,MATCH($B$6,IND,0)-1),REL_D,$A90,IF($E$3,NwID,OrgID),$F$3)","v":0},{"$f":"SUMIFS(OFFSET(REL_D,,MATCH($C$6,IND,0)-1),REL_D,$A90,IF($E$3,NwID,OrgID),$F$3)","v":0},{"$f":"SUMIFS(OFFSET(REL_D,,MATCH($D$6,IND,0)-1),REL_D,$A90,IF($E$3,NwID,OrgID),$F$3)","v":0},{"$f":"SUMIFS(OFFSET(REL_D,,MATCH($E$6,IND,0)-1),REL_D,$A90,IF($E$3,NwID,OrgID),$F$3)","v":0}]
[null,{"$f":"SUMIFS(OFFSET(REL_D,,MATCH($B$6,IND,0)-1),REL_D,$A91,IF($E$3,NwID,OrgID),$F$3)","v":0},{"$f":"SUMIFS(OFFSET(REL_D,,MATCH($C$6,IND,0)-1),REL_D,$A91,IF($E$3,NwID,OrgID),$F$3)","v":0},{"$f":"SUMIFS(OFFSET(REL_D,,MATCH($D$6,IND,0)-1),REL_D,$A91,IF($E$3,NwID,OrgID),$F$3)","v":0},{"$f":"SUMIFS(OFFSET(REL_D,,MATCH($E$6,IND,0)-1),REL_D,$A91,IF($E$3,NwID,OrgID),$F$3)","v":0}]
[null,{"$f":"SUMIFS(OFFSET(REL_D,,MATCH($B$6,IND,0)-1),REL_D,$A92,IF($E$3,NwID,OrgID),$F$3)","v":0},{"$f":"SUMIFS(OFFSET(REL_D,,MATCH($C$6,IND,0)-1),REL_D,$A92,IF($E$3,NwID,OrgID),$F$3)","v":0},{"$f":"SUMIFS(OFFSET(REL_D,,MATCH($D$6,IND,0)-1),REL_D,$A92,IF($E$3,NwID,OrgID),$F$3)","v":0},{"$f":"SUMIFS(OFFSET(REL_D,,MATCH($E$6,IND,0)-1),REL_D,$A92,IF($E$3,NwID,OrgID),$F$3)","v":0}]
[null,{"$f":"SUMIFS(OFFSET(REL_D,,MATCH($B$6,IND,0)-1),REL_D,$A93,IF($E$3,NwID,OrgID),$F$3)","v":0},{"$f":"SUMIFS(OFFSET(REL_D,,MATCH($C$6,IND,0)-1),REL_D,$A93,IF($E$3,NwID,OrgID),$F$3)","v":0},{"$f":"SUMIFS(OFFSET(REL_D,,MATCH($D$6,IND,0)-1),REL_D,$A93,IF($E$3,NwID,OrgID),$F$3)","v":0},{"$f":"SUMIFS(OFFSET(REL_D,,MATCH($E$6,IND,0)-1),REL_D,$A93,IF($E$3,NwID,OrgID),$F$3)","v":0}]

{"sheet":"Rows","index":6,"n_rows":0,"n_cols":0,"rows_kept":0,"cut":false,"hidden":true,"merged":[]}

{"sheet":"Lookup","index":7,"n_rows":40,"n_cols":24,"rows_kept":40,"cut":false,"hidden":true,"merged":[]}
["listsize.csv","All Patients"]
["(01)_12_MONTH_COHORT.csv","(01) 12 MONTH COHORT"]
["(01.01)_DTaP_IPV_Hib_HepB.csv","(01.01) DTaP/IPV/Hib 6in1"]
["(01.02)_Men_B_(1st_and_2nd).csv","(01.02) Men B (1st and 2nd)"]
["(01.03)_PCV.csv","(01.03) PCV"]
["(01.04)_Rotavirus.csv","(01.04) Rotavirus"]
["(01.05)_BCG.csv","(01.05) BCG"]
["(02)_24_MONTH_COHORT.csv","(02) 24 MONTH COHORT"]
["(02.01)_DTaP_IPV_Hib_or_DTaP_IPV_Hib_HepB.csv","(02.01) DTaP/IPV/Hib Combined"]
["(02.02)_MMR.csv","(02.02) MMR"]
["(02.03)_HiB_Men_C.csv","(02.03) HiB/Men C"]
["(02.04)_PCV_(Booster).csv","(02.04) PCV (Booster)"]
["(03)_5_YEAR_COHORT.csv","(03) 5 YEAR COHORT"]
["(03.01)_DTaP_IPV_Hib_or_DTaP_IPV_Hib_HepB.csv","(03.01) DTaP/IPV/Hib Combined"]
["(03.02)_MMR_(Primary).csv","(03.02) MMR (Primary)"]
[null,"(03.03) DTaP/IPV (Booster)"]
["(03.04)_HiB_Men_C.csv","(03.04) HiB/Men C"]
[null,"(03.05) MMR (Booster)"]
["(02.05)_Men_B_(Booster).csv","(02.05) Men B (Booster)"]
[]
[]
["listsize_(WF_Dashboards_CEG___COVER_Audit_Child_Imms).csv","All Patients",null,null,null,"listsize_(CEG_Dashboards___COVER_Audit_Child_Imms).csv","(01)_12_MONTH_COHORT_(CEG_Dashboards___COVER_Audit_Child_Imms).csv","(01.01)_DTaP_IPV_Hib_HepB_(CEG_Dashboards___COVER_Audit_Child_Imms).csv","(01.02)_Men_B_(1st_and_2nd)_(CEG_Dashboards___COVER_Audit_Child_Imms).csv","(01.03)_PCV_(CEG_Dashboards___COVER_Audit_Child_Imms).csv","(01.04)_Rotavirus_(CEG_Dashboards___COVER_Audit_Child_Imms).csv","(01.05)_BCG_(CEG_Dashboards___COVER_Audit_Child_Imms).csv","(02)_24_MONTH_COHORT_(CEG_Dashboards___COVER_Audit_Child_Imms).csv","(02.01)_DTaP_IPV_Hib_HepB_(CEG_Dashboards___COVER_Audit_Child_Imms).csv","(02.02)_MMR_(CEG_Dashboards___COVER_Audit_Child_Imms).csv","(02.03)_HiB_Men_C_(CEG_Dashboards___COVER_Audit_Child_Imms).csv","(02.04)_PCV_(Booster)_(CEG_Dashboards___COVER_Audit_Child_Imms).csv","(02.05)_Men_B_(Booster)_(CEG_Dashboards___COVER_Audit_Child_Imms).csv","(03)_5_YEAR_COHORT_(CEG_Dashboards___COVER_Audit_Child_Imms).csv","(03.01)_DTaP_IPV_Hib_or_DTaP_IPV_Hib_HepB_(CEG_Dashboards___COVER_Audit_Child_Imms).csv","(03.02)_MMR_(Primary)_(CEG_Dashboards___COVER_Audit_Child_Imms).csv","(03.03)_DTaP_IPV_(Booster)_(CEG_Dashboards___COVER_Audit_Child_Imms).csv","(03.04)_HiB_Men_C_(CEG_Dashboards___COVER_Audit_Child_Imms).csv","(03.05)_MMR_(Booster)_(CEG_Dashboards___COVER_Audit_Child_Imms).csv"]
["(01)_12_MONTH_COHORT_(WF_Dashboards_CEG___COVER_Audit_Child_Imms).csv","(01) 12 MONTH COHORT",null,null,"F86004",{"$f":"VLOOKUP($E23,_S1[#All],MATCH(Lookup!F$22,_S1[#Headers],0),FALSE)","v":16038},{"$f":"VLOOKUP($E23,_S1[#All],MATCH(Lookup!G$22,_S1[#Headers],0),FALSE)","v":29},{"$f":"VLOOKUP($E23,_S1[#All],MATCH(Lookup!H$22,_S1[#Headers],0),FALSE)","v":27},{"$f":"VLOOKUP($E23,_S1[#All],MATCH(Lookup!I$22,_S1[#Headers],0),FALSE)","v":24},{"$f":"VLOOKUP($E23,_S1[#All],MATCH(Lookup!J$22,_S1[#Headers],0),FALSE)","v":27},{"$f":"VLOOKUP($E23,_S1[#All],MATCH(Lookup!K$22,_S1[#Headers],0),FALSE)","v":27},null,{"$f":"VLOOKUP($E23,_S1[#All],MATCH(Lookup!M$22,_S1[#Headers],0),FALSE)","v":53},{"$f":"VLOOKUP($E23,_S1[#All],MATCH(Lookup!N$22,_S1[#Headers],0),FALSE)","v":52},{"$f":"VLOOKUP($E23,_S1[#All],MATCH(Lookup!O$22,_S1[#Headers],0),FALSE)","v":48},{"$f":"VLOOKUP($E23,_S1[#All],MATCH(Lookup!P$22,_S1[#Headers],0),FALSE)","v":50},{"$f":"VLOOKUP($E23,_S1[#All],MATCH(Lookup!Q$22,_S1[#Headers],0),FALSE)","v":50},{"$f":"VLOOKUP($E23,_S1[#All],MATCH(Lookup!R$22,_S1[#Headers],0),FALSE)","v":52},{"$f":"VLOOKUP($E23,_S1[#All],MATCH(Lookup!S$22,_S1[#Headers],0),FALSE)","v":47},{"$f":"VLOOKUP($E23,_S1[#All],MATCH(Lookup!T$22,_S1[#Headers],0),FALSE)","v":44},{"$f":"VLOOKUP($E23,_S1[#All],MATCH(Lookup!U$22,_S1[#Headers],0),FALSE)","v":44},{"$f":"VLOOKUP($E23,_S1[#All],MATCH(Lookup!V$22,_S1[#Headers],0),FALSE)","v":40},{"$f":"VLOOKUP($E23,_S1[#All],MATCH(Lookup!W$22,_S1[#Headers],0),FALSE)","v":42},{"$f":"VLOOKUP($E23,_S1[#All],MATCH(Lookup!X$22,_S1[#Headers],0),FALSE)","v":42}]
["(01.01)_DTaP_IPV_Hib_HepB_(WF_Dashboards_CEG___COVER_Audit_Child_Imms).csv","(01.01) DTaP/IPV/Hib 6in1",null,null,"F86018",{"$f":"VLOOKUP($E24,_S1[#All],MATCH(Lookup!F$22,_S1[#Headers],0),FALSE)","v":9800},{"$f":"VLOOKUP($E24,_S1[#All],MATCH(Lookup!G$22,_S1[#Headers],0),FALSE)","v":32},{"$f":"VLOOKUP($E24,_S1[#All],MATCH(Lookup!H$22,_S1[#Headers],0),FALSE)","v":28},{"$f":"VLOOKUP($E24,_S1[#All],MATCH(Lookup!I$22,_S1[#Headers],0),FALSE)","v":29},{"$f":"VLOOKUP($E24,_S1[#All],MATCH(Lookup!J$22,_S1[#Headers],0),FALSE)","v":30},{"$f":"VLOOKUP($E24,_S1[#All],MATCH(Lookup!K$22,_S1[#Headers],0),FALSE)","v":30},null,{"$f":"VLOOKUP($E24,_S1[#All],MATCH(Lookup!M$22,_S1[#Headers],0),FALSE)","v":16},{"$f":"VLOOKUP($E24,_S1[#All],MATCH(Lookup!N$22,_S1[#Headers],0),FALSE)","v":15},{"$f":"VLOOKUP($E24,_S1[#All],MATCH(Lookup!O$22,_S1[#Headers],0),FALSE)","v":13},{"$f":"VLOOKUP($E24,_S1[#All],MATCH(Lookup!P$22,_S1[#Headers],0),FALSE)","v":14},{"$f":"VLOOKUP($E24,_S1[#All],MATCH(Lookup!Q$22,_S1[#Headers],0),FALSE)","v":13},{"$f":"VLOOKUP($E24,_S1[#All],MATCH(Lookup!R$22,_S1[#Headers],0),FALSE)","v":15},{"$f":"VLOOKUP($E24,_S1[#All],MATCH(Lookup!S$22,_S1[#Headers],0),FALSE)","v":33},{"$f":"VLOOKUP($E24,_S1[#All],MATCH(Lookup!T$22,_S1[#Headers],0),FALSE)","v":27},{"$f":"VLOOKUP($E24,_S1[#All],MATCH(Lookup!U$22,_S1[#Headers],0),FALSE)","v":27},{"$f":"VLOOKUP($E24,_S1[#All],MATCH(Lookup!V$22,_S1[#Headers],0),FALSE)","v":19},{"$f":"VLOOKUP($E24,_S1[#All],MATCH(Lookup!W$22,_S1[#Headers],0),FALSE)","v":25},{"$f":"VLOOKUP($E24,_S1[#All],MATCH(Lookup!X$22,_S1[#Headers],0),FALSE)","v":22}]
["(01.02)_Men_B_(1st_and_2nd)_(WF_Dashboards_CEG___COVER_Audit_Child_Imms).csv","(01.02) Men B (1st and 2nd)",null,null,"F86026",{"$f":"VLOOKUP($E25,_S1[#All],MATCH(Lookup!F$22,_S1[#Headers],0),FALSE)","v":7118},{"$f":"VLOOKUP($E25,_S1[#All],MATCH(Lookup!G$22,_S1[#Headers],0),FALSE)","v":20},{"$f":"VLOOKUP($E25,_S1[#All],MATCH(Lookup!H$22,_S1[#Headers],0),FALSE)","v":18},{"$f":"VLOOKUP($E25,_S1[#All],MATCH(Lookup!I$22,_S1[#Headers],0),FALSE)","v":19},{"$f":"VLOOKUP($E25,_S1[#All],MATCH(Lookup!J$22,_S1[#Headers],0),FALSE)","v":19},{"$f":"VLOOKUP($E25,_S1[#All],MATCH(Lookup!K$22,_S1[#Headers],0),FALSE)","v":19},null,{"$f":"VLOOKUP($E25,_S1[#All],MATCH(Lookup!M$22,_S1[#Headers],0),FALSE)","v":18},{"$f":"VLOOKUP($E25,_S1[#All],MATCH(Lookup!N$22,_S1[#Headers],0),FALSE)","v":16},{"$f":"VLOOKUP($E25,_S1[#All],MATCH(Lookup!O$22,_S1[#Headers],0),FALSE)","v":15},{"$f":"VLOOKUP($E25,_S1[#All],MATCH(Lookup!P$22,_S1[#Headers],0),FALSE)","v":14},{"$f":"VLOOKUP($E25,_S1[#All],MATCH(Lookup!Q$22,_S1[#Headers],0),FALSE)","v":14},{"$f":"VLOOKUP($E25,_S1[#All],MATCH(Lookup!R$22,_S1[#Headers],0),FALSE)","v":16},{"$f":"VLOOKUP($E25,_S1[#All],MATCH(Lookup!S$22,_S1[#Headers],0),FALSE)","v":17},{"$f":"VLOOKUP($E25,_S1[#All],MATCH(Lookup!T$22,_S1[#Headers],0),FALSE)","v":12},{"$f":"VLOOKUP($E25,_S1[#All],MATCH(Lookup!U$22,_S1[#Headers],0),FALSE)","v":16},{"$f":"VLOOKUP($E25,_S1[#All],MATCH(Lookup!V$22,_S1[#Headers],0),FALSE)","v":14},{"$f":"VLOOKUP($E25,_S1[#All],MATCH(Lookup!W$22,_S1[#Headers],0),FALSE)","v":16},{"$f":"VLOOKUP($E25,_S1[#All],MATCH(Lookup!X$22,_S1[#Headers],0),FALSE)","v":14}]
["(01.03)_PCV_(WF_Dashboards_CEG___COVER_Audit_Child_Imms).csv","(01.03) PCV",null,null,"F86074",{"$f":"VLOOKUP($E26,_S1[#All],MATCH(Lookup!F$22,_S1[#Headers],0),FALSE)","v":15073},{"$f":"VLOOKUP($E26,_S1[#All],MATCH(Lookup!G$22,_S1[#Headers],0),FALSE)","v":39},{"$f":"VLOOKUP($E26,_S1[#All],MATCH(Lookup!H$22,_S1[#Headers],0),FALSE)","v":36},{"$f":"VLOOKUP($E26,_S1[#All],MATCH(Lookup!I$22,_S1[#Headers],0),FALSE)","v":37},{"$f":"VLOOKUP($E26,_S1[#All],MATCH(Lookup!J$22,_S1[#Headers],0),FALSE)","v":38},{"$f":"VLOOKUP($E26,_S1[#All],MATCH(Lookup!K$22,_S1[#Headers],0),FALSE)","v":34},null,{"$f":"VLOOKUP($E26,_S1[#All],MATCH(Lookup!M$22,_S1[#Headers],0),FALSE)","v":36},{"$f":"VLOOKUP($E26,_S1[#All],MATCH(Lookup!N$22,_S1[#Headers],0),FALSE)","v":32},{"$f":"VLOOKUP($E26,_S1[#All],MATCH(Lookup!O$22,_S1[#Headers],0),FALSE)","v":33},{"$f":"VLOOKUP($E26,_S1[#All],MATCH(Lookup!P$22,_S1[#Headers],0),FALSE)","v":31},{"$f":"VLOOKUP($E26,_S1[#All],MATCH(Lookup!Q$22,_S1[#Headers],0),FALSE)","v":32},{"$f":"VLOOKUP($E26,_S1[#All],MATCH(Lookup!R$22,_S1[#Headers],0),FALSE)","v":32},{"$f":"VLOOKUP($E26,_S1[#All],MATCH(Lookup!S$22,_S1[#Headers],0),FALSE)","v":40},{"$f":"VLOOKUP($E26,_S1[#All],MATCH(Lookup!T$22,_S1[#Headers],0),FALSE)","v":29},{"$f":"VLOOKUP($E26,_S1[#All],MATCH(Lookup!U$22,_S1[#Headers],0),FALSE)","v":36},{"$f":"VLOOKUP($E26,_S1[#All],MATCH(Lookup!V$22,_S1[#Headers],0),FALSE)","v":34},{"$f":"VLOOKUP($E26,_S1[#All],MATCH(Lookup!W$22,_S1[#Headers],0),FALSE)","v":35},{"$f":"VLOOKUP($E26,_S1[#All],MATCH(Lookup!X$22,_S1[#Headers],0),FALSE)","v":33}]
["(01.04)_Rotavirus_(WF_Dashboards_CEG___COVER_Audit_Child_Imms).csv","(01.04) Rotavirus",null,null,"F86638",{"$f":"VLOOKUP($E27,_S1[#All],MATCH(Lookup!F$22,_S1[#Headers],0),FALSE)","v":4981},{"$f":"VLOOKUP($E27,_S1[#All],MATCH(Lookup!G$22,_S1[#Headers],0),FALSE)","v":11},{"$f":"VLOOKUP($E27,_S1[#All],MATCH(Lookup!H$22,_S1[#Headers],0),FALSE)","v":11},{"$f":"VLOOKUP($E27,_S1[#All],MATCH(Lookup!I$22,_S1[#Headers],0),FALSE)","v":11},{"$f":"VLOOKUP($E27,_S1[#All],MATCH(Lookup!J$22,_S1[#Headers],0),FALSE)","v":11},{"$f":"VLOOKUP($E27,_S1[#All],MATCH(Lookup!K$22,_S1[#Headers],0),FALSE)","v":10},null,{"$f":"VLOOKUP($E27,_S1[#All],MATCH(Lookup!M$22,_S1[#Headers],0),FALSE)","v":18},{"$f":"VLOOKUP($E27,_S1[#All],MATCH(Lookup!N$22,_S1[#Headers],0),FALSE)","v":14},{"$f":"VLOOKUP($E27,_S1[#All],MATCH(Lookup!O$22,_S1[#Headers],0),FALSE)","v":12},{"$f":"VLOOKUP($E27,_S1[#All],MATCH(Lookup!P$22,_S1[#Headers],0),FALSE)","v":13},{"$f":"VLOOKUP($E27,_S1[#All],MATCH(Lookup!Q$22,_S1[#Headers],0),FALSE)","v":12},{"$f":"VLOOKUP($E27,_S1[#All],MATCH(Lookup!R$22,_S1[#Headers],0),FALSE)","v":14},{"$f":"VLOOKUP($E27,_S1[#All],MATCH(Lookup!S$22,_S1[#Headers],0),FALSE)","v":18},{"$f":"VLOOKUP($E27,_S1[#All],MATCH(Lookup!T$22,_S1[#Headers],0),FALSE)","v":16},{"$f":"VLOOKUP($E27,_S1[#All],MATCH(Lookup!U$22,_S1[#Headers],0),FALSE)","v":15},{"$f":"VLOOKUP($E27,_S1[#All],MATCH(Lookup!V$22,_S1[#Headers],0),FALSE)","v":13},{"$f":"VLOOKUP($E27,_S1[#All],MATCH(Lookup!W$22,_S1[#Headers],0),FALSE)","v":15},{"$f":"VLOOKUP($E27,_S1[#All],MATCH(Lookup!X$22,_S1[#Headers],0),FALSE)","v":13}]
["(01.05)_BCG_(WF_Dashboards_CEG___COVER_Audit_Child_Imms).csv","(01.05) BCG"]
["(02)_24_MONTH_COHORT_(WF_Dashboards_CEG___COVER_Audit_Child_Imms).csv","(02) 24 MONTH COHORT",null,null,null,"All Patients","(01) 12 MONTH COHORT","(01.01) DTaP/IPV/Hib 6in1","(01.02) Men B (1st and 2nd)","(01.03) PCV","(01.04) Rotavirus","(01.05) BCG","(02) 24 MONTH COHORT","(02.01) DTaP/IPV/Hib Combined","(02.02) MMR","(02.03) HiB/Men C","(02.04) PCV (Booster)","(02.05) Men B (Booster)","(03) 5 YEAR COHORT","(03.01) DTaP/IPV/Hib Combined","(03.02) MMR (Primary)","(03.03) DTaP/IPV (Booster)","(03.04) HiB/Men C","(03.05) MMR (Booster)"]
["(02.01)_DTaP_IPV_Hib_or_DTaP_IPV_Hib_HepB_(WF_Dashboards_CEG___COVER_Audit_Child_Imms).csv","(02.01) DTaP/IPV/Hib Combined"]
["(02.02)_MMR_(WF_Dashboards_CEG___COVER_Audit_Child_Imms).csv","(02.02) MMR"]
["(02.03)_HiB_Men_C_(WF_Dashboards_CEG___COVER_Audit_Child_Imms).csv","(02.03) HiB/Men C",null,null,null,null,null,"_(WF_Dashboards_CEG___COVER_Audit_Child_Imms).csv"]
["(02.04)_PCV_(Booster)_(WF_Dashboards_CEG___COVER_Audit_Child_Imms).csv","(02.04) PCV (Booster)"]
["(03)_5_YEAR_COHORT_(WF_Dashboards_CEG___COVER_Audit_Child_Imms).csv","(03) 5 YEAR COHORT"]
["(03.01)_DTaP_IPV_Hib_or_DTaP_IPV_Hib_HepB_(WF_Dashboards_CEG___COVER_Audit_Child_Imms).csv","(03.01) DTaP/IPV/Hib Combined"]
["(03.02)_MMR_(Primary)_(WF_Dashboards_CEG___COVER_Audit_Child_Imms).csv","(03.02) MMR (Primary)",null,null,null,null,"_(WF_Dashboards_CEG___COVER_Audit_Child_Imms).csv"]
["(03.03)_DTaP_IPV_(Booster)_(WF_Dashboards_CEG___COVER_Audit_Child_Imms).csv","(03.03) DTaP/IPV (Booster)"]
["(03.04)_HiB_Men_C_(WF_Dashboards_CEG___COVER_Audit_Child_Imms).csv","(03.04) HiB/Men C"]
["(03.05)_MMR_(Booster)_(WF_Dashboards_CEG___COVER_Audit_Child_Imms).csv","(03.05) MMR (Booster)"]
["(02.05)_Men_B_(Booster)_(WF_Dashboards_CEG___COVER_Audit_Child_Imms).csv","(02.05) Men B (Booster)"]

{"sheet":"Control Panel","index":8,"n_rows":171,"n_cols":26,"rows_kept":171,"cut":false,"hidden":true,"merged":[]}
[null,"Q",null,null,"Search Title","Report Title",null,null,"2019-03-01"]
[null,null,null,null,"All Patients","Listsize ",null,null,"April 2022","Q1","Q1: April 2017 - June 2017",null,"Select Dates",null,null,null,null,null,null,null,"total",2,{"$f":"$V$7&ADDRESS(1,V2)&\":\"&ADDRESS($V$8,V2)","v":"'Data'!$B$1:$B$2000"}]
[null,null,null,null,"(01) 12 MONTH COHORT","Patients becoming 12m",null,null,"May 2022","Q1","Q1: April 2017 - June 2017",null,"2017-04-01",null," -","Select Practice","DN Team","Patch","Network",null,"OrgID",10,{"$f":"$V$7&ADDRESS(1,V3)&\":\"&ADDRESS($V$8,V3)","v":"'Data'!$J$1:$J$2000"}]
[null,null,null,null,"(01.01) DTaP/IPV/Hib 6in1","DTaP/IPV/Hib/HepB",null,null,"June 2022","Q1","Q1: April 2017 - June 2017",null,"2017-05-01","Bethnal Green Health Centre","F84083","Bethnal Green Health Centre",null,null,"NW1",null,"REL_D",1,{"$f":"$V$7&ADDRESS(1,V4)&\":\"&ADDRESS($V$8,V4)","v":"'Data'!$A$1:$A$2000"}]
[null,null,null,null,"DTaP/IPV/Hib(%)","DTaP/IPV/Hib/HepB(%)",null,null,"July 2022","Q2","Q2: July 2017 - September 2017",null,"2017-06-01","The Mission Practice","F84016","The Mission Practice",null,null,"NW1",null,"IND"," -",{"$f":"$V$7&ADDRESS(V12,1)&\":\"&ADDRESS(V12,V9)","v":"'Data'!$A$1:$AD$1"}]
[null,null,null,null,"Patients required to achieve NHSE Target (90%)","Patients required to achieve NHSE Target (90%)",null,null,"August 2022","Q2","Q2: July 2017 - September 2017",null,"2017-07-01","Globe Town Surgery","F84123","Globe Town Surgery",null,null,"NW1",null,"NwID",2,{"$f":"$V$7&ADDRESS(1,V6)&\":\"&ADDRESS($V$8,V6)","v":"'Data'!$B$1:$B$2000"}]
[null,null,null,null,"Patients required to achieve CCG Target (95%)","Patients required to achieve CCG Target (95%)",null,null,"September 2022","Q2","Q2: July 2017 - September 2017",null,"2017-08-01","Pollard Row Surgery","Y00212","Pollard Row Surgery",null,null,"NW1",null,"Data",{"$f":"IF(V10=\"N\",\"BLANK!\",\"'\"&V11&\"'!\")","v":"'Data'!"}]
[null,null,null,null,"(01.02) Men B (1st and 2nd)","Men B",null,null,"October 2022","Q3","Q3: October 2017 - December 2017",null,"2017-09-01","Strouts Place Medical Centre","F84051","Strouts Place Medical Centre",null,null,"NW1",null,"Rows",2000]
[null,"Waltham Forest","Total",null,"Men B(%)","Men B(%)",null,null,"November 2022","Q3","Q3: October 2017 - December 2017",null,"2017-10-01","Spitalfields Practice","F84081","Spitalfields Practice",null,null,"NW2",null,"Columns",30]
["LC1","Chingford Locality","LC1",null,"Patients required to achieve NHSE Target (90%)","Patients required to achieve NHSE Target (90%)",null,null,"December 2022","Q3","Q3: October 2017 - December 2017",null,"2017-11-01","Blithehale Medical Centre","F84718","Blithehale Medical Centre",null,null,"NW2",null,"Data (Y/N)","Y"]
["LC2","Leyton & Leytonstone Locality","LC2",null,"Patients required to achieve CCG Target (95%)","Patients required to achieve CCG Target (95%)",null,null,"January 2023","Q4","Q4: January 2018 - March 2018",null,"2017-12-01","Health E1","F84733","Health E1",null,null,"NW2",null,"Q Work Sheet","Data",{"$f":"$V$7&ADDRESS(1,1)&\":\"&ADDRESS(V8,V9)","v":"'Data'!$A$1:$AD$2000"}]
["LC3","Walthamstow Locality","LC3",null,"(01.03) PCV","PCV",null,null,"February 2023","Q4","Q4: January 2018 - March 2018",null,"2018-01-01","Albion Health Centre","F84012","Albion Health Centre",null,null,"NW2",null,"Header Row",1]
["LC1",{"$f":"VLOOKUP(C13,$C$132:$D$171,2,FALSE)","v":"Chingford Medical Practice"},"Y01291","LC3","PCV(%)","PCV(%)",null,null,"March 2023","Q4","Q4: January 2018 - March 2018",null,"2018-02-01","Harford Health Centre","F84087","Harford Health Centre",null,null,"NW3",null,"Header Row 2",3]
["LC1","Churchill Medical Centre","F86627","LC1","Patients required to achieve NHSE Target (90%)","Patients required to achieve NHSE Target (90%)",null,null,null,null,null,null,"2018-03-01","Brayford Square (Dr Varma)","F84046","Brayford Square (Dr Varma)",null,null,"NW3"]
["LC1","Kings Head Medical Practice","F86700","LC1","Patients required to achieve CCG Target (95%)","Patients required to achieve CCG Target (95%)",null,null,null,null,null,null,null,"Whitechapel Health (Shah Jalal)","F84039","Whitechapel Health (Shah Jalal)",null,null,"NW3"]
["LC1","Larkshall Medical Centre","F86664","LC3","(01.04) Rotavirus","Rotavirus",null,null,null,null,null,null,null,"City Wellbeing Practice (Tower Medical)","F84114","City Wellbeing Practice (Tower Medical)",null,null,"NW3"]
["LC1","Old Church Surgery","F86616","LC2","Rotavirus(%)","Rotavirus(%)",null,null,null,null,null,null,null,"Wapping Group Practice","F84079","Wapping Group Practice",null,null,"NW4"]
["LC1","The Ridgeway Surgery","F86078","LC3",null,null,null,null,null,null,null,null,null,"Jubilee Street Practice","F84031","Jubilee Street Practice",null,null,"NW4",null,null,"Patients becoming 12m",null,null,null,"Patients becoming 12m"]
["LC2"," Crawley Road Medical Centre","F86044","LC3",null,null,null,null,null,null,"2015/16 Q1",null,null,"St Katharine Docks Practice","F84731","St Katharine Docks Practice",null,null,"NW4",null,null,"DTaP/IPV/Hib",null,null,null,"DTaP/IPV/Hib %"]
["LC2","Francis Road Medical Centre","F86696","LC2",null,null,null,null,null,null,"2015/16 Q2",null,null,"East One Health","F84682","East One Health",null,null,"NW4",null,null,"Men B",null,null,null,"Men C / Men B %"]
["LC2","Green Man Medical Centre","F86621","LC2",null,null,null,null,null,null,"2015/16 Q3",null,null,"Harley Grove Medical Centre","F84044","Harley Grove Medical Centre",null,null,"NW5",null,null,"PCV",null,null,null,"PCV %"]
["LC2","Hampton Medical Centre","F86712","LC2",null,null,null,null,null,null,"2015/16 Q4",null,null,"St Stephens Health Centre","F84034","St Stephens Health Centre",null,null,"NW5"]
["LC2","High Road Surgery","F86045","LC2",null,null,null,null,null,null,"2016/17 Q1",null,null,"Ruston Street Clinic (Dr Amin)","F84030","Ruston Street Clinic (Dr Amin)",null,null,"NW5",null,null,"Patients becoming 24m",null,null,null,"Patients becoming 24m"]
["LC2","Kiyani Medical Practice","F86701","LC3",null,null,null,null,null,null,"2016/17 Q2",null,null,"Grove Road Surgery (Dr Shah)","F84055","Grove Road Surgery (Dr Shah)",null,null,"NW5",null,null,"MMR",null,null,null,"MMR %"]
["LC2","LL Medical Care (Agarwal & Agrwal Practice)","F86625","LC1","All Patients","Listsize ",null,null,null,null,"2016/17 Q3",null,null,"The Tredegar Practice","F84696","The Tredegar Practice",null,null,"NW5",null,null,"HiB/Men C",null,null,null,"HiB/Men C %"]
["LC2","The Langthorne Sharma Family Practice","F86705","LC2","(02) 24 MONTH COHORT","Patients becoming 24m",null,null,null,null,"2016/17 Q4",null,null,"Stroudley Walk Centre","F84676","Stroudley Walk Centre",null,null,"NW6",null,null,"PCV (Booster)",null,null,null,"PCV (Booster) %"]
["LC2","Lime Tree Surgery","F86650","LC2","(02.01) DTaP/IPV/Hib or DTaP/IPV/Hib/HepB","DTaP/IPV/Hib",null,null,null,null,"2017/18 Q1",null,null,"St Andrews Health Centre","Y03023","St Andrews Health Centre",null,null,"NW6"]
["LC2","Sma Medical Centre","F86038","LC2","DTaP/IPV/Hib(%)","DTaP/IPV/Hib(%)",null,null,null,null,"2017/18 Q2",null,null,"Merchant Street (Dr Rana)","F84118","Merchant Street (Dr Rana)",null,null,"NW6",null,null,"Patients becoming 5y",null,null,null,"Patients becoming 5y"]
["LC2","The Allum Medical Centre","F86036","LC1","Patients required to achieve NHSE Target (90%)","Patients required to achieve NHSE Target (90%)",null,null,null,null,"2017/18 Q3",null,null,"St Pauls Way Medical Centre","F84714","St Pauls Way Medical Centre",null,null,"NW6",null,null,"DTaP/IPV (Booster)(%)",null,null,null,"DTaP/IPV (Booster)(%)"]
["LC2","The Harrow Road Surgery","F86666","LC3","Patients required to achieve CCG Target (95%)","Patients required to achieve CCG Target (95%)",null,null,null,null,"2017/18 Q4",null,null,"Bromley-By-Bow Health Centre / XX Place","F84122","Bromley-By-Bow Health Centre / XX Place",null,null,"NW6",null,null,"MMR (Booster)(%)",null,null,null,"MMR (Booster)(%)"]
["LC2","The Lyndhurst Surgery","F86088","LC2","(02.02) MMR","MMR",null,null,null,null,"2018/19 Q1",null,null,"Limehouse Practice (Gill Street)","F84054","Limehouse Practice (Gill Street)",null,null,"NW7"]
["LC2","The Manor Practice","F86011","LC3","MMR(%)","MMR(%)",null,null,null,null,"2018/19 Q2",null,null,"Chrisp Street Health Centre","F84062","Chrisp Street Health Centre",null,null,"NW7",null,null,"(01) 12 MONTH COHORT"]
["LC3",{"$f":"VLOOKUP(C33,$C$132:$D$171,2,FALSE)","v":"Addison Road Medical Practice"},"F86607","LC3","Patients required to achieve NHSE Target (90%)","Patients required to achieve NHSE Target (90%)",null,null,null,null,"2018/19 Q3",null,null,"Aberfeldy Practice","F84698","Aberfeldy Practice",null,null,"NW7",null,null,"(01.01) DTaP/IPV/Hib 6in1"]
["LC3","Claremont Medical Centre","F86708","LC2","Patients required to achieve CCG Target (95%)","Patients required to achieve CCG Target (95%)",null,null,null,null,"2018/19 Q4",null,null,"Gough Walk (Dr Selvan)","F84025","Gough Walk (Dr Selvan)",null,null,"NW7",null,null,"(01.02) Men B (1st and 2nd)"]
["LC3","Dr Dhital Practice","F86086","LC3","(02.03) HiB/Men C","HiB/Men C",null,null,null,null,null,null,null,"Island Health","F84710","Island Health",null,null,"NW8",null,null,"(01.03) PCV"]
["LC3","Dr Shantir Practice","F86626","LC2","HiB/Men C (%)","HiB/Men C (%)",null,null,null,"Patient becoming 12m","'Control Panel'!$V$18:$V$21","'Control Panel'!$Z$18:$Z$21",null,"Docklands Medical Centre","F84656","Docklands Medical Centre",null,null,"NW8"]
["LC3","Higham Hill Medical Centre","F86679","LC3","Patients required to achieve NHSE Target (90%)","Patients required to achieve NHSE Target (90%)",null,null,null,"Patient becoming 24m","'Control Panel'!$V23:$V$26","'Control Panel'!$Z23:$Z$26",null,"Island Medical Centre","F84647","Island Medical Centre",null,null,"NW8",null,null,"(02) 24 MONTH COHORT"]
["LC3","Lime Tree & Sinnott Healthcare Ltd","Y01839","LC3","Patients required to achieve CCG Target (95%)","Patients required to achieve CCG Target (95%)",null,null,null,"Patient becoming 5y","'Control Panel'!$V28:$V$30","'Control Panel'!$Z28:$Z$30",null,"Barkantine Practice","F84747","Barkantine Practice",null,null,"NW8",null,null,"(02.02) MMR"]
["LC3"," The Penryhn Surgery","F86005","LC3","(02.04) PCV (Booster)","PCV (Booster)",null,null,null,null,null,null,null,"Tower Hamlets","Total","Tower Hamlets",null,null,null,null,null,"(02.03) HiB/Men C"]
["LC3"," Queens Road Medical Centre","F86030","LC2","PCV (Booster)(%)","PCV (Booster)(%)",null,null,null,null,null,null,null,"The One Network","NW1","The One Network",null,null,"NW1",null,null,"(02.04) PCV (Booster)"]
["LC3","Seymour Medical Centre","F86006","LC2","Patients required to achieve NHSE Target (90%)","Patients required to achieve NHSE Target (90%)",null,null,null,"Patient becoming 12m","'Control Panel'!$V$32:$V$35",null,null,"East End Health Network","NW2","East End Health Network",null,null,"NW2"]
["LC3","St James Medical Practice Ltd","F86058","LC2","Patients required to achieve CCG Target (95%)","Patients required to achieve CCG Target (95%)",null,null,null,"Patient becoming 24m","'Control Panel'!$V37:$V$40",null,null,"Stepney and Whitechapel Network","NW3","Stepney and Whitechapel Network",null,null,"NW3",null,null,"(03) 5 YEAR COHORT"]
["LC3","The Bailey Practice","F86689","LC1","(02.05) Men B (Booster)","Men B (Booster)",null,null,null,"Patient becoming 5y","'Control Panel'!$V42:$V$44",null,null,"The Highway Network","NW4","The Highway Network",null,null,"NW4",null,null,"(03.03) DTaP/IPV (Booster)"]
["LC3"," The Firs","F86001","LC2","Men B (Booster)(%)","Men B (Booster)(%)",null,null,null,null,null,null,null,"Bow Health Network","NW5","Bow Health Network",null,null,"NW5",null,null,"(03.05) MMR (Booster)"]
["LC3","Grove Surgery","F86062","LC1",null,null,null,null,null,null,null,null,null,"Mile End East and Bromley by Bow Network","NW6","Mile End East and Bromley by Bow Network",null,null,"NW6"]
["LC3","Waltham Forest Community & Family Health Services Ltd","F86644","LC3",null,null,null,null,null,null,null,null,null,"Poplar and Limehouse Network","NW7","Poplar and Limehouse Network",null,null,"NW7"]
[null,null,null,null,null,null,null,null,null,null,null,null,null,"Healthy Island Network","NW8","Healthy Island Network",null,null,"NW8"]
[null,null,null,null,"All Patients","Listsize "]
[null,null,null,null,"(03) 5 YEAR COHORT","Patients becoming 5y",null,null,null,null,null,null,null,null,null,null,null,null,null,null,null,null,null,null,"April 2019","2019-05-01"]
[null,null,null,null,"(03.01) DTaP/IPV/Hib or DTaP/IPV/Hib/HepB","DTaP/IPV/Hib",null,null,null,null,null,null,null,null,null,null,null,null,null,null,null,null,null,null,"May 2019","2019-06-01"]
[null,null,null,null,"DTaP/IPV/Hib(%)","DTaP/IPV/Hib(%)",null,null,null,null,null,null,null,"xx",null,null,null,"bbb",null,null,null,null,null,null,"June 2019","2019-07-01"]
[null,null,null,null,"(03.02) MMR (Primary)","MMR (Primary)",null,null,null,null,null,null,null,null,null,null,null,null,null,null,null,null,null,null,"July 2019","2019-08-01"]
[null,null,null,null,"MMR (Primary)(%)","MMR (Primary)(%)",null,null,null,"Data",null,null,null,"Array Start","Array End","Array as Text",null,"Array Start","Array End",null,null,null,null,null,"August 2019","2019-09-01"]
[null,null,null,null,"(03.03) DTaP/IPV (Booster)","DTaP/IPV (Booster)",null,null,null,null,null,null,null,{"$f":"\"'XX place'!\"&ADDRESS(MATCH(I56,#REF!,0)+7,2)","v":{"$error":"#REF!"}},{"$f":"ADDRESS(MATCH(I56,#REF!,0)+43,3)","v":{"$error":"#REF!"}},{"$f":"TEXT(N54&\":\"&O54,\"\")","v":{"$error":"#REF!"}},null,{"$f":"\"'BBB'!\"&ADDRESS(MATCH(I56,#REF!,0)+7,2)","v":{"$error":"#REF!"}},{"$f":"ADDRESS(MATCH(I56,#REF!,0)+43,3)","v":{"$error":"#REF!"}},null,null,null,null,null,"September 2019","2019-10-01"]
[null,null,null,null,"DTaP/IPV (Booster)(%)","DTaP/IPV (Booster)(%)",null,null,"Search Title","Array Start","Array End","Array as Text",null,{"$f":"\"'XX place'!\"&ADDRESS(MATCH(I57,#REF!,0)+7,2)","v":{"$error":"#REF!"}},{"$f":"ADDRESS(MATCH(I57,#REF!,0)+43,3)","v":{"$error":"#REF!"}},{"$error":"#REF!"},null,{"$f":"\"'BBB'!\"&ADDRESS(MATCH(I57,#REF!,0)+7,2)","v":{"$error":"#REF!"}},{"$f":"ADDRESS(MATCH(I57,#REF!,0)+43,3)","v":{"$error":"#REF!"}},"Array as Text",null,null,null,null,"October 2019","2019-11-01"]
[null,null,null,null,"Patients required to achieve NHSE Target (90%)","Patients required to achieve NHSE Target (90%)",null,null,"All Patients",{"$f":"\"Data!\"&ADDRESS(MATCH(I56,#REF!,0)+7,2)","v":{"$error":"#REF!"}},{"$f":"ADDRESS(MATCH(I56,#REF!,0)+46,3)","v":{"$error":"#REF!"}},{"$f":"TEXT(J56&\":\"&K56,\"\")","v":{"$error":"#REF!"}},null,{"$f":"\"'XX place'!\"&ADDRESS(MATCH(I58,#REF!,0)+7,2)","v":{"$error":"#REF!"}},{"$f":"ADDRESS(MATCH(I58,#REF!,0)+43,3)","v":{"$error":"#REF!"}},{"$error":"#REF!"},null,{"$f":"\"'BBB'!\"&ADDRESS(MATCH(I58,#REF!,0)+7,2)","v":{"$error":"#REF!"}},{"$f":"ADDRESS(MATCH(I58,#REF!,0)+43,3)","v":{"$error":"#REF!"}},{"$f":"TEXT(R54&\":\"&S54,\"\")","v":{"$error":"#REF!"}},null,null,null,null,"November 2019","2019-12-01"]
[null,null,null,null,"Patients required to achieve CCG Target (95%)","Patients required to achieve CCG Target (95%)",null,null,"(01) 12 MONTH COHORT",{"$f":"\"Data!\"&ADDRESS(MATCH(I57,#REF!,0)+7,2)","v":{"$error":"#REF!"}},{"$f":"ADDRESS(MATCH(I57,#REF!,0)+46,3)","v":{"$error":"#REF!"}},{"$error":"#REF!"},null,{"$f":"\"'XX place'!\"&ADDRESS(MATCH(I59,#REF!,0)+7,2)","v":{"$error":"#REF!"}},{"$f":"ADDRESS(MATCH(I59,#REF!,0)+43,3)","v":{"$error":"#REF!"}},{"$error":"#REF!"},null,{"$f":"\"'BBB'!\"&ADDRESS(MATCH(I59,#REF!,0)+7,2)","v":{"$error":"#REF!"}},{"$f":"ADDRESS(MATCH(I59,#REF!,0)+43,3)","v":{"$error":"#REF!"}},{"$error":"#REF!"},null,null,null,null,"December 2019","2020-01-01"]
[null,null,null,null,"(03.05) MMR (Booster)","MMR (Booster)",null,null,"(01.01) DTaP/IPV/Hib",{"$f":"\"Data!\"&ADDRESS(MATCH(I58,#REF!,0)+7,2)","v":{"$error":"#REF!"}},{"$f":"ADDRESS(MATCH(I58,#REF!,0)+46,3)","v":{"$error":"#REF!"}},{"$error":"#REF!"},null,{"$f":"\"'XX place'!\"&ADDRESS(MATCH(I60,#REF!,0)+7,2)","v":{"$error":"#REF!"}},{"$f":"ADDRESS(MATCH(I60,#REF!,0)+43,3)","v":{"$error":"#REF!"}},{"$error":"#REF!"},null,{"$f":"\"'BBB'!\"&ADDRESS(MATCH(I60,#REF!,0)+7,2)","v":{"$error":"#REF!"}},{"$f":"ADDRESS(MATCH(I60,#REF!,0)+43,3)","v":{"$error":"#REF!"}},{"$error":"#REF!"},null,null,null,null,"January 2020","2020-02-01"]
[null,null,null,null,"MMR (Booster)(%)","MMR (Booster)(%)",null,null,"(01.02) Men C",{"$f":"\"Data!\"&ADDRESS(MATCH(I59,#REF!,0)+7,2)","v":{"$error":"#REF!"}},{"$f":"ADDRESS(MATCH(I59,#REF!,0)+46,3)","v":{"$error":"#REF!"}},{"$error":"#REF!"},null,{"$f":"\"'XX place'!\"&ADDRESS(MATCH(I61,#REF!,0)+7,2)","v":{"$error":"#REF!"}},{"$f":"ADDRESS(MATCH(I61,#REF!,0)+43,3)","v":{"$error":"#REF!"}},{"$error":"#REF!"},null,{"$f":"\"'BBB'!\"&ADDRESS(MATCH(I61,#REF!,0)+7,2)","v":{"$error":"#REF!"}},{"$f":"ADDRESS(MATCH(I61,#REF!,0)+43,3)","v":{"$error":"#REF!"}},{"$error":"#REF!"},null,null,null,null,"February 2020","2020-03-01"]
[null,null,null,null,"Patients required to achieve NHSE Target (90%)","Patients required to achieve NHSE Target (90%)",null,null,"(01.03) PCV",{"$f":"\"Data!\"&ADDRESS(MATCH(I60,#REF!,0)+7,2)","v":{"$error":"#REF!"}},{"$f":"ADDRESS(MATCH(I60,#REF!,0)+46,3)","v":{"$error":"#REF!"}},{"$error":"#REF!"},null,{"$f":"\"'XX place'!\"&ADDRESS(MATCH(I62,#REF!,0)+7,2)","v":{"$error":"#REF!"}},{"$f":"ADDRESS(MATCH(I62,#REF!,0)+43,3)","v":{"$error":"#REF!"}},{"$error":"#REF!"},null,{"$f":"\"'BBB'!\"&ADDRESS(MATCH(I62,#REF!,0)+7,2)","v":{"$error":"#REF!"}},{"$f":"ADDRESS(MATCH(I62,#REF!,0)+43,3)","v":{"$error":"#REF!"}},{"$error":"#REF!"},null,null,null,null,"March 2020","2020-04-01"]
[null,null,null,null,"Patients required to achieve CCG Target (95%)","Patients required to achieve CCG Target (95%)",null,null,"(01.04) Rotavirus",{"$f":"\"Data!\"&ADDRESS(MATCH(I61,#REF!,0)+7,2)","v":{"$error":"#REF!"}},{"$f":"ADDRESS(MATCH(I61,#REF!,0)+46,3)","v":{"$error":"#REF!"}},{"$error":"#REF!"},null,{"$f":"\"'XX place'!\"&ADDRESS(MATCH(I63,#REF!,0)+7,2)","v":{"$error":"#REF!"}},{"$f":"ADDRESS(MATCH(I63,#REF!,0)+43,3)","v":{"$error":"#REF!"}},{"$error":"#REF!"},null,{"$f":"\"'BBB'!\"&ADDRESS(MATCH(I63,#REF!,0)+7,2)","v":{"$error":"#REF!"}},{"$f":"ADDRESS(MATCH(I63,#REF!,0)+43,3)","v":{"$error":"#REF!"}},{"$error":"#REF!"}]
[null,null,null,null,"(03.04) HiB/Men C","HiB/Men C",null,null,"(01.05) BCG",{"$f":"\"Data!\"&ADDRESS(MATCH(I62,#REF!,0)+7,2)","v":{"$error":"#REF!"}},{"$f":"ADDRESS(MATCH(I62,#REF!,0)+46,3)","v":{"$error":"#REF!"}},{"$error":"#REF!"},null,{"$f":"\"'XX place'!\"&ADDRESS(MATCH(I64,#REF!,0)+7,2)","v":{"$error":"#REF!"}},{"$f":"ADDRESS(MATCH(I64,#REF!,0)+43,3)","v":{"$error":"#REF!"}},{"$error":"#REF!"},null,{"$f":"\"'BBB'!\"&ADDRESS(MATCH(I64,#REF!,0)+7,2)","v":{"$error":"#REF!"}},{"$f":"ADDRESS(MATCH(I64,#REF!,0)+43,3)","v":{"$error":"#REF!"}},{"$error":"#REF!"}]
[null,null,null,null,"HiB/Men C(%)","HiB/Men C(%)",null,null,"(02) 24 MONTH COHORT",{"$f":"\"Data!\"&ADDRESS(MATCH(I63,#REF!,0)+7,2)","v":{"$error":"#REF!"}},{"$f":"ADDRESS(MATCH(I63,#REF!,0)+46,3)","v":{"$error":"#REF!"}},{"$error":"#REF!"},null,{"$f":"\"'XX place'!\"&ADDRESS(MATCH(I65,#REF!,0)+7,2)","v":{"$error":"#REF!"}},{"$f":"ADDRESS(MATCH(I65,#REF!,0)+43,3)","v":{"$error":"#REF!"}},{"$error":"#REF!"},null,{"$f":"\"'BBB'!\"&ADDRESS(MATCH(I65,#REF!,0)+7,2)","v":{"$error":"#REF!"}},{"$f":"ADDRESS(MATCH(I65,#REF!,0)+43,3)","v":{"$error":"#REF!"}},{"$error":"#REF!"}]
[null,null,null,null,null,null,null,null,"(02.01) DTaP/IPV/Hib",{"$f":"\"Data!\"&ADDRESS(MATCH(I64,#REF!,0)+7,2)","v":{"$error":"#REF!"}},{"$f":"ADDRESS(MATCH(I64,#REF!,0)+46,3)","v":{"$error":"#REF!"}},{"$error":"#REF!"},null,{"$f":"\"'XX place'!\"&ADDRESS(MATCH(I66,#REF!,0)+7,2)","v":{"$error":"#REF!"}},{"$f":"ADDRESS(MATCH(I66,#REF!,0)+43,3)","v":{"$error":"#REF!"}},{"$error":"#REF!"},null,{"$f":"\"'BBB'!\"&ADDRESS(MATCH(I66,#REF!,0)+7,2)","v":{"$error":"#REF!"}},{"$f":"ADDRESS(MATCH(I66,#REF!,0)+43,3)","v":{"$error":"#REF!"}},{"$error":"#REF!"}]
[null,null,null,null,null,null,null,null,"(02.02) MMR",{"$f":"\"Data!\"&ADDRESS(MATCH(I65,#REF!,0)+7,2)","v":{"$error":"#REF!"}},{"$f":"ADDRESS(MATCH(I65,#REF!,0)+46,3)","v":{"$error":"#REF!"}},{"$error":"#REF!"},null,{"$f":"\"'XX place'!\"&ADDRESS(MATCH(I67,#REF!,0)+7,2)","v":{"$error":"#REF!"}},{"$f":"ADDRESS(MATCH(I67,#REF!,0)+43,3)","v":{"$error":"#REF!"}},{"$error":"#REF!"},null,{"$f":"\"'BBB'!\"&ADDRESS(MATCH(I67,#REF!,0)+7,2)","v":{"$error":"#REF!"}},{"$f":"ADDRESS(MATCH(I67,#REF!,0)+43,3)","v":{"$error":"#REF!"}},{"$error":"#REF!"}]
[null,null,null,null,null,null,null,null,"(02.03) HiB/Men C",{"$f":"\"Data!\"&ADDRESS(MATCH(I66,#REF!,0)+7,2)","v":{"$error":"#REF!"}},{"$f":"ADDRESS(MATCH(I66,#REF!,0)+46,3)","v":{"$error":"#REF!"}},{"$error":"#REF!"},null,{"$f":"\"'XX place'!\"&ADDRESS(MATCH(I68,#REF!,0)+7,2)","v":{"$error":"#REF!"}},{"$f":"ADDRESS(MATCH(I68,#REF!,0)+43,3)","v":{"$error":"#REF!"}},{"$error":"#REF!"},null,{"$f":"\"'BBB'!\"&ADDRESS(MATCH(I68,#REF!,0)+7,2)","v":{"$error":"#REF!"}},{"$f":"ADDRESS(MATCH(I68,#REF!,0)+43,3)","v":{"$error":"#REF!"}},{"$error":"#REF!"}]
[null,null,null,null,"3rd DTAP/IPV/Hib","'Control Panel'!$G$67:$G$69","(01) 12 MONTH COHORT",null,"(02.04) PCV (Booster)",{"$f":"\"Data!\"&ADDRESS(MATCH(I67,#REF!,0)+7,2)","v":{"$error":"#REF!"}},{"$f":"ADDRESS(MATCH(I67,#REF!,0)+46,3)","v":{"$error":"#REF!"}},{"$error":"#REF!"},null,{"$f":"\"'XX place'!\"&ADDRESS(MATCH(I69,#REF!,0)+7,2)","v":{"$error":"#REF!"}},{"$f":"ADDRESS(MATCH(I69,#REF!,0)+43,3)","v":{"$error":"#REF!"}},{"$error":"#REF!"},null,{"$f":"\"'BBB'!\"&ADDRESS(MATCH(I69,#REF!,0)+7,2)","v":{"$error":"#REF!"}},{"$f":"ADDRESS(MATCH(I69,#REF!,0)+43,3)","v":{"$error":"#REF!"}},{"$error":"#REF!"}]
[null,null,null,null,"MMR 1 at 2years","'Control Panel'!$G$70:$G$72","(01.01) DTaP/IPV/Hib",null,"(03) 5 YEAR COHORT",{"$f":"\"Data!\"&ADDRESS(MATCH(I68,#REF!,0)+7,2)","v":{"$error":"#REF!"}},{"$f":"ADDRESS(MATCH(I68,#REF!,0)+46,3)","v":{"$error":"#REF!"}},{"$error":"#REF!"},null,{"$f":"\"'XX place'!\"&ADDRESS(MATCH(I70,#REF!,0)+7,2)","v":{"$error":"#REF!"}},{"$f":"ADDRESS(MATCH(I70,#REF!,0)+43,3)","v":{"$error":"#REF!"}},{"$error":"#REF!"},null,{"$f":"\"'BBB'!\"&ADDRESS(MATCH(I70,#REF!,0)+7,2)","v":{"$error":"#REF!"}},{"$f":"ADDRESS(MATCH(I70,#REF!,0)+43,3)","v":{"$error":"#REF!"}},{"$error":"#REF!"}]
[null,null,null,null,"MMR 2 at 5yrs ","'Control Panel'!$G$73:$G$75","DTaP/IPV/Hib(%)",null,"(03.01) DTaP/IPV/Hib",{"$f":"\"Data!\"&ADDRESS(MATCH(I69,#REF!,0)+7,2)","v":{"$error":"#REF!"}},{"$f":"ADDRESS(MATCH(I69,#REF!,0)+46,3)","v":{"$error":"#REF!"}},{"$error":"#REF!"},null,{"$f":"\"'XX place'!\"&ADDRESS(MATCH(I71,#REF!,0)+7,2)","v":{"$error":"#REF!"}},{"$f":"ADDRESS(MATCH(I71,#REF!,0)+43,3)","v":{"$error":"#REF!"}},{"$error":"#REF!"},null,{"$f":"\"'BBB'!\"&ADDRESS(MATCH(I71,#REF!,0)+7,2)","v":{"$error":"#REF!"}},{"$f":"ADDRESS(MATCH(I71,#REF!,0)+43,3)","v":{"$error":"#REF!"}},{"$error":"#REF!"}]
[null,null,null,null,"3rd DTAP/IPV/Hib at 1 year","'Control Panel'!$G$67:$G$69","(02) 24 MONTH COHORT",null,"(03.02) MMR (Primary)",{"$f":"\"Data!\"&ADDRESS(MATCH(I70,#REF!,0)+7,2)","v":{"$error":"#REF!"}},{"$f":"ADDRESS(MATCH(I70,#REF!,0)+46,3)","v":{"$error":"#REF!"}},{"$error":"#REF!"},null,{"$f":"\"'XX place'!\"&ADDRESS(MATCH(I72,#REF!,0)+7,2)","v":{"$error":"#REF!"}},{"$f":"ADDRESS(MATCH(I72,#REF!,0)+43,3)","v":{"$error":"#REF!"}},{"$error":"#REF!"},null,{"$f":"\"'BBB'!\"&ADDRESS(MATCH(I72,#REF!,0)+7,2)","v":{"$error":"#REF!"}},{"$f":"ADDRESS(MATCH(I72,#REF!,0)+43,3)","v":{"$error":"#REF!"}},{"$error":"#REF!"}]
[null,null,null,null,"MMR 1 at 2 years","'Control Panel'!$G$70:$G$72","(02.02) MMR",null,"(03.03) DTaP/IPV (Booster)",{"$f":"\"Data!\"&ADDRESS(MATCH(I71,#REF!,0)+7,2)","v":{"$error":"#REF!"}},{"$f":"ADDRESS(MATCH(I71,#REF!,0)+46,3)","v":{"$error":"#REF!"}},{"$error":"#REF!"},null,{"$f":"\"'XX place'!\"&ADDRESS(MATCH(I73,#REF!,0)+7,2)","v":{"$error":"#REF!"}},{"$f":"ADDRESS(MATCH(I73,#REF!,0)+43,3)","v":{"$error":"#REF!"}},{"$f":"TEXT(N71&\":\"&O71,\"\")","v":{"$error":"#REF!"}},null,{"$f":"\"'BBB'!\"&ADDRESS(MATCH(I73,#REF!,0)+7,2)","v":{"$error":"#REF!"}},{"$f":"ADDRESS(MATCH(I73,#REF!,0)+43,3)","v":{"$error":"#REF!"}},{"$error":"#REF!"}]
[null,null,null,null,"Pre-school booster at 5years","'Control Panel'!$G$76:$G$78","MMR(%)",null,"(03.04) HiB/Men C",{"$f":"\"Data!\"&ADDRESS(MATCH(I72,#REF!,0)+7,2)","v":{"$error":"#REF!"}},{"$f":"ADDRESS(MATCH(I72,#REF!,0)+46,3)","v":{"$error":"#REF!"}},{"$error":"#REF!"},null,null,null,null,null,null,null,{"$error":"#REF!"}]
[null,null,null,null,null,null,"(03) 5 YEAR COHORT",null,"(03.05) MMR (Booster)",{"$f":"\"Data!\"&ADDRESS(MATCH(I73,#REF!,0)+7,2)","v":{"$error":"#REF!"}},{"$f":"ADDRESS(MATCH(I73,#REF!,0)+46,3)","v":{"$error":"#REF!"}},{"$f":"TEXT(J73&\":\"&K73,\"\")","v":{"$error":"#REF!"}},null,null,null,null,null,null,null,{"$f":"TEXT(R71&\":\"&S71,\"\")","v":{"$error":"#REF!"}}]
[null,null,null,null,null,null,"(03.02) MMR (Primary)"]
[null,null,null,null,null,null,"MMR (Primary)(%)"]
[null,null,null,null,null,null,"(03) 5 YEAR COHORT"]
[null,null,null,null,null,null,"(03.05) MMR (Booster)",null,"Waltham Forest","Total","Total"]
[null,null,null,null,null,null,"MMR (Booster)(%)","WF-1","Chingford/ Walthamstow","WF-1","*WF-1"]
[null,null,null,null,null,null,null,"WF-2","Chingford E4","WF-2","*WF-2"]
[null,null,null,null,null,null,null,"WF-3","Leyton Collaborative","WF-3","*WF-3"]
[null,null,null,null,null,null,null,"WF-4","Forest Integrated Health","WF-4","*WF-4"]
[null,null,null,null,null,null,null,"WF-5","South Leytonstone","WF-5","*WF-5"]
[null,null,null,null,null,null,null,"WF-6","Central Walthamstow","WF-6","*WF-6"]
[null,null,null,null,null,null,null,"WF-7","Walthamstow West","WF-7","*WF-7"]
["F86700","Kings Head Medical Practice","WF","Waltham Forest","WF-1","Chingford E4",null,"WF-1","Dr Shantir Practice","F86626","WF-6"]
["F86664","Larkshall Medical Centre","WF","Waltham Forest","WF-1","Chingford E4",null,"WF-1","Kings Head Medical Practice","F86700","WF-2"]
["F86638","The Microfaculty*","WF","Waltham Forest","WF-1","Chingford E4",null,"WF-1","Larkshall Medical Centre","F86664","WF-2"]
["F86005"," The Penryhn Surgery","WF","Waltham Forest","WF-1","Chingford/ Walthamstow",null,"WF-1","Lime Tree & Sinnott Healthcare Ltd","Y01839","WF-6"]
["F86626","Dr Shantir Practice","WF","Waltham Forest","WF-1","Chingford/ Walthamstow",null,"WF-1"," The Penryhn Surgery","F86005","WF-4"]
["Y01839","Lime Tree & Sinnott Healthcare Ltd","WF","Waltham Forest","WF-1","Chingford E4",null,"WF-1","The Bailey Practice","F86689","WF-6"]
["F86689","The Bailey Practice","WF","Waltham Forest","WF-1","Chingford/ Walthamstow",null,"WF-2","Chingford Medical Practice","Y01291","WF-1"]
["F86026","Forest Surgery*","WF","Waltham Forest","WF-1","Leyton Collaborative",null,"WF-2","Churchill Medical Centre","F86627","WF-4"]
["F86004","Handsworth Medical Centre*","WF","Waltham Forest","WF-1","Forest Integrated Health",null,"WF-2","Old Church Surgery","F86616","WF-5"]
["Y01291","Chingford Medical Practice","WF","Waltham Forest","WF-2","Leyton Collaborative",null,"WF-2","The Ridgeway Surgery","F86078","WF-4"]
["F86627","Churchill Medical Centre","WF","Waltham Forest","WF-2","Forest Integrated Health",null,"WF-3","Sma Medical Centre","F86038","WF-5"]
["F86078","The Ridgeway Surgery","WF","Waltham Forest","WF-2","Forest Integrated Health",null,"WF-3","The Manor Practice","F86011","WF-7"]
["F86616","Old Church Surgery","WF","Waltham Forest","WF-2","South Leytonstone",null,"WF-4"," Crawley Road Medical Centre","F86044","WF-5"]
["F86011","The Manor Practice","WF","Waltham Forest","WF-3","Forest Integrated Health",null,"WF-4","Francis Road Medical Centre","F86696","WF-5"]
["F86038","Sma Medical Centre","WF","Waltham Forest","WF-3","South Leytonstone",null,"WF-4","Hampton Medical Centre","F86712","WF-5"]
["F86074","Leyton Healthcare (Oliver Road)*","WF","Waltham Forest","WF-3","South Leytonstone",null,"WF-4","Lime Tree Surgery","F86650","WF-1"]
["F86036","The Allum Medical Centre","WF","Waltham Forest","WF-4","Forest Integrated Health",null,"WF-4","The Allum Medical Centre","F86036","WF-1"]
["F86044"," Crawley Road Medical Centre","WF","Waltham Forest","WF-4","South Leytonstone",null,"WF-4","The Lyndhurst Surgery","F86088","WF-4"]
["F86696","Francis Road Medical Centre","WF","Waltham Forest","WF-4","South Leytonstone",null,"WF-5","Green Man Medical Centre","F86621","WF-1"]
["F86712","Hampton Medical Centre","WF","Waltham Forest","WF-4","South Leytonstone",null,"WF-5","High Road Surgery","F86045","WF-7"]
["F86650","Lime Tree Surgery","WF","Waltham Forest","WF-4","Forest Integrated Health",null,"WF-5","Kiyani Medical Practice","F86701","WF-7"]
["F86088","The Lyndhurst Surgery","WF","Waltham Forest","WF-4","Leyton Collaborative",null,"WF-5","LL Medical Care (Agarwal & Agrwal Practice)","F86625","WF-3"]
["F86018","The Ecclesbourne Practice*","WF","Waltham Forest","WF-4","Leyton Collaborative",null,"WF-5","The Langthorne Sharma Family Practice","F86705","WF-7"]
["F86621","Green Man Medical Centre","WF","Waltham Forest","WF-5","Forest Integrated Health",null,"WF-5","The Harrow Road Surgery","F86666","WF-4"]
["F86045","High Road Surgery","WF","Waltham Forest","WF-5","Central Walthamstow",null,"WF-6","Addison Road Medical Practice","F86607","WF-1"]
["F86701","Kiyani Medical Practice","WF","Waltham Forest","WF-5","Central Walthamstow",null,"WF-6","Claremont Medical Centre","F86708","WF-6"]
["F86625","LL Medical Care (Agarwal & Agrwal Practice)","WF","Waltham Forest","WF-5","Central Walthamstow",null,"WF-6","Dr Dhital Practice","F86086","WF-7"]
["F86666","The Harrow Road Surgery","WF","Waltham Forest","WF-5","Chingford/ Walthamstow",null,"WF-6"," The Firs","F86001","WF-5"]
["F86705","The Langthorne Sharma Family Practice","WF","Waltham Forest","WF-5","Central Walthamstow",null,"WF-6","Waltham Forest Community & Family Health Services Ltd","F86644","WF-4"]
["F86607","Addison Road Medical Practice","WF","Waltham Forest","WF-6","Walthamstow West",null,"WF-7","Higham Hill Medical Centre","F86679","WF-3"]
["F86708","Claremont Medical Centre","WF","Waltham Forest","WF-6","Chingford/ Walthamstow",null,"WF-7"," Queens Road Medical Centre","F86030","WF-2"]
["F86001"," The Firs","WF","Waltham Forest","WF-6","Walthamstow West",null,"WF-7","Seymour Medical centre ","F86006","WF-3"]
["F86086","Dr Dhital Practice","WF","Waltham Forest","WF-6","Walthamstow West",null,"WF-7","St James Medical Practice Ltd","F86058","WF-2"]
["F86644","Waltham Forest Community & Family Health Services Ltd","WF","Waltham Forest","WF-6","Walthamstow West",null,"WF-7","The Grove Road Medical Centre ","F86062","WF-6"]
["F86006","Seymour Medical centre ","WF","Waltham Forest","WF-7","Chingford/ Walthamstow"]
["F86030"," Queens Road Medical Centre","WF","Waltham Forest","WF-7","Walthamstow West"]
["F86062","The Grove Road Medical Centre ","WF","Waltham Forest","WF-7","Chingford/ Walthamstow"]
["F86679","Higham Hill Medical Centre","WF","Waltham Forest","WF-7","Central Walthamstow"]
["F86058","St James Medical Practice Ltd","WF","Waltham Forest","WF-7","Chingford/ Walthamstow"]
[null,null,null,null,null,"Chingford/ Walthamstow"]
[]
[]
[]
[]
[]
[]
[]
[null,{"$f":"VLOOKUP(D132,$B$13:$C$47,2,FALSE)","v":"F86700"},"F86700","Kings Head Medical Practice",null,null,"F86700","Kings Head Medical Practice","WF","Waltham Forest","WF-1"]
[null,{"$f":"VLOOKUP(D133,$B$13:$C$47,2,FALSE)","v":"F86664"},"F86664","Larkshall Medical Centre",null,null,"F86664","Larkshall Medical Centre","WF","Waltham Forest","WF-1"]
[null,{"$error":"#N/A"},"F86638","The Microfaculty",null,null,"F86638","The Microfaculty","WF","Waltham Forest","WF-1"]
[null,"F86005","F86005"," The Penryhn Surgery",null,null,"F86005"," The Penryhn Surgery","WF","Waltham Forest","WF-1"]
[null,"F86626","F86626","Dr Shantir Practice",null,null,"F86626","Dr Shantir Practice","WF","Waltham Forest","WF-1"]
[null,"Y01839","Y01839","Lime Tree & Sinnott Healthcare Ltd",null,null,"Y01839","Lime Tree & Sinnott Healthcare Ltd","WF","Waltham Forest","WF-1"]
[null,"F86689","F86689","The Bailey Practice",null,null,"F86689","The Bailey Practice","WF","Waltham Forest","WF-1"]
[null,{"$error":"#N/A"},"F86026","Forest Surgery",null,null,"F86026","Forest Surgery","WF","Waltham Forest","WF-1"]
[null,{"$error":"#N/A"},"F86004","Handsworth Medical Centre",null,null,"F86004","Handsworth Medical Centre","WF","Waltham Forest","WF-2"]
[null,"Y01291","Y01291","Chingford Medical Practice",null,null,"Y01291","Chingford Medical Practice","WF","Waltham Forest","WF-2"]
[null,"F86627","F86627","Churchill Medical Centre",null,null,"F86627","Churchill Medical Centre","WF","Waltham Forest","WF-2"]
[null,"F86078","F86078","The Ridgeway Surgery",null,null,"F86078","The Ridgeway Surgery","WF","Waltham Forest","WF-2"]
[null,"F86616","F86616","Old Church Surgery",null,null,"F86616","Old Church Surgery","WF","Waltham Forest","WF-2"]
[null,"F86011","F86011","The Manor Practice",null,null,"F86011","The Manor Practice","WF","Waltham Forest","WF-3"]
[null,"F86038","F86038","Sma Medical Centre",null,null,"F86038","Sma Medical Centre","WF","Waltham Forest","WF-3"]
[null,{"$error":"#N/A"},"Y02585","The Orient Practice",null,null,"Y02585","The Orient Practice","WF","Waltham Forest","WF-3"]
[null,{"$error":"#N/A"},"F86074","Leyton Healthcare (Oliver Road)",null,null,"F86074","Leyton Healthcare (Oliver Road)","WF","Waltham Forest","WF-3"]
[null,"F86036","F86036","The Allum Medical Centre",null,null,"F86036","The Allum Medical Centre","WF","Waltham Forest","WF-4"]
[null,"F86044","F86044"," Crawley Road Medical Centre",null,null,"F86044"," Crawley Road Medical Centre","WF","Waltham Forest","WF-4"]
[null,"F86696","F86696","Francis Road Medical Centre",null,null,"F86696","Francis Road Medical Centre","WF","Waltham Forest","WF-4"]
[null,"F86712","F86712","Hampton Medical Centre",null,null,"F86712","Hampton Medical Centre","WF","Waltham Forest","WF-4"]
[null,"F86650","F86650","Lime Tree Surgery",null,null,"F86650","Lime Tree Surgery","WF","Waltham Forest","WF-4"]
[null,"F86088","F86088","The Lyndhurst Surgery",null,null,"F86088","The Lyndhurst Surgery","WF","Waltham Forest","WF-4"]
[null,{"$error":"#N/A"},"F86018","The Ecclesbourne Practice",null,null,"F86018","The Ecclesbourne Practice","WF","Waltham Forest","WF-4"]
[null,"F86621","F86621","Green Man Medical Centre",null,null,"F86621","Green Man Medical Centre","WF","Waltham Forest","WF-5"]
[null,"F86045","F86045","High Road Surgery",null,null,"F86045","High Road Surgery","WF","Waltham Forest","WF-5"]
[null,"F86701","F86701","Kiyani Medical Practice",null,null,"F86701","Kiyani Medical Practice","WF","Waltham Forest","WF-5"]
[null,"F86625","F86625","LL Medical Care (Agarwal & Agrwal Practice)",null,null,"F86625","LL Medical Care (Agarwal & Agrwal Practice)","WF","Waltham Forest","WF-5"]
[null,"F86666","F86666","The Harrow Road Surgery",null,null,"F86666","The Harrow Road Surgery","WF","Waltham Forest","WF-5"]
[null,"F86705","F86705","The Langthorne Sharma Family Practice",null,null,"F86705","The Langthorne Sharma Family Practice","WF","Waltham Forest","WF-5"]
[null,"F86607","F86607","Addison Road Medical Practice",null,null,"F86607","Addison Road Medical Practice","WF","Waltham Forest","WF-6"]
[null,"F86708","F86708","Claremont Medical Centre",null,null,"F86708","Claremont Medical Centre","WF","Waltham Forest","WF-6"]
[null,"F86001","F86001"," The Firs",null,null,"F86001"," The Firs","WF","Waltham Forest","WF-6"]
[null,"F86086","F86086","Dr Dhital Practice",null,null,"F86086","Dr Dhital Practice","WF","Waltham Forest","WF-6"]
[null,"F86644","F86644","Waltham Forest Community & Family Health Services Ltd",null,null,"F86644","Waltham Forest Community & Family Health Services Ltd","WF","Waltham Forest","WF-6"]
[null,"F86006","F86006","Seymour Medical Centre",null,null,"F86006","Seymour Medical Centre","WF","Waltham Forest","WF-7"]
[null,"F86030","F86030"," Queens Road Medical Centre",null,null,"F86030"," Queens Road Medical Centre","WF","Waltham Forest","WF-7"]
[null,"F86062","F86062","Grove Surgery",null,null,"F86062","Grove Surgery","WF","Waltham Forest","WF-7"]
[null,"F86679","F86679","Higham Hill Medical Centre",null,null,"F86679","Higham Hill Medical Centre","WF","Waltham Forest","WF-7"]
[null,"F86058","F86058","St James Medical Practice Ltd",null,null,"F86058","St James Medical Practice Ltd","WF","Waltham Forest","WF-7"]

{"sheet":"Data","index":9,"n_rows":1931,"n_cols":30,"rows_kept":1931,"cut":false,"hidden":true,"merged":[]}
["2019-04-01",{"$f":"VLOOKUP(J1,'Control Panel'!$G$132:$K$171,5,FALSE)","v":{"$error":"#N/A"}},"Childhood Immunisations Q1",null,"Last Run:",null,"Population Count",283256,null,null,"Search","All Patients","(01) 12 MONTH COHORT","(01.01) DTaP/IPV/Hib 6in1","(01.02) Men B (1st and 2nd)","(01.03) PCV","(01.04) Rotavirus","(01.05) BCG","(02) 24 MONTH COHORT","(02.01) DTaP/IPV/Hib or DTaP/IPV/Hib/HepB","(02.02) MMR","(02.03) HiB/Men C","(02.04) PCV (Booster)","(02.05) Men B (Booster)","(03) 5 YEAR COHORT","(03.01) DTaP/IPV/Hib or DTaP/IPV/Hib/HepB","(03.02) MMR (Primary)","(03.03) DTaP/IPV (Booster)","(03.04) HiB/Men C","(03.05) MMR (Booster)"]
["2019-04-01",{"$f":"VLOOKUP(J2,'Control Panel'!$G$132:$K$171,5,FALSE)","v":{"$error":"#N/A"}},null,null,"2019-05-14T11:19:00",null,"Males",144492,null,"Organisation Code"]
["2019-04-01",{"$f":"VLOOKUP(J3,'Control Panel'!$G$132:$K$171,5,FALSE)","v":"WF-6"},"WF",null,"Relative Date:",null,"Females",138764,null,"F86001",null,7940,21,21,21,21,19,3,30,25,20,20,20,20,22,17,15,10,16,12]
["2019-04-01",{"$f":"VLOOKUP(J4,'Control Panel'!$G$132:$K$171,5,FALSE)","v":"WF-1"},"WF",null,"2019-05-01",null,null,null,null,"F86005",null,8200,54,45,45,46,47,3,31,31,30,29,29,30,28,27,26,19,26,20]
["2019-04-01",{"$f":"VLOOKUP(J5,'Control Panel'!$G$132:$K$171,5,FALSE)","v":"WF-7"},"WF",null,null,null,null,null,null,"F86006",null,6199,23,17,17,17,18,3,26,24,22,22,23,22,19,17,16,11,15,11]
["2019-04-01",{"$f":"VLOOKUP(J6,'Control Panel'!$G$132:$K$171,5,FALSE)","v":"WF-3"},"WF",null,null,null,null,null,null,"F86011",null,9264,29,22,23,23,20,2,28,23,21,20,21,20,17,14,15,14,14,14]
["2019-04-01",{"$f":"VLOOKUP(J7,'Control Panel'!$G$132:$K$171,5,FALSE)","v":"WF-7"},"WF",null,null,null,null,null,null,"F86030",null,8091,39,34,34,35,33,13,41,40,40,40,40,40,22,20,21,18,21,20]
["2019-04-01",{"$f":"VLOOKUP(J8,'Control Panel'!$G$132:$K$171,5,FALSE)","v":"WF-4"},"WF",null,null,null,null,null,null,"F86036",null,15793,44,41,41,41,40,20,50,48,45,45,45,45,43,39,40,38,39,37]
["2019-04-01",{"$f":"VLOOKUP(J9,'Control Panel'!$G$132:$K$171,5,FALSE)","v":"WF-3"},"WF",null,null,null,null,null,null,"F86038",null,10989,47,37,37,38,37,3,43,38,34,35,35,34,38,32,32,24,30,25]
["2019-04-01",{"$f":"VLOOKUP(J10,'Control Panel'!$G$132:$K$171,5,FALSE)","v":"WF-4"},"WF",null,null,null,null,null,null,"F86044",null,8955,35,27,27,27,26,7,35,27,25,26,26,25,22,16,17,13,16,14]
["2019-04-01",{"$f":"VLOOKUP(J11,'Control Panel'!$G$132:$K$171,5,FALSE)","v":"WF-5"},"WF",null,null,null,null,null,null,"F86045",null,1912,4,4,3,4,4,2,0,0,0,0,0,0,4,4,4,4,3,4]
["2019-04-01",{"$f":"VLOOKUP(J12,'Control Panel'!$G$132:$K$171,5,FALSE)","v":"WF-7"},"WF",null,null,null,null,null,null,"F86058",null,15128,65,51,51,51,53,12,68,55,51,51,52,52,62,55,52,42,53,44]
["2019-04-01",{"$f":"VLOOKUP(J13,'Control Panel'!$G$132:$K$171,5,FALSE)","v":"WF-7"},"WF",null,null,null,null,null,null,"F86062",null,7084,28,24,24,25,25,9,21,19,16,16,16,16,22,20,20,14,19,15]
["2019-04-01",{"$f":"VLOOKUP(J14,'Control Panel'!$G$132:$K$171,5,FALSE)","v":"WF-2"},"WF",null,null,null,null,null,null,"F86078",null,7360,14,13,13,13,10,6,13,13,12,12,12,12,18,18,17,11,17,14]
["2019-04-01",{"$f":"VLOOKUP(J15,'Control Panel'!$G$132:$K$171,5,FALSE)","v":"WF-6"},"WF",null,null,null,null,null,null,"F86086",null,5885,22,20,20,20,19,7,30,26,22,22,22,22,21,6,18,12,17,14]
["2019-04-01",{"$f":"VLOOKUP(J16,'Control Panel'!$G$132:$K$171,5,FALSE)","v":"WF-4"},"WF",null,null,null,null,null,null,"F86088",null,4746,11,9,9,9,9,1,7,6,3,3,4,3,5,3,4,3,5,3]
["2019-04-01",{"$f":"VLOOKUP(J17,'Control Panel'!$G$132:$K$171,5,FALSE)","v":"WF-6"},"WF",null,null,null,null,null,null,"F86607",null,14154,55,48,48,49,48,22,48,45,42,44,42,43,48,46,43,38,42,45]
["2019-04-01",{"$f":"VLOOKUP(J18,'Control Panel'!$G$132:$K$171,5,FALSE)","v":"WF-2"},"WF",null,null,null,null,null,null,"F86616",null,6670,18,13,13,15,15,1,45,39,36,37,37,35,15,13,12,11,11,10]
["2019-04-01",{"$f":"VLOOKUP(J19,'Control Panel'!$G$132:$K$171,5,FALSE)","v":"WF-5"},"WF",null,null,null,null,null,null,"F86621",null,5674,19,17,18,18,19,7,22,21,20,20,20,19,12,2,2,8,2,9]
["2019-04-01",{"$f":"VLOOKUP(J20,'Control Panel'!$G$132:$K$171,5,FALSE)","v":"WF-5"},"WF",null,null,null,null,null,null,"F86625",null,6111,15,12,12,12,12,4,19,17,17,17,17,17,18,17,15,13,4,14]
["2019-04-01",{"$f":"VLOOKUP(J21,'Control Panel'!$G$132:$K$171,5,FALSE)","v":"WF-1"},"WF",null,null,null,null,null,null,"F86626",null,5297,14,11,11,11,13,4,13,13,10,10,11,11,22,22,18,15,13,15]
["2019-04-01",{"$f":"VLOOKUP(J22,'Control Panel'!$G$132:$K$171,5,FALSE)","v":"WF-2"},"WF",null,null,null,null,null,null,"F86627",null,13888,35,31,29,31,27,11,33,33,28,29,29,29,42,36,36,35,35,35]
["2019-04-01",{"$f":"VLOOKUP(J23,'Control Panel'!$G$132:$K$171,5,FALSE)","v":"WF-6"},"WF",null,null,null,null,null,null,"F86644",null,10867,34,25,25,26,24,6,39,36,28,28,30,30,37,32,34,18,30,27]
["2019-04-01",{"$f":"VLOOKUP(J24,'Control Panel'!$G$132:$K$171,5,FALSE)","v":"WF-4"},"WF",null,null,null,null,null,null,"F86650",null,8202,32,24,24,24,23,3,29,26,24,24,24,23,24,20,19,11,20,11]
["2019-04-01",{"$f":"VLOOKUP(J25,'Control Panel'!$G$132:$K$171,5,FALSE)","v":"WF-1"},"WF",null,null,null,null,null,null,"F86664",null,8332,25,22,21,22,23,2,27,25,23,23,24,23,32,30,27,28,28,28]
["2019-04-01",{"$f":"VLOOKUP(J26,'Control Panel'!$G$132:$K$171,5,FALSE)","v":"WF-5"},"WF",null,null,null,null,null,null,"F86666",null,14133,43,39,38,38,38,14,44,41,38,39,39,39,52,43,44,41,43,43]
["2019-04-01",{"$f":"VLOOKUP(J27,'Control Panel'!$G$132:$K$171,5,FALSE)","v":"WF-7"},"WF",null,null,null,null,null,null,"F86679",null,5757,30,27,25,26,27,9,21,18,19,19,20,19,18,6,7,11,8,13]
["2019-04-01",{"$f":"VLOOKUP(J28,'Control Panel'!$G$132:$K$171,5,FALSE)","v":"WF-1"},"WF",null,null,null,null,null,null,"F86689",null,4059,36,36,35,36,36,9,30,25,24,25,25,25,13,7,11,8,11,8]
["2019-04-01",{"$f":"VLOOKUP(J29,'Control Panel'!$G$132:$K$171,5,FALSE)","v":"WF-4"},"WF",null,null,null,null,null,null,"F86696",null,5139,11,10,10,11,10,0,18,13,13,14,13,12,18,16,16,12,16,14]
["2019-04-01",{"$f":"VLOOKUP(J30,'Control Panel'!$G$132:$K$171,5,FALSE)","v":"WF-1"},"WF",null,null,null,null,null,null,"F86700",null,3772,13,12,12,12,12,3,11,11,10,10,10,9,15,15,15,14,15,15]
["2019-04-01",{"$f":"VLOOKUP(J31,'Control Panel'!$G$132:$K$171,5,FALSE)","v":"WF-5"},"WF",null,null,null,null,null,null,"F86701",null,3282,9,9,9,9,9,1,9,9,9,9,9,9,11,6,6,8,5,9]
["2019-04-01",{"$f":"VLOOKUP(J32,'Control Panel'!$G$132:$K$171,5,FALSE)","v":"WF-5"},"WF",null,null,null,null,null,null,"F86705",null,3029,14,13,13,13,13,10,10,10,8,6,6,7,10,10,10,9,9,9]
["2019-04-01",{"$f":"VLOOKUP(J33,'Control Panel'!$G$132:$K$171,5,FALSE)","v":"WF-6"},"WF",null,null,null,null,null,null,"F86708",null,2776,9,9,9,9,8,6,9,8,7,7,7,7,4,4,3,2,3,2]
["2019-04-01",{"$f":"VLOOKUP(J34,'Control Panel'!$G$132:$K$171,5,FALSE)","v":"WF-4"},"WF",null,null,null,null,null,null,"F86712",null,3085,4,3,3,3,3,1,7,6,6,6,6,6,8,2,6,5,6,6]
["2019-04-01",{"$f":"VLOOKUP(J35,'Control Panel'!$G$132:$K$171,5,FALSE)","v":"WF-2"},"WF",null,null,null,null,null,null,"Y01291",null,8792,24,23,23,23,19,4,32,30,29,29,29,29,33,33,32,30,31,30]
["2019-04-01",{"$f":"VLOOKUP(J36,'Control Panel'!$G$132:$K$171,5,FALSE)","v":"WF-1"},"WF",null,null,null,null,null,null,"Y01839",null,6549,32,27,27,27,27,8,23,22,20,21,21,21,30,28,28,24,28,24]
["2019-04-01",{"$f":"VLOOKUP(J37,'Control Panel'!$G$132:$K$171,5,FALSE)","v":"WF-3"},"WF",null,null,null,null,null,null,"Y02585",null,8112,30,21,20,21,20,13,36,30,23,23,25,26,31,30,28,24,29,25]
["2019-04-01",{"$f":"VLOOKUP(J38,'Control Panel'!$G$132:$K$171,5,FALSE)","v":{"$error":"#N/A"}},null,null,null,null,null,null,null,"Total",null,269627,950,809,801,818,798,236,960,864,785,791,799,790,848,716,719,607,690,648]
["2019-03-01",{"$f":"VLOOKUP(J39,'Control Panel'!$G$132:$K$171,5,FALSE)","v":{"$error":"#N/A"}},"Childhood Immunisations Q4",null,"Last Run:",null,"Population Count",281164,null,null,"Search","All Patients","(01) 12 MONTH COHORT","(01.01) DTaP/IPV/Hib 6in1","(01.02) Men B (1st and 2nd)","(01.03) PCV","(01.04) Rotavirus","(01.05) BCG","(02) 24 MONTH COHORT","(02.01) DTaP/IPV/Hib Combined","(02.02) MMR","(02.03) HiB/Men C","(02.04) PCV (Booster)","(02.05) Men B (Booster)","(03) 5 YEAR COHORT","(03.01) DTaP/IPV/Hib Combined","(03.02) MMR (Primary)","(03.03) DTaP/IPV (Booster)","(03.04) HiB/Men C","(03.05) MMR (Booster)"]
["2019-03-01",{"$f":"VLOOKUP(J40,'Control Panel'!$G$132:$K$171,5,FALSE)","v":{"$error":"#N/A"}},null,null,"2019-05-14T13:20:00",null,"Males",143400,null,"Organisation Code"]
["2019-03-01",{"$f":"VLOOKUP(J41,'Control Panel'!$G$132:$K$171,5,FALSE)","v":{"$error":"#N/A"}},null,null,"Relative Date:",null,"Females",137764,null,"F84676",null,4393,10,10,10,10,10,1,16,14,14,14,14,14,19,18,18,19,18,18]
["2019-03-01",{"$f":"VLOOKUP(J42,'Control Panel'!$G$132:$K$171,5,FALSE)","v":"WF-6"},"WF",null,"2019-04-01",null,null,null,null,"F86001",null,7948,18,17,17,17,16,7,33,32,27,27,29,29,18,18,12,15,18,17]
["2019-03-01",{"$f":"VLOOKUP(J43,'Control Panel'!$G$132:$K$171,5,FALSE)","v":"WF-1"},"WF",null,null,null,null,null,null,"F86005",null,8169,43,39,38,41,39,4,36,34,32,31,31,30,29,10,27,22,24,25]
["2019-03-01",{"$f":"VLOOKUP(J44,'Control Panel'!$G$132:$K$171,5,FALSE)","v":"WF-7"},"WF",null,null,null,null,null,null,"F86006",null,6181,21,18,17,18,17,2,20,16,17,16,16,16,15,15,15,9,15,13]
["2019-03-01",{"$f":"VLOOKUP(J45,'Control Panel'!$G$132:$K$171,5,FALSE)","v":"WF-3"},"WF",null,null,null,null,null,null,"F86011",null,9257,23,19,19,19,21,3,19,15,12,13,13,13,28,24,23,21,24,19]
["2019-03-01",{"$f":"VLOOKUP(J46,'Control Panel'!$G$132:$K$171,5,FALSE)","v":"WF-7"},"WF",null,null,null,null,null,null,"F86030",null,8111,17,14,16,16,14,3,29,29,27,27,27,26,27,26,26,26,25,27]
["2019-03-01",{"$f":"VLOOKUP(J47,'Control Panel'!$G$132:$K$171,5,FALSE)","v":"WF-4"},"WF",null,null,null,null,null,null,"F86036",null,15689,48,45,44,45,43,27,51,51,48,48,49,49,44,42,41,36,40,36]
["2019-03-01",{"$f":"VLOOKUP(J48,'Control Panel'!$G$132:$K$171,5,FALSE)","v":"WF-3"},"WF",null,null,null,null,null,null,"F86038",null,10936,46,44,44,44,41,1,29,27,26,26,25,27,32,29,30,24,30,24]
["2019-03-01",{"$f":"VLOOKUP(J49,'Control Panel'!$G$132:$K$171,5,FALSE)","v":"WF-4"},"WF",null,null,null,null,null,null,"F86044",null,8829,44,35,35,36,30,11,33,30,24,24,24,23,15,13,11,9,11,8]
["2019-03-01",{"$f":"VLOOKUP(J50,'Control Panel'!$G$132:$K$171,5,FALSE)","v":"WF-5"},"WF",null,null,null,null,null,null,"F86045",null,1901,4,4,4,4,4,2,7,6,3,3,3,3,3,3,2,2,2,2]
["2019-03-01",{"$f":"VLOOKUP(J51,'Control Panel'!$G$132:$K$171,5,FALSE)","v":"WF-7"},"WF",null,null,null,null,null,null,"F86058",null,15046,56,46,47,47,45,6,50,48,43,43,43,42,51,41,44,32,43,33]
["2019-03-01",{"$f":"VLOOKUP(J52,'Control Panel'!$G$132:$K$171,5,FALSE)","v":"WF-7"},"WF",null,null,null,null,null,null,"F86062",null,7020,12,12,12,12,12,3,25,22,21,21,21,21,26,23,21,14,20,16]
["2019-03-01",{"$f":"VLOOKUP(J53,'Control Panel'!$G$132:$K$171,5,FALSE)","v":"WF-2"},"WF",null,null,null,null,null,null,"F86078",null,7367,18,18,18,18,18,3,15,11,12,12,12,12,21,18,16,15,17,14]
["2019-03-01",{"$f":"VLOOKUP(J54,'Control Panel'!$G$132:$K$171,5,FALSE)","v":"WF-6"},"WF",null,null,null,null,null,null,"F86086",null,5823,30,27,27,27,27,6,31,27,22,22,23,24,26,11,24,13,24,15]
["2019-03-01",{"$f":"VLOOKUP(J55,'Control Panel'!$G$132:$K$171,5,FALSE)","v":"WF-4"},"WF",null,null,null,null,null,null,"F86088",null,4712,8,6,5,6,6,3,13,12,7,8,8,8,5,0,3,3,3,3]
["2019-03-01",{"$f":"VLOOKUP(J56,'Control Panel'!$G$132:$K$171,5,FALSE)","v":"WF-6"},"WF",null,null,null,null,null,null,"F86607",null,14184,67,59,58,59,55,19,53,48,44,44,43,44,46,43,43,37,43,37]
["2019-03-01",{"$f":"VLOOKUP(J57,'Control Panel'!$G$132:$K$171,5,FALSE)","v":"WF-2"},"WF",null,null,null,null,null,null,"F86616",null,6599,36,33,34,34,33,2,22,20,18,18,19,17,28,23,24,20,24,20]
["2019-03-01",{"$f":"VLOOKUP(J58,'Control Panel'!$G$132:$K$171,5,FALSE)","v":"WF-5"},"WF",null,null,null,null,null,null,"F86621",null,5650,19,17,17,17,17,11,14,13,13,13,13,13,13,2,5,10,4,10]
["2019-03-01",{"$f":"VLOOKUP(J59,'Control Panel'!$G$132:$K$171,5,FALSE)","v":"WF-5"},"WF",null,null,null,null,null,null,"F86625",null,6116,16,16,16,16,16,3,17,16,11,11,11,11,19,18,16,7,2,8]
["2019-03-01",{"$f":"VLOOKUP(J60,'Control Panel'!$G$132:$K$171,5,FALSE)","v":"WF-1"},"WF",null,null,null,null,null,null,"F86626",null,5280,16,15,14,15,13,2,20,19,18,19,19,17,8,8,8,7,2,7]
["2019-03-01",{"$f":"VLOOKUP(J61,'Control Panel'!$G$132:$K$171,5,FALSE)","v":"WF-2"},"WF",null,null,null,null,null,null,"F86627",null,13926,32,29,27,29,27,5,36,35,32,32,30,31,29,26,26,22,26,24]
["2019-03-01",{"$f":"VLOOKUP(J62,'Control Panel'!$G$132:$K$171,5,FALSE)","v":"WF-6"},"WF",null,null,null,null,null,null,"F86644",null,10812,28,24,25,25,24,0,32,29,28,28,27,28,41,40,37,17,37,32]
["2019-03-01",{"$f":"VLOOKUP(J63,'Control Panel'!$G$132:$K$171,5,FALSE)","v":"WF-4"},"WF",null,null,null,null,null,null,"F86650",null,8170,21,16,15,17,17,8,20,14,13,12,12,12,24,21,21,14,21,14]
["2019-03-01",{"$f":"VLOOKUP(J64,'Control Panel'!$G$132:$K$171,5,FALSE)","v":"WF-1"},"WF",null,null,null,null,null,null,"F86664",null,8254,15,14,14,14,14,3,24,22,22,21,22,21,19,18,18,16,18,16]
["2019-03-01",{"$f":"VLOOKUP(J65,'Control Panel'!$G$132:$K$171,5,FALSE)","v":"WF-5"},"WF",null,null,null,null,null,null,"F86666",null,14094,35,28,24,28,26,13,45,39,36,36,36,37,37,35,33,27,31,28]
["2019-03-01",{"$f":"VLOOKUP(J66,'Control Panel'!$G$132:$K$171,5,FALSE)","v":"WF-7"},"WF",null,null,null,null,null,null,"F86679",null,5734,19,18,18,18,17,3,27,24,23,23,23,23,18,12,11,13,10,13]
["2019-03-01",{"$f":"VLOOKUP(J67,'Control Panel'!$G$132:$K$171,5,FALSE)","v":"WF-1"},"WF",null,null,null,null,null,null,"F86689",null,4008,15,12,12,12,11,4,17,17,13,13,13,13,17,9,11,11,11,13]
["2019-03-01",{"$f":"VLOOKUP(J68,'Control Panel'!$G$132:$K$171,5,FALSE)","v":"WF-4"},"WF",null,null,null,null,null,null,"F86696",null,5091,19,15,16,15,15,0,18,17,17,17,17,16,13,12,12,10,11,10]
["2019-03-01",{"$f":"VLOOKUP(J69,'Control Panel'!$G$132:$K$171,5,FALSE)","v":"WF-1"},"WF",null,null,null,null,null,null,"F86700",null,3756,7,7,7,7,6,2,13,13,11,12,12,12,7,7,7,6,7,6]
["2019-03-01",{"$f":"VLOOKUP(J70,'Control Panel'!$G$132:$K$171,5,FALSE)","v":"WF-5"},"WF",null,null,null,null,null,null,"F86701",null,3264,6,5,4,5,4,3,8,6,5,5,6,6,10,1,4,9,4,9]
["2019-03-01",{"$f":"VLOOKUP(J71,'Control Panel'!$G$132:$K$171,5,FALSE)","v":"WF-5"},"WF",null,null,null,null,null,null,"F86705",null,2995,9,7,7,7,7,3,9,8,8,8,8,8,8,8,8,7,8,7]
["2019-03-01",{"$f":"VLOOKUP(J72,'Control Panel'!$G$132:$K$171,5,FALSE)","v":"WF-6"},"WF",null,null,null,null,null,null,"F86708",null,2775,7,6,6,6,5,5,9,7,6,6,6,6,13,11,11,9,11,9]
["2019-03-01",{"$f":"VLOOKUP(J73,'Control Panel'!$G$132:$K$171,5,FALSE)","v":"WF-4"},"WF",null,null,null,null,null,null,"F86712",null,3055,11,10,10,10,9,0,8,8,8,8,8,8,4,2,2,3,2,3]
["2019-03-01",{"$f":"VLOOKUP(J74,'Control Panel'!$G$132:$K$171,5,FALSE)","v":"WF-2"},"WF",null,null,null,null,null,null,"Y01291",null,8779,28,24,24,24,23,17,26,26,26,26,25,26,30,30,28,26,28,26]
["2019-03-01",{"$f":"VLOOKUP(J75,'Control Panel'!$G$132:$K$171,5,FALSE)","v":"WF-1"},"WF",null,null,null,null,null,null,"Y01839",null,6534,30,27,27,28,25,6,24,22,20,20,21,21,21,21,19,16,19,16]
["2019-03-01",{"$f":"VLOOKUP(J76,'Control Panel'!$G$132:$K$171,5,FALSE)","v":"WF-3"},"WF",null,null,null,null,null,null,"Y02585",null,8112,24,22,22,22,23,11,32,29,22,21,22,21,26,18,18,14,18,14]
["2019-03-01",{"$f":"VLOOKUP(J77,'Control Panel'!$G$132:$K$171,5,FALSE)","v":{"$error":"#N/A"}},null,null,null,null,null,null,null,"Total",null,268570,858,758,750,768,730,202,881,806,729,728,731,728,790,656,675,561,651,592]
["2019-05-01",{"$f":"VLOOKUP(J78,'Control Panel'!$G$132:$K$171,5,FALSE)","v":{"$error":"#N/A"}},"Childhood Immunisations Q1",null,"Last Run:",null,"Population Count",283847,null,null,"Search","All Patients","(01) 12 MONTH COHORT","(01.01) DTaP/IPV/Hib 6in1","(01.02) Men B (1st and 2nd)","(01.03) PCV","(01.04) Rotavirus","(01.05) BCG","(02) 24 MONTH COHORT","(02.01) DTaP/IPV/Hib or DTaP/IPV/Hib/HepB","(02.02) MMR","(02.03) HiB/Men C","(02.04) PCV (Booster)","(02.05) Men B (Booster)","(03) 5 YEAR COHORT","(03.01) DTaP/IPV/Hib or DTaP/IPV/Hib/HepB","(03.02) MMR (Primary)","(03.03) DTaP/IPV (Booster)","(03.04) HiB/Men C","(03.05) MMR (Booster)"]
["2019-05-01",{"$f":"VLOOKUP(J79,'Control Panel'!$G$132:$K$171,5,FALSE)","v":{"$error":"#N/A"}},null,null,"2019-06-03T13:16:00",null,"Males",144788,null,"Organisation Code"]
["2019-05-01",{"$f":"VLOOKUP(J80,'Control Panel'!$G$132:$K$171,5,FALSE)","v":{"$error":"#N/A"}},null,null,"Relative Date:",null,"Females",139059,null,"F84676",null,4396,12,12,11,12,12,7,12,11,10,10,10,10,12,10,10,9,10,9]
["2019-05-01",{"$f":"VLOOKUP(J81,'Control Panel'!$G$132:$K$171,5,FALSE)","v":"WF-6"},"WF",null,"2019-06-01",null,null,null,null,"F86001",null,7931,20,20,20,20,19,3,30,25,20,20,20,20,22,17,15,10,16,12]
["2019-05-01",{"$f":"VLOOKUP(J82,'Control Panel'!$G$132:$K$171,5,FALSE)","v":"WF-1"},"WF",null,null,null,null,null,null,"F86005",null,8218,54,45,45,46,47,3,31,31,30,29,29,30,26,25,25,18,25,19]
["2019-05-01",{"$f":"VLOOKUP(J83,'Control Panel'!$G$132:$K$171,5,FALSE)","v":"WF-7"},"WF",null,null,null,null,null,null,"F86006",null,6212,24,17,17,18,19,3,24,22,20,21,21,21,19,17,16,11,15,11]
["2019-05-01",{"$f":"VLOOKUP(J84,'Control Panel'!$G$132:$K$171,5,FALSE)","v":"WF-3"},"WF",null,null,null,null,null,null,"F86011",null,9226,29,23,24,24,20,2,27,23,21,20,21,20,17,14,15,14,14,14]
["2019-05-01",{"$f":"VLOOKUP(J85,'Control Panel'!$G$132:$K$171,5,FALSE)","v":"WF-7"},"WF",null,null,null,null,null,null,"F86030",null,8103,39,34,34,35,33,13,41,40,40,40,40,40,21,19,20,17,20,19]
["2019-05-01",{"$f":"VLOOKUP(J86,'Control Panel'!$G$132:$K$171,5,FALSE)","v":"WF-4"},"WF",null,null,null,null,null,null,"F86036",null,15884,45,43,43,43,42,23,51,49,45,45,45,45,45,39,40,39,39,38]
["2019-05-01",{"$f":"VLOOKUP(J87,'Control Panel'!$G$132:$K$171,5,FALSE)","v":"WF-3"},"WF",null,null,null,null,null,null,"F86038",null,11020,47,37,37,38,37,3,44,39,35,36,36,35,38,32,32,27,30,28]
["2019-05-01",{"$f":"VLOOKUP(J88,'Control Panel'!$G$132:$K$171,5,FALSE)","v":"WF-4"},"WF",null,null,null,null,null,null,"F86044",null,8989,33,26,26,26,24,7,33,25,23,24,24,23,22,16,17,13,16,14]
["2019-05-01",{"$f":"VLOOKUP(J89,'Control Panel'!$G$132:$K$171,5,FALSE)","v":"WF-5"},"WF",null,null,null,null,null,null,"F86045",null,1921,4,4,3,4,4,2,0,0,0,0,0,0,4,4,4,4,3,4]
["2019-05-01",{"$f":"VLOOKUP(J90,'Control Panel'!$G$132:$K$171,5,FALSE)","v":"WF-7"},"WF",null,null,null,null,null,null,"F86058",null,15141,66,51,51,51,53,13,67,53,49,49,50,50,58,52,49,41,50,42]
["2019-05-01",{"$f":"VLOOKUP(J91,'Control Panel'!$G$132:$K$171,5,FALSE)","v":"WF-7"},"WF",null,null,null,null,null,null,"F86062",null,7086,28,24,24,25,25,9,21,19,17,17,17,17,23,20,20,14,19,15]
["2019-05-01",{"$f":"VLOOKUP(J92,'Control Panel'!$G$132:$K$171,5,FALSE)","v":"WF-2"},"WF",null,null,null,null,null,null,"F86078",null,7358,14,13,13,13,10,6,13,13,12,12,12,12,18,18,17,11,17,14]
["2019-05-01",{"$f":"VLOOKUP(J93,'Control Panel'!$G$132:$K$171,5,FALSE)","v":"WF-6"},"WF",null,null,null,null,null,null,"F86086",null,5939,24,21,21,21,20,7,30,26,22,22,22,22,22,7,19,13,18,15]
["2019-05-01",{"$f":"VLOOKUP(J94,'Control Panel'!$G$132:$K$171,5,FALSE)","v":"WF-4"},"WF",null,null,null,null,null,null,"F86088",null,4791,11,9,9,9,9,1,7,6,3,3,4,3,5,3,4,3,5,3]
["2019-05-01",{"$f":"VLOOKUP(J95,'Control Panel'!$G$132:$K$171,5,FALSE)","v":"WF-6"},"WF",null,null,null,null,null,null,"F86607",null,14162,55,48,48,49,48,23,48,45,42,44,42,43,48,46,43,38,42,45]
["2019-05-01",{"$f":"VLOOKUP(J96,'Control Panel'!$G$132:$K$171,5,FALSE)","v":"WF-2"},"WF",null,null,null,null,null,null,"F86616",null,6736,18,14,13,15,15,1,44,39,37,38,38,35,15,13,12,12,11,11]
["2019-05-01",{"$f":"VLOOKUP(J97,'Control Panel'!$G$132:$K$171,5,FALSE)","v":"WF-5"},"WF",null,null,null,null,null,null,"F86621",null,5695,19,17,18,18,19,7,22,21,20,20,20,19,12,2,2,8,2,9]
["2019-05-01",{"$f":"VLOOKUP(J98,'Control Panel'!$G$132:$K$171,5,FALSE)","v":"WF-5"},"WF",null,null,null,null,null,null,"F86625",null,6101,14,12,12,12,12,3,19,17,17,17,17,17,18,17,15,13,4,14]
["2019-05-01",{"$f":"VLOOKUP(J99,'Control Panel'!$G$132:$K$171,5,FALSE)","v":"WF-1"},"WF",null,null,null,null,null,null,"F86626",null,5320,13,13,13,13,13,5,14,13,11,11,12,12,20,20,17,14,13,14]
["2019-05-01",{"$f":"VLOOKUP(J100,'Control Panel'!$G$132:$K$171,5,FALSE)","v":"WF-2"},"WF",null,null,null,null,null,null,"F86627",null,13877,36,31,30,32,27,11,33,33,28,29,29,29,42,36,36,35,35,35]
["2019-05-01",{"$f":"VLOOKUP(J101,'Control Panel'!$G$132:$K$171,5,FALSE)","v":"WF-6"},"WF",null,null,null,null,null,null,"F86644",null,10912,33,25,24,25,23,6,38,35,27,27,29,29,37,32,34,18,30,27]
["2019-05-01",{"$f":"VLOOKUP(J102,'Control Panel'!$G$132:$K$171,5,FALSE)","v":"WF-4"},"WF",null,null,null,null,null,null,"F86650",null,8208,32,24,24,24,23,3,29,26,24,24,24,23,24,20,19,12,20,12]
["2019-05-01",{"$f":"VLOOKUP(J103,'Control Panel'!$G$132:$K$171,5,FALSE)","v":"WF-1"},"WF",null,null,null,null,null,null,"F86664",null,8337,25,22,21,22,23,2,27,25,24,24,25,24,32,30,28,28,29,29]
["2019-05-01",{"$f":"VLOOKUP(J104,'Control Panel'!$G$132:$K$171,5,FALSE)","v":"WF-5"},"WF",null,null,null,null,null,null,"F86666",null,14214,43,38,38,38,38,14,45,42,39,40,40,40,52,43,44,41,43,43]
["2019-05-01",{"$f":"VLOOKUP(J105,'Control Panel'!$G$132:$K$171,5,FALSE)","v":"WF-7"},"WF",null,null,null,null,null,null,"F86679",null,5788,29,27,25,25,26,8,22,19,20,20,21,20,18,6,7,12,8,14]
["2019-05-01",{"$f":"VLOOKUP(J106,'Control Panel'!$G$132:$K$171,5,FALSE)","v":"WF-1"},"WF",null,null,null,null,null,null,"F86689",null,4092,37,36,36,37,37,9,30,25,24,25,25,25,13,7,11,9,11,9]
["2019-05-01",{"$f":"VLOOKUP(J107,'Control Panel'!$G$132:$K$171,5,FALSE)","v":"WF-4"},"WF",null,null,null,null,null,null,"F86696",null,5140,11,10,10,11,10,0,17,12,12,13,12,11,17,16,16,12,16,14]
["2019-05-01",{"$f":"VLOOKUP(J108,'Control Panel'!$G$132:$K$171,5,FALSE)","v":"WF-1"},"WF",null,null,null,null,null,null,"F86700",null,3810,13,12,12,12,12,3,11,11,10,10,10,9,15,15,15,14,15,15]
["2019-05-01",{"$f":"VLOOKUP(J109,'Control Panel'!$G$132:$K$171,5,FALSE)","v":"WF-5"},"WF",null,null,null,null,null,null,"F86701",null,3308,9,9,9,9,9,1,9,9,9,9,9,9,11,6,6,8,5,9]
["2019-05-01",{"$f":"VLOOKUP(J110,'Control Panel'!$G$132:$K$171,5,FALSE)","v":"WF-5"},"WF",null,null,null,null,null,null,"F86705",null,3024,14,13,13,13,13,10,9,9,7,5,5,6,10,10,10,9,9,9]
["2019-05-01",{"$f":"VLOOKUP(J111,'Control Panel'!$G$132:$K$171,5,FALSE)","v":"WF-6"},"WF",null,null,null,null,null,null,"F86708",null,2786,9,9,9,9,8,6,9,8,7,7,7,7,4,4,3,2,3,2]
["2019-05-01",{"$f":"VLOOKUP(J112,'Control Panel'!$G$132:$K$171,5,FALSE)","v":"WF-4"},"WF",null,null,null,null,null,null,"F86712",null,3101,4,3,3,3,3,1,7,6,6,6,6,6,8,2,6,5,6,6]
["2019-05-01",{"$f":"VLOOKUP(J113,'Control Panel'!$G$132:$K$171,5,FALSE)","v":"WF-2"},"WF",null,null,null,null,null,null,"Y01291",null,8804,24,23,23,24,19,5,32,30,29,29,29,29,33,33,32,30,31,30]
["2019-05-01",{"$f":"VLOOKUP(J114,'Control Panel'!$G$132:$K$171,5,FALSE)","v":"WF-1"},"WF",null,null,null,null,null,null,"Y01839",null,6550,32,27,27,27,27,9,23,22,20,21,21,21,30,28,28,24,28,24]
["2019-05-01",{"$f":"VLOOKUP(J115,'Control Panel'!$G$132:$K$171,5,FALSE)","v":"WF-3"},"WF",null,null,null,null,null,null,"Y02585",null,8051,29,20,19,20,19,12,36,30,24,24,25,26,30,29,27,24,28,25]
["2019-05-01",{"$f":"VLOOKUP(J116,'Control Panel'!$G$132:$K$171,5,FALSE)","v":{"$error":"#N/A"}},null,null,null,null,null,null,null,"Total",null,270231,949,812,805,823,798,241,955,859,784,791,797,788,841,708,714,612,686,653]
["2019-06-01",{"$f":"VLOOKUP(J117,'Control Panel'!$G$132:$K$171,5,FALSE)","v":{"$error":"#N/A"}},"Childhood Immunisations Q1",null,"Last Run:",null,"Population Count",284503,null,null,"Search","All Patients","(01) 12 MONTH COHORT","(01.01) DTaP/IPV/Hib 6in1","(01.02) Men B (1st and 2nd)","(01.03) PCV","(01.04) Rotavirus","(01.05) BCG","(02) 24 MONTH COHORT","(02.01) DTaP/IPV/Hib or DTaP/IPV/Hib/HepB","(02.02) MMR","(02.03) HiB/Men C","(02.04) PCV (Booster)","(02.05) Men B (Booster)","(03) 5 YEAR COHORT","(03.01) DTaP/IPV/Hib or DTaP/IPV/Hib/HepB","(03.02) MMR (Primary)","(03.03) DTaP/IPV (Booster)","(03.04) HiB/Men C","(03.05) MMR (Booster)"]
["2019-06-01",{"$f":"VLOOKUP(J118,'Control Panel'!$G$132:$K$171,5,FALSE)","v":{"$error":"#N/A"}},null,null,"2019-07-02T09:45:00",null,"Males",145114,null,"Organisation Code"]
["2019-06-01",{"$f":"VLOOKUP(J119,'Control Panel'!$G$132:$K$171,5,FALSE)","v":{"$error":"#N/A"}},null,null,"Relative Date:",null,"Females",139389,null,"F84676",null,4383,12,12,11,12,12,9,12,11,10,10,10,10,12,10,10,9,10,9]
["2019-06-01",{"$f":"VLOOKUP(J120,'Control Panel'!$G$132:$K$171,5,FALSE)","v":"WF-6"},"WF",null,"2019-07-01",null,null,null,null,"F86001",null,7931,21,21,21,21,20,3,30,25,20,20,20,20,21,17,15,10,16,12]
["2019-06-01",{"$f":"VLOOKUP(J121,'Control Panel'!$G$132:$K$171,5,FALSE)","v":"WF-1"},"WF",null,null,null,null,null,null,"F86005",null,8304,56,47,47,48,50,3,31,31,30,29,29,30,26,25,25,18,25,19]
["2019-06-01",{"$f":"VLOOKUP(J122,'Control Panel'!$G$132:$K$171,5,FALSE)","v":"WF-7"},"WF",null,null,null,null,null,null,"F86006",null,6248,25,19,20,20,20,3,24,22,20,21,21,21,18,16,15,10,14,10]
["2019-06-01",{"$f":"VLOOKUP(J123,'Control Panel'!$G$132:$K$171,5,FALSE)","v":"WF-3"},"WF",null,null,null,null,null,null,"F86011",null,9216,30,24,25,25,21,2,27,23,21,20,21,20,18,15,16,15,15,15]
["2019-06-01",{"$f":"VLOOKUP(J124,'Control Panel'!$G$132:$K$171,5,FALSE)","v":"WF-7"},"WF",null,null,null,null,null,null,"F86030",null,8163,39,34,34,35,33,13,42,41,41,41,41,41,22,19,20,17,20,19]
["2019-06-01",{"$f":"VLOOKUP(J125,'Control Panel'!$G$132:$K$171,5,FALSE)","v":"WF-4"},"WF",null,null,null,null,null,null,"F86036",null,15971,44,43,43,43,41,23,50,48,45,45,45,45,45,39,40,39,39,38]
["2019-06-01",{"$f":"VLOOKUP(J126,'Control Panel'!$G$132:$K$171,5,FALSE)","v":"WF-3"},"WF",null,null,null,null,null,null,"F86038",null,11048,45,36,36,37,36,3,45,39,35,36,36,35,38,32,32,27,30,28]
["2019-06-01",{"$f":"VLOOKUP(J127,'Control Panel'!$G$132:$K$171,5,FALSE)","v":"WF-4"},"WF",null,null,null,null,null,null,"F86044",null,8948,33,25,25,25,23,7,33,26,24,25,25,24,22,16,17,13,16,14]
["2019-06-01",{"$f":"VLOOKUP(J128,'Control Panel'!$G$132:$K$171,5,FALSE)","v":"WF-5"},"WF",null,null,null,null,null,null,"F86045",null,1940,4,4,3,4,4,2,0,0,0,0,0,0,4,4,4,4,3,4]
["2019-06-01",{"$f":"VLOOKUP(J129,'Control Panel'!$G$132:$K$171,5,FALSE)","v":"WF-7"},"WF",null,null,null,null,null,null,"F86058",null,15254,66,52,53,53,53,13,67,53,49,49,50,50,58,52,49,41,50,42]
["2019-06-01",{"$f":"VLOOKUP(J130,'Control Panel'!$G$132:$K$171,5,FALSE)","v":"WF-7"},"WF",null,null,null,null,null,null,"F86062",null,7121,27,23,23,24,24,9,21,19,17,17,17,17,23,20,20,14,19,15]
["2019-06-01",{"$f":"VLOOKUP(J131,'Control Panel'!$G$132:$K$171,5,FALSE)","v":"WF-2"},"WF",null,null,null,null,null,null,"F86078",null,7347,15,14,14,14,11,6,13,13,12,12,12,12,18,18,17,11,17,14]
["2019-06-01",{"$f":"VLOOKUP(J132,'Control Panel'!$G$132:$K$171,5,FALSE)","v":"WF-6"},"WF",null,null,null,null,null,null,"F86086",null,5932,23,22,22,22,21,7,29,25,22,22,22,22,21,6,18,12,17,14]
["2019-06-01",{"$f":"VLOOKUP(J133,'Control Panel'!$G$132:$K$171,5,FALSE)","v":"WF-4"},"WF",null,null,null,null,null,null,"F86088",null,4774,11,9,9,9,9,1,7,6,3,3,4,3,5,3,4,3,5,3]
["2019-06-01",{"$f":"VLOOKUP(J134,'Control Panel'!$G$132:$K$171,5,FALSE)","v":"WF-6"},"WF",null,null,null,null,null,null,"F86607",null,14131,54,47,47,48,48,23,48,45,42,44,42,43,47,45,43,37,42,44]
["2019-06-01",{"$f":"VLOOKUP(J135,'Control Panel'!$G$132:$K$171,5,FALSE)","v":"WF-2"},"WF",null,null,null,null,null,null,"F86616",null,6809,18,14,13,15,15,1,44,39,37,38,38,35,15,13,12,12,11,11]
["2019-06-01",{"$f":"VLOOKUP(J136,'Control Panel'!$G$132:$K$171,5,FALSE)","v":"WF-5"},"WF",null,null,null,null,null,null,"F86621",null,5691,20,18,19,19,20,7,22,21,20,20,20,19,11,2,2,8,2,9]
["2019-06-01",{"$f":"VLOOKUP(J137,'Control Panel'!$G$132:$K$171,5,FALSE)","v":"WF-5"},"WF",null,null,null,null,null,null,"F86625",null,6121,14,12,12,12,12,3,19,17,17,17,17,17,17,16,15,13,4,14]
["2019-06-01",{"$f":"VLOOKUP(J138,'Control Panel'!$G$132:$K$171,5,FALSE)","v":"WF-1"},"WF",null,null,null,null,null,null,"F86626",null,5342,13,13,13,13,13,5,14,13,12,12,13,13,19,19,17,14,13,14]
["2019-06-01",{"$f":"VLOOKUP(J139,'Control Panel'!$G$132:$K$171,5,FALSE)","v":"WF-2"},"WF",null,null,null,null,null,null,"F86627",null,13882,36,32,31,33,28,12,33,33,28,29,29,29,42,36,36,35,35,35]
["2019-06-01",{"$f":"VLOOKUP(J140,'Control Panel'!$G$132:$K$171,5,FALSE)","v":"WF-6"},"WF",null,null,null,null,null,null,"F86644",null,10849,34,25,25,26,24,7,37,34,26,26,28,28,37,33,34,18,30,27]
["2019-06-01",{"$f":"VLOOKUP(J141,'Control Panel'!$G$132:$K$171,5,FALSE)","v":"WF-4"},"WF",null,null,null,null,null,null,"F86650",null,8292,33,25,25,25,24,4,29,27,24,24,24,24,24,20,19,12,20,12]
["2019-06-01",{"$f":"VLOOKUP(J142,'Control Panel'!$G$132:$K$171,5,FALSE)","v":"WF-1"},"WF",null,null,null,null,null,null,"F86664",null,8373,25,22,21,22,23,2,27,25,24,24,25,24,33,30,28,28,29,29]
["2019-06-01",{"$f":"VLOOKUP(J143,'Control Panel'!$G$132:$K$171,5,FALSE)","v":"WF-5"},"WF",null,null,null,null,null,null,"F86666",null,14259,44,38,38,39,38,15,45,42,39,40,40,40,52,43,44,41,43,43]
["2019-06-01",{"$f":"VLOOKUP(J144,'Control Panel'!$G$132:$K$171,5,FALSE)","v":"WF-7"},"WF",null,null,null,null,null,null,"F86679",null,5849,28,26,25,25,25,8,23,20,19,19,20,19,18,6,7,12,8,14]
["2019-06-01",{"$f":"VLOOKUP(J145,'Control Panel'!$G$132:$K$171,5,FALSE)","v":"WF-1"},"WF",null,null,null,null,null,null,"F86689",null,4112,37,36,37,37,37,9,30,25,24,25,25,25,13,7,11,9,11,9]
["2019-06-01",{"$f":"VLOOKUP(J146,'Control Panel'!$G$132:$K$171,5,FALSE)","v":"WF-4"},"WF",null,null,null,null,null,null,"F86696",null,5156,11,10,10,11,10,0,16,11,11,12,11,11,17,16,16,12,16,14]
["2019-06-01",{"$f":"VLOOKUP(J147,'Control Panel'!$G$132:$K$171,5,FALSE)","v":"WF-1"},"WF",null,null,null,null,null,null,"F86700",null,3834,12,11,11,11,11,2,11,11,10,10,10,9,16,15,16,15,16,16]
["2019-06-01",{"$f":"VLOOKUP(J148,'Control Panel'!$G$132:$K$171,5,FALSE)","v":"WF-5"},"WF",null,null,null,null,null,null,"F86701",null,3312,9,9,9,9,9,1,9,9,9,9,9,9,11,6,6,8,5,9]
["2019-06-01",{"$f":"VLOOKUP(J149,'Control Panel'!$G$132:$K$171,5,FALSE)","v":"WF-5"},"WF",null,null,null,null,null,null,"F86705",null,3038,14,13,13,13,13,10,9,9,7,5,5,6,10,10,10,9,9,9]
["2019-06-01",{"$f":"VLOOKUP(J150,'Control Panel'!$G$132:$K$171,5,FALSE)","v":"WF-6"},"WF",null,null,null,null,null,null,"F86708",null,2786,9,9,9,9,8,6,9,8,7,7,7,7,4,4,3,2,3,2]
["2019-06-01",{"$f":"VLOOKUP(J151,'Control Panel'!$G$132:$K$171,5,FALSE)","v":"WF-4"},"WF",null,null,null,null,null,null,"F86712",null,3111,4,3,3,3,3,1,7,6,6,6,6,6,8,2,6,5,6,6]
["2019-06-01",{"$f":"VLOOKUP(J152,'Control Panel'!$G$132:$K$171,5,FALSE)","v":"WF-2"},"WF",null,null,null,null,null,null,"Y01291",null,8805,24,23,23,24,19,9,32,30,29,29,29,29,33,33,32,30,31,30]
["2019-06-01",{"$f":"VLOOKUP(J153,'Control Panel'!$G$132:$K$171,5,FALSE)","v":"WF-1"},"WF",null,null,null,null,null,null,"Y01839",null,6535,31,26,26,26,26,9,25,24,22,23,23,21,30,28,28,25,28,25]
["2019-06-01",{"$f":"VLOOKUP(J154,'Control Panel'!$G$132:$K$171,5,FALSE)","v":"WF-3"},"WF",null,null,null,null,null,null,"Y02585",null,7977,29,20,19,20,19,13,35,29,24,24,25,26,30,29,27,24,28,25]
["2019-06-01",{"$f":"VLOOKUP(J155,'Control Panel'!$G$132:$K$171,5,FALSE)","v":{"$error":"#N/A"}},null,null,null,null,null,null,null,"Total",null,270844,950,817,815,832,803,251,955,860,786,793,799,790,838,705,714,612,686,653]
["2019-07-01",{"$f":"VLOOKUP(J156,'Control Panel'!$G$132:$K$171,5,FALSE)","v":{"$error":"#N/A"}},"Childhood Immunisations Q2",null,"Last Run:",null,"Population Count",281296,null,null,"Search","All Patients","(01) 12 MONTH COHORT","(01.01) DTaP/IPV/Hib 6in1","(01.02) Men B (1st and 2nd)","(01.03) PCV","(01.04) Rotavirus","(01.05) BCG","(02) 24 MONTH COHORT","(02.01) DTaP/IPV/Hib Combined","(02.02) MMR","(02.03) HiB/Men C","(02.04) PCV (Booster)","(02.05) Men B (Booster)","(03) 5 YEAR COHORT","(03.01) DTaP/IPV/Hib Combined","(03.02) MMR (Primary)","(03.03) DTaP/IPV (Booster)","(03.04) HiB/Men C","(03.05) MMR (Booster)"]
["2019-07-01",{"$f":"VLOOKUP(J157,'Control Panel'!$G$132:$K$171,5,FALSE)","v":{"$error":"#N/A"}},null,null,"2019-08-02T09:07:00",null,"Males",143494,null,"Organisation Code"]
["2019-07-01",{"$f":"VLOOKUP(J158,'Control Panel'!$G$132:$K$171,5,FALSE)","v":"WF-6"},"WF",null,"Relative Date:",null,"Females",137802,null,"F86001",null,7927,28,26,26,26,25,5,28,25,22,23,23,24,30,24,24,17,24,19]
["2019-07-01",{"$f":"VLOOKUP(J159,'Control Panel'!$G$132:$K$171,5,FALSE)","v":"WF-1"},"WF",null,"2019-08-01",null,null,null,null,"F86005",null,8370,39,31,29,31,30,3,49,47,43,43,44,42,32,29,29,18,28,21]
["2019-07-01",{"$f":"VLOOKUP(J160,'Control Panel'!$G$132:$K$171,5,FALSE)","v":"WF-7"},"WF",null,null,null,null,null,null,"F86006",null,6278,13,11,11,11,11,1,14,14,11,13,13,11,21,21,20,14,17,16]
["2019-07-01",{"$f":"VLOOKUP(J161,'Control Panel'!$G$132:$K$171,5,FALSE)","v":"WF-3"},"WF",null,null,null,null,null,null,"F86011",null,9200,16,12,13,13,13,0,27,23,22,23,23,23,27,24,20,20,21,19]
["2019-07-01",{"$f":"VLOOKUP(J162,'Control Panel'!$G$132:$K$171,5,FALSE)","v":"WF-7"},"WF",null,null,null,null,null,null,"F86030",null,8162,24,21,21,21,21,7,33,32,31,31,31,31,30,25,24,24,25,24]
["2019-07-01",{"$f":"VLOOKUP(J163,'Control Panel'!$G$132:$K$171,5,FALSE)","v":"WF-4"},"WF",null,null,null,null,null,null,"F86036",null,16031,70,63,63,63,59,34,71,69,64,63,65,64,57,56,54,49,52,49]
["2019-07-01",{"$f":"VLOOKUP(J164,'Control Panel'!$G$132:$K$171,5,FALSE)","v":"WF-3"},"WF",null,null,null,null,null,null,"F86038",null,11108,52,48,47,48,49,5,41,41,33,32,33,33,56,48,48,37,50,39]
["2019-07-01",{"$f":"VLOOKUP(J165,'Control Panel'!$G$132:$K$171,5,FALSE)","v":"WF-4"},"WF",null,null,null,null,null,null,"F86044",null,8911,49,41,40,41,41,4,40,27,26,26,26,26,30,22,19,17,19,17]
["2019-07-01",{"$f":"VLOOKUP(J166,'Control Panel'!$G$132:$K$171,5,FALSE)","v":"WF-5"},"WF",null,null,null,null,null,null,"F86045",null,1955,4,3,3,3,3,1,3,3,2,2,2,2,4,3,4,3,4,4]
["2019-07-01",{"$f":"VLOOKUP(J167,'Control Panel'!$G$132:$K$171,5,FALSE)","v":"WF-7"},"WF",null,null,null,null,null,null,"F86058",null,15424,64,53,51,51,49,15,63,62,52,51,53,52,56,52,52,42,51,44]
["2019-07-01",{"$f":"VLOOKUP(J168,'Control Panel'!$G$132:$K$171,5,FALSE)","v":"WF-7"},"WF",null,null,null,null,null,null,"F86062",null,7132,25,22,22,22,19,4,25,23,19,18,19,19,15,14,15,12,14,11]
["2019-07-01",{"$f":"VLOOKUP(J169,'Control Panel'!$G$132:$K$171,5,FALSE)","v":"WF-2"},"WF",null,null,null,null,null,null,"F86078",null,7338,22,19,19,20,17,5,13,13,10,10,10,9,14,14,12,9,12,9]
["2019-07-01",{"$f":"VLOOKUP(J170,'Control Panel'!$G$132:$K$171,5,FALSE)","v":"WF-6"},"WF",null,null,null,null,null,null,"F86086",null,5943,19,15,15,15,15,3,19,17,14,13,13,13,25,9,23,11,23,19]
["2019-07-01",{"$f":"VLOOKUP(J171,'Control Panel'!$G$132:$K$171,5,FALSE)","v":"WF-4"},"WF",null,null,null,null,null,null,"F86088",null,4784,18,16,15,16,15,3,10,8,6,5,6,6,13,11,13,9,13,11]
["2019-07-01",{"$f":"VLOOKUP(J172,'Control Panel'!$G$132:$K$171,5,FALSE)","v":"WF-6"},"WF",null,null,null,null,null,null,"F86607",null,14073,56,46,52,52,50,21,49,44,43,43,44,43,65,61,60,56,59,60]
["2019-07-01",{"$f":"VLOOKUP(J173,'Control Panel'!$G$132:$K$171,5,FALSE)","v":"WF-2"},"WF",null,null,null,null,null,null,"F86616",null,6875,25,24,24,24,23,2,37,34,34,34,33,34,20,17,16,11,17,12]
["2019-07-01",{"$f":"VLOOKUP(J174,'Control Panel'!$G$132:$K$171,5,FALSE)","v":"WF-5"},"WF",null,null,null,null,null,null,"F86621",null,5697,21,19,18,19,18,10,10,10,10,10,10,10,15,6,14,11,14,11]
["2019-07-01",{"$f":"VLOOKUP(J175,'Control Panel'!$G$132:$K$171,5,FALSE)","v":"WF-5"},"WF",null,null,null,null,null,null,"F86625",null,6148,14,9,9,9,8,2,11,9,8,8,8,8,20,19,18,13,7,15]
["2019-07-01",{"$f":"VLOOKUP(J176,'Control Panel'!$G$132:$K$171,5,FALSE)","v":"WF-1"},"WF",null,null,null,null,null,null,"F86626",null,5404,18,17,17,17,17,4,17,16,11,12,12,12,22,22,20,19,21,18]
["2019-07-01",{"$f":"VLOOKUP(J177,'Control Panel'!$G$132:$K$171,5,FALSE)","v":"WF-2"},"WF",null,null,null,null,null,null,"F86627",null,13894,38,35,35,35,28,8,43,37,36,36,35,32,46,45,44,33,43,36]
["2019-07-01",{"$f":"VLOOKUP(J178,'Control Panel'!$G$132:$K$171,5,FALSE)","v":"WF-6"},"WF",null,null,null,null,null,null,"F86644",null,10928,27,25,25,26,23,2,43,38,36,37,37,37,35,34,34,13,34,27]
["2019-07-01",{"$f":"VLOOKUP(J179,'Control Panel'!$G$132:$K$171,5,FALSE)","v":"WF-4"},"WF",null,null,null,null,null,null,"F86650",null,8276,33,30,30,30,29,8,35,31,28,28,28,28,41,34,32,25,35,24]
["2019-07-01",{"$f":"VLOOKUP(J180,'Control Panel'!$G$132:$K$171,5,FALSE)","v":"WF-1"},"WF",null,null,null,null,null,null,"F86664",null,8403,35,32,32,32,33,1,30,30,25,25,25,25,25,23,22,19,22,19]
["2019-07-01",{"$f":"VLOOKUP(J181,'Control Panel'!$G$132:$K$171,5,FALSE)","v":"WF-5"},"WF",null,null,null,null,null,null,"F86666",null,14288,43,38,33,37,31,16,51,47,43,45,43,43,52,49,47,39,42,41]
["2019-07-01",{"$f":"VLOOKUP(J182,'Control Panel'!$G$132:$K$171,5,FALSE)","v":"WF-7"},"WF",null,null,null,null,null,null,"F86679",null,5856,33,29,29,30,29,6,30,29,25,25,26,26,16,12,15,13,14,13]
["2019-07-01",{"$f":"VLOOKUP(J183,'Control Panel'!$G$132:$K$171,5,FALSE)","v":"WF-1"},"WF",null,null,null,null,null,null,"F86689",null,4149,35,34,34,34,31,7,17,17,17,17,17,17,18,10,14,11,14,13]
["2019-07-01",{"$f":"VLOOKUP(J184,'Control Panel'!$G$132:$K$171,5,FALSE)","v":"WF-4"},"WF",null,null,null,null,null,null,"F86696",null,5164,16,16,16,16,16,3,8,7,7,7,7,7,10,10,10,7,10,7]
["2019-07-01",{"$f":"VLOOKUP(J185,'Control Panel'!$G$132:$K$171,5,FALSE)","v":"WF-1"},"WF",null,null,null,null,null,null,"F86700",null,3834,13,10,10,10,10,4,9,9,8,8,8,7,8,7,7,7,7,7]
["2019-07-01",{"$f":"VLOOKUP(J186,'Control Panel'!$G$132:$K$171,5,FALSE)","v":"WF-5"},"WF",null,null,null,null,null,null,"F86701",null,3320,12,10,10,11,11,2,14,12,13,11,12,12,12,4,9,9,9,8]
["2019-07-01",{"$f":"VLOOKUP(J187,'Control Panel'!$G$132:$K$171,5,FALSE)","v":"WF-5"},"WF",null,null,null,null,null,null,"F86705",null,3037,9,9,9,9,9,6,4,4,4,3,3,3,5,5,5,4,4,4]
["2019-07-01",{"$f":"VLOOKUP(J188,'Control Panel'!$G$132:$K$171,5,FALSE)","v":"WF-6"},"WF",null,null,null,null,null,null,"F86708",null,2796,6,4,4,4,3,3,7,7,7,7,7,6,10,10,10,7,10,7]
["2019-07-01",{"$f":"VLOOKUP(J189,'Control Panel'!$G$132:$K$171,5,FALSE)","v":"WF-4"},"WF",null,null,null,null,null,null,"F86712",null,3115,16,13,14,13,14,1,5,5,4,4,4,4,7,3,7,4,7,5]
["2019-07-01",{"$f":"VLOOKUP(J190,'Control Panel'!$G$132:$K$171,5,FALSE)","v":"WF-2"},"WF",null,null,null,null,null,null,"Y01291",null,8772,34,31,31,31,30,9,28,27,24,24,25,25,34,32,33,30,32,30]
["2019-07-01",{"$f":"VLOOKUP(J191,'Control Panel'!$G$132:$K$171,5,FALSE)","v":"WF-1"},"WF",null,null,null,null,null,null,"Y01839",null,6505,28,27,27,27,26,10,27,26,25,25,25,25,22,18,19,17,17,16]
["2019-07-01",{"$f":"VLOOKUP(J192,'Control Panel'!$G$132:$K$171,5,FALSE)","v":"WF-3"},"WF",null,null,null,null,null,null,"Y02585",null,7917,32,29,29,29,30,18,31,30,29,28,28,28,21,18,19,13,18,13]
["2019-07-01",{"$f":"VLOOKUP(J193,'Control Panel'!$G$132:$K$171,5,FALSE)","v":{"$error":"#N/A"}},null,null,null,null,null,null,null,"Total",null,267014,987,868,863,876,836,233,942,873,792,790,798,787,914,791,812,643,789,688]
["2019-08-01",{"$f":"VLOOKUP(J194,'Control Panel'!$G$132:$K$171,5,FALSE)","v":{"$error":"#N/A"}},"Childhood Immunisations Q2",null,"Last Run:",null,"Population Count",281420,null,null,"Search","All Patients","(01) 12 MONTH COHORT","(01.01) DTaP/IPV/Hib 6in1","(01.02) Men B (1st and 2nd)","(01.03) PCV","(01.04) Rotavirus","(01.05) BCG","(02) 24 MONTH COHORT","(02.01) DTaP/IPV/Hib Combined","(02.02) MMR","(02.03) HiB/Men C","(02.04) PCV (Booster)","(02.05) Men B (Booster)","(03) 5 YEAR COHORT","(03.01) DTaP/IPV/Hib Combined","(03.02) MMR (Primary)","(03.03) DTaP/IPV (Booster)","(03.04) HiB/Men C","(03.05) MMR (Booster)"]
["2019-08-01",{"$f":"VLOOKUP(J195,'Control Panel'!$G$132:$K$171,5,FALSE)","v":{"$error":"#N/A"}},null,null,"2019-09-02T09:31:00",null,"Males",143521,null,"Organisation Code"]
["2019-08-01",{"$f":"VLOOKUP(J196,'Control Panel'!$G$132:$K$171,5,FALSE)","v":"WF-6"},"WF",null,"Relative Date:",null,"Females",137899,null,"F86001",null,7917,28,26,26,26,25,5,28,25,22,23,23,24,30,24,24,17,24,19]
["2019-08-01",{"$f":"VLOOKUP(J197,'Control Panel'!$G$132:$K$171,5,FALSE)","v":"WF-1"},"WF",null,"2019-09-01",null,null,null,null,"F86005",null,8427,41,33,30,33,30,3,46,44,40,40,41,39,32,29,29,18,28,21]
["2019-08-01",{"$f":"VLOOKUP(J198,'Control Panel'!$G$132:$K$171,5,FALSE)","v":"WF-7"},"WF",null,null,null,null,null,null,"F86006",null,6288,13,11,11,11,11,1,14,14,11,13,13,11,21,21,20,14,17,16]
["2019-08-01",{"$f":"VLOOKUP(J199,'Control Panel'!$G$132:$K$171,5,FALSE)","v":"WF-3"},"WF",null,null,null,null,null,null,"F86011",null,9227,16,13,13,13,13,0,26,22,21,22,22,22,27,24,20,20,21,19]
["2019-08-01",{"$f":"VLOOKUP(J200,'Control Panel'!$G$132:$K$171,5,FALSE)","v":"WF-7"},"WF",null,null,null,null,null,null,"F86030",null,8158,24,21,21,21,21,7,32,31,30,30,30,30,30,25,24,24,25,24]
["2019-08-01",{"$f":"VLOOKUP(J201,'Control Panel'!$G$132:$K$171,5,FALSE)","v":"WF-4"},"WF",null,null,null,null,null,null,"F86036",null,15893,70,62,62,62,58,35,68,66,62,61,63,62,58,56,54,50,52,50]
["2019-08-01",{"$f":"VLOOKUP(J202,'Control Panel'!$G$132:$K$171,5,FALSE)","v":"WF-3"},"WF",null,null,null,null,null,null,"F86038",null,11164,52,48,47,48,48,5,42,42,34,33,34,34,56,48,47,37,49,39]
["2019-08-01",{"$f":"VLOOKUP(J203,'Control Panel'!$G$132:$K$171,5,FALSE)","v":"WF-4"},"WF",null,null,null,null,null,null,"F86044",null,9044,49,41,40,41,41,4,41,28,27,27,27,27,30,22,19,17,19,17]
["2019-08-01",{"$f":"VLOOKUP(J204,'Control Panel'!$G$132:$K$171,5,FALSE)","v":"WF-5"},"WF",null,null,null,null,null,null,"F86045",null,1948,4,3,3,3,3,1,3,3,3,3,3,2,4,4,4,3,4,4]
["2019-08-01",{"$f":"VLOOKUP(J205,'Control Panel'!$G$132:$K$171,5,FALSE)","v":"WF-7"},"WF",null,null,null,null,null,null,"F86058",null,15633,64,53,51,51,49,15,63,62,52,51,53,52,56,52,52,42,51,44]
["2019-08-01",{"$f":"VLOOKUP(J206,'Control Panel'!$G$132:$K$171,5,FALSE)","v":"WF-7"},"WF",null,null,null,null,null,null,"F86062",null,7109,25,22,22,22,19,4,25,23,19,19,20,20,15,14,15,12,14,11]
["2019-08-01",{"$f":"VLOOKUP(J207,'Control Panel'!$G$132:$K$171,5,FALSE)","v":"WF-2"},"WF",null,null,null,null,null,null,"F86078",null,7332,22,20,19,20,17,5,13,13,10,10,10,9,14,14,12,9,12,9]
["2019-08-01",{"$f":"VLOOKUP(J208,'Control Panel'!$G$132:$K$171,5,FALSE)","v":"WF-6"},"WF",null,null,null,null,null,null,"F86086",null,6011,21,17,17,17,17,4,20,17,14,13,13,13,25,9,23,11,23,19]
["2019-08-01",{"$f":"VLOOKUP(J209,'Control Panel'!$G$132:$K$171,5,FALSE)","v":"WF-4"},"WF",null,null,null,null,null,null,"F86088",null,4785,18,16,15,16,15,3,10,8,6,5,6,6,13,11,13,9,13,11]
["2019-08-01",{"$f":"VLOOKUP(J210,'Control Panel'!$G$132:$K$171,5,FALSE)","v":"WF-6"},"WF",null,null,null,null,null,null,"F86607",null,14078,55,45,51,51,49,20,50,45,44,44,45,44,64,60,59,55,58,59]
["2019-08-01",{"$f":"VLOOKUP(J211,'Control Panel'!$G$132:$K$171,5,FALSE)","v":"WF-2"},"WF",null,null,null,null,null,null,"F86616",null,6939,25,24,24,24,23,2,38,35,35,35,34,35,21,18,17,12,18,13]
["2019-08-01",{"$f":"VLOOKUP(J212,'Control Panel'!$G$132:$K$171,5,FALSE)","v":"WF-5"},"WF",null,null,null,null,null,null,"F86621",null,5735,20,18,17,18,17,9,10,10,10,10,10,10,15,6,14,11,14,11]
["2019-08-01",{"$f":"VLOOKUP(J213,'Control Panel'!$G$132:$K$171,5,FALSE)","v":"WF-5"},"WF",null,null,null,null,null,null,"F86625",null,6174,14,9,9,9,8,2,11,9,8,8,8,8,20,19,18,13,7,15]
["2019-08-01",{"$f":"VLOOKUP(J214,'Control Panel'!$G$132:$K$171,5,FALSE)","v":"WF-1"},"WF",null,null,null,null,null,null,"F86626",null,5461,18,17,17,17,17,4,16,15,10,11,11,11,22,22,20,19,21,18]
["2019-08-01",{"$f":"VLOOKUP(J215,'Control Panel'!$G$132:$K$171,5,FALSE)","v":"WF-2"},"WF",null,null,null,null,null,null,"F86627",null,13833,38,35,35,35,28,8,43,37,36,36,35,32,47,46,45,34,44,37]
["2019-08-01",{"$f":"VLOOKUP(J216,'Control Panel'!$G$132:$K$171,5,FALSE)","v":"WF-6"},"WF",null,null,null,null,null,null,"F86644",null,10775,27,25,25,26,22,2,43,38,36,37,37,37,33,32,32,12,33,25]
["2019-08-01",{"$f":"VLOOKUP(J217,'Control Panel'!$G$132:$K$171,5,FALSE)","v":"WF-4"},"WF",null,null,null,null,null,null,"F86650",null,8341,33,30,30,30,29,8,35,31,28,28,28,28,41,34,32,25,35,24]
["2019-08-01",{"$f":"VLOOKUP(J218,'Control Panel'!$G$132:$K$171,5,FALSE)","v":"WF-1"},"WF",null,null,null,null,null,null,"F86664",null,8385,35,32,32,32,33,1,28,28,23,23,23,23,25,23,22,19,22,19]
["2019-08-01",{"$f":"VLOOKUP(J219,'Control Panel'!$G$132:$K$171,5,FALSE)","v":"WF-5"},"WF",null,null,null,null,null,null,"F86666",null,14317,42,37,32,36,30,16,51,47,43,45,43,43,52,49,47,39,42,41]
["2019-08-01",{"$f":"VLOOKUP(J220,'Control Panel'!$G$132:$K$171,5,FALSE)","v":"WF-7"},"WF",null,null,null,null,null,null,"F86679",null,5868,33,30,30,31,29,7,30,29,25,25,26,26,16,12,15,13,14,13]
["2019-08-01",{"$f":"VLOOKUP(J221,'Control Panel'!$G$132:$K$171,5,FALSE)","v":"WF-1"},"WF",null,null,null,null,null,null,"F86689",null,4146,35,34,34,34,31,7,17,17,17,17,17,17,19,11,15,12,15,14]
["2019-08-01",{"$f":"VLOOKUP(J222,'Control Panel'!$G$132:$K$171,5,FALSE)","v":"WF-4"},"WF",null,null,null,null,null,null,"F86696",null,5216,15,15,15,15,15,2,9,7,8,8,8,8,10,10,10,7,10,7]
["2019-08-01",{"$f":"VLOOKUP(J223,'Control Panel'!$G$132:$K$171,5,FALSE)","v":"WF-1"},"WF",null,null,null,null,null,null,"F86700",null,3856,14,10,10,10,10,4,9,9,8,8,8,7,8,7,7,7,7,7]
["2019-08-01",{"$f":"VLOOKUP(J224,'Control Panel'!$G$132:$K$171,5,FALSE)","v":"WF-5"},"WF",null,null,null,null,null,null,"F86701",null,3322,12,10,10,11,11,2,14,12,13,11,12,12,12,4,9,9,9,8]
["2019-08-01",{"$f":"VLOOKUP(J225,'Control Panel'!$G$132:$K$171,5,FALSE)","v":"WF-5"},"WF",null,null,null,null,null,null,"F86705",null,3063,10,10,9,10,10,6,4,4,4,3,3,3,5,5,5,4,4,4]
["2019-08-01",{"$f":"VLOOKUP(J226,'Control Panel'!$G$132:$K$171,5,FALSE)","v":"WF-6"},"WF",null,null,null,null,null,null,"F86708",null,2796,6,4,4,4,3,3,7,7,7,7,7,6,10,10,10,7,10,7]
["2019-08-01",{"$f":"VLOOKUP(J227,'Control Panel'!$G$132:$K$171,5,FALSE)","v":"WF-4"},"WF",null,null,null,null,null,null,"F86712",null,3131,16,13,14,13,14,1,5,5,4,4,4,4,7,3,7,4,7,5]
["2019-08-01",{"$f":"VLOOKUP(J228,'Control Panel'!$G$132:$K$171,5,FALSE)","v":"WF-2"},"WF",null,null,null,null,null,null,"Y01291",null,8748,33,31,30,31,30,12,28,27,24,24,25,25,32,30,31,28,30,28]
["2019-08-01",{"$f":"VLOOKUP(J229,'Control Panel'!$G$132:$K$171,5,FALSE)","v":"WF-1"},"WF",null,null,null,null,null,null,"Y01839",null,6467,27,26,26,26,25,9,27,26,26,25,25,25,22,18,19,17,17,16]
["2019-08-01",{"$f":"VLOOKUP(J230,'Control Panel'!$G$132:$K$171,5,FALSE)","v":"WF-3"},"WF",null,null,null,null,null,null,"Y02585",null,7632,30,27,27,27,28,18,27,26,25,24,24,24,19,16,17,12,16,12]
["2019-08-01",{"$f":"VLOOKUP(J231,'Control Panel'!$G$132:$K$171,5,FALSE)","v":{"$error":"#N/A"}},null,null,null,null,null,null,null,"Total",null,267219,985,868,858,874,829,235,933,862,785,783,791,779,911,788,807,642,785,686]
["2019-09-01",{"$f":"VLOOKUP(J232,'Control Panel'!$G$132:$K$171,5,FALSE)","v":{"$error":"#N/A"}},"Childhood Immunisations Q2",null,"Last Run:",null,"Population Count",281963,null,null,"Search","All Patients","(01) 12 MONTH COHORT","(01.01) DTaP/IPV/Hib 6in1","(01.02) Men B (1st and 2nd)","(01.03) PCV","(01.04) Rotavirus","(01.05) BCG","(02) 24 MONTH COHORT","(02.01) DTaP/IPV/Hib Combined","(02.02) MMR","(02.03) HiB/Men C","(02.04) PCV (Booster)","(02.05) Men B (Booster)","(03) 5 YEAR COHORT","(03.01) DTaP/IPV/Hib Combined","(03.02) MMR (Primary)","(03.03) DTaP/IPV (Booster)","(03.04) HiB/Men C","(03.05) MMR (Booster)"]
["2019-09-01",{"$f":"VLOOKUP(J233,'Control Panel'!$G$132:$K$171,5,FALSE)","v":{"$error":"#N/A"}},null,null,"2019-10-02T09:52:00",null,"Males",143916,null,"Organisation Code"]
["2019-09-01",{"$f":"VLOOKUP(J234,'Control Panel'!$G$132:$K$171,5,FALSE)","v":"WF-6"},"WF",null,"Relative Date:",null,"Females",138047,null,"F86001",null,7911,28,26,26,26,25,5,28,25,22,23,23,24,30,24,24,17,24,19]
["2019-09-01",{"$f":"VLOOKUP(J235,'Control Panel'!$G$132:$K$171,5,FALSE)","v":"WF-1"},"WF",null,"2019-10-01",null,null,null,null,"F86005",null,8429,43,34,31,34,31,4,46,44,40,40,41,39,32,29,29,18,28,21]
["2019-09-01",{"$f":"VLOOKUP(J236,'Control Panel'!$G$132:$K$171,5,FALSE)","v":"WF-7"},"WF",null,null,null,null,null,null,"F86006",null,6294,13,11,11,11,11,1,14,14,11,13,13,11,21,21,20,14,17,16]
["2019-09-01",{"$f":"VLOOKUP(J237,'Control Panel'!$G$132:$K$171,5,FALSE)","v":"WF-3"},"WF",null,null,null,null,null,null,"F86011",null,9259,15,14,14,14,13,0,27,22,21,22,22,23,29,25,21,21,22,20]
["2019-09-01",{"$f":"VLOOKUP(J238,'Control Panel'!$G$132:$K$171,5,FALSE)","v":"WF-7"},"WF",null,null,null,null,null,null,"F86030",null,8197,24,21,21,21,21,8,33,31,30,30,30,30,31,25,24,24,25,24]
["2019-09-01",{"$f":"VLOOKUP(J239,'Control Panel'!$G$132:$K$171,5,FALSE)","v":"WF-4"},"WF",null,null,null,null,null,null,"F86036",null,15894,70,63,63,63,59,38,68,66,62,61,63,62,60,56,55,52,52,52]
["2019-09-01",{"$f":"VLOOKUP(J240,'Control Panel'!$G$132:$K$171,5,FALSE)","v":"WF-3"},"WF",null,null,null,null,null,null,"F86038",null,11126,51,47,46,47,48,6,40,40,34,33,34,34,55,47,46,37,48,39]
["2019-09-01",{"$f":"VLOOKUP(J241,'Control Panel'!$G$132:$K$171,5,FALSE)","v":"WF-4"},"WF",null,null,null,null,null,null,"F86044",null,9129,49,40,39,40,40,4,38,26,25,25,25,25,31,23,20,18,20,18]
["2019-09-01",{"$f":"VLOOKUP(J242,'Control Panel'!$G$132:$K$171,5,FALSE)","v":"WF-5"},"WF",null,null,null,null,null,null,"F86045",null,1967,4,3,3,3,3,1,3,3,3,3,3,2,4,4,4,3,4,4]
["2019-09-01",{"$f":"VLOOKUP(J243,'Control Panel'!$G$132:$K$171,5,FALSE)","v":"WF-7"},"WF",null,null,null,null,null,null,"F86058",null,15841,64,53,51,51,49,15,66,63,55,52,56,53,56,52,52,42,51,44]
["2019-09-01",{"$f":"VLOOKUP(J244,'Control Panel'!$G$132:$K$171,5,FALSE)","v":"WF-7"},"WF",null,null,null,null,null,null,"F86062",null,7317,25,22,22,22,19,4,25,23,19,19,20,20,15,15,15,12,14,11]
["2019-09-01",{"$f":"VLOOKUP(J245,'Control Panel'!$G$132:$K$171,5,FALSE)","v":"WF-2"},"WF",null,null,null,null,null,null,"F86078",null,7273,22,20,19,20,17,5,13,13,10,10,10,9,14,14,12,9,12,9]
["2019-09-01",{"$f":"VLOOKUP(J246,'Control Panel'!$G$132:$K$171,5,FALSE)","v":"WF-6"},"WF",null,null,null,null,null,null,"F86086",null,6061,21,17,17,17,17,4,22,18,15,14,14,14,25,9,23,11,23,19]
["2019-09-01",{"$f":"VLOOKUP(J247,'Control Panel'!$G$132:$K$171,5,FALSE)","v":"WF-4"},"WF",null,null,null,null,null,null,"F86088",null,4904,18,16,15,16,15,4,11,9,7,6,7,7,13,11,13,9,13,11]
["2019-09-01",{"$f":"VLOOKUP(J248,'Control Panel'!$G$132:$K$171,5,FALSE)","v":"WF-6"},"WF",null,null,null,null,null,null,"F86607",null,14046,55,46,51,51,49,20,50,45,44,44,45,44,63,59,58,54,57,58]
["2019-09-01",{"$f":"VLOOKUP(J249,'Control Panel'!$G$132:$K$171,5,FALSE)","v":"WF-2"},"WF",null,null,null,null,null,null,"F86616",null,6975,25,23,24,24,23,2,40,37,36,35,35,36,22,19,18,12,19,13]
["2019-09-01",{"$f":"VLOOKUP(J250,'Control Panel'!$G$132:$K$171,5,FALSE)","v":"WF-5"},"WF",null,null,null,null,null,null,"F86621",null,5736,19,17,16,17,16,8,9,9,9,9,9,9,15,6,14,11,14,11]
["2019-09-01",{"$f":"VLOOKUP(J251,'Control Panel'!$G$132:$K$171,5,FALSE)","v":"WF-5"},"WF",null,null,null,null,null,null,"F86625",null,6156,14,9,9,9,8,2,11,9,8,8,8,8,20,19,18,13,7,15]
["2019-09-01",{"$f":"VLOOKUP(J252,'Control Panel'!$G$132:$K$171,5,FALSE)","v":"WF-1"},"WF",null,null,null,null,null,null,"F86626",null,5543,18,17,17,17,17,5,16,15,10,11,11,11,23,23,21,20,22,19]
["2019-09-01",{"$f":"VLOOKUP(J253,'Control Panel'!$G$132:$K$171,5,FALSE)","v":"WF-2"},"WF",null,null,null,null,null,null,"F86627",null,13802,37,34,34,34,28,8,43,37,36,36,35,32,47,46,45,33,44,36]
["2019-09-01",{"$f":"VLOOKUP(J254,'Control Panel'!$G$132:$K$171,5,FALSE)","v":"WF-6"},"WF",null,null,null,null,null,null,"F86644",null,10808,27,25,25,26,22,2,43,38,36,37,37,37,33,32,32,12,33,25]
["2019-09-01",{"$f":"VLOOKUP(J255,'Control Panel'!$G$132:$K$171,5,FALSE)","v":"WF-4"},"WF",null,null,null,null,null,null,"F86650",null,8314,34,31,30,30,30,9,35,31,28,29,29,28,41,34,32,25,35,24]
["2019-09-01",{"$f":"VLOOKUP(J256,'Control Panel'!$G$132:$K$171,5,FALSE)","v":"WF-1"},"WF",null,null,null,null,null,null,"F86664",null,8426,35,31,31,31,32,1,28,28,23,23,23,23,25,23,22,19,22,19]
["2019-09-01",{"$f":"VLOOKUP(J257,'Control Panel'!$G$132:$K$171,5,FALSE)","v":"WF-5"},"WF",null,null,null,null,null,null,"F86666",null,14355,43,38,33,37,31,16,51,47,43,45,43,42,52,49,47,39,42,41]
["2019-09-01",{"$f":"VLOOKUP(J258,'Control Panel'!$G$132:$K$171,5,FALSE)","v":"WF-7"},"WF",null,null,null,null,null,null,"F86679",null,5929,33,30,30,31,29,6,30,29,25,25,26,26,16,12,16,13,15,14]
["2019-09-01",{"$f":"VLOOKUP(J259,'Control Panel'!$G$132:$K$171,5,FALSE)","v":"WF-1"},"WF",null,null,null,null,null,null,"F86689",null,4177,34,33,33,33,30,6,16,16,16,16,16,16,18,10,14,11,14,13]
["2019-09-01",{"$f":"VLOOKUP(J260,'Control Panel'!$G$132:$K$171,5,FALSE)","v":"WF-4"},"WF",null,null,null,null,null,null,"F86696",null,5303,14,14,14,14,14,2,11,9,10,10,10,10,10,10,10,7,10,7]
["2019-09-01",{"$f":"VLOOKUP(J261,'Control Panel'!$G$132:$K$171,5,FALSE)","v":"WF-1"},"WF",null,null,null,null,null,null,"F86700",null,3857,14,10,10,10,10,4,9,9,8,8,8,7,9,8,8,8,8,8]
["2019-09-01",{"$f":"VLOOKUP(J262,'Control Panel'!$G$132:$K$171,5,FALSE)","v":"WF-5"},"WF",null,null,null,null,null,null,"F86701",null,3352,12,10,10,11,11,2,14,12,13,11,12,12,12,4,9,9,9,8]
["2019-09-01",{"$f":"VLOOKUP(J263,'Control Panel'!$G$132:$K$171,5,FALSE)","v":"WF-5"},"WF",null,null,null,null,null,null,"F86705",null,3085,9,9,8,9,9,6,4,4,4,3,3,3,5,5,5,4,4,4]
["2019-09-01",{"$f":"VLOOKUP(J264,'Control Panel'!$G$132:$K$171,5,FALSE)","v":"WF-6"},"WF",null,null,null,null,null,null,"F86708",null,2810,6,4,4,4,3,3,7,7,7,7,7,6,10,10,10,7,10,7]
["2019-09-01",{"$f":"VLOOKUP(J265,'Control Panel'!$G$132:$K$171,5,FALSE)","v":"WF-4"},"WF",null,null,null,null,null,null,"F86712",null,3121,17,14,15,14,15,2,5,5,4,4,4,4,7,3,7,4,7,5]
["2019-09-01",{"$f":"VLOOKUP(J266,'Control Panel'!$G$132:$K$171,5,FALSE)","v":"WF-2"},"WF",null,null,null,null,null,null,"Y01291",null,8762,32,30,29,30,29,11,28,27,24,24,25,25,32,30,31,29,30,29]
["2019-09-01",{"$f":"VLOOKUP(J267,'Control Panel'!$G$132:$K$171,5,FALSE)","v":"WF-1"},"WF",null,null,null,null,null,null,"Y01839",null,6459,26,25,25,25,24,9,26,25,25,24,24,24,21,17,18,16,16,15]
["2019-09-01",{"$f":"VLOOKUP(J268,'Control Panel'!$G$132:$K$171,5,FALSE)","v":"WF-3"},"WF",null,null,null,null,null,null,"Y02585",null,7164,26,24,24,24,24,16,25,24,23,22,22,22,18,15,16,11,15,11]
["2019-09-01",{"$f":"VLOOKUP(J269,'Control Panel'!$G$132:$K$171,5,FALSE)","v":{"$error":"#N/A"}},null,null,null,null,null,null,null,"Total",null,267782,977,861,850,866,822,239,935,860,786,782,793,778,915,789,809,644,786,689]
["2019-10-01",{"$f":"VLOOKUP(J270,'Control Panel'!$G$132:$K$171,5,FALSE)","v":{"$error":"#N/A"}},"Childhood Immunisations Q3",null,"Last Run:",null,"Population Count",282199,null,null,"Search","All Patients","(01) 12 MONTH COHORT","(01.01) DTaP/IPV/Hib 6in1","(01.02) Men B (1st and 2nd)","(01.03) PCV","(01.04) Rotavirus","(01.05) BCG","(02) 24 MONTH COHORT","(02.01) DTaP/IPV/Hib Combined","(02.02) MMR","(02.03) HiB/Men C","(02.04) PCV (Booster)","(02.05) Men B (Booster)","(03) 5 YEAR COHORT","(03.01) DTaP/IPV/Hib Combined","(03.02) MMR (Primary)","(03.03) DTaP/IPV (Booster)","(03.04) HiB/Men C","(03.05) MMR (Booster)"]
["2019-10-01",{"$f":"VLOOKUP(J271,'Control Panel'!$G$132:$K$171,5,FALSE)","v":{"$error":"#N/A"}},null,null,"2019-11-04T10:10:00",null,"Males",143909,null,"Organisation Code"]
["2019-10-01",{"$f":"VLOOKUP(J272,'Control Panel'!$G$132:$K$171,5,FALSE)","v":"WF-6"},"WF",null,"Relative Date:",null,"Females",138290,null,"F86001",null,7907,24,23,23,23,22,2,22,19,15,15,16,15,23,21,20,20,19,20]
["2019-10-01",{"$f":"VLOOKUP(J273,'Control Panel'!$G$132:$K$171,5,FALSE)","v":"WF-1"},"WF",null,"2019-11-01",null,null,null,null,"F86005",null,8542,56,54,53,54,54,5,43,40,38,38,37,37,42,37,36,33,34,32]
["2019-10-01",{"$f":"VLOOKUP(J274,'Control Panel'!$G$132:$K$171,5,FALSE)","v":"WF-7"},"WF",null,null,null,null,null,null,"F86006",null,6317,13,11,11,11,11,2,16,16,14,16,16,16,16,15,15,10,15,10]
["2019-10-01",{"$f":"VLOOKUP(J275,'Control Panel'!$G$132:$K$171,5,FALSE)","v":"WF-3"},"WF",null,null,null,null,null,null,"F86011",null,9370,20,17,17,17,18,6,29,25,17,18,18,18,29,23,23,22,24,22]
["2019-10-01",{"$f":"VLOOKUP(J276,'Control Panel'!$G$132:$K$171,5,FALSE)","v":"WF-7"},"WF",null,null,null,null,null,null,"F86030",null,8170,33,31,31,31,31,14,29,27,26,26,26,26,29,27,27,23,26,27]
["2019-10-01",{"$f":"VLOOKUP(J277,'Control Panel'!$G$132:$K$171,5,FALSE)","v":"WF-4"},"WF",null,null,null,null,null,null,"F86036",null,15929,66,58,58,58,58,36,63,59,56,56,57,57,59,56,54,52,56,53]
["2019-10-01",{"$f":"VLOOKUP(J278,'Control Panel'!$G$132:$K$171,5,FALSE)","v":"WF-3"},"WF",null,null,null,null,null,null,"F86038",null,11354,31,28,28,28,29,4,43,40,38,37,37,37,46,42,39,36,39,38]
["2019-10-01",{"$f":"VLOOKUP(J279,'Control Panel'!$G$132:$K$171,5,FALSE)","v":"WF-4"},"WF",null,null,null,null,null,null,"F86044",null,9370,52,47,46,48,46,4,43,35,34,35,34,34,22,21,16,12,19,12]
["2019-10-01",{"$f":"VLOOKUP(J280,'Control Panel'!$G$132:$K$171,5,FALSE)","v":"WF-5"},"WF",null,null,null,null,null,null,"F86045",null,1966,5,5,5,5,5,3,2,2,2,1,1,0,4,4,4,2,3,3]
["2019-10-01",{"$f":"VLOOKUP(J281,'Control Panel'!$G$132:$K$171,5,FALSE)","v":"WF-7"},"WF",null,null,null,null,null,null,"F86058",null,15417,57,52,52,52,47,5,58,53,47,47,47,48,53,43,43,28,41,27]
["2019-10-01",{"$f":"VLOOKUP(J282,'Control Panel'!$G$132:$K$171,5,FALSE)","v":"WF-7"},"WF",null,null,null,null,null,null,"F86062",null,7347,19,16,17,17,17,1,30,29,26,26,26,25,22,22,21,14,17,14]
["2019-10-01",{"$f":"VLOOKUP(J283,'Control Panel'!$G$132:$K$171,5,FALSE)","v":"WF-2"},"WF",null,null,null,null,null,null,"F86078",null,7255,13,13,13,13,13,3,15,12,13,12,13,12,10,10,8,9,9,8]
["2019-10-01",{"$f":"VLOOKUP(J284,'Control Panel'!$G$132:$K$171,5,FALSE)","v":"WF-6"},"WF",null,null,null,null,null,null,"F86086",null,6133,26,23,23,23,24,7,34,27,26,24,24,25,33,13,27,18,26,21]
["2019-10-01",{"$f":"VLOOKUP(J285,'Control Panel'!$G$132:$K$171,5,FALSE)","v":"WF-4"},"WF",null,null,null,null,null,null,"F86088",null,4907,13,11,11,11,12,0,16,15,16,16,16,15,14,12,10,7,8,8]
["2019-10-01",{"$f":"VLOOKUP(J286,'Control Panel'!$G$132:$K$171,5,FALSE)","v":"WF-6"},"WF",null,null,null,null,null,null,"F86607",null,14019,60,52,54,54,51,25,49,46,42,41,42,43,65,60,56,54,57,55]
["2019-10-01",{"$f":"VLOOKUP(J287,'Control Panel'!$G$132:$K$171,5,FALSE)","v":"WF-2"},"WF",null,null,null,null,null,null,"F86616",null,7051,35,31,32,33,32,2,35,31,30,31,31,30,24,19,22,17,20,18]
["2019-10-01",{"$f":"VLOOKUP(J288,'Control Panel'!$G$132:$K$171,5,FALSE)","v":"WF-5"},"WF",null,null,null,null,null,null,"F86621",null,5774,28,25,25,25,25,10,13,11,9,8,8,9,12,1,12,9,12,9]
["2019-10-01",{"$f":"VLOOKUP(J289,'Control Panel'!$G$132:$K$171,5,FALSE)","v":"WF-5"},"WF",null,null,null,null,null,null,"F86625",null,6132,19,14,14,14,13,1,18,17,13,13,13,13,18,18,17,16,13,16]
["2019-10-01",{"$f":"VLOOKUP(J290,'Control Panel'!$G$132:$K$171,5,FALSE)","v":"WF-1"},"WF",null,null,null,null,null,null,"F86626",null,5632,19,16,16,16,17,3,12,10,9,9,10,11,27,25,24,21,24,20]
["2019-10-01",{"$f":"VLOOKUP(J291,'Control Panel'!$G$132:$K$171,5,FALSE)","v":"WF-2"},"WF",null,null,null,null,null,null,"F86627",null,13804,39,35,35,35,34,10,40,39,36,36,36,35,37,34,36,32,36,31]
["2019-10-01",{"$f":"VLOOKUP(J292,'Control Panel'!$G$132:$K$171,5,FALSE)","v":"WF-6"},"WF",null,null,null,null,null,null,"F86644",null,10672,31,27,27,27,26,6,37,34,34,35,35,35,36,35,34,22,35,27]
["2019-10-01",{"$f":"VLOOKUP(J293,'Control Panel'!$G$132:$K$171,5,FALSE)","v":"WF-4"},"WF",null,null,null,null,null,null,"F86650",null,8264,27,22,20,22,20,9,24,20,21,20,19,18,30,24,26,20,26,21]
["2019-10-01",{"$f":"VLOOKUP(J294,'Control Panel'!$G$132:$K$171,5,FALSE)","v":"WF-1"},"WF",null,null,null,null,null,null,"F86664",null,8419,22,18,18,18,19,3,28,27,25,25,25,25,30,28,28,25,28,27]
["2019-10-01",{"$f":"VLOOKUP(J295,'Control Panel'!$G$132:$K$171,5,FALSE)","v":"WF-5"},"WF",null,null,null,null,null,null,"F86666",null,14375,40,36,37,38,37,10,62,56,45,50,46,48,54,50,51,48,50,48]
["2019-10-01",{"$f":"VLOOKUP(J296,'Control Panel'!$G$132:$K$171,5,FALSE)","v":"WF-7"},"WF",null,null,null,null,null,null,"F86679",null,5972,33,30,30,31,31,11,41,39,37,38,38,37,27,14,24,22,25,21]
["2019-10-01",{"$f":"VLOOKUP(J297,'Control Panel'!$G$132:$K$171,5,FALSE)","v":"WF-1"},"WF",null,null,null,null,null,null,"F86689",null,4192,23,22,22,21,20,6,28,26,26,26,26,26,26,10,21,19,21,20]
["2019-10-01",{"$f":"VLOOKUP(J298,'Control Panel'!$G$132:$K$171,5,FALSE)","v":"WF-4"},"WF",null,null,null,null,null,null,"F86696",null,5378,17,14,14,15,13,2,15,14,13,13,14,15,17,14,14,15,14,14]
["2019-10-01",{"$f":"VLOOKUP(J299,'Control Panel'!$G$132:$K$171,5,FALSE)","v":"WF-1"},"WF",null,null,null,null,null,null,"F86700",null,3855,14,13,14,14,14,7,10,10,9,9,9,9,16,15,14,14,13,14]
["2019-10-01",{"$f":"VLOOKUP(J300,'Control Panel'!$G$132:$K$171,5,FALSE)","v":"WF-5"},"WF",null,null,null,null,null,null,"F86701",null,3376,14,11,11,11,10,6,11,11,9,9,9,10,8,3,7,8,7,8]
["2019-10-01",{"$f":"VLOOKUP(J301,'Control Panel'!$G$132:$K$171,5,FALSE)","v":"WF-5"},"WF",null,null,null,null,null,null,"F86705",null,3110,11,11,11,11,11,7,9,9,7,8,7,7,8,7,7,7,7,7]
["2019-10-01",{"$f":"VLOOKUP(J302,'Control Panel'!$G$132:$K$171,5,FALSE)","v":"WF-6"},"WF",null,null,null,null,null,null,"F86708",null,2802,5,4,4,4,3,1,7,7,6,6,6,6,15,14,14,8,14,8]
["2019-10-01",{"$f":"VLOOKUP(J303,'Control Panel'!$G$132:$K$171,5,FALSE)","v":"WF-4"},"WF",null,null,null,null,null,null,"F86712",null,3144,9,9,9,9,9,2,13,11,10,10,10,10,10,5,10,8,9,9]
["2019-10-01",{"$f":"VLOOKUP(J304,'Control Panel'!$G$132:$K$171,5,FALSE)","v":"WF-2"},"WF",null,null,null,null,null,null,"Y01291",null,8772,29,29,28,29,27,12,26,25,24,24,24,24,31,29,28,27,28,27]
["2019-10-01",{"$f":"VLOOKUP(J305,'Control Panel'!$G$132:$K$171,5,FALSE)","v":"WF-1"},"WF",null,null,null,null,null,null,"Y01839",null,6420,31,26,28,27,27,9,28,24,24,24,24,24,26,24,20,14,21,14]
["2019-10-01",{"$f":"VLOOKUP(J306,'Control Panel'!$G$132:$K$171,5,FALSE)","v":"WF-3"},"WF",null,null,null,null,null,null,"Y02585",null,6387,32,28,28,28,23,9,30,26,25,25,25,25,30,25,25,16,24,18]
["2019-10-01",{"$f":"VLOOKUP(J307,'Control Panel'!$G$132:$K$171,5,FALSE)","v":{"$error":"#N/A"}},null,null,null,null,null,null,null,"Total",null,267534,966,862,865,873,849,243,979,892,822,827,825,825,949,800,833,708,820,727]
["2019-11-01",{"$f":"VLOOKUP(J308,'Control Panel'!$G$132:$K$171,5,FALSE)","v":{"$error":"#N/A"}},"Childhood Immunisations Q3",null,"Last Run:",null,"Population Count",282402,null,null,"Search","All Patients","(01) 12 MONTH COHORT","(01.01) DTaP/IPV/Hib 6in1","(01.02) Men B (1st and 2nd)","(01.03) PCV","(01.04) Rotavirus","(01.05) BCG","(02) 24 MONTH COHORT","(02.01) DTaP/IPV/Hib Combined","(02.02) MMR","(02.03) HiB/Men C","(02.04) PCV (Booster)","(02.05) Men B (Booster)","(03) 5 YEAR COHORT","(03.01) DTaP/IPV/Hib Combined","(03.02) MMR (Primary)","(03.03) DTaP/IPV (Booster)","(03.04) HiB/Men C","(03.05) MMR (Booster)"]
["2019-11-01",{"$f":"VLOOKUP(J309,'Control Panel'!$G$132:$K$171,5,FALSE)","v":{"$error":"#N/A"}},null,null,"2019-12-02T09:23:00",null,"Males",143995,null,"Organisation Code"]
["2019-11-01",{"$f":"VLOOKUP(J310,'Control Panel'!$G$132:$K$171,5,FALSE)","v":"WF-6"},"WF",null,"Relative Date:",null,"Females",138407,null,"F86001",null,7897,24,23,23,23,22,2,22,19,15,15,16,15,23,21,20,20,19,20]
["2019-11-01",{"$f":"VLOOKUP(J311,'Control Panel'!$G$132:$K$171,5,FALSE)","v":"WF-1"},"WF",null,"2019-12-01",null,null,null,null,"F86005",null,8566,57,54,53,55,55,5,43,39,37,37,36,36,43,37,36,33,34,32]
["2019-11-01",{"$f":"VLOOKUP(J312,'Control Panel'!$G$132:$K$171,5,FALSE)","v":"WF-7"},"WF",null,null,null,null,null,null,"F86006",null,6352,12,10,10,10,10,2,18,18,16,17,17,17,16,15,15,10,15,10]
["2019-11-01",{"$f":"VLOOKUP(J313,'Control Panel'!$G$132:$K$171,5,FALSE)","v":"WF-3"},"WF",null,null,null,null,null,null,"F86011",null,9403,20,17,17,17,18,6,31,26,20,21,21,20,29,23,23,22,24,22]
["2019-11-01",{"$f":"VLOOKUP(J314,'Control Panel'!$G$132:$K$171,5,FALSE)","v":"WF-7"},"WF",null,null,null,null,null,null,"F86030",null,8192,33,31,31,31,31,14,29,27,26,26,26,26,29,27,27,23,26,27]
["2019-11-01",{"$f":"VLOOKUP(J315,'Control Panel'!$G$132:$K$171,5,FALSE)","v":"WF-4"},"WF",null,null,null,null,null,null,"F86036",null,15920,67,59,59,59,59,37,63,59,56,56,57,57,59,56,54,52,56,53]
["2019-11-01",{"$f":"VLOOKUP(J316,'Control Panel'!$G$132:$K$171,5,FALSE)","v":"WF-3"},"WF",null,null,null,null,null,null,"F86038",null,11344,31,28,28,28,29,4,45,41,39,38,38,38,47,43,39,37,39,39]
["2019-11-01",{"$f":"VLOOKUP(J317,'Control Panel'!$G$132:$K$171,5,FALSE)","v":"WF-4"},"WF",null,null,null,null,null,null,"F86044",null,9418,51,46,45,47,45,4,43,35,34,35,34,34,22,21,16,12,19,12]
["2019-11-01",{"$f":"VLOOKUP(J318,'Control Panel'!$G$132:$K$171,5,FALSE)","v":"WF-5"},"WF",null,null,null,null,null,null,"F86045",null,1966,5,5,5,5,5,3,2,2,2,1,1,0,4,4,4,2,3,3]
["2019-11-01",{"$f":"VLOOKUP(J319,'Control Panel'!$G$132:$K$171,5,FALSE)","v":"WF-7"},"WF",null,null,null,null,null,null,"F86058",null,15519,56,51,51,51,46,5,58,54,48,48,48,48,53,43,43,29,41,28]
["2019-11-01",{"$f":"VLOOKUP(J320,'Control Panel'!$G$132:$K$171,5,FALSE)","v":"WF-7"},"WF",null,null,null,null,null,null,"F86062",null,7368,17,14,15,15,15,1,29,28,25,25,25,24,22,22,21,14,17,14]
["2019-11-01",{"$f":"VLOOKUP(J321,'Control Panel'!$G$132:$K$171,5,FALSE)","v":"WF-2"},"WF",null,null,null,null,null,null,"F86078",null,7245,12,12,12,12,12,3,16,13,14,13,14,13,10,10,9,9,10,8]
["2019-11-01",{"$f":"VLOOKUP(J322,'Control Panel'!$G$132:$K$171,5,FALSE)","v":"WF-6"},"WF",null,null,null,null,null,null,"F86086",null,6159,26,23,23,23,24,7,35,27,26,24,24,25,33,14,28,19,27,22]
["2019-11-01",{"$f":"VLOOKUP(J323,'Control Panel'!$G$132:$K$171,5,FALSE)","v":"WF-4"},"WF",null,null,null,null,null,null,"F86088",null,4893,13,11,11,11,12,0,15,14,15,15,15,14,14,12,10,7,8,8]
["2019-11-01",{"$f":"VLOOKUP(J324,'Control Panel'!$G$132:$K$171,5,FALSE)","v":"WF-6"},"WF",null,null,null,null,null,null,"F86607",null,14017,60,52,54,54,51,25,49,46,42,41,42,43,65,59,55,53,56,54]
["2019-11-01",{"$f":"VLOOKUP(J325,'Control Panel'!$G$132:$K$171,5,FALSE)","v":"WF-2"},"WF",null,null,null,null,null,null,"F86616",null,7096,37,32,33,34,33,2,35,31,30,31,31,30,24,18,22,17,20,18]
["2019-11-01",{"$f":"VLOOKUP(J326,'Control Panel'!$G$132:$K$171,5,FALSE)","v":"WF-5"},"WF",null,null,null,null,null,null,"F86621",null,5842,28,25,25,25,25,10,13,12,9,8,8,9,11,1,11,9,11,9]
["2019-11-01",{"$f":"VLOOKUP(J327,'Control Panel'!$G$132:$K$171,5,FALSE)","v":"WF-5"},"WF",null,null,null,null,null,null,"F86625",null,6118,18,14,14,14,13,0,18,17,13,13,13,13,18,18,17,16,13,16]
["2019-11-01",{"$f":"VLOOKUP(J328,'Control Panel'!$G$132:$K$171,5,FALSE)","v":"WF-1"},"WF",null,null,null,null,null,null,"F86626",null,5709,21,18,18,18,19,3,13,11,10,10,11,12,26,24,23,20,23,19]
["2019-11-01",{"$f":"VLOOKUP(J329,'Control Panel'!$G$132:$K$171,5,FALSE)","v":"WF-2"},"WF",null,null,null,null,null,null,"F86627",null,13790,39,35,35,35,34,10,39,38,35,35,35,34,37,34,36,32,36,31]
["2019-11-01",{"$f":"VLOOKUP(J330,'Control Panel'!$G$132:$K$171,5,FALSE)","v":"WF-6"},"WF",null,null,null,null,null,null,"F86644",null,10718,31,27,27,27,26,7,37,34,34,35,35,35,37,35,34,22,35,27]
["2019-11-01",{"$f":"VLOOKUP(J331,'Control Panel'!$G$132:$K$171,5,FALSE)","v":"WF-4"},"WF",null,null,null,null,null,null,"F86650",null,8263,27,23,21,23,20,9,22,18,19,18,18,17,31,25,27,20,27,21]
["2019-11-01",{"$f":"VLOOKUP(J332,'Control Panel'!$G$132:$K$171,5,FALSE)","v":"WF-1"},"WF",null,null,null,null,null,null,"F86664",null,8393,22,18,18,18,19,3,29,27,26,26,26,25,32,30,30,26,30,28]
["2019-11-01",{"$f":"VLOOKUP(J333,'Control Panel'!$G$132:$K$171,5,FALSE)","v":"WF-5"},"WF",null,null,null,null,null,null,"F86666",null,14414,39,35,36,37,36,11,61,55,45,48,46,47,55,51,52,49,51,49]
["2019-11-01",{"$f":"VLOOKUP(J334,'Control Panel'!$G$132:$K$171,5,FALSE)","v":"WF-7"},"WF",null,null,null,null,null,null,"F86679",null,6005,34,30,30,31,32,11,41,39,37,38,38,37,27,14,24,22,25,21]
["2019-11-01",{"$f":"VLOOKUP(J335,'Control Panel'!$G$132:$K$171,5,FALSE)","v":"WF-1"},"WF",null,null,null,null,null,null,"F86689",null,4194,25,24,24,23,22,6,28,26,26,26,26,26,26,10,21,19,21,20]
["2019-11-01",{"$f":"VLOOKUP(J336,'Control Panel'!$G$132:$K$171,5,FALSE)","v":"WF-4"},"WF",null,null,null,null,null,null,"F86696",null,5396,16,13,13,14,12,2,16,14,14,14,15,16,17,14,14,15,14,14]
["2019-11-01",{"$f":"VLOOKUP(J337,'Control Panel'!$G$132:$K$171,5,FALSE)","v":"WF-1"},"WF",null,null,null,null,null,null,"F86700",null,3862,15,13,15,15,15,7,10,10,9,9,9,9,17,15,15,15,13,15]
["2019-11-01",{"$f":"VLOOKUP(J338,'Control Panel'!$G$132:$K$171,5,FALSE)","v":"WF-5"},"WF",null,null,null,null,null,null,"F86701",null,3388,14,11,11,11,10,6,11,11,9,9,9,10,10,5,9,8,9,10]
["2019-11-01",{"$f":"VLOOKUP(J339,'Control Panel'!$G$132:$K$171,5,FALSE)","v":"WF-5"},"WF",null,null,null,null,null,null,"F86705",null,3126,11,11,11,11,11,8,9,9,7,8,7,7,8,7,7,7,7,7]
["2019-11-01",{"$f":"VLOOKUP(J340,'Control Panel'!$G$132:$K$171,5,FALSE)","v":"WF-6"},"WF",null,null,null,null,null,null,"F86708",null,2802,5,4,4,4,3,1,7,7,6,6,6,6,15,14,14,8,14,8]
["2019-11-01",{"$f":"VLOOKUP(J341,'Control Panel'!$G$132:$K$171,5,FALSE)","v":"WF-4"},"WF",null,null,null,null,null,null,"F86712",null,3163,9,9,9,9,9,2,12,10,10,10,10,10,10,5,10,8,9,9]
["2019-11-01",{"$f":"VLOOKUP(J342,'Control Panel'!$G$132:$K$171,5,FALSE)","v":"WF-2"},"WF",null,null,null,null,null,null,"Y01291",null,8793,29,29,28,29,27,13,27,25,24,24,24,24,30,29,28,27,28,27]
["2019-11-01",{"$f":"VLOOKUP(J343,'Control Panel'!$G$132:$K$171,5,FALSE)","v":"WF-1"},"WF",null,null,null,null,null,null,"Y01839",null,6408,31,27,29,28,27,9,28,24,24,24,24,24,26,24,20,14,21,14]
["2019-11-01",{"$f":"VLOOKUP(J344,'Control Panel'!$G$132:$K$171,5,FALSE)","v":"WF-3"},"WF",null,null,null,null,null,null,"Y02585",null,6001,28,24,24,24,19,10,26,22,21,21,21,21,26,21,21,15,20,15]
["2019-11-01",{"$f":"VLOOKUP(J345,'Control Panel'!$G$132:$K$171,5,FALSE)","v":{"$error":"#N/A"}},null,null,null,null,null,null,null,"Total",null,267740,963,858,862,871,846,248,980,888,823,825,826,822,952,801,835,711,821,730]
["2019-12-01",{"$f":"VLOOKUP(J346,'Control Panel'!$G$132:$K$171,5,FALSE)","v":{"$error":"#N/A"}},"Childhood Immunisations Q3",null,"Last Run:",null,"Population Count",281977,null,null,"Search","All Patients","(01) 12 MONTH COHORT","(01.01) DTaP/IPV/Hib 6in1","(01.02) Men B (1st and 2nd)","(01.03) PCV","(01.04) Rotavirus","(01.05) BCG","(02) 24 MONTH COHORT","(02.01) DTaP/IPV/Hib Combined","(02.02) MMR","(02.03) HiB/Men C","(02.04) PCV (Booster)","(02.05) Men B (Booster)","(03) 5 YEAR COHORT","(03.01) DTaP/IPV/Hib Combined","(03.02) MMR (Primary)","(03.03) DTaP/IPV (Booster)","(03.04) HiB/Men C","(03.05) MMR (Booster)"]
["2019-12-01",{"$f":"VLOOKUP(J347,'Control Panel'!$G$132:$K$171,5,FALSE)","v":{"$error":"#N/A"}},null,null,"2020-01-07T14:12:00",null,"Males",143859,null,"Organisation Code"]
["2019-12-01",{"$f":"VLOOKUP(J348,'Control Panel'!$G$132:$K$171,5,FALSE)","v":"WF-6"},"WF",null,"Relative Date:",null,"Females",138118,null,"F86001",null,7909,24,23,23,23,22,2,22,19,15,15,16,15,23,21,20,20,19,20]
["2019-12-01",{"$f":"VLOOKUP(J349,'Control Panel'!$G$132:$K$171,5,FALSE)","v":"WF-1"},"WF",null,"2020-01-01",null,null,null,null,"F86005",null,8616,56,53,52,54,54,5,42,38,36,36,35,35,43,37,36,33,34,32]
["2019-12-01",{"$f":"VLOOKUP(J350,'Control Panel'!$G$132:$K$171,5,FALSE)","v":"WF-7"},"WF",null,null,null,null,null,null,"F86006",null,6390,12,10,10,10,10,2,18,18,16,17,17,17,16,15,15,10,15,10]
["2019-12-01",{"$f":"VLOOKUP(J351,'Control Panel'!$G$132:$K$171,5,FALSE)","v":"WF-3"},"WF",null,null,null,null,null,null,"F86011",null,9377,20,17,17,17,18,6,30,25,19,20,20,19,29,23,23,22,24,22]
["2019-12-01",{"$f":"VLOOKUP(J352,'Control Panel'!$G$132:$K$171,5,FALSE)","v":"WF-7"},"WF",null,null,null,null,null,null,"F86030",null,8251,32,30,30,30,30,14,29,26,25,25,25,25,30,27,27,23,26,27]
["2019-12-01",{"$f":"VLOOKUP(J353,'Control Panel'!$G$132:$K$171,5,FALSE)","v":"WF-4"},"WF",null,null,null,null,null,null,"F86036",null,15932,67,59,59,59,59,39,62,58,55,55,56,56,60,57,55,53,57,54]
["2019-12-01",{"$f":"VLOOKUP(J354,'Control Panel'!$G$132:$K$171,5,FALSE)","v":"WF-3"},"WF",null,null,null,null,null,null,"F86038",null,11366,31,28,28,28,29,4,44,40,38,37,37,37,47,43,39,37,39,39]
["2019-12-01",{"$f":"VLOOKUP(J355,'Control Panel'!$G$132:$K$171,5,FALSE)","v":"WF-4"},"WF",null,null,null,null,null,null,"F86044",null,9488,50,45,44,46,44,4,41,34,32,33,32,33,23,21,16,12,19,12]
["2019-12-01",{"$f":"VLOOKUP(J356,'Control Panel'!$G$132:$K$171,5,FALSE)","v":"WF-5"},"WF",null,null,null,null,null,null,"F86045",null,1979,5,5,5,5,5,3,2,2,2,1,1,0,4,4,4,2,3,3]
["2019-12-01",{"$f":"VLOOKUP(J357,'Control Panel'!$G$132:$K$171,5,FALSE)","v":"WF-7"},"WF",null,null,null,null,null,null,"F86058",null,15690,58,51,51,51,46,5,59,56,50,50,50,50,52,42,42,29,40,28]
["2019-12-01",{"$f":"VLOOKUP(J358,'Control Panel'!$G$132:$K$171,5,FALSE)","v":"WF-7"},"WF",null,null,null,null,null,null,"F86062",null,7373,17,14,15,15,15,1,29,28,25,25,25,24,22,22,21,14,17,14]
["2019-12-01",{"$f":"VLOOKUP(J359,'Control Panel'!$G$132:$K$171,5,FALSE)","v":"WF-2"},"WF",null,null,null,null,null,null,"F86078",null,7202,13,13,13,13,13,4,16,13,14,13,14,13,10,10,9,9,10,8]
["2019-12-01",{"$f":"VLOOKUP(J360,'Control Panel'!$G$132:$K$171,5,FALSE)","v":"WF-6"},"WF",null,null,null,null,null,null,"F86086",null,6234,27,23,23,23,24,7,36,28,27,25,25,26,33,14,28,19,27,22]
["2019-12-01",{"$f":"VLOOKUP(J361,'Control Panel'!$G$132:$K$171,5,FALSE)","v":"WF-4"},"WF",null,null,null,null,null,null,"F86088",null,4877,13,11,11,11,12,0,15,14,15,15,15,14,13,11,10,6,8,7]
["2019-12-01",{"$f":"VLOOKUP(J362,'Control Panel'!$G$132:$K$171,5,FALSE)","v":"WF-6"},"WF",null,null,null,null,null,null,"F86607",null,13983,57,49,51,51,48,22,50,47,43,42,43,44,65,59,55,53,56,54]
["2019-12-01",{"$f":"VLOOKUP(J363,'Control Panel'!$G$132:$K$171,5,FALSE)","v":"WF-2"},"WF",null,null,null,null,null,null,"F86616",null,7143,38,32,33,34,33,2,33,29,28,29,29,28,24,18,22,17,20,18]
["2019-12-01",{"$f":"VLOOKUP(J364,'Control Panel'!$G$132:$K$171,5,FALSE)","v":"WF-5"},"WF",null,null,null,null,null,null,"F86621",null,5864,28,25,25,25,25,10,13,12,9,8,8,9,11,1,11,10,11,10]
["2019-12-01",{"$f":"VLOOKUP(J365,'Control Panel'!$G$132:$K$171,5,FALSE)","v":"WF-5"},"WF",null,null,null,null,null,null,"F86625",null,6142,18,14,14,14,13,0,20,19,15,15,15,15,19,19,18,17,14,17]
["2019-12-01",{"$f":"VLOOKUP(J366,'Control Panel'!$G$132:$K$171,5,FALSE)","v":"WF-1"},"WF",null,null,null,null,null,null,"F86626",null,5758,21,18,18,18,19,3,13,12,10,10,11,12,26,24,23,20,23,20]
["2019-12-01",{"$f":"VLOOKUP(J367,'Control Panel'!$G$132:$K$171,5,FALSE)","v":"WF-2"},"WF",null,null,null,null,null,null,"F86627",null,13746,39,35,35,35,34,10,39,38,35,35,35,34,36,33,35,31,35,30]
["2019-12-01",{"$f":"VLOOKUP(J368,'Control Panel'!$G$132:$K$171,5,FALSE)","v":"WF-6"},"WF",null,null,null,null,null,null,"F86644",null,10519,32,27,27,28,26,8,36,33,33,34,34,34,34,32,31,20,32,25]
["2019-12-01",{"$f":"VLOOKUP(J369,'Control Panel'!$G$132:$K$171,5,FALSE)","v":"WF-4"},"WF",null,null,null,null,null,null,"F86650",null,8173,26,22,20,22,19,9,22,19,19,18,18,17,30,24,26,19,26,20]
["2019-12-01",{"$f":"VLOOKUP(J370,'Control Panel'!$G$132:$K$171,5,FALSE)","v":"WF-1"},"WF",null,null,null,null,null,null,"F86664",null,8404,22,18,18,18,19,3,31,29,28,28,28,26,32,31,30,26,30,28]
["2019-12-01",{"$f":"VLOOKUP(J371,'Control Panel'!$G$132:$K$171,5,FALSE)","v":"WF-5"},"WF",null,null,null,null,null,null,"F86666",null,14471,36,32,34,34,33,11,61,55,45,48,46,47,55,51,52,49,51,49]
["2019-12-01",{"$f":"VLOOKUP(J372,'Control Panel'!$G$132:$K$171,5,FALSE)","v":"WF-7"},"WF",null,null,null,null,null,null,"F86679",null,6029,34,30,30,31,32,11,40,38,36,37,37,36,27,14,24,22,25,21]
["2019-12-01",{"$f":"VLOOKUP(J373,'Control Panel'!$G$132:$K$171,5,FALSE)","v":"WF-1"},"WF",null,null,null,null,null,null,"F86689",null,4214,25,24,24,23,22,6,28,26,26,26,26,26,24,9,21,18,21,19]
["2019-12-01",{"$f":"VLOOKUP(J374,'Control Panel'!$G$132:$K$171,5,FALSE)","v":"WF-4"},"WF",null,null,null,null,null,null,"F86696",null,5503,17,14,14,15,12,2,16,14,14,14,15,16,17,14,16,15,14,14]
["2019-12-01",{"$f":"VLOOKUP(J375,'Control Panel'!$G$132:$K$171,5,FALSE)","v":"WF-1"},"WF",null,null,null,null,null,null,"F86700",null,3851,15,13,15,15,15,7,10,10,9,9,9,9,17,15,15,15,13,15]
["2019-12-01",{"$f":"VLOOKUP(J376,'Control Panel'!$G$132:$K$171,5,FALSE)","v":"WF-5"},"WF",null,null,null,null,null,null,"F86701",null,3401,14,11,11,11,10,6,10,10,9,9,9,9,10,5,9,8,9,10]
["2019-12-01",{"$f":"VLOOKUP(J377,'Control Panel'!$G$132:$K$171,5,FALSE)","v":"WF-5"},"WF",null,null,null,null,null,null,"F86705",null,3137,11,11,11,11,11,8,8,8,6,7,6,6,7,6,6,6,6,6]
["2019-12-01",{"$f":"VLOOKUP(J378,'Control Panel'!$G$132:$K$171,5,FALSE)","v":"WF-6"},"WF",null,null,null,null,null,null,"F86708",null,2775,5,4,4,4,3,1,7,7,6,6,6,6,15,14,14,8,14,8]
["2019-12-01",{"$f":"VLOOKUP(J379,'Control Panel'!$G$132:$K$171,5,FALSE)","v":"WF-4"},"WF",null,null,null,null,null,null,"F86712",null,3188,9,9,9,9,9,2,12,10,10,10,10,10,10,5,10,8,9,9]
["2019-12-01",{"$f":"VLOOKUP(J380,'Control Panel'!$G$132:$K$171,5,FALSE)","v":"WF-2"},"WF",null,null,null,null,null,null,"Y01291",null,8812,29,29,28,29,27,17,27,27,26,26,26,26,30,29,28,27,28,27]
["2019-12-01",{"$f":"VLOOKUP(J381,'Control Panel'!$G$132:$K$171,5,FALSE)","v":"WF-1"},"WF",null,null,null,null,null,null,"Y01839",null,6411,31,27,29,28,27,9,27,23,23,23,23,23,26,24,20,14,21,14]
["2019-12-01",{"$f":"VLOOKUP(J382,'Control Panel'!$G$132:$K$171,5,FALSE)","v":"WF-3"},"WF",null,null,null,null,null,null,"Y02585",null,5230,26,22,22,22,18,10,23,20,19,19,19,19,21,16,16,12,16,12]
["2019-12-01",{"$f":"VLOOKUP(J383,'Control Panel'!$G$132:$K$171,5,FALSE)","v":{"$error":"#N/A"}},null,null,null,null,null,null,null,"Total",null,267438,958,848,853,862,836,253,971,885,818,820,821,816,941,790,827,704,812,724]
["2020-01-01",{"$f":"VLOOKUP(J384,'Control Panel'!$G$132:$K$171,5,FALSE)","v":{"$error":"#N/A"}},"Childhood Immunisations Q4",null,"Last Run:",null,"Population Count",279614,null,null,"Search","All Patients","(01) 12 MONTH COHORT","(01.01) DTaP/IPV/Hib 6in1","(01.02) Men B (1st and 2nd)","(01.03) PCV","(01.04) Rotavirus","(01.05) BCG","(02) 24 MONTH COHORT","(02.01) DTaP/IPV/Hib Combined","(02.02) MMR","(02.03) HiB/Men C","(02.04) PCV (Booster)","(02.05) Men B (Booster)","(03) 5 YEAR COHORT","(03.01) DTaP/IPV/Hib Combined","(03.02) MMR (Primary)","(03.03) DTaP/IPV (Booster)","(03.04) HiB/Men C","(03.05) MMR (Booster)"]
["2020-01-01",{"$f":"VLOOKUP(J385,'Control Panel'!$G$132:$K$171,5,FALSE)","v":{"$error":"#N/A"}},null,null,"2020-02-03T15:36:00",null,"Males",142735,null,"Organisation Code"]
["2020-01-01",{"$f":"VLOOKUP(J386,'Control Panel'!$G$132:$K$171,5,FALSE)","v":"WF-6"},"WF",null,"Relative Date:",null,"Females",136879,null,"F86001",null,7912,18,17,17,17,18,5,17,16,13,13,13,14,21,18,19,14,19,16]
["2020-01-01",{"$f":"VLOOKUP(J387,'Control Panel'!$G$132:$K$171,5,FALSE)","v":"WF-1"},"WF",null,"2020-02-01",null,null,null,null,"F86005",null,8666,51,44,44,45,44,4,45,42,38,39,38,39,28,28,27,16,27,19]
["2020-01-01",{"$f":"VLOOKUP(J388,'Control Panel'!$G$132:$K$171,5,FALSE)","v":"WF-7"},"WF",null,null,null,null,null,null,"F86006",null,6388,10,9,8,9,8,1,19,18,17,17,17,17,22,20,20,17,20,18]
["2020-01-01",{"$f":"VLOOKUP(J389,'Control Panel'!$G$132:$K$171,5,FALSE)","v":"WF-3"},"WF",null,null,null,null,null,null,"F86011",null,9428,21,18,18,18,16,2,22,18,17,17,17,17,25,20,21,15,21,16]
["2020-01-01",{"$f":"VLOOKUP(J390,'Control Panel'!$G$132:$K$171,5,FALSE)","v":"WF-7"},"WF",null,null,null,null,null,null,"F86030",null,8260,37,30,30,30,31,15,17,15,12,13,13,13,30,29,29,29,30,29]
["2020-01-01",{"$f":"VLOOKUP(J391,'Control Panel'!$G$132:$K$171,5,FALSE)","v":"WF-4"},"WF",null,null,null,null,null,null,"F86036",null,15951,57,53,52,52,52,29,49,46,45,45,45,46,50,47,46,45,44,45]
["2020-01-01",{"$f":"VLOOKUP(J392,'Control Panel'!$G$132:$K$171,5,FALSE)","v":"WF-3"},"WF",null,null,null,null,null,null,"F86038",null,11566,46,41,41,42,43,2,40,36,35,35,35,36,37,34,31,27,31,28]
["2020-01-01",{"$f":"VLOOKUP(J393,'Control Panel'!$G$132:$K$171,5,FALSE)","v":"WF-4"},"WF",null,null,null,null,null,null,"F86044",null,9595,38,36,35,36,31,5,40,30,34,33,34,32,25,22,21,15,20,16]
["2020-01-01",{"$f":"VLOOKUP(J394,'Control Panel'!$G$132:$K$171,5,FALSE)","v":"WF-5"},"WF",null,null,null,null,null,null,"F86045",null,1992,3,3,3,3,3,0,4,4,3,3,3,4,6,5,4,4,5,5]
["2020-01-01",{"$f":"VLOOKUP(J395,'Control Panel'!$G$132:$K$171,5,FALSE)","v":"WF-7"},"WF",null,null,null,null,null,null,"F86058",null,15641,68,61,61,61,62,10,53,47,43,43,43,42,44,38,39,30,39,31]
["2020-01-01",{"$f":"VLOOKUP(J396,'Control Panel'!$G$132:$K$171,5,FALSE)","v":"WF-7"},"WF",null,null,null,null,null,null,"F86062",null,7341,21,19,18,19,18,2,15,15,14,13,13,12,15,12,12,11,8,12]
["2020-01-01",{"$f":"VLOOKUP(J397,'Control Panel'!$G$132:$K$171,5,FALSE)","v":"WF-2"},"WF",null,null,null,null,null,null,"F86078",null,7203,9,6,6,6,7,1,20,19,19,18,19,18,6,5,5,5,5,5]
["2020-01-01",{"$f":"VLOOKUP(J398,'Control Panel'!$G$132:$K$171,5,FALSE)","v":"WF-6"},"WF",null,null,null,null,null,null,"F86086",null,6305,17,15,14,15,14,4,30,28,26,26,26,25,32,28,28,19,28,23]
["2020-01-01",{"$f":"VLOOKUP(J399,'Control Panel'!$G$132:$K$171,5,FALSE)","v":"WF-4"},"WF",null,null,null,null,null,null,"F86088",null,4901,10,9,9,9,10,2,7,5,6,6,6,6,8,8,8,5,8,5]
["2020-01-01",{"$f":"VLOOKUP(J400,'Control Panel'!$G$132:$K$171,5,FALSE)","v":"WF-6"},"WF",null,null,null,null,null,null,"F86607",null,13943,49,45,47,47,44,19,66,61,54,55,54,55,49,45,44,43,47,43]
["2020-01-01",{"$f":"VLOOKUP(J401,'Control Panel'!$G$132:$K$171,5,FALSE)","v":"WF-2"},"WF",null,null,null,null,null,null,"F86616",null,7192,28,27,28,28,27,1,34,33,28,28,30,29,38,31,33,25,33,27]
["2020-01-01",{"$f":"VLOOKUP(J402,'Control Panel'!$G$132:$K$171,5,FALSE)","v":"WF-5"},"WF",null,null,null,null,null,null,"F86621",null,5918,18,15,15,15,14,11,19,17,14,15,15,14,11,5,9,10,8,9]
["2020-01-01",{"$f":"VLOOKUP(J403,'Control Panel'!$G$132:$K$171,5,FALSE)","v":"WF-5"},"WF",null,null,null,null,null,null,"F86625",null,6141,12,10,10,10,10,1,18,17,14,14,14,14,18,15,14,13,15,15]
["2020-01-01",{"$f":"VLOOKUP(J404,'Control Panel'!$G$132:$K$171,5,FALSE)","v":"WF-1"},"WF",null,null,null,null,null,null,"F86626",null,5898,21,20,20,20,20,5,14,13,13,13,13,13,19,17,17,14,16,14]
["2020-01-01",{"$f":"VLOOKUP(J405,'Control Panel'!$G$132:$K$171,5,FALSE)","v":"WF-2"},"WF",null,null,null,null,null,null,"F86627",null,13676,21,16,16,16,16,4,31,29,26,26,25,26,30,28,25,24,25,24]
["2020-01-01",{"$f":"VLOOKUP(J406,'Control Panel'!$G$132:$K$171,5,FALSE)","v":"WF-6"},"WF",null,null,null,null,null,null,"F86644",null,10468,26,24,23,23,24,5,27,24,23,23,23,23,40,36,38,32,35,33]
["2020-01-01",{"$f":"VLOOKUP(J407,'Control Panel'!$G$132:$K$171,5,FALSE)","v":"WF-4"},"WF",null,null,null,null,null,null,"F86650",null,8200,28,26,26,26,25,12,19,17,17,17,17,17,26,24,20,12,21,13]
["2020-01-01",{"$f":"VLOOKUP(J408,'Control Panel'!$G$132:$K$171,5,FALSE)","v":"WF-1"},"WF",null,null,null,null,null,null,"F86664",null,8404,22,19,19,19,20,2,16,15,13,13,13,12,28,27,25,23,25,22]
["2020-01-01",{"$f":"VLOOKUP(J409,'Control Panel'!$G$132:$K$171,5,FALSE)","v":"WF-5"},"WF",null,null,null,null,null,null,"F86666",null,14556,55,52,48,52,49,18,37,33,31,31,34,31,31,26,28,23,25,24]
["2020-01-01",{"$f":"VLOOKUP(J410,'Control Panel'!$G$132:$K$171,5,FALSE)","v":"WF-7"},"WF",null,null,null,null,null,null,"F86679",null,6046,29,26,26,26,27,11,18,18,18,18,17,17,18,8,15,13,15,14]
["2020-01-01",{"$f":"VLOOKUP(J411,'Control Panel'!$G$132:$K$171,5,FALSE)","v":"WF-1"},"WF",null,null,null,null,null,null,"F86689",null,4245,23,17,18,18,18,3,20,19,18,18,18,19,15,13,11,9,10,10]
["2020-01-01",{"$f":"VLOOKUP(J412,'Control Panel'!$G$132:$K$171,5,FALSE)","v":"WF-4"},"WF",null,null,null,null,null,null,"F86696",null,5492,12,11,11,11,10,4,21,18,18,18,18,17,18,17,16,8,16,10]
["2020-01-01",{"$f":"VLOOKUP(J413,'Control Panel'!$G$132:$K$171,5,FALSE)","v":"WF-1"},"WF",null,null,null,null,null,null,"F86700",null,3887,11,9,9,9,9,1,8,8,8,8,8,8,8,8,6,6,7,6]
["2020-01-01",{"$f":"VLOOKUP(J414,'Control Panel'!$G$132:$K$171,5,FALSE)","v":"WF-5"},"WF",null,null,null,null,null,null,"F86701",null,3448,13,12,12,12,12,7,7,5,5,5,4,5,7,5,7,7,7,7]
["2020-01-01",{"$f":"VLOOKUP(J415,'Control Panel'!$G$132:$K$171,5,FALSE)","v":"WF-5"},"WF",null,null,null,null,null,null,"F86705",null,3156,5,3,3,3,3,1,7,5,4,4,4,4,13,12,12,10,11,10]
["2020-01-01",{"$f":"VLOOKUP(J416,'Control Panel'!$G$132:$K$171,5,FALSE)","v":"WF-6"},"WF",null,null,null,null,null,null,"F86708",null,2764,5,4,4,4,1,2,6,4,3,3,3,3,7,7,7,5,7,5]
["2020-01-01",{"$f":"VLOOKUP(J417,'Control Panel'!$G$132:$K$171,5,FALSE)","v":"WF-4"},"WF",null,null,null,null,null,null,"F86712",null,3198,9,9,9,9,9,1,13,12,10,11,11,11,8,3,4,4,4,4]
["2020-01-01",{"$f":"VLOOKUP(J418,'Control Panel'!$G$132:$K$171,5,FALSE)","v":"WF-2"},"WF",null,null,null,null,null,null,"Y01291",null,8829,40,36,36,37,37,13,25,21,21,21,21,21,33,32,33,25,33,27]
["2020-01-01",{"$f":"VLOOKUP(J419,'Control Panel'!$G$132:$K$171,5,FALSE)","v":"WF-1"},"WF",null,null,null,null,null,null,"Y01839",null,6423,27,25,25,25,24,9,26,24,21,21,21,21,21,7,20,17,21,16]
["2020-01-01",{"$f":"VLOOKUP(J420,'Control Panel'!$G$132:$K$171,5,FALSE)","v":"WF-3"},"WF",null,null,null,null,null,null,"Y02585",null,4019,10,7,7,7,7,4,10,10,7,7,7,7,13,9,9,5,8,5]
["2020-01-01",{"$f":"VLOOKUP(J421,'Control Panel'!$G$132:$K$171,5,FALSE)","v":{"$error":"#N/A"}},null,null,null,null,null,null,null,"Total",null,267052,870,774,768,779,763,216,820,742,688,690,692,688,800,689,703,580,694,606]
["2020-02-01",{"$f":"VLOOKUP(J422,'Control Panel'!$G$132:$K$171,5,FALSE)","v":{"$error":"#N/A"}},"Childhood Immunisations Q4",null,"Last Run:",null,"Population Count",279275,null,null,"Search","All Patients","(01) 12 MONTH COHORT","(01.01) DTaP/IPV/Hib 6in1","(01.02) Men B (1st and 2nd)","(01.03) PCV","(01.04) Rotavirus","(01.05) BCG","(02) 24 MONTH COHORT","(02.01) DTaP/IPV/Hib Combined","(02.02) MMR","(02.03) HiB/Men C","(02.04) PCV (Booster)","(02.05) Men B (Booster)","(03) 5 YEAR COHORT","(03.01) DTaP/IPV/Hib Combined","(03.02) MMR (Primary)","(03.03) DTaP/IPV (Booster)","(03.04) HiB/Men C","(03.05) MMR (Booster)"]
["2020-02-01",{"$f":"VLOOKUP(J423,'Control Panel'!$G$132:$K$171,5,FALSE)","v":{"$error":"#N/A"}},null,null,"2020-03-02T13:53:00",null,"Males",142506,null,"Organisation Code"]
["2020-02-01",{"$f":"VLOOKUP(J424,'Control Panel'!$G$132:$K$171,5,FALSE)","v":"WF-6"},"WF",null,"Relative Date:",null,"Females",136769,null,"F86001",null,7949,18,17,17,17,18,5,17,16,13,13,13,14,21,18,19,14,19,16]
["2020-02-01",{"$f":"VLOOKUP(J425,'Control Panel'!$G$132:$K$171,5,FALSE)","v":"WF-1"},"WF",null,"2020-03-01",null,null,null,null,"F86005",null,8687,50,45,45,45,44,4,44,42,38,39,39,39,28,28,28,16,28,19]
["2020-02-01",{"$f":"VLOOKUP(J426,'Control Panel'!$G$132:$K$171,5,FALSE)","v":"WF-7"},"WF",null,null,null,null,null,null,"F86006",null,6444,11,10,9,10,9,2,19,18,17,17,17,17,21,19,19,17,19,17]
["2020-02-01",{"$f":"VLOOKUP(J427,'Control Panel'!$G$132:$K$171,5,FALSE)","v":"WF-3"},"WF",null,null,null,null,null,null,"F86011",null,9440,21,18,18,18,16,2,23,19,18,18,18,18,25,20,21,15,21,16]
["2020-02-01",{"$f":"VLOOKUP(J428,'Control Panel'!$G$132:$K$171,5,FALSE)","v":"WF-7"},"WF",null,null,null,null,null,null,"F86030",null,8253,37,30,30,30,31,15,17,15,12,13,13,13,30,29,29,29,30,29]
["2020-02-01",{"$f":"VLOOKUP(J429,'Control Panel'!$G$132:$K$171,5,FALSE)","v":"WF-4"},"WF",null,null,null,null,null,null,"F86036",null,15970,58,53,52,52,52,31,49,46,45,45,45,46,51,48,47,46,45,46]
["2020-02-01",{"$f":"VLOOKUP(J430,'Control Panel'!$G$132:$K$171,5,FALSE)","v":"WF-3"},"WF",null,null,null,null,null,null,"F86038",null,11640,46,41,41,42,42,5,40,36,35,35,35,36,37,34,31,27,31,28]
["2020-02-01",{"$f":"VLOOKUP(J431,'Control Panel'!$G$132:$K$171,5,FALSE)","v":"WF-4"},"WF",null,null,null,null,null,null,"F86044",null,9649,38,36,35,36,31,6,39,29,33,32,33,31,26,24,23,16,21,17]
["2020-02-01",{"$f":"VLOOKUP(J432,'Control Panel'!$G$132:$K$171,5,FALSE)","v":"WF-5"},"WF",null,null,null,null,null,null,"F86045",null,2001,3,3,3,3,3,0,4,4,3,3,3,4,6,5,4,4,5,5]
["2020-02-01",{"$f":"VLOOKUP(J433,'Control Panel'!$G$132:$K$171,5,FALSE)","v":"WF-7"},"WF",null,null,null,null,null,null,"F86058",null,15572,69,62,62,62,63,10,53,47,43,43,43,42,44,38,39,30,39,31]
["2020-02-01",{"$f":"VLOOKUP(J434,'Control Panel'!$G$132:$K$171,5,FALSE)","v":"WF-7"},"WF",null,null,null,null,null,null,"F86062",null,7351,20,18,17,18,17,2,17,17,16,15,15,14,14,11,11,11,7,12]
["2020-02-01",{"$f":"VLOOKUP(J435,'Control Panel'!$G$132:$K$171,5,FALSE)","v":"WF-2"},"WF",null,null,null,null,null,null,"F86078",null,7161,9,6,6,6,7,1,20,19,19,18,19,18,7,6,6,6,6,6]
["2020-02-01",{"$f":"VLOOKUP(J436,'Control Panel'!$G$132:$K$171,5,FALSE)","v":"WF-6"},"WF",null,null,null,null,null,null,"F86086",null,6328,18,16,15,16,15,5,31,29,27,27,27,26,32,27,27,19,27,22]
["2020-02-01",{"$f":"VLOOKUP(J437,'Control Panel'!$G$132:$K$171,5,FALSE)","v":"WF-4"},"WF",null,null,null,null,null,null,"F86088",null,4896,9,8,8,8,9,2,7,5,6,6,6,6,8,8,8,5,8,5]
["2020-02-01",{"$f":"VLOOKUP(J438,'Control Panel'!$G$132:$K$171,5,FALSE)","v":"WF-6"},"WF",null,null,null,null,null,null,"F86607",null,13990,47,43,45,45,42,17,67,61,54,55,54,55,49,45,44,43,47,43]
["2020-02-01",{"$f":"VLOOKUP(J439,'Control Panel'!$G$132:$K$171,5,FALSE)","v":"WF-2"},"WF",null,null,null,null,null,null,"F86616",null,7243,28,27,28,28,27,1,35,33,28,28,30,29,38,31,33,25,33,27]
["2020-02-01",{"$f":"VLOOKUP(J440,'Control Panel'!$G$132:$K$171,5,FALSE)","v":"WF-5"},"WF",null,null,null,null,null,null,"F86621",null,5926,16,14,14,14,13,11,19,17,14,15,15,14,11,5,9,10,8,9]
["2020-02-01",{"$f":"VLOOKUP(J441,'Control Panel'!$G$132:$K$171,5,FALSE)","v":"WF-5"},"WF",null,null,null,null,null,null,"F86625",null,6148,11,9,9,9,9,0,18,17,14,14,14,14,19,15,14,13,15,15]
["2020-02-01",{"$f":"VLOOKUP(J442,'Control Panel'!$G$132:$K$171,5,FALSE)","v":"WF-1"},"WF",null,null,null,null,null,null,"F86626",null,5988,20,19,19,19,19,5,14,13,13,13,13,13,19,17,17,15,16,15]
["2020-02-01",{"$f":"VLOOKUP(J443,'Control Panel'!$G$132:$K$171,5,FALSE)","v":"WF-2"},"WF",null,null,null,null,null,null,"F86627",null,13632,22,17,17,17,16,4,31,29,26,26,25,26,30,28,25,24,25,24]
["2020-02-01",{"$f":"VLOOKUP(J444,'Control Panel'!$G$132:$K$171,5,FALSE)","v":"WF-6"},"WF",null,null,null,null,null,null,"F86644",null,10381,26,24,23,23,24,5,27,24,23,23,23,23,39,35,38,31,34,32]
["2020-02-01",{"$f":"VLOOKUP(J445,'Control Panel'!$G$132:$K$171,5,FALSE)","v":"WF-4"},"WF",null,null,null,null,null,null,"F86650",null,8191,28,27,27,27,25,12,19,17,17,17,17,17,26,24,20,12,21,13]
["2020-02-01",{"$f":"VLOOKUP(J446,'Control Panel'!$G$132:$K$171,5,FALSE)","v":"WF-1"},"WF",null,null,null,null,null,null,"F86664",null,8400,22,19,19,19,20,2,16,15,14,14,14,13,27,26,24,22,24,21]
["2020-02-01",{"$f":"VLOOKUP(J447,'Control Panel'!$G$132:$K$171,5,FALSE)","v":"WF-5"},"WF",null,null,null,null,null,null,"F86666",null,14618,55,52,48,52,49,19,35,31,29,29,32,29,31,26,28,23,25,24]
["2020-02-01",{"$f":"VLOOKUP(J448,'Control Panel'!$G$132:$K$171,5,FALSE)","v":"WF-7"},"WF",null,null,null,null,null,null,"F86679",null,6091,28,25,25,25,26,10,18,18,18,18,17,17,18,8,15,13,15,14]
["2020-02-01",{"$f":"VLOOKUP(J449,'Control Panel'!$G$132:$K$171,5,FALSE)","v":"WF-1"},"WF",null,null,null,null,null,null,"F86689",null,4277,23,17,18,18,18,3,20,19,18,18,18,19,16,13,11,9,10,10]
["2020-02-01",{"$f":"VLOOKUP(J450,'Control Panel'!$G$132:$K$171,5,FALSE)","v":"WF-4"},"WF",null,null,null,null,null,null,"F86696",null,5554,12,11,11,11,10,4,21,18,18,18,18,17,19,18,17,9,16,10]
["2020-02-01",{"$f":"VLOOKUP(J451,'Control Panel'!$G$132:$K$171,5,FALSE)","v":"WF-1"},"WF",null,null,null,null,null,null,"F86700",null,3901,11,9,9,9,9,1,8,8,8,8,8,8,8,8,6,6,7,6]
["2020-02-01",{"$f":"VLOOKUP(J452,'Control Panel'!$G$132:$K$171,5,FALSE)","v":"WF-5"},"WF",null,null,null,null,null,null,"F86701",null,3467,13,12,12,12,12,7,7,5,5,5,4,5,7,5,7,7,7,7]
["2020-02-01",{"$f":"VLOOKUP(J453,'Control Panel'!$G$132:$K$171,5,FALSE)","v":"WF-5"},"WF",null,null,null,null,null,null,"F86705",null,3221,5,3,3,3,3,1,7,5,4,4,4,4,13,12,12,10,11,10]
["2020-02-01",{"$f":"VLOOKUP(J454,'Control Panel'!$G$132:$K$171,5,FALSE)","v":"WF-6"},"WF",null,null,null,null,null,null,"F86708",null,2773,4,3,3,3,1,2,6,4,3,3,3,3,7,7,7,5,7,5]
["2020-02-01",{"$f":"VLOOKUP(J455,'Control Panel'!$G$132:$K$171,5,FALSE)","v":"WF-4"},"WF",null,null,null,null,null,null,"F86712",null,3195,9,9,9,9,9,1,13,12,10,11,11,11,8,3,4,4,4,4]
["2020-02-01",{"$f":"VLOOKUP(J456,'Control Panel'!$G$132:$K$171,5,FALSE)","v":"WF-2"},"WF",null,null,null,null,null,null,"Y01291",null,8833,40,36,36,37,37,16,25,21,21,21,21,21,33,32,33,25,33,27]
["2020-02-01",{"$f":"VLOOKUP(J457,'Control Panel'!$G$132:$K$171,5,FALSE)","v":"WF-1"},"WF",null,null,null,null,null,null,"Y01839",null,6417,27,25,25,25,24,9,26,24,22,22,22,22,22,7,20,17,21,16]
["2020-02-01",{"$f":"VLOOKUP(J458,'Control Panel'!$G$132:$K$171,5,FALSE)","v":{"$error":"#N/A"}},null,null,null,null,null,null,null,"Total",null,263587,854,764,758,768,750,220,812,733,684,686,689,684,790,680,696,578,685,601]
["2020-03-01",{"$f":"VLOOKUP(J459,'Control Panel'!$G$132:$K$171,5,FALSE)","v":{"$error":"#N/A"}},"Childhood Immunisations Q4",null,"Last Run:",null,"Population Count",278643,null,null,"Search","All Patients","(01) 12 MONTH COHORT","(01.01) DTaP/IPV/Hib 6in1","(01.02) Men B (1st and 2nd)","(01.03) PCV","(01.04) Rotavirus","(01.05) BCG","(02) 24 MONTH COHORT","(02.01) DTaP/IPV/Hib Combined","(02.02) MMR","(02.03) HiB/Men C","(02.04) PCV (Booster)","(02.05) Men B (Booster)","(03) 5 YEAR COHORT","(03.01) DTaP/IPV/Hib Combined","(03.02) MMR (Primary)","(03.03) DTaP/IPV (Booster)","(03.04) HiB/Men C","(03.05) MMR (Booster)"]
["2020-03-01",{"$f":"VLOOKUP(J460,'Control Panel'!$G$132:$K$171,5,FALSE)","v":{"$error":"#N/A"}},null,null,"2020-04-02T09:26:00",null,"Males",142146,null,"Organisation Code"]
["2020-03-01",{"$f":"VLOOKUP(J461,'Control Panel'!$G$132:$K$171,5,FALSE)","v":"WF-6"},"WF",null,"Relative Date:",null,"Females",136497,null,"F86001",null,7976,18,17,17,17,18,5,17,16,13,13,13,14,21,18,19,14,19,16]
["2020-03-01",{"$f":"VLOOKUP(J462,'Control Panel'!$G$132:$K$171,5,FALSE)","v":"WF-1"},"WF",null,"2020-04-01",null,null,null,null,"F86005",null,8743,50,45,45,45,44,5,43,41,38,40,39,39,28,28,28,16,28,19]
["2020-03-01",{"$f":"VLOOKUP(J463,'Control Panel'!$G$132:$K$171,5,FALSE)","v":"WF-7"},"WF",null,null,null,null,null,null,"F86006",null,6435,11,10,9,10,9,2,19,18,17,17,17,17,20,18,18,17,18,17]
["2020-03-01",{"$f":"VLOOKUP(J464,'Control Panel'!$G$132:$K$171,5,FALSE)","v":"WF-3"},"WF",null,null,null,null,null,null,"F86011",null,9916,22,19,19,19,17,3,23,19,18,18,18,18,25,20,21,15,21,16]
["2020-03-01",{"$f":"VLOOKUP(J465,'Control Panel'!$G$132:$K$171,5,FALSE)","v":"WF-7"},"WF",null,null,null,null,null,null,"F86030",null,8299,37,32,32,32,31,15,17,15,12,13,13,13,29,28,28,28,29,28]
["2020-03-01",{"$f":"VLOOKUP(J466,'Control Panel'!$G$132:$K$171,5,FALSE)","v":"WF-4"},"WF",null,null,null,null,null,null,"F86036",null,15888,57,53,52,52,51,31,49,46,45,45,45,46,52,48,47,46,45,46]
["2020-03-01",{"$f":"VLOOKUP(J467,'Control Panel'!$G$132:$K$171,5,FALSE)","v":"WF-3"},"WF",null,null,null,null,null,null,"F86038",null,12240,48,44,44,45,45,8,42,38,37,37,37,38,41,36,33,27,32,28]
["2020-03-01",{"$f":"VLOOKUP(J468,'Control Panel'!$G$132:$K$171,5,FALSE)","v":"WF-4"},"WF",null,null,null,null,null,null,"F86044",null,9698,37,35,34,35,30,5,39,29,33,32,33,31,26,24,23,16,21,17]
["2020-03-01",{"$f":"VLOOKUP(J469,'Control Panel'!$G$132:$K$171,5,FALSE)","v":"WF-5"},"WF",null,null,null,null,null,null,"F86045",null,1991,3,3,3,3,3,0,4,4,3,3,3,4,7,5,4,4,5,5]
["2020-03-01",{"$f":"VLOOKUP(J470,'Control Panel'!$G$132:$K$171,5,FALSE)","v":"WF-7"},"WF",null,null,null,null,null,null,"F86058",null,15610,68,61,61,61,62,9,53,47,43,43,43,42,44,38,39,30,39,31]
["2020-03-01",{"$f":"VLOOKUP(J471,'Control Panel'!$G$132:$K$171,5,FALSE)","v":"WF-7"},"WF",null,null,null,null,null,null,"F86062",null,7356,20,18,17,18,17,2,16,16,15,14,14,13,14,11,11,11,7,12]
["2020-03-01",{"$f":"VLOOKUP(J472,'Control Panel'!$G$132:$K$171,5,FALSE)","v":"WF-2"},"WF",null,null,null,null,null,null,"F86078",null,7154,9,6,6,6,7,1,20,19,19,18,19,18,7,6,6,6,6,6]
["2020-03-01",{"$f":"VLOOKUP(J473,'Control Panel'!$G$132:$K$171,5,FALSE)","v":"WF-6"},"WF",null,null,null,null,null,null,"F86086",null,6384,18,16,15,16,15,5,31,29,27,27,27,26,32,27,27,19,27,22]
["2020-03-01",{"$f":"VLOOKUP(J474,'Control Panel'!$G$132:$K$171,5,FALSE)","v":"WF-4"},"WF",null,null,null,null,null,null,"F86088",null,4878,9,8,8,8,9,2,7,5,6,6,6,6,8,8,8,5,8,5]
["2020-03-01",{"$f":"VLOOKUP(J475,'Control Panel'!$G$132:$K$171,5,FALSE)","v":"WF-6"},"WF",null,null,null,null,null,null,"F86607",null,14051,47,43,45,45,42,17,67,61,54,55,54,55,49,45,44,43,47,43]
["2020-03-01",{"$f":"VLOOKUP(J476,'Control Panel'!$G$132:$K$171,5,FALSE)","v":"WF-2"},"WF",null,null,null,null,null,null,"F86616",null,7278,29,28,28,28,27,1,35,33,28,28,30,29,38,31,33,25,33,27]
["2020-03-01",{"$f":"VLOOKUP(J477,'Control Panel'!$G$132:$K$171,5,FALSE)","v":"WF-5"},"WF",null,null,null,null,null,null,"F86621",null,5974,16,14,14,14,13,11,18,16,14,15,15,14,11,6,10,10,8,9]
["2020-03-01",{"$f":"VLOOKUP(J478,'Control Panel'!$G$132:$K$171,5,FALSE)","v":"WF-5"},"WF",null,null,null,null,null,null,"F86625",null,6145,11,9,9,9,9,0,18,17,14,14,14,14,18,14,13,12,14,14]
["2020-03-01",{"$f":"VLOOKUP(J479,'Control Panel'!$G$132:$K$171,5,FALSE)","v":"WF-1"},"WF",null,null,null,null,null,null,"F86626",null,6022,20,19,19,19,19,5,14,13,13,13,13,13,20,17,17,15,16,15]
["2020-03-01",{"$f":"VLOOKUP(J480,'Control Panel'!$G$132:$K$171,5,FALSE)","v":"WF-2"},"WF",null,null,null,null,null,null,"F86627",null,13615,22,17,17,17,16,4,31,29,26,26,25,26,30,28,25,24,25,24]
["2020-03-01",{"$f":"VLOOKUP(J481,'Control Panel'!$G$132:$K$171,5,FALSE)","v":"WF-6"},"WF",null,null,null,null,null,null,"F86644",null,10412,26,24,23,23,24,5,27,24,23,23,23,23,39,36,38,31,35,32]
["2020-03-01",{"$f":"VLOOKUP(J482,'Control Panel'!$G$132:$K$171,5,FALSE)","v":"WF-4"},"WF",null,null,null,null,null,null,"F86650",null,8181,28,27,27,27,25,12,21,17,17,17,17,17,26,24,20,12,21,13]
["2020-03-01",{"$f":"VLOOKUP(J483,'Control Panel'!$G$132:$K$171,5,FALSE)","v":"WF-1"},"WF",null,null,null,null,null,null,"F86664",null,8433,23,19,19,19,20,2,16,15,14,14,14,13,27,26,24,22,24,21]
["2020-03-01",{"$f":"VLOOKUP(J484,'Control Panel'!$G$132:$K$171,5,FALSE)","v":"WF-5"},"WF",null,null,null,null,null,null,"F86666",null,14758,55,52,48,52,49,19,35,31,29,29,32,29,30,26,27,22,24,23]
["2020-03-01",{"$f":"VLOOKUP(J485,'Control Panel'!$G$132:$K$171,5,FALSE)","v":"WF-7"},"WF",null,null,null,null,null,null,"F86679",null,6104,28,25,25,25,26,10,18,18,18,18,17,17,18,8,15,13,15,14]
["2020-03-01",{"$f":"VLOOKUP(J486,'Control Panel'!$G$132:$K$171,5,FALSE)","v":"WF-1"},"WF",null,null,null,null,null,null,"F86689",null,4293,22,16,17,17,17,3,20,19,18,18,18,19,16,13,11,9,10,10]
["2020-03-01",{"$f":"VLOOKUP(J487,'Control Panel'!$G$132:$K$171,5,FALSE)","v":"WF-4"},"WF",null,null,null,null,null,null,"F86696",null,6128,15,11,11,11,10,4,24,21,20,20,20,19,19,18,17,9,16,10]
["2020-03-01",{"$f":"VLOOKUP(J488,'Control Panel'!$G$132:$K$171,5,FALSE)","v":"WF-1"},"WF",null,null,null,null,null,null,"F86700",null,3916,11,9,9,9,9,1,9,9,9,9,9,9,8,8,6,6,7,6]
["2020-03-01",{"$f":"VLOOKUP(J489,'Control Panel'!$G$132:$K$171,5,FALSE)","v":"WF-5"},"WF",null,null,null,null,null,null,"F86701",null,3528,13,12,12,12,12,7,7,5,5,5,4,5,7,5,7,7,7,7]
["2020-03-01",{"$f":"VLOOKUP(J490,'Control Panel'!$G$132:$K$171,5,FALSE)","v":"WF-5"},"WF",null,null,null,null,null,null,"F86705",null,3262,5,3,3,3,3,1,7,5,4,4,4,4,13,12,12,10,11,10]
["2020-03-01",{"$f":"VLOOKUP(J491,'Control Panel'!$G$132:$K$171,5,FALSE)","v":"WF-6"},"WF",null,null,null,null,null,null,"F86708",null,2822,4,3,3,3,1,2,6,4,3,3,3,3,7,7,7,5,7,5]
["2020-03-01",{"$f":"VLOOKUP(J492,'Control Panel'!$G$132:$K$171,5,FALSE)","v":"WF-4"},"WF",null,null,null,null,null,null,"F86712",null,3344,9,9,9,9,9,1,13,12,10,11,11,11,9,3,4,4,4,4]
["2020-03-01",{"$f":"VLOOKUP(J493,'Control Panel'!$G$132:$K$171,5,FALSE)","v":"WF-2"},"WF",null,null,null,null,null,null,"Y01291",null,8872,40,35,35,37,36,19,24,21,21,21,21,21,33,32,33,28,33,30]
["2020-03-01",{"$f":"VLOOKUP(J494,'Control Panel'!$G$132:$K$171,5,FALSE)","v":"WF-1"},"WF",null,null,null,null,null,null,"Y01839",null,6457,27,26,26,26,25,10,26,24,22,22,22,22,22,7,20,17,21,16]
["2020-03-01",{"$f":"VLOOKUP(J495,'Control Panel'!$G$132:$K$171,5,FALSE)","v":{"$error":"#N/A"}},null,null,null,null,null,null,null,"Total",null,266163,858,768,761,772,750,227,816,736,688,691,693,688,794,681,695,578,683,601]
["2020-04-01",{"$f":"VLOOKUP(J496,'Control Panel'!$G$132:$K$171,5,FALSE)","v":{"$error":"#N/A"}},"Childhood Immunisations Q1",null,"Last Run:",null,"Population Count",279904,null,null,"Search","All Patients","(01) 12 MONTH COHORT","(01.01) DTaP/IPV/Hib 6in1","(01.02) Men B (1st and 2nd)","(01.03) PCV","(01.04) Rotavirus","(01.05) BCG","(02) 24 MONTH COHORT","(02.01) DTaP/IPV/Hib Combined","(02.02) MMR","(02.03) HiB/Men C","(02.04) PCV (Booster)","(02.05) Men B (Booster)","(03) 5 YEAR COHORT","(03.01) DTaP/IPV/Hib Combined","(03.02) MMR (Primary)","(03.03) DTaP/IPV (Booster)","(03.04) HiB/Men C","(03.05) MMR (Booster)"]
["2020-04-01",{"$f":"VLOOKUP(J497,'Control Panel'!$G$132:$K$171,5,FALSE)","v":{"$error":"#N/A"}},null,null,"2020-05-06T14:07:00",null,"Males",142767,null,"Organisation Code"]
["2020-04-01",{"$f":"VLOOKUP(J498,'Control Panel'!$G$132:$K$171,5,FALSE)","v":"WF-6"},"WF",null,"Relative Date:",null,"Females",137137,null,"F86001",null,7962,20,16,15,16,17,8,21,20,17,16,16,17,36,32,31,25,31,27]
["2020-04-01",{"$f":"VLOOKUP(J499,'Control Panel'!$G$132:$K$171,5,FALSE)","v":"WF-1"},"WF",null,"2020-05-01",null,null,null,null,"F86005",null,8770,38,37,37,37,37,6,55,50,44,44,44,43,24,23,23,18,23,18]
["2020-04-01",{"$f":"VLOOKUP(J500,'Control Panel'!$G$132:$K$171,5,FALSE)","v":"WF-7"},"WF",null,null,null,null,null,null,"F86006",null,6428,23,20,21,22,20,3,25,21,22,22,23,22,17,16,16,13,14,15]
["2020-04-01",{"$f":"VLOOKUP(J501,'Control Panel'!$G$132:$K$171,5,FALSE)","v":"WF-3"},"WF",null,null,null,null,null,null,"F86011",null,9839,25,21,21,21,21,6,29,25,21,21,22,23,27,21,21,15,21,17]
["2020-04-01",{"$f":"VLOOKUP(J502,'Control Panel'!$G$132:$K$171,5,FALSE)","v":"WF-7"},"WF",null,null,null,null,null,null,"F86030",null,8338,35,34,34,34,34,13,42,37,35,35,36,35,22,18,18,13,15,16]
["2020-04-01",{"$f":"VLOOKUP(J503,'Control Panel'!$G$132:$K$171,5,FALSE)","v":"WF-4"},"WF",null,null,null,null,null,null,"F86036",null,15813,43,40,39,41,40,27,44,43,39,41,39,40,45,40,40,35,40,35]
["2020-04-01",{"$f":"VLOOKUP(J504,'Control Panel'!$G$132:$K$171,5,FALSE)","v":"WF-3"},"WF",null,null,null,null,null,null,"F86038",null,12647,46,40,39,40,38,7,53,41,40,39,40,39,44,35,34,25,33,28]
["2020-04-01",{"$f":"VLOOKUP(J505,'Control Panel'!$G$132:$K$171,5,FALSE)","v":"WF-4"},"WF",null,null,null,null,null,null,"F86044",null,9647,56,53,52,53,52,12,33,24,24,25,24,25,27,21,19,14,20,15]
["2020-04-01",{"$f":"VLOOKUP(J506,'Control Panel'!$G$132:$K$171,5,FALSE)","v":"WF-5"},"WF",null,null,null,null,null,null,"F86045",null,1988,4,4,4,4,4,4,4,4,4,4,4,4,1,1,1,1,1,1]
["2020-04-01",{"$f":"VLOOKUP(J507,'Control Panel'!$G$132:$K$171,5,FALSE)","v":"WF-7"},"WF",null,null,null,null,null,null,"F86058",null,15569,49,44,44,44,44,22,67,55,51,51,51,51,58,54,51,33,52,36]
["2020-04-01",{"$f":"VLOOKUP(J508,'Control Panel'!$G$132:$K$171,5,FALSE)","v":"WF-7"},"WF",null,null,null,null,null,null,"F86062",null,7326,27,26,26,26,26,9,29,24,21,20,21,22,16,14,14,8,5,8]
["2020-04-01",{"$f":"VLOOKUP(J509,'Control Panel'!$G$132:$K$171,5,FALSE)","v":"WF-2"},"WF",null,null,null,null,null,null,"F86078",null,7144,10,8,8,8,8,4,17,15,14,15,14,14,15,12,12,10,12,11]
["2020-04-01",{"$f":"VLOOKUP(J510,'Control Panel'!$G$132:$K$171,5,FALSE)","v":"WF-6"},"WF",null,null,null,null,null,null,"F86086",null,6386,28,25,25,26,23,7,22,21,21,22,22,22,19,17,16,8,16,12]
["2020-04-01",{"$f":"VLOOKUP(J511,'Control Panel'!$G$132:$K$171,5,FALSE)","v":"WF-4"},"WF",null,null,null,null,null,null,"F86088",null,4861,15,13,12,13,13,1,7,4,5,5,6,5,9,8,8,5,8,5]
["2020-04-01",{"$f":"VLOOKUP(J512,'Control Panel'!$G$132:$K$171,5,FALSE)","v":"WF-6"},"WF",null,null,null,null,null,null,"F86607",null,14097,43,38,38,38,34,13,54,50,46,46,45,44,47,42,43,43,43,42]
["2020-04-01",{"$f":"VLOOKUP(J513,'Control Panel'!$G$132:$K$171,5,FALSE)","v":"WF-2"},"WF",null,null,null,null,null,null,"F86616",null,7274,49,44,44,44,44,7,20,16,17,17,17,16,40,33,34,30,32,32]
["2020-04-01",{"$f":"VLOOKUP(J514,'Control Panel'!$G$132:$K$171,5,FALSE)","v":"WF-5"},"WF",null,null,null,null,null,null,"F86621",null,5946,21,20,20,20,19,12,19,19,19,19,19,19,12,11,12,12,12,12]
["2020-04-01",{"$f":"VLOOKUP(J515,'Control Panel'!$G$132:$K$171,5,FALSE)","v":"WF-5"},"WF",null,null,null,null,null,null,"F86625",null,6139,20,15,14,15,12,3,16,13,13,13,13,13,10,9,10,8,10,8]
["2020-04-01",{"$f":"VLOOKUP(J516,'Control Panel'!$G$132:$K$171,5,FALSE)","v":"WF-1"},"WF",null,null,null,null,null,null,"F86626",null,6021,19,16,17,17,18,9,16,15,11,11,11,11,24,21,20,14,20,15]
["2020-04-01",{"$f":"VLOOKUP(J517,'Control Panel'!$G$132:$K$171,5,FALSE)","v":"WF-2"},"WF",null,null,null,null,null,null,"F86627",null,13556,38,32,33,33,30,5,35,32,31,32,32,31,40,39,36,28,34,28]
["2020-04-01",{"$f":"VLOOKUP(J518,'Control Panel'!$G$132:$K$171,5,FALSE)","v":"WF-6"},"WF",null,null,null,null,null,null,"F86644",null,10401,37,33,33,33,33,7,29,22,20,21,21,21,31,27,28,21,28,26]
["2020-04-01",{"$f":"VLOOKUP(J519,'Control Panel'!$G$132:$K$171,5,FALSE)","v":"WF-4"},"WF",null,null,null,null,null,null,"F86650",null,8194,30,24,25,26,22,16,31,26,22,21,22,21,25,23,21,17,19,17]
["2020-04-01",{"$f":"VLOOKUP(J520,'Control Panel'!$G$132:$K$171,5,FALSE)","v":"WF-1"},"WF",null,null,null,null,null,null,"F86664",null,8414,27,24,24,24,25,3,25,21,20,20,20,20,40,40,37,37,35,37]
["2020-04-01",{"$f":"VLOOKUP(J521,'Control Panel'!$G$132:$K$171,5,FALSE)","v":"WF-5"},"WF",null,null,null,null,null,null,"F86666",null,14788,55,51,49,50,47,28,45,41,39,38,39,40,51,48,45,40,43,43]
["2020-04-01",{"$f":"VLOOKUP(J522,'Control Panel'!$G$132:$K$171,5,FALSE)","v":"WF-7"},"WF",null,null,null,null,null,null,"F86679",null,6103,40,39,39,39,38,16,28,27,26,26,26,26,20,18,19,18,19,18]
["2020-04-01",{"$f":"VLOOKUP(J523,'Control Panel'!$G$132:$K$171,5,FALSE)","v":"WF-1"},"WF",null,null,null,null,null,null,"F86689",null,4295,29,26,25,26,24,10,37,34,33,32,33,33,27,26,25,25,25,24]
["2020-04-01",{"$f":"VLOOKUP(J524,'Control Panel'!$G$132:$K$171,5,FALSE)","v":"WF-4"},"WF",null,null,null,null,null,null,"F86696",null,6099,21,19,19,19,17,4,13,11,10,10,10,10,20,16,16,13,16,13]
["2020-04-01",{"$f":"VLOOKUP(J525,'Control Panel'!$G$132:$K$171,5,FALSE)","v":"WF-1"},"WF",null,null,null,null,null,null,"F86700",null,3908,13,10,9,10,10,7,11,11,11,11,10,11,10,10,8,7,9,7]
["2020-04-01",{"$f":"VLOOKUP(J526,'Control Panel'!$G$132:$K$171,5,FALSE)","v":"WF-5"},"WF",null,null,null,null,null,null,"F86701",null,3529,6,5,5,5,5,3,10,10,9,9,9,9,7,6,6,5,6,5]
["2020-04-01",{"$f":"VLOOKUP(J527,'Control Panel'!$G$132:$K$171,5,FALSE)","v":"WF-5"},"WF",null,null,null,null,null,null,"F86705",null,3376,6,5,5,5,6,5,17,15,15,15,14,14,12,12,12,10,12,10]
["2020-04-01",{"$f":"VLOOKUP(J528,'Control Panel'!$G$132:$K$171,5,FALSE)","v":"WF-6"},"WF",null,null,null,null,null,null,"F86708",null,2823,5,4,4,4,3,3,9,9,8,8,8,8,13,13,12,10,12,10]
["2020-04-01",{"$f":"VLOOKUP(J529,'Control Panel'!$G$132:$K$171,5,FALSE)","v":"WF-4"},"WF",null,null,null,null,null,null,"F86712",null,3329,8,7,7,7,7,4,5,4,4,4,4,4,6,5,6,5,5,5]
["2020-04-01",{"$f":"VLOOKUP(J530,'Control Panel'!$G$132:$K$171,5,FALSE)","v":"WF-2"},"WF",null,null,null,null,null,null,"Y01291",null,8851,32,31,30,31,29,24,26,20,20,20,20,18,31,27,27,19,27,20]
["2020-04-01",{"$f":"VLOOKUP(J531,'Control Panel'!$G$132:$K$171,5,FALSE)","v":"WF-1"},"WF",null,null,null,null,null,null,"Y01839",null,6443,23,23,23,23,22,6,28,23,20,20,21,20,15,7,12,8,12,7]
["2020-04-01",{"$f":"VLOOKUP(J532,'Control Panel'!$G$132:$K$171,5,FALSE)","v":{"$error":"#N/A"}},null,null,null,null,null,null,null,"total",null,266304,941,847,840,854,822,314,922,803,752,753,756,751,841,745,733,593,710,623]
["2020-05-01",{"$f":"VLOOKUP(J533,'Control Panel'!$G$132:$K$171,5,FALSE)","v":{"$error":"#N/A"}},"Childhood Immunisations Q1",null,"Last Run:",null,"Population Count",279936,null,null,"Search","All Patients","(01) 12 MONTH COHORT","(01.01) DTaP/IPV/Hib 6in1","(01.02) Men B (1st and 2nd)","(01.03) PCV","(01.04) Rotavirus","(01.05) BCG","(02) 24 MONTH COHORT","(02.01) DTaP/IPV/Hib Combined","(02.02) MMR","(02.03) HiB/Men C","(02.04) PCV (Booster)","(02.05) Men B (Booster)","(03) 5 YEAR COHORT","(03.01) DTaP/IPV/Hib Combined","(03.02) MMR (Primary)","(03.03) DTaP/IPV (Booster)","(03.04) HiB/Men C","(03.05) MMR (Booster)"]
["2020-05-01",{"$f":"VLOOKUP(J534,'Control Panel'!$G$132:$K$171,5,FALSE)","v":{"$error":"#N/A"}},null,null,"2020-06-02T09:49:00",null,"Males",142809,null,"Organisation Code"]
["2020-05-01",{"$f":"VLOOKUP(J535,'Control Panel'!$G$132:$K$171,5,FALSE)","v":"WF-6"},"WF",null,"Relative Date:",null,"Females",137127,null,"F86001",null,7967,20,16,15,16,17,8,23,22,19,18,18,19,36,32,31,25,31,27]
["2020-05-01",{"$f":"VLOOKUP(J536,'Control Panel'!$G$132:$K$171,5,FALSE)","v":"WF-1"},"WF",null,"2020-06-01",null,null,null,null,"F86005",null,8785,38,37,37,37,37,6,56,52,46,46,46,44,24,23,23,18,23,18]
["2020-05-01",{"$f":"VLOOKUP(J537,'Control Panel'!$G$132:$K$171,5,FALSE)","v":"WF-7"},"WF",null,null,null,null,null,null,"F86006",null,6431,23,21,22,23,21,3,25,21,22,22,23,22,17,16,16,13,14,15]
["2020-05-01",{"$f":"VLOOKUP(J538,'Control Panel'!$G$132:$K$171,5,FALSE)","v":"WF-3"},"WF",null,null,null,null,null,null,"F86011",null,9844,25,21,21,21,21,6,27,23,19,19,20,21,27,22,21,15,21,17]
["2020-05-01",{"$f":"VLOOKUP(J539,'Control Panel'!$G$132:$K$171,5,FALSE)","v":"WF-7"},"WF",null,null,null,null,null,null,"F86030",null,8331,35,34,34,34,34,13,41,36,34,34,35,34,23,20,20,13,16,16]
["2020-05-01",{"$f":"VLOOKUP(J540,'Control Panel'!$G$132:$K$171,5,FALSE)","v":"WF-4"},"WF",null,null,null,null,null,null,"F86036",null,15799,43,40,39,41,40,28,44,43,39,41,39,40,45,40,40,35,40,35]
["2020-05-01",{"$f":"VLOOKUP(J541,'Control Panel'!$G$132:$K$171,5,FALSE)","v":"WF-3"},"WF",null,null,null,null,null,null,"F86038",null,12635,45,41,40,41,39,7,53,41,40,39,40,39,44,35,34,25,33,28]
["2020-05-01",{"$f":"VLOOKUP(J542,'Control Panel'!$G$132:$K$171,5,FALSE)","v":"WF-4"},"WF",null,null,null,null,null,null,"F86044",null,9649,55,52,51,52,52,12,32,23,23,24,23,24,28,22,20,15,21,16]
["2020-05-01",{"$f":"VLOOKUP(J543,'Control Panel'!$G$132:$K$171,5,FALSE)","v":"WF-5"},"WF",null,null,null,null,null,null,"F86045",null,1993,5,4,4,5,4,5,4,4,4,4,4,4,1,1,1,1,1,1]
["2020-05-01",{"$f":"VLOOKUP(J544,'Control Panel'!$G$132:$K$171,5,FALSE)","v":"WF-7"},"WF",null,null,null,null,null,null,"F86058",null,15562,49,44,44,44,44,22,66,54,50,50,50,50,56,53,49,31,50,34]
["2020-05-01",{"$f":"VLOOKUP(J545,'Control Panel'!$G$132:$K$171,5,FALSE)","v":"WF-7"},"WF",null,null,null,null,null,null,"F86062",null,7294,26,25,25,25,25,8,29,24,21,20,21,22,16,14,14,8,5,8]
["2020-05-01",{"$f":"VLOOKUP(J546,'Control Panel'!$G$132:$K$171,5,FALSE)","v":"WF-2"},"WF",null,null,null,null,null,null,"F86078",null,7136,10,8,8,8,8,4,17,15,14,15,14,14,15,12,12,10,12,11]
["2020-05-01",{"$f":"VLOOKUP(J547,'Control Panel'!$G$132:$K$171,5,FALSE)","v":"WF-6"},"WF",null,null,null,null,null,null,"F86086",null,6406,28,25,25,26,23,7,22,21,21,22,22,22,19,17,16,8,16,12]
["2020-05-01",{"$f":"VLOOKUP(J548,'Control Panel'!$G$132:$K$171,5,FALSE)","v":"WF-4"},"WF",null,null,null,null,null,null,"F86088",null,4846,15,13,12,13,13,2,7,5,6,6,6,6,9,8,8,5,8,5]
["2020-05-01",{"$f":"VLOOKUP(J549,'Control Panel'!$G$132:$K$171,5,FALSE)","v":"WF-6"},"WF",null,null,null,null,null,null,"F86607",null,14101,43,38,38,38,34,13,54,50,47,47,46,45,47,42,43,43,43,42]
["2020-05-01",{"$f":"VLOOKUP(J550,'Control Panel'!$G$132:$K$171,5,FALSE)","v":"WF-2"},"WF",null,null,null,null,null,null,"F86616",null,7277,48,43,43,43,43,7,20,16,18,18,18,17,40,33,34,30,32,32]
["2020-05-01",{"$f":"VLOOKUP(J551,'Control Panel'!$G$132:$K$171,5,FALSE)","v":"WF-5"},"WF",null,null,null,null,null,null,"F86621",null,5950,21,20,20,20,19,12,19,19,19,19,19,19,13,11,13,12,12,12]
["2020-05-01",{"$f":"VLOOKUP(J552,'Control Panel'!$G$132:$K$171,5,FALSE)","v":"WF-5"},"WF",null,null,null,null,null,null,"F86625",null,6146,20,15,14,15,12,3,16,13,13,13,13,13,10,9,10,8,10,8]
["2020-05-01",{"$f":"VLOOKUP(J553,'Control Panel'!$G$132:$K$171,5,FALSE)","v":"WF-1"},"WF",null,null,null,null,null,null,"F86626",null,6045,19,16,17,17,18,9,16,15,11,11,11,11,24,22,20,14,20,15]
["2020-05-01",{"$f":"VLOOKUP(J554,'Control Panel'!$G$132:$K$171,5,FALSE)","v":"WF-2"},"WF",null,null,null,null,null,null,"F86627",null,13566,39,33,34,34,31,5,35,32,31,32,32,31,40,39,36,28,34,28]
["2020-05-01",{"$f":"VLOOKUP(J555,'Control Panel'!$G$132:$K$171,5,FALSE)","v":"WF-6"},"WF",null,null,null,null,null,null,"F86644",null,10277,37,33,33,33,33,7,27,20,19,20,20,20,30,26,27,20,27,25]
["2020-05-01",{"$f":"VLOOKUP(J556,'Control Panel'!$G$132:$K$171,5,FALSE)","v":"WF-4"},"WF",null,null,null,null,null,null,"F86650",null,8217,30,24,25,26,22,16,31,26,22,21,22,21,25,23,21,17,19,17]
["2020-05-01",{"$f":"VLOOKUP(J557,'Control Panel'!$G$132:$K$171,5,FALSE)","v":"WF-1"},"WF",null,null,null,null,null,null,"F86664",null,8432,27,24,24,24,25,3,25,21,20,20,20,20,40,40,37,37,35,37]
["2020-05-01",{"$f":"VLOOKUP(J558,'Control Panel'!$G$132:$K$171,5,FALSE)","v":"WF-5"},"WF",null,null,null,null,null,null,"F86666",null,14793,55,51,49,51,47,28,45,41,39,38,39,40,51,48,45,40,43,43]
["2020-05-01",{"$f":"VLOOKUP(J559,'Control Panel'!$G$132:$K$171,5,FALSE)","v":"WF-7"},"WF",null,null,null,null,null,null,"F86679",null,6084,41,39,39,39,38,16,28,27,26,26,26,26,20,18,19,18,19,18]
["2020-05-01",{"$f":"VLOOKUP(J560,'Control Panel'!$G$132:$K$171,5,FALSE)","v":"WF-1"},"WF",null,null,null,null,null,null,"F86689",null,4305,29,26,25,26,24,10,36,34,33,32,33,33,27,26,25,25,25,24]
["2020-05-01",{"$f":"VLOOKUP(J561,'Control Panel'!$G$132:$K$171,5,FALSE)","v":"WF-4"},"WF",null,null,null,null,null,null,"F86696",null,6105,21,19,19,19,17,4,13,11,11,11,11,11,20,16,16,13,16,13]
["2020-05-01",{"$f":"VLOOKUP(J562,'Control Panel'!$G$132:$K$171,5,FALSE)","v":"WF-1"},"WF",null,null,null,null,null,null,"F86700",null,3926,13,10,9,10,10,7,11,11,11,11,10,11,10,10,8,7,9,7]
["2020-05-01",{"$f":"VLOOKUP(J563,'Control Panel'!$G$132:$K$171,5,FALSE)","v":"WF-5"},"WF",null,null,null,null,null,null,"F86701",null,3543,6,5,5,5,5,3,9,9,8,8,8,8,9,6,6,5,6,5]
["2020-05-01",{"$f":"VLOOKUP(J564,'Control Panel'!$G$132:$K$171,5,FALSE)","v":"WF-5"},"WF",null,null,null,null,null,null,"F86705",null,3390,6,5,5,5,6,5,17,15,15,15,14,14,12,12,12,10,12,10]
["2020-05-01",{"$f":"VLOOKUP(J565,'Control Panel'!$G$132:$K$171,5,FALSE)","v":"WF-6"},"WF",null,null,null,null,null,null,"F86708",null,2818,5,4,4,4,3,3,9,9,8,8,8,8,13,13,12,10,12,10]
["2020-05-01",{"$f":"VLOOKUP(J566,'Control Panel'!$G$132:$K$171,5,FALSE)","v":"WF-4"},"WF",null,null,null,null,null,null,"F86712",null,3334,8,7,7,7,7,4,5,4,4,4,4,4,6,5,6,5,5,5]
["2020-05-01",{"$f":"VLOOKUP(J567,'Control Panel'!$G$132:$K$171,5,FALSE)","v":"WF-2"},"WF",null,null,null,null,null,null,"Y01291",null,8897,32,31,30,31,29,24,26,20,20,20,20,18,30,26,26,22,26,23]
["2020-05-01",{"$f":"VLOOKUP(J568,'Control Panel'!$G$132:$K$171,5,FALSE)","v":"WF-1"},"WF",null,null,null,null,null,null,"Y01839",null,6452,23,23,23,23,22,6,28,23,20,20,21,20,15,7,12,8,12,7]
["2020-05-01",{"$f":"VLOOKUP(J569,'Control Panel'!$G$132:$K$171,5,FALSE)","v":{"$error":"#N/A"}},null,null,null,null,null,null,null,"total",null,266336,940,847,840,856,823,316,916,800,753,754,756,751,842,747,733,594,708,624]
["2020-06-01",{"$f":"VLOOKUP(J570,'Control Panel'!$G$132:$K$171,5,FALSE)","v":{"$error":"#N/A"}},"Childhood Immunisations Q1",null,"Last Run:",null,"Population Count",279987,null,null,"Search","All Patients","(01) 12 MONTH COHORT","(01.01) DTaP/IPV/Hib 6in1","(01.02) Men B (1st and 2nd)","(01.03) PCV","(01.04) Rotavirus","(01.05) BCG","(02) 24 MONTH COHORT","(02.01) DTaP/IPV/Hib Combined","(02.02) MMR","(02.03) HiB/Men C","(02.04) PCV (Booster)","(02.05) Men B (Booster)","(03) 5 YEAR COHORT","(03.01) DTaP/IPV/Hib Combined","(03.02) MMR (Primary)","(03.03) DTaP/IPV (Booster)","(03.04) HiB/Men C","(03.05) MMR (Booster)"]
["2020-06-01",{"$f":"VLOOKUP(J571,'Control Panel'!$G$132:$K$171,5,FALSE)","v":{"$error":"#N/A"}},null,null,"2020-07-02T12:06:00",null,"Males",142924,null,"Organisation Code"]
["2020-06-01",{"$f":"VLOOKUP(J572,'Control Panel'!$G$132:$K$171,5,FALSE)","v":"WF-6"},"WF",null,"Relative Date:",null,"Females",137063,null,"F86001",null,7968,20,16,15,16,17,8,23,22,19,18,18,19,36,32,31,25,31,27]
["2020-06-01",{"$f":"VLOOKUP(J573,'Control Panel'!$G$132:$K$171,5,FALSE)","v":"WF-1"},"WF",null,"2020-07-01",null,null,null,null,"F86005",null,8811,38,37,37,37,37,6,57,53,47,47,47,45,24,23,24,18,23,19]
["2020-06-01",{"$f":"VLOOKUP(J574,'Control Panel'!$G$132:$K$171,5,FALSE)","v":"WF-7"},"WF",null,null,null,null,null,null,"F86006",null,6437,23,21,22,23,21,3,25,21,22,22,23,22,18,17,17,14,14,16]
["2020-06-01",{"$f":"VLOOKUP(J575,'Control Panel'!$G$132:$K$171,5,FALSE)","v":"WF-3"},"WF",null,null,null,null,null,null,"F86011",null,9853,26,21,21,22,22,6,27,23,19,19,20,21,27,22,21,15,21,17]
["2020-06-01",{"$f":"VLOOKUP(J576,'Control Panel'!$G$132:$K$171,5,FALSE)","v":"WF-7"},"WF",null,null,null,null,null,null,"F86030",null,8317,35,34,34,34,34,13,40,35,33,33,34,33,22,19,19,12,16,15]
["2020-06-01",{"$f":"VLOOKUP(J577,'Control Panel'!$G$132:$K$171,5,FALSE)","v":"WF-4"},"WF",null,null,null,null,null,null,"F86036",null,15783,43,40,39,41,40,28,45,44,40,42,40,41,44,40,40,35,40,35]
["2020-06-01",{"$f":"VLOOKUP(J578,'Control Panel'!$G$132:$K$171,5,FALSE)","v":"WF-3"},"WF",null,null,null,null,null,null,"F86038",null,12584,45,41,40,41,39,7,53,41,40,39,40,39,44,35,34,25,33,28]
["2020-06-01",{"$f":"VLOOKUP(J579,'Control Panel'!$G$132:$K$171,5,FALSE)","v":"WF-4"},"WF",null,null,null,null,null,null,"F86044",null,9688,55,52,51,52,52,12,32,23,23,24,23,24,28,22,20,15,21,16]
["2020-06-01",{"$f":"VLOOKUP(J580,'Control Panel'!$G$132:$K$171,5,FALSE)","v":"WF-5"},"WF",null,null,null,null,null,null,"F86045",null,1996,5,4,4,5,4,5,4,4,4,4,4,4,1,1,1,1,1,1]
["2020-06-01",{"$f":"VLOOKUP(J581,'Control Panel'!$G$132:$K$171,5,FALSE)","v":"WF-7"},"WF",null,null,null,null,null,null,"F86058",null,15571,52,45,45,46,45,23,65,53,49,49,49,49,56,53,49,31,50,34]
["2020-06-01",{"$f":"VLOOKUP(J582,'Control Panel'!$G$132:$K$171,5,FALSE)","v":"WF-7"},"WF",null,null,null,null,null,null,"F86062",null,7290,26,25,25,25,25,8,29,24,21,20,21,22,16,14,14,8,5,8]
["2020-06-01",{"$f":"VLOOKUP(J583,'Control Panel'!$G$132:$K$171,5,FALSE)","v":"WF-2"},"WF",null,null,null,null,null,null,"F86078",null,7119,10,8,8,8,8,4,17,15,14,15,14,14,15,12,12,10,12,11]
["2020-06-01",{"$f":"VLOOKUP(J584,'Control Panel'!$G$132:$K$171,5,FALSE)","v":"WF-6"},"WF",null,null,null,null,null,null,"F86086",null,6340,28,25,25,26,23,7,22,21,21,22,22,22,19,17,16,8,16,12]
["2020-06-01",{"$f":"VLOOKUP(J585,'Control Panel'!$G$132:$K$171,5,FALSE)","v":"WF-4"},"WF",null,null,null,null,null,null,"F86088",null,4840,15,13,12,13,13,2,8,6,7,7,7,7,9,8,8,5,8,5]
["2020-06-01",{"$f":"VLOOKUP(J586,'Control Panel'!$G$132:$K$171,5,FALSE)","v":"WF-6"},"WF",null,null,null,null,null,null,"F86607",null,14019,43,38,38,38,34,13,55,50,47,47,47,46,47,42,43,43,43,42]
["2020-06-01",{"$f":"VLOOKUP(J587,'Control Panel'!$G$132:$K$171,5,FALSE)","v":"WF-2"},"WF",null,null,null,null,null,null,"F86616",null,7314,48,43,43,43,43,7,20,16,18,18,18,17,40,33,34,30,32,32]
["2020-06-01",{"$f":"VLOOKUP(J588,'Control Panel'!$G$132:$K$171,5,FALSE)","v":"WF-5"},"WF",null,null,null,null,null,null,"F86621",null,5936,21,20,20,20,19,12,19,19,19,19,19,19,13,11,13,12,12,12]
["2020-06-01",{"$f":"VLOOKUP(J589,'Control Panel'!$G$132:$K$171,5,FALSE)","v":"WF-5"},"WF",null,null,null,null,null,null,"F86625",null,6151,20,15,14,15,12,4,16,13,13,13,13,13,10,9,10,8,10,8]
["2020-06-01",{"$f":"VLOOKUP(J590,'Control Panel'!$G$132:$K$171,5,FALSE)","v":"WF-1"},"WF",null,null,null,null,null,null,"F86626",null,6084,19,16,17,17,18,9,16,15,11,11,11,11,24,22,20,15,20,16]
["2020-06-01",{"$f":"VLOOKUP(J591,'Control Panel'!$G$132:$K$171,5,FALSE)","v":"WF-2"},"WF",null,null,null,null,null,null,"F86627",null,13563,39,33,34,34,31,5,36,33,32,33,33,32,40,39,36,28,34,28]
["2020-06-01",{"$f":"VLOOKUP(J592,'Control Panel'!$G$132:$K$171,5,FALSE)","v":"WF-6"},"WF",null,null,null,null,null,null,"F86644",null,10322,37,33,33,33,33,7,27,20,19,20,20,20,30,26,27,20,27,25]
["2020-06-01",{"$f":"VLOOKUP(J593,'Control Panel'!$G$132:$K$171,5,FALSE)","v":"WF-4"},"WF",null,null,null,null,null,null,"F86650",null,8175,30,24,25,26,22,16,30,25,22,21,22,21,24,22,20,16,18,16]
["2020-06-01",{"$f":"VLOOKUP(J594,'Control Panel'!$G$132:$K$171,5,FALSE)","v":"WF-1"},"WF",null,null,null,null,null,null,"F86664",null,8449,28,25,25,25,25,3,25,21,20,20,20,20,40,40,37,37,35,37]
["2020-06-01",{"$f":"VLOOKUP(J595,'Control Panel'!$G$132:$K$171,5,FALSE)","v":"WF-5"},"WF",null,null,null,null,null,null,"F86666",null,14835,55,51,49,51,47,28,44,40,38,37,38,39,51,48,45,40,43,43]
["2020-06-01",{"$f":"VLOOKUP(J596,'Control Panel'!$G$132:$K$171,5,FALSE)","v":"WF-7"},"WF",null,null,null,null,null,null,"F86679",null,6081,40,38,38,38,37,16,28,27,26,26,26,26,20,18,19,18,19,18]
["2020-06-01",{"$f":"VLOOKUP(J597,'Control Panel'!$G$132:$K$171,5,FALSE)","v":"WF-1"},"WF",null,null,null,null,null,null,"F86689",null,4328,29,26,25,26,24,10,36,34,34,33,33,33,27,26,25,25,25,24]
["2020-06-01",{"$f":"VLOOKUP(J598,'Control Panel'!$G$132:$K$171,5,FALSE)","v":"WF-4"},"WF",null,null,null,null,null,null,"F86696",null,6116,21,19,19,19,17,4,14,13,13,12,13,12,20,17,16,13,16,14]
["2020-06-01",{"$f":"VLOOKUP(J599,'Control Panel'!$G$132:$K$171,5,FALSE)","v":"WF-1"},"WF",null,null,null,null,null,null,"F86700",null,3929,13,10,9,10,10,7,11,11,11,11,10,11,10,10,8,7,9,7]
["2020-06-01",{"$f":"VLOOKUP(J600,'Control Panel'!$G$132:$K$171,5,FALSE)","v":"WF-5"},"WF",null,null,null,null,null,null,"F86701",null,3544,6,5,5,5,5,3,9,9,8,8,8,8,9,6,6,5,6,5]
["2020-06-01",{"$f":"VLOOKUP(J601,'Control Panel'!$G$132:$K$171,5,FALSE)","v":"WF-5"},"WF",null,null,null,null,null,null,"F86705",null,3400,6,5,5,5,6,5,18,16,15,15,14,14,12,12,12,10,12,10]
["2020-06-01",{"$f":"VLOOKUP(J602,'Control Panel'!$G$132:$K$171,5,FALSE)","v":"WF-6"},"WF",null,null,null,null,null,null,"F86708",null,2813,5,4,4,4,3,3,9,9,8,8,8,8,13,13,12,10,12,10]
["2020-06-01",{"$f":"VLOOKUP(J603,'Control Panel'!$G$132:$K$171,5,FALSE)","v":"WF-4"},"WF",null,null,null,null,null,null,"F86712",null,3339,8,7,7,7,7,4,5,4,4,4,4,4,6,5,6,5,5,5]
["2020-06-01",{"$f":"VLOOKUP(J604,'Control Panel'!$G$132:$K$171,5,FALSE)","v":"WF-2"},"WF",null,null,null,null,null,null,"Y01291",null,8902,32,31,30,31,29,25,27,21,21,21,21,19,30,26,26,22,26,23]
["2020-06-01",{"$f":"VLOOKUP(J605,'Control Panel'!$G$132:$K$171,5,FALSE)","v":"WF-1"},"WF",null,null,null,null,null,null,"Y01839",null,6449,22,22,22,22,21,6,28,23,22,22,23,22,15,7,12,8,12,7]
["2020-06-01",{"$f":"VLOOKUP(J606,'Control Panel'!$G$132:$K$171,5,FALSE)","v":{"$error":"#N/A"}},null,null,null,null,null,null,null,"total",null,266346,943,847,840,858,823,319,920,804,760,760,763,757,840,747,733,594,707,626]
["2020-07-01",{"$f":"VLOOKUP(J607,'Control Panel'!$G$132:$K$171,5,FALSE)","v":{"$error":"#N/A"}},"Childhood Immunisations Q2",null,"Last Run:",null,"Population Count",280611,null,null,"Search","All Patients","(01) 12 MONTH COHORT","(01.01) DTaP/IPV/Hib 6in1","(01.02) Men B (1st and 2nd)","(01.03) PCV","(01.04) Rotavirus","(01.05) BCG","(02) 24 MONTH COHORT","(02.01) DTaP/IPV/Hib Combined","(02.02) MMR","(02.03) HiB/Men C","(02.04) PCV (Booster)","(02.05) Men B (Booster)","(03) 5 YEAR COHORT","(03.01) DTaP/IPV/Hib Combined","(03.02) MMR (Primary)","(03.03) DTaP/IPV (Booster)","(03.04) HiB/Men C","(03.05) MMR (Booster)"]
["2020-07-01",{"$f":"VLOOKUP(J608,'Control Panel'!$G$132:$K$171,5,FALSE)","v":{"$error":"#N/A"}},null,null,"2020-08-03T10:41:00",null,"Males",143691,null,"Organisation Code"]
["2020-07-01",{"$f":"VLOOKUP(J609,'Control Panel'!$G$132:$K$171,5,FALSE)","v":"WF-6"},"WF",null,"Relative Date:",null,"Females",136920,null,"F86001",null,7962,31,25,25,25,26,11,29,27,25,25,25,26,24,21,22,12,21,15]
["2020-07-01",{"$f":"VLOOKUP(J610,'Control Panel'!$G$132:$K$171,5,FALSE)","v":"WF-1"},"WF",null,"2020-08-01",null,null,null,null,"F86005",null,8868,42,37,36,39,36,5,48,40,40,41,40,40,41,36,36,31,36,32]
["2020-07-01",{"$f":"VLOOKUP(J611,'Control Panel'!$G$132:$K$171,5,FALSE)","v":"WF-7"},"WF",null,null,null,null,null,null,"F86006",null,6468,13,11,11,11,11,2,14,13,11,10,10,10,21,20,21,16,20,17]
["2020-07-01",{"$f":"VLOOKUP(J612,'Control Panel'!$G$132:$K$171,5,FALSE)","v":"WF-3"},"WF",null,null,null,null,null,null,"F86011",null,9859,24,22,21,22,23,13,15,14,15,15,15,14,33,28,26,17,27,20]
["2020-07-01",{"$f":"VLOOKUP(J613,'Control Panel'!$G$132:$K$171,5,FALSE)","v":"WF-7"},"WF",null,null,null,null,null,null,"F86030",null,8331,36,29,31,31,27,14,20,20,18,18,18,18,24,23,21,15,22,19]
["2020-07-01",{"$f":"VLOOKUP(J614,'Control Panel'!$G$132:$K$171,5,FALSE)","v":"WF-4"},"WF",null,null,null,null,null,null,"F86036",null,15799,73,68,67,68,64,27,67,62,59,57,58,59,64,61,58,53,60,51]
["2020-07-01",{"$f":"VLOOKUP(J615,'Control Panel'!$G$132:$K$171,5,FALSE)","v":"WF-3"},"WF",null,null,null,null,null,null,"F86038",null,12582,31,24,24,25,25,2,55,52,50,50,50,50,54,50,50,39,48,40]
["2020-07-01",{"$f":"VLOOKUP(J616,'Control Panel'!$G$132:$K$171,5,FALSE)","v":"WF-4"},"WF",null,null,null,null,null,null,"F86044",null,9749,48,45,45,46,45,11,44,34,32,33,33,33,33,29,28,20,28,20]
["2020-07-01",{"$f":"VLOOKUP(J617,'Control Panel'!$G$132:$K$171,5,FALSE)","v":"WF-5"},"WF",null,null,null,null,null,null,"F86045",null,1994,4,2,2,2,4,2,2,2,2,2,2,2,9,8,8,7,8,6]
["2020-07-01",{"$f":"VLOOKUP(J618,'Control Panel'!$G$132:$K$171,5,FALSE)","v":"WF-7"},"WF",null,null,null,null,null,null,"F86058",null,15587,64,54,54,55,58,24,65,55,49,50,49,50,46,42,41,33,41,35]
["2020-07-01",{"$f":"VLOOKUP(J619,'Control Panel'!$G$132:$K$171,5,FALSE)","v":"WF-7"},"WF",null,null,null,null,null,null,"F86062",null,7313,16,13,13,13,14,4,22,18,16,16,16,16,32,26,26,15,25,15]
["2020-07-01",{"$f":"VLOOKUP(J620,'Control Panel'!$G$132:$K$171,5,FALSE)","v":"WF-2"},"WF",null,null,null,null,null,null,"F86078",null,7107,12,11,11,11,11,2,19,17,14,16,16,15,9,9,9,8,9,8]
["2020-07-01",{"$f":"VLOOKUP(J621,'Control Panel'!$G$132:$K$171,5,FALSE)","v":"WF-6"},"WF",null,null,null,null,null,null,"F86086",null,6311,35,29,29,29,32,4,24,18,17,18,17,18,27,24,25,16,24,19]
["2020-07-01",{"$f":"VLOOKUP(J622,'Control Panel'!$G$132:$K$171,5,FALSE)","v":"WF-4"},"WF",null,null,null,null,null,null,"F86088",null,4832,10,9,9,9,9,3,12,11,8,8,8,9,9,8,8,5,8,5]
["2020-07-01",{"$f":"VLOOKUP(J623,'Control Panel'!$G$132:$K$171,5,FALSE)","v":"WF-6"},"WF",null,null,null,null,null,null,"F86607",null,13999,40,34,35,34,34,18,51,47,45,46,45,46,51,45,45,40,42,42]
["2020-07-01",{"$f":"VLOOKUP(J624,'Control Panel'!$G$132:$K$171,5,FALSE)","v":"WF-2"},"WF",null,null,null,null,null,null,"F86616",null,7364,44,40,40,41,40,5,29,25,25,26,26,26,32,27,28,18,27,22]
["2020-07-01",{"$f":"VLOOKUP(J625,'Control Panel'!$G$132:$K$171,5,FALSE)","v":"WF-5"},"WF",null,null,null,null,null,null,"F86621",null,5949,19,17,17,18,18,15,21,19,17,16,16,16,14,14,13,11,13,12]
["2020-07-01",{"$f":"VLOOKUP(J626,'Control Panel'!$G$132:$K$171,5,FALSE)","v":"WF-5"},"WF",null,null,null,null,null,null,"F86625",null,6141,14,11,12,12,11,1,15,9,8,7,7,7,16,14,13,12,14,11]
["2020-07-01",{"$f":"VLOOKUP(J627,'Control Panel'!$G$132:$K$171,5,FALSE)","v":"WF-1"},"WF",null,null,null,null,null,null,"F86626",null,6127,20,17,16,18,18,2,20,16,18,17,18,16,25,24,23,21,23,21]
["2020-07-01",{"$f":"VLOOKUP(J628,'Control Panel'!$G$132:$K$171,5,FALSE)","v":"WF-2"},"WF",null,null,null,null,null,null,"F86627",null,13552,24,20,20,20,19,6,36,34,29,30,30,31,32,32,30,28,31,27]
["2020-07-01",{"$f":"VLOOKUP(J629,'Control Panel'!$G$132:$K$171,5,FALSE)","v":"WF-6"},"WF",null,null,null,null,null,null,"F86644",null,10253,39,34,36,36,35,11,23,21,21,21,21,21,29,26,23,23,26,23]
["2020-07-01",{"$f":"VLOOKUP(J630,'Control Panel'!$G$132:$K$171,5,FALSE)","v":"WF-4"},"WF",null,null,null,null,null,null,"F86650",null,8143,24,21,21,21,19,5,34,33,29,29,30,30,30,26,25,15,25,15]
["2020-07-01",{"$f":"VLOOKUP(J631,'Control Panel'!$G$132:$K$171,5,FALSE)","v":"WF-1"},"WF",null,null,null,null,null,null,"F86664",null,8449,32,30,30,30,30,7,34,31,29,30,30,30,33,32,31,28,32,28]
["2020-07-01",{"$f":"VLOOKUP(J632,'Control Panel'!$G$132:$K$171,5,FALSE)","v":"WF-5"},"WF",null,null,null,null,null,null,"F86666",null,14862,49,44,43,45,43,23,47,41,42,41,42,41,39,31,32,30,31,29]
["2020-07-01",{"$f":"VLOOKUP(J633,'Control Panel'!$G$132:$K$171,5,FALSE)","v":"WF-7"},"WF",null,null,null,null,null,null,"F86679",null,6094,28,27,27,27,25,11,31,29,29,29,28,28,30,29,28,24,28,25]
["2020-07-01",{"$f":"VLOOKUP(J634,'Control Panel'!$G$132:$K$171,5,FALSE)","v":"WF-1"},"WF",null,null,null,null,null,null,"F86689",null,4339,23,21,21,21,21,12,33,32,32,31,31,31,25,24,25,22,24,24]
["2020-07-01",{"$f":"VLOOKUP(J635,'Control Panel'!$G$132:$K$171,5,FALSE)","v":"WF-4"},"WF",null,null,null,null,null,null,"F86696",null,6121,30,28,28,27,27,4,16,15,15,15,15,15,18,18,18,9,17,10]
["2020-07-01",{"$f":"VLOOKUP(J636,'Control Panel'!$G$132:$K$171,5,FALSE)","v":"WF-1"},"WF",null,null,null,null,null,null,"F86700",null,3948,11,10,10,10,10,3,11,8,8,8,8,8,14,12,12,13,12,13]
["2020-07-01",{"$f":"VLOOKUP(J637,'Control Panel'!$G$132:$K$171,5,FALSE)","v":"WF-5"},"WF",null,null,null,null,null,null,"F86701",null,3560,16,12,12,12,13,4,15,14,13,13,13,13,10,9,9,7,9,7]
["2020-07-01",{"$f":"VLOOKUP(J638,'Control Panel'!$G$132:$K$171,5,FALSE)","v":"WF-5"},"WF",null,null,null,null,null,null,"F86705",null,3416,7,7,7,7,7,6,10,10,9,10,9,10,9,9,9,9,8,9]
["2020-07-01",{"$f":"VLOOKUP(J639,'Control Panel'!$G$132:$K$171,5,FALSE)","v":"WF-6"},"WF",null,null,null,null,null,null,"F86708",null,2821,10,8,9,9,6,0,7,6,4,3,4,4,9,9,8,6,8,6]
["2020-07-01",{"$f":"VLOOKUP(J640,'Control Panel'!$G$132:$K$171,5,FALSE)","v":"WF-4"},"WF",null,null,null,null,null,null,"F86712",null,3331,5,5,5,5,5,2,18,16,16,16,16,16,7,4,5,5,5,5]
["2020-07-01",{"$f":"VLOOKUP(J641,'Control Panel'!$G$132:$K$171,5,FALSE)","v":"WF-2"},"WF",null,null,null,null,null,null,"Y01291",null,8917,24,22,22,22,19,14,30,29,28,28,29,27,26,25,25,23,25,24]
["2020-07-01",{"$f":"VLOOKUP(J642,'Control Panel'!$G$132:$K$171,5,FALSE)","v":"WF-1"},"WF",null,null,null,null,null,null,"Y01839",null,6452,12,9,9,9,8,6,25,24,22,22,22,22,27,24,24,20,24,21]
["2020-07-01",{"$f":"VLOOKUP(J643,'Control Panel'!$G$132:$K$171,5,FALSE)","v":{"$error":"#N/A"}},null,null,null,null,null,null,null,"total",null,266600,910,796,798,810,793,279,942,842,795,797,797,798,902,819,805,651,801,676]
["2020-08-01",{"$f":"VLOOKUP(J644,'Control Panel'!$G$132:$K$171,5,FALSE)","v":{"$error":"#N/A"}},"Childhood Immunisations Q2",null,"Last Run:",null,"Population Count",280568,null,null,"Search","All Patients","(01) 12 MONTH COHORT","(01.01) DTaP/IPV/Hib 6in1","(01.02) Men B (1st and 2nd)","(01.03) PCV","(01.04) Rotavirus","(01.05) BCG","(02) 24 MONTH COHORT","(02.01) DTaP/IPV/Hib Combined","(02.02) MMR","(02.03) HiB/Men C","(02.04) PCV (Booster)","(02.05) Men B (Booster)","(03) 5 YEAR COHORT","(03.01) DTaP/IPV/Hib Combined","(03.02) MMR (Primary)","(03.03) DTaP/IPV (Booster)","(03.04) HiB/Men C","(03.05) MMR (Booster)"]
["2020-08-01",{"$f":"VLOOKUP(J645,'Control Panel'!$G$132:$K$171,5,FALSE)","v":{"$error":"#N/A"}},null,null,"2020-09-03T10:47:00",null,"Males",143710,null,"Organisation Code"]
["2020-08-01",{"$f":"VLOOKUP(J646,'Control Panel'!$G$132:$K$171,5,FALSE)","v":"WF-6"},"WF",null,"Relative Date:",null,"Females",136858,null,"F86001",null,7947,31,25,25,25,26,12,28,26,24,24,24,25,24,21,22,12,21,15]
["2020-08-01",{"$f":"VLOOKUP(J647,'Control Panel'!$G$132:$K$171,5,FALSE)","v":"WF-1"},"WF",null,"2020-09-01",null,null,null,null,"F86005",null,8890,42,37,36,39,36,5,48,40,40,41,40,40,41,36,36,31,36,32]
["2020-08-01",{"$f":"VLOOKUP(J648,'Control Panel'!$G$132:$K$171,5,FALSE)","v":"WF-7"},"WF",null,null,null,null,null,null,"F86006",null,6472,13,10,10,10,10,1,13,13,11,10,10,10,21,20,21,16,20,17]
["2020-08-01",{"$f":"VLOOKUP(J649,'Control Panel'!$G$132:$K$171,5,FALSE)","v":"WF-3"},"WF",null,null,null,null,null,null,"F86011",null,9862,24,22,21,22,23,13,15,14,15,15,15,14,33,28,26,17,27,20]
["2020-08-01",{"$f":"VLOOKUP(J650,'Control Panel'!$G$132:$K$171,5,FALSE)","v":"WF-7"},"WF",null,null,null,null,null,null,"F86030",null,8305,36,29,31,31,27,14,20,20,18,18,18,18,24,23,21,15,22,19]
["2020-08-01",{"$f":"VLOOKUP(J651,'Control Panel'!$G$132:$K$171,5,FALSE)","v":"WF-4"},"WF",null,null,null,null,null,null,"F86036",null,15769,72,67,66,67,63,29,67,62,60,58,59,59,64,61,58,54,60,52]
["2020-08-01",{"$f":"VLOOKUP(J652,'Control Panel'!$G$132:$K$171,5,FALSE)","v":"WF-3"},"WF",null,null,null,null,null,null,"F86038",null,12560,30,23,23,24,24,2,55,52,50,50,50,50,53,49,49,38,47,39]
["2020-08-01",{"$f":"VLOOKUP(J653,'Control Panel'!$G$132:$K$171,5,FALSE)","v":"WF-4"},"WF",null,null,null,null,null,null,"F86044",null,9768,48,45,45,46,45,11,44,33,32,33,33,33,33,29,28,20,28,20]
["2020-08-01",{"$f":"VLOOKUP(J654,'Control Panel'!$G$132:$K$171,5,FALSE)","v":"WF-5"},"WF",null,null,null,null,null,null,"F86045",null,1999,4,2,2,2,4,2,2,2,2,2,2,2,9,8,8,7,8,6]
["2020-08-01",{"$f":"VLOOKUP(J655,'Control Panel'!$G$132:$K$171,5,FALSE)","v":"WF-7"},"WF",null,null,null,null,null,null,"F86058",null,15559,63,53,53,54,57,24,64,54,48,49,48,49,45,41,40,32,40,34]
["2020-08-01",{"$f":"VLOOKUP(J656,'Control Panel'!$G$132:$K$171,5,FALSE)","v":"WF-7"},"WF",null,null,null,null,null,null,"F86062",null,7331,17,14,14,14,15,4,21,18,15,15,15,15,32,26,26,15,25,15]
["2020-08-01",{"$f":"VLOOKUP(J657,'Control Panel'!$G$132:$K$171,5,FALSE)","v":"WF-2"},"WF",null,null,null,null,null,null,"F86078",null,7100,12,11,11,11,11,2,18,17,14,16,16,15,9,9,9,9,9,9]
["2020-08-01",{"$f":"VLOOKUP(J658,'Control Panel'!$G$132:$K$171,5,FALSE)","v":"WF-6"},"WF",null,null,null,null,null,null,"F86086",null,6313,35,29,29,29,32,4,24,18,17,18,17,18,28,25,26,17,25,20]
["2020-08-01",{"$f":"VLOOKUP(J659,'Control Panel'!$G$132:$K$171,5,FALSE)","v":"WF-4"},"WF",null,null,null,null,null,null,"F86088",null,4834,10,9,9,9,9,3,12,11,8,8,8,9,9,8,8,5,8,5]
["2020-08-01",{"$f":"VLOOKUP(J660,'Control Panel'!$G$132:$K$171,5,FALSE)","v":"WF-6"},"WF",null,null,null,null,null,null,"F86607",null,14021,40,34,35,34,34,18,50,46,44,45,44,45,51,45,45,40,42,42]
["2020-08-01",{"$f":"VLOOKUP(J661,'Control Panel'!$G$132:$K$171,5,FALSE)","v":"WF-2"},"WF",null,null,null,null,null,null,"F86616",null,7357,44,40,40,41,40,5,28,25,25,26,26,26,32,27,28,18,27,22]
["2020-08-01",{"$f":"VLOOKUP(J662,'Control Panel'!$G$132:$K$171,5,FALSE)","v":"WF-5"},"WF",null,null,null,null,null,null,"F86621",null,5942,18,16,16,17,17,14,21,19,17,16,16,16,14,14,13,11,13,12]
["2020-08-01",{"$f":"VLOOKUP(J663,'Control Panel'!$G$132:$K$171,5,FALSE)","v":"WF-5"},"WF",null,null,null,null,null,null,"F86625",null,6106,14,11,12,12,11,1,15,9,8,7,7,7,16,14,13,12,14,11]
["2020-08-01",{"$f":"VLOOKUP(J664,'Control Panel'!$G$132:$K$171,5,FALSE)","v":"WF-1"},"WF",null,null,null,null,null,null,"F86626",null,6192,20,17,16,18,18,2,21,20,21,19,20,20,25,24,23,21,23,21]
["2020-08-01",{"$f":"VLOOKUP(J665,'Control Panel'!$G$132:$K$171,5,FALSE)","v":"WF-2"},"WF",null,null,null,null,null,null,"F86627",null,13571,24,20,21,21,19,6,36,34,29,30,30,31,32,32,30,28,31,27]
["2020-08-01",{"$f":"VLOOKUP(J666,'Control Panel'!$G$132:$K$171,5,FALSE)","v":"WF-6"},"WF",null,null,null,null,null,null,"F86644",null,10207,39,34,36,36,35,11,22,20,20,20,20,20,28,25,22,22,25,22]
["2020-08-01",{"$f":"VLOOKUP(J667,'Control Panel'!$G$132:$K$171,5,FALSE)","v":"WF-4"},"WF",null,null,null,null,null,null,"F86650",null,8137,24,21,21,21,19,5,34,33,29,29,30,30,30,26,25,15,25,15]
["2020-08-01",{"$f":"VLOOKUP(J668,'Control Panel'!$G$132:$K$171,5,FALSE)","v":"WF-1"},"WF",null,null,null,null,null,null,"F86664",null,8456,32,30,30,30,30,7,34,31,29,30,30,30,33,32,31,28,32,28]
["2020-08-01",{"$f":"VLOOKUP(J669,'Control Panel'!$G$132:$K$171,5,FALSE)","v":"WF-5"},"WF",null,null,null,null,null,null,"F86666",null,14878,49,44,43,45,43,23,47,41,42,41,42,41,39,31,32,30,31,29]
["2020-08-01",{"$f":"VLOOKUP(J670,'Control Panel'!$G$132:$K$171,5,FALSE)","v":"WF-7"},"WF",null,null,null,null,null,null,"F86679",null,6089,28,27,27,27,25,11,31,29,29,29,28,29,30,29,28,24,28,25]
["2020-08-01",{"$f":"VLOOKUP(J671,'Control Panel'!$G$132:$K$171,5,FALSE)","v":"WF-1"},"WF",null,null,null,null,null,null,"F86689",null,4345,23,21,21,21,21,12,33,32,32,31,31,31,25,24,25,22,24,24]
["2020-08-01",{"$f":"VLOOKUP(J672,'Control Panel'!$G$132:$K$171,5,FALSE)","v":"WF-4"},"WF",null,null,null,null,null,null,"F86696",null,6162,30,28,28,27,27,4,16,15,15,15,15,15,17,17,17,11,16,12]
["2020-08-01",{"$f":"VLOOKUP(J673,'Control Panel'!$G$132:$K$171,5,FALSE)","v":"WF-1"},"WF",null,null,null,null,null,null,"F86700",null,3931,11,10,10,10,10,3,10,7,7,7,7,7,14,12,12,13,12,13]
["2020-08-01",{"$f":"VLOOKUP(J674,'Control Panel'!$G$132:$K$171,5,FALSE)","v":"WF-5"},"WF",null,null,null,null,null,null,"F86701",null,3560,16,12,12,12,13,4,15,14,13,13,13,13,10,9,9,7,9,7]
["2020-08-01",{"$f":"VLOOKUP(J675,'Control Panel'!$G$132:$K$171,5,FALSE)","v":"WF-5"},"WF",null,null,null,null,null,null,"F86705",null,3399,8,8,8,8,8,6,10,10,9,10,9,10,9,9,9,9,8,9]
["2020-08-01",{"$f":"VLOOKUP(J676,'Control Panel'!$G$132:$K$171,5,FALSE)","v":"WF-6"},"WF",null,null,null,null,null,null,"F86708",null,2811,10,8,9,9,6,0,7,6,4,3,4,4,9,9,8,6,8,6]
["2020-08-01",{"$f":"VLOOKUP(J677,'Control Panel'!$G$132:$K$171,5,FALSE)","v":"WF-4"},"WF",null,null,null,null,null,null,"F86712",null,3345,5,5,5,5,5,2,18,16,16,16,16,16,7,4,5,5,5,5]
["2020-08-01",{"$f":"VLOOKUP(J678,'Control Panel'!$G$132:$K$171,5,FALSE)","v":"WF-2"},"WF",null,null,null,null,null,null,"Y01291",null,8930,24,22,22,22,19,14,30,29,28,28,29,27,26,25,25,23,25,24]
["2020-08-01",{"$f":"VLOOKUP(J679,'Control Panel'!$G$132:$K$171,5,FALSE)","v":"WF-1"},"WF",null,null,null,null,null,null,"Y01839",null,6447,12,9,9,9,8,6,25,24,22,22,22,22,27,24,24,20,24,21]
["2020-08-01",{"$f":"VLOOKUP(J680,'Control Panel'!$G$132:$K$171,5,FALSE)","v":{"$error":"#N/A"}},null,null,null,null,null,null,null,"total",null,266595,908,793,796,808,790,280,934,840,793,794,794,797,899,816,802,653,798,678]
["2020-09-01",{"$f":"VLOOKUP(J681,'Control Panel'!$G$132:$K$171,5,FALSE)","v":{"$error":"#N/A"}},"Childhood Immunisations Q2",null,"Last Run:",null,"Population Count",280186,null,null,"Search","All Patients","(01) 12 MONTH COHORT","(01.01) DTaP/IPV/Hib 6in1","(01.02) Men B (1st and 2nd)","(01.03) PCV","(01.04) Rotavirus","(01.05) BCG","(02) 24 MONTH COHORT","(02.01) DTaP/IPV/Hib Combined","(02.02) MMR","(02.03) HiB/Men C","(02.04) PCV (Booster)","(02.05) Men B (Booster)","(03) 5 YEAR COHORT","(03.01) DTaP/IPV/Hib Combined","(03.02) MMR (Primary)","(03.03) DTaP/IPV (Booster)","(03.04) HiB/Men C","(03.05) MMR (Booster)"]
["2020-09-01",{"$f":"VLOOKUP(J682,'Control Panel'!$G$132:$K$171,5,FALSE)","v":{"$error":"#N/A"}},null,null,"2020-10-02T11:58:00",null,"Males",143534,null,"Organisation Code"]
["2020-09-01",{"$f":"VLOOKUP(J683,'Control Panel'!$G$132:$K$171,5,FALSE)","v":"WF-6"},"WF",null,"Relative Date:",null,"Females",136652,null,"F86001",null,7941,31,25,25,25,26,12,29,27,25,25,25,26,24,21,22,12,21,15]
["2020-09-01",{"$f":"VLOOKUP(J684,'Control Panel'!$G$132:$K$171,5,FALSE)","v":"WF-1"},"WF",null,"2020-10-01",null,null,null,null,"F86005",null,8928,43,38,37,39,36,5,48,40,40,41,40,40,41,36,36,31,36,32]
["2020-09-01",{"$f":"VLOOKUP(J685,'Control Panel'!$G$132:$K$171,5,FALSE)","v":"WF-7"},"WF",null,null,null,null,null,null,"F86006",null,6483,12,9,9,9,9,1,13,13,11,10,10,10,21,20,21,16,20,17]
["2020-09-01",{"$f":"VLOOKUP(J686,'Control Panel'!$G$132:$K$171,5,FALSE)","v":"WF-3"},"WF",null,null,null,null,null,null,"F86011",null,9869,23,21,20,21,22,13,16,15,16,16,16,15,33,28,26,17,27,20]
["2020-09-01",{"$f":"VLOOKUP(J687,'Control Panel'!$G$132:$K$171,5,FALSE)","v":"WF-7"},"WF",null,null,null,null,null,null,"F86030",null,8316,37,30,32,32,28,15,21,20,18,18,18,18,24,23,21,15,22,19]
["2020-09-01",{"$f":"VLOOKUP(J688,'Control Panel'!$G$132:$K$171,5,FALSE)","v":"WF-4"},"WF",null,null,null,null,null,null,"F86036",null,15777,70,65,64,65,61,28,67,62,60,58,59,59,64,61,58,55,60,53]
["2020-09-01",{"$f":"VLOOKUP(J689,'Control Panel'!$G$132:$K$171,5,FALSE)","v":"WF-3"},"WF",null,null,null,null,null,null,"F86038",null,12204,30,23,24,25,24,2,54,51,48,48,48,48,51,47,47,36,45,37]
["2020-09-01",{"$f":"VLOOKUP(J690,'Control Panel'!$G$132:$K$171,5,FALSE)","v":"WF-4"},"WF",null,null,null,null,null,null,"F86044",null,9769,47,44,44,45,44,11,42,31,30,31,31,31,33,29,28,20,28,20]
["2020-09-01",{"$f":"VLOOKUP(J691,'Control Panel'!$G$132:$K$171,5,FALSE)","v":"WF-5"},"WF",null,null,null,null,null,null,"F86045",null,1996,4,3,3,3,4,2,2,2,2,2,2,2,9,8,8,7,8,6]
["2020-09-01",{"$f":"VLOOKUP(J692,'Control Panel'!$G$132:$K$171,5,FALSE)","v":"WF-7"},"WF",null,null,null,null,null,null,"F86058",null,15508,63,55,55,55,57,23,64,54,48,49,48,49,45,41,40,32,40,34]
["2020-09-01",{"$f":"VLOOKUP(J693,'Control Panel'!$G$132:$K$171,5,FALSE)","v":"WF-7"},"WF",null,null,null,null,null,null,"F86062",null,7332,17,14,14,14,15,4,21,18,15,15,15,15,32,26,26,15,26,15]
["2020-09-01",{"$f":"VLOOKUP(J694,'Control Panel'!$G$132:$K$171,5,FALSE)","v":"WF-2"},"WF",null,null,null,null,null,null,"F86078",null,7081,12,11,11,11,11,2,18,17,14,16,16,15,9,9,9,9,9,9]
["2020-09-01",{"$f":"VLOOKUP(J695,'Control Panel'!$G$132:$K$171,5,FALSE)","v":"WF-6"},"WF",null,null,null,null,null,null,"F86086",null,6298,35,29,29,29,32,4,24,18,17,18,17,18,28,25,26,17,25,20]
["2020-09-01",{"$f":"VLOOKUP(J696,'Control Panel'!$G$132:$K$171,5,FALSE)","v":"WF-4"},"WF",null,null,null,null,null,null,"F86088",null,4826,9,8,8,8,8,3,12,11,8,8,8,9,9,8,8,5,8,5]
["2020-09-01",{"$f":"VLOOKUP(J697,'Control Panel'!$G$132:$K$171,5,FALSE)","v":"WF-6"},"WF",null,null,null,null,null,null,"F86607",null,14018,39,33,34,33,33,17,49,45,43,44,43,44,51,45,45,40,42,42]
["2020-09-01",{"$f":"VLOOKUP(J698,'Control Panel'!$G$132:$K$171,5,FALSE)","v":"WF-2"},"WF",null,null,null,null,null,null,"F86616",null,7403,44,40,40,41,40,5,28,25,25,26,26,26,33,28,28,18,28,22]
["2020-09-01",{"$f":"VLOOKUP(J699,'Control Panel'!$G$132:$K$171,5,FALSE)","v":"WF-5"},"WF",null,null,null,null,null,null,"F86621",null,5953,18,16,16,17,17,14,20,18,17,16,16,16,14,14,13,11,13,12]
["2020-09-01",{"$f":"VLOOKUP(J700,'Control Panel'!$G$132:$K$171,5,FALSE)","v":"WF-5"},"WF",null,null,null,null,null,null,"F86625",null,6087,14,11,12,12,11,1,16,10,8,7,7,7,16,14,13,12,14,11]
["2020-09-01",{"$f":"VLOOKUP(J701,'Control Panel'!$G$132:$K$171,5,FALSE)","v":"WF-1"},"WF",null,null,null,null,null,null,"F86626",null,6255,20,17,16,18,18,2,21,20,21,19,20,20,27,24,23,21,23,21]
["2020-09-01",{"$f":"VLOOKUP(J702,'Control Panel'!$G$132:$K$171,5,FALSE)","v":"WF-2"},"WF",null,null,null,null,null,null,"F86627",null,13537,24,20,21,21,19,6,36,34,29,30,30,31,31,31,29,27,30,26]
["2020-09-01",{"$f":"VLOOKUP(J703,'Control Panel'!$G$132:$K$171,5,FALSE)","v":"WF-6"},"WF",null,null,null,null,null,null,"F86644",null,10223,38,34,36,36,35,10,22,20,20,20,20,20,27,24,21,22,24,22]
["2020-09-01",{"$f":"VLOOKUP(J704,'Control Panel'!$G$132:$K$171,5,FALSE)","v":"WF-4"},"WF",null,null,null,null,null,null,"F86650",null,8127,24,21,21,21,19,5,33,32,28,28,30,30,30,26,25,17,25,17]
["2020-09-01",{"$f":"VLOOKUP(J705,'Control Panel'!$G$132:$K$171,5,FALSE)","v":"WF-1"},"WF",null,null,null,null,null,null,"F86664",null,8477,32,30,30,30,30,7,35,32,30,31,31,31,33,32,31,28,32,28]
["2020-09-01",{"$f":"VLOOKUP(J706,'Control Panel'!$G$132:$K$171,5,FALSE)","v":"WF-5"},"WF",null,null,null,null,null,null,"F86666",null,14859,50,45,44,46,44,23,47,41,42,41,42,41,39,31,32,30,31,29]
["2020-09-01",{"$f":"VLOOKUP(J707,'Control Panel'!$G$132:$K$171,5,FALSE)","v":"WF-7"},"WF",null,null,null,null,null,null,"F86679",null,6060,28,27,27,27,25,11,30,28,28,28,27,28,29,28,27,23,27,24]
["2020-09-01",{"$f":"VLOOKUP(J708,'Control Panel'!$G$132:$K$171,5,FALSE)","v":"WF-1"},"WF",null,null,null,null,null,null,"F86689",null,4352,24,22,22,22,22,13,33,32,32,31,31,31,25,24,25,22,24,24]
["2020-09-01",{"$f":"VLOOKUP(J709,'Control Panel'!$G$132:$K$171,5,FALSE)","v":"WF-4"},"WF",null,null,null,null,null,null,"F86696",null,6208,30,28,28,27,27,4,17,16,16,16,16,16,17,17,17,11,16,12]
["2020-09-01",{"$f":"VLOOKUP(J710,'Control Panel'!$G$132:$K$171,5,FALSE)","v":"WF-1"},"WF",null,null,null,null,null,null,"F86700",null,3927,11,10,10,10,10,3,10,7,7,7,7,7,14,12,12,13,12,13]
["2020-09-01",{"$f":"VLOOKUP(J711,'Control Panel'!$G$132:$K$171,5,FALSE)","v":"WF-5"},"WF",null,null,null,null,null,null,"F86701",null,3572,16,12,12,12,13,4,15,14,13,13,13,13,10,9,9,7,9,7]
["2020-09-01",{"$f":"VLOOKUP(J712,'Control Panel'!$G$132:$K$171,5,FALSE)","v":"WF-5"},"WF",null,null,null,null,null,null,"F86705",null,3415,8,8,8,8,8,7,10,10,9,10,9,10,9,9,9,9,8,9]
["2020-09-01",{"$f":"VLOOKUP(J713,'Control Panel'!$G$132:$K$171,5,FALSE)","v":"WF-6"},"WF",null,null,null,null,null,null,"F86708",null,2786,9,8,8,8,6,1,7,6,4,3,4,4,9,9,8,6,8,6]
["2020-09-01",{"$f":"VLOOKUP(J714,'Control Panel'!$G$132:$K$171,5,FALSE)","v":"WF-4"},"WF",null,null,null,null,null,null,"F86712",null,3335,5,5,5,5,5,2,18,16,16,16,16,16,7,4,5,5,5,5]
["2020-09-01",{"$f":"VLOOKUP(J715,'Control Panel'!$G$132:$K$171,5,FALSE)","v":"WF-2"},"WF",null,null,null,null,null,null,"Y01291",null,8921,23,21,21,21,19,13,30,29,28,28,29,27,25,24,24,22,24,23]
["2020-09-01",{"$f":"VLOOKUP(J716,'Control Panel'!$G$132:$K$171,5,FALSE)","v":"WF-1"},"WF",null,null,null,null,null,null,"Y01839",null,6427,12,9,9,9,8,6,24,23,21,21,21,21,27,24,24,20,24,21]
["2020-09-01",{"$f":"VLOOKUP(J717,'Control Panel'!$G$132:$K$171,5,FALSE)","v":{"$error":"#N/A"}},null,null,null,null,null,null,null,"total",null,266270,902,792,795,805,786,279,932,837,789,790,791,794,896,811,796,651,794,676]
["2020-10-01",{"$f":"VLOOKUP(J718,'Control Panel'!$G$132:$K$171,5,FALSE)","v":{"$error":"#N/A"}},"Childhood Immunisations Q3",null,"Last Run:",null,"Population Count",280284,null,null,"Search","All Patients","(01) 12 MONTH COHORT","(01.01) DTaP/IPV/Hib 6in1","(01.02) Men B (1st and 2nd)","(01.03) PCV","(01.04) Rotavirus","(01.05) BCG","(02) 24 MONTH COHORT","(02.01) DTaP/IPV/Hib Combined","(02.02) MMR","(02.03) HiB/Men C","(02.04) PCV (Booster)","(02.05) Men B (Booster)","(03) 5 YEAR COHORT","(03.01) DTaP/IPV/Hib Combined","(03.02) MMR (Primary)","(03.03) DTaP/IPV (Booster)","(03.04) HiB/Men C","(03.05) MMR (Booster)"]
["2020-10-01",{"$f":"VLOOKUP(J719,'Control Panel'!$G$132:$K$171,5,FALSE)","v":{"$error":"#N/A"}},null,null,"2020-11-02T10:16:00",null,"Males",143412,null,"Organisation Code"]
["2020-10-01",{"$f":"VLOOKUP(J720,'Control Panel'!$G$132:$K$171,5,FALSE)","v":"WF-6"},"WF",null,"Relative Date:",null,"Females",136872,null,"F86001",null,7933,25,22,22,20,20,11,25,23,21,21,21,21,44,38,38,26,38,26]
["2020-10-01",{"$f":"VLOOKUP(J721,'Control Panel'!$G$132:$K$171,5,FALSE)","v":"WF-1"},"WF",null,"2020-11-01",null,null,null,null,"F86005",null,8959,48,44,45,44,44,5,53,50,46,46,47,46,22,17,18,16,19,16]
["2020-10-01",{"$f":"VLOOKUP(J722,'Control Panel'!$G$132:$K$171,5,FALSE)","v":"WF-7"},"WF",null,null,null,null,null,null,"F86006",null,6514,20,16,16,15,17,3,13,11,10,10,10,10,27,26,26,22,26,23]
["2020-10-01",{"$f":"VLOOKUP(J723,'Control Panel'!$G$132:$K$171,5,FALSE)","v":"WF-3"},"WF",null,null,null,null,null,null,"F86011",null,9845,20,15,16,15,15,9,24,18,19,19,19,17,29,26,25,21,25,22]
["2020-10-01",{"$f":"VLOOKUP(J724,'Control Panel'!$G$132:$K$171,5,FALSE)","v":"WF-7"},"WF",null,null,null,null,null,null,"F86030",null,8294,36,36,36,36,31,22,30,30,29,28,28,29,22,20,18,14,17,16]
["2020-10-01",{"$f":"VLOOKUP(J725,'Control Panel'!$G$132:$K$171,5,FALSE)","v":"WF-4"},"WF",null,null,null,null,null,null,"F86036",null,15795,48,39,39,40,39,17,63,59,53,53,53,54,48,46,45,41,46,41]
["2020-10-01",{"$f":"VLOOKUP(J726,'Control Panel'!$G$132:$K$171,5,FALSE)","v":"WF-3"},"WF",null,null,null,null,null,null,"F86038",null,12058,43,40,40,38,39,10,34,32,26,27,28,28,40,36,34,32,35,33]
["2020-10-01",{"$f":"VLOOKUP(J727,'Control Panel'!$G$132:$K$171,5,FALSE)","v":"WF-4"},"WF",null,null,null,null,null,null,"F86044",null,9841,47,44,44,44,45,11,50,45,38,37,39,38,36,30,29,26,29,26]
["2020-10-01",{"$f":"VLOOKUP(J728,'Control Panel'!$G$132:$K$171,5,FALSE)","v":"WF-5"},"WF",null,null,null,null,null,null,"F86045",null,1986,2,2,2,2,2,1,6,5,6,6,6,6,5,5,4,4,4,4]
["2020-10-01",{"$f":"VLOOKUP(J729,'Control Panel'!$G$132:$K$171,5,FALSE)","v":"WF-7"},"WF",null,null,null,null,null,null,"F86058",null,15598,71,56,57,55,66,24,63,54,48,48,48,48,72,63,63,46,63,47]
["2020-10-01",{"$f":"VLOOKUP(J730,'Control Panel'!$G$132:$K$171,5,FALSE)","v":"WF-7"},"WF",null,null,null,null,null,null,"F86062",null,7323,27,17,18,18,25,11,18,17,14,14,15,16,16,13,14,7,14,8]
["2020-10-01",{"$f":"VLOOKUP(J731,'Control Panel'!$G$132:$K$171,5,FALSE)","v":"WF-2"},"WF",null,null,null,null,null,null,"F86078",null,7057,9,8,8,8,8,5,10,10,9,10,10,10,24,23,22,20,22,20]
["2020-10-01",{"$f":"VLOOKUP(J732,'Control Panel'!$G$132:$K$171,5,FALSE)","v":"WF-6"},"WF",null,null,null,null,null,null,"F86086",null,6301,31,27,27,22,26,12,29,27,26,25,24,25,27,25,24,14,24,19]
["2020-10-01",{"$f":"VLOOKUP(J733,'Control Panel'!$G$132:$K$171,5,FALSE)","v":"WF-4"},"WF",null,null,null,null,null,null,"F86088",null,4809,9,8,8,8,8,2,12,11,10,10,10,10,16,14,13,12,14,12]
["2020-10-01",{"$f":"VLOOKUP(J734,'Control Panel'!$G$132:$K$171,5,FALSE)","v":"WF-6"},"WF",null,null,null,null,null,null,"F86607",null,14080,55,42,46,45,46,23,48,43,42,43,43,43,47,45,45,45,45,46]
["2020-10-01",{"$f":"VLOOKUP(J735,'Control Panel'!$G$132:$K$171,5,FALSE)","v":"WF-2"},"WF",null,null,null,null,null,null,"F86616",null,7438,29,24,24,23,25,7,38,31,29,29,29,30,25,22,22,19,22,19]
["2020-10-01",{"$f":"VLOOKUP(J736,'Control Panel'!$G$132:$K$171,5,FALSE)","v":"WF-5"},"WF",null,null,null,null,null,null,"F86621",null,5987,17,15,15,14,13,10,26,24,22,21,21,21,13,13,13,10,13,11]
["2020-10-01",{"$f":"VLOOKUP(J737,'Control Panel'!$G$132:$K$171,5,FALSE)","v":"WF-5"},"WF",null,null,null,null,null,null,"F86625",null,6041,16,13,12,12,11,2,18,15,9,10,11,11,16,15,16,13,16,13]
["2020-10-01",{"$f":"VLOOKUP(J738,'Control Panel'!$G$132:$K$171,5,FALSE)","v":"WF-1"},"WF",null,null,null,null,null,null,"F86626",null,6302,36,30,30,30,33,7,17,15,14,14,15,14,18,17,17,16,18,16]
["2020-10-01",{"$f":"VLOOKUP(J739,'Control Panel'!$G$132:$K$171,5,FALSE)","v":"WF-2"},"WF",null,null,null,null,null,null,"F86627",null,13571,29,27,27,26,26,10,39,35,35,35,35,35,39,35,32,25,32,25]
["2020-10-01",{"$f":"VLOOKUP(J740,'Control Panel'!$G$132:$K$171,5,FALSE)","v":"WF-6"},"WF",null,null,null,null,null,null,"F86644",null,10196,13,12,12,12,12,2,28,25,25,24,24,23,31,28,27,26,26,28]
["2020-10-01",{"$f":"VLOOKUP(J741,'Control Panel'!$G$132:$K$171,5,FALSE)","v":"WF-4"},"WF",null,null,null,null,null,null,"F86650",null,8132,28,24,24,23,21,9,29,23,22,23,23,23,30,28,28,23,28,24]
["2020-10-01",{"$f":"VLOOKUP(J742,'Control Panel'!$G$132:$K$171,5,FALSE)","v":"WF-1"},"WF",null,null,null,null,null,null,"F86664",null,8519,30,26,26,25,27,5,23,20,19,19,19,18,20,18,14,13,14,13]
["2020-10-01",{"$f":"VLOOKUP(J743,'Control Panel'!$G$132:$K$171,5,FALSE)","v":"WF-5"},"WF",null,null,null,null,null,null,"F86666",null,14873,50,37,39,35,38,19,36,32,32,33,32,33,62,55,54,51,52,53]
["2020-10-01",{"$f":"VLOOKUP(J744,'Control Panel'!$G$132:$K$171,5,FALSE)","v":"WF-7"},"WF",null,null,null,null,null,null,"F86679",null,6057,33,30,30,30,31,13,37,33,30,31,32,31,22,20,21,19,21,19]
["2020-10-01",{"$f":"VLOOKUP(J745,'Control Panel'!$G$132:$K$171,5,FALSE)","v":"WF-1"},"WF",null,null,null,null,null,null,"F86689",null,4352,20,19,18,17,19,4,25,25,25,25,25,25,24,20,22,18,20,21]
["2020-10-01",{"$f":"VLOOKUP(J746,'Control Panel'!$G$132:$K$171,5,FALSE)","v":"WF-4"},"WF",null,null,null,null,null,null,"F86696",null,6274,24,23,23,24,23,3,18,16,13,13,14,14,13,12,12,7,12,10]
["2020-10-01",{"$f":"VLOOKUP(J747,'Control Panel'!$G$132:$K$171,5,FALSE)","v":"WF-1"},"WF",null,null,null,null,null,null,"F86700",null,3925,12,11,11,11,10,4,15,14,13,13,13,13,11,11,11,11,10,11]
["2020-10-01",{"$f":"VLOOKUP(J748,'Control Panel'!$G$132:$K$171,5,FALSE)","v":"WF-5"},"WF",null,null,null,null,null,null,"F86701",null,3579,11,9,9,9,10,3,13,10,10,10,10,10,10,9,9,6,9,6]
["2020-10-01",{"$f":"VLOOKUP(J749,'Control Panel'!$G$132:$K$171,5,FALSE)","v":"WF-5"},"WF",null,null,null,null,null,null,"F86705",null,3420,8,7,7,7,6,2,11,10,7,7,7,7,5,5,5,4,4,5]
["2020-10-01",{"$f":"VLOOKUP(J750,'Control Panel'!$G$132:$K$171,5,FALSE)","v":"WF-6"},"WF",null,null,null,null,null,null,"F86708",null,2778,6,6,5,6,6,0,4,3,3,3,3,3,6,6,6,4,6,4]
["2020-10-01",{"$f":"VLOOKUP(J751,'Control Panel'!$G$132:$K$171,5,FALSE)","v":"WF-4"},"WF",null,null,null,null,null,null,"F86712",null,3339,9,8,8,8,7,1,12,11,9,9,9,9,5,5,5,5,5,5]
["2020-10-01",{"$f":"VLOOKUP(J752,'Control Panel'!$G$132:$K$171,5,FALSE)","v":"WF-2"},"WF",null,null,null,null,null,null,"Y01291",null,8881,34,33,32,33,33,22,29,29,28,28,28,28,30,28,29,21,28,22]
["2020-10-01",{"$f":"VLOOKUP(J753,'Control Panel'!$G$132:$K$171,5,FALSE)","v":"WF-1"},"WF",null,null,null,null,null,null,"Y01839",null,6409,33,29,28,29,29,3,29,26,23,23,23,23,22,22,19,17,19,17]
["2020-10-01",{"$f":"VLOOKUP(J754,'Control Panel'!$G$132:$K$171,5,FALSE)","v":{"$error":"#N/A"}},null,null,null,null,null,null,null,"total",null,266466,929,799,804,784,811,292,925,832,765,767,774,772,877,796,780,654,776,681]
["2020-11-01",{"$f":"VLOOKUP(J755,'Control Panel'!$G$132:$K$171,5,FALSE)","v":{"$error":"#N/A"}},"Childhood Immunisations Q3",null,"Last Run:",null,"Population Count",280244,null,null,"Search","All Patients","(01) 12 MONTH COHORT","(01.01) DTaP/IPV/Hib 6in1","(01.02) Men B (1st and 2nd)","(01.03) PCV","(01.04) Rotavirus","(01.05) BCG","(02) 24 MONTH COHORT","(02.01) DTaP/IPV/Hib Combined","(02.02) MMR","(02.03) HiB/Men C","(02.04) PCV (Booster)","(02.05) Men B (Booster)","(03) 5 YEAR COHORT","(03.01) DTaP/IPV/Hib Combined","(03.02) MMR (Primary)","(03.03) DTaP/IPV (Booster)","(03.04) HiB/Men C","(03.05) MMR (Booster)"]
["2020-11-01",{"$f":"VLOOKUP(J756,'Control Panel'!$G$132:$K$171,5,FALSE)","v":{"$error":"#N/A"}},null,null,"2020-12-02T12:56:00",null,"Males",143438,null,"Organisation Code"]
["2020-11-01",{"$f":"VLOOKUP(J757,'Control Panel'!$G$132:$K$171,5,FALSE)","v":"WF-6"},"WF",null,"Relative Date:",null,"Females",136806,null,"F86001",null,7917,25,22,22,20,20,11,25,24,22,22,22,22,44,38,38,26,38,26]
["2020-11-01",{"$f":"VLOOKUP(J758,'Control Panel'!$G$132:$K$171,5,FALSE)","v":"WF-1"},"WF",null,"2020-12-01",null,null,null,null,"F86005",null,9029,48,45,45,45,44,5,53,50,46,46,47,46,22,17,18,16,19,16]
["2020-11-01",{"$f":"VLOOKUP(J759,'Control Panel'!$G$132:$K$171,5,FALSE)","v":"WF-7"},"WF",null,null,null,null,null,null,"F86006",null,6551,20,16,16,15,17,3,14,11,10,10,10,10,27,26,26,22,26,23]
["2020-11-01",{"$f":"VLOOKUP(J760,'Control Panel'!$G$132:$K$171,5,FALSE)","v":"WF-3"},"WF",null,null,null,null,null,null,"F86011",null,9810,20,15,16,15,15,9,23,18,19,19,19,17,30,27,26,22,26,23]
["2020-11-01",{"$f":"VLOOKUP(J761,'Control Panel'!$G$132:$K$171,5,FALSE)","v":"WF-7"},"WF",null,null,null,null,null,null,"F86030",null,8315,34,34,34,34,29,20,30,30,29,28,28,29,22,20,18,14,17,16]
["2020-11-01",{"$f":"VLOOKUP(J762,'Control Panel'!$G$132:$K$171,5,FALSE)","v":"WF-4"},"WF",null,null,null,null,null,null,"F86036",null,15748,47,39,39,39,39,17,63,59,54,54,54,55,48,46,45,42,46,42]
["2020-11-01",{"$f":"VLOOKUP(J763,'Control Panel'!$G$132:$K$171,5,FALSE)","v":"WF-3"},"WF",null,null,null,null,null,null,"F86038",null,11979,43,40,40,38,39,10,34,32,26,27,28,28,41,37,35,33,36,34]
["2020-11-01",{"$f":"VLOOKUP(J764,'Control Panel'!$G$132:$K$171,5,FALSE)","v":"WF-4"},"WF",null,null,null,null,null,null,"F86044",null,10012,48,44,44,44,45,11,50,45,38,37,39,38,36,30,29,26,29,26]
["2020-11-01",{"$f":"VLOOKUP(J765,'Control Panel'!$G$132:$K$171,5,FALSE)","v":"WF-5"},"WF",null,null,null,null,null,null,"F86045",null,2002,2,2,2,2,2,1,7,6,7,7,7,6,5,5,4,4,4,4]
["2020-11-01",{"$f":"VLOOKUP(J766,'Control Panel'!$G$132:$K$171,5,FALSE)","v":"WF-7"},"WF",null,null,null,null,null,null,"F86058",null,15552,70,55,56,54,65,24,65,55,49,49,49,49,73,63,63,47,63,48]
["2020-11-01",{"$f":"VLOOKUP(J767,'Control Panel'!$G$132:$K$171,5,FALSE)","v":"WF-7"},"WF",null,null,null,null,null,null,"F86062",null,7335,27,17,18,18,25,11,18,17,14,14,15,16,16,13,14,7,14,8]
["2020-11-01",{"$f":"VLOOKUP(J768,'Control Panel'!$G$132:$K$171,5,FALSE)","v":"WF-2"},"WF",null,null,null,null,null,null,"F86078",null,7037,9,8,8,8,8,5,9,9,8,9,9,9,24,23,22,20,22,20]
["2020-11-01",{"$f":"VLOOKUP(J769,'Control Panel'!$G$132:$K$171,5,FALSE)","v":"WF-6"},"WF",null,null,null,null,null,null,"F86086",null,6296,31,27,27,22,26,12,29,27,26,25,24,25,27,25,24,14,24,19]
["2020-11-01",{"$f":"VLOOKUP(J770,'Control Panel'!$G$132:$K$171,5,FALSE)","v":"WF-4"},"WF",null,null,null,null,null,null,"F86088",null,4818,9,8,8,8,8,2,12,11,10,10,10,10,16,14,13,12,14,12]
["2020-11-01",{"$f":"VLOOKUP(J771,'Control Panel'!$G$132:$K$171,5,FALSE)","v":"WF-6"},"WF",null,null,null,null,null,null,"F86607",null,14111,53,42,46,45,44,21,48,42,41,42,42,42,47,45,45,45,45,46]
["2020-11-01",{"$f":"VLOOKUP(J772,'Control Panel'!$G$132:$K$171,5,FALSE)","v":"WF-2"},"WF",null,null,null,null,null,null,"F86616",null,7426,29,24,24,23,25,8,38,31,29,29,29,30,25,21,21,18,21,18]
["2020-11-01",{"$f":"VLOOKUP(J773,'Control Panel'!$G$132:$K$171,5,FALSE)","v":"WF-5"},"WF",null,null,null,null,null,null,"F86621",null,6009,17,15,15,14,13,10,26,24,22,21,21,21,13,13,13,10,13,11]
["2020-11-01",{"$f":"VLOOKUP(J774,'Control Panel'!$G$132:$K$171,5,FALSE)","v":"WF-5"},"WF",null,null,null,null,null,null,"F86625",null,6023,16,13,12,12,11,2,18,15,9,10,11,11,16,15,16,13,16,13]
["2020-11-01",{"$f":"VLOOKUP(J775,'Control Panel'!$G$132:$K$171,5,FALSE)","v":"WF-1"},"WF",null,null,null,null,null,null,"F86626",null,6343,36,30,30,30,33,7,17,15,14,14,15,14,18,17,17,16,18,16]
["2020-11-01",{"$f":"VLOOKUP(J776,'Control Panel'!$G$132:$K$171,5,FALSE)","v":"WF-2"},"WF",null,null,null,null,null,null,"F86627",null,13549,30,28,28,27,27,11,39,34,34,34,34,34,39,35,32,25,32,25]
["2020-11-01",{"$f":"VLOOKUP(J777,'Control Panel'!$G$132:$K$171,5,FALSE)","v":"WF-6"},"WF",null,null,null,null,null,null,"F86644",null,10037,12,11,11,11,11,2,28,25,25,24,24,23,31,28,26,25,25,27]
["2020-11-01",{"$f":"VLOOKUP(J778,'Control Panel'!$G$132:$K$171,5,FALSE)","v":"WF-4"},"WF",null,null,null,null,null,null,"F86650",null,8086,27,23,23,22,20,9,28,22,21,22,22,22,30,28,28,23,28,24]
["2020-11-01",{"$f":"VLOOKUP(J779,'Control Panel'!$G$132:$K$171,5,FALSE)","v":"WF-1"},"WF",null,null,null,null,null,null,"F86664",null,8451,29,26,26,25,26,5,23,20,19,19,19,18,19,17,13,12,13,12]
["2020-11-01",{"$f":"VLOOKUP(J780,'Control Panel'!$G$132:$K$171,5,FALSE)","v":"WF-5"},"WF",null,null,null,null,null,null,"F86666",null,14877,49,36,38,34,37,19,36,33,33,34,33,33,62,55,54,51,52,53]
["2020-11-01",{"$f":"VLOOKUP(J781,'Control Panel'!$G$132:$K$171,5,FALSE)","v":"WF-7"},"WF",null,null,null,null,null,null,"F86679",null,6064,32,29,29,29,30,14,37,34,31,32,33,32,22,20,21,19,21,19]
["2020-11-01",{"$f":"VLOOKUP(J782,'Control Panel'!$G$132:$K$171,5,FALSE)","v":"WF-1"},"WF",null,null,null,null,null,null,"F86689",null,4349,20,19,18,17,19,4,25,25,25,25,25,25,24,20,22,18,20,21]
["2020-11-01",{"$f":"VLOOKUP(J783,'Control Panel'!$G$132:$K$171,5,FALSE)","v":"WF-4"},"WF",null,null,null,null,null,null,"F86696",null,6317,24,23,23,24,23,3,18,16,13,13,14,14,12,11,11,6,11,9]
["2020-11-01",{"$f":"VLOOKUP(J784,'Control Panel'!$G$132:$K$171,5,FALSE)","v":"WF-1"},"WF",null,null,null,null,null,null,"F86700",null,3914,11,10,10,10,9,3,15,14,13,13,13,13,11,11,11,11,10,11]
["2020-11-01",{"$f":"VLOOKUP(J785,'Control Panel'!$G$132:$K$171,5,FALSE)","v":"WF-5"},"WF",null,null,null,null,null,null,"F86701",null,3608,13,10,9,9,11,4,14,11,11,11,11,11,10,9,9,6,9,6]
["2020-11-01",{"$f":"VLOOKUP(J786,'Control Panel'!$G$132:$K$171,5,FALSE)","v":"WF-5"},"WF",null,null,null,null,null,null,"F86705",null,3451,9,8,8,8,7,2,11,10,7,7,7,7,5,5,5,4,4,5]
["2020-11-01",{"$f":"VLOOKUP(J787,'Control Panel'!$G$132:$K$171,5,FALSE)","v":"WF-6"},"WF",null,null,null,null,null,null,"F86708",null,2772,6,6,5,6,6,0,4,3,3,3,3,3,6,6,6,4,6,4]
["2020-11-01",{"$f":"VLOOKUP(J788,'Control Panel'!$G$132:$K$171,5,FALSE)","v":"WF-4"},"WF",null,null,null,null,null,null,"F86712",null,3351,9,8,8,8,7,1,12,11,9,9,9,9,5,5,5,5,5,5]
["2020-11-01",{"$f":"VLOOKUP(J789,'Control Panel'!$G$132:$K$171,5,FALSE)","v":"WF-2"},"WF",null,null,null,null,null,null,"Y01291",null,8891,34,33,32,33,33,23,29,29,28,28,28,28,29,27,28,21,27,22]
["2020-11-01",{"$f":"VLOOKUP(J790,'Control Panel'!$G$132:$K$171,5,FALSE)","v":"WF-1"},"WF",null,null,null,null,null,null,"Y01839",null,6413,33,29,28,29,29,11,29,26,23,23,23,23,22,22,19,17,19,17]
["2020-11-01",{"$f":"VLOOKUP(J791,'Control Panel'!$G$132:$K$171,5,FALSE)","v":{"$error":"#N/A"}},null,null,null,null,null,null,null,"total",null,266443,922,795,798,778,803,300,927,834,768,770,777,773,877,794,777,654,773,681]
["2020-12-01",{"$f":"VLOOKUP(J792,'Control Panel'!$G$132:$K$171,5,FALSE)","v":{"$error":"#N/A"}},"Childhood Immunisations Q3",null,"Last Run:",null,"Population Count",280533,null,null,"Search","All Patients","(01) 12 MONTH COHORT","(01.01) DTaP/IPV/Hib 6in1","(01.02) Men B (1st and 2nd)","(01.03) PCV","(01.04) Rotavirus","(01.05) BCG","(02) 24 MONTH COHORT","(02.01) DTaP/IPV/Hib Combined","(02.02) MMR","(02.03) HiB/Men C","(02.04) PCV (Booster)","(02.05) Men B (Booster)","(03) 5 YEAR COHORT","(03.01) DTaP/IPV/Hib Combined","(03.02) MMR (Primary)","(03.03) DTaP/IPV (Booster)","(03.04) HiB/Men C","(03.05) MMR (Booster)"]
["2020-12-01",{"$f":"VLOOKUP(J793,'Control Panel'!$G$132:$K$171,5,FALSE)","v":{"$error":"#N/A"}},null,null,"2021-01-04T13:29:00",null,"Males",143620,null,"Organisation Code"]
["2020-12-01",{"$f":"VLOOKUP(J794,'Control Panel'!$G$132:$K$171,5,FALSE)","v":"WF-6"},"WF",null,"Relative Date:",null,"Females",136913,null,"F86001",null,7921,26,22,22,20,20,11,24,23,21,21,21,21,44,38,38,26,38,26]
["2020-12-01",{"$f":"VLOOKUP(J795,'Control Panel'!$G$132:$K$171,5,FALSE)","v":"WF-1"},"WF",null,"2021-01-01",null,null,null,null,"F86005",null,9025,47,45,45,44,43,5,53,49,45,46,46,45,22,17,18,16,19,16]
["2020-12-01",{"$f":"VLOOKUP(J796,'Control Panel'!$G$132:$K$171,5,FALSE)","v":"WF-7"},"WF",null,null,null,null,null,null,"F86006",null,6573,20,16,16,15,17,3,14,11,10,10,10,10,27,26,26,22,26,23]
["2020-12-01",{"$f":"VLOOKUP(J797,'Control Panel'!$G$132:$K$171,5,FALSE)","v":"WF-3"},"WF",null,null,null,null,null,null,"F86011",null,9798,20,15,16,15,15,9,23,18,19,19,19,17,30,27,26,22,26,23]
["2020-12-01",{"$f":"VLOOKUP(J798,'Control Panel'!$G$132:$K$171,5,FALSE)","v":"WF-7"},"WF",null,null,null,null,null,null,"F86030",null,8260,36,36,36,36,31,22,30,30,29,28,28,29,22,20,18,14,17,16]
["2020-12-01",{"$f":"VLOOKUP(J799,'Control Panel'!$G$132:$K$171,5,FALSE)","v":"WF-4"},"WF",null,null,null,null,null,null,"F86036",null,15790,47,39,39,39,39,17,63,59,54,54,54,55,48,46,45,42,46,42]
["2020-12-01",{"$f":"VLOOKUP(J800,'Control Panel'!$G$132:$K$171,5,FALSE)","v":"WF-3"},"WF",null,null,null,null,null,null,"F86038",null,11939,45,40,40,38,39,11,34,31,25,26,27,27,41,37,35,33,36,34]
["2020-12-01",{"$f":"VLOOKUP(J801,'Control Panel'!$G$132:$K$171,5,FALSE)","v":"WF-4"},"WF",null,null,null,null,null,null,"F86044",null,10128,48,44,44,44,45,11,50,45,38,37,39,38,36,30,29,26,29,26]
["2020-12-01",{"$f":"VLOOKUP(J802,'Control Panel'!$G$132:$K$171,5,FALSE)","v":"WF-5"},"WF",null,null,null,null,null,null,"F86045",null,1998,2,2,2,2,2,1,7,6,7,7,7,6,5,5,4,4,4,4]
["2020-12-01",{"$f":"VLOOKUP(J803,'Control Panel'!$G$132:$K$171,5,FALSE)","v":"WF-7"},"WF",null,null,null,null,null,null,"F86058",null,15690,70,55,56,54,65,24,65,56,50,50,50,50,72,62,62,46,62,47]
["2020-12-01",{"$f":"VLOOKUP(J804,'Control Panel'!$G$132:$K$171,5,FALSE)","v":"WF-7"},"WF",null,null,null,null,null,null,"F86062",null,7330,26,16,17,17,24,11,18,17,14,14,15,16,17,14,15,8,15,9]
["2020-12-01",{"$f":"VLOOKUP(J805,'Control Panel'!$G$132:$K$171,5,FALSE)","v":"WF-2"},"WF",null,null,null,null,null,null,"F86078",null,7013,9,8,8,8,8,5,9,9,8,9,9,9,24,23,22,20,22,20]
["2020-12-01",{"$f":"VLOOKUP(J806,'Control Panel'!$G$132:$K$171,5,FALSE)","v":"WF-6"},"WF",null,null,null,null,null,null,"F86086",null,6275,30,26,26,22,25,13,29,27,26,25,24,25,27,25,24,14,24,19]
["2020-12-01",{"$f":"VLOOKUP(J807,'Control Panel'!$G$132:$K$171,5,FALSE)","v":"WF-4"},"WF",null,null,null,null,null,null,"F86088",null,4814,10,9,9,9,9,2,12,11,10,10,10,10,16,14,13,12,14,12]
["2020-12-01",{"$f":"VLOOKUP(J808,'Control Panel'!$G$132:$K$171,5,FALSE)","v":"WF-6"},"WF",null,null,null,null,null,null,"F86607",null,14124,52,42,46,45,44,20,48,43,42,43,43,43,48,46,46,45,46,46]
["2020-12-01",{"$f":"VLOOKUP(J809,'Control Panel'!$G$132:$K$171,5,FALSE)","v":"WF-2"},"WF",null,null,null,null,null,null,"F86616",null,7426,28,23,23,22,24,8,38,31,29,29,29,30,25,21,21,18,21,18]
["2020-12-01",{"$f":"VLOOKUP(J810,'Control Panel'!$G$132:$K$171,5,FALSE)","v":"WF-5"},"WF",null,null,null,null,null,null,"F86621",null,6021,17,15,15,14,13,10,26,24,22,21,21,21,13,13,13,10,13,11]
["2020-12-01",{"$f":"VLOOKUP(J811,'Control Panel'!$G$132:$K$171,5,FALSE)","v":"WF-5"},"WF",null,null,null,null,null,null,"F86625",null,6021,16,13,12,12,11,2,18,15,9,10,11,11,16,15,16,13,16,13]
["2020-12-01",{"$f":"VLOOKUP(J812,'Control Panel'!$G$132:$K$171,5,FALSE)","v":"WF-1"},"WF",null,null,null,null,null,null,"F86626",null,6410,35,29,29,29,32,6,17,15,14,14,15,14,18,17,17,16,18,16]
["2020-12-01",{"$f":"VLOOKUP(J813,'Control Panel'!$G$132:$K$171,5,FALSE)","v":"WF-2"},"WF",null,null,null,null,null,null,"F86627",null,13524,31,29,29,28,28,12,39,34,34,34,34,34,38,34,31,24,31,24]
["2020-12-01",{"$f":"VLOOKUP(J814,'Control Panel'!$G$132:$K$171,5,FALSE)","v":"WF-6"},"WF",null,null,null,null,null,null,"F86644",null,10011,12,11,11,11,11,2,28,25,25,24,24,23,30,27,25,24,24,26]
["2020-12-01",{"$f":"VLOOKUP(J815,'Control Panel'!$G$132:$K$171,5,FALSE)","v":"WF-4"},"WF",null,null,null,null,null,null,"F86650",null,8073,27,23,23,22,21,9,28,23,22,23,23,23,30,28,28,23,28,24]
["2020-12-01",{"$f":"VLOOKUP(J816,'Control Panel'!$G$132:$K$171,5,FALSE)","v":"WF-1"},"WF",null,null,null,null,null,null,"F86664",null,8487,29,26,26,25,26,5,23,20,19,19,19,18,19,17,13,12,13,12]
["2020-12-01",{"$f":"VLOOKUP(J817,'Control Panel'!$G$132:$K$171,5,FALSE)","v":"WF-5"},"WF",null,null,null,null,null,null,"F86666",null,14894,49,37,39,34,37,19,36,33,33,34,33,33,62,55,54,51,52,53]
["2020-12-01",{"$f":"VLOOKUP(J818,'Control Panel'!$G$132:$K$171,5,FALSE)","v":"WF-7"},"WF",null,null,null,null,null,null,"F86679",null,6060,32,30,30,30,30,14,38,34,31,32,33,32,23,21,22,20,22,20]
["2020-12-01",{"$f":"VLOOKUP(J819,'Control Panel'!$G$132:$K$171,5,FALSE)","v":"WF-1"},"WF",null,null,null,null,null,null,"F86689",null,4368,20,19,18,17,19,4,25,25,25,25,25,25,24,20,22,18,20,21]
["2020-12-01",{"$f":"VLOOKUP(J820,'Control Panel'!$G$132:$K$171,5,FALSE)","v":"WF-4"},"WF",null,null,null,null,null,null,"F86696",null,6334,24,23,23,23,23,3,17,15,12,12,13,13,11,10,10,5,10,8]
["2020-12-01",{"$f":"VLOOKUP(J821,'Control Panel'!$G$132:$K$171,5,FALSE)","v":"WF-1"},"WF",null,null,null,null,null,null,"F86700",null,3903,11,10,10,10,9,3,15,14,13,13,13,13,11,11,11,11,10,11]
["2020-12-01",{"$f":"VLOOKUP(J822,'Control Panel'!$G$132:$K$171,5,FALSE)","v":"WF-5"},"WF",null,null,null,null,null,null,"F86701",null,3634,14,12,9,10,13,6,14,11,11,11,11,11,10,9,9,6,9,6]
["2020-12-01",{"$f":"VLOOKUP(J823,'Control Panel'!$G$132:$K$171,5,FALSE)","v":"WF-5"},"WF",null,null,null,null,null,null,"F86705",null,3460,9,9,8,9,8,3,11,10,7,7,7,7,5,5,5,4,4,5]
["2020-12-01",{"$f":"VLOOKUP(J824,'Control Panel'!$G$132:$K$171,5,FALSE)","v":"WF-6"},"WF",null,null,null,null,null,null,"F86708",null,2765,6,6,5,6,6,0,4,3,3,3,3,3,6,6,6,4,6,4]
["2020-12-01",{"$f":"VLOOKUP(J825,'Control Panel'!$G$132:$K$171,5,FALSE)","v":"WF-4"},"WF",null,null,null,null,null,null,"F86712",null,3370,9,8,8,8,7,2,12,11,9,9,9,9,5,5,5,5,5,5]
["2020-12-01",{"$f":"VLOOKUP(J826,'Control Panel'!$G$132:$K$171,5,FALSE)","v":"WF-2"},"WF",null,null,null,null,null,null,"Y01291",null,8887,35,33,32,33,33,25,29,29,28,28,28,28,29,27,28,21,27,22]
["2020-12-01",{"$f":"VLOOKUP(J827,'Control Panel'!$G$132:$K$171,5,FALSE)","v":"WF-1"},"WF",null,null,null,null,null,null,"Y01839",null,6407,33,29,28,29,29,11,28,25,22,22,22,22,21,21,18,16,18,16]
["2020-12-01",{"$f":"VLOOKUP(J828,'Control Panel'!$G$132:$K$171,5,FALSE)","v":{"$error":"#N/A"}},null,null,null,null,null,null,null,"total",null,266733,925,800,800,780,806,309,925,832,766,769,775,771,875,792,775,651,771,678]
["2021-01-01",{"$f":"VLOOKUP(J829,'Control Panel'!$G$132:$K$171,5,FALSE)","v":{"$error":"#N/A"}},"Childhood Immunisations Q4",null,"Last Run:",null,"Population Count",279801,null,null,"Search","All Patients","(01) 12 MONTH COHORT","(01.01) DTaP/IPV/Hib 6in1","(01.02) Men B (1st and 2nd)","(01.03) PCV","(01.04) Rotavirus","(01.05) BCG","(02) 24 MONTH COHORT","(02.01) DTaP/IPV/Hib Combined","(02.02) MMR","(02.03) HiB/Men C","(02.04) PCV (Booster)","(02.05) Men B (Booster)","(03) 5 YEAR COHORT","(03.01) DTaP/IPV/Hib Combined","(03.02) MMR (Primary)","(03.03) DTaP/IPV (Booster)","(03.04) HiB/Men C","(03.05) MMR (Booster)"]
["2021-01-01",{"$f":"VLOOKUP(J830,'Control Panel'!$G$132:$K$171,5,FALSE)","v":{"$error":"#N/A"}},null,null,"2021-02-03T10:09:00",null,"Males",143415,null,"Organisation Code"]
["2021-01-01",{"$f":"VLOOKUP(J831,'Control Panel'!$G$132:$K$171,5,FALSE)","v":"WF-6"},"WF",null,"Relative Date:",null,"Females",136386,null,"F86001",null,7901,23,19,19,21,17,6,18,16,12,12,12,13,24,22,21,15,21,17]
["2021-01-01",{"$f":"VLOOKUP(J832,'Control Panel'!$G$132:$K$171,5,FALSE)","v":"WF-1"},"WF",null,"2021-02-01",null,null,null,null,"F86005",null,9019,53,49,47,48,46,2,53,48,45,45,46,46,34,30,30,27,29,27]
["2021-01-01",{"$f":"VLOOKUP(J833,'Control Panel'!$G$132:$K$171,5,FALSE)","v":"WF-7"},"WF",null,null,null,null,null,null,"F86006",null,6622,17,13,13,14,12,1,14,12,9,10,9,10,13,12,12,11,12,11]
["2021-01-01",{"$f":"VLOOKUP(J834,'Control Panel'!$G$132:$K$171,5,FALSE)","v":"WF-3"},"WF",null,null,null,null,null,null,"F86011",null,9732,24,22,22,22,22,10,20,19,13,13,13,13,22,21,22,15,22,16]
["2021-01-01",{"$f":"VLOOKUP(J835,'Control Panel'!$G$132:$K$171,5,FALSE)","v":"WF-7"},"WF",null,null,null,null,null,null,"F86030",null,8196,30,28,28,29,26,19,33,31,30,30,29,30,25,24,25,24,25,25]
["2021-01-01",{"$f":"VLOOKUP(J836,'Control Panel'!$G$132:$K$171,5,FALSE)","v":"WF-4"},"WF",null,null,null,null,null,null,"F86036",null,15649,38,36,36,37,37,10,51,48,45,45,45,44,48,43,43,41,42,40]
["2021-01-01",{"$f":"VLOOKUP(J837,'Control Panel'!$G$132:$K$171,5,FALSE)","v":"WF-3"},"WF",null,null,null,null,null,null,"F86038",null,11867,31,27,27,28,28,3,44,41,37,36,37,36,46,38,40,38,39,40]
["2021-01-01",{"$f":"VLOOKUP(J838,'Control Panel'!$G$132:$K$171,5,FALSE)","v":"WF-4"},"WF",null,null,null,null,null,null,"F86044",null,10245,43,38,38,37,35,13,44,40,35,36,36,35,26,20,17,11,18,11]
["2021-01-01",{"$f":"VLOOKUP(J839,'Control Panel'!$G$132:$K$171,5,FALSE)","v":"WF-5"},"WF",null,null,null,null,null,null,"F86045",null,2005,5,5,5,5,5,3,3,3,3,3,3,3,2,2,2,2,2,2]
["2021-01-01",{"$f":"VLOOKUP(J840,'Control Panel'!$G$132:$K$171,5,FALSE)","v":"WF-7"},"WF",null,null,null,null,null,null,"F86058",null,15837,68,49,47,51,48,21,61,57,41,42,42,42,65,60,58,34,58,35]
["2021-01-01",{"$f":"VLOOKUP(J841,'Control Panel'!$G$132:$K$171,5,FALSE)","v":"WF-7"},"WF",null,null,null,null,null,null,"F86062",null,7332,12,9,10,11,10,5,20,18,9,10,10,10,23,21,19,20,19,20]
["2021-01-01",{"$f":"VLOOKUP(J842,'Control Panel'!$G$132:$K$171,5,FALSE)","v":"WF-2"},"WF",null,null,null,null,null,null,"F86078",null,7006,12,11,11,12,10,5,7,5,4,4,4,4,22,22,22,19,22,18]
["2021-01-01",{"$f":"VLOOKUP(J843,'Control Panel'!$G$132:$K$171,5,FALSE)","v":"WF-6"},"WF",null,null,null,null,null,null,"F86086",null,6253,30,25,25,26,23,13,17,15,16,15,14,15,22,20,19,14,19,14]
["2021-01-01",{"$f":"VLOOKUP(J844,'Control Panel'!$G$132:$K$171,5,FALSE)","v":"WF-4"},"WF",null,null,null,null,null,null,"F86088",null,4814,8,6,5,6,6,5,9,8,5,5,5,5,6,6,6,4,6,4]
["2021-01-01",{"$f":"VLOOKUP(J845,'Control Panel'!$G$132:$K$171,5,FALSE)","v":"WF-6"},"WF",null,null,null,null,null,null,"F86607",null,14225,50,38,47,47,46,28,49,46,41,40,39,40,55,53,52,46,51,52]
["2021-01-01",{"$f":"VLOOKUP(J846,'Control Panel'!$G$132:$K$171,5,FALSE)","v":"WF-2"},"WF",null,null,null,null,null,null,"F86616",null,7432,27,25,25,25,25,3,29,27,26,26,27,26,30,27,23,21,25,22]
["2021-01-01",{"$f":"VLOOKUP(J847,'Control Panel'!$G$132:$K$171,5,FALSE)","v":"WF-5"},"WF",null,null,null,null,null,null,"F86621",null,6079,22,20,20,21,20,14,17,14,13,14,14,13,16,15,15,13,15,12]
["2021-01-01",{"$f":"VLOOKUP(J848,'Control Panel'!$G$132:$K$171,5,FALSE)","v":"WF-5"},"WF",null,null,null,null,null,null,"F86625",null,5999,13,9,9,10,10,3,11,9,9,9,9,9,12,12,12,7,11,7]
["2021-01-01",{"$f":"VLOOKUP(J849,'Control Panel'!$G$132:$K$171,5,FALSE)","v":"WF-1"},"WF",null,null,null,null,null,null,"F86626",null,6450,23,16,15,18,15,1,20,18,15,15,15,15,14,13,13,9,13,9]
["2021-01-01",{"$f":"VLOOKUP(J850,'Control Panel'!$G$132:$K$171,5,FALSE)","v":"WF-2"},"WF",null,null,null,null,null,null,"F86627",null,13501,28,25,25,25,23,1,23,19,18,17,16,16,35,32,31,26,31,26]
["2021-01-01",{"$f":"VLOOKUP(J851,'Control Panel'!$G$132:$K$171,5,FALSE)","v":"WF-6"},"WF",null,null,null,null,null,null,"F86644",null,9998,26,25,24,25,23,11,25,24,25,25,25,24,36,34,30,26,30,31]
["2021-01-01",{"$f":"VLOOKUP(J852,'Control Panel'!$G$132:$K$171,5,FALSE)","v":"WF-4"},"WF",null,null,null,null,null,null,"F86650",null,8142,18,14,14,14,12,4,26,25,24,24,24,24,21,20,19,13,19,13]
["2021-01-01",{"$f":"VLOOKUP(J853,'Control Panel'!$G$132:$K$171,5,FALSE)","v":"WF-1"},"WF",null,null,null,null,null,null,"F86664",null,8456,39,36,37,38,38,2,24,21,20,20,20,20,25,23,20,18,20,19]
["2021-01-01",{"$f":"VLOOKUP(J854,'Control Panel'!$G$132:$K$171,5,FALSE)","v":"WF-5"},"WF",null,null,null,null,null,null,"F86666",null,14967,45,40,37,42,37,14,53,50,47,46,47,49,46,42,39,32,38,33]
["2021-01-01",{"$f":"VLOOKUP(J855,'Control Panel'!$G$132:$K$171,5,FALSE)","v":"WF-7"},"WF",null,null,null,null,null,null,"F86679",null,6012,28,27,27,27,24,14,27,24,21,20,20,21,27,27,26,22,27,21]
["2021-01-01",{"$f":"VLOOKUP(J856,'Control Panel'!$G$132:$K$171,5,FALSE)","v":"WF-1"},"WF",null,null,null,null,null,null,"F86689",null,4358,21,20,19,20,18,5,22,19,20,19,19,19,25,24,24,23,24,23]
["2021-01-01",{"$f":"VLOOKUP(J857,'Control Panel'!$G$132:$K$171,5,FALSE)","v":"WF-4"},"WF",null,null,null,null,null,null,"F86696",null,6438,26,24,24,25,25,2,14,10,9,9,9,9,15,12,14,11,14,12]
["2021-01-01",{"$f":"VLOOKUP(J858,'Control Panel'!$G$132:$K$171,5,FALSE)","v":"WF-1"},"WF",null,null,null,null,null,null,"F86700",null,3883,11,9,9,10,9,4,9,8,5,6,6,6,12,11,11,11,11,11]
["2021-01-01",{"$f":"VLOOKUP(J859,'Control Panel'!$G$132:$K$171,5,FALSE)","v":"WF-5"},"WF",null,null,null,null,null,null,"F86701",null,3671,14,12,12,12,12,3,13,12,11,11,11,11,9,8,9,7,9,7]
["2021-01-01",{"$f":"VLOOKUP(J860,'Control Panel'!$G$132:$K$171,5,FALSE)","v":"WF-5"},"WF",null,null,null,null,null,null,"F86705",null,3495,7,7,7,7,7,1,6,4,4,4,4,4,3,3,3,3,3,3]
["2021-01-01",{"$f":"VLOOKUP(J861,'Control Panel'!$G$132:$K$171,5,FALSE)","v":"WF-6"},"WF",null,null,null,null,null,null,"F86708",null,2771,7,5,5,6,5,3,7,6,6,6,6,6,7,7,5,2,5,2]
["2021-01-01",{"$f":"VLOOKUP(J862,'Control Panel'!$G$132:$K$171,5,FALSE)","v":"WF-4"},"WF",null,null,null,null,null,null,"F86712",null,3366,10,9,8,9,9,2,9,8,8,8,8,8,12,11,12,8,10,9]
["2021-01-01",{"$f":"VLOOKUP(J863,'Control Panel'!$G$132:$K$171,5,FALSE)","v":"WF-2"},"WF",null,null,null,null,null,null,"Y01291",null,8875,30,26,26,26,25,16,38,35,35,35,34,35,38,37,34,32,36,31]
["2021-01-01",{"$f":"VLOOKUP(J864,'Control Panel'!$G$132:$K$171,5,FALSE)","v":"WF-1"},"WF",null,null,null,null,null,null,"Y01839",null,6395,22,19,19,22,21,11,28,28,25,25,25,25,20,19,17,13,17,13]
["2021-01-01",{"$f":"VLOOKUP(J865,'Control Panel'!$G$132:$K$171,5,FALSE)","v":{"$error":"#N/A"}},null,null,null,null,null,null,null,"total",null,266991,861,743,742,776,729,258,844,768,686,685,683,686,836,771,745,618,743,636]
["2021-02-01",{"$f":"VLOOKUP(J866,'Control Panel'!$G$132:$K$171,5,FALSE)","v":{"$error":"#N/A"}},"Childhood Immunisations Q4",null,"Last Run:",null,"Population Count",280038,null,null,"Search","All Patients","(01) 12 MONTH COHORT","(01.01) DTaP/IPV/Hib 6in1","(01.02) Men B (1st and 2nd)","(01.03) PCV","(01.04) Rotavirus","(01.05) BCG","(02) 24 MONTH COHORT","(02.01) DTaP/IPV/Hib Combined","(02.02) MMR","(02.03) HiB/Men C","(02.04) PCV (Booster)","(02.05) Men B (Booster)","(03) 5 YEAR COHORT","(03.01) DTaP/IPV/Hib Combined","(03.02) MMR (Primary)","(03.03) DTaP/IPV (Booster)","(03.04) HiB/Men C","(03.05) MMR (Booster)"]
["2021-02-01",{"$f":"VLOOKUP(J867,'Control Panel'!$G$132:$K$171,5,FALSE)","v":{"$error":"#N/A"}},null,null,"2021-03-02T11:47:00",null,"Males",143605,null,"Organisation Code"]
["2021-02-01",{"$f":"VLOOKUP(J868,'Control Panel'!$G$132:$K$171,5,FALSE)","v":"WF-6"},"WF",null,"Relative Date:",null,"Females",136433,null,"F86001",null,7821,23,19,19,21,17,6,18,16,12,12,12,13,24,22,21,15,21,17]
["2021-02-01",{"$f":"VLOOKUP(J869,'Control Panel'!$G$132:$K$171,5,FALSE)","v":"WF-1"},"WF",null,"2021-03-01",null,null,null,null,"F86005",null,9094,53,49,47,48,47,2,53,49,46,46,47,47,33,29,29,27,28,27]
["2021-02-01",{"$f":"VLOOKUP(J870,'Control Panel'!$G$132:$K$171,5,FALSE)","v":"WF-7"},"WF",null,null,null,null,null,null,"F86006",null,6606,17,13,13,14,12,1,13,11,9,10,9,10,14,12,12,11,12,11]
["2021-02-01",{"$f":"VLOOKUP(J871,'Control Panel'!$G$132:$K$171,5,FALSE)","v":"WF-3"},"WF",null,null,null,null,null,null,"F86011",null,9715,24,22,22,22,22,10,20,19,13,13,13,13,22,21,22,15,22,16]
["2021-02-01",{"$f":"VLOOKUP(J872,'Control Panel'!$G$132:$K$171,5,FALSE)","v":"WF-7"},"WF",null,null,null,null,null,null,"F86030",null,8151,30,28,28,29,26,19,33,31,30,30,29,30,25,24,25,24,25,25]
["2021-02-01",{"$f":"VLOOKUP(J873,'Control Panel'!$G$132:$K$171,5,FALSE)","v":"WF-4"},"WF",null,null,null,null,null,null,"F86036",null,15745,38,36,36,37,37,10,51,48,45,45,45,44,48,43,43,41,42,40]
["2021-02-01",{"$f":"VLOOKUP(J874,'Control Panel'!$G$132:$K$171,5,FALSE)","v":"WF-3"},"WF",null,null,null,null,null,null,"F86038",null,11695,31,28,28,30,30,4,43,41,38,37,38,37,45,38,40,38,39,40]
["2021-02-01",{"$f":"VLOOKUP(J875,'Control Panel'!$G$132:$K$171,5,FALSE)","v":"WF-4"},"WF",null,null,null,null,null,null,"F86044",null,10388,44,38,38,38,35,13,44,40,35,36,36,35,25,19,16,10,17,10]
["2021-02-01",{"$f":"VLOOKUP(J876,'Control Panel'!$G$132:$K$171,5,FALSE)","v":"WF-5"},"WF",null,null,null,null,null,null,"F86045",null,1997,5,5,5,5,5,3,3,3,3,3,3,3,2,2,2,2,2,2]
["2021-02-01",{"$f":"VLOOKUP(J877,'Control Panel'!$G$132:$K$171,5,FALSE)","v":"WF-7"},"WF",null,null,null,null,null,null,"F86058",null,15976,69,50,48,53,49,20,61,57,41,42,42,42,64,59,57,34,57,35]
["2021-02-01",{"$f":"VLOOKUP(J878,'Control Panel'!$G$132:$K$171,5,FALSE)","v":"WF-7"},"WF",null,null,null,null,null,null,"F86062",null,7321,12,9,10,11,10,7,19,18,9,10,10,10,23,21,19,20,19,20]
["2021-02-01",{"$f":"VLOOKUP(J879,'Control Panel'!$G$132:$K$171,5,FALSE)","v":"WF-2"},"WF",null,null,null,null,null,null,"F86078",null,6981,12,12,12,12,10,5,7,5,4,4,4,4,22,22,22,20,22,18]
["2021-02-01",{"$f":"VLOOKUP(J880,'Control Panel'!$G$132:$K$171,5,FALSE)","v":"WF-6"},"WF",null,null,null,null,null,null,"F86086",null,6243,29,24,24,25,22,13,17,16,17,16,15,16,22,20,19,14,19,14]
["2021-02-01",{"$f":"VLOOKUP(J881,'Control Panel'!$G$132:$K$171,5,FALSE)","v":"WF-4"},"WF",null,null,null,null,null,null,"F86088",null,4813,8,6,5,6,6,5,9,8,5,5,5,5,6,6,6,4,6,4]
["2021-02-01",{"$f":"VLOOKUP(J882,'Control Panel'!$G$132:$K$171,5,FALSE)","v":"WF-6"},"WF",null,null,null,null,null,null,"F86607",null,14388,51,39,48,48,47,28,49,46,42,41,40,41,55,53,51,46,50,51]
["2021-02-01",{"$f":"VLOOKUP(J883,'Control Panel'!$G$132:$K$171,5,FALSE)","v":"WF-2"},"WF",null,null,null,null,null,null,"F86616",null,7473,27,25,25,25,25,3,29,27,26,26,27,26,30,27,23,21,25,22]
["2021-02-01",{"$f":"VLOOKUP(J884,'Control Panel'!$G$132:$K$171,5,FALSE)","v":"WF-5"},"WF",null,null,null,null,null,null,"F86621",null,6143,21,19,19,21,19,13,17,14,13,14,14,13,16,15,15,13,15,12]
["2021-02-01",{"$f":"VLOOKUP(J885,'Control Panel'!$G$132:$K$171,5,FALSE)","v":"WF-5"},"WF",null,null,null,null,null,null,"F86625",null,5992,13,9,9,10,10,3,11,9,9,9,9,9,12,12,12,7,11,7]
["2021-02-01",{"$f":"VLOOKUP(J886,'Control Panel'!$G$132:$K$171,5,FALSE)","v":"WF-1"},"WF",null,null,null,null,null,null,"F86626",null,6470,22,15,14,17,14,1,20,18,15,15,15,15,14,13,13,9,13,9]
["2021-02-01",{"$f":"VLOOKUP(J887,'Control Panel'!$G$132:$K$171,5,FALSE)","v":"WF-2"},"WF",null,null,null,null,null,null,"F86627",null,13491,28,25,25,25,23,1,23,19,18,17,16,16,34,31,30,25,30,25]
["2021-02-01",{"$f":"VLOOKUP(J888,'Control Panel'!$G$132:$K$171,5,FALSE)","v":"WF-6"},"WF",null,null,null,null,null,null,"F86644",null,9988,26,25,24,25,23,11,25,24,25,25,25,24,36,34,30,26,30,31]
["2021-02-01",{"$f":"VLOOKUP(J889,'Control Panel'!$G$132:$K$171,5,FALSE)","v":"WF-4"},"WF",null,null,null,null,null,null,"F86650",null,8062,18,14,14,14,12,4,26,25,24,24,24,24,20,19,18,13,18,13]
["2021-02-01",{"$f":"VLOOKUP(J890,'Control Panel'!$G$132:$K$171,5,FALSE)","v":"WF-1"},"WF",null,null,null,null,null,null,"F86664",null,8491,39,36,37,38,38,2,25,22,21,21,21,21,25,23,20,18,20,19]
["2021-02-01",{"$f":"VLOOKUP(J891,'Control Panel'!$G$132:$K$171,5,FALSE)","v":"WF-5"},"WF",null,null,null,null,null,null,"F86666",null,14919,44,39,36,41,36,14,52,48,46,44,45,47,46,41,38,31,37,32]
["2021-02-01",{"$f":"VLOOKUP(J892,'Control Panel'!$G$132:$K$171,5,FALSE)","v":"WF-7"},"WF",null,null,null,null,null,null,"F86679",null,5986,28,27,27,27,24,14,27,24,21,20,20,21,27,27,26,22,27,21]
["2021-02-01",{"$f":"VLOOKUP(J893,'Control Panel'!$G$132:$K$171,5,FALSE)","v":"WF-1"},"WF",null,null,null,null,null,null,"F86689",null,4368,22,21,20,21,19,5,22,19,20,19,19,19,25,24,24,23,24,23]
["2021-02-01",{"$f":"VLOOKUP(J894,'Control Panel'!$G$132:$K$171,5,FALSE)","v":"WF-4"},"WF",null,null,null,null,null,null,"F86696",null,6488,25,24,24,24,24,2,14,10,9,9,9,9,14,11,13,10,13,11]
["2021-02-01",{"$f":"VLOOKUP(J895,'Control Panel'!$G$132:$K$171,5,FALSE)","v":"WF-1"},"WF",null,null,null,null,null,null,"F86700",null,3884,11,9,9,10,9,4,10,8,5,6,6,6,12,11,11,11,11,11]
["2021-02-01",{"$f":"VLOOKUP(J896,'Control Panel'!$G$132:$K$171,5,FALSE)","v":"WF-5"},"WF",null,null,null,null,null,null,"F86701",null,3702,14,12,12,12,12,3,13,12,11,11,11,11,9,8,9,7,9,7]
["2021-02-01",{"$f":"VLOOKUP(J897,'Control Panel'!$G$132:$K$171,5,FALSE)","v":"WF-5"},"WF",null,null,null,null,null,null,"F86705",null,3475,6,6,6,6,6,1,5,4,4,4,4,4,3,3,3,3,3,3]
["2021-02-01",{"$f":"VLOOKUP(J898,'Control Panel'!$G$132:$K$171,5,FALSE)","v":"WF-6"},"WF",null,null,null,null,null,null,"F86708",null,2759,7,5,5,6,5,3,7,6,6,6,6,6,7,7,5,2,5,2]
["2021-02-01",{"$f":"VLOOKUP(J899,'Control Panel'!$G$132:$K$171,5,FALSE)","v":"WF-4"},"WF",null,null,null,null,null,null,"F86712",null,3343,10,9,8,9,9,2,9,8,8,8,8,8,12,11,12,8,10,9]
["2021-02-01",{"$f":"VLOOKUP(J900,'Control Panel'!$G$132:$K$171,5,FALSE)","v":"WF-2"},"WF",null,null,null,null,null,null,"Y01291",null,8884,29,26,26,26,25,16,40,36,36,35,35,35,39,38,35,33,37,32]
["2021-02-01",{"$f":"VLOOKUP(J901,'Control Panel'!$G$132:$K$171,5,FALSE)","v":"WF-1"},"WF",null,null,null,null,null,null,"Y01839",null,6398,22,19,19,22,21,11,28,28,25,25,25,25,19,18,16,12,16,12]
["2021-02-01",{"$f":"VLOOKUP(J902,'Control Panel'!$G$132:$K$171,5,FALSE)","v":{"$error":"#N/A"}},null,null,null,null,null,null,null,"total",null,267250,858,743,742,778,729,259,843,769,691,688,687,689,830,764,737,615,735,631]
["2021-03-01",{"$f":"VLOOKUP(J903,'Control Panel'!$G$132:$K$171,5,FALSE)","v":{"$error":"#N/A"}},"Childhood Immunisations Q4",null,"Last Run:",null,"Population Count",280010,null,null,"Search","All Patients","(01) 12 MONTH COHORT","(01.01) DTaP/IPV/Hib 6in1","(01.02) Men B (1st and 2nd)","(01.03) PCV","(01.04) Rotavirus","(01.05) BCG","(02) 24 MONTH COHORT","(02.01) DTaP/IPV/Hib Combined","(02.02) MMR","(02.03) HiB/Men C","(02.04) PCV (Booster)","(02.05) Men B (Booster)","(03) 5 YEAR COHORT","(03.01) DTaP/IPV/Hib Combined","(03.02) MMR (Primary)","(03.03) DTaP/IPV (Booster)","(03.04) HiB/Men C","(03.05) MMR (Booster)"]
["2021-03-01",{"$f":"VLOOKUP(J904,'Control Panel'!$G$132:$K$171,5,FALSE)","v":{"$error":"#N/A"}},null,null,"2021-04-07T09:25:00",null,"Males",143660,null,"Organisation Code"]
["2021-03-01",{"$f":"VLOOKUP(J905,'Control Panel'!$G$132:$K$171,5,FALSE)","v":"WF-6"},"WF",null,"Relative Date:",null,"Females",136350,null,"F86001",null,7811,22,18,18,20,16,6,18,16,12,12,12,13,23,21,20,15,20,16]
["2021-03-01",{"$f":"VLOOKUP(J906,'Control Panel'!$G$132:$K$171,5,FALSE)","v":"WF-1"},"WF",null,"2021-04-01",null,null,null,null,"F86005",null,9130,53,49,47,49,48,2,53,49,46,46,47,47,33,29,29,27,28,27]
["2021-03-01",{"$f":"VLOOKUP(J907,'Control Panel'!$G$132:$K$171,5,FALSE)","v":"WF-7"},"WF",null,null,null,null,null,null,"F86006",null,6638,16,12,12,13,11,1,13,11,9,10,9,10,14,12,12,11,12,11]
["2021-03-01",{"$f":"VLOOKUP(J908,'Control Panel'!$G$132:$K$171,5,FALSE)","v":"WF-3"},"WF",null,null,null,null,null,null,"F86011",null,9660,22,21,21,21,21,9,20,19,13,13,13,13,22,21,22,15,22,16]
["2021-03-01",{"$f":"VLOOKUP(J909,'Control Panel'!$G$132:$K$171,5,FALSE)","v":"WF-7"},"WF",null,null,null,null,null,null,"F86030",null,8131,30,28,28,29,25,19,33,31,30,30,29,30,26,25,26,24,26,25]
["2021-03-01",{"$f":"VLOOKUP(J910,'Control Panel'!$G$132:$K$171,5,FALSE)","v":"WF-4"},"WF",null,null,null,null,null,null,"F86036",null,15781,39,36,36,37,37,10,51,48,45,46,46,45,47,42,42,41,41,40]
["2021-03-01",{"$f":"VLOOKUP(J911,'Control Panel'!$G$132:$K$171,5,FALSE)","v":"WF-3"},"WF",null,null,null,null,null,null,"F86038",null,11597,31,29,29,30,30,4,43,41,38,37,38,37,45,38,40,38,39,40]
["2021-03-01",{"$f":"VLOOKUP(J912,'Control Panel'!$G$132:$K$171,5,FALSE)","v":"WF-4"},"WF",null,null,null,null,null,null,"F86044",null,9921,38,35,35,35,32,10,42,38,33,34,34,33,25,19,16,10,17,10]
["2021-03-01",{"$f":"VLOOKUP(J913,'Control Panel'!$G$132:$K$171,5,FALSE)","v":"WF-5"},"WF",null,null,null,null,null,null,"F86045",null,1989,5,5,5,5,5,3,3,3,3,3,3,3,2,2,2,2,2,2]
["2021-03-01",{"$f":"VLOOKUP(J914,'Control Panel'!$G$132:$K$171,5,FALSE)","v":"WF-7"},"WF",null,null,null,null,null,null,"F86058",null,16124,69,50,48,53,49,20,60,56,40,41,41,41,64,59,57,34,57,35]
["2021-03-01",{"$f":"VLOOKUP(J915,'Control Panel'!$G$132:$K$171,5,FALSE)","v":"WF-7"},"WF",null,null,null,null,null,null,"F86062",null,7326,12,9,10,11,10,7,19,18,9,10,10,10,23,21,19,20,19,20]
["2021-03-01",{"$f":"VLOOKUP(J916,'Control Panel'!$G$132:$K$171,5,FALSE)","v":"WF-2"},"WF",null,null,null,null,null,null,"F86078",null,6976,12,12,12,12,10,5,7,5,4,4,4,4,22,22,22,20,22,18]
["2021-03-01",{"$f":"VLOOKUP(J917,'Control Panel'!$G$132:$K$171,5,FALSE)","v":"WF-6"},"WF",null,null,null,null,null,null,"F86086",null,6250,29,25,25,26,23,12,17,16,17,16,15,16,22,20,19,14,19,14]
["2021-03-01",{"$f":"VLOOKUP(J918,'Control Panel'!$G$132:$K$171,5,FALSE)","v":"WF-4"},"WF",null,null,null,null,null,null,"F86088",null,4845,10,8,7,8,8,6,9,8,5,5,5,5,6,6,6,4,6,4]
["2021-03-01",{"$f":"VLOOKUP(J919,'Control Panel'!$G$132:$K$171,5,FALSE)","v":"WF-6"},"WF",null,null,null,null,null,null,"F86607",null,14530,51,39,48,48,47,28,50,46,42,41,40,41,54,52,50,45,49,50]
["2021-03-01",{"$f":"VLOOKUP(J920,'Control Panel'!$G$132:$K$171,5,FALSE)","v":"WF-2"},"WF",null,null,null,null,null,null,"F86616",null,7549,27,25,25,25,25,3,31,28,28,28,29,27,30,27,23,21,25,22]
["2021-03-01",{"$f":"VLOOKUP(J921,'Control Panel'!$G$132:$K$171,5,FALSE)","v":"WF-5"},"WF",null,null,null,null,null,null,"F86621",null,6195,21,19,19,21,19,13,15,12,11,12,12,11,16,15,15,13,15,12]
["2021-03-01",{"$f":"VLOOKUP(J922,'Control Panel'!$G$132:$K$171,5,FALSE)","v":"WF-5"},"WF",null,null,null,null,null,null,"F86625",null,5969,13,9,9,10,10,3,11,9,9,9,9,9,11,11,11,6,10,6]
["2021-03-01",{"$f":"VLOOKUP(J923,'Control Panel'!$G$132:$K$171,5,FALSE)","v":"WF-1"},"WF",null,null,null,null,null,null,"F86626",null,6518,22,15,14,17,14,2,20,18,15,15,15,15,15,14,14,10,14,10]
["2021-03-01",{"$f":"VLOOKUP(J924,'Control Panel'!$G$132:$K$171,5,FALSE)","v":"WF-2"},"WF",null,null,null,null,null,null,"F86627",null,13528,28,25,25,25,23,1,23,19,18,17,16,16,35,31,30,25,30,25]
["2021-03-01",{"$f":"VLOOKUP(J925,'Control Panel'!$G$132:$K$171,5,FALSE)","v":"WF-6"},"WF",null,null,null,null,null,null,"F86644",null,9860,24,23,23,24,22,11,25,24,25,25,25,24,38,36,32,27,32,32]
["2021-03-01",{"$f":"VLOOKUP(J926,'Control Panel'!$G$132:$K$171,5,FALSE)","v":"WF-4"},"WF",null,null,null,null,null,null,"F86650",null,8073,18,14,14,14,12,4,26,25,24,24,24,24,20,19,18,13,18,13]
["2021-03-01",{"$f":"VLOOKUP(J927,'Control Panel'!$G$132:$K$171,5,FALSE)","v":"WF-1"},"WF",null,null,null,null,null,null,"F86664",null,8468,39,36,37,38,38,2,25,22,21,21,21,21,25,23,20,18,20,19]
["2021-03-01",{"$f":"VLOOKUP(J928,'Control Panel'!$G$132:$K$171,5,FALSE)","v":"WF-5"},"WF",null,null,null,null,null,null,"F86666",null,14898,44,39,36,41,36,14,50,46,44,42,43,45,47,41,38,31,37,32]
["2021-03-01",{"$f":"VLOOKUP(J929,'Control Panel'!$G$132:$K$171,5,FALSE)","v":"WF-7"},"WF",null,null,null,null,null,null,"F86679",null,5991,28,27,27,27,24,14,27,24,21,20,20,21,27,27,26,22,27,21]
["2021-03-01",{"$f":"VLOOKUP(J930,'Control Panel'!$G$132:$K$171,5,FALSE)","v":"WF-1"},"WF",null,null,null,null,null,null,"F86689",null,4366,23,21,20,21,19,5,21,18,19,18,18,18,25,24,24,23,24,23]
["2021-03-01",{"$f":"VLOOKUP(J931,'Control Panel'!$G$132:$K$171,5,FALSE)","v":"WF-4"},"WF",null,null,null,null,null,null,"F86696",null,6577,24,23,23,23,23,2,15,11,10,9,9,9,14,11,13,10,13,11]
["2021-03-01",{"$f":"VLOOKUP(J932,'Control Panel'!$G$132:$K$171,5,FALSE)","v":"WF-1"},"WF",null,null,null,null,null,null,"F86700",null,3898,11,9,9,10,9,4,10,9,5,6,6,6,12,11,11,11,11,11]
["2021-03-01",{"$f":"VLOOKUP(J933,'Control Panel'!$G$132:$K$171,5,FALSE)","v":"WF-5"},"WF",null,null,null,null,null,null,"F86701",null,3717,13,11,11,11,11,3,13,12,11,11,11,11,9,8,9,7,9,7]
["2021-03-01",{"$f":"VLOOKUP(J934,'Control Panel'!$G$132:$K$171,5,FALSE)","v":"WF-5"},"WF",null,null,null,null,null,null,"F86705",null,3531,6,6,6,6,6,2,5,4,4,4,4,4,3,3,3,3,3,3]
["2021-03-01",{"$f":"VLOOKUP(J935,'Control Panel'!$G$132:$K$171,5,FALSE)","v":"WF-6"},"WF",null,null,null,null,null,null,"F86708",null,2768,7,5,5,6,5,3,7,6,6,6,6,6,7,7,5,2,5,2]
["2021-03-01",{"$f":"VLOOKUP(J936,'Control Panel'!$G$132:$K$171,5,FALSE)","v":"WF-4"},"WF",null,null,null,null,null,null,"F86712",null,3330,10,9,8,9,9,2,9,9,9,9,9,8,12,11,12,8,10,9]
["2021-03-01",{"$f":"VLOOKUP(J937,'Control Panel'!$G$132:$K$171,5,FALSE)","v":"WF-2"},"WF",null,null,null,null,null,null,"Y01291",null,8929,29,26,26,26,25,16,40,36,36,35,35,35,40,39,36,34,38,33]
["2021-03-01",{"$f":"VLOOKUP(J938,'Control Panel'!$G$132:$K$171,5,FALSE)","v":"WF-1"},"WF",null,null,null,null,null,null,"Y01839",null,6401,22,19,19,22,21,11,28,28,25,25,25,25,19,18,16,12,16,12]
["2021-03-01",{"$f":"VLOOKUP(J939,'Control Panel'!$G$132:$K$171,5,FALSE)","v":{"$error":"#N/A"}},null,null,null,null,null,null,null,"total",null,267275,848,737,737,773,723,257,839,765,687,684,683,833,765,738,616,736,631,683]
["2021-04-01",{"$f":"VLOOKUP(J940,'Control Panel'!$G$132:$K$171,5,FALSE)","v":{"$error":"#N/A"}},"Childhood Immunisations Q1",null,"Last Run:",null,"Population Count",280136,null,null,"Search","All Patients","(01) 12 MONTH COHORT","(01.01) DTaP/IPV/Hib/HepB","(01.02) Men B (1st and 2nd)","(01.03) PCV","(01.04) Rotavirus","(01.05) BCG","(02) 24 MONTH COHORT","(02.01) DTaP/IPV/Hib or DTaP/IPV/Hib/HepB","(02.02) MMR","(02.03) HiB/Men C","(02.04) PCV (Booster)","(02.05) Men B (Booster)","(03) 5 YEAR COHORT","(03.01) DTaP/IPV/Hib or DTaP/IPV/Hib/HepB","(03.02) MMR (Primary)","(03.03) DTaP/IPV (Booster)","(03.04) HiB/Men C","(03.05) MMR (Booster)"]
["2021-04-01",{"$f":"VLOOKUP(J941,'Control Panel'!$G$132:$K$171,5,FALSE)","v":{"$error":"#N/A"}},null,null,"2021-05-10T16:30:00",null,"Males",143724,null,"Organisation Code"]
["2021-04-01",{"$f":"VLOOKUP(J942,'Control Panel'!$G$132:$K$171,5,FALSE)","v":"WF-6"},"WF",null,"Relative Date:",null,"Females",136412,null,"F86001",null,7787,12,6,6,10,10,8,19,15,15,16,15,16,28,24,26,18,27,18]
["2021-04-01",{"$f":"VLOOKUP(J943,'Control Panel'!$G$132:$K$171,5,FALSE)","v":"WF-1"},"WF",null,"2021-05-01",null,null,null,null,"F86005",null,9212,47,38,38,42,42,7,38,36,32,32,32,31,43,40,40,36,40,36]
["2021-04-01",{"$f":"VLOOKUP(J944,'Control Panel'!$G$132:$K$171,5,FALSE)","v":"WF-7"},"WF",null,null,null,null,null,null,"F86006",null,6668,18,14,14,16,14,3,23,22,20,19,21,21,21,19,18,17,20,18]
["2021-04-01",{"$f":"VLOOKUP(J945,'Control Panel'!$G$132:$K$171,5,FALSE)","v":"WF-3"},"WF",null,null,null,null,null,null,"F86011",null,9644,18,15,16,16,16,0,28,22,23,23,23,21,24,23,23,16,22,20]
["2021-04-01",{"$f":"VLOOKUP(J946,'Control Panel'!$G$132:$K$171,5,FALSE)","v":"WF-7"},"WF",null,null,null,null,null,null,"F86030",null,8124,39,36,37,37,30,27,34,33,31,31,31,31,22,21,21,20,21,20]
["2021-04-01",{"$f":"VLOOKUP(J947,'Control Panel'!$G$132:$K$171,5,FALSE)","v":"WF-4"},"WF",null,null,null,null,null,null,"F86036",null,15692,52,45,45,46,46,16,43,39,36,36,37,35,57,54,50,41,49,42]
["2021-04-01",{"$f":"VLOOKUP(J948,'Control Panel'!$G$132:$K$171,5,FALSE)","v":"WF-3"},"WF",null,null,null,null,null,null,"F86038",null,11563,29,27,27,27,26,1,46,40,36,36,36,36,42,35,36,37,37,38]
["2021-04-01",{"$f":"VLOOKUP(J949,'Control Panel'!$G$132:$K$171,5,FALSE)","v":"WF-4"},"WF",null,null,null,null,null,null,"F86044",null,9863,42,32,32,33,31,4,45,42,34,36,36,36,33,27,26,20,27,21]
["2021-04-01",{"$f":"VLOOKUP(J950,'Control Panel'!$G$132:$K$171,5,FALSE)","v":"WF-5"},"WF",null,null,null,null,null,null,"F86045",null,2017,5,5,5,5,4,2,5,5,4,5,4,4,3,3,3,3,3,3]
["2021-04-01",{"$f":"VLOOKUP(J951,'Control Panel'!$G$132:$K$171,5,FALSE)","v":"WF-7"},"WF",null,null,null,null,null,null,"F86058",null,16045,61,46,43,49,46,23,48,40,31,31,30,31,59,49,47,25,48,26]
["2021-04-01",{"$f":"VLOOKUP(J952,'Control Panel'!$G$132:$K$171,5,FALSE)","v":"WF-7"},"WF",null,null,null,null,null,null,"F86062",null,7313,20,17,16,17,18,5,22,22,14,14,14,15,24,20,20,11,20,12]
["2021-04-01",{"$f":"VLOOKUP(J953,'Control Panel'!$G$132:$K$171,5,FALSE)","v":"WF-2"},"WF",null,null,null,null,null,null,"F86078",null,6945,16,13,13,13,12,3,11,8,8,8,8,8,10,9,9,9,9,9]
["2021-04-01",{"$f":"VLOOKUP(J954,'Control Panel'!$G$132:$K$171,5,FALSE)","v":"WF-6"},"WF",null,null,null,null,null,null,"F86086",null,6207,16,12,12,12,12,6,27,24,25,25,25,24,22,18,20,13,20,16]
["2021-04-01",{"$f":"VLOOKUP(J955,'Control Panel'!$G$132:$K$171,5,FALSE)","v":"WF-4"},"WF",null,null,null,null,null,null,"F86088",null,4832,10,7,7,8,8,6,14,13,11,11,11,11,15,9,8,6,7,6]
["2021-04-01",{"$f":"VLOOKUP(J956,'Control Panel'!$G$132:$K$171,5,FALSE)","v":"WF-6"},"WF",null,null,null,null,null,null,"F86607",null,14672,43,41,41,41,40,16,42,37,32,32,32,32,53,51,50,50,51,50]
["2021-04-01",{"$f":"VLOOKUP(J957,'Control Panel'!$G$132:$K$171,5,FALSE)","v":"WF-2"},"WF",null,null,null,null,null,null,"F86616",null,7584,29,28,28,28,27,5,46,42,39,40,40,41,23,22,22,16,21,17]
["2021-04-01",{"$f":"VLOOKUP(J958,'Control Panel'!$G$132:$K$171,5,FALSE)","v":"WF-5"},"WF",null,null,null,null,null,null,"F86621",null,6200,24,24,24,24,24,17,22,22,21,21,21,21,19,19,19,17,19,17]
["2021-04-01",{"$f":"VLOOKUP(J959,'Control Panel'!$G$132:$K$171,5,FALSE)","v":"WF-5"},"WF",null,null,null,null,null,null,"F86625",null,5947,20,14,14,14,14,4,19,16,15,15,15,15,16,14,13,5,13,5]
["2021-04-01",{"$f":"VLOOKUP(J960,'Control Panel'!$G$132:$K$171,5,FALSE)","v":"WF-1"},"WF",null,null,null,null,null,null,"F86626",null,6520,29,25,25,26,26,9,19,17,15,15,14,15,16,13,14,10,14,10]
["2021-04-01",{"$f":"VLOOKUP(J961,'Control Panel'!$G$132:$K$171,5,FALSE)","v":"WF-2"},"WF",null,null,null,null,null,null,"F86627",null,13430,30,24,24,25,23,6,39,35,32,33,32,33,35,34,31,29,32,29]
["2021-04-01",{"$f":"VLOOKUP(J962,'Control Panel'!$G$132:$K$171,5,FALSE)","v":"WF-6"},"WF",null,null,null,null,null,null,"F86644",null,9915,21,18,18,20,20,8,34,31,30,30,30,31,33,29,26,18,27,29]
["2021-04-01",{"$f":"VLOOKUP(J963,'Control Panel'!$G$132:$K$171,5,FALSE)","v":"WF-4"},"WF",null,null,null,null,null,null,"F86650",null,8079,23,17,17,18,15,9,26,21,18,19,19,19,24,21,20,15,20,14]
["2021-04-01",{"$f":"VLOOKUP(J964,'Control Panel'!$G$132:$K$171,5,FALSE)","v":"WF-1"},"WF",null,null,null,null,null,null,"F86664",null,8440,28,26,26,26,26,11,28,24,23,23,24,23,25,23,23,18,22,19]
["2021-04-01",{"$f":"VLOOKUP(J965,'Control Panel'!$G$132:$K$171,5,FALSE)","v":"WF-5"},"WF",null,null,null,null,null,null,"F86666",null,14833,44,39,38,37,37,15,55,52,48,49,49,52,42,37,37,31,36,32]
["2021-04-01",{"$f":"VLOOKUP(J966,'Control Panel'!$G$132:$K$171,5,FALSE)","v":"WF-7"},"WF",null,null,null,null,null,null,"F86679",null,6006,23,15,15,18,17,13,35,33,29,29,28,29,33,29,27,26,28,24]
["2021-04-01",{"$f":"VLOOKUP(J967,'Control Panel'!$G$132:$K$171,5,FALSE)","v":"WF-1"},"WF",null,null,null,null,null,null,"F86689",null,4356,22,21,21,20,21,9,32,29,28,28,28,28,16,15,16,15,15,15]
["2021-04-01",{"$f":"VLOOKUP(J968,'Control Panel'!$G$132:$K$171,5,FALSE)","v":"WF-4"},"WF",null,null,null,null,null,null,"F86696",null,6626,26,20,20,23,23,4,20,19,19,18,18,18,19,14,14,11,14,10]
["2021-04-01",{"$f":"VLOOKUP(J969,'Control Panel'!$G$132:$K$171,5,FALSE)","v":"WF-1"},"WF",null,null,null,null,null,null,"F86700",null,3868,13,11,12,12,11,2,15,12,11,11,11,12,13,11,11,10,12,10]
["2021-04-01",{"$f":"VLOOKUP(J970,'Control Panel'!$G$132:$K$171,5,FALSE)","v":"WF-5"},"WF",null,null,null,null,null,null,"F86701",null,3730,11,8,8,9,9,1,5,4,4,4,4,4,9,8,6,5,7,5]
["2021-04-01",{"$f":"VLOOKUP(J971,'Control Panel'!$G$132:$K$171,5,FALSE)","v":"WF-5"},"WF",null,null,null,null,null,null,"F86705",null,3569,9,9,9,9,9,7,7,7,6,7,7,7,10,9,9,6,9,7]
["2021-04-01",{"$f":"VLOOKUP(J972,'Control Panel'!$G$132:$K$171,5,FALSE)","v":"WF-6"},"WF",null,null,null,null,null,null,"F86708",null,2777,4,1,1,2,1,0,5,4,4,4,4,4,5,5,5,4,5,4]
["2021-04-01",{"$f":"VLOOKUP(J973,'Control Panel'!$G$132:$K$171,5,FALSE)","v":"WF-4"},"WF",null,null,null,null,null,null,"F86712",null,3273,5,5,5,5,5,2,7,7,7,7,7,7,11,11,11,10,11,10]
["2021-04-01",{"$f":"VLOOKUP(J974,'Control Panel'!$G$132:$K$171,5,FALSE)","v":"WF-2"},"WF",null,null,null,null,null,null,"Y01291",null,8948,34,31,31,32,31,23,28,28,26,27,27,27,29,27,25,24,25,24]
["2021-04-01",{"$f":"VLOOKUP(J975,'Control Panel'!$G$132:$K$171,5,FALSE)","v":"WF-1"},"WF",null,null,null,null,null,null,"Y01839",null,6361,24,20,21,21,20,8,22,22,19,19,19,19,20,20,18,14,20,14]
["2021-04-01",{"$f":"VLOOKUP(J976,'Control Panel'!$G$132:$K$171,5,FALSE)","v":{"$error":"#N/A"}},null,null,null,null,null,null,null,"Total",null,267046,847,710,709,741,714,280,909,823,746,754,752,757,854,763,744,606,751,630]
["2021-05-01",{"$f":"VLOOKUP(J977,'Control Panel'!$G$132:$K$171,5,FALSE)","v":{"$error":"#N/A"}},"Childhood Immunisations Q1",null,"Last Run:",null,"Population Count",280855,null,null,"Search","All Patients","(01) 12 MONTH COHORT","(01.01) DTaP/IPV/Hib/HepB","(01.02) Men B (1st and 2nd)","(01.03) PCV","(01.04) Rotavirus","(01.05) BCG","(02) 24 MONTH COHORT","(02.01) DTaP/IPV/Hib or DTaP/IPV/Hib/HepB","(02.02) MMR","(02.03) HiB/Men C","(02.04) PCV (Booster)","(02.05) Men B (Booster)","(03) 5 YEAR COHORT","(03.01) DTaP/IPV/Hib or DTaP/IPV/Hib/HepB","(03.02) MMR (Primary)","(03.03) DTaP/IPV (Booster)","(03.04) HiB/Men C","(03.05) MMR (Booster)"]
["2021-05-01",{"$f":"VLOOKUP(J978,'Control Panel'!$G$132:$K$171,5,FALSE)","v":{"$error":"#N/A"}},null,null,"2021-06-02T09:37:00",null,"Males",144109,null,"Organisation Code"]
["2021-05-01",{"$f":"VLOOKUP(J979,'Control Panel'!$G$132:$K$171,5,FALSE)","v":"WF-6"},"WF",null,"Relative Date:",null,"Females",136746,null,"F86001",null,7765,11,6,6,9,9,7,19,15,15,16,15,16,28,24,26,18,27,18]
["2021-05-01",{"$f":"VLOOKUP(J980,'Control Panel'!$G$132:$K$171,5,FALSE)","v":"WF-1"},"WF",null,"2021-06-01",null,null,null,null,"F86005",null,9280,47,38,38,42,42,7,38,36,32,32,32,31,42,39,39,35,39,35]
["2021-05-01",{"$f":"VLOOKUP(J981,'Control Panel'!$G$132:$K$171,5,FALSE)","v":"WF-7"},"WF",null,null,null,null,null,null,"F86006",null,6710,18,14,15,17,15,3,23,22,20,19,21,21,22,19,18,18,21,18]
["2021-05-01",{"$f":"VLOOKUP(J982,'Control Panel'!$G$132:$K$171,5,FALSE)","v":"WF-3"},"WF",null,null,null,null,null,null,"F86011",null,9607,18,15,16,16,16,0,29,22,24,24,24,21,24,23,23,16,22,20]
["2021-05-01",{"$f":"VLOOKUP(J983,'Control Panel'!$G$132:$K$171,5,FALSE)","v":"WF-7"},"WF",null,null,null,null,null,null,"F86030",null,8094,39,37,37,37,30,27,33,33,31,31,31,31,20,19,19,18,19,18]
["2021-05-01",{"$f":"VLOOKUP(J984,'Control Panel'!$G$132:$K$171,5,FALSE)","v":"WF-4"},"WF",null,null,null,null,null,null,"F86036",null,15630,51,45,44,46,46,17,43,39,36,36,37,35,57,54,50,41,49,42]
["2021-05-01",{"$f":"VLOOKUP(J985,'Control Panel'!$G$132:$K$171,5,FALSE)","v":"WF-3"},"WF",null,null,null,null,null,null,"F86038",null,11588,29,27,27,27,26,1,46,40,37,37,37,37,41,34,35,36,36,37]
["2021-05-01",{"$f":"VLOOKUP(J986,'Control Panel'!$G$132:$K$171,5,FALSE)","v":"WF-4"},"WF",null,null,null,null,null,null,"F86044",null,9934,41,31,31,32,30,4,46,42,34,36,36,36,33,27,26,20,27,21]
["2021-05-01",{"$f":"VLOOKUP(J987,'Control Panel'!$G$132:$K$171,5,FALSE)","v":"WF-5"},"WF",null,null,null,null,null,null,"F86045",null,2005,5,5,5,5,4,2,3,3,2,3,3,2,3,3,3,3,3,3]
["2021-05-01",{"$f":"VLOOKUP(J988,'Control Panel'!$G$132:$K$171,5,FALSE)","v":"WF-7"},"WF",null,null,null,null,null,null,"F86058",null,16118,61,47,44,49,46,23,48,40,31,31,30,31,59,49,47,25,48,26]
["2021-05-01",{"$f":"VLOOKUP(J989,'Control Panel'!$G$132:$K$171,5,FALSE)","v":"WF-7"},"WF",null,null,null,null,null,null,"F86062",null,7341,21,18,17,18,19,6,21,21,13,13,13,14,24,20,20,11,20,12]
["2021-05-01",{"$f":"VLOOKUP(J990,'Control Panel'!$G$132:$K$171,5,FALSE)","v":"WF-2"},"WF",null,null,null,null,null,null,"F86078",null,6966,16,13,13,13,12,3,11,8,8,8,8,8,10,9,9,9,9,9]
["2021-05-01",{"$f":"VLOOKUP(J991,'Control Panel'!$G$132:$K$171,5,FALSE)","v":"WF-6"},"WF",null,null,null,null,null,null,"F86086",null,6180,16,12,12,12,12,6,27,24,25,25,25,24,22,18,20,13,20,16]
["2021-05-01",{"$f":"VLOOKUP(J992,'Control Panel'!$G$132:$K$171,5,FALSE)","v":"WF-4"},"WF",null,null,null,null,null,null,"F86088",null,4848,10,7,7,8,8,6,14,13,11,11,11,11,14,8,7,5,6,5]
["2021-05-01",{"$f":"VLOOKUP(J993,'Control Panel'!$G$132:$K$171,5,FALSE)","v":"WF-6"},"WF",null,null,null,null,null,null,"F86607",null,14803,44,41,42,42,41,16,44,37,32,32,32,32,54,52,51,51,52,51]
["2021-05-01",{"$f":"VLOOKUP(J994,'Control Panel'!$G$132:$K$171,5,FALSE)","v":"WF-2"},"WF",null,null,null,null,null,null,"F86616",null,7642,30,29,29,29,28,5,45,41,38,39,39,40,23,22,22,17,21,18]
["2021-05-01",{"$f":"VLOOKUP(J995,'Control Panel'!$G$132:$K$171,5,FALSE)","v":"WF-5"},"WF",null,null,null,null,null,null,"F86621",null,6237,24,24,24,24,24,17,23,23,21,22,22,22,19,19,19,17,19,17]
["2021-05-01",{"$f":"VLOOKUP(J996,'Control Panel'!$G$132:$K$171,5,FALSE)","v":"WF-5"},"WF",null,null,null,null,null,null,"F86625",null,5935,19,13,13,13,13,4,19,16,15,16,16,15,16,14,13,5,13,5]
["2021-05-01",{"$f":"VLOOKUP(J997,'Control Panel'!$G$132:$K$171,5,FALSE)","v":"WF-1"},"WF",null,null,null,null,null,null,"F86626",null,6577,29,25,25,26,26,9,21,18,16,16,15,16,16,13,14,10,14,10]
["2021-05-01",{"$f":"VLOOKUP(J998,'Control Panel'!$G$132:$K$171,5,FALSE)","v":"WF-2"},"WF",null,null,null,null,null,null,"F86627",null,13405,30,23,23,24,22,6,39,35,32,33,32,33,36,35,32,29,33,29]
["2021-05-01",{"$f":"VLOOKUP(J999,'Control Panel'!$G$132:$K$171,5,FALSE)","v":"WF-6"},"WF",null,null,null,null,null,null,"F86644",null,9921,21,18,18,20,20,8,34,31,30,30,30,31,33,29,26,18,27,29]
["2021-05-01",{"$f":"VLOOKUP(J1000,'Control Panel'!$G$132:$K$171,5,FALSE)","v":"WF-4"},"WF",null,null,null,null,null,null,"F86650",null,8062,23,17,17,18,15,9,26,21,18,19,19,19,24,21,20,15,20,14]
["2021-05-01",{"$f":"VLOOKUP(J1001,'Control Panel'!$G$132:$K$171,5,FALSE)","v":"WF-1"},"WF",null,null,null,null,null,null,"F86664",null,8453,28,26,26,26,26,11,28,24,23,23,24,23,25,23,23,18,22,19]
["2021-05-01",{"$f":"VLOOKUP(J1002,'Control Panel'!$G$132:$K$171,5,FALSE)","v":"WF-5"},"WF",null,null,null,null,null,null,"F86666",null,14830,44,39,38,37,37,15,55,51,48,49,49,51,41,36,36,30,35,31]
["2021-05-01",{"$f":"VLOOKUP(J1003,'Control Panel'!$G$132:$K$171,5,FALSE)","v":"WF-7"},"WF",null,null,null,null,null,null,"F86679",null,6045,23,15,15,18,17,13,34,32,28,28,27,28,33,29,27,26,28,24]
["2021-05-01",{"$f":"VLOOKUP(J1004,'Control Panel'!$G$132:$K$171,5,FALSE)","v":"WF-1"},"WF",null,null,null,null,null,null,"F86689",null,4357,22,21,21,20,21,9,32,30,29,29,29,29,16,15,16,15,15,15]
["2021-05-01",{"$f":"VLOOKUP(J1005,'Control Panel'!$G$132:$K$171,5,FALSE)","v":"WF-4"},"WF",null,null,null,null,null,null,"F86696",null,6751,26,20,20,23,23,4,21,20,19,18,18,19,19,14,14,11,14,10]
["2021-05-01",{"$f":"VLOOKUP(J1006,'Control Panel'!$G$132:$K$171,5,FALSE)","v":"WF-1"},"WF",null,null,null,null,null,null,"F86700",null,3865,13,11,12,12,11,2,14,11,10,10,10,11,13,11,11,10,12,10]
["2021-05-01",{"$f":"VLOOKUP(J1007,'Control Panel'!$G$132:$K$171,5,FALSE)","v":"WF-5"},"WF",null,null,null,null,null,null,"F86701",null,3727,11,8,8,9,9,1,5,4,4,4,4,4,9,8,6,5,7,5]
["2021-05-01",{"$f":"VLOOKUP(J1008,'Control Panel'!$G$132:$K$171,5,FALSE)","v":"WF-5"},"WF",null,null,null,null,null,null,"F86705",null,3594,9,9,9,9,9,9,7,7,6,7,7,7,10,9,9,6,9,7]
["2021-05-01",{"$f":"VLOOKUP(J1009,'Control Panel'!$G$132:$K$171,5,FALSE)","v":"WF-6"},"WF",null,null,null,null,null,null,"F86708",null,2794,4,1,2,2,1,0,5,4,4,4,4,4,5,5,5,5,5,5]
["2021-05-01",{"$f":"VLOOKUP(J1010,'Control Panel'!$G$132:$K$171,5,FALSE)","v":"WF-4"},"WF",null,null,null,null,null,null,"F86712",null,3310,5,5,5,5,5,2,7,7,7,7,7,7,11,11,11,10,11,10]
["2021-05-01",{"$f":"VLOOKUP(J1011,'Control Panel'!$G$132:$K$171,5,FALSE)","v":"WF-2"},"WF",null,null,null,null,null,null,"Y01291",null,9029,34,30,30,32,31,24,28,28,26,27,27,27,29,27,25,24,25,24]
["2021-05-01",{"$f":"VLOOKUP(J1012,'Control Panel'!$G$132:$K$171,5,FALSE)","v":"WF-1"},"WF",null,null,null,null,null,null,"Y01839",null,6382,24,20,21,21,20,8,22,22,19,19,19,19,20,20,18,14,20,14]
["2021-05-01",{"$f":"VLOOKUP(J1013,'Control Panel'!$G$132:$K$171,5,FALSE)","v":{"$error":"#N/A"}},null,null,null,null,null,null,null,"Total",null,267785,846,710,710,741,714,284,910,820,744,754,753,755,851,759,740,604,748,627]
["2021-06-01",{"$f":"VLOOKUP(J1014,'Control Panel'!$G$132:$K$171,5,FALSE)","v":{"$error":"#N/A"}},"Childhood Immunisations Q1",null,"Last Run:",null,"Population Count",281199,null,null,"Search","All Patients","(01) 12 MONTH COHORT","(01.01) DTaP/IPV/Hib/HepB","(01.02) Men B (1st and 2nd)","(01.03) PCV","(01.04) Rotavirus","(01.05) BCG","(02) 24 MONTH COHORT","(02.01) DTaP/IPV/Hib or DTaP/IPV/Hib/HepB","(02.02) MMR","(02.03) HiB/Men C","(02.04) PCV (Booster)","(02.05) Men B (Booster)","(03) 5 YEAR COHORT","(03.01) DTaP/IPV/Hib or DTaP/IPV/Hib/HepB","(03.02) MMR (Primary)","(03.03) DTaP/IPV (Booster)","(03.04) HiB/Men C","(03.05) MMR (Booster)"]
["2021-06-01",{"$f":"VLOOKUP(J1015,'Control Panel'!$G$132:$K$171,5,FALSE)","v":{"$error":"#N/A"}},null,null,"2021-07-02T09:35:00",null,"Males",144411,null,"Organisation Code"]
["2021-06-01",{"$f":"VLOOKUP(J1016,'Control Panel'!$G$132:$K$171,5,FALSE)","v":"WF-6"},"WF",null,"Relative Date:",null,"Females",136788,null,"F86001",null,7756,12,6,6,10,10,7,19,15,15,16,15,16,28,24,26,18,27,18]
["2021-06-01",{"$f":"VLOOKUP(J1017,'Control Panel'!$G$132:$K$171,5,FALSE)","v":"WF-1"},"WF",null,"2021-07-01",null,null,null,null,"F86005",null,9320,46,38,38,42,41,7,37,35,32,31,32,30,41,38,38,34,38,34]
["2021-06-01",{"$f":"VLOOKUP(J1018,'Control Panel'!$G$132:$K$171,5,FALSE)","v":"WF-7"},"WF",null,null,null,null,null,null,"F86006",null,6689,17,13,14,16,14,3,23,22,20,19,21,21,22,19,18,18,21,18]
["2021-06-01",{"$f":"VLOOKUP(J1019,'Control Panel'!$G$132:$K$171,5,FALSE)","v":"WF-3"},"WF",null,null,null,null,null,null,"F86011",null,9612,18,15,16,16,16,0,30,23,24,24,24,21,24,23,23,16,22,20]
["2021-06-01",{"$f":"VLOOKUP(J1020,'Control Panel'!$G$132:$K$171,5,FALSE)","v":"WF-7"},"WF",null,null,null,null,null,null,"F86030",null,8111,39,37,37,37,30,27,33,33,31,31,31,31,20,19,19,18,19,18]
["2021-06-01",{"$f":"VLOOKUP(J1021,'Control Panel'!$G$132:$K$171,5,FALSE)","v":"WF-4"},"WF",null,null,null,null,null,null,"F86036",null,15454,50,44,43,45,45,17,43,39,36,36,37,35,57,54,50,41,49,42]
["2021-06-01",{"$f":"VLOOKUP(J1022,'Control Panel'!$G$132:$K$171,5,FALSE)","v":"WF-3"},"WF",null,null,null,null,null,null,"F86038",null,11571,29,27,27,27,26,1,46,40,37,37,37,37,41,35,36,36,36,37]
["2021-06-01",{"$f":"VLOOKUP(J1023,'Control Panel'!$G$132:$K$171,5,FALSE)","v":"WF-4"},"WF",null,null,null,null,null,null,"F86044",null,9921,41,31,31,32,30,4,45,41,33,35,35,35,33,27,26,20,27,22]
["2021-06-01",{"$f":"VLOOKUP(J1024,'Control Panel'!$G$132:$K$171,5,FALSE)","v":"WF-5"},"WF",null,null,null,null,null,null,"F86045",null,2017,5,5,5,5,4,2,3,3,2,3,3,2,3,3,3,3,3,3]
["2021-06-01",{"$f":"VLOOKUP(J1025,'Control Panel'!$G$132:$K$171,5,FALSE)","v":"WF-7"},"WF",null,null,null,null,null,null,"F86058",null,16369,61,47,44,49,46,23,49,41,32,32,31,32,59,49,47,25,48,26]
["2021-06-01",{"$f":"VLOOKUP(J1026,'Control Panel'!$G$132:$K$171,5,FALSE)","v":"WF-7"},"WF",null,null,null,null,null,null,"F86062",null,7329,21,18,17,18,19,6,21,21,13,13,13,14,24,20,20,11,20,12]
["2021-06-01",{"$f":"VLOOKUP(J1027,'Control Panel'!$G$132:$K$171,5,FALSE)","v":"WF-2"},"WF",null,null,null,null,null,null,"F86078",null,6911,16,13,13,13,12,3,11,8,8,8,8,8,9,9,9,9,9,9]
["2021-06-01",{"$f":"VLOOKUP(J1028,'Control Panel'!$G$132:$K$171,5,FALSE)","v":"WF-6"},"WF",null,null,null,null,null,null,"F86086",null,6163,16,12,12,12,12,6,24,21,22,22,22,21,22,18,20,13,20,16]
["2021-06-01",{"$f":"VLOOKUP(J1029,'Control Panel'!$G$132:$K$171,5,FALSE)","v":"WF-4"},"WF",null,null,null,null,null,null,"F86088",null,4871,10,7,7,8,8,6,14,13,11,11,11,11,14,8,7,5,6,5]
["2021-06-01",{"$f":"VLOOKUP(J1030,'Control Panel'!$G$132:$K$171,5,FALSE)","v":"WF-6"},"WF",null,null,null,null,null,null,"F86607",null,14915,45,42,43,43,42,16,45,38,33,33,33,33,54,52,51,51,52,51]
["2021-06-01",{"$f":"VLOOKUP(J1031,'Control Panel'!$G$132:$K$171,5,FALSE)","v":"WF-2"},"WF",null,null,null,null,null,null,"F86616",null,7699,30,29,29,29,28,5,45,41,38,39,39,40,24,22,22,17,21,18]
["2021-06-01",{"$f":"VLOOKUP(J1032,'Control Panel'!$G$132:$K$171,5,FALSE)","v":"WF-5"},"WF",null,null,null,null,null,null,"F86621",null,6282,26,25,26,26,26,18,22,22,20,21,21,21,19,19,19,17,19,17]
["2021-06-01",{"$f":"VLOOKUP(J1033,'Control Panel'!$G$132:$K$171,5,FALSE)","v":"WF-5"},"WF",null,null,null,null,null,null,"F86625",null,5921,19,13,13,13,13,4,19,16,15,16,16,15,16,14,13,5,13,5]
["2021-06-01",{"$f":"VLOOKUP(J1034,'Control Panel'!$G$132:$K$171,5,FALSE)","v":"WF-1"},"WF",null,null,null,null,null,null,"F86626",null,6678,29,25,25,26,26,9,21,17,15,15,15,15,16,13,14,10,14,10]
["2021-06-01",{"$f":"VLOOKUP(J1035,'Control Panel'!$G$132:$K$171,5,FALSE)","v":"WF-2"},"WF",null,null,null,null,null,null,"F86627",null,13427,29,22,22,23,21,6,40,36,33,34,34,34,36,35,32,29,33,29]
["2021-06-01",{"$f":"VLOOKUP(J1036,'Control Panel'!$G$132:$K$171,5,FALSE)","v":"WF-6"},"WF",null,null,null,null,null,null,"F86644",null,9973,21,18,18,20,20,8,34,31,30,30,30,31,33,29,26,18,27,29]
["2021-06-01",{"$f":"VLOOKUP(J1037,'Control Panel'!$G$132:$K$171,5,FALSE)","v":"WF-4"},"WF",null,null,null,null,null,null,"F86650",null,8053,24,18,18,19,16,10,23,19,17,17,17,17,25,21,20,15,20,14]
["2021-06-01",{"$f":"VLOOKUP(J1038,'Control Panel'!$G$132:$K$171,5,FALSE)","v":"WF-1"},"WF",null,null,null,null,null,null,"F86664",null,8445,28,27,27,27,27,11,28,24,23,23,24,23,26,23,23,18,22,19]
["2021-06-01",{"$f":"VLOOKUP(J1039,'Control Panel'!$G$132:$K$171,5,FALSE)","v":"WF-5"},"WF",null,null,null,null,null,null,"F86666",null,14831,44,39,38,37,37,15,55,51,48,49,49,51,40,35,35,29,34,30]
["2021-06-01",{"$f":"VLOOKUP(J1040,'Control Panel'!$G$132:$K$171,5,FALSE)","v":"WF-7"},"WF",null,null,null,null,null,null,"F86679",null,6047,23,15,15,19,18,13,34,32,28,28,27,28,33,29,27,26,28,24]
["2021-06-01",{"$f":"VLOOKUP(J1041,'Control Panel'!$G$132:$K$171,5,FALSE)","v":"WF-1"},"WF",null,null,null,null,null,null,"F86689",null,4365,24,23,23,22,23,9,31,29,28,28,28,28,15,14,15,14,14,14]
["2021-06-01",{"$f":"VLOOKUP(J1042,'Control Panel'!$G$132:$K$171,5,FALSE)","v":"WF-4"},"WF",null,null,null,null,null,null,"F86696",null,6746,26,20,20,23,23,4,21,20,19,18,18,19,19,14,14,11,14,10]
["2021-06-01",{"$f":"VLOOKUP(J1043,'Control Panel'!$G$132:$K$171,5,FALSE)","v":"WF-1"},"WF",null,null,null,null,null,null,"F86700",null,3863,13,11,12,12,11,2,14,11,10,10,10,11,14,12,11,10,13,10]
["2021-06-01",{"$f":"VLOOKUP(J1044,'Control Panel'!$G$132:$K$171,5,FALSE)","v":"WF-5"},"WF",null,null,null,null,null,null,"F86701",null,3724,11,8,8,9,9,1,5,4,4,4,4,4,9,8,6,5,7,5]
["2021-06-01",{"$f":"VLOOKUP(J1045,'Control Panel'!$G$132:$K$171,5,FALSE)","v":"WF-5"},"WF",null,null,null,null,null,null,"F86705",null,3563,9,9,9,9,9,9,7,7,6,7,7,7,9,8,8,5,8,6]
["2021-06-01",{"$f":"VLOOKUP(J1046,'Control Panel'!$G$132:$K$171,5,FALSE)","v":"WF-6"},"WF",null,null,null,null,null,null,"F86708",null,2824,4,1,2,2,1,0,5,4,4,4,4,4,5,5,5,5,5,5]
["2021-06-01",{"$f":"VLOOKUP(J1047,'Control Panel'!$G$132:$K$171,5,FALSE)","v":"WF-4"},"WF",null,null,null,null,null,null,"F86712",null,3295,5,5,5,5,5,2,7,7,7,7,7,7,11,11,11,10,11,10]
["2021-06-01",{"$f":"VLOOKUP(J1048,'Control Panel'!$G$132:$K$171,5,FALSE)","v":"WF-2"},"WF",null,null,null,null,null,null,"Y01291",null,9024,35,32,32,33,32,26,28,28,26,27,27,27,28,26,24,23,24,23]
["2021-06-01",{"$f":"VLOOKUP(J1049,'Control Panel'!$G$132:$K$171,5,FALSE)","v":"WF-1"},"WF",null,null,null,null,null,null,"Y01839",null,6385,24,20,21,21,20,8,22,22,19,19,19,19,20,20,18,14,20,14]
["2021-06-01",{"$f":"VLOOKUP(J1050,'Control Panel'!$G$132:$K$171,5,FALSE)","v":"WF-2"},"WF",null,null,null,null,null,null,"F86004",null,16088,54,49,49,45,1,27,44,42,40,40,42,42,56,36,40,49,41,1]
["2021-06-01",{"$f":"VLOOKUP(J1051,'Control Panel'!$G$132:$K$171,5,FALSE)","v":"WF-4"},"WF",null,null,null,null,null,null,"F86018",null,9996,22,19,18,17,1,7,26,24,21,21,24,24,30,17,19,22,19,22]
["2021-06-01",{"$f":"VLOOKUP(J1052,'Control Panel'!$G$132:$K$171,5,FALSE)","v":"WF-1"},"WF",null,null,null,null,null,null,"F86026",null,7251,17,16,16,14,13,0,18,16,14,14,16,15,42,31,30,22,29,17]
["2021-06-01",{"$f":"VLOOKUP(J1053,'Control Panel'!$G$132:$K$171,5,FALSE)","v":"WF-3"},"WF",null,null,null,null,null,null,"F86074",null,15187,64,54,54,53,0,26,52,37,37,37,42,42,41,26,27,23,26,11]
["2021-06-01",{"$f":"VLOOKUP(J1054,'Control Panel'!$G$132:$K$171,5,FALSE)","v":"WF-1"},"WF",null,null,null,null,null,null,"F86638",null,5259,19,18,17,18,2,1,16,15,14,14,16,15,18,13,11,11,11,11]
["2021-06-01",{"$f":"VLOOKUP(J1055,'Control Panel'!$G$132:$K$171,5,FALSE)","v":{"$error":"#N/A"}},null,null,null,null,null,null,null,"Total",null,{"$f":"SUM(L1016:L1054)","v":321935},{"$f":"SUM(M1016:M1054)","v":1026},871,870,895,737,349,1060,948,865,873,889,886,1036,879,863,726,870,685]
["2021-07-01",{"$f":"VLOOKUP(J1056,'Control Panel'!$G$132:$K$171,5,FALSE)","v":{"$error":"#N/A"}},"Childhood Immunisations Q2",null,"Last Run:",null,"Population Count",281705,null,null,"Search","All Patients","(01) 12 MONTH COHORT","(01.01) DTaP/IPV/Hib 6in1","(01.02) Men B (1st and 2nd)","(01.03) PCV","(01.04) Rotavirus","(01.05) BCG","(02) 24 MONTH COHORT","(02.01) DTaP/IPV/Hib Combined","(02.02) MMR","(02.03) HiB/Men C","(02.04) PCV (Booster)","(02.05) Men B (Booster)","(03) 5 YEAR COHORT","(03.01) DTaP/IPV/Hib Combined","(03.02) MMR (Primary)","(03.03) DTaP/IPV (Booster)","(03.04) HiB/Men C","(03.05) MMR (Booster)"]
["2021-07-01",{"$f":"VLOOKUP(J1057,'Control Panel'!$G$132:$K$171,5,FALSE)","v":{"$error":"#N/A"}},null,null,"2021-08-02T09:44:00",null,"Males",144821,null,"Organisation Code"]
["2021-07-01",{"$f":"VLOOKUP(J1058,'Control Panel'!$G$132:$K$171,5,FALSE)","v":"WF-6"},"WF",null,"Relative Date:",null,"Females",136884,null,"F86001",null,7750,18,15,14,17,15,8,27,21,22,22,22,22,20,14,14,8,16,11]
["2021-07-01",{"$f":"VLOOKUP(J1059,'Control Panel'!$G$132:$K$171,5,FALSE)","v":"WF-1"},"WF",null,"2021-08-01",null,null,null,null,"F86005",null,9378,36,30,30,30,32,8,44,40,37,38,37,38,39,38,38,35,38,34]
["2021-07-01",{"$f":"VLOOKUP(J1060,'Control Panel'!$G$132:$K$171,5,FALSE)","v":"WF-7"},"WF",null,null,null,null,null,null,"F86006",null,6663,22,19,19,19,19,6,13,9,8,8,8,8,15,12,12,9,11,9]
["2021-07-01",{"$f":"VLOOKUP(J1061,'Control Panel'!$G$132:$K$171,5,FALSE)","v":"WF-3"},"WF",null,null,null,null,null,null,"F86011",null,9604,17,14,14,16,14,9,22,21,15,15,15,15,28,26,27,23,26,24]
["2021-07-01",{"$f":"VLOOKUP(J1062,'Control Panel'!$G$132:$K$171,5,FALSE)","v":"WF-7"},"WF",null,null,null,null,null,null,"F86030",null,8119,27,25,24,25,24,9,38,32,31,32,32,32,36,32,30,29,31,29]
["2021-07-01",{"$f":"VLOOKUP(J1063,'Control Panel'!$G$132:$K$171,5,FALSE)","v":"WF-4"},"WF",null,null,null,null,null,null,"F86036",null,15311,55,50,50,50,50,22,67,62,59,60,61,61,58,57,53,47,54,47]
["2021-07-01",{"$f":"VLOOKUP(J1064,'Control Panel'!$G$132:$K$171,5,FALSE)","v":"WF-3"},"WF",null,null,null,null,null,null,"F86038",null,11548,37,32,31,32,31,2,33,26,25,24,24,24,47,45,42,35,42,35]
["2021-07-01",{"$f":"VLOOKUP(J1065,'Control Panel'!$G$132:$K$171,5,FALSE)","v":"WF-4"},"WF",null,null,null,null,null,null,"F86044",null,10024,48,41,40,40,37,16,46,43,41,41,41,41,35,29,29,21,28,24]
["2021-07-01",{"$f":"VLOOKUP(J1066,'Control Panel'!$G$132:$K$171,5,FALSE)","v":"WF-5"},"WF",null,null,null,null,null,null,"F86045",null,2010,3,2,2,2,2,0,3,2,2,2,2,2,4,3,3,3,3,3]
["2021-07-01",{"$f":"VLOOKUP(J1067,'Control Panel'!$G$132:$K$171,5,FALSE)","v":"WF-7"},"WF",null,null,null,null,null,null,"F86058",null,16489,64,54,53,55,47,17,60,51,40,40,40,41,68,58,56,41,56,42]
["2021-07-01",{"$f":"VLOOKUP(J1068,'Control Panel'!$G$132:$K$171,5,FALSE)","v":"WF-7"},"WF",null,null,null,null,null,null,"F86062",null,7322,25,21,20,23,23,8,18,15,13,13,13,13,16,13,12,8,12,9]
["2021-07-01",{"$f":"VLOOKUP(J1069,'Control Panel'!$G$132:$K$171,5,FALSE)","v":"WF-2"},"WF",null,null,null,null,null,null,"F86078",null,6961,7,6,6,6,7,0,10,10,10,10,10,10,16,16,16,16,16,16]
["2021-07-01",{"$f":"VLOOKUP(J1070,'Control Panel'!$G$132:$K$171,5,FALSE)","v":"WF-6"},"WF",null,null,null,null,null,null,"F86086",null,6158,26,19,19,22,22,11,27,24,21,21,21,21,30,28,27,15,27,20]
["2021-07-01",{"$f":"VLOOKUP(J1071,'Control Panel'!$G$132:$K$171,5,FALSE)","v":"WF-4"},"WF",null,null,null,null,null,null,"F86088",null,4899,13,11,10,11,10,7,10,9,6,7,7,7,8,7,7,4,7,4]
["2021-07-01",{"$f":"VLOOKUP(J1072,'Control Panel'!$G$132:$K$171,5,FALSE)","v":"WF-6"},"WF",null,null,null,null,null,null,"F86607",null,15005,75,68,68,69,67,19,43,39,33,36,36,36,60,55,54,52,54,53]
["2021-07-01",{"$f":"VLOOKUP(J1073,'Control Panel'!$G$132:$K$171,5,FALSE)","v":"WF-2"},"WF",null,null,null,null,null,null,"F86616",null,7761,36,31,30,32,31,8,47,43,41,41,40,39,28,26,26,25,25,25]
["2021-07-01",{"$f":"VLOOKUP(J1074,'Control Panel'!$G$132:$K$171,5,FALSE)","v":"WF-5"},"WF",null,null,null,null,null,null,"F86621",null,6324,21,20,20,20,20,10,19,18,15,15,15,15,11,9,6,6,8,6]
["2021-07-01",{"$f":"VLOOKUP(J1075,'Control Panel'!$G$132:$K$171,5,FALSE)","v":"WF-5"},"WF",null,null,null,null,null,null,"F86625",null,5927,15,13,13,14,13,4,14,12,11,11,11,11,16,11,11,11,11,10]
["2021-07-01",{"$f":"VLOOKUP(J1076,'Control Panel'!$G$132:$K$171,5,FALSE)","v":"WF-1"},"WF",null,null,null,null,null,null,"F86626",null,6750,29,26,26,29,25,9,22,19,16,16,16,16,24,22,23,15,23,16]
["2021-07-01",{"$f":"VLOOKUP(J1077,'Control Panel'!$G$132:$K$171,5,FALSE)","v":"WF-2"},"WF",null,null,null,null,null,null,"F86627",null,13402,36,33,33,33,33,9,26,22,21,21,21,21,34,33,32,27,32,26]
["2021-07-01",{"$f":"VLOOKUP(J1078,'Control Panel'!$G$132:$K$171,5,FALSE)","v":"WF-6"},"WF",null,null,null,null,null,null,"F86644",null,9770,22,18,18,18,17,8,36,34,32,32,32,31,16,15,15,5,14,15]
["2021-07-01",{"$f":"VLOOKUP(J1079,'Control Panel'!$G$132:$K$171,5,FALSE)","v":"WF-4"},"WF",null,null,null,null,null,null,"F86650",null,8065,26,22,21,22,20,7,26,23,20,20,20,20,27,24,22,14,21,14]
["2021-07-01",{"$f":"VLOOKUP(J1080,'Control Panel'!$G$132:$K$171,5,FALSE)","v":"WF-1"},"WF",null,null,null,null,null,null,"F86664",null,8440,17,15,15,16,16,1,28,27,21,21,21,21,28,27,27,24,27,24]
["2021-07-01",{"$f":"VLOOKUP(J1081,'Control Panel'!$G$132:$K$171,5,FALSE)","v":"WF-5"},"WF",null,null,null,null,null,null,"F86666",null,14805,34,30,28,32,32,8,49,45,36,37,35,41,51,47,45,33,44,36]
["2021-07-01",{"$f":"VLOOKUP(J1082,'Control Panel'!$G$132:$K$171,5,FALSE)","v":"WF-7"},"WF",null,null,null,null,null,null,"F86679",null,6071,29,24,24,26,25,17,28,27,23,23,23,23,33,29,28,22,28,23]
["2021-07-01",{"$f":"VLOOKUP(J1083,'Control Panel'!$G$132:$K$171,5,FALSE)","v":"WF-1"},"WF",null,null,null,null,null,null,"F86689",null,4363,18,16,16,16,16,4,20,18,18,18,18,17,22,20,21,19,20,19]
["2021-07-01",{"$f":"VLOOKUP(J1084,'Control Panel'!$G$132:$K$171,5,FALSE)","v":"WF-4"},"WF",null,null,null,null,null,null,"F86696",null,6837,30,23,23,25,25,2,28,26,24,24,24,24,22,18,19,17,18,19]
["2021-07-01",{"$f":"VLOOKUP(J1085,'Control Panel'!$G$132:$K$171,5,FALSE)","v":"WF-1"},"WF",null,null,null,null,null,null,"F86700",null,3859,11,11,10,11,10,3,11,10,7,6,7,7,9,9,8,9,8,9]
["2021-07-01",{"$f":"VLOOKUP(J1086,'Control Panel'!$G$132:$K$171,5,FALSE)","v":"WF-5"},"WF",null,null,null,null,null,null,"F86701",null,3744,10,8,8,8,8,4,16,13,10,11,11,11,8,8,8,7,8,7]
["2021-07-01",{"$f":"VLOOKUP(J1087,'Control Panel'!$G$132:$K$171,5,FALSE)","v":"WF-5"},"WF",null,null,null,null,null,null,"F86705",null,3549,6,6,6,6,6,1,7,7,7,7,7,7,9,9,9,7,9,8]
["2021-07-01",{"$f":"VLOOKUP(J1088,'Control Panel'!$G$132:$K$171,5,FALSE)","v":"WF-6"},"WF",null,null,null,null,null,null,"F86708",null,2833,5,5,5,5,5,0,10,10,9,9,9,9,10,10,10,9,10,9]
["2021-07-01",{"$f":"VLOOKUP(J1089,'Control Panel'!$G$132:$K$171,5,FALSE)","v":"WF-4"},"WF",null,null,null,null,null,null,"F86712",null,3308,10,10,10,10,10,4,7,6,4,4,4,4,6,5,6,5,6,5]
["2021-07-01",{"$f":"VLOOKUP(J1090,'Control Panel'!$G$132:$K$171,5,FALSE)","v":"WF-2"},"WF",null,null,null,null,null,null,"Y01291",null,9021,25,23,23,24,24,15,27,25,25,26,26,25,31,29,29,25,29,25]
["2021-07-01",{"$f":"VLOOKUP(J1091,'Control Panel'!$G$132:$K$171,5,FALSE)","v":"WF-1"},"WF",null,null,null,null,null,null,"Y01839",null,6355,17,13,13,13,13,0,9,9,6,7,7,7,22,22,20,18,22,18]
["2021-07-01",{"$f":"VLOOKUP(J1092,'Control Panel'!$G$132:$K$171,5,FALSE)","v":{"$error":"#N/A"}},null,null,null,null,null,null,null,"Total",null,268425,870,754,742,777,749,256,891,798,709,718,716,720,887,806,785,644,784,674]
["2021-07-01",{"$f":"VLOOKUP(J1093,'Control Panel'!$G$132:$K$171,5,FALSE)","v":"WF-2"},"WF",null,null,null,null,null,null,"F86004",null,16104,54,49,49,45,1,27,43,41,39,39,41,41,56,36,40,49,41,1]
["2021-07-01",{"$f":"VLOOKUP(J1094,'Control Panel'!$G$132:$K$171,5,FALSE)","v":"WF-4"},"WF",null,null,null,null,null,null,"F86018",null,10006,22,19,18,17,1,7,26,24,23,23,24,24,31,17,19,22,19,22]
["2021-07-01",{"$f":"VLOOKUP(J1095,'Control Panel'!$G$132:$K$171,5,FALSE)","v":"WF-1"},"WF",null,null,null,null,null,null,"F86026",null,7236,15,14,14,12,11,0,17,15,13,13,15,14,41,31,30,22,29,17]
["2021-07-01",{"$f":"VLOOKUP(J1096,'Control Panel'!$G$132:$K$171,5,FALSE)","v":"WF-3"},"WF",null,null,null,null,null,null,"F86074",null,15236,64,54,54,53,0,26,52,37,37,37,42,42,40,25,26,23,25,11]
["2021-07-01",{"$f":"VLOOKUP(J1097,'Control Panel'!$G$132:$K$171,5,FALSE)","v":"WF-1"},"WF",null,null,null,null,null,null,"F86638",null,5310,19,18,17,18,2,1,16,15,14,14,16,15,18,13,11,11,11,11]
["2021-08-01",{"$f":"VLOOKUP(J1098,'Control Panel'!$G$132:$K$171,5,FALSE)","v":{"$error":"#N/A"}},"Childhood Immunisations Q2",null,"Last Run:",null,"Population Count",281975,null,null,"Search","All Patients","(01) 12 MONTH COHORT","(01.01) DTaP/IPV/Hib 6in1","(01.02) Men B (1st and 2nd)","(01.03) PCV","(01.04) Rotavirus","(01.05) BCG","(02) 24 MONTH COHORT","(02.01) DTaP/IPV/Hib Combined","(02.02) MMR","(02.03) HiB/Men C","(02.04) PCV (Booster)","(02.05) Men B (Booster)","(03) 5 YEAR COHORT","(03.01) DTaP/IPV/Hib Combined","(03.02) MMR (Primary)","(03.03) DTaP/IPV (Booster)","(03.04) HiB/Men C","(03.05) MMR (Booster)"]
["2021-08-01",{"$f":"VLOOKUP(J1099,'Control Panel'!$G$132:$K$171,5,FALSE)","v":{"$error":"#N/A"}},null,null,"2021-09-02T10:43:00",null,"Males",145036,null,"Organisation Code"]
["2021-08-01",{"$f":"VLOOKUP(J1100,'Control Panel'!$G$132:$K$171,5,FALSE)","v":"WF-6"},"WF",null,"Relative Date:",null,"Females",136939,null,"F86001",null,7741,18,15,14,17,15,8,27,21,22,22,22,22,20,14,14,8,16,11]
["2021-08-01",{"$f":"VLOOKUP(J1101,'Control Panel'!$G$132:$K$171,5,FALSE)","v":"WF-1"},"WF",null,"2021-09-01",null,null,null,null,"F86005",null,9409,36,31,32,30,32,8,44,40,36,37,36,37,39,37,37,34,37,33]
["2021-08-01",{"$f":"VLOOKUP(J1102,'Control Panel'!$G$132:$K$171,5,FALSE)","v":"WF-7"},"WF",null,null,null,null,null,null,"F86006",null,6690,22,19,19,19,19,6,14,10,9,9,9,9,15,12,12,9,11,9]
["2021-08-01",{"$f":"VLOOKUP(J1103,'Control Panel'!$G$132:$K$171,5,FALSE)","v":"WF-3"},"WF",null,null,null,null,null,null,"F86011",null,9612,17,15,15,16,14,9,23,21,15,15,15,15,28,26,27,23,26,24]
["2021-08-01",{"$f":"VLOOKUP(J1104,'Control Panel'!$G$132:$K$171,5,FALSE)","v":"WF-7"},"WF",null,null,null,null,null,null,"F86030",null,8105,27,25,24,25,24,9,37,32,31,32,32,32,36,32,30,29,31,29]
["2021-08-01",{"$f":"VLOOKUP(J1105,'Control Panel'!$G$132:$K$171,5,FALSE)","v":"WF-4"},"WF",null,null,null,null,null,null,"F86036",null,15227,55,50,50,50,50,22,62,58,55,56,57,57,56,55,51,46,52,46]
["2021-08-01",{"$f":"VLOOKUP(J1106,'Control Panel'!$G$132:$K$171,5,FALSE)","v":"WF-3"},"WF",null,null,null,null,null,null,"F86038",null,11466,37,32,31,32,31,2,33,26,25,24,24,24,46,44,42,36,42,36]
["2021-08-01",{"$f":"VLOOKUP(J1107,'Control Panel'!$G$132:$K$171,5,FALSE)","v":"WF-4"},"WF",null,null,null,null,null,null,"F86044",null,10141,46,40,40,40,37,14,48,43,42,41,41,42,36,30,30,21,29,24]
["2021-08-01",{"$f":"VLOOKUP(J1108,'Control Panel'!$G$132:$K$171,5,FALSE)","v":"WF-5"},"WF",null,null,null,null,null,null,"F86045",null,2011,3,2,2,2,2,0,3,2,2,2,2,2,4,3,3,3,3,3]
["2021-08-01",{"$f":"VLOOKUP(J1109,'Control Panel'!$G$132:$K$171,5,FALSE)","v":"WF-7"},"WF",null,null,null,null,null,null,"F86058",null,16570,64,53,52,54,46,17,59,50,40,40,40,41,68,58,56,41,56,42]
["2021-08-01",{"$f":"VLOOKUP(J1110,'Control Panel'!$G$132:$K$171,5,FALSE)","v":"WF-7"},"WF",null,null,null,null,null,null,"F86062",null,7300,25,21,20,23,23,8,18,15,13,13,13,13,15,13,12,8,12,9]
["2021-08-01",{"$f":"VLOOKUP(J1111,'Control Panel'!$G$132:$K$171,5,FALSE)","v":"WF-2"},"WF",null,null,null,null,null,null,"F86078",null,6966,7,6,6,6,7,0,10,10,10,10,10,10,16,16,16,16,16,16]
["2021-08-01",{"$f":"VLOOKUP(J1112,'Control Panel'!$G$132:$K$171,5,FALSE)","v":"WF-6"},"WF",null,null,null,null,null,null,"F86086",null,6151,27,20,20,23,23,12,25,22,19,19,19,19,30,28,27,15,27,20]
["2021-08-01",{"$f":"VLOOKUP(J1113,'Control Panel'!$G$132:$K$171,5,FALSE)","v":"WF-4"},"WF",null,null,null,null,null,null,"F86088",null,4910,13,11,10,11,10,7,10,9,6,7,7,7,8,7,7,4,7,4]
["2021-08-01",{"$f":"VLOOKUP(J1114,'Control Panel'!$G$132:$K$171,5,FALSE)","v":"WF-6"},"WF",null,null,null,null,null,null,"F86607",null,15091,75,68,68,69,67,19,42,38,33,36,36,36,59,54,53,51,53,52]
["2021-08-01",{"$f":"VLOOKUP(J1115,'Control Panel'!$G$132:$K$171,5,FALSE)","v":"WF-2"},"WF",null,null,null,null,null,null,"F86616",null,7790,36,31,30,32,31,8,47,43,41,41,40,39,28,26,26,25,25,25]
["2021-08-01",{"$f":"VLOOKUP(J1116,'Control Panel'!$G$132:$K$171,5,FALSE)","v":"WF-5"},"WF",null,null,null,null,null,null,"F86621",null,6382,21,21,20,20,20,10,19,18,15,15,15,15,11,9,6,6,8,6]
["2021-08-01",{"$f":"VLOOKUP(J1117,'Control Panel'!$G$132:$K$171,5,FALSE)","v":"WF-5"},"WF",null,null,null,null,null,null,"F86625",null,5905,15,13,13,14,13,4,14,12,11,11,11,11,16,11,11,11,11,10]
["2021-08-01",{"$f":"VLOOKUP(J1118,'Control Panel'!$G$132:$K$171,5,FALSE)","v":"WF-1"},"WF",null,null,null,null,null,null,"F86626",null,6825,29,25,25,28,24,10,22,19,16,16,16,16,25,22,23,15,23,16]
["2021-08-01",{"$f":"VLOOKUP(J1119,'Control Panel'!$G$132:$K$171,5,FALSE)","v":"WF-2"},"WF",null,null,null,null,null,null,"F86627",null,13368,36,33,33,33,33,9,26,22,21,21,21,21,34,33,32,27,32,26]
["2021-08-01",{"$f":"VLOOKUP(J1120,'Control Panel'!$G$132:$K$171,5,FALSE)","v":"WF-6"},"WF",null,null,null,null,null,null,"F86644",null,9677,22,18,18,18,17,8,36,34,32,32,32,31,16,15,15,5,14,15]
["2021-08-01",{"$f":"VLOOKUP(J1121,'Control Panel'!$G$132:$K$171,5,FALSE)","v":"WF-4"},"WF",null,null,null,null,null,null,"F86650",null,8051,26,22,22,22,20,7,26,23,20,20,20,20,27,24,22,15,21,15]
["2021-08-01",{"$f":"VLOOKUP(J1122,'Control Panel'!$G$132:$K$171,5,FALSE)","v":"WF-1"},"WF",null,null,null,null,null,null,"F86664",null,8432,17,15,15,16,16,1,29,28,22,22,22,22,28,27,27,23,27,24]
["2021-08-01",{"$f":"VLOOKUP(J1123,'Control Panel'!$G$132:$K$171,5,FALSE)","v":"WF-5"},"WF",null,null,null,null,null,null,"F86666",null,14779,34,30,29,32,32,8,49,45,36,37,35,41,52,47,45,34,44,37]
["2021-08-01",{"$f":"VLOOKUP(J1124,'Control Panel'!$G$132:$K$171,5,FALSE)","v":"WF-7"},"WF",null,null,null,null,null,null,"F86679",null,6079,29,24,24,26,25,17,27,26,23,23,23,23,32,30,28,22,27,23]
["2021-08-01",{"$f":"VLOOKUP(J1125,'Control Panel'!$G$132:$K$171,5,FALSE)","v":"WF-1"},"WF",null,null,null,null,null,null,"F86689",null,4358,17,15,15,15,15,4,20,18,18,18,18,17,22,20,21,19,20,19]
["2021-08-01",{"$f":"VLOOKUP(J1126,'Control Panel'!$G$132:$K$171,5,FALSE)","v":"WF-4"},"WF",null,null,null,null,null,null,"F86696",null,6916,30,23,23,25,25,2,28,26,25,25,25,25,22,18,19,17,18,19]
["2021-08-01",{"$f":"VLOOKUP(J1127,'Control Panel'!$G$132:$K$171,5,FALSE)","v":"WF-1"},"WF",null,null,null,null,null,null,"F86700",null,3858,11,11,10,11,10,3,10,9,6,5,6,6,9,9,8,9,8,9]
["2021-08-01",{"$f":"VLOOKUP(J1128,'Control Panel'!$G$132:$K$171,5,FALSE)","v":"WF-5"},"WF",null,null,null,null,null,null,"F86701",null,3757,10,8,8,8,8,4,17,13,10,11,11,11,8,8,8,7,8,7]
["2021-08-01",{"$f":"VLOOKUP(J1129,'Control Panel'!$G$132:$K$171,5,FALSE)","v":"WF-5"},"WF",null,null,null,null,null,null,"F86705",null,3551,7,7,7,7,7,2,7,7,7,7,7,7,10,9,9,7,9,8]
["2021-08-01",{"$f":"VLOOKUP(J1130,'Control Panel'!$G$132:$K$171,5,FALSE)","v":"WF-6"},"WF",null,null,null,null,null,null,"F86708",null,2846,5,5,5,5,5,1,10,10,9,9,9,9,10,10,10,9,10,9]
["2021-08-01",{"$f":"VLOOKUP(J1131,'Control Panel'!$G$132:$K$171,5,FALSE)","v":"WF-4"},"WF",null,null,null,null,null,null,"F86712",null,3313,10,10,10,10,10,4,7,6,4,4,4,4,6,5,6,5,6,5]
["2021-08-01",{"$f":"VLOOKUP(J1132,'Control Panel'!$G$132:$K$171,5,FALSE)","v":"WF-2"},"WF",null,null,null,null,null,null,"Y01291",null,9071,25,23,23,24,24,15,27,25,25,26,26,25,31,29,29,25,29,25]
["2021-08-01",{"$f":"VLOOKUP(J1133,'Control Panel'!$G$132:$K$171,5,FALSE)","v":"WF-1"},"WF",null,null,null,null,null,null,"Y01839",null,6382,17,13,13,13,13,0,10,10,7,8,8,8,22,22,20,18,22,18]
["2021-08-01",{"$f":"VLOOKUP(J1134,'Control Panel'!$G$132:$K$171,5,FALSE)","v":{"$error":"#N/A"}},null,null,null,null,null,null,null,"Total",null,268730,869,755,746,776,748,258,886,791,706,714,712,717,885,803,782,643,780,674]
["2021-08-01",{"$f":"VLOOKUP(J1135,'Control Panel'!$G$132:$K$171,5,FALSE)","v":"WF-2"},"WF",null,null,null,null,null,null,"F86004",null,16080,55,52,48,42,37,13,59,56,45,48,50,49,58,42,44,50,46,1]
["2021-08-01",{"$f":"VLOOKUP(J1136,'Control Panel'!$G$132:$K$171,5,FALSE)","v":"WF-4"},"WF",null,null,null,null,null,null,"F86018",null,10012,26,26,25,24,1,12,30,24,18,18,25,20,32,24,22,21,22,21]
["2021-08-01",{"$f":"VLOOKUP(J1137,'Control Panel'!$G$132:$K$171,5,FALSE)","v":"WF-1"},"WF",null,null,null,null,null,null,"F86026",null,7216,20,17,17,16,14,0,17,15,10,10,15,15,22,10,14,8,12,4]
["2021-08-01",{"$f":"VLOOKUP(J1138,'Control Panel'!$G$132:$K$171,5,FALSE)","v":"WF-3"},"WF",null,null,null,null,null,null,"F86074",null,15261,63,57,57,55,0,28,51,43,43,43,48,47,55,33,30,30,25,7]
["2021-08-01",{"$f":"VLOOKUP(J1139,'Control Panel'!$G$132:$K$171,5,FALSE)","v":"WF-1"},"WF",null,null,null,null,null,null,"F86638",null,5296,24,24,23,21,0,3,16,15,13,13,15,14,31,22,24,17,24,15]
["2021-09-01",{"$f":"VLOOKUP(J1140,'Control Panel'!$G$132:$K$171,5,FALSE)","v":{"$error":"#N/A"}},"Childhood Immunisations Q2",null,"Last Run:",null,"Population Count",281870,null,null,"Search","All Patients","(01) 12 MONTH COHORT","(01.01) DTaP/IPV/Hib 6in1","(01.02) Men B (1st and 2nd)","(01.03) PCV","(01.04) Rotavirus","(01.05) BCG","(02) 24 MONTH COHORT","(02.01) DTaP/IPV/Hib Combined","(02.02) MMR","(02.03) HiB/Men C","(02.04) PCV (Booster)","(02.05) Men B (Booster)","(03) 5 YEAR COHORT","(03.01) DTaP/IPV/Hib Combined","(03.02) MMR (Primary)","(03.03) DTaP/IPV (Booster)","(03.04) HiB/Men C","(03.05) MMR (Booster)"]
["2021-09-01",{"$f":"VLOOKUP(J1141,'Control Panel'!$G$132:$K$171,5,FALSE)","v":{"$error":"#N/A"}},null,null,"2021-10-04T12:42:00",null,"Males",145105,null,"Organisation Code"]
["2021-09-01",{"$f":"VLOOKUP(J1142,'Control Panel'!$G$132:$K$171,5,FALSE)","v":"WF-6"},"WF",null,"Relative Date:",null,"Females",136765,null,"F86001",null,7744,17,15,14,17,15,8,27,21,22,23,22,22,20,14,14,8,16,11]
["2021-09-01",{"$f":"VLOOKUP(J1143,'Control Panel'!$G$132:$K$171,5,FALSE)","v":"WF-1"},"WF",null,"2021-10-01",null,null,null,null,"F86005",null,9384,34,29,30,28,30,8,44,40,36,37,36,37,39,36,36,33,36,32]
["2021-09-01",{"$f":"VLOOKUP(J1144,'Control Panel'!$G$132:$K$171,5,FALSE)","v":"WF-7"},"WF",null,null,null,null,null,null,"F86006",null,6696,22,19,19,19,19,6,14,10,9,9,9,9,15,12,12,9,11,9]
["2021-09-01",{"$f":"VLOOKUP(J1145,'Control Panel'!$G$132:$K$171,5,FALSE)","v":"WF-3"},"WF",null,null,null,null,null,null,"F86011",null,9593,17,15,15,16,14,9,22,20,14,14,14,14,27,25,26,22,25,23]
["2021-09-01",{"$f":"VLOOKUP(J1146,'Control Panel'!$G$132:$K$171,5,FALSE)","v":"WF-7"},"WF",null,null,null,null,null,null,"F86030",null,8137,27,25,24,25,24,9,38,33,32,33,33,33,36,32,30,29,31,29]
["2021-09-01",{"$f":"VLOOKUP(J1147,'Control Panel'!$G$132:$K$171,5,FALSE)","v":"WF-4"},"WF",null,null,null,null,null,null,"F86036",null,15175,55,50,50,50,50,22,61,57,54,55,56,56,56,55,51,46,52,46]
["2021-09-01",{"$f":"VLOOKUP(J1148,'Control Panel'!$G$132:$K$171,5,FALSE)","v":"WF-3"},"WF",null,null,null,null,null,null,"F86038",null,11379,40,33,33,33,32,3,31,25,23,22,22,22,45,44,42,35,42,35]
["2021-09-01",{"$f":"VLOOKUP(J1149,'Control Panel'!$G$132:$K$171,5,FALSE)","v":"WF-4"},"WF",null,null,null,null,null,null,"F86044",null,10125,46,40,40,40,37,13,49,43,42,41,41,42,36,30,30,21,29,24]
["2021-09-01",{"$f":"VLOOKUP(J1150,'Control Panel'!$G$132:$K$171,5,FALSE)","v":"WF-5"},"WF",null,null,null,null,null,null,"F86045",null,2019,3,2,2,2,2,0,3,2,2,2,2,2,4,3,3,3,3,3]
["2021-09-01",{"$f":"VLOOKUP(J1151,'Control Panel'!$G$132:$K$171,5,FALSE)","v":"WF-7"},"WF",null,null,null,null,null,null,"F86058",null,16559,64,54,53,55,47,17,59,50,40,40,40,41,69,59,57,43,57,44]
["2021-09-01",{"$f":"VLOOKUP(J1152,'Control Panel'!$G$132:$K$171,5,FALSE)","v":"WF-7"},"WF",null,null,null,null,null,null,"F86062",null,7321,26,21,20,23,23,8,18,15,13,13,13,13,16,13,12,8,12,9]
["2021-09-01",{"$f":"VLOOKUP(J1153,'Control Panel'!$G$132:$K$171,5,FALSE)","v":"WF-2"},"WF",null,null,null,null,null,null,"F86078",null,6905,8,7,7,7,8,1,11,10,10,10,10,10,15,15,15,15,15,15]
["2021-09-01",{"$f":"VLOOKUP(J1154,'Control Panel'!$G$132:$K$171,5,FALSE)","v":"WF-6"},"WF",null,null,null,null,null,null,"F86086",null,6180,28,21,21,24,24,13,26,23,20,20,20,20,30,28,27,15,27,20]
["2021-09-01",{"$f":"VLOOKUP(J1155,'Control Panel'!$G$132:$K$171,5,FALSE)","v":"WF-4"},"WF",null,null,null,null,null,null,"F86088",null,4904,13,11,10,11,10,7,10,9,6,7,7,7,8,7,7,4,7,4]
["2021-09-01",{"$f":"VLOOKUP(J1156,'Control Panel'!$G$132:$K$171,5,FALSE)","v":"WF-6"},"WF",null,null,null,null,null,null,"F86607",null,15127,75,68,68,69,67,19,42,39,34,37,37,37,63,57,55,53,55,54]
["2021-09-01",{"$f":"VLOOKUP(J1157,'Control Panel'!$G$132:$K$171,5,FALSE)","v":"WF-2"},"WF",null,null,null,null,null,null,"F86616",null,7799,36,31,30,32,31,8,47,43,41,41,40,39,28,26,26,25,25,25]
["2021-09-01",{"$f":"VLOOKUP(J1158,'Control Panel'!$G$132:$K$171,5,FALSE)","v":"WF-5"},"WF",null,null,null,null,null,null,"F86621",null,6421,21,21,20,20,20,10,20,18,16,16,16,15,12,10,7,6,9,7]
["2021-09-01",{"$f":"VLOOKUP(J1159,'Control Panel'!$G$132:$K$171,5,FALSE)","v":"WF-5"},"WF",null,null,null,null,null,null,"F86625",null,5888,15,13,13,14,13,4,14,12,11,11,11,11,16,11,11,11,11,10]
["2021-09-01",{"$f":"VLOOKUP(J1160,'Control Panel'!$G$132:$K$171,5,FALSE)","v":"WF-1"},"WF",null,null,null,null,null,null,"F86626",null,6852,29,25,25,29,24,10,22,19,16,16,16,16,24,21,22,14,22,15]
["2021-09-01",{"$f":"VLOOKUP(J1161,'Control Panel'!$G$132:$K$171,5,FALSE)","v":"WF-2"},"WF",null,null,null,null,null,null,"F86627",null,13359,35,32,32,32,32,9,26,22,21,21,21,21,35,33,33,27,33,26]
["2021-09-01",{"$f":"VLOOKUP(J1162,'Control Panel'!$G$132:$K$171,5,FALSE)","v":"WF-6"},"WF",null,null,null,null,null,null,"F86644",null,9590,21,18,18,18,17,8,36,34,32,32,32,31,15,14,14,5,13,14]
["2021-09-01",{"$f":"VLOOKUP(J1163,'Control Panel'!$G$132:$K$171,5,FALSE)","v":"WF-4"},"WF",null,null,null,null,null,null,"F86650",null,8069,25,21,21,21,19,8,26,23,20,20,20,20,27,24,22,15,21,15]
["2021-09-01",{"$f":"VLOOKUP(J1164,'Control Panel'!$G$132:$K$171,5,FALSE)","v":"WF-1"},"WF",null,null,null,null,null,null,"F86664",null,8430,17,14,14,15,15,1,29,28,22,22,22,22,28,27,27,23,27,24]
["2021-09-01",{"$f":"VLOOKUP(J1165,'Control Panel'!$G$132:$K$171,5,FALSE)","v":"WF-5"},"WF",null,null,null,null,null,null,"F86666",null,14764,35,31,29,33,32,9,48,44,35,36,34,40,52,47,45,34,44,37]
["2021-09-01",{"$f":"VLOOKUP(J1166,'Control Panel'!$G$132:$K$171,5,FALSE)","v":"WF-7"},"WF",null,null,null,null,null,null,"F86679",null,6115,29,25,25,26,26,17,28,26,24,24,24,23,32,30,28,22,27,23]
["2021-09-01",{"$f":"VLOOKUP(J1167,'Control Panel'!$G$132:$K$171,5,FALSE)","v":"WF-1"},"WF",null,null,null,null,null,null,"F86689",null,4368,18,16,16,16,16,5,20,18,18,18,18,17,22,20,21,19,20,19]
["2021-09-01",{"$f":"VLOOKUP(J1168,'Control Panel'!$G$132:$K$171,5,FALSE)","v":"WF-4"},"WF",null,null,null,null,null,null,"F86696",null,6932,31,23,23,25,25,2,29,26,25,25,25,25,22,18,19,17,18,19]
["2021-09-01",{"$f":"VLOOKUP(J1169,'Control Panel'!$G$132:$K$171,5,FALSE)","v":"WF-1"},"WF",null,null,null,null,null,null,"F86700",null,3876,11,11,10,11,10,3,11,10,7,6,6,7,9,9,8,9,8,9]
["2021-09-01",{"$f":"VLOOKUP(J1170,'Control Panel'!$G$132:$K$171,5,FALSE)","v":"WF-5"},"WF",null,null,null,null,null,null,"F86701",null,3769,10,8,8,8,8,4,16,12,9,10,10,10,8,8,8,7,8,7]
["2021-09-01",{"$f":"VLOOKUP(J1171,'Control Panel'!$G$132:$K$171,5,FALSE)","v":"WF-5"},"WF",null,null,null,null,null,null,"F86705",null,3551,7,7,7,7,7,3,7,7,7,7,7,7,10,10,10,8,10,9]
["2021-09-01",{"$f":"VLOOKUP(J1172,'Control Panel'!$G$132:$K$171,5,FALSE)","v":"WF-6"},"WF",null,null,null,null,null,null,"F86708",null,2856,5,5,5,5,5,2,10,10,9,9,9,9,10,10,10,9,10,9]
["2021-09-01",{"$f":"VLOOKUP(J1173,'Control Panel'!$G$132:$K$171,5,FALSE)","v":"WF-4"},"WF",null,null,null,null,null,null,"F86712",null,3329,10,10,10,10,10,4,7,6,4,4,4,4,7,5,6,5,6,5]
["2021-09-01",{"$f":"VLOOKUP(J1174,'Control Panel'!$G$132:$K$171,5,FALSE)","v":"WF-2"},"WF",null,null,null,null,null,null,"Y01291",null,9040,24,22,22,23,23,14,28,26,26,27,27,26,32,30,30,26,30,26]
["2021-09-01",{"$f":"VLOOKUP(J1175,'Control Panel'!$G$132:$K$171,5,FALSE)","v":"WF-1"},"WF",null,null,null,null,null,null,"Y01839",null,6340,17,13,13,13,13,0,10,10,7,8,8,8,22,22,20,18,22,18]
["2021-09-01",{"$f":"VLOOKUP(J1176,'Control Panel'!$G$132:$K$171,5,FALSE)","v":{"$error":"#N/A"}},null,null,null,null,null,null,null,"Total",null,268596,871,756,747,777,748,264,889,791,707,716,712,716,890,805,784,644,782,675]
["2021-09-01",{"$f":"VLOOKUP(J1177,'Control Panel'!$G$132:$K$171,5,FALSE)","v":"WF-2"},"WF",null,null,null,null,null,null,"F86004",null,16030,55,52,48,42,37,13,58,55,44,47,49,48,58,42,44,50,46,1]
["2021-09-01",{"$f":"VLOOKUP(J1178,'Control Panel'!$G$132:$K$171,5,FALSE)","v":"WF-4"},"WF",null,null,null,null,null,null,"F86018",null,9986,26,26,25,24,1,12,30,26,21,21,27,23,32,24,22,21,22,21]
["2021-09-01",{"$f":"VLOOKUP(J1179,'Control Panel'!$G$132:$K$171,5,FALSE)","v":"WF-1"},"WF",null,null,null,null,null,null,"F86026",null,7270,20,17,17,16,14,0,17,15,10,10,15,15,22,10,14,8,12,4]
["2021-09-01",{"$f":"VLOOKUP(J1180,'Control Panel'!$G$132:$K$171,5,FALSE)","v":"WF-3"},"WF",null,null,null,null,null,null,"F86074",null,15288,62,59,57,56,1,29,49,41,44,43,46,45,54,32,29,30,25,7]
["2021-09-01",{"$f":"VLOOKUP(J1181,'Control Panel'!$G$132:$K$171,5,FALSE)","v":"WF-1"},"WF",null,null,null,null,null,null,"F86638",null,5314,24,24,23,21,0,3,16,15,13,13,15,14,31,22,24,17,24,15]
["2021-10-01",{"$f":"VLOOKUP(J1182,'Control Panel'!$G$132:$K$171,5,FALSE)","v":{"$error":"#N/A"}},"Childhood Immunisations Q3",null,"Last Run:",null,"Population Count",282187,null,null,"Search","All Patients","(01) 12 MONTH COHORT","(01.01) DTaP/IPV/Hib 6in1","(01.02) Men B (1st and 2nd)","(01.03) PCV","(01.04) Rotavirus","(01.05) BCG","(02) 24 MONTH COHORT","(02.01) DTaP/IPV/Hib Combined","(02.02) MMR","(02.03) HiB/Men C","(02.04) PCV (Booster)","(02.05) Men B (Booster)","(03) 5 YEAR COHORT","(03.01) DTaP/IPV/Hib Combined","(03.02) MMR (Primary)","(03.03) DTaP/IPV (Booster)","(03.04) HiB/Men C","(03.05) MMR (Booster)"]
["2021-10-01",{"$f":"VLOOKUP(J1183,'Control Panel'!$G$132:$K$171,5,FALSE)","v":{"$error":"#N/A"}},null,null,"2021-11-02T13:33:00",null,"Males",145345,null,"Organisation Code"]
["2021-10-01",{"$f":"VLOOKUP(J1184,'Control Panel'!$G$132:$K$171,5,FALSE)","v":"WF-6"},"WF",null,"Relative Date:",null,"Females",136842,null,"F86001",null,7740,26,23,24,25,24,1,21,17,15,15,15,15,22,16,17,11,16,13]
["2021-10-01",{"$f":"VLOOKUP(J1185,'Control Panel'!$G$132:$K$171,5,FALSE)","v":"WF-1"},"WF",null,"2021-11-01",null,null,null,null,"F86005",null,9415,41,39,39,39,40,3,45,44,42,42,42,43,24,21,22,17,22,18]
["2021-10-01",{"$f":"VLOOKUP(J1186,'Control Panel'!$G$132:$K$171,5,FALSE)","v":"WF-7"},"WF",null,null,null,null,null,null,"F86006",null,6732,21,20,20,21,20,6,19,16,15,15,15,16,13,13,13,12,13,12]
["2021-10-01",{"$f":"VLOOKUP(J1187,'Control Panel'!$G$132:$K$171,5,FALSE)","v":"WF-3"},"WF",null,null,null,null,null,null,"F86011",null,9633,19,17,17,18,14,4,20,17,17,16,16,17,33,32,32,26,32,27]
["2021-10-01",{"$f":"VLOOKUP(J1188,'Control Panel'!$G$132:$K$171,5,FALSE)","v":"WF-7"},"WF",null,null,null,null,null,null,"F86030",null,8120,22,20,20,20,20,1,33,32,32,32,31,32,23,21,21,20,21,20]
["2021-10-01",{"$f":"VLOOKUP(J1189,'Control Panel'!$G$132:$K$171,5,FALSE)","v":"WF-4"},"WF",null,null,null,null,null,null,"F86036",null,15128,39,36,36,36,36,5,49,42,40,39,41,40,42,40,38,36,38,35]
["2021-10-01",{"$f":"VLOOKUP(J1190,'Control Panel'!$G$132:$K$171,5,FALSE)","v":"WF-3"},"WF",null,null,null,null,null,null,"F86038",null,11395,37,33,32,32,32,5,43,38,35,36,35,37,36,33,30,30,32,32]
["2021-10-01",{"$f":"VLOOKUP(J1191,'Control Panel'!$G$132:$K$171,5,FALSE)","v":"WF-4"},"WF",null,null,null,null,null,null,"F86044",null,10279,42,37,35,36,36,10,41,33,34,35,35,34,37,26,24,18,25,19]
["2021-10-01",{"$f":"VLOOKUP(J1192,'Control Panel'!$G$132:$K$171,5,FALSE)","v":"WF-5"},"WF",null,null,null,null,null,null,"F86045",null,2033,3,3,3,3,3,1,1,1,1,1,1,1,3,1,1,0,1,0]
["2021-10-01",{"$f":"VLOOKUP(J1193,'Control Panel'!$G$132:$K$171,5,FALSE)","v":"WF-7"},"WF",null,null,null,null,null,null,"F86058",null,16782,48,43,43,44,41,9,70,58,58,58,58,59,54,46,43,22,41,23]
["2021-10-01",{"$f":"VLOOKUP(J1194,'Control Panel'!$G$132:$K$171,5,FALSE)","v":"WF-7"},"WF",null,null,null,null,null,null,"F86062",null,7293,24,18,17,21,20,0,25,16,16,16,17,17,26,25,24,19,24,19]
["2021-10-01",{"$f":"VLOOKUP(J1195,'Control Panel'!$G$132:$K$171,5,FALSE)","v":"WF-2"},"WF",null,null,null,null,null,null,"F86078",null,6965,10,9,9,10,9,1,10,8,7,7,7,7,22,18,18,15,18,15]
["2021-10-01",{"$f":"VLOOKUP(J1196,'Control Panel'!$G$132:$K$171,5,FALSE)","v":"WF-6"},"WF",null,null,null,null,null,null,"F86086",null,6190,20,17,17,17,17,1,31,27,23,23,23,24,19,16,15,9,15,12]
["2021-10-01",{"$f":"VLOOKUP(J1197,'Control Panel'!$G$132:$K$171,5,FALSE)","v":"WF-4"},"WF",null,null,null,null,null,null,"F86088",null,4923,16,14,13,13,12,5,9,8,6,7,8,7,15,13,11,8,11,8]
["2021-10-01",{"$f":"VLOOKUP(J1198,'Control Panel'!$G$132:$K$171,5,FALSE)","v":"WF-6"},"WF",null,null,null,null,null,null,"F86607",null,15209,45,41,41,42,41,1,60,51,44,45,43,47,56,52,51,45,50,47]
["2021-10-01",{"$f":"VLOOKUP(J1199,'Control Panel'!$G$132:$K$171,5,FALSE)","v":"WF-2"},"WF",null,null,null,null,null,null,"F86616",null,7845,31,28,27,28,27,5,32,26,25,25,25,26,36,29,31,28,31,28]
["2021-10-01",{"$f":"VLOOKUP(J1200,'Control Panel'!$G$132:$K$171,5,FALSE)","v":"WF-5"},"WF",null,null,null,null,null,null,"F86621",null,6444,26,24,24,24,24,8,19,16,16,16,15,15,16,15,14,13,14,14]
["2021-10-01",{"$f":"VLOOKUP(J1201,'Control Panel'!$G$132:$K$171,5,FALSE)","v":"WF-5"},"WF",null,null,null,null,null,null,"F86625",null,5886,12,10,10,10,10,3,17,14,9,9,9,9,18,16,16,9,14,10]
["2021-10-01",{"$f":"VLOOKUP(J1202,'Control Panel'!$G$132:$K$171,5,FALSE)","v":"WF-1"},"WF",null,null,null,null,null,null,"F86626",null,6900,29,27,27,27,27,3,34,30,26,26,26,26,20,17,17,13,16,13]
["2021-10-01",{"$f":"VLOOKUP(J1203,'Control Panel'!$G$132:$K$171,5,FALSE)","v":"WF-2"},"WF",null,null,null,null,null,null,"F86627",null,13370,36,33,32,34,32,5,31,29,24,25,24,24,40,39,35,29,36,29]
["2021-10-01",{"$f":"VLOOKUP(J1204,'Control Panel'!$G$132:$K$171,5,FALSE)","v":"WF-6"},"WF",null,null,null,null,null,null,"F86644",null,9528,17,17,17,17,16,3,12,11,9,8,9,8,30,29,28,26,30,28]
["2021-10-01",{"$f":"VLOOKUP(J1205,'Control Panel'!$G$132:$K$171,5,FALSE)","v":"WF-4"},"WF",null,null,null,null,null,null,"F86650",null,8078,39,33,33,34,33,5,28,24,22,21,22,19,25,23,23,14,23,14]
["2021-10-01",{"$f":"VLOOKUP(J1206,'Control Panel'!$G$132:$K$171,5,FALSE)","v":"WF-1"},"WF",null,null,null,null,null,null,"F86664",null,8442,26,24,24,25,24,3,27,25,25,25,25,25,26,22,24,17,24,17]
["2021-10-01",{"$f":"VLOOKUP(J1207,'Control Panel'!$G$132:$K$171,5,FALSE)","v":"WF-5"},"WF",null,null,null,null,null,null,"F86666",null,14787,38,37,34,35,36,3,44,33,33,34,32,34,34,31,27,23,29,28]
["2021-10-01",{"$f":"VLOOKUP(J1208,'Control Panel'!$G$132:$K$171,5,FALSE)","v":"WF-7"},"WF",null,null,null,null,null,null,"F86679",null,6183,23,20,20,22,22,5,35,32,29,29,29,29,21,20,19,14,20,14]
["2021-10-01",{"$f":"VLOOKUP(J1209,'Control Panel'!$G$132:$K$171,5,FALSE)","v":"WF-1"},"WF",null,null,null,null,null,null,"F86689",null,4383,20,20,19,20,20,1,18,16,17,17,17,17,27,27,27,24,27,24]
["2021-10-01",{"$f":"VLOOKUP(J1210,'Control Panel'!$G$132:$K$171,5,FALSE)","v":"WF-4"},"WF",null,null,null,null,null,null,"F86696",null,6921,24,19,19,22,22,2,26,24,22,22,22,22,23,18,20,18,20,18]
["2021-10-01",{"$f":"VLOOKUP(J1211,'Control Panel'!$G$132:$K$171,5,FALSE)","v":"WF-1"},"WF",null,null,null,null,null,null,"F86700",null,3883,0,0,0,0,0,0,9,8,7,7,7,7,16,14,13,14,13,14]
["2021-10-01",{"$f":"VLOOKUP(J1212,'Control Panel'!$G$132:$K$171,5,FALSE)","v":"WF-5"},"WF",null,null,null,null,null,null,"F86701",null,3777,17,15,15,15,15,4,13,12,9,9,8,9,13,12,11,10,12,11]
["2021-10-01",{"$f":"VLOOKUP(J1213,'Control Panel'!$G$132:$K$171,5,FALSE)","v":"WF-5"},"WF",null,null,null,null,null,null,"F86705",null,3535,6,6,6,6,6,1,10,10,9,9,9,9,7,7,5,5,5,5]
["2021-10-01",{"$f":"VLOOKUP(J1214,'Control Panel'!$G$132:$K$171,5,FALSE)","v":"WF-6"},"WF",null,null,null,null,null,null,"F86708",null,2860,5,5,5,5,5,0,5,5,5,5,5,5,8,7,7,5,7,5]
["2021-10-01",{"$f":"VLOOKUP(J1215,'Control Panel'!$G$132:$K$171,5,FALSE)","v":"WF-4"},"WF",null,null,null,null,null,null,"F86712",null,3352,12,11,11,12,12,3,7,7,6,6,6,6,10,10,10,10,10,10]
["2021-10-01",{"$f":"VLOOKUP(J1216,'Control Panel'!$G$132:$K$171,5,FALSE)","v":"WF-2"},"WF",null,null,null,null,null,null,"Y01291",null,9062,26,24,23,25,24,7,37,35,33,34,34,33,16,16,16,15,16,16]
["2021-10-01",{"$f":"VLOOKUP(J1217,'Control Panel'!$G$132:$K$171,5,FALSE)","v":"WF-1"},"WF",null,null,null,null,null,null,"Y01839",null,6320,22,21,20,22,22,3,25,21,20,20,20,20,24,24,23,19,23,19]
["2021-10-01",{"$f":"VLOOKUP(J1218,'Control Panel'!$G$132:$K$171,5,FALSE)","v":{"$error":"#N/A"}},null,null,null,null,null,null,null,"Total",null,269393,822,744,732,760,742,117,906,786,731,734,731,739,835,749,726,594,729,617]
["2021-10-01",{"$f":"VLOOKUP(J1219,'Control Panel'!$G$132:$K$171,5,FALSE)","v":"WF-2"},"WF",null,null,null,null,null,null,"F86004",null,16020,44,42,40,40,40,6,52,51,46,47,49,49,73,49,53,57,53,11]
["2021-10-01",{"$f":"VLOOKUP(J1220,'Control Panel'!$G$132:$K$171,5,FALSE)","v":"WF-4"},"WF",null,null,null,null,null,null,"F86018",null,9998,23,21,19,19,0,5,30,27,22,23,25,24,23,19,20,19,20,18]
["2021-10-01",{"$f":"VLOOKUP(J1221,'Control Panel'!$G$132:$K$171,5,FALSE)","v":"WF-1"},"WF",null,null,null,null,null,null,"F86026",null,7248,16,13,13,12,10,0,22,20,18,18,21,19,23,11,14,16,11,11]
["2021-10-01",{"$f":"VLOOKUP(J1222,'Control Panel'!$G$132:$K$171,5,FALSE)","v":"WF-3"},"WF",null,null,null,null,null,null,"F86074",null,15301,47,43,43,41,1,16,56,46,42,44,46,45,51,31,31,34,31,7]
["2021-10-01",{"$f":"VLOOKUP(J1223,'Control Panel'!$G$132:$K$171,5,FALSE)","v":"WF-1"},"WF",null,null,null,null,null,null,"F86638",null,5281,15,12,12,12,0,0,19,17,13,13,16,15,15,10,12,10,12,9]
["2021-11-01",{"$f":"VLOOKUP(J1224,'Control Panel'!$G$132:$K$171,5,FALSE)","v":{"$error":"#N/A"}},"Childhood Immunisations Q3",null,"Last Run:",null,"Population Count",281769,null,null,"Search","All Patients","(01) 12 MONTH COHORT","(01.01) DTaP/IPV/Hib 6in1","(01.02) Men B (1st and 2nd)","(01.03) PCV","(01.04) Rotavirus","(01.05) BCG","(02) 24 MONTH COHORT","(02.01) DTaP/IPV/Hib Combined","(02.02) MMR","(02.03) HiB/Men C","(02.04) PCV (Booster)","(02.05) Men B (Booster)","(03) 5 YEAR COHORT","(03.01) DTaP/IPV/Hib Combined","(03.02) MMR (Primary)","(03.03) DTaP/IPV (Booster)","(03.04) HiB/Men C","(03.05) MMR (Booster)"]
["2021-11-01",{"$f":"VLOOKUP(J1225,'Control Panel'!$G$132:$K$171,5,FALSE)","v":{"$error":"#N/A"}},null,null,"2021-12-03T14:53:00",null,"Males",145247,null,"Organisation Code"]
["2021-11-01",{"$f":"VLOOKUP(J1226,'Control Panel'!$G$132:$K$171,5,FALSE)","v":"WF-6"},"WF",null,"Relative Date:",null,"Females",136522,null,"F86001",null,7746,26,23,24,25,24,1,20,16,15,15,15,15,21,15,16,11,15,13]
["2021-11-01",{"$f":"VLOOKUP(J1227,'Control Panel'!$G$132:$K$171,5,FALSE)","v":"WF-1"},"WF",null,"2021-12-01",null,null,null,null,"F86005",null,9513,41,39,39,39,40,3,46,44,43,43,43,44,24,21,22,18,22,19]
["2021-11-01",{"$f":"VLOOKUP(J1228,'Control Panel'!$G$132:$K$171,5,FALSE)","v":"WF-7"},"WF",null,null,null,null,null,null,"F86006",null,6750,22,21,21,22,21,6,18,15,14,14,14,15,13,13,13,12,13,12]
["2021-11-01",{"$f":"VLOOKUP(J1229,'Control Panel'!$G$132:$K$171,5,FALSE)","v":"WF-3"},"WF",null,null,null,null,null,null,"F86011",null,9624,19,17,17,18,14,4,19,16,16,15,15,16,33,32,32,26,32,27]
["2021-11-01",{"$f":"VLOOKUP(J1230,'Control Panel'!$G$132:$K$171,5,FALSE)","v":"WF-7"},"WF",null,null,null,null,null,null,"F86030",null,8099,22,20,20,20,20,1,30,29,29,29,28,29,22,21,21,20,21,20]
["2021-11-01",{"$f":"VLOOKUP(J1231,'Control Panel'!$G$132:$K$171,5,FALSE)","v":"WF-4"},"WF",null,null,null,null,null,null,"F86036",null,14979,40,36,36,36,36,5,50,42,42,41,44,42,42,40,39,36,39,36]
["2021-11-01",{"$f":"VLOOKUP(J1232,'Control Panel'!$G$132:$K$171,5,FALSE)","v":"WF-3"},"WF",null,null,null,null,null,null,"F86038",null,11360,39,35,34,34,34,5,41,37,34,35,34,36,36,33,30,30,32,32]
["2021-11-01",{"$f":"VLOOKUP(J1233,'Control Panel'!$G$132:$K$171,5,FALSE)","v":"WF-4"},"WF",null,null,null,null,null,null,"F86044",null,10250,44,38,36,37,37,11,41,33,34,35,35,34,36,26,24,18,25,19]
["2021-11-01",{"$f":"VLOOKUP(J1234,'Control Panel'!$G$132:$K$171,5,FALSE)","v":"WF-5"},"WF",null,null,null,null,null,null,"F86045",null,2021,2,2,2,2,2,1,1,1,1,1,1,1,3,1,1,1,1,1]
["2021-11-01",{"$f":"VLOOKUP(J1235,'Control Panel'!$G$132:$K$171,5,FALSE)","v":"WF-7"},"WF",null,null,null,null,null,null,"F86058",null,16622,47,41,41,42,39,11,66,56,55,55,55,56,54,47,44,24,42,26]
["2021-11-01",{"$f":"VLOOKUP(J1236,'Control Panel'!$G$132:$K$171,5,FALSE)","v":"WF-7"},"WF",null,null,null,null,null,null,"F86062",null,7280,22,16,16,19,19,0,25,16,17,17,18,18,26,25,24,19,24,19]
["2021-11-01",{"$f":"VLOOKUP(J1237,'Control Panel'!$G$132:$K$171,5,FALSE)","v":"WF-2"},"WF",null,null,null,null,null,null,"F86078",null,6916,11,10,9,11,9,1,10,8,7,7,8,8,23,19,19,15,19,15]
["2021-11-01",{"$f":"VLOOKUP(J1238,'Control Panel'!$G$132:$K$171,5,FALSE)","v":"WF-6"},"WF",null,null,null,null,null,null,"F86086",null,6193,20,17,17,17,17,1,31,27,23,23,23,24,19,16,15,9,15,12]
["2021-11-01",{"$f":"VLOOKUP(J1239,'Control Panel'!$G$132:$K$171,5,FALSE)","v":"WF-4"},"WF",null,null,null,null,null,null,"F86088",null,4948,16,14,13,13,12,5,9,8,6,7,8,7,15,13,11,8,11,8]
["2021-11-01",{"$f":"VLOOKUP(J1240,'Control Panel'!$G$132:$K$171,5,FALSE)","v":"WF-6"},"WF",null,null,null,null,null,null,"F86607",null,15284,45,42,42,42,41,1,61,53,47,48,46,50,56,52,51,45,50,47]
["2021-11-01",{"$f":"VLOOKUP(J1241,'Control Panel'!$G$132:$K$171,5,FALSE)","v":"WF-2"},"WF",null,null,null,null,null,null,"F86616",null,7861,30,27,27,28,27,5,32,26,25,25,25,26,36,29,31,28,31,28]
["2021-11-01",{"$f":"VLOOKUP(J1242,'Control Panel'!$G$132:$K$171,5,FALSE)","v":"WF-5"},"WF",null,null,null,null,null,null,"F86621",null,6433,25,23,23,24,23,8,19,16,16,16,15,15,16,16,15,14,15,15]
["2021-11-01",{"$f":"VLOOKUP(J1243,'Control Panel'!$G$132:$K$171,5,FALSE)","v":"WF-5"},"WF",null,null,null,null,null,null,"F86625",null,5903,12,10,10,10,10,3,17,14,9,9,9,9,18,16,16,9,14,10]
["2021-11-01",{"$f":"VLOOKUP(J1244,'Control Panel'!$G$132:$K$171,5,FALSE)","v":"WF-1"},"WF",null,null,null,null,null,null,"F86626",null,6913,29,27,27,27,27,3,35,31,26,26,26,26,20,17,17,13,16,13]
["2021-11-01",{"$f":"VLOOKUP(J1245,'Control Panel'!$G$132:$K$171,5,FALSE)","v":"WF-2"},"WF",null,null,null,null,null,null,"F86627",null,13317,35,33,32,34,32,5,32,29,24,25,24,24,40,39,35,30,36,30]
["2021-11-01",{"$f":"VLOOKUP(J1246,'Control Panel'!$G$132:$K$171,5,FALSE)","v":"WF-6"},"WF",null,null,null,null,null,null,"F86644",null,9492,16,16,16,16,15,3,12,11,9,8,9,8,30,29,28,26,30,28]
["2021-11-01",{"$f":"VLOOKUP(J1247,'Control Panel'!$G$132:$K$171,5,FALSE)","v":"WF-4"},"WF",null,null,null,null,null,null,"F86650",null,8073,39,33,33,34,33,5,28,24,22,21,22,19,24,22,22,14,22,14]
["2021-11-01",{"$f":"VLOOKUP(J1248,'Control Panel'!$G$132:$K$171,5,FALSE)","v":"WF-1"},"WF",null,null,null,null,null,null,"F86664",null,8427,25,23,23,24,23,3,27,26,26,26,25,25,26,22,24,17,24,17]
["2021-11-01",{"$f":"VLOOKUP(J1249,'Control Panel'!$G$132:$K$171,5,FALSE)","v":"WF-5"},"WF",null,null,null,null,null,null,"F86666",null,14845,38,37,34,35,36,3,44,33,33,34,32,34,34,31,27,23,29,28]
["2021-11-01",{"$f":"VLOOKUP(J1250,'Control Panel'!$G$132:$K$171,5,FALSE)","v":"WF-7"},"WF",null,null,null,null,null,null,"F86679",null,6211,23,20,20,22,22,5,35,33,30,30,30,29,21,20,19,14,20,14]
["2021-11-01",{"$f":"VLOOKUP(J1251,'Control Panel'!$G$132:$K$171,5,FALSE)","v":"WF-1"},"WF",null,null,null,null,null,null,"F86689",null,4381,19,19,19,19,19,1,19,17,19,19,19,19,27,26,27,24,27,24]
["2021-11-01",{"$f":"VLOOKUP(J1252,'Control Panel'!$G$132:$K$171,5,FALSE)","v":"WF-4"},"WF",null,null,null,null,null,null,"F86696",null,6767,21,16,16,19,19,2,25,24,22,22,22,22,21,16,18,16,18,16]
["2021-11-01",{"$f":"VLOOKUP(J1253,'Control Panel'!$G$132:$K$171,5,FALSE)","v":"WF-1"},"WF",null,null,null,null,null,null,"F86700",null,3892,0,0,0,0,0,0,9,8,7,7,7,7,16,14,13,14,13,14]
["2021-11-01",{"$f":"VLOOKUP(J1254,'Control Panel'!$G$132:$K$171,5,FALSE)","v":"WF-5"},"WF",null,null,null,null,null,null,"F86701",null,3777,16,14,14,14,14,4,12,11,8,8,7,8,12,11,10,9,11,10]
["2021-11-01",{"$f":"VLOOKUP(J1255,'Control Panel'!$G$132:$K$171,5,FALSE)","v":"WF-5"},"WF",null,null,null,null,null,null,"F86705",null,3530,6,6,6,6,6,2,10,10,9,9,9,9,7,7,5,5,5,5]
["2021-11-01",{"$f":"VLOOKUP(J1256,'Control Panel'!$G$132:$K$171,5,FALSE)","v":"WF-6"},"WF",null,null,null,null,null,null,"F86708",null,2881,5,5,5,5,5,0,5,5,5,5,5,5,8,7,7,5,7,5]
["2021-11-01",{"$f":"VLOOKUP(J1257,'Control Panel'!$G$132:$K$171,5,FALSE)","v":"WF-4"},"WF",null,null,null,null,null,null,"F86712",null,3372,12,11,11,12,12,3,6,6,5,5,5,5,10,10,10,10,10,10]
["2021-11-01",{"$f":"VLOOKUP(J1258,'Control Panel'!$G$132:$K$171,5,FALSE)","v":"WF-2"},"WF",null,null,null,null,null,null,"Y01291",null,9086,26,24,23,25,24,7,37,36,34,34,35,34,16,16,16,15,16,16]
["2021-11-01",{"$f":"VLOOKUP(J1259,'Control Panel'!$G$132:$K$171,5,FALSE)","v":"WF-1"},"WF",null,null,null,null,null,null,"Y01839",null,6291,21,20,19,21,21,3,23,19,18,18,18,18,24,24,23,19,23,19]
["2021-11-01",{"$f":"VLOOKUP(J1260,'Control Panel'!$G$132:$K$171,5,FALSE)","v":{"$error":"#N/A"}},null,null,null,null,null,null,null,"Total",null,269037,814,735,725,752,733,121,895,780,730,732,731,737,829,746,725,597,728,622]
["2021-11-01",{"$f":"VLOOKUP(J1261,'Control Panel'!$G$132:$K$171,5,FALSE)","v":"WF-2"},"WF",null,null,null,null,null,null,"F86004",null,16014,44,42,40,40,40,6,51,50,32,46,48,48,73,49,68,57,53,9]
["2021-11-01",{"$f":"VLOOKUP(J1262,'Control Panel'!$G$132:$K$171,5,FALSE)","v":"WF-4"},"WF",null,null,null,null,null,null,"F86018",null,9991,22,20,18,18,0,4,30,27,2,23,25,24,23,19,3,19,20,0]
["2021-11-01",{"$f":"VLOOKUP(J1263,'Control Panel'!$G$132:$K$171,5,FALSE)","v":"WF-1"},"WF",null,null,null,null,null,null,"F86026",null,7254,15,13,12,11,9,0,22,20,1,19,21,19,23,11,14,16,11,1]
["2021-11-01",{"$f":"VLOOKUP(J1264,'Control Panel'!$G$132:$K$171,5,FALSE)","v":"WF-3"},"WF",null,null,null,null,null,null,"F86074",null,15226,47,45,43,41,1,16,56,46,22,44,46,45,52,31,34,34,31,2]
["2021-11-01",{"$f":"VLOOKUP(J1265,'Control Panel'!$G$132:$K$171,5,FALSE)","v":"WF-1"},"WF",null,null,null,null,null,null,"F86638",null,5267,15,12,12,12,0,0,18,16,0,13,15,15,15,10,8,10,12,1]
["2021-12-01",{"$f":"VLOOKUP(J1266,'Control Panel'!$G$132:$K$171,5,FALSE)","v":{"$error":"#N/A"}},"Childhood Immunisations Q3",null,"Last Run:",null,"Population Count",282077,null,null,"Search","All Patients","(01) 12 MONTH COHORT","(01.01) DTaP/IPV/Hib 6in1","(01.02) Men B (1st and 2nd)","(01.03) PCV","(01.04) Rotavirus","(01.05) BCG","(02) 24 MONTH COHORT","(02.01) DTaP/IPV/Hib Combined","(02.02) MMR","(02.03) HiB/Men C","(02.04) PCV (Booster)","(02.05) Men B (Booster)","(03) 5 YEAR COHORT","(03.01) DTaP/IPV/Hib Combined","(03.02) MMR (Primary)","(03.03) DTaP/IPV (Booster)","(03.04) HiB/Men C","(03.05) MMR (Booster)"]
["2021-12-01",{"$f":"VLOOKUP(J1267,'Control Panel'!$G$132:$K$171,5,FALSE)","v":{"$error":"#N/A"}},null,null,"2022-01-04T18:23:00",null,"Males",145541,null,"Organisation Code"]
["2021-12-01",{"$f":"VLOOKUP(J1268,'Control Panel'!$G$132:$K$171,5,FALSE)","v":"WF-6"},"WF",null,"Relative Date:",null,"Females",136536,null,"F86001",null,7743,26,24,24,25,24,1,20,16,15,15,15,15,21,16,16,11,15,15]
["2021-12-01",{"$f":"VLOOKUP(J1269,'Control Panel'!$G$132:$K$171,5,FALSE)","v":"WF-1"},"WF",null,"2022-01-01",null,null,null,null,"F86005",null,9491,41,39,39,39,40,3,46,45,44,44,44,45,24,21,22,19,22,20]
["2021-12-01",{"$f":"VLOOKUP(J1270,'Control Panel'!$G$132:$K$171,5,FALSE)","v":"WF-7"},"WF",null,null,null,null,null,null,"F86006",null,6759,22,21,21,22,21,6,18,15,14,14,14,15,13,13,13,12,13,12]
["2021-12-01",{"$f":"VLOOKUP(J1271,'Control Panel'!$G$132:$K$171,5,FALSE)","v":"WF-3"},"WF",null,null,null,null,null,null,"F86011",null,9658,19,17,17,18,14,4,19,15,16,15,15,15,34,33,33,27,33,28]
["2021-12-01",{"$f":"VLOOKUP(J1272,'Control Panel'!$G$132:$K$171,5,FALSE)","v":"WF-7"},"WF",null,null,null,null,null,null,"F86030",null,8122,23,19,19,19,19,1,31,30,30,30,29,30,22,21,21,20,21,20]
["2021-12-01",{"$f":"VLOOKUP(J1273,'Control Panel'!$G$132:$K$171,5,FALSE)","v":"WF-4"},"WF",null,null,null,null,null,null,"F86036",null,14935,41,38,38,38,37,7,51,43,43,43,45,43,41,39,38,36,38,35]
["2021-12-01",{"$f":"VLOOKUP(J1274,'Control Panel'!$G$132:$K$171,5,FALSE)","v":"WF-3"},"WF",null,null,null,null,null,null,"F86038",null,11370,37,34,33,33,33,5,43,39,36,37,36,38,36,33,30,30,32,32]
["2021-12-01",{"$f":"VLOOKUP(J1275,'Control Panel'!$G$132:$K$171,5,FALSE)","v":"WF-4"},"WF",null,null,null,null,null,null,"F86044",null,10358,45,39,37,38,38,11,40,32,33,34,34,33,38,27,25,19,26,20]
["2021-12-01",{"$f":"VLOOKUP(J1276,'Control Panel'!$G$132:$K$171,5,FALSE)","v":"WF-5"},"WF",null,null,null,null,null,null,"F86045",null,2019,2,2,2,2,2,1,1,1,1,1,1,1,2,1,1,1,1,1]
["2021-12-01",{"$f":"VLOOKUP(J1277,'Control Panel'!$G$132:$K$171,5,FALSE)","v":"WF-7"},"WF",null,null,null,null,null,null,"F86058",null,16682,48,42,42,43,39,11,65,55,54,54,54,55,51,45,42,25,40,27]
["2021-12-01",{"$f":"VLOOKUP(J1278,'Control Panel'!$G$132:$K$171,5,FALSE)","v":"WF-7"},"WF",null,null,null,null,null,null,"F86062",null,7232,21,16,16,18,18,0,25,17,17,17,18,18,26,25,24,19,24,19]
["2021-12-01",{"$f":"VLOOKUP(J1279,'Control Panel'!$G$132:$K$171,5,FALSE)","v":"WF-2"},"WF",null,null,null,null,null,null,"F86078",null,6927,12,11,11,12,11,1,10,8,7,7,8,8,22,19,19,14,19,14]
["2021-12-01",{"$f":"VLOOKUP(J1280,'Control Panel'!$G$132:$K$171,5,FALSE)","v":"WF-6"},"WF",null,null,null,null,null,null,"F86086",null,6191,20,17,17,17,17,1,30,26,22,22,22,23,19,16,15,9,15,12]
["2021-12-01",{"$f":"VLOOKUP(J1281,'Control Panel'!$G$132:$K$171,5,FALSE)","v":"WF-4"},"WF",null,null,null,null,null,null,"F86088",null,4965,16,14,13,13,12,5,9,8,6,7,8,7,15,13,11,8,11,8]
["2021-12-01",{"$f":"VLOOKUP(J1282,'Control Panel'!$G$132:$K$171,5,FALSE)","v":"WF-6"},"WF",null,null,null,null,null,null,"F86607",null,15376,48,45,45,45,44,2,60,52,46,47,45,49,56,52,51,45,50,47]
["2021-12-01",{"$f":"VLOOKUP(J1283,'Control Panel'!$G$132:$K$171,5,FALSE)","v":"WF-2"},"WF",null,null,null,null,null,null,"F86616",null,7911,30,27,27,28,27,5,32,26,25,25,25,26,36,29,31,28,31,28]
["2021-12-01",{"$f":"VLOOKUP(J1284,'Control Panel'!$G$132:$K$171,5,FALSE)","v":"WF-5"},"WF",null,null,null,null,null,null,"F86621",null,6394,25,24,24,24,23,8,19,16,16,16,15,15,16,16,15,14,15,15]
["2021-12-01",{"$f":"VLOOKUP(J1285,'Control Panel'!$G$132:$K$171,5,FALSE)","v":"WF-5"},"WF",null,null,null,null,null,null,"F86625",null,5900,12,10,10,10,10,3,17,14,9,9,9,9,18,16,16,9,14,10]
["2021-12-01",{"$f":"VLOOKUP(J1286,'Control Panel'!$G$132:$K$171,5,FALSE)","v":"WF-1"},"WF",null,null,null,null,null,null,"F86626",null,6933,29,27,27,27,27,3,35,31,26,26,26,26,19,18,16,12,15,13]
["2021-12-01",{"$f":"VLOOKUP(J1287,'Control Panel'!$G$132:$K$171,5,FALSE)","v":"WF-2"},"WF",null,null,null,null,null,null,"F86627",null,13287,36,34,32,34,32,6,32,29,24,25,24,24,40,39,35,30,36,30]
["2021-12-01",{"$f":"VLOOKUP(J1288,'Control Panel'!$G$132:$K$171,5,FALSE)","v":"WF-6"},"WF",null,null,null,null,null,null,"F86644",null,9406,16,16,16,16,15,3,11,10,8,7,8,7,30,29,28,26,30,28]
["2021-12-01",{"$f":"VLOOKUP(J1289,'Control Panel'!$G$132:$K$171,5,FALSE)","v":"WF-4"},"WF",null,null,null,null,null,null,"F86650",null,8075,39,33,33,34,33,5,28,24,22,21,22,19,24,22,22,14,22,14]
["2021-12-01",{"$f":"VLOOKUP(J1290,'Control Panel'!$G$132:$K$171,5,FALSE)","v":"WF-1"},"WF",null,null,null,null,null,null,"F86664",null,8435,23,21,21,22,21,3,27,26,26,26,25,25,26,22,24,17,24,17]
["2021-12-01",{"$f":"VLOOKUP(J1291,'Control Panel'!$G$132:$K$171,5,FALSE)","v":"WF-5"},"WF",null,null,null,null,null,null,"F86666",null,14888,38,37,34,35,36,3,44,33,33,34,32,34,33,30,26,22,28,27]
["2021-12-01",{"$f":"VLOOKUP(J1292,'Control Panel'!$G$132:$K$171,5,FALSE)","v":"WF-7"},"WF",null,null,null,null,null,null,"F86679",null,6272,22,19,19,21,21,4,35,33,30,30,30,29,20,19,18,13,19,13]
["2021-12-01",{"$f":"VLOOKUP(J1293,'Control Panel'!$G$132:$K$171,5,FALSE)","v":"WF-1"},"WF",null,null,null,null,null,null,"F86689",null,4372,19,19,19,19,19,1,19,17,19,19,19,19,27,26,27,24,27,24]
["2021-12-01",{"$f":"VLOOKUP(J1294,'Control Panel'!$G$132:$K$171,5,FALSE)","v":"WF-4"},"WF",null,null,null,null,null,null,"F86696",null,6837,21,16,16,19,19,2,26,25,23,23,23,23,21,17,18,17,18,17]
["2021-12-01",{"$f":"VLOOKUP(J1295,'Control Panel'!$G$132:$K$171,5,FALSE)","v":"WF-1"},"WF",null,null,null,null,null,null,"F86700",null,3887,0,0,0,0,0,0,8,7,6,6,6,6,14,12,11,12,11,12]
["2021-12-01",{"$f":"VLOOKUP(J1296,'Control Panel'!$G$132:$K$171,5,FALSE)","v":"WF-5"},"WF",null,null,null,null,null,null,"F86701",null,3787,17,14,14,14,14,4,12,11,8,8,7,8,12,11,10,9,11,10]
["2021-12-01",{"$f":"VLOOKUP(J1297,'Control Panel'!$G$132:$K$171,5,FALSE)","v":"WF-5"},"WF",null,null,null,null,null,null,"F86705",null,3547,7,7,6,6,6,3,9,9,8,8,8,8,6,6,5,5,5,5]
["2021-12-01",{"$f":"VLOOKUP(J1298,'Control Panel'!$G$132:$K$171,5,FALSE)","v":"WF-6"},"WF",null,null,null,null,null,null,"F86708",null,2894,5,5,5,5,5,0,5,5,5,5,5,5,8,7,7,5,7,5]
["2021-12-01",{"$f":"VLOOKUP(J1299,'Control Panel'!$G$132:$K$171,5,FALSE)","v":"WF-4"},"WF",null,null,null,null,null,null,"F86712",null,3370,11,11,11,11,11,3,5,5,5,5,5,5,10,10,10,10,10,10]
["2021-12-01",{"$f":"VLOOKUP(J1300,'Control Panel'!$G$132:$K$171,5,FALSE)","v":"WF-2"},"WF",null,null,null,null,null,null,"Y01291",null,9074,26,24,24,25,24,7,36,35,33,33,34,33,16,16,16,15,16,16]
["2021-12-01",{"$f":"VLOOKUP(J1301,'Control Panel'!$G$132:$K$171,5,FALSE)","v":"WF-1"},"WF",null,null,null,null,null,null,"Y01839",null,6271,21,20,19,21,21,3,22,18,17,17,17,17,24,24,23,19,23,19]
["2021-12-01",{"$f":"VLOOKUP(J1302,'Control Panel'!$G$132:$K$171,5,FALSE)","v":{"$error":"#N/A"}},null,null,null,null,null,null,null,"Total",null,269368,818,742,731,753,733,125,890,776,727,730,728,733,820,743,719,596,722,623]
["2021-12-01",{"$f":"VLOOKUP(J1303,'Control Panel'!$G$132:$K$171,5,FALSE)","v":"WF-2"},"WF",null,null,null,null,null,null,"F86004",null,15965,44,42,40,40,40,6,50,49,31,45,47,47,73,49,68,57,53,9]
["2021-12-01",{"$f":"VLOOKUP(J1304,'Control Panel'!$G$132:$K$171,5,FALSE)","v":"WF-4"},"WF",null,null,null,null,null,null,"F86018",null,9972,22,21,18,19,0,4,30,27,2,23,25,24,23,19,3,19,20,0]
["2021-12-01",{"$f":"VLOOKUP(J1305,'Control Panel'!$G$132:$K$171,5,FALSE)","v":"WF-1"},"WF",null,null,null,null,null,null,"F86026",null,7276,16,14,13,12,10,0,22,20,1,19,21,19,23,11,14,16,11,1]
["2021-12-01",{"$f":"VLOOKUP(J1306,'Control Panel'!$G$132:$K$171,5,FALSE)","v":"WF-3"},"WF",null,null,null,null,null,null,"F86074",null,15221,47,45,43,41,1,16,56,46,22,44,46,45,53,31,34,34,31,2]
["2021-12-01",{"$f":"VLOOKUP(J1307,'Control Panel'!$G$132:$K$171,5,FALSE)","v":"WF-1"},"WF",null,null,null,null,null,null,"F86638",null,5270,15,12,12,12,0,0,17,15,0,13,14,15,15,10,8,10,12,1]
["2022-01-01",{"$f":"VLOOKUP(J1308,'Control Panel'!$G$132:$K$171,5,FALSE)","v":{"$error":"#N/A"}}]
["2022-01-01",{"$f":"VLOOKUP(J1309,'Control Panel'!$G$132:$K$171,5,FALSE)","v":{"$error":"#N/A"}},"Childhood Immunisations Q3",null,"Last Run:",null,"Population Count",281962,null,null,"Search","All Patients","(01) 12 MONTH COHORT","(01.01) DTaP/IPV/Hib 6in1","(01.02) Men B (1st and 2nd)","(01.03) PCV","(01.04) Rotavirus","(01.05) BCG","(02) 24 MONTH COHORT","(02.01) DTaP/IPV/Hib Combined","(02.02) MMR","(02.03) HiB/Men C","(02.04) PCV (Booster)","(02.05) Men B (Booster)","(03) 5 YEAR COHORT","(03.01) DTaP/IPV/Hib Combined","(03.02) MMR (Primary)","(03.03) DTaP/IPV (Booster)","(03.04) HiB/Men C","(03.05) MMR (Booster)"]
["2022-01-01",{"$f":"VLOOKUP(J1310,'Control Panel'!$G$132:$K$171,5,FALSE)","v":{"$error":"#N/A"}},null,null,"2022-02-22T16:10:00",null,"Males",145606,null,"Organisation Code"]
["2022-01-01",{"$f":"VLOOKUP(J1311,'Control Panel'!$G$132:$K$171,5,FALSE)","v":"WF-6"},"WF",null,"Relative Date:",null,"Females",136356,null,"F86001",null,7719,24,22,22,23,22,1,20,16,15,15,15,15,21,16,16,11,15,15]
["2022-01-01",{"$f":"VLOOKUP(J1312,'Control Panel'!$G$132:$K$171,5,FALSE)","v":"WF-1"},"WF",null,"2022-02-01",null,null,null,null,"F86005",null,9497,42,40,40,40,41,3,44,44,43,42,43,43,24,21,22,19,22,20]
["2022-01-01",{"$f":"VLOOKUP(J1313,'Control Panel'!$G$132:$K$171,5,FALSE)","v":"WF-7"},"WF",null,null,null,null,null,null,"F86006",null,6779,22,21,21,22,21,6,18,15,14,14,14,15,13,13,13,12,13,12]
["2022-01-01",{"$f":"VLOOKUP(J1314,'Control Panel'!$G$132:$K$171,5,FALSE)","v":"WF-3"},"WF",null,null,null,null,null,null,"F86011",null,9690,19,17,17,18,14,4,20,16,16,15,15,16,34,33,33,27,33,28]
["2022-01-01",{"$f":"VLOOKUP(J1315,'Control Panel'!$G$132:$K$171,5,FALSE)","v":"WF-7"},"WF",null,null,null,null,null,null,"F86030",null,8090,23,19,19,20,19,1,31,30,30,30,29,30,21,20,20,19,20,19]
["2022-01-01",{"$f":"VLOOKUP(J1316,'Control Panel'!$G$132:$K$171,5,FALSE)","v":"WF-4"},"WF",null,null,null,null,null,null,"F86036",null,14823,39,37,37,37,36,7,50,42,42,42,44,42,43,41,41,38,40,37]
["2022-01-01",{"$f":"VLOOKUP(J1317,'Control Panel'!$G$132:$K$171,5,FALSE)","v":"WF-3"},"WF",null,null,null,null,null,null,"F86038",null,11266,36,33,32,32,32,5,42,39,36,36,36,38,35,32,29,30,31,32]
["2022-01-01",{"$f":"VLOOKUP(J1318,'Control Panel'!$G$132:$K$171,5,FALSE)","v":"WF-4"},"WF",null,null,null,null,null,null,"F86044",null,10506,45,39,37,38,38,11,41,32,34,35,35,33,38,28,26,20,27,21]
["2022-01-01",{"$f":"VLOOKUP(J1319,'Control Panel'!$G$132:$K$171,5,FALSE)","v":"WF-5"},"WF",null,null,null,null,null,null,"F86045",null,2025,2,2,2,2,2,1,1,1,1,1,1,1,2,1,1,1,1,1]
["2022-01-01",{"$f":"VLOOKUP(J1320,'Control Panel'!$G$132:$K$171,5,FALSE)","v":"WF-7"},"WF",null,null,null,null,null,null,"F86058",null,16746,48,42,42,43,39,11,65,54,53,53,53,54,51,45,42,25,40,27]
["2022-01-01",{"$f":"VLOOKUP(J1321,'Control Panel'!$G$132:$K$171,5,FALSE)","v":"WF-7"},"WF",null,null,null,null,null,null,"F86062",null,7195,19,15,15,16,16,0,25,17,17,17,18,18,27,25,25,19,24,20]
["2022-01-01",{"$f":"VLOOKUP(J1322,'Control Panel'!$G$132:$K$171,5,FALSE)","v":"WF-2"},"WF",null,null,null,null,null,null,"F86078",null,6897,10,10,10,10,10,1,10,9,9,8,9,8,21,19,19,14,19,14]
["2022-01-01",{"$f":"VLOOKUP(J1323,'Control Panel'!$G$132:$K$171,5,FALSE)","v":"WF-6"},"WF",null,null,null,null,null,null,"F86086",null,6209,20,17,17,18,18,1,30,26,22,22,22,23,19,16,15,9,15,12]
["2022-01-01",{"$f":"VLOOKUP(J1324,'Control Panel'!$G$132:$K$171,5,FALSE)","v":"WF-4"},"WF",null,null,null,null,null,null,"F86088",null,4997,16,14,13,13,12,5,10,8,6,7,8,7,15,13,11,8,11,8]
["2022-01-01",{"$f":"VLOOKUP(J1325,'Control Panel'!$G$132:$K$171,5,FALSE)","v":"WF-6"},"WF",null,null,null,null,null,null,"F86607",null,15418,49,46,46,46,45,3,60,53,46,47,45,49,53,49,49,43,48,45]
["2022-01-01",{"$f":"VLOOKUP(J1326,'Control Panel'!$G$132:$K$171,5,FALSE)","v":"WF-2"},"WF",null,null,null,null,null,null,"F86616",null,7943,30,27,27,28,27,6,32,26,25,25,25,26,37,30,32,28,32,28]
["2022-01-01",{"$f":"VLOOKUP(J1327,'Control Panel'!$G$132:$K$171,5,FALSE)","v":"WF-5"},"WF",null,null,null,null,null,null,"F86621",null,6381,24,23,23,23,22,7,19,16,16,16,15,15,16,16,15,14,15,15]
["2022-01-01",{"$f":"VLOOKUP(J1328,'Control Panel'!$G$132:$K$171,5,FALSE)","v":"WF-5"},"WF",null,null,null,null,null,null,"F86625",null,5898,12,10,10,10,10,3,17,14,9,9,9,9,17,16,16,9,14,10]
["2022-01-01",{"$f":"VLOOKUP(J1329,'Control Panel'!$G$132:$K$171,5,FALSE)","v":"WF-1"},"WF",null,null,null,null,null,null,"F86626",null,6973,30,28,28,28,28,3,36,32,29,29,28,28,18,17,15,13,15,14]
["2022-01-01",{"$f":"VLOOKUP(J1330,'Control Panel'!$G$132:$K$171,5,FALSE)","v":"WF-2"},"WF",null,null,null,null,null,null,"F86627",null,13269,36,34,32,34,33,6,32,29,25,26,25,25,40,39,35,30,36,30]
["2022-01-01",{"$f":"VLOOKUP(J1331,'Control Panel'!$G$132:$K$171,5,FALSE)","v":"WF-6"},"WF",null,null,null,null,null,null,"F86644",null,9337,15,15,15,15,14,3,10,9,8,7,8,7,31,30,29,27,31,29]
["2022-01-01",{"$f":"VLOOKUP(J1332,'Control Panel'!$G$132:$K$171,5,FALSE)","v":"WF-4"},"WF",null,null,null,null,null,null,"F86650",null,8046,38,32,32,33,32,5,27,24,23,22,23,20,24,22,22,14,22,14]
["2022-01-01",{"$f":"VLOOKUP(J1333,'Control Panel'!$G$132:$K$171,5,FALSE)","v":"WF-1"},"WF",null,null,null,null,null,null,"F86664",null,8450,23,21,21,22,21,3,28,26,27,27,26,25,26,22,24,17,24,17]
["2022-01-01",{"$f":"VLOOKUP(J1334,'Control Panel'!$G$132:$K$171,5,FALSE)","v":"WF-5"},"WF",null,null,null,null,null,null,"F86666",null,14904,38,37,34,35,36,3,44,33,33,34,32,34,33,30,26,22,28,27]
["2022-01-01",{"$f":"VLOOKUP(J1335,'Control Panel'!$G$132:$K$171,5,FALSE)","v":"WF-7"},"WF",null,null,null,null,null,null,"F86679",null,6303,24,21,21,23,23,4,35,33,30,30,30,29,20,19,18,13,19,13]
["2022-01-01",{"$f":"VLOOKUP(J1336,'Control Panel'!$G$132:$K$171,5,FALSE)","v":"WF-1"},"WF",null,null,null,null,null,null,"F86689",null,4368,18,18,18,18,18,1,19,17,19,19,19,19,27,26,27,24,27,24]
["2022-01-01",{"$f":"VLOOKUP(J1337,'Control Panel'!$G$132:$K$171,5,FALSE)","v":"WF-4"},"WF",null,null,null,null,null,null,"F86696",null,6806,20,15,15,18,18,2,26,25,23,23,23,23,20,16,17,16,17,16]
["2022-01-01",{"$f":"VLOOKUP(J1338,'Control Panel'!$G$132:$K$171,5,FALSE)","v":"WF-1"},"WF",null,null,null,null,null,null,"F86700",null,3856,0,0,0,0,0,0,8,7,6,6,6,6,14,12,11,12,11,12]
["2022-01-01",{"$f":"VLOOKUP(J1339,'Control Panel'!$G$132:$K$171,5,FALSE)","v":"WF-5"},"WF",null,null,null,null,null,null,"F86701",null,3822,16,13,13,13,13,4,12,11,8,8,7,8,11,11,10,9,11,10]
["2022-01-01",{"$f":"VLOOKUP(J1340,'Control Panel'!$G$132:$K$171,5,FALSE)","v":"WF-5"},"WF",null,null,null,null,null,null,"F86705",null,3540,7,7,6,6,6,3,8,8,7,7,7,7,6,6,5,5,5,5]
["2022-01-01",{"$f":"VLOOKUP(J1341,'Control Panel'!$G$132:$K$171,5,FALSE)","v":"WF-6"},"WF",null,null,null,null,null,null,"F86708",null,2789,5,5,5,5,5,0,5,5,5,5,5,5,9,8,8,6,8,6]
["2022-01-01",{"$f":"VLOOKUP(J1342,'Control Panel'!$G$132:$K$171,5,FALSE)","v":"WF-4"},"WF",null,null,null,null,null,null,"F86712",null,3370,10,10,10,10,10,3,5,5,5,5,5,5,10,10,10,10,10,10]
["2022-01-01",{"$f":"VLOOKUP(J1343,'Control Panel'!$G$132:$K$171,5,FALSE)","v":"WF-2"},"WF",null,null,null,null,null,null,"Y01291",null,9118,26,24,24,25,24,7,33,32,30,31,31,31,18,17,17,15,17,17]
["2022-01-01",{"$f":"VLOOKUP(J1344,'Control Panel'!$G$132:$K$171,5,FALSE)","v":"WF-1"},"WF",null,null,null,null,null,null,"Y01839",null,6264,21,20,19,21,21,3,22,18,17,17,17,17,24,24,23,19,23,19]
["2022-01-01",{"$f":"VLOOKUP(J1345,'Control Panel'!$G$132:$K$171,5,FALSE)","v":{"$error":"#N/A"}},null,null,null,null,null,null,null,"Total",null,269294,807,734,723,745,726,126,885,772,729,730,728,731,818,743,722,598,724,627]
["2022-01-01",{"$f":"VLOOKUP(J1346,'Control Panel'!$G$132:$K$171,5,FALSE)","v":{"$error":"#N/A"}},"WF"]
["2022-01-01",{"$f":"VLOOKUP(J1347,'Control Panel'!$G$132:$K$171,5,FALSE)","v":"WF-2"},"WF",null,null,null,null,null,null,"F86004",null,15955,43,41,39,39,39,6,50,48,32,45,47,47,75,49,69,57,54,9]
["2022-01-01",{"$f":"VLOOKUP(J1348,'Control Panel'!$G$132:$K$171,5,FALSE)","v":"WF-4"},"WF",null,null,null,null,null,null,"F86018",null,9940,22,20,17,18,0,4,29,27,3,22,25,24,24,19,4,20,21,0]
["2022-01-01",{"$f":"VLOOKUP(J1349,'Control Panel'!$G$132:$K$171,5,FALSE)","v":"WF-1"},"WF",null,null,null,null,null,null,"F86026",null,7232,16,14,13,12,10,0,22,19,2,18,20,18,22,11,13,15,10,1]
["2022-01-01",{"$f":"VLOOKUP(J1350,'Control Panel'!$G$132:$K$171,5,FALSE)","v":"WF-3"},"WF",null,null,null,null,null,null,"F86074",null,15137,44,42,40,38,1,15,56,46,22,44,46,45,53,31,34,34,31,2]
["2022-01-01",{"$f":"VLOOKUP(J1351,'Control Panel'!$G$132:$K$171,5,FALSE)","v":"WF-1"},null,null,null,null,null,null,null,"F86638",null,5227,16,12,12,12,0,0,17,14,0,13,13,14,15,10,7,10,11,1]
["2022-02-01",{"$f":"VLOOKUP(J1352,'Control Panel'!$G$132:$K$171,5,FALSE)","v":{"$error":"#N/A"}},"Childhood Immunisations Q4",null,"Last Run:",null,"Population Count",281711,null,null,"Search","All Patients","(01) 12 MONTH COHORT","(01.01) DTaP/IPV/Hib 6in1","(01.02) Men B (1st and 2nd)","(01.03) PCV","(01.04) Rotavirus","(01.05) BCG","(02) 24 MONTH COHORT","(02.01) DTaP/IPV/Hib Combined","(02.02) MMR","(02.03) HiB/Men C","(02.04) PCV (Booster)","(02.05) Men B (Booster)","(03) 5 YEAR COHORT","(03.01) DTaP/IPV/Hib Combined","(03.02) MMR (Primary)","(03.03) DTaP/IPV (Booster)","(03.04) HiB/Men C","(03.05) MMR (Booster)"]
["2022-02-01",{"$f":"VLOOKUP(J1353,'Control Panel'!$G$132:$K$171,5,FALSE)","v":{"$error":"#N/A"}},null,null,"2022-03-10T14:30:00",null,"Males",145475,null,"Organisation Code"]
["2022-02-01",{"$f":"VLOOKUP(J1354,'Control Panel'!$G$132:$K$171,5,FALSE)","v":"WF-6"},"WF",null,"Relative Date:",null,"Females",136236,null,"F86001",null,7737,15,10,9,11,12,5,19,17,15,15,15,16,29,29,27,26,28,26]
["2022-02-01",{"$f":"VLOOKUP(J1355,'Control Panel'!$G$132:$K$171,5,FALSE)","v":"WF-1"},"WF",null,"2022-03-01",null,null,null,null,"F86005",null,9521,43,41,40,42,39,2,51,49,49,49,48,48,31,28,28,22,28,23]
["2022-02-01",{"$f":"VLOOKUP(J1356,'Control Panel'!$G$132:$K$171,5,FALSE)","v":"WF-7"},"WF",null,null,null,null,null,null,"F86006",null,6809,19,15,15,15,15,4,19,16,17,17,17,17,22,17,19,14,18,15]
["2022-02-01",{"$f":"VLOOKUP(J1357,'Control Panel'!$G$132:$K$171,5,FALSE)","v":"WF-3"},"WF",null,null,null,null,null,null,"F86011",null,9692,22,19,19,20,19,3,22,21,18,18,18,18,18,16,15,11,15,12]
["2022-02-01",{"$f":"VLOOKUP(J1358,'Control Panel'!$G$132:$K$171,5,FALSE)","v":"WF-7"},"WF",null,null,null,null,null,null,"F86030",null,8104,23,21,21,23,22,1,23,22,22,22,22,22,27,24,23,20,22,20]
["2022-02-01",{"$f":"VLOOKUP(J1359,'Control Panel'!$G$132:$K$171,5,FALSE)","v":"WF-4"},"WF",null,null,null,null,null,null,"F86036",null,14783,42,40,40,40,40,6,33,31,31,31,31,31,40,40,39,36,38,36]
["2022-02-01",{"$f":"VLOOKUP(J1360,'Control Panel'!$G$132:$K$171,5,FALSE)","v":"WF-3"},"WF",null,null,null,null,null,null,"F86038",null,11105,28,23,23,25,24,5,28,25,25,25,26,24,23,22,22,20,21,21]
["2022-02-01",{"$f":"VLOOKUP(J1361,'Control Panel'!$G$132:$K$171,5,FALSE)","v":"WF-4"},"WF",null,null,null,null,null,null,"F86044",null,10688,35,29,29,32,30,7,39,33,33,33,33,32,30,24,22,16,22,17]
["2022-02-01",{"$f":"VLOOKUP(J1362,'Control Panel'!$G$132:$K$171,5,FALSE)","v":"WF-5"},"WF",null,null,null,null,null,null,"F86045",null,2027,4,4,4,4,4,1,6,6,5,5,5,5,5,4,4,4,4,4]
["2022-02-01",{"$f":"VLOOKUP(J1363,'Control Panel'!$G$132:$K$171,5,FALSE)","v":"WF-7"},"WF",null,null,null,null,null,null,"F86058",null,16716,61,51,50,52,50,6,69,56,53,53,54,53,43,40,37,30,37,31]
["2022-02-01",{"$f":"VLOOKUP(J1364,'Control Panel'!$G$132:$K$171,5,FALSE)","v":"WF-7"},"WF",null,null,null,null,null,null,"F86062",null,7170,25,21,18,21,22,1,8,7,6,6,6,6,21,19,17,10,16,10]
["2022-02-01",{"$f":"VLOOKUP(J1365,'Control Panel'!$G$132:$K$171,5,FALSE)","v":"WF-2"},"WF",null,null,null,null,null,null,"F86078",null,6868,12,11,12,12,11,1,10,10,9,9,9,9,13,13,13,11,12,11]
["2022-02-01",{"$f":"VLOOKUP(J1366,'Control Panel'!$G$132:$K$171,5,FALSE)","v":"WF-6"},"WF",null,null,null,null,null,null,"F86086",null,6250,22,19,19,22,19,3,28,24,21,21,21,21,28,26,25,21,26,22]
["2022-02-01",{"$f":"VLOOKUP(J1367,'Control Panel'!$G$132:$K$171,5,FALSE)","v":"WF-4"},"WF",null,null,null,null,null,null,"F86088",null,5002,16,15,15,15,14,2,10,8,9,9,9,9,14,14,14,12,13,12]
["2022-02-01",{"$f":"VLOOKUP(J1368,'Control Panel'!$G$132:$K$171,5,FALSE)","v":"WF-6"},"WF",null,null,null,null,null,null,"F86607",null,15450,53,51,52,53,50,7,48,44,41,41,41,41,45,42,43,42,42,42]
["2022-02-01",{"$f":"VLOOKUP(J1369,'Control Panel'!$G$132:$K$171,5,FALSE)","v":"WF-2"},"WF",null,null,null,null,null,null,"F86616",null,7970,36,36,36,36,33,5,35,30,26,27,27,27,28,25,23,23,22,22]
["2022-02-01",{"$f":"VLOOKUP(J1370,'Control Panel'!$G$132:$K$171,5,FALSE)","v":"WF-5"},"WF",null,null,null,null,null,null,"F86621",null,6416,12,9,8,10,10,2,24,22,21,21,21,20,14,12,13,12,13,13]
["2022-02-01",{"$f":"VLOOKUP(J1371,'Control Panel'!$G$132:$K$171,5,FALSE)","v":"WF-5"},"WF",null,null,null,null,null,null,"F86625",null,5880,6,5,5,5,4,1,10,8,8,8,8,8,17,16,15,15,15,14]
["2022-02-01",{"$f":"VLOOKUP(J1372,'Control Panel'!$G$132:$K$171,5,FALSE)","v":"WF-1"},"WF",null,null,null,null,null,null,"F86626",null,6995,24,21,22,23,21,3,23,19,21,19,19,20,14,13,13,12,13,12]
["2022-02-01",{"$f":"VLOOKUP(J1373,'Control Panel'!$G$132:$K$171,5,FALSE)","v":"WF-2"},"WF",null,null,null,null,null,null,"F86627",null,13277,24,23,23,24,21,5,31,30,26,26,25,26,30,30,30,27,30,27]
["2022-02-01",{"$f":"VLOOKUP(J1374,'Control Panel'!$G$132:$K$171,5,FALSE)","v":"WF-6"},"WF",null,null,null,null,null,null,"F86644",null,9302,19,19,19,19,18,2,21,20,18,20,20,20,28,26,27,19,26,24]
["2022-02-01",{"$f":"VLOOKUP(J1375,'Control Panel'!$G$132:$K$171,5,FALSE)","v":"WF-4"},"WF",null,null,null,null,null,null,"F86650",null,8066,23,17,17,18,15,3,20,17,16,16,16,16,19,17,16,13,17,13]
["2022-02-01",{"$f":"VLOOKUP(J1376,'Control Panel'!$G$132:$K$171,5,FALSE)","v":"WF-1"},"WF",null,null,null,null,null,null,"F86664",null,8449,16,16,16,16,16,0,35,33,32,32,32,32,23,23,22,20,22,20]
["2022-02-01",{"$f":"VLOOKUP(J1377,'Control Panel'!$G$132:$K$171,5,FALSE)","v":"WF-5"},"WF",null,null,null,null,null,null,"F86666",null,14944,41,39,39,40,37,5,46,41,39,39,40,40,48,41,37,18,38,35]
["2022-02-01",{"$f":"VLOOKUP(J1378,'Control Panel'!$G$132:$K$171,5,FALSE)","v":"WF-7"},"WF",null,null,null,null,null,null,"F86679",null,6359,31,28,28,28,28,8,27,25,22,22,22,22,28,24,24,16,23,16]
["2022-02-01",{"$f":"VLOOKUP(J1379,'Control Panel'!$G$132:$K$171,5,FALSE)","v":"WF-1"},"WF",null,null,null,null,null,null,"F86689",null,4373,33,28,28,28,27,2,24,22,24,24,24,23,18,18,18,18,18,18]
["2022-02-01",{"$f":"VLOOKUP(J1380,'Control Panel'!$G$132:$K$171,5,FALSE)","v":"WF-4"},"WF",null,null,null,null,null,null,"F86696",null,6841,32,23,22,26,23,4,22,20,17,17,17,17,16,15,15,11,15,11]
["2022-02-01",{"$f":"VLOOKUP(J1381,'Control Panel'!$G$132:$K$171,5,FALSE)","v":"WF-1"},"WF",null,null,null,null,null,null,"F86700",null,3846,7,5,5,6,5,0,12,10,9,9,9,9,13,12,10,9,11,9]
["2022-02-01",{"$f":"VLOOKUP(J1382,'Control Panel'!$G$132:$K$171,5,FALSE)","v":"WF-5"},"WF",null,null,null,null,null,null,"F86701",null,3826,9,7,7,7,7,4,11,9,8,8,9,9,7,6,5,3,5,2]
["2022-02-01",{"$f":"VLOOKUP(J1383,'Control Panel'!$G$132:$K$171,5,FALSE)","v":"WF-5"},"WF",null,null,null,null,null,null,"F86705",null,3533,14,13,13,14,14,5,5,5,3,3,3,3,9,8,7,7,7,8]
["2022-02-01",{"$f":"VLOOKUP(J1384,'Control Panel'!$G$132:$K$171,5,FALSE)","v":"WF-6"},"WF",null,null,null,null,null,null,"F86708",null,2788,6,5,5,5,5,2,6,5,5,5,5,5,9,7,7,5,7,5]
["2022-02-01",{"$f":"VLOOKUP(J1385,'Control Panel'!$G$132:$K$171,5,FALSE)","v":"WF-4"},"WF",null,null,null,null,null,null,"F86712",null,3368,10,10,9,10,10,2,7,6,5,5,5,5,6,6,6,6,6,6]
["2022-02-01",{"$f":"VLOOKUP(J1386,'Control Panel'!$G$132:$K$171,5,FALSE)","v":"WF-2"},"WF",null,null,null,null,null,null,"Y01291",null,9168,26,25,25,26,24,13,24,22,22,22,22,22,35,33,33,33,34,32]
["2022-02-01",{"$f":"VLOOKUP(J1387,'Control Panel'!$G$132:$K$171,5,FALSE)","v":"WF-1"},"WF",null,null,null,null,null,null,"Y01839",null,6238,19,17,17,18,17,3,17,15,16,16,16,16,23,20,19,12,18,11]
["2022-02-01",{"$f":"VLOOKUP(J1388,'Control Panel'!$G$132:$K$171,5,FALSE)","v":{"$error":"#N/A"}},null,null,null,null,null,null,null,"Total",null,269561,808,716,710,746,706,123,813,728,692,693,695,692,774,710,688,574,682,600]
["2022-02-01",{"$f":"VLOOKUP(J1389,'Control Panel'!$G$132:$K$171,5,FALSE)","v":"WF-2"},"WF",null,null,null,null,null,null,"F86004",null,15981,44,41,39,39,39,6,51,49,33,45,48,47,75,49,69,57,54,9]
["2022-02-01",{"$f":"VLOOKUP(J1390,'Control Panel'!$G$132:$K$171,5,FALSE)","v":"WF-4"},"WF",null,null,null,null,null,null,"F86018",null,9945,22,20,17,18,0,4,30,27,3,22,25,24,24,19,4,20,21,0]
["2022-02-01",{"$f":"VLOOKUP(J1391,'Control Panel'!$G$132:$K$171,5,FALSE)","v":"WF-1"},"WF",null,null,null,null,null,null,"F86026",null,7200,16,14,13,12,10,0,22,19,2,18,20,18,22,11,13,15,10,1]
["2022-02-01",{"$f":"VLOOKUP(J1392,'Control Panel'!$G$132:$K$171,5,FALSE)","v":"WF-3"},"WF",null,null,null,null,null,null,"F86074",null,15101,44,42,40,38,1,15,57,47,22,44,47,46,53,31,34,34,31,2]
["2022-02-01",{"$f":"VLOOKUP(J1393,'Control Panel'!$G$132:$K$171,5,FALSE)","v":"WF-1"},"WF",null,null,null,null,null,null,"F86638",null,5221,16,12,12,12,0,0,16,14,0,13,13,14,15,10,7,10,11,1]
["2022-03-01",{"$f":"VLOOKUP(J1394,'Control Panel'!$G$132:$K$171,5,FALSE)","v":{"$error":"#N/A"}},"Childhood Immunisations Q4",null,"Last Run:",null,"Population Count",282061,null,null,"Search","All Patients","(01) 12 MONTH COHORT","(01.01) DTaP/IPV/Hib 6in1","(01.02) Men B (1st and 2nd)","(01.03) PCV","(01.04) Rotavirus","(01.05) BCG","(02) 24 MONTH COHORT","(02.01) DTaP/IPV/Hib Combined","(02.02) MMR","(02.03) HiB/Men C","(02.04) PCV (Booster)","(02.05) Men B (Booster)","(03) 5 YEAR COHORT","(03.01) DTaP/IPV/Hib Combined","(03.02) MMR (Primary)","(03.03) DTaP/IPV (Booster)","(03.04) HiB/Men C","(03.05) MMR (Booster)"]
["2022-03-01",{"$f":"VLOOKUP(J1395,'Control Panel'!$G$132:$K$171,5,FALSE)","v":{"$error":"#N/A"}},null,null,"2022-04-04T11:33:00",null,"Males",145764,null,"Organisation Code"]
["2022-03-01",{"$f":"VLOOKUP(J1396,'Control Panel'!$G$132:$K$171,5,FALSE)","v":"WF-6"},"WF",null,"Relative Date:",null,"Females",136297,null,"F86001",null,7729,15,10,9,11,12,5,20,18,15,15,15,16,30,30,28,27,29,27]
["2022-03-01",{"$f":"VLOOKUP(J1397,'Control Panel'!$G$132:$K$171,5,FALSE)","v":"WF-1"},"WF",null,"2022-04-01",null,null,null,null,"F86005",null,9510,42,40,39,41,38,2,51,49,49,49,48,48,30,27,26,22,27,23]
["2022-03-01",{"$f":"VLOOKUP(J1398,'Control Panel'!$G$132:$K$171,5,FALSE)","v":"WF-7"},"WF",null,null,null,null,null,null,"F86006",null,6825,19,15,15,15,15,4,19,17,17,17,16,17,21,16,18,13,17,14]
["2022-03-01",{"$f":"VLOOKUP(J1399,'Control Panel'!$G$132:$K$171,5,FALSE)","v":"WF-3"},"WF",null,null,null,null,null,null,"F86011",null,9698,21,18,18,19,18,3,22,21,18,18,18,18,18,16,15,11,15,12]
["2022-03-01",{"$f":"VLOOKUP(J1400,'Control Panel'!$G$132:$K$171,5,FALSE)","v":"WF-7"},"WF",null,null,null,null,null,null,"F86030",null,8161,23,21,21,23,22,1,22,21,21,21,21,21,27,24,24,20,23,20]
["2022-03-01",{"$f":"VLOOKUP(J1401,'Control Panel'!$G$132:$K$171,5,FALSE)","v":"WF-4"},"WF",null,null,null,null,null,null,"F86036",null,14732,42,40,40,40,40,6,32,30,30,30,30,30,41,41,40,37,39,37]
["2022-03-01",{"$f":"VLOOKUP(J1402,'Control Panel'!$G$132:$K$171,5,FALSE)","v":"WF-3"},"WF",null,null,null,null,null,null,"F86038",null,11105,28,23,23,25,24,5,28,25,25,25,26,24,23,22,22,20,21,21]
["2022-03-01",{"$f":"VLOOKUP(J1403,'Control Panel'!$G$132:$K$171,5,FALSE)","v":"WF-4"},"WF",null,null,null,null,null,null,"F86044",null,10802,35,30,30,32,30,7,39,33,33,33,33,32,30,24,22,16,22,17]
["2022-03-01",{"$f":"VLOOKUP(J1404,'Control Panel'!$G$132:$K$171,5,FALSE)","v":"WF-5"},"WF",null,null,null,null,null,null,"F86045",null,2026,4,4,4,4,4,1,6,6,5,5,5,5,5,4,4,4,4,4]
["2022-03-01",{"$f":"VLOOKUP(J1405,'Control Panel'!$G$132:$K$171,5,FALSE)","v":"WF-7"},"WF",null,null,null,null,null,null,"F86058",null,16561,61,51,50,53,51,7,69,56,53,53,54,53,43,40,38,31,38,32]
["2022-03-01",{"$f":"VLOOKUP(J1406,'Control Panel'!$G$132:$K$171,5,FALSE)","v":"WF-7"},"WF",null,null,null,null,null,null,"F86062",null,7155,24,20,17,20,21,1,8,6,5,5,5,5,21,19,17,10,16,10]
["2022-03-01",{"$f":"VLOOKUP(J1407,'Control Panel'!$G$132:$K$171,5,FALSE)","v":"WF-2"},"WF",null,null,null,null,null,null,"F86078",null,6869,12,11,12,12,11,1,9,9,9,9,9,9,13,13,13,11,12,11]
["2022-03-01",{"$f":"VLOOKUP(J1408,'Control Panel'!$G$132:$K$171,5,FALSE)","v":"WF-6"},"WF",null,null,null,null,null,null,"F86086",null,6265,22,19,19,22,19,3,28,24,21,21,21,21,28,26,25,21,26,22]
["2022-03-01",{"$f":"VLOOKUP(J1409,'Control Panel'!$G$132:$K$171,5,FALSE)","v":"WF-4"},"WF",null,null,null,null,null,null,"F86088",null,5027,16,15,15,15,14,2,10,8,9,9,9,9,14,14,14,12,13,12]
["2022-03-01",{"$f":"VLOOKUP(J1410,'Control Panel'!$G$132:$K$171,5,FALSE)","v":"WF-6"},"WF",null,null,null,null,null,null,"F86607",null,15547,57,56,57,57,54,7,48,44,41,41,41,41,47,42,43,42,42,42]
["2022-03-01",{"$f":"VLOOKUP(J1411,'Control Panel'!$G$132:$K$171,5,FALSE)","v":"WF-2"},"WF",null,null,null,null,null,null,"F86616",null,7996,36,36,36,36,33,5,35,30,26,27,27,27,27,24,23,23,22,22]
["2022-03-01",{"$f":"VLOOKUP(J1412,'Control Panel'!$G$132:$K$171,5,FALSE)","v":"WF-5"},"WF",null,null,null,null,null,null,"F86621",null,6445,12,9,8,10,10,2,24,22,21,21,21,20,14,12,13,12,13,13]
["2022-03-01",{"$f":"VLOOKUP(J1413,'Control Panel'!$G$132:$K$171,5,FALSE)","v":"WF-5"},"WF",null,null,null,null,null,null,"F86625",null,5882,6,5,5,5,4,1,10,8,8,8,8,8,17,16,15,15,15,14]
["2022-03-01",{"$f":"VLOOKUP(J1414,'Control Panel'!$G$132:$K$171,5,FALSE)","v":"WF-1"},"WF",null,null,null,null,null,null,"F86626",null,7021,23,21,22,22,20,3,23,20,21,19,19,20,13,12,12,12,12,12]
["2022-03-01",{"$f":"VLOOKUP(J1415,'Control Panel'!$G$132:$K$171,5,FALSE)","v":"WF-2"},"WF",null,null,null,null,null,null,"F86627",null,13283,24,24,24,24,21,5,30,29,25,25,24,25,30,30,30,27,30,27]
["2022-03-01",{"$f":"VLOOKUP(J1416,'Control Panel'!$G$132:$K$171,5,FALSE)","v":"WF-6"},"WF",null,null,null,null,null,null,"F86644",null,9254,19,19,19,19,18,2,21,20,18,20,20,20,27,26,25,18,25,23]
["2022-03-01",{"$f":"VLOOKUP(J1417,'Control Panel'!$G$132:$K$171,5,FALSE)","v":"WF-4"},"WF",null,null,null,null,null,null,"F86650",null,8080,23,18,18,19,16,3,20,17,16,16,16,16,18,17,16,13,17,13]
["2022-03-01",{"$f":"VLOOKUP(J1418,'Control Panel'!$G$132:$K$171,5,FALSE)","v":"WF-1"},"WF",null,null,null,null,null,null,"F86664",null,8471,17,17,17,17,17,0,34,32,31,31,31,31,23,23,22,20,22,20]
["2022-03-01",{"$f":"VLOOKUP(J1419,'Control Panel'!$G$132:$K$171,5,FALSE)","v":"WF-5"},"WF",null,null,null,null,null,null,"F86666",null,14983,41,39,39,40,38,5,46,41,39,39,40,40,47,41,38,18,38,35]
["2022-03-01",{"$f":"VLOOKUP(J1420,'Control Panel'!$G$132:$K$171,5,FALSE)","v":"WF-7"},"WF",null,null,null,null,null,null,"F86679",null,6372,29,26,26,26,26,8,27,25,22,22,22,22,28,24,24,16,23,16]
["2022-03-01",{"$f":"VLOOKUP(J1421,'Control Panel'!$G$132:$K$171,5,FALSE)","v":"WF-1"},"WF",null,null,null,null,null,null,"F86689",null,4395,33,28,28,28,27,2,24,22,24,24,24,23,18,18,18,18,18,18]
["2022-03-01",{"$f":"VLOOKUP(J1422,'Control Panel'!$G$132:$K$171,5,FALSE)","v":"WF-4"},"WF",null,null,null,null,null,null,"F86696",null,6883,32,23,22,26,23,4,21,19,17,17,17,17,16,15,15,11,15,11]
["2022-03-01",{"$f":"VLOOKUP(J1423,'Control Panel'!$G$132:$K$171,5,FALSE)","v":"WF-1"},"WF",null,null,null,null,null,null,"F86700",null,3901,8,6,6,7,6,0,12,10,9,9,9,9,13,12,10,9,11,9]
["2022-03-01",{"$f":"VLOOKUP(J1424,'Control Panel'!$G$132:$K$171,5,FALSE)","v":"WF-5"},"WF",null,null,null,null,null,null,"F86701",null,3853,10,7,7,7,8,4,11,9,8,8,9,9,7,6,5,3,5,2]
["2022-03-01",{"$f":"VLOOKUP(J1425,'Control Panel'!$G$132:$K$171,5,FALSE)","v":"WF-5"},"WF",null,null,null,null,null,null,"F86705",null,3512,14,13,13,14,14,5,3,3,3,3,3,3,7,7,7,7,6,7]
["2022-03-01",{"$f":"VLOOKUP(J1426,'Control Panel'!$G$132:$K$171,5,FALSE)","v":"WF-6"},"WF",null,null,null,null,null,null,"F86708",null,2782,6,5,5,5,5,2,6,5,5,5,5,5,9,6,7,5,7,5]
["2022-03-01",{"$f":"VLOOKUP(J1427,'Control Panel'!$G$132:$K$171,5,FALSE)","v":"WF-4"},"WF",null,null,null,null,null,null,"F86712",null,3395,10,10,9,10,10,2,7,6,6,6,6,6,6,6,6,6,6,6]
["2022-03-01",{"$f":"VLOOKUP(J1428,'Control Panel'!$G$132:$K$171,5,FALSE)","v":"WF-2"},"WF",null,null,null,null,null,null,"Y01291",null,9173,26,26,26,26,24,13,25,23,22,22,22,22,35,33,33,33,34,32]
["2022-03-01",{"$f":"VLOOKUP(J1429,'Control Panel'!$G$132:$K$171,5,FALSE)","v":"WF-1"},"WF",null,null,null,null,null,null,"Y01839",null,6236,19,17,17,18,17,3,17,15,16,16,16,16,23,20,19,12,18,11]
["2022-03-01",{"$f":"VLOOKUP(J1430,'Control Panel'!$G$132:$K$171,5,FALSE)","v":{"$error":"#N/A"}},null,null,null,null,null,null,null,"Total",null,269929,809,722,716,748,710,124,807,723,688,689,690,688,769,706,687,575,681,600]
["2022-03-01",{"$f":"VLOOKUP(J1431,'Control Panel'!$G$132:$K$171,5,FALSE)","v":"WF-2"},"WF",null,null,null,null,null,null,"F86004",null,15970,51,47,46,46,46,9,53,50,27,53,53,52,58,37,36,47,41,2]
["2022-03-01",{"$f":"VLOOKUP(J1432,'Control Panel'!$G$132:$K$171,5,FALSE)","v":"WF-4"},"WF",null,null,null,null,null,null,"F86018",null,9966,17,17,16,16,0,3,30,27,2,25,26,26,28,18,8,15,21,2]
["2022-03-01",{"$f":"VLOOKUP(J1433,'Control Panel'!$G$132:$K$171,5,FALSE)","v":"WF-1"},"WF",null,null,null,null,null,null,"F86026",null,7223,11,9,9,9,8,0,21,17,1,17,18,17,22,8,8,14,10,0]
["2022-03-01",{"$f":"VLOOKUP(J1434,'Control Panel'!$G$132:$K$171,5,FALSE)","v":"WF-3"},"WF",null,null,null,null,null,null,"F86074",null,15092,39,37,34,34,25,7,52,42,17,32,43,43,53,29,30,33,31,0]
["2022-03-01",{"$f":"VLOOKUP(J1435,'Control Panel'!$G$132:$K$171,5,FALSE)","v":"WF-1"},"WF",null,null,null,null,null,null,"F86638",null,5199,17,12,12,12,1,2,18,13,1,12,13,14,20,14,2,9,16,1]
["2022-04-01",{"$f":"VLOOKUP(J1436,'Control Panel'!$G$132:$K$171,5,FALSE)","v":{"$error":"#N/A"}},"WF",null,"Last Run:",null,"Population Count",282707,null,null,"Search","All currently registered regular patients","(01) 12 MONTH COHORT","(01.01) DTaP/IPV/Hib/HepB","(01.02) Men B (1st and 2nd)","(01.03) PCV","(01.04) Rotavirus",null,"(02) 24 MONTH COHORT","(02.01) DTaP/IPV/Hib/HepB","(02.02) MMR","(02.03) HiB/Men C","(02.04) PCV (Booster)","(02.05) Men B (Booster)","(03) 5 YEAR COHORT","(03.01) DTaP/IPV/Hib or DTaP/IPV/Hib/HepB","(03.02) MMR (Primary)","(03.03) DTaP/IPV (Booster)","(03.04) HiB/Men C","(03.05) MMR (Booster)"]
["2022-04-01",{"$f":"VLOOKUP(J1437,'Control Panel'!$G$132:$K$171,5,FALSE)","v":{"$error":"#N/A"}},"WF",null,"2022-05-05T17:32:00",null,"Males",146208,null,"Organisation Code"]
["2022-04-01",{"$f":"VLOOKUP(J1438,'Control Panel'!$G$132:$K$171,5,FALSE)","v":"WF-6"},"WF",null,"Relative Date:",null,"Females",136499,null,"F86001",null,7720,15,15,15,14,13,null,10,5,6,6,6,6,22,18,17,11,17,11]
["2022-04-01",{"$f":"VLOOKUP(J1439,'Control Panel'!$G$132:$K$171,5,FALSE)","v":"WF-1"},"WF",null,"2022-05-01",null,null,null,null,"F86005",null,9499,45,41,39,43,43,null,42,37,35,34,34,35,31,31,30,24,29,25]
["2022-04-01",{"$f":"VLOOKUP(J1440,'Control Panel'!$G$132:$K$171,5,FALSE)","v":"WF-7"},"WF",null,null,null,null,null,null,"F86006",null,6886,16,12,12,15,15,null,17,14,14,14,14,14,24,22,23,15,21,15]
["2022-04-01",{"$f":"VLOOKUP(J1441,'Control Panel'!$G$132:$K$171,5,FALSE)","v":"WF-3"},"WF",null,null,null,null,null,null,"F86011",null,9676,13,11,11,12,11,null,17,13,13,13,13,13,27,20,20,15,18,15]
["2022-04-01",{"$f":"VLOOKUP(J1442,'Control Panel'!$G$132:$K$171,5,FALSE)","v":"WF-7"},"WF",null,null,null,null,null,null,"F86030",null,8154,22,19,19,19,17,null,36,36,34,36,36,36,33,31,31,28,31,28]
["2022-04-01",{"$f":"VLOOKUP(J1443,'Control Panel'!$G$132:$K$171,5,FALSE)","v":"WF-4"},"WF",null,null,null,null,null,null,"F86036",null,14744,48,48,48,47,47,null,46,39,41,38,41,38,46,42,40,37,40,37]
["2022-04-01",{"$f":"VLOOKUP(J1444,'Control Panel'!$G$132:$K$171,5,FALSE)","v":"WF-3"},"WF",null,null,null,null,null,null,"F86038",null,11052,33,31,31,31,31,null,27,25,25,25,25,25,38,35,33,26,33,26]
["2022-04-01",{"$f":"VLOOKUP(J1445,'Control Panel'!$G$132:$K$171,5,FALSE)","v":"WF-4"},"WF",null,null,null,null,null,null,"F86044",null,10955,47,38,39,39,33,null,40,30,31,32,32,32,38,29,27,17,26,18]
["2022-04-01",{"$f":"VLOOKUP(J1446,'Control Panel'!$G$132:$K$171,5,FALSE)","v":"WF-5"},"WF",null,null,null,null,null,null,"F86045",null,2028,1,1,0,1,1,null,5,5,4,5,5,5,2,2,2,2,2,2]
["2022-04-01",{"$f":"VLOOKUP(J1447,'Control Panel'!$G$132:$K$171,5,FALSE)","v":"WF-7"},"WF",null,null,null,null,null,null,"F86058",null,16591,64,51,49,55,51,null,51,43,40,41,41,42,62,53,51,40,51,42]
["2022-04-01",{"$f":"VLOOKUP(J1448,'Control Panel'!$G$132:$K$171,5,FALSE)","v":"WF-7"},"WF",null,null,null,null,null,null,"F86062",null,7139,21,18,17,20,18,null,22,17,17,17,17,17,21,17,15,11,15,11]
["2022-04-01",{"$f":"VLOOKUP(J1449,'Control Panel'!$G$132:$K$171,5,FALSE)","v":"WF-2"},"WF",null,null,null,null,null,null,"F86078",null,6874,14,13,14,14,13,null,11,10,8,7,8,8,12,12,12,12,12,12]
["2022-04-01",{"$f":"VLOOKUP(J1450,'Control Panel'!$G$132:$K$171,5,FALSE)","v":"WF-6"},"WF",null,null,null,null,null,null,"F86086",null,6288,24,19,18,22,19,null,15,11,9,9,9,9,26,24,21,18,22,17]
["2022-04-01",{"$f":"VLOOKUP(J1451,'Control Panel'!$G$132:$K$171,5,FALSE)","v":"WF-4"},"WF",null,null,null,null,null,null,"F86088",null,5025,13,12,12,12,12,null,10,9,8,8,8,7,5,3,2,2,1,2]
["2022-04-01",{"$f":"VLOOKUP(J1452,'Control Panel'!$G$132:$K$171,5,FALSE)","v":"WF-6"},"WF",null,null,null,null,null,null,"F86607",null,15569,63,61,60,62,60,null,47,44,45,44,45,45,39,36,35,36,36,36]
["2022-04-01",{"$f":"VLOOKUP(J1453,'Control Panel'!$G$132:$K$171,5,FALSE)","v":"WF-2"},"WF",null,null,null,null,null,null,"F86616",null,8012,27,25,25,25,23,null,34,33,33,33,33,33,41,35,33,29,35,29]
["2022-04-01",{"$f":"VLOOKUP(J1454,'Control Panel'!$G$132:$K$171,5,FALSE)","v":"WF-5"},"WF",null,null,null,null,null,null,"F86621",null,6474,34,30,30,32,31,null,27,24,23,23,23,23,23,20,20,16,19,16]
["2022-04-01",{"$f":"VLOOKUP(J1455,'Control Panel'!$G$132:$K$171,5,FALSE)","v":"WF-5"},"WF",null,null,null,null,null,null,"F86625",null,5864,11,10,10,10,7,null,20,13,13,13,14,13,16,14,14,8,12,9]
["2022-04-01",{"$f":"VLOOKUP(J1456,'Control Panel'!$G$132:$K$171,5,FALSE)","v":"WF-1"},"WF",null,null,null,null,null,null,"F86626",null,7073,29,28,28,28,24,null,26,25,25,25,25,25,14,14,14,13,14,13]
["2022-04-01",{"$f":"VLOOKUP(J1457,'Control Panel'!$G$132:$K$171,5,FALSE)","v":"WF-2"},"WF",null,null,null,null,null,null,"F86627",null,13278,28,27,26,27,26,null,30,23,23,20,22,23,32,31,29,27,29,28]
["2022-04-01",{"$f":"VLOOKUP(J1458,'Control Panel'!$G$132:$K$171,5,FALSE)","v":"WF-6"},"WF",null,null,null,null,null,null,"F86644",null,9181,20,15,15,15,12,null,19,18,18,18,18,17,30,28,25,10,25,24]
["2022-04-01",{"$f":"VLOOKUP(J1459,'Control Panel'!$G$132:$K$171,5,FALSE)","v":"WF-4"},"WF",null,null,null,null,null,null,"F86650",null,8137,24,19,20,21,21,null,25,19,17,17,15,15,26,26,24,18,24,18]
["2022-04-01",{"$f":"VLOOKUP(J1460,'Control Panel'!$G$132:$K$171,5,FALSE)","v":"WF-1"},"WF",null,null,null,null,null,null,"F86664",null,8492,24,20,20,21,21,null,26,26,25,25,25,25,26,24,25,22,24,22]
["2022-04-01",{"$f":"VLOOKUP(J1461,'Control Panel'!$G$132:$K$171,5,FALSE)","v":"WF-5"},"WF",null,null,null,null,null,null,"F86666",null,14980,32,30,27,31,28,null,41,36,35,20,34,36,39,36,32,27,32,29]
["2022-04-01",{"$f":"VLOOKUP(J1462,'Control Panel'!$G$132:$K$171,5,FALSE)","v":"WF-7"},"WF",null,null,null,null,null,null,"F86679",null,6366,27,26,25,26,25,null,24,17,15,15,15,15,24,19,19,13,18,12]
["2022-04-01",{"$f":"VLOOKUP(J1463,'Control Panel'!$G$132:$K$171,5,FALSE)","v":"WF-1"},"WF",null,null,null,null,null,null,"F86689",null,4408,29,27,27,28,27,null,22,21,20,20,20,20,25,22,19,19,20,18]
["2022-04-01",{"$f":"VLOOKUP(J1464,'Control Panel'!$G$132:$K$171,5,FALSE)","v":"WF-4"},"WF",null,null,null,null,null,null,"F86696",null,6864,35,31,31,32,31,null,25,18,18,18,18,18,15,9,10,6,10,7]
["2022-04-01",{"$f":"VLOOKUP(J1465,'Control Panel'!$G$132:$K$171,5,FALSE)","v":"WF-1"},"WF",null,null,null,null,null,null,"F86700",null,3885,7,7,7,6,6,null,13,11,12,11,12,12,11,11,10,9,10,10]
["2022-04-01",{"$f":"VLOOKUP(J1466,'Control Panel'!$G$132:$K$171,5,FALSE)","v":"WF-5"},"WF",null,null,null,null,null,null,"F86701",null,3859,9,9,9,9,9,null,11,9,9,9,9,10,11,10,10,6,10,6]
["2022-04-01",{"$f":"VLOOKUP(J1467,'Control Panel'!$G$132:$K$171,5,FALSE)","v":"WF-5"},"WF",null,null,null,null,null,null,"F86705",null,3513,23,22,21,22,22,null,8,8,8,8,8,8,10,10,9,9,10,10]
["2022-04-01",{"$f":"VLOOKUP(J1468,'Control Panel'!$G$132:$K$171,5,FALSE)","v":"WF-6"},"WF",null,null,null,null,null,null,"F86708",null,2793,4,3,3,4,3,null,4,3,3,3,3,2,10,8,8,8,8,8]
["2022-04-01",{"$f":"VLOOKUP(J1469,'Control Panel'!$G$132:$K$171,5,FALSE)","v":"WF-4"},"WF",null,null,null,null,null,null,"F86712",null,3392,13,13,13,13,12,null,6,6,6,6,6,6,6,5,5,5,5,5]
["2022-04-01",{"$f":"VLOOKUP(J1470,'Control Panel'!$G$132:$K$171,5,FALSE)","v":"WF-2"},"WF",null,null,null,null,null,null,"Y01291",null,9243,28,26,26,26,26,null,38,34,35,15,36,33,35,31,31,29,31,29]
["2022-04-01",{"$f":"VLOOKUP(J1471,'Control Panel'!$G$132:$K$171,5,FALSE)","v":"WF-1"},"WF",null,null,null,null,null,null,"Y01839",null,6239,33,26,27,28,28,null,24,19,20,19,20,19,21,21,20,20,20,20]
["2022-04-01",{"$f":"VLOOKUP(J1472,'Control Panel'!$G$132:$K$171,5,FALSE)","v":"WF-2"},"WF",null,null,null,null,null,null,"F86004",null,15967,47,45,45,45,45,null,51,46,29,50,50,50,53,33,14,41,45,5]
["2022-04-01",{"$f":"VLOOKUP(J1473,'Control Panel'!$G$132:$K$171,5,FALSE)","v":"WF-4"},"WF",null,null,null,null,null,null,"F86018",null,9970,19,19,19,19,0,null,23,21,1,20,20,19,35,17,5,14,24,2]
["2022-04-01",{"$f":"VLOOKUP(J1474,'Control Panel'!$G$132:$K$171,5,FALSE)","v":"WF-1"},"WF",null,null,null,null,null,null,"F86026",null,7202,15,13,13,13,13,null,13,12,0,10,12,12,23,2,4,15,14,1]
["2022-04-01",{"$f":"VLOOKUP(J1475,'Control Panel'!$G$132:$K$171,5,FALSE)","v":"WF-3"},"WF",null,null,null,null,null,null,"F86074",null,15090,46,40,39,39,32,null,63,51,23,41,52,50,50,25,32,28,31,3]
["2022-04-01",{"$f":"VLOOKUP(J1476,'Control Panel'!$G$132:$K$171,5,FALSE)","v":"WF-1"},"WF",null,null,null,null,null,null,"F86638",null,5144,19,18,18,17,0,null,15,12,1,12,13,13,14,3,4,7,10,0]
["2022-05-01",{"$f":"VLOOKUP(J1477,'Control Panel'!$G$132:$K$171,5,FALSE)","v":{"$error":"#N/A"}},"WF",null,"Last Run:",null,"Population Count",283185,null,null,"Search","All currently registered regular patients","(01) 12 MONTH COHORT","(01.01) DTaP/IPV/Hib/HepB","(01.02) Men B (1st and 2nd)","(01.03) PCV","(01.04) Rotavirus",null,"(02) 24 MONTH COHORT","(02.01) DTaP/IPV/Hib/HepB","(02.02) MMR","(02.03) HiB/Men C","(02.04) PCV (Booster)","(02.05) Men B (Booster)","(03) 5 YEAR COHORT","(03.01) DTaP/IPV/Hib or DTaP/IPV/Hib/HepB","(03.02) MMR (Primary)","(03.03) DTaP/IPV (Booster)","(03.04) HiB/Men C","(03.05) MMR (Booster)"]
["2022-05-01",{"$f":"VLOOKUP(J1478,'Control Panel'!$G$132:$K$171,5,FALSE)","v":{"$error":"#N/A"}},"WF",null,"2022-06-06T09:50:00",null,"Males",146420,null,"Organisation Code"]
["2022-05-01",{"$f":"VLOOKUP(J1479,'Control Panel'!$G$132:$K$171,5,FALSE)","v":"WF-6"},"WF",null,"Relative Date:",null,"Females",136765,null,"F86001",null,7701,15,15,15,14,13,null,11,5,6,6,6,6,21,17,16,10,16,10]
["2022-05-01",{"$f":"VLOOKUP(J1480,'Control Panel'!$G$132:$K$171,5,FALSE)","v":"WF-1"},"WF",null,"2022-06-01",null,null,null,null,"F86005",null,9532,45,41,39,43,43,null,42,37,35,34,34,35,31,31,30,24,29,25]
["2022-05-01",{"$f":"VLOOKUP(J1481,'Control Panel'!$G$132:$K$171,5,FALSE)","v":"WF-7"},"WF",null,null,null,null,null,null,"F86006",null,6897,15,12,12,14,14,null,17,14,14,14,14,14,23,21,22,16,20,16]
["2022-05-01",{"$f":"VLOOKUP(J1482,'Control Panel'!$G$132:$K$171,5,FALSE)","v":"WF-3"},"WF",null,null,null,null,null,null,"F86011",null,9722,13,11,11,12,11,null,17,13,13,13,13,13,26,19,19,15,17,15]
["2022-05-01",{"$f":"VLOOKUP(J1483,'Control Panel'!$G$132:$K$171,5,FALSE)","v":"WF-7"},"WF",null,null,null,null,null,null,"F86030",null,8161,20,19,19,19,17,null,36,36,34,36,36,36,33,31,31,28,31,28]
["2022-05-01",{"$f":"VLOOKUP(J1484,'Control Panel'!$G$132:$K$171,5,FALSE)","v":"WF-4"},"WF",null,null,null,null,null,null,"F86036",null,14707,48,48,48,47,47,null,48,41,43,40,43,40,45,41,39,36,39,36]
["2022-05-01",{"$f":"VLOOKUP(J1485,'Control Panel'!$G$132:$K$171,5,FALSE)","v":"WF-3"},"WF",null,null,null,null,null,null,"F86038",null,11010,33,31,31,31,31,null,27,25,25,25,25,25,36,33,31,27,31,27]
["2022-05-01",{"$f":"VLOOKUP(J1486,'Control Panel'!$G$132:$K$171,5,FALSE)","v":"WF-4"},"WF",null,null,null,null,null,null,"F86044",null,11062,48,39,40,40,34,null,40,30,31,32,32,32,38,29,27,17,26,18]
["2022-05-01",{"$f":"VLOOKUP(J1487,'Control Panel'!$G$132:$K$171,5,FALSE)","v":"WF-5"},"WF",null,null,null,null,null,null,"F86045",null,2035,1,1,0,1,1,null,5,5,4,5,5,5,3,2,2,2,2,2]
["2022-05-01",{"$f":"VLOOKUP(J1488,'Control Panel'!$G$132:$K$171,5,FALSE)","v":"WF-7"},"WF",null,null,null,null,null,null,"F86058",null,16573,61,50,47,53,50,null,50,42,42,42,42,42,63,53,51,40,51,42]
["2022-05-01",{"$f":"VLOOKUP(J1489,'Control Panel'!$G$132:$K$171,5,FALSE)","v":"WF-7"},"WF",null,null,null,null,null,null,"F86062",null,7123,21,18,17,20,18,null,22,18,17,17,17,17,21,17,15,11,15,11]
["2022-05-01",{"$f":"VLOOKUP(J1490,'Control Panel'!$G$132:$K$171,5,FALSE)","v":"WF-2"},"WF",null,null,null,null,null,null,"F86078",null,6855,14,13,14,14,13,null,11,10,8,7,8,8,12,12,12,12,12,12]
["2022-05-01",{"$f":"VLOOKUP(J1491,'Control Panel'!$G$132:$K$171,5,FALSE)","v":"WF-6"},"WF",null,null,null,null,null,null,"F86086",null,6305,24,19,18,21,18,null,15,11,9,9,9,9,26,24,21,18,22,17]
["2022-05-01",{"$f":"VLOOKUP(J1492,'Control Panel'!$G$132:$K$171,5,FALSE)","v":"WF-4"},"WF",null,null,null,null,null,null,"F86088",null,5027,13,12,12,12,12,null,10,9,8,8,8,7,5,3,2,2,1,2]
["2022-05-01",{"$f":"VLOOKUP(J1493,'Control Panel'!$G$132:$K$171,5,FALSE)","v":"WF-6"},"WF",null,null,null,null,null,null,"F86607",null,15709,63,60,60,62,59,null,47,44,45,44,45,45,40,37,36,37,37,37]
["2022-05-01",{"$f":"VLOOKUP(J1494,'Control Panel'!$G$132:$K$171,5,FALSE)","v":"WF-2"},"WF",null,null,null,null,null,null,"F86616",null,8068,27,26,26,26,24,null,35,33,34,34,34,34,40,34,32,28,34,28]
["2022-05-01",{"$f":"VLOOKUP(J1495,'Control Panel'!$G$132:$K$171,5,FALSE)","v":"WF-5"},"WF",null,null,null,null,null,null,"F86621",null,6500,34,30,30,32,31,null,25,22,21,21,21,21,23,21,22,17,20,17]
["2022-05-01",{"$f":"VLOOKUP(J1496,'Control Panel'!$G$132:$K$171,5,FALSE)","v":"WF-5"},"WF",null,null,null,null,null,null,"F86625",null,5854,11,10,10,10,7,null,19,13,13,13,14,13,16,14,14,8,12,9]
["2022-05-01",{"$f":"VLOOKUP(J1497,'Control Panel'!$G$132:$K$171,5,FALSE)","v":"WF-1"},"WF",null,null,null,null,null,null,"F86626",null,7108,28,28,28,28,25,null,26,25,25,25,25,25,14,14,14,14,14,14]
["2022-05-01",{"$f":"VLOOKUP(J1498,'Control Panel'!$G$132:$K$171,5,FALSE)","v":"WF-2"},"WF",null,null,null,null,null,null,"F86627",null,13274,29,27,26,27,26,null,30,23,23,20,22,23,31,30,28,27,28,28]
["2022-05-01",{"$f":"VLOOKUP(J1499,'Control Panel'!$G$132:$K$171,5,FALSE)","v":"WF-6"},"WF",null,null,null,null,null,null,"F86644",null,9157,20,16,16,16,13,null,18,17,17,17,17,16,30,28,25,10,25,24]
["2022-05-01",{"$f":"VLOOKUP(J1500,'Control Panel'!$G$132:$K$171,5,FALSE)","v":"WF-4"},"WF",null,null,null,null,null,null,"F86650",null,8084,25,20,21,21,21,null,26,20,18,17,16,15,27,27,25,19,25,19]
["2022-05-01",{"$f":"VLOOKUP(J1501,'Control Panel'!$G$132:$K$171,5,FALSE)","v":"WF-1"},"WF",null,null,null,null,null,null,"F86664",null,8510,24,20,20,21,21,null,26,26,25,25,25,25,27,24,25,22,24,22]
["2022-05-01",{"$f":"VLOOKUP(J1502,'Control Panel'!$G$132:$K$171,5,FALSE)","v":"WF-5"},"WF",null,null,null,null,null,null,"F86666",null,14992,31,29,28,30,28,null,41,36,35,20,34,36,38,35,31,26,31,28]
["2022-05-01",{"$f":"VLOOKUP(J1503,'Control Panel'!$G$132:$K$171,5,FALSE)","v":"WF-7"},"WF",null,null,null,null,null,null,"F86679",null,6377,27,26,26,26,26,null,21,16,15,15,13,13,24,19,19,13,18,12]
["2022-05-01",{"$f":"VLOOKUP(J1504,'Control Panel'!$G$132:$K$171,5,FALSE)","v":"WF-1"},"WF",null,null,null,null,null,null,"F86689",null,4402,29,27,27,28,27,null,22,21,20,20,20,20,25,22,19,19,20,18]
["2022-05-01",{"$f":"VLOOKUP(J1505,'Control Panel'!$G$132:$K$171,5,FALSE)","v":"WF-4"},"WF",null,null,null,null,null,null,"F86696",null,6899,34,30,30,31,30,null,25,18,18,18,18,18,15,9,10,6,10,7]
["2022-05-01",{"$f":"VLOOKUP(J1506,'Control Panel'!$G$132:$K$171,5,FALSE)","v":"WF-1"},"WF",null,null,null,null,null,null,"F86700",null,3893,7,7,7,6,6,null,14,12,13,12,13,13,11,11,10,9,10,10]
["2022-05-01",{"$f":"VLOOKUP(J1507,'Control Panel'!$G$132:$K$171,5,FALSE)","v":"WF-5"},"WF",null,null,null,null,null,null,"F86701",null,3863,9,9,9,9,9,null,11,9,9,9,9,10,11,10,10,6,10,6]
["2022-05-01",{"$f":"VLOOKUP(J1508,'Control Panel'!$G$132:$K$171,5,FALSE)","v":"WF-5"},"WF",null,null,null,null,null,null,"F86705",null,3516,23,22,21,22,22,null,8,8,8,8,8,8,10,10,9,9,10,10]
["2022-05-01",{"$f":"VLOOKUP(J1509,'Control Panel'!$G$132:$K$171,5,FALSE)","v":"WF-6"},"WF",null,null,null,null,null,null,"F86708",null,2823,4,4,4,4,3,null,4,3,3,3,3,2,10,8,8,8,8,8]
["2022-05-01",{"$f":"VLOOKUP(J1510,'Control Panel'!$G$132:$K$171,5,FALSE)","v":"WF-4"},"WF",null,null,null,null,null,null,"F86712",null,3400,13,13,13,13,12,null,6,6,6,6,6,6,6,5,5,5,5,5]
["2022-05-01",{"$f":"VLOOKUP(J1511,'Control Panel'!$G$132:$K$171,5,FALSE)","v":"WF-2"},"WF",null,null,null,null,null,null,"Y01291",null,9366,29,27,27,27,27,null,37,34,35,15,36,33,37,32,32,30,32,30]
["2022-05-01",{"$f":"VLOOKUP(J1512,'Control Panel'!$G$132:$K$171,5,FALSE)","v":"WF-1"},"WF",null,null,null,null,null,null,"Y01839",null,6228,33,27,28,29,29,null,24,19,20,19,20,19,21,21,20,20,20,20]
["2022-05-01",{"$f":"VLOOKUP(J1513,'Control Panel'!$G$132:$K$171,5,FALSE)","v":"WF-2"},"WF",null,null,null,null,null,null,"F86004",null,15967,47,44,43,43,43,null,52,47,30,51,50,50,53,33,14,41,45,5]
["2022-05-01",{"$f":"VLOOKUP(J1514,'Control Panel'!$G$132:$K$171,5,FALSE)","v":"WF-4"},"WF",null,null,null,null,null,null,"F86018",null,9976,19,19,19,19,0,null,22,20,1,19,19,18,35,17,5,14,24,2]
["2022-05-01",{"$f":"VLOOKUP(J1515,'Control Panel'!$G$132:$K$171,5,FALSE)","v":"WF-1"},"WF",null,null,null,null,null,null,"F86026",null,7192,14,12,12,12,12,null,13,12,0,10,12,12,23,2,4,15,14,1]
["2022-05-01",{"$f":"VLOOKUP(J1516,'Control Panel'!$G$132:$K$171,5,FALSE)","v":"WF-3"},"WF",null,null,null,null,null,null,"F86074",null,15088,47,40,39,39,32,null,61,49,23,39,49,47,48,25,30,26,31,3]
["2022-05-01",{"$f":"VLOOKUP(J1517,'Control Panel'!$G$132:$K$171,5,FALSE)","v":"WF-1"},"WF",null,null,null,null,null,null,"F86638",null,5132,19,18,17,16,0,null,14,11,1,11,12,12,13,3,3,6,10,0]
["2022-06-01",{"$f":"VLOOKUP(J1518,'Control Panel'!$G$132:$K$171,5,FALSE)","v":{"$error":"#N/A"}},"WF",null,"Last Run:",null,"Population Count",283437,null,null,"Search","All currently registered regular patients","(01) 12 MONTH COHORT","(01.01) DTaP/IPV/Hib/HepB","(01.02) Men B (1st and 2nd)","(01.03) PCV","(01.04) Rotavirus",null,"(02) 24 MONTH COHORT","(02.01) DTaP/IPV/Hib/HepB","(02.02) MMR","(02.03) HiB/Men C","(02.04) PCV (Booster)","(02.05) Men B (Booster)","(03) 5 YEAR COHORT","(03.01) DTaP/IPV/Hib or DTaP/IPV/Hib/HepB","(03.02) MMR (Primary)","(03.03) DTaP/IPV (Booster)","(03.04) HiB/Men C","(03.05) MMR (Booster)"]
["2022-06-01",{"$f":"VLOOKUP(J1519,'Control Panel'!$G$132:$K$171,5,FALSE)","v":{"$error":"#N/A"}},"WF",null,"2022-07-04T14:45:00",null,"Males",146472,null,"Organisation Code"]
["2022-06-01",{"$f":"VLOOKUP(J1520,'Control Panel'!$G$132:$K$171,5,FALSE)","v":"WF-6"},"WF",null,"Relative Date:",null,"Females",136965,null,"F86001",null,7699,14,14,14,13,12,null,11,7,8,8,6,8,20,16,15,9,15,9]
["2022-06-01",{"$f":"VLOOKUP(J1521,'Control Panel'!$G$132:$K$171,5,FALSE)","v":"WF-1"},"WF",null,"2022-07-01",null,null,null,null,"F86005",null,9552,45,40,38,42,42,null,44,39,36,35,35,36,32,32,31,24,30,25]
["2022-06-01",{"$f":"VLOOKUP(J1522,'Control Panel'!$G$132:$K$171,5,FALSE)","v":"WF-7"},"WF",null,null,null,null,null,null,"F86006",null,6896,16,12,12,14,14,null,17,14,14,14,14,14,23,21,22,17,20,17]
["2022-06-01",{"$f":"VLOOKUP(J1523,'Control Panel'!$G$132:$K$171,5,FALSE)","v":"WF-3"},"WF",null,null,null,null,null,null,"F86011",null,9706,14,11,11,12,11,null,17,13,13,13,13,13,26,19,19,15,17,15]
["2022-06-01",{"$f":"VLOOKUP(J1524,'Control Panel'!$G$132:$K$171,5,FALSE)","v":"WF-7"},"WF",null,null,null,null,null,null,"F86030",null,8205,20,19,19,19,17,null,35,35,33,35,35,35,32,30,30,27,30,27]
["2022-06-01",{"$f":"VLOOKUP(J1525,'Control Panel'!$G$132:$K$171,5,FALSE)","v":"WF-4"},"WF",null,null,null,null,null,null,"F86036",null,14657,47,47,47,46,46,null,48,41,43,42,43,40,44,40,38,35,38,35]
["2022-06-01",{"$f":"VLOOKUP(J1526,'Control Panel'!$G$132:$K$171,5,FALSE)","v":"WF-3"},"WF",null,null,null,null,null,null,"F86038",null,10972,33,31,31,31,31,null,27,25,25,25,25,25,35,32,30,26,30,26]
["2022-06-01",{"$f":"VLOOKUP(J1527,'Control Panel'!$G$132:$K$171,5,FALSE)","v":"WF-4"},"WF",null,null,null,null,null,null,"F86044",null,11125,48,39,40,41,34,null,40,30,31,32,32,32,38,29,27,17,26,18]
["2022-06-01",{"$f":"VLOOKUP(J1528,'Control Panel'!$G$132:$K$171,5,FALSE)","v":"WF-5"},"WF",null,null,null,null,null,null,"F86045",null,2035,1,1,0,1,1,null,5,5,4,5,5,5,3,2,2,2,2,2]
["2022-06-01",{"$f":"VLOOKUP(J1529,'Control Panel'!$G$132:$K$171,5,FALSE)","v":"WF-7"},"WF",null,null,null,null,null,null,"F86058",null,16612,61,49,47,52,49,null,50,42,42,42,42,42,63,53,51,40,51,42]
["2022-06-01",{"$f":"VLOOKUP(J1530,'Control Panel'!$G$132:$K$171,5,FALSE)","v":"WF-7"},"WF",null,null,null,null,null,null,"F86062",null,7120,20,17,16,19,17,null,19,15,14,14,14,14,21,17,15,11,15,11]
["2022-06-01",{"$f":"VLOOKUP(J1531,'Control Panel'!$G$132:$K$171,5,FALSE)","v":"WF-2"},"WF",null,null,null,null,null,null,"F86078",null,6838,14,13,14,14,13,null,12,10,8,8,8,8,12,12,12,12,12,12]
["2022-06-01",{"$f":"VLOOKUP(J1532,'Control Panel'!$G$132:$K$171,5,FALSE)","v":"WF-6"},"WF",null,null,null,null,null,null,"F86086",null,6267,24,19,18,21,18,null,14,10,8,8,8,8,27,24,21,18,22,17]
["2022-06-01",{"$f":"VLOOKUP(J1533,'Control Panel'!$G$132:$K$171,5,FALSE)","v":"WF-4"},"WF",null,null,null,null,null,null,"F86088",null,5016,13,12,12,12,12,null,10,9,8,8,8,7,5,3,2,2,1,2]
["2022-06-01",{"$f":"VLOOKUP(J1534,'Control Panel'!$G$132:$K$171,5,FALSE)","v":"WF-6"},"WF",null,null,null,null,null,null,"F86607",null,15766,65,62,62,64,61,null,50,47,48,48,48,48,41,37,37,37,38,38]
["2022-06-01",{"$f":"VLOOKUP(J1535,'Control Panel'!$G$132:$K$171,5,FALSE)","v":"WF-2"},"WF",null,null,null,null,null,null,"F86616",null,8093,27,26,26,26,24,null,36,35,35,35,35,35,40,34,32,28,34,28]
["2022-06-01",{"$f":"VLOOKUP(J1536,'Control Panel'!$G$132:$K$171,5,FALSE)","v":"WF-5"},"WF",null,null,null,null,null,null,"F86621",null,6512,34,30,30,32,31,null,26,23,22,22,22,22,23,21,22,17,20,17]
["2022-06-01",{"$f":"VLOOKUP(J1537,'Control Panel'!$G$132:$K$171,5,FALSE)","v":"WF-5"},"WF",null,null,null,null,null,null,"F86625",null,5821,10,9,9,9,7,null,17,13,13,12,14,12,16,14,14,8,12,9]
["2022-06-01",{"$f":"VLOOKUP(J1538,'Control Panel'!$G$132:$K$171,5,FALSE)","v":"WF-1"},"WF",null,null,null,null,null,null,"F86626",null,7149,29,29,29,29,25,null,26,25,25,25,25,25,15,15,15,14,15,14]
["2022-06-01",{"$f":"VLOOKUP(J1539,'Control Panel'!$G$132:$K$171,5,FALSE)","v":"WF-2"},"WF",null,null,null,null,null,null,"F86627",null,13264,28,27,25,27,26,null,29,23,23,21,22,23,31,30,28,27,28,28]
["2022-06-01",{"$f":"VLOOKUP(J1540,'Control Panel'!$G$132:$K$171,5,FALSE)","v":"WF-6"},"WF",null,null,null,null,null,null,"F86644",null,9106,20,16,16,16,13,null,17,16,17,17,17,16,30,28,25,10,25,24]
["2022-06-01",{"$f":"VLOOKUP(J1541,'Control Panel'!$G$132:$K$171,5,FALSE)","v":"WF-4"},"WF",null,null,null,null,null,null,"F86650",null,8120,25,20,21,22,21,null,27,21,19,19,17,16,27,27,25,19,25,19]
["2022-06-01",{"$f":"VLOOKUP(J1542,'Control Panel'!$G$132:$K$171,5,FALSE)","v":"WF-1"},"WF",null,null,null,null,null,null,"F86664",null,8517,24,20,20,21,21,null,25,25,24,24,24,24,25,23,23,20,23,21]
["2022-06-01",{"$f":"VLOOKUP(J1543,'Control Panel'!$G$132:$K$171,5,FALSE)","v":"WF-5"},"WF",null,null,null,null,null,null,"F86666",null,14996,32,30,29,31,29,null,41,36,35,35,34,36,38,35,31,26,31,29]
["2022-06-01",{"$f":"VLOOKUP(J1544,'Control Panel'!$G$132:$K$171,5,FALSE)","v":"WF-7"},"WF",null,null,null,null,null,null,"F86679",null,6368,28,26,26,26,26,null,21,16,15,15,13,13,24,19,19,13,18,12]
["2022-06-01",{"$f":"VLOOKUP(J1545,'Control Panel'!$G$132:$K$171,5,FALSE)","v":"WF-1"},"WF",null,null,null,null,null,null,"F86689",null,4408,29,27,27,28,27,null,22,21,20,20,20,20,25,22,19,19,20,18]
["2022-06-01",{"$f":"VLOOKUP(J1546,'Control Panel'!$G$132:$K$171,5,FALSE)","v":"WF-4"},"WF",null,null,null,null,null,null,"F86696",null,6907,33,30,30,31,30,null,24,17,17,17,17,17,15,9,10,6,10,7]
["2022-06-01",{"$f":"VLOOKUP(J1547,'Control Panel'!$G$132:$K$171,5,FALSE)","v":"WF-1"},"WF",null,null,null,null,null,null,"F86700",null,3893,7,7,7,6,6,null,14,12,13,13,13,13,11,11,10,9,10,10]
["2022-06-01",{"$f":"VLOOKUP(J1548,'Control Panel'!$G$132:$K$171,5,FALSE)","v":"WF-5"},"WF",null,null,null,null,null,null,"F86701",null,3873,9,9,9,9,9,null,13,10,10,10,10,11,11,10,10,6,10,6]
["2022-06-01",{"$f":"VLOOKUP(J1549,'Control Panel'!$G$132:$K$171,5,FALSE)","v":"WF-5"},"WF",null,null,null,null,null,null,"F86705",null,3532,23,22,21,22,22,null,8,8,8,8,8,8,10,10,9,9,10,10]
["2022-06-01",{"$f":"VLOOKUP(J1550,'Control Panel'!$G$132:$K$171,5,FALSE)","v":"WF-6"},"WF",null,null,null,null,null,null,"F86708",null,2797,4,4,4,4,3,null,4,3,3,3,3,2,10,9,9,9,9,9]
["2022-06-01",{"$f":"VLOOKUP(J1551,'Control Panel'!$G$132:$K$171,5,FALSE)","v":"WF-4"},"WF",null,null,null,null,null,null,"F86712",null,3417,12,12,12,12,11,null,6,6,6,6,6,6,6,5,5,5,5,5]
["2022-06-01",{"$f":"VLOOKUP(J1552,'Control Panel'!$G$132:$K$171,5,FALSE)","v":"WF-2"},"WF",null,null,null,null,null,null,"Y01291",null,9421,30,28,28,28,28,null,36,33,34,33,35,32,37,32,32,30,32,30]
["2022-06-01",{"$f":"VLOOKUP(J1553,'Control Panel'!$G$132:$K$171,5,FALSE)","v":"WF-1"},"WF",null,null,null,null,null,null,"Y01839",null,6295,32,27,28,29,29,null,24,19,20,20,20,19,21,21,20,20,20,20]
["2022-06-01",{"$f":"VLOOKUP(J1554,'Control Panel'!$G$132:$K$171,5,FALSE)","v":"WF-2"},"WF",null,null,null,null,null,null,"F86004",null,15966,48,44,42,42,42,null,52,46,30,50,49,49,52,32,14,40,44,5]
["2022-06-01",{"$f":"VLOOKUP(J1555,'Control Panel'!$G$132:$K$171,5,FALSE)","v":"WF-4"},"WF",null,null,null,null,null,null,"F86018",null,9977,20,20,19,19,0,null,22,20,1,19,19,18,35,17,5,14,24,2]
["2022-06-01",{"$f":"VLOOKUP(J1556,'Control Panel'!$G$132:$K$171,5,FALSE)","v":"WF-1"},"WF",null,null,null,null,null,null,"F86026",null,7223,14,12,12,12,12,null,13,12,0,10,12,12,24,2,4,15,14,1]
["2022-06-01",{"$f":"VLOOKUP(J1557,'Control Panel'!$G$132:$K$171,5,FALSE)","v":"WF-3"},"WF",null,null,null,null,null,null,"F86074",null,15073,48,40,39,39,32,null,61,48,24,39,48,46,48,25,30,26,31,3]
["2022-06-01",{"$f":"VLOOKUP(J1558,'Control Panel'!$G$132:$K$171,5,FALSE)","v":"WF-1"},"WF",null,null,null,null,null,null,"F86638",null,5110,19,18,17,16,0,null,14,11,1,11,12,12,13,3,3,6,10,0]
["2022-06-01",{"$f":"VLOOKUP(J1559,'Control Panel'!$G$132:$K$171,5,FALSE)","v":{"$error":"#N/A"}},"WF",null,null,null,null,null,null,"Total",null,{"$f":"SUM(L1520:L1558)","v":324304},{"$f":"SUM(M1520:M1558)","v":1020},919,907,937,852,0,977,841,750,821,831,822,1009,821,766,688,827,623]
["2022-07-01",{"$f":"VLOOKUP(J1560,'Control Panel'!$G$132:$K$171,5,FALSE)","v":{"$error":"#N/A"}},"WF",null,"Last Run:",null,"Population Count",283513,null,null,"Search","All currently registered regular patients","(01) 12 MONTH COHORT","(01.01) DTaP/IPV/Hib/HepB","(01.02) Men B (1st and 2nd)","(01.03) PCV","(01.04) Rotavirus",null,"(02) 24 MONTH COHORT","(02.01) DTaP/IPV/Hib/HepB","(02.02) MMR","(02.03) HiB/Men C","(02.04) PCV (Booster)","(02.05) Men B (Booster)","(03) 5 YEAR COHORT","(03.01) DTaP/IPV/Hib or DTaP/IPV/Hib/HepB","(03.02) MMR (Primary)","(03.03) DTaP/IPV (Booster)","(03.04) HiB/Men C","(03.05) MMR (Booster)"]
["2022-07-01",{"$f":"VLOOKUP(J1561,'Control Panel'!$G$132:$K$171,5,FALSE)","v":{"$error":"#N/A"}},"WF",null,"2022-08-02T09:03:00",null,"Males",146703,null,"Organisation Code"]
["2022-07-01",{"$f":"VLOOKUP(J1562,'Control Panel'!$G$132:$K$171,5,FALSE)","v":"WF-6"},"WF",null,"Relative Date:",null,"Females",136810,null,"F86001",null,7688,14,13,13,13,12,null,14,12,12,13,13,13,22,19,16,12,16,12]
["2022-07-01",{"$f":"VLOOKUP(J1563,'Control Panel'!$G$132:$K$171,5,FALSE)","v":"WF-1"},"WF",null,"2022-08-01",null,null,null,null,"F86005",null,9537,42,38,39,40,38,null,31,27,26,26,26,25,48,45,45,38,45,40]
["2022-07-01",{"$f":"VLOOKUP(J1564,'Control Panel'!$G$132:$K$171,5,FALSE)","v":"WF-7"},"WF",null,null,null,null,null,null,"F86006",null,6904,29,27,27,28,27,null,23,18,18,17,18,17,21,18,18,12,18,15]
["2022-07-01",{"$f":"VLOOKUP(J1565,'Control Panel'!$G$132:$K$171,5,FALSE)","v":"WF-3"},"WF",null,null,null,null,null,null,"F86011",null,9712,17,14,14,14,14,null,15,12,10,10,10,10,32,23,24,12,25,18]
["2022-07-01",{"$f":"VLOOKUP(J1566,'Control Panel'!$G$132:$K$171,5,FALSE)","v":"WF-7"},"WF",null,null,null,null,null,null,"F86030",null,8231,25,23,24,24,24,null,28,24,24,23,24,23,27,26,26,25,26,25]
["2022-07-01",{"$f":"VLOOKUP(J1567,'Control Panel'!$G$132:$K$171,5,FALSE)","v":"WF-4"},"WF",null,null,null,null,null,null,"F86036",null,14564,40,40,40,40,36,null,49,46,44,44,44,44,50,46,49,47,48,47]
["2022-07-01",{"$f":"VLOOKUP(J1568,'Control Panel'!$G$132:$K$171,5,FALSE)","v":"WF-3"},"WF",null,null,null,null,null,null,"F86038",null,10974,36,27,27,28,29,null,37,32,32,31,32,32,41,41,40,35,40,37]
["2022-07-01",{"$f":"VLOOKUP(J1569,'Control Panel'!$G$132:$K$171,5,FALSE)","v":"WF-4"},"WF",null,null,null,null,null,null,"F86044",null,10642,52,46,46,45,46,null,47,40,40,41,40,40,36,25,26,16,23,18]
["2022-07-01",{"$f":"VLOOKUP(J1570,'Control Panel'!$G$132:$K$171,5,FALSE)","v":"WF-5"},"WF",null,null,null,null,null,null,"F86045",null,2042,2,1,1,2,1,null,3,2,1,1,1,1,3,3,3,3,3,3]
["2022-07-01",{"$f":"VLOOKUP(J1571,'Control Panel'!$G$132:$K$171,5,FALSE)","v":"WF-7"},"WF",null,null,null,null,null,null,"F86058",null,16602,63,56,55,57,54,null,61,54,53,51,52,50,53,52,48,27,47,25]
["2022-07-01",{"$f":"VLOOKUP(J1572,'Control Panel'!$G$132:$K$171,5,FALSE)","v":"WF-7"},"WF",null,null,null,null,null,null,"F86062",null,7123,30,21,20,26,25,null,27,22,19,20,20,20,20,18,16,12,16,11]
["2022-07-01",{"$f":"VLOOKUP(J1573,'Control Panel'!$G$132:$K$171,5,FALSE)","v":"WF-2"},"WF",null,null,null,null,null,null,"F86078",null,6811,18,16,17,17,16,null,7,7,7,7,7,6,13,12,12,10,13,11]
["2022-07-01",{"$f":"VLOOKUP(J1574,'Control Panel'!$G$132:$K$171,5,FALSE)","v":"WF-6"},"WF",null,null,null,null,null,null,"F86086",null,6278,24,16,16,18,15,null,28,21,23,24,26,24,25,22,20,14,18,17]
["2022-07-01",{"$f":"VLOOKUP(J1575,'Control Panel'!$G$132:$K$171,5,FALSE)","v":"WF-4"},"WF",null,null,null,null,null,null,"F86088",null,5010,11,11,10,11,11,null,13,11,11,11,11,11,9,8,8,7,7,7]
["2022-07-01",{"$f":"VLOOKUP(J1576,'Control Panel'!$G$132:$K$171,5,FALSE)","v":"WF-6"},"WF",null,null,null,null,null,null,"F86607",null,15814,76,71,71,71,70,null,68,61,60,60,60,60,46,42,39,34,38,37]
["2022-07-01",{"$f":"VLOOKUP(J1577,'Control Panel'!$G$132:$K$171,5,FALSE)","v":"WF-2"},"WF",null,null,null,null,null,null,"F86616",null,8103,42,39,39,40,38,null,33,30,27,27,27,26,29,26,25,24,25,26]
["2022-07-01",{"$f":"VLOOKUP(J1578,'Control Panel'!$G$132:$K$171,5,FALSE)","v":"WF-5"},"WF",null,null,null,null,null,null,"F86621",null,6526,27,24,24,24,24,null,20,19,15,15,15,15,12,12,12,12,11,12]
["2022-07-01",{"$f":"VLOOKUP(J1579,'Control Panel'!$G$132:$K$171,5,FALSE)","v":"WF-5"},"WF",null,null,null,null,null,null,"F86625",null,5816,8,6,6,6,6,null,17,14,9,9,12,11,10,7,7,6,6,7]
["2022-07-01",{"$f":"VLOOKUP(J1580,'Control Panel'!$G$132:$K$171,5,FALSE)","v":"WF-1"},"WF",null,null,null,null,null,null,"F86626",null,7180,29,25,26,28,26,null,30,29,28,28,28,28,17,16,15,16,16,14]
["2022-07-01",{"$f":"VLOOKUP(J1581,'Control Panel'!$G$132:$K$171,5,FALSE)","v":"WF-2"},"WF",null,null,null,null,null,null,"F86627",null,13254,24,21,21,22,21,null,35,32,30,29,29,30,42,38,37,33,37,33]
["2022-07-01",{"$f":"VLOOKUP(J1582,'Control Panel'!$G$132:$K$171,5,FALSE)","v":"WF-6"},"WF",null,null,null,null,null,null,"F86644",null,9043,15,15,14,14,14,null,21,17,16,17,17,17,22,20,20,9,19,18]
["2022-07-01",{"$f":"VLOOKUP(J1583,'Control Panel'!$G$132:$K$171,5,FALSE)","v":"WF-4"},"WF",null,null,null,null,null,null,"F86650",null,8089,23,19,19,20,20,null,28,23,19,19,18,18,33,29,27,23,29,23]
["2022-07-01",{"$f":"VLOOKUP(J1584,'Control Panel'!$G$132:$K$171,5,FALSE)","v":"WF-1"},"WF",null,null,null,null,null,null,"F86664",null,8553,29,29,28,29,27,null,18,15,13,13,13,13,24,24,23,22,23,22]
["2022-07-01",{"$f":"VLOOKUP(J1585,'Control Panel'!$G$132:$K$171,5,FALSE)","v":"WF-5"},"WF",null,null,null,null,null,null,"F86666",null,15003,50,49,47,45,44,null,36,34,32,32,31,34,47,41,40,39,40,38]
["2022-07-01",{"$f":"VLOOKUP(J1586,'Control Panel'!$G$132:$K$171,5,FALSE)","v":"WF-7"},"WF",null,null,null,null,null,null,"F86679",null,6350,25,24,23,24,24,null,33,27,27,27,27,27,28,24,24,19,23,19]
["2022-07-01",{"$f":"VLOOKUP(J1587,'Control Panel'!$G$132:$K$171,5,FALSE)","v":"WF-1"},"WF",null,null,null,null,null,null,"F86689",null,4402,33,32,31,32,31,null,22,20,19,19,19,19,18,18,18,17,18,17]
["2022-07-01",{"$f":"VLOOKUP(J1588,'Control Panel'!$G$132:$K$171,5,FALSE)","v":"WF-4"},"WF",null,null,null,null,null,null,"F86696",null,6935,26,23,23,23,22,null,27,20,19,19,19,19,15,12,14,11,14,12]
["2022-07-01",{"$f":"VLOOKUP(J1589,'Control Panel'!$G$132:$K$171,5,FALSE)","v":"WF-1"},"WF",null,null,null,null,null,null,"F86700",null,3903,18,17,17,17,16,null,10,9,10,10,9,9,11,10,10,8,10,9]
["2022-07-01",{"$f":"VLOOKUP(J1590,'Control Panel'!$G$132:$K$171,5,FALSE)","v":"WF-5"},"WF",null,null,null,null,null,null,"F86701",null,3898,16,14,14,14,13,null,10,8,7,8,8,9,11,10,10,9,10,9]
["2022-07-01",{"$f":"VLOOKUP(J1591,'Control Panel'!$G$132:$K$171,5,FALSE)","v":"WF-5"},"WF",null,null,null,null,null,null,"F86705",null,3535,16,15,14,15,13,null,6,6,5,6,6,6,3,3,3,2,3,2]
["2022-07-01",{"$f":"VLOOKUP(J1592,'Control Panel'!$G$132:$K$171,5,FALSE)","v":"WF-6"},"WF",null,null,null,null,null,null,"F86708",null,2798,4,4,4,4,4,null,5,5,5,5,5,5,6,5,5,4,5,4]
["2022-07-01",{"$f":"VLOOKUP(J1593,'Control Panel'!$G$132:$K$171,5,FALSE)","v":"WF-4"},"WF",null,null,null,null,null,null,"F86712",null,3428,12,12,12,12,12,null,9,9,8,9,8,9,4,4,4,3,4,3]
["2022-07-01",{"$f":"VLOOKUP(J1594,'Control Panel'!$G$132:$K$171,5,FALSE)","v":"WF-2"},"WF",null,null,null,null,null,null,"Y01291",null,9433,31,28,28,28,27,null,30,28,26,26,27,26,34,31,30,25,29,28]
["2022-07-01",{"$f":"VLOOKUP(J1595,'Control Panel'!$G$132:$K$171,5,FALSE)","v":"WF-1"},"WF",null,null,null,null,null,null,"Y01839",null,6332,23,17,17,20,19,null,21,16,13,13,13,13,22,20,22,17,21,17]
["2022-07-01",{"$f":"VLOOKUP(J1596,'Control Panel'!$G$132:$K$171,5,FALSE)","v":"WF-2"},"WF",null,null,null,null,null,null,"F86004",null,15989,47,44,41,41,41,null,52,46,31,50,49,49,52,32,14,40,44,5]
["2022-07-01",{"$f":"VLOOKUP(J1597,'Control Panel'!$G$132:$K$171,5,FALSE)","v":"WF-4"},"WF",null,null,null,null,null,null,"F86018",null,10006,20,20,19,19,0,null,23,21,2,19,19,18,36,17,6,14,24,2]
["2022-07-01",{"$f":"VLOOKUP(J1598,'Control Panel'!$G$132:$K$171,5,FALSE)","v":"WF-1"},"WF",null,null,null,null,null,null,"F86026",null,7234,14,12,12,12,12,null,12,11,0,10,11,11,24,2,4,15,14,1]
["2022-07-01",{"$f":"VLOOKUP(J1599,'Control Panel'!$G$132:$K$171,5,FALSE)","v":"WF-3"},"WF",null,null,null,null,null,null,"F86074",null,15067,48,41,39,39,32,null,61,48,24,39,48,46,48,25,30,26,31,3]
["2022-07-01",{"$f":"VLOOKUP(J1600,'Control Panel'!$G$132:$K$171,5,FALSE)","v":"WF-1"},"WF",null,null,null,null,null,null,"F86638",null,5112,19,18,17,16,0,null,14,12,1,11,12,12,13,3,3,6,10,0]
["2022-08-01",{"$f":"VLOOKUP(J1601,'Control Panel'!$G$132:$K$171,5,FALSE)","v":{"$error":"#N/A"}},"WF",null,"Last Run:",null,"Population Count",283755,null,null,"Search","All currently registered regular patients","(01) 12 MONTH COHORT","(01.01) DTaP/IPV/Hib/HepB","(01.02) Men B (1st and 2nd)","(01.03) PCV","(01.04) Rotavirus",null,"(02) 24 MONTH COHORT","(02.01) DTaP/IPV/Hib/HepB","(02.02) MMR","(02.03) HiB/Men C","(02.04) PCV (Booster)","(02.05) Men B (Booster)","(03) 5 YEAR COHORT","(03.01) DTaP/IPV/Hib or DTaP/IPV/Hib/HepB","(03.02) MMR (Primary)","(03.03) DTaP/IPV (Booster)","(03.04) HiB/Men C","(03.05) MMR (Booster)"]
["2022-08-01",{"$f":"VLOOKUP(J1602,'Control Panel'!$G$132:$K$171,5,FALSE)","v":{"$error":"#N/A"}},"WF",null,"2022-09-02T10:01:00",null,"Males",146780,null,"Organisation Code"]
["2022-08-01",{"$f":"VLOOKUP(J1603,'Control Panel'!$G$132:$K$171,5,FALSE)","v":"WF-6"},"WF",null,"Relative Date:",null,"Females",136975,null,"F86001",null,7694,14,13,13,13,12,null,14,12,12,13,13,13,22,19,16,12,16,12]
["2022-08-01",{"$f":"VLOOKUP(J1604,'Control Panel'!$G$132:$K$171,5,FALSE)","v":"WF-1"},"WF",null,"2022-09-01",null,null,null,null,"F86005",null,9555,42,38,39,40,38,null,30,26,25,25,25,24,47,44,44,40,44,41]
["2022-08-01",{"$f":"VLOOKUP(J1605,'Control Panel'!$G$132:$K$171,5,FALSE)","v":"WF-7"},"WF",null,null,null,null,null,null,"F86006",null,6930,30,29,27,29,28,null,24,20,19,19,19,18,21,18,18,12,18,15]
["2022-08-01",{"$f":"VLOOKUP(J1606,'Control Panel'!$G$132:$K$171,5,FALSE)","v":"WF-3"},"WF",null,null,null,null,null,null,"F86011",null,9824,18,14,14,14,14,null,15,12,10,10,10,10,32,23,24,12,25,18]
["2022-08-01",{"$f":"VLOOKUP(J1607,'Control Panel'!$G$132:$K$171,5,FALSE)","v":"WF-7"},"WF",null,null,null,null,null,null,"F86030",null,8248,25,23,24,24,24,null,29,24,24,23,24,23,26,25,25,25,25,25]
["2022-08-01",{"$f":"VLOOKUP(J1608,'Control Panel'!$G$132:$K$171,5,FALSE)","v":"WF-4"},"WF",null,null,null,null,null,null,"F86036",null,14540,41,41,41,41,37,null,49,46,44,44,44,44,51,47,50,49,49,49]
["2022-08-01",{"$f":"VLOOKUP(J1609,'Control Panel'!$G$132:$K$171,5,FALSE)","v":"WF-3"},"WF",null,null,null,null,null,null,"F86038",null,11110,38,28,28,29,30,null,37,32,32,31,32,32,41,41,40,35,40,37]
["2022-08-01",{"$f":"VLOOKUP(J1610,'Control Panel'!$G$132:$K$171,5,FALSE)","v":"WF-4"},"WF",null,null,null,null,null,null,"F86044",null,10718,51,45,45,44,46,null,45,38,38,39,38,38,35,24,25,15,22,17]
["2022-08-01",{"$f":"VLOOKUP(J1611,'Control Panel'!$G$132:$K$171,5,FALSE)","v":"WF-5"},"WF",null,null,null,null,null,null,"F86045",null,2044,1,1,1,1,1,null,3,2,2,2,2,2,3,3,3,3,3,3]
["2022-08-01",{"$f":"VLOOKUP(J1612,'Control Panel'!$G$132:$K$171,5,FALSE)","v":"WF-7"},"WF",null,null,null,null,null,null,"F86058",null,16617,63,56,55,57,54,null,61,55,54,52,53,51,53,52,48,27,47,25]
["2022-08-01",{"$f":"VLOOKUP(J1613,'Control Panel'!$G$132:$K$171,5,FALSE)","v":"WF-7"},"WF",null,null,null,null,null,null,"F86062",null,7184,29,21,20,26,25,null,27,22,19,20,20,20,19,18,16,12,16,11]
["2022-08-01",{"$f":"VLOOKUP(J1614,'Control Panel'!$G$132:$K$171,5,FALSE)","v":"WF-2"},"WF",null,null,null,null,null,null,"F86078",null,6773,18,16,17,17,16,null,7,7,7,7,7,6,13,12,12,10,13,11]
["2022-08-01",{"$f":"VLOOKUP(J1615,'Control Panel'!$G$132:$K$171,5,FALSE)","v":"WF-6"},"WF",null,null,null,null,null,null,"F86086",null,6265,24,16,16,18,15,null,28,21,23,24,26,24,25,22,20,14,18,17]
["2022-08-01",{"$f":"VLOOKUP(J1616,'Control Panel'!$G$132:$K$171,5,FALSE)","v":"WF-4"},"WF",null,null,null,null,null,null,"F86088",null,5027,11,11,10,11,11,null,13,11,11,11,11,11,10,8,8,7,7,7]
["2022-08-01",{"$f":"VLOOKUP(J1617,'Control Panel'!$G$132:$K$171,5,FALSE)","v":"WF-6"},"WF",null,null,null,null,null,null,"F86607",null,15796,74,69,69,69,68,null,66,59,58,58,58,58,46,42,40,35,39,37]
["2022-08-01",{"$f":"VLOOKUP(J1618,'Control Panel'!$G$132:$K$171,5,FALSE)","v":"WF-2"},"WF",null,null,null,null,null,null,"F86616",null,8131,43,41,41,41,39,null,34,30,27,27,27,26,29,26,25,24,25,26]
["2022-08-01",{"$f":"VLOOKUP(J1619,'Control Panel'!$G$132:$K$171,5,FALSE)","v":"WF-5"},"WF",null,null,null,null,null,null,"F86621",null,6546,27,24,24,24,24,null,20,19,16,16,16,16,12,12,12,12,11,12]
["2022-08-01",{"$f":"VLOOKUP(J1620,'Control Panel'!$G$132:$K$171,5,FALSE)","v":"WF-5"},"WF",null,null,null,null,null,null,"F86625",null,5779,8,6,6,6,6,null,16,13,8,8,11,10,10,7,7,6,6,7]
["2022-08-01",{"$f":"VLOOKUP(J1621,'Control Panel'!$G$132:$K$171,5,FALSE)","v":"WF-1"},"WF",null,null,null,null,null,null,"F86626",null,7206,28,24,25,27,25,null,30,29,28,28,28,28,17,15,14,16,15,14]
["2022-08-01",{"$f":"VLOOKUP(J1622,'Control Panel'!$G$132:$K$171,5,FALSE)","v":"WF-2"},"WF",null,null,null,null,null,null,"F86627",null,13226,23,21,21,21,20,null,35,32,30,29,29,30,42,38,37,33,37,33]
["2022-08-01",{"$f":"VLOOKUP(J1623,'Control Panel'!$G$132:$K$171,5,FALSE)","v":"WF-6"},"WF",null,null,null,null,null,null,"F86644",null,9004,15,15,14,14,14,null,21,17,16,17,17,17,22,20,20,9,19,18]
["2022-08-01",{"$f":"VLOOKUP(J1624,'Control Panel'!$G$132:$K$171,5,FALSE)","v":"WF-4"},"WF",null,null,null,null,null,null,"F86650",null,8110,23,19,19,20,20,null,28,23,19,19,18,18,33,29,27,26,29,26]
["2022-08-01",{"$f":"VLOOKUP(J1625,'Control Panel'!$G$132:$K$171,5,FALSE)","v":"WF-1"},"WF",null,null,null,null,null,null,"F86664",null,8563,29,29,28,29,27,null,18,15,13,13,13,13,24,24,23,22,23,22]
["2022-08-01",{"$f":"VLOOKUP(J1626,'Control Panel'!$G$132:$K$171,5,FALSE)","v":"WF-5"},"WF",null,null,null,null,null,null,"F86666",null,14783,49,48,46,46,43,null,36,34,32,32,31,34,47,41,40,39,40,38]
["2022-08-01",{"$f":"VLOOKUP(J1627,'Control Panel'!$G$132:$K$171,5,FALSE)","v":"WF-7"},"WF",null,null,null,null,null,null,"F86679",null,6370,25,24,23,24,24,null,33,27,27,27,27,27,29,26,25,20,24,20]
["2022-08-01",{"$f":"VLOOKUP(J1628,'Control Panel'!$G$132:$K$171,5,FALSE)","v":"WF-1"},"WF",null,null,null,null,null,null,"F86689",null,4402,33,32,31,32,31,null,22,20,19,19,19,19,18,18,18,17,18,17]
["2022-08-01",{"$f":"VLOOKUP(J1629,'Control Panel'!$G$132:$K$171,5,FALSE)","v":"WF-4"},"WF",null,null,null,null,null,null,"F86696",null,6972,28,24,24,24,23,null,26,20,20,20,20,20,14,11,13,10,13,11]
["2022-08-01",{"$f":"VLOOKUP(J1630,'Control Panel'!$G$132:$K$171,5,FALSE)","v":"WF-1"},"WF",null,null,null,null,null,null,"F86700",null,3916,18,17,17,17,16,null,10,9,10,10,9,9,11,10,10,8,10,9]
["2022-08-01",{"$f":"VLOOKUP(J1631,'Control Panel'!$G$132:$K$171,5,FALSE)","v":"WF-5"},"WF",null,null,null,null,null,null,"F86701",null,3901,16,14,14,14,13,null,10,8,7,8,8,9,11,10,10,9,10,9]
["2022-08-01",{"$f":"VLOOKUP(J1632,'Control Panel'!$G$132:$K$171,5,FALSE)","v":"WF-5"},"WF",null,null,null,null,null,null,"F86705",null,3518,16,15,14,15,13,null,6,6,5,6,6,6,3,3,3,2,3,2]
["2022-08-01",{"$f":"VLOOKUP(J1633,'Control Panel'!$G$132:$K$171,5,FALSE)","v":"WF-6"},"WF",null,null,null,null,null,null,"F86708",null,2819,4,4,4,4,4,null,5,5,5,5,5,5,6,5,5,4,5,4]
["2022-08-01",{"$f":"VLOOKUP(J1634,'Control Panel'!$G$132:$K$171,5,FALSE)","v":"WF-4"},"WF",null,null,null,null,null,null,"F86712",null,3395,13,13,13,13,13,null,11,10,9,10,9,10,4,4,4,3,4,3]
["2022-08-01",{"$f":"VLOOKUP(J1635,'Control Panel'!$G$132:$K$171,5,FALSE)","v":"WF-2"},"WF",null,null,null,null,null,null,"Y01291",null,9451,31,28,28,28,27,null,30,29,26,26,27,26,34,31,30,26,29,29]
["2022-08-01",{"$f":"VLOOKUP(J1636,'Control Panel'!$G$132:$K$171,5,FALSE)","v":"WF-1"},"WF",null,null,null,null,null,null,"Y01839",null,6322,23,17,17,20,19,null,21,17,14,14,14,14,22,20,22,17,21,17]
["2022-08-01",{"$f":"VLOOKUP(J1637,'Control Panel'!$G$132:$K$171,5,FALSE)","v":"WF-2"},"WF",null,null,null,null,null,null,"F86004",null,16009,47,44,41,41,41,null,52,46,31,50,49,49,52,32,14,40,44,5]
["2022-08-01",{"$f":"VLOOKUP(J1638,'Control Panel'!$G$132:$K$171,5,FALSE)","v":"WF-4"},"WF",null,null,null,null,null,null,"F86018",null,10002,20,20,19,19,0,null,23,21,2,19,19,18,36,17,6,14,24,2]
["2022-08-01",{"$f":"VLOOKUP(J1639,'Control Panel'!$G$132:$K$171,5,FALSE)","v":"WF-1"},"WF",null,null,null,null,null,null,"F86026",null,7255,14,13,13,12,13,null,12,11,0,10,11,11,24,2,4,15,14,1]
["2022-08-01",{"$f":"VLOOKUP(J1640,'Control Panel'!$G$132:$K$171,5,FALSE)","v":"WF-3"},"WF",null,null,null,null,null,null,"F86074",null,15049,47,39,37,37,30,null,60,47,23,38,47,45,48,25,30,26,31,3]
["2022-08-01",{"$f":"VLOOKUP(J1641,'Control Panel'!$G$132:$K$171,5,FALSE)","v":"WF-1"},"WF",null,null,null,null,null,null,"F86638",null,5071,18,17,16,15,0,null,14,13,1,12,13,12,13,3,3,6,10,0]
["2022-09-01",{"$f":"VLOOKUP(J1642,'Control Panel'!$G$132:$K$171,5,FALSE)","v":{"$error":"#N/A"}},"WF",null,"Last Run:",null,"Population Count",283909,null,null,"Search","All currently registered regular patients","(01) 12 MONTH COHORT","(01.01) DTaP/IPV/Hib/HepB","(01.02) Men B (1st and 2nd)","(01.03) PCV","(01.04) Rotavirus",null,"(02) 24 MONTH COHORT","(02.01) DTaP/IPV/Hib/HepB","(02.02) MMR","(02.03) HiB/Men C","(02.04) PCV (Booster)","(02.05) Men B (Booster)","(03) 5 YEAR COHORT","(03.01) DTaP/IPV/Hib or DTaP/IPV/Hib/HepB","(03.02) MMR (Primary)","(03.03) DTaP/IPV (Booster)","(03.04) HiB/Men C","(03.05) MMR (Booster)"]
["2022-09-01",{"$f":"VLOOKUP(J1643,'Control Panel'!$G$132:$K$171,5,FALSE)","v":{"$error":"#N/A"}},"WF",null,"2022-10-03T09:48:00",null,"Males",146829,null,"Organisation Code"]
["2022-09-01",{"$f":"VLOOKUP(J1644,'Control Panel'!$G$132:$K$171,5,FALSE)","v":"WF-6"},"WF",null,"Relative Date:",null,"Females",137080,null,"F86001",null,7728,15,13,13,13,12,null,15,13,12,14,14,14,22,19,16,12,16,12]
["2022-09-01",{"$f":"VLOOKUP(J1645,'Control Panel'!$G$132:$K$171,5,FALSE)","v":"WF-1"},"WF",null,"2022-10-01",null,null,null,null,"F86005",null,9539,42,38,39,40,38,null,30,26,25,25,25,24,47,44,44,40,44,41]
["2022-09-01",{"$f":"VLOOKUP(J1646,'Control Panel'!$G$132:$K$171,5,FALSE)","v":"WF-7"},"WF",null,null,null,null,null,null,"F86006",null,6953,29,28,26,28,27,null,24,20,19,19,19,18,21,18,18,12,18,15]
["2022-09-01",{"$f":"VLOOKUP(J1647,'Control Panel'!$G$132:$K$171,5,FALSE)","v":"WF-3"},"WF",null,null,null,null,null,null,"F86011",null,9838,19,14,14,15,14,null,15,12,11,11,11,11,32,23,24,12,25,18]
["2022-09-01",{"$f":"VLOOKUP(J1648,'Control Panel'!$G$132:$K$171,5,FALSE)","v":"WF-7"},"WF",null,null,null,null,null,null,"F86030",null,8282,25,23,24,24,24,null,28,24,24,23,24,23,26,25,25,25,25,25]
["2022-09-01",{"$f":"VLOOKUP(J1649,'Control Panel'!$G$132:$K$171,5,FALSE)","v":"WF-4"},"WF",null,null,null,null,null,null,"F86036",null,14460,41,41,41,41,37,null,50,47,45,45,45,45,51,47,50,49,49,49]
["2022-09-01",{"$f":"VLOOKUP(J1650,'Control Panel'!$G$132:$K$171,5,FALSE)","v":"WF-3"},"WF",null,null,null,null,null,null,"F86038",null,11171,38,28,28,29,30,null,36,31,31,30,31,31,39,38,37,32,37,34]
["2022-09-01",{"$f":"VLOOKUP(J1651,'Control Panel'!$G$132:$K$171,5,FALSE)","v":"WF-4"},"WF",null,null,null,null,null,null,"F86044",null,10652,50,44,44,43,45,null,45,38,38,39,39,39,35,24,25,15,22,17]
["2022-09-01",{"$f":"VLOOKUP(J1652,'Control Panel'!$G$132:$K$171,5,FALSE)","v":"WF-5"},"WF",null,null,null,null,null,null,"F86045",null,2039,1,1,1,1,1,null,3,2,2,2,2,2,3,3,3,3,3,3]
["2022-09-01",{"$f":"VLOOKUP(J1653,'Control Panel'!$G$132:$K$171,5,FALSE)","v":"WF-7"},"WF",null,null,null,null,null,null,"F86058",null,16595,63,56,55,57,54,null,61,55,54,52,53,51,53,52,48,27,47,25]
["2022-09-01",{"$f":"VLOOKUP(J1654,'Control Panel'!$G$132:$K$171,5,FALSE)","v":"WF-7"},"WF",null,null,null,null,null,null,"F86062",null,7164,28,20,19,25,24,null,27,22,19,20,20,20,19,18,17,12,16,11]
["2022-09-01",{"$f":"VLOOKUP(J1655,'Control Panel'!$G$132:$K$171,5,FALSE)","v":"WF-2"},"WF",null,null,null,null,null,null,"F86078",null,6774,20,16,17,17,16,null,7,7,7,7,7,6,13,12,12,10,13,11]
["2022-09-01",{"$f":"VLOOKUP(J1656,'Control Panel'!$G$132:$K$171,5,FALSE)","v":"WF-6"},"WF",null,null,null,null,null,null,"F86086",null,6306,24,17,17,18,15,null,28,21,23,24,26,24,26,23,21,15,19,18]
["2022-09-01",{"$f":"VLOOKUP(J1657,'Control Panel'!$G$132:$K$171,5,FALSE)","v":"WF-4"},"WF",null,null,null,null,null,null,"F86088",null,5051,11,11,10,11,11,null,13,11,11,11,11,11,10,8,8,7,7,7]
["2022-09-01",{"$f":"VLOOKUP(J1658,'Control Panel'!$G$132:$K$171,5,FALSE)","v":"WF-6"},"WF",null,null,null,null,null,null,"F86607",null,15802,73,68,68,68,67,null,65,59,58,58,58,58,46,42,40,35,39,37]
["2022-09-01",{"$f":"VLOOKUP(J1659,'Control Panel'!$G$132:$K$171,5,FALSE)","v":"WF-2"},"WF",null,null,null,null,null,null,"F86616",null,8197,42,40,40,40,38,null,34,30,27,27,27,26,28,25,25,23,25,25]
["2022-09-01",{"$f":"VLOOKUP(J1660,'Control Panel'!$G$132:$K$171,5,FALSE)","v":"WF-5"},"WF",null,null,null,null,null,null,"F86621",null,6561,27,24,24,24,24,null,20,19,16,16,16,16,11,11,11,11,10,11]
["2022-09-01",{"$f":"VLOOKUP(J1661,'Control Panel'!$G$132:$K$171,5,FALSE)","v":"WF-5"},"WF",null,null,null,null,null,null,"F86625",null,5757,8,6,6,6,6,null,16,13,8,8,11,10,10,7,7,6,6,7]
["2022-09-01",{"$f":"VLOOKUP(J1662,'Control Panel'!$G$132:$K$171,5,FALSE)","v":"WF-1"},"WF",null,null,null,null,null,null,"F86626",null,7243,28,26,27,28,27,null,31,30,29,29,29,29,17,16,15,16,16,14]
["2022-09-01",{"$f":"VLOOKUP(J1663,'Control Panel'!$G$132:$K$171,5,FALSE)","v":"WF-2"},"WF",null,null,null,null,null,null,"F86627",null,13188,22,20,20,20,19,null,34,31,29,28,29,30,42,38,37,33,37,33]
["2022-09-01",{"$f":"VLOOKUP(J1664,'Control Panel'!$G$132:$K$171,5,FALSE)","v":"WF-6"},"WF",null,null,null,null,null,null,"F86644",null,8966,14,14,13,13,13,null,21,17,16,17,17,17,22,21,20,10,19,18]
["2022-09-01",{"$f":"VLOOKUP(J1665,'Control Panel'!$G$132:$K$171,5,FALSE)","v":"WF-4"},"WF",null,null,null,null,null,null,"F86650",null,8067,23,19,19,20,20,null,28,23,19,19,18,18,33,29,27,26,29,26]
["2022-09-01",{"$f":"VLOOKUP(J1666,'Control Panel'!$G$132:$K$171,5,FALSE)","v":"WF-1"},"WF",null,null,null,null,null,null,"F86664",null,8616,30,29,28,29,27,null,18,15,13,13,13,13,24,24,23,22,23,22]
["2022-09-01",{"$f":"VLOOKUP(J1667,'Control Panel'!$G$132:$K$171,5,FALSE)","v":"WF-5"},"WF",null,null,null,null,null,null,"F86666",null,14813,50,48,46,46,43,null,36,35,32,32,32,34,47,41,40,40,40,39]
["2022-09-01",{"$f":"VLOOKUP(J1668,'Control Panel'!$G$132:$K$171,5,FALSE)","v":"WF-7"},"WF",null,null,null,null,null,null,"F86679",null,6396,25,24,23,24,24,null,32,26,26,26,26,26,29,26,25,20,24,20]
["2022-09-01",{"$f":"VLOOKUP(J1669,'Control Panel'!$G$132:$K$171,5,FALSE)","v":"WF-1"},"WF",null,null,null,null,null,null,"F86689",null,4399,33,32,31,32,31,null,22,20,19,19,19,19,18,18,18,17,18,17]
["2022-09-01",{"$f":"VLOOKUP(J1670,'Control Panel'!$G$132:$K$171,5,FALSE)","v":"WF-4"},"WF",null,null,null,null,null,null,"F86696",null,6989,28,24,24,24,23,null,27,21,20,20,20,20,14,11,13,10,13,11]
["2022-09-01",{"$f":"VLOOKUP(J1671,'Control Panel'!$G$132:$K$171,5,FALSE)","v":"WF-1"},"WF",null,null,null,null,null,null,"F86700",null,3912,18,17,17,17,16,null,10,9,10,10,9,9,11,10,10,8,10,9]
["2022-09-01",{"$f":"VLOOKUP(J1672,'Control Panel'!$G$132:$K$171,5,FALSE)","v":"WF-5"},"WF",null,null,null,null,null,null,"F86701",null,3929,17,15,15,15,14,null,10,8,7,8,8,9,11,10,10,9,10,9]
["2022-09-01",{"$f":"VLOOKUP(J1673,'Control Panel'!$G$132:$K$171,5,FALSE)","v":"WF-5"},"WF",null,null,null,null,null,null,"F86705",null,3495,18,17,17,17,15,null,6,6,5,6,6,6,2,2,2,2,2,2]
["2022-09-01",{"$f":"VLOOKUP(J1674,'Control Panel'!$G$132:$K$171,5,FALSE)","v":"WF-6"},"WF",null,null,null,null,null,null,"F86708",null,2789,4,4,4,4,4,null,5,5,5,5,5,5,6,5,5,4,5,4]
["2022-09-01",{"$f":"VLOOKUP(J1675,'Control Panel'!$G$132:$K$171,5,FALSE)","v":"WF-4"},"WF",null,null,null,null,null,null,"F86712",null,3403,13,13,13,13,13,null,10,10,9,10,8,10,4,4,4,3,4,3]
["2022-09-01",{"$f":"VLOOKUP(J1676,'Control Panel'!$G$132:$K$171,5,FALSE)","v":"WF-2"},"WF",null,null,null,null,null,null,"Y01291",null,9502,31,28,28,28,27,null,31,30,27,27,28,27,34,31,30,26,29,29]
["2022-09-01",{"$f":"VLOOKUP(J1677,'Control Panel'!$G$132:$K$171,5,FALSE)","v":"WF-1"},"WF",null,null,null,null,null,null,"Y01839",null,6320,23,19,19,20,19,null,21,17,14,14,14,14,22,20,22,17,21,17]
["2022-09-01",{"$f":"VLOOKUP(J1678,'Control Panel'!$G$132:$K$171,5,FALSE)","v":"WF-2"},"WF",null,null,null,null,null,null,"F86004",null,15991,47,44,41,41,41,null,51,45,30,49,48,48,52,32,14,40,44,5]
["2022-09-01",{"$f":"VLOOKUP(J1679,'Control Panel'!$G$132:$K$171,5,FALSE)","v":"WF-4"},"WF",null,null,null,null,null,null,"F86018",null,9990,20,20,19,19,0,null,23,21,2,19,19,18,36,17,6,14,24,2]
["2022-09-01",{"$f":"VLOOKUP(J1680,'Control Panel'!$G$132:$K$171,5,FALSE)","v":"WF-1"},"WF",null,null,null,null,null,null,"F86026",null,7181,14,13,13,12,13,null,12,11,0,10,11,11,24,2,4,15,14,1]
["2022-09-01",{"$f":"VLOOKUP(J1681,'Control Panel'!$G$132:$K$171,5,FALSE)","v":"WF-3"},"WF",null,null,null,null,null,null,"F86074",null,15054,45,37,35,35,28,null,60,47,23,38,47,45,48,25,30,26,31,3]
["2022-09-01",{"$f":"VLOOKUP(J1682,'Control Panel'!$G$132:$K$171,5,FALSE)","v":"WF-1"},"WF",null,null,null,null,null,null,"F86638",null,5056,18,17,16,15,0,null,14,13,1,12,13,12,13,3,3,6,10,0]
["2022-09-01",{"$f":"VLOOKUP(J1683,'Control Panel'!$G$132:$K$171,5,FALSE)","v":{"$error":"#N/A"}},"WF",null,null,null,null,null,null,"Total",null,{"$f":"SUM(L1644:L1682)","v":324168},{"$f":"SUM(M1644:M1682)","v":1077},{"$f":"SUM(N1644:N1682)","v":968},{"$f":"SUM(O1644:O1682)","v":954},{"$f":"SUM(P1644:P1682)","v":972},{"$f":"SUM(Q1644:Q1682)","v":900},{"$f":"SUM(R1644:R1682)","v":0},{"$f":"SUM(S1644:S1682)","v":1019},{"$f":"SUM(T1644:T1682)","v":890},{"$f":"SUM(U1644:U1682)","v":766},{"$f":"SUM(V1644:V1682)","v":842},{"$f":"SUM(W1644:W1682)","v":858},{"$f":"SUM(X1644:X1682)","v":849},{"$f":"SUM(Y1644:Y1682)","v":1001},{"$f":"SUM(Z1644:Z1682)","v":824},{"$f":"SUM(AA1644:AA1682)","v":789},{"$f":"SUM(AB1644:AB1682)","v":710},{"$f":"SUM(AC1644:AC1682)","v":844},{"$f":"SUM(AD1644:AD1682)","v":650}]
["2022-10-01",{"$f":"VLOOKUP(J1684,'Control Panel'!$G$132:$K$171,5,FALSE)","v":{"$error":"#N/A"}},"WF",null,"Last Run:",null,"Population Count",284029,null,null,"Search","All currently registered regular patients","(01) 12 MONTH COHORT","(01.01) DTaP/IPV/Hib/HepB","(01.02) Men B (1st and 2nd)","(01.03) PCV","(01.04) Rotavirus",null,"(02) 24 MONTH COHORT","(02.01) DTaP/IPV/Hib/HepB","(02.02) MMR","(02.03) HiB/Men C","(02.04) PCV (Booster)","(02.05) Men B (Booster)","(03) 5 YEAR COHORT","(03.01) DTaP/IPV/Hib or DTaP/IPV/Hib/HepB","(03.02) MMR (Primary)","(03.03) DTaP/IPV (Booster)","(03.04) HiB/Men C","(03.05) MMR (Booster)"]
["2022-10-01",{"$f":"VLOOKUP(J1685,'Control Panel'!$G$132:$K$171,5,FALSE)","v":{"$error":"#N/A"}},"WF",null,"2022-11-02T10:50:00",null,"Males",146632,null,"Organisation Code"]
["2022-10-01",{"$f":"VLOOKUP(J1686,'Control Panel'!$G$132:$K$171,5,FALSE)","v":"WF-6"},"WF",null,"Relative Date:",null,"Females",137397,null,"F86001",null,7772,16,13,13,14,14,null,23,21,21,21,21,21,16,15,13,12,13,12]
["2022-10-01",{"$f":"VLOOKUP(J1687,'Control Panel'!$G$132:$K$171,5,FALSE)","v":"WF-1"},"WF",null,"2022-11-01",null,null,null,null,"F86005",null,9533,39,33,33,37,36,null,36,35,31,31,31,31,38,35,34,32,33,32]
["2022-10-01",{"$f":"VLOOKUP(J1688,'Control Panel'!$G$132:$K$171,5,FALSE)","v":"WF-7"},"WF",null,null,null,null,null,null,"F86006",null,6971,21,17,17,18,15,null,17,16,15,15,15,15,20,19,18,14,17,15]
["2022-10-01",{"$f":"VLOOKUP(J1689,'Control Panel'!$G$132:$K$171,5,FALSE)","v":"WF-3"},"WF",null,null,null,null,null,null,"F86011",null,9804,27,25,25,25,22,null,17,15,13,12,13,11,29,26,25,21,26,20]
["2022-10-01",{"$f":"VLOOKUP(J1690,'Control Panel'!$G$132:$K$171,5,FALSE)","v":"WF-7"},"WF",null,null,null,null,null,null,"F86030",null,8299,35,33,34,34,33,null,26,22,22,23,23,23,21,20,18,18,20,17]
["2022-10-01",{"$f":"VLOOKUP(J1691,'Control Panel'!$G$132:$K$171,5,FALSE)","v":"WF-4"},"WF",null,null,null,null,null,null,"F86036",null,14487,39,34,34,37,35,null,37,36,36,36,36,36,48,45,45,43,45,43]
["2022-10-01",{"$f":"VLOOKUP(J1692,'Control Panel'!$G$132:$K$171,5,FALSE)","v":"WF-3"},"WF",null,null,null,null,null,null,"F86038",null,11209,34,28,28,30,28,null,37,34,32,32,32,31,38,32,33,32,32,32]
["2022-10-01",{"$f":"VLOOKUP(J1693,'Control Panel'!$G$132:$K$171,5,FALSE)","v":"WF-4"},"WF",null,null,null,null,null,null,"F86044",null,10652,49,45,45,48,46,null,46,40,38,38,37,37,36,27,24,21,26,22]
["2022-10-01",{"$f":"VLOOKUP(J1694,'Control Panel'!$G$132:$K$171,5,FALSE)","v":"WF-5"},"WF",null,null,null,null,null,null,"F86045",null,2060,10,8,8,8,8,null,3,3,3,3,3,3,1,1,1,0,1,0]
["2022-10-01",{"$f":"VLOOKUP(J1695,'Control Panel'!$G$132:$K$171,5,FALSE)","v":"WF-7"},"WF",null,null,null,null,null,null,"F86058",null,16653,64,56,55,59,55,null,44,40,38,37,38,38,54,47,44,42,42,43]
["2022-10-01",{"$f":"VLOOKUP(J1696,'Control Panel'!$G$132:$K$171,5,FALSE)","v":"WF-7"},"WF",null,null,null,null,null,null,"F86062",null,7189,26,18,18,25,23,null,19,13,13,13,13,12,30,28,24,18,25,19]
["2022-10-01",{"$f":"VLOOKUP(J1697,'Control Panel'!$G$132:$K$171,5,FALSE)","v":"WF-2"},"WF",null,null,null,null,null,null,"F86078",null,6777,12,9,9,11,11,null,9,9,9,9,9,9,15,13,14,12,14,14]
["2022-10-01",{"$f":"VLOOKUP(J1698,'Control Panel'!$G$132:$K$171,5,FALSE)","v":"WF-6"},"WF",null,null,null,null,null,null,"F86086",null,6302,18,17,17,17,17,null,20,16,17,17,17,16,30,25,25,17,23,20]
["2022-10-01",{"$f":"VLOOKUP(J1699,'Control Panel'!$G$132:$K$171,5,FALSE)","v":"WF-4"},"WF",null,null,null,null,null,null,"F86088",null,5061,9,8,8,8,6,null,15,14,10,10,10,12,10,10,10,9,10,9]
["2022-10-01",{"$f":"VLOOKUP(J1700,'Control Panel'!$G$132:$K$171,5,FALSE)","v":"WF-6"},"WF",null,null,null,null,null,null,"F86607",null,15844,59,56,56,57,54,null,51,48,44,45,45,45,41,39,38,36,36,36]
["2022-10-01",{"$f":"VLOOKUP(J1701,'Control Panel'!$G$132:$K$171,5,FALSE)","v":"WF-2"},"WF",null,null,null,null,null,null,"F86616",null,8231,25,23,23,23,23,null,32,28,28,27,28,27,31,27,27,24,28,24]
["2022-10-01",{"$f":"VLOOKUP(J1702,'Control Panel'!$G$132:$K$171,5,FALSE)","v":"WF-5"},"WF",null,null,null,null,null,null,"F86621",null,6601,26,25,24,25,25,null,26,24,22,22,23,21,16,14,12,10,12,10]
["2022-10-01",{"$f":"VLOOKUP(J1703,'Control Panel'!$G$132:$K$171,5,FALSE)","v":"WF-5"},"WF",null,null,null,null,null,null,"F86625",null,5748,15,13,13,13,12,null,11,10,9,9,9,9,20,17,15,12,15,12]
["2022-10-01",{"$f":"VLOOKUP(J1704,'Control Panel'!$G$132:$K$171,5,FALSE)","v":"WF-1"},"WF",null,null,null,null,null,null,"F86626",null,7295,26,25,24,25,24,null,32,31,31,30,31,30,18,17,17,18,16,18]
["2022-10-01",{"$f":"VLOOKUP(J1705,'Control Panel'!$G$132:$K$171,5,FALSE)","v":"WF-2"},"WF",null,null,null,null,null,null,"F86627",null,13178,34,31,31,32,30,null,33,31,28,28,28,28,37,35,34,35,34,34]
["2022-10-01",{"$f":"VLOOKUP(J1706,'Control Panel'!$G$132:$K$171,5,FALSE)","v":"WF-6"},"WF",null,null,null,null,null,null,"F86644",null,8978,13,13,13,13,12,null,12,12,12,12,12,12,16,15,16,16,16,16]
["2022-10-01",{"$f":"VLOOKUP(J1707,'Control Panel'!$G$132:$K$171,5,FALSE)","v":"WF-4"},"WF",null,null,null,null,null,null,"F86650",null,8086,32,30,29,31,29,null,37,32,32,33,32,31,22,18,18,16,18,16]
["2022-10-01",{"$f":"VLOOKUP(J1708,'Control Panel'!$G$132:$K$171,5,FALSE)","v":"WF-1"},"WF",null,null,null,null,null,null,"F86664",null,8537,20,19,19,20,20,null,23,21,22,22,22,22,26,24,23,17,23,19]
["2022-10-01",{"$f":"VLOOKUP(J1709,'Control Panel'!$G$132:$K$171,5,FALSE)","v":"WF-5"},"WF",null,null,null,null,null,null,"F86666",null,14767,46,44,40,44,43,null,39,37,34,34,35,35,59,50,48,47,48,47]
["2022-10-01",{"$f":"VLOOKUP(J1710,'Control Panel'!$G$132:$K$171,5,FALSE)","v":"WF-7"},"WF",null,null,null,null,null,null,"F86679",null,6410,33,33,33,33,32,null,22,21,21,20,20,21,36,35,34,28,35,28]
["2022-10-01",{"$f":"VLOOKUP(J1711,'Control Panel'!$G$132:$K$171,5,FALSE)","v":"WF-1"},"WF",null,null,null,null,null,null,"F86689",null,4402,20,19,19,20,20,null,16,16,15,15,15,15,29,28,29,28,28,28]
["2022-10-01",{"$f":"VLOOKUP(J1712,'Control Panel'!$G$132:$K$171,5,FALSE)","v":"WF-4"},"WF",null,null,null,null,null,null,"F86696",null,7009,21,15,15,17,16,null,22,18,16,16,16,16,14,11,10,9,11,8]
["2022-10-01",{"$f":"VLOOKUP(J1713,'Control Panel'!$G$132:$K$171,5,FALSE)","v":"WF-1"},"WF",null,null,null,null,null,null,"F86700",null,3868,8,7,7,7,6,null,2,1,1,1,1,1,16,15,15,16,15,16]
["2022-10-01",{"$f":"VLOOKUP(J1714,'Control Panel'!$G$132:$K$171,5,FALSE)","v":"WF-5"},"WF",null,null,null,null,null,null,"F86701",null,3937,11,10,10,11,9,null,15,14,11,11,10,10,7,7,7,3,7,3]
["2022-10-01",{"$f":"VLOOKUP(J1715,'Control Panel'!$G$132:$K$171,5,FALSE)","v":"WF-5"},"WF",null,null,null,null,null,null,"F86705",null,3484,13,13,12,13,13,null,6,6,4,5,5,5,3,3,3,2,3,2]
["2022-10-01",{"$f":"VLOOKUP(J1716,'Control Panel'!$G$132:$K$171,5,FALSE)","v":"WF-6"},"WF",null,null,null,null,null,null,"F86708",null,2809,5,4,4,4,4,null,8,7,7,7,7,7,6,6,5,5,5,5]
["2022-10-01",{"$f":"VLOOKUP(J1717,'Control Panel'!$G$132:$K$171,5,FALSE)","v":"WF-4"},"WF",null,null,null,null,null,null,"F86712",null,3441,15,14,14,14,13,null,10,10,10,10,10,10,14,12,12,10,12,10]
["2022-10-01",{"$f":"VLOOKUP(J1718,'Control Panel'!$G$132:$K$171,5,FALSE)","v":"WF-2"},"WF",null,null,null,null,null,null,"Y01291",null,9547,24,20,20,22,20,null,22,21,21,21,21,21,27,27,27,22,27,22]
["2022-10-01",{"$f":"VLOOKUP(J1719,'Control Panel'!$G$132:$K$171,5,FALSE)","v":"WF-1"},"WF",null,null,null,null,null,null,"Y01839",null,6382,26,24,25,26,25,null,21,21,20,21,20,21,24,22,21,19,21,19]
["2022-10-01",{"$f":"VLOOKUP(J1720,'Control Panel'!$G$132:$K$171,5,FALSE)","v":"WF-2"},"WF",null,null,null,null,null,null,"F86004",null,15998,47,44,41,41,41,null,50,44,29,48,47,47,52,32,14,40,44,5]
["2022-10-01",{"$f":"VLOOKUP(J1721,'Control Panel'!$G$132:$K$171,5,FALSE)","v":"WF-4"},"WF",null,null,null,null,null,null,"F86018",null,9966,20,20,19,19,0,null,23,20,2,18,18,17,36,17,6,14,24,2]
["2022-10-01",{"$f":"VLOOKUP(J1722,'Control Panel'!$G$132:$K$171,5,FALSE)","v":"WF-1"},"WF",null,null,null,null,null,null,"F86026",null,7190,14,13,13,12,13,null,11,11,0,10,11,11,24,2,4,15,14,1]
["2022-10-01",{"$f":"VLOOKUP(J1723,'Control Panel'!$G$132:$K$171,5,FALSE)","v":"WF-3"},"WF",null,null,null,null,null,null,"F86074",null,15069,45,37,35,35,28,null,59,46,22,37,46,44,47,24,29,26,30,3]
["2022-10-01",{"$f":"VLOOKUP(J1724,'Control Panel'!$G$132:$K$171,5,FALSE)","v":"WF-1"},"WF",null,null,null,null,null,null,"F86638",null,5019,18,17,16,15,0,null,15,13,1,12,13,12,13,2,3,5,9,0]
["2022-11-01",{"$f":"VLOOKUP(J1725,'Control Panel'!$G$132:$K$171,5,FALSE)","v":{"$error":"#N/A"}},"WF",null,"Last Run:",null,"Population Count",283983,null,null,"Search","All currently registered regular patients","(01) 12 MONTH COHORT","(01.01) DTaP/IPV/Hib/HepB","(01.02) Men B (1st and 2nd)","(01.03) PCV","(01.04) Rotavirus",null,"(02) 24 MONTH COHORT","(02.01) DTaP/IPV/Hib/HepB","(02.02) MMR","(02.03) HiB/Men C","(02.04) PCV (Booster)","(02.05) Men B (Booster)","(03) 5 YEAR COHORT","(03.01) DTaP/IPV/Hib or DTaP/IPV/Hib/HepB","(03.02) MMR (Primary)","(03.03) DTaP/IPV (Booster)","(03.04) HiB/Men C","(03.05) MMR (Booster)"]
["2022-11-01",{"$f":"VLOOKUP(J1726,'Control Panel'!$G$132:$K$171,5,FALSE)","v":{"$error":"#N/A"}},"WF",null,"2022-12-02T09:50:00",null,"Males",146604,null,"Organisation Code"]
["2022-11-01",{"$f":"VLOOKUP(J1727,'Control Panel'!$G$132:$K$171,5,FALSE)","v":"WF-6"},"WF",null,"Relative Date:",null,"Females",137379,null,"F86001",null,7868,17,13,13,14,14,null,23,21,21,21,21,21,16,15,13,12,13,12]
["2022-11-01",{"$f":"VLOOKUP(J1728,'Control Panel'!$G$132:$K$171,5,FALSE)","v":"WF-1"},"WF",null,"2022-12-01",null,null,null,null,"F86005",null,9499,39,34,34,37,36,null,36,35,31,31,31,31,36,33,32,31,31,31]
["2022-11-01",{"$f":"VLOOKUP(J1729,'Control Panel'!$G$132:$K$171,5,FALSE)","v":"WF-7"},"WF",null,null,null,null,null,null,"F86006",null,6999,21,17,17,18,15,null,17,16,15,15,15,15,20,19,18,14,17,15]
["2022-11-01",{"$f":"VLOOKUP(J1730,'Control Panel'!$G$132:$K$171,5,FALSE)","v":"WF-3"},"WF",null,null,null,null,null,null,"F86011",null,9799,27,25,25,25,22,null,18,15,14,13,14,12,29,25,24,20,25,19]
["2022-11-01",{"$f":"VLOOKUP(J1731,'Control Panel'!$G$132:$K$171,5,FALSE)","v":"WF-7"},"WF",null,null,null,null,null,null,"F86030",null,8324,34,33,34,34,33,null,26,23,22,23,23,23,21,20,18,18,20,17]
["2022-11-01",{"$f":"VLOOKUP(J1732,'Control Panel'!$G$132:$K$171,5,FALSE)","v":"WF-4"},"WF",null,null,null,null,null,null,"F86036",null,14453,39,34,34,37,35,null,37,36,36,36,36,36,47,44,44,42,44,42]
["2022-11-01",{"$f":"VLOOKUP(J1733,'Control Panel'!$G$132:$K$171,5,FALSE)","v":"WF-3"},"WF",null,null,null,null,null,null,"F86038",null,11189,34,28,28,30,28,null,38,35,33,33,33,32,39,33,34,34,33,34]
["2022-11-01",{"$f":"VLOOKUP(J1734,'Control Panel'!$G$132:$K$171,5,FALSE)","v":"WF-4"},"WF",null,null,null,null,null,null,"F86044",null,10556,46,41,41,44,42,null,45,39,38,38,37,37,34,25,22,20,24,21]
["2022-11-01",{"$f":"VLOOKUP(J1735,'Control Panel'!$G$132:$K$171,5,FALSE)","v":"WF-5"},"WF",null,null,null,null,null,null,"F86045",null,2050,10,8,8,8,8,null,3,3,3,3,3,3,1,1,1,0,1,0]
["2022-11-01",{"$f":"VLOOKUP(J1736,'Control Panel'!$G$132:$K$171,5,FALSE)","v":"WF-7"},"WF",null,null,null,null,null,null,"F86058",null,16283,63,57,56,59,55,null,43,39,39,39,40,39,54,47,44,42,42,43]
["2022-11-01",{"$f":"VLOOKUP(J1737,'Control Panel'!$G$132:$K$171,5,FALSE)","v":"WF-7"},"WF",null,null,null,null,null,null,"F86062",null,7180,26,19,19,25,23,null,19,13,13,13,13,12,30,28,24,18,25,19]
["2022-11-01",{"$f":"VLOOKUP(J1738,'Control Panel'!$G$132:$K$171,5,FALSE)","v":"WF-2"},"WF",null,null,null,null,null,null,"F86078",null,6779,12,9,9,11,11,null,9,9,9,9,9,9,16,13,14,12,14,14]
["2022-11-01",{"$f":"VLOOKUP(J1739,'Control Panel'!$G$132:$K$171,5,FALSE)","v":"WF-6"},"WF",null,null,null,null,null,null,"F86086",null,6321,18,17,17,17,17,null,19,16,17,17,17,16,29,25,25,17,23,20]
["2022-11-01",{"$f":"VLOOKUP(J1740,'Control Panel'!$G$132:$K$171,5,FALSE)","v":"WF-4"},"WF",null,null,null,null,null,null,"F86088",null,5057,9,8,8,8,6,null,15,14,11,11,11,13,10,10,10,9,10,9]
["2022-11-01",{"$f":"VLOOKUP(J1741,'Control Panel'!$G$132:$K$171,5,FALSE)","v":"WF-6"},"WF",null,null,null,null,null,null,"F86607",null,15863,59,56,56,57,54,null,50,47,44,45,45,45,40,39,38,36,36,36]
["2022-11-01",{"$f":"VLOOKUP(J1742,'Control Panel'!$G$132:$K$171,5,FALSE)","v":"WF-2"},"WF",null,null,null,null,null,null,"F86616",null,8242,26,24,24,24,24,null,32,28,28,27,28,27,30,27,27,23,27,23]
["2022-11-01",{"$f":"VLOOKUP(J1743,'Control Panel'!$G$132:$K$171,5,FALSE)","v":"WF-5"},"WF",null,null,null,null,null,null,"F86621",null,6651,26,25,24,25,25,null,26,24,22,22,23,21,16,14,12,10,12,10]
["2022-11-01",{"$f":"VLOOKUP(J1744,'Control Panel'!$G$132:$K$171,5,FALSE)","v":"WF-5"},"WF",null,null,null,null,null,null,"F86625",null,5733,15,13,13,13,12,null,11,10,9,9,9,9,20,17,15,12,15,12]
["2022-11-01",{"$f":"VLOOKUP(J1745,'Control Panel'!$G$132:$K$171,5,FALSE)","v":"WF-1"},"WF",null,null,null,null,null,null,"F86626",null,7350,25,24,23,24,23,null,32,31,31,30,31,30,18,17,17,18,16,18]
["2022-11-01",{"$f":"VLOOKUP(J1746,'Control Panel'!$G$132:$K$171,5,FALSE)","v":"WF-2"},"WF",null,null,null,null,null,null,"F86627",null,13175,34,31,31,32,30,null,34,31,28,28,28,28,36,34,33,34,33,33]
["2022-11-01",{"$f":"VLOOKUP(J1747,'Control Panel'!$G$132:$K$171,5,FALSE)","v":"WF-6"},"WF",null,null,null,null,null,null,"F86644",null,8989,13,13,13,13,12,null,13,13,13,12,13,12,16,15,16,16,16,16]
["2022-11-01",{"$f":"VLOOKUP(J1748,'Control Panel'!$G$132:$K$171,5,FALSE)","v":"WF-4"},"WF",null,null,null,null,null,null,"F86650",null,8065,32,31,30,31,30,null,37,32,32,33,32,31,21,18,18,16,18,16]
["2022-11-01",{"$f":"VLOOKUP(J1749,'Control Panel'!$G$132:$K$171,5,FALSE)","v":"WF-1"},"WF",null,null,null,null,null,null,"F86664",null,8544,20,19,19,20,20,null,23,21,22,22,22,22,27,25,23,18,23,19]
["2022-11-01",{"$f":"VLOOKUP(J1750,'Control Panel'!$G$132:$K$171,5,FALSE)","v":"WF-5"},"WF",null,null,null,null,null,null,"F86666",null,14828,46,44,40,44,43,null,39,38,35,35,35,35,59,49,47,47,49,47]
["2022-11-01",{"$f":"VLOOKUP(J1751,'Control Panel'!$G$132:$K$171,5,FALSE)","v":"WF-7"},"WF",null,null,null,null,null,null,"F86679",null,6409,33,33,33,33,32,null,22,21,21,20,20,21,37,36,35,29,36,29]
["2022-11-01",{"$f":"VLOOKUP(J1752,'Control Panel'!$G$132:$K$171,5,FALSE)","v":"WF-1"},"WF",null,null,null,null,null,null,"F86689",null,4410,20,19,19,20,20,null,16,16,15,15,15,15,29,28,29,28,28,28]
["2022-11-01",{"$f":"VLOOKUP(J1753,'Control Panel'!$G$132:$K$171,5,FALSE)","v":"WF-4"},"WF",null,null,null,null,null,null,"F86696",null,7106,20,14,14,16,15,null,22,18,16,16,16,16,13,11,10,9,11,8]
["2022-11-01",{"$f":"VLOOKUP(J1754,'Control Panel'!$G$132:$K$171,5,FALSE)","v":"WF-1"},"WF",null,null,null,null,null,null,"F86700",null,3848,8,7,7,7,6,null,1,1,0,0,0,0,16,15,15,16,15,16]
["2022-11-01",{"$f":"VLOOKUP(J1755,'Control Panel'!$G$132:$K$171,5,FALSE)","v":"WF-5"},"WF",null,null,null,null,null,null,"F86701",null,3946,10,9,9,10,8,null,15,14,11,11,10,10,7,7,7,3,7,3]
["2022-11-01",{"$f":"VLOOKUP(J1756,'Control Panel'!$G$132:$K$171,5,FALSE)","v":"WF-5"},"WF",null,null,null,null,null,null,"F86705",null,3477,13,13,12,13,13,null,6,6,4,5,5,5,3,3,3,2,3,2]
["2022-11-01",{"$f":"VLOOKUP(J1757,'Control Panel'!$G$132:$K$171,5,FALSE)","v":"WF-6"},"WF",null,null,null,null,null,null,"F86708",null,2834,5,4,4,4,4,null,8,7,7,7,7,7,6,6,5,5,5,5]
["2022-11-01",{"$f":"VLOOKUP(J1758,'Control Panel'!$G$132:$K$171,5,FALSE)","v":"WF-4"},"WF",null,null,null,null,null,null,"F86712",null,3452,15,14,14,14,13,null,10,10,10,10,10,10,13,11,11,10,11,10]
["2022-11-01",{"$f":"VLOOKUP(J1759,'Control Panel'!$G$132:$K$171,5,FALSE)","v":"WF-2"},"WF",null,null,null,null,null,null,"Y01291",null,9554,24,20,20,22,20,null,23,22,21,21,22,21,26,26,26,21,26,21]
["2022-11-01",{"$f":"VLOOKUP(J1760,'Control Panel'!$G$132:$K$171,5,FALSE)","v":"WF-1"},"WF",null,null,null,null,null,null,"Y01839",null,6483,27,25,26,27,26,null,20,20,19,20,19,20,24,22,21,19,21,19]
["2022-11-01",{"$f":"VLOOKUP(J1761,'Control Panel'!$G$132:$K$171,5,FALSE)","v":"WF-2"},"WF",null,null,null,null,null,null,"F86004",null,15982,47,44,41,41,41,null,50,44,29,48,47,47,53,32,14,40,45,5]
["2022-11-01",{"$f":"VLOOKUP(J1762,'Control Panel'!$G$132:$K$171,5,FALSE)","v":"WF-4"},"WF",null,null,null,null,null,null,"F86018",null,9828,21,20,19,19,0,null,24,20,2,18,18,17,36,17,6,14,24,2]
["2022-11-01",{"$f":"VLOOKUP(J1763,'Control Panel'!$G$132:$K$171,5,FALSE)","v":"WF-1"},"WF",null,null,null,null,null,null,"F86026",null,7145,13,12,12,11,12,null,12,11,1,11,11,11,24,2,5,15,15,1]
["2022-11-01",{"$f":"VLOOKUP(J1764,'Control Panel'!$G$132:$K$171,5,FALSE)","v":"WF-3"},"WF",null,null,null,null,null,null,"F86074",null,15061,42,36,33,34,27,null,60,46,22,37,46,44,47,23,27,24,29,3]
["2022-11-01",{"$f":"VLOOKUP(J1765,'Control Panel'!$G$132:$K$171,5,FALSE)","v":"WF-1"},"WF",null,null,null,null,null,null,"F86638",null,4997,18,17,16,15,0,null,15,13,1,12,13,12,12,1,3,5,8,0]
["2022-12-01",{"$f":"VLOOKUP(J1766,'Control Panel'!$G$132:$K$171,5,FALSE)","v":{"$error":"#N/A"}},"WF",null,"Last Run:",null,"Population Count",283869,null,null,"Search","All currently registered regular patients","(01) 12 MONTH COHORT","(01.01) DTaP/IPV/Hib/HepB","(01.02) Men B (1st and 2nd)","(01.03) PCV","(01.04) Rotavirus",null,"(02) 24 MONTH COHORT","(02.01) DTaP/IPV/Hib/HepB","(02.02) MMR","(02.03) HiB/Men C","(02.04) PCV (Booster)","(02.05) Men B (Booster)","(03) 5 YEAR COHORT","(03.01) DTaP/IPV/Hib or DTaP/IPV/Hib/HepB","(03.02) MMR (Primary)","(03.03) DTaP/IPV (Booster)","(03.04) HiB/Men C","(03.05) MMR (Booster)"]
["2022-12-01",{"$f":"VLOOKUP(J1767,'Control Panel'!$G$132:$K$171,5,FALSE)","v":{"$error":"#N/A"}},"WF",null,"2023-02-06T11:53:00",null,"Males",146510,null,"Organisation Code"]
["2022-12-01",{"$f":"VLOOKUP(J1768,'Control Panel'!$G$132:$K$171,5,FALSE)","v":"WF-6"},"WF",null,"Relative Date:",null,"Females",137359,null,"F86001",null,7979,17,12,12,13,13,null,21,19,19,19,19,19,17,16,14,13,14,13]
["2022-12-01",{"$f":"VLOOKUP(J1769,'Control Panel'!$G$132:$K$171,5,FALSE)","v":"WF-1"},"WF",null,"2023-01-01",null,null,null,null,"F86005",null,9516,40,36,36,39,37,null,36,35,31,31,31,31,35,32,31,30,30,30]
["2022-12-01",{"$f":"VLOOKUP(J1770,'Control Panel'!$G$132:$K$171,5,FALSE)","v":"WF-7"},"WF",null,null,null,null,null,null,"F86006",null,7007,21,17,17,18,15,null,17,15,14,14,14,14,20,19,18,14,17,15]
["2022-12-01",{"$f":"VLOOKUP(J1771,'Control Panel'!$G$132:$K$171,5,FALSE)","v":"WF-3"},"WF",null,null,null,null,null,null,"F86011",null,9812,28,26,26,26,23,null,19,16,15,14,15,13,29,26,24,20,25,20]
["2022-12-01",{"$f":"VLOOKUP(J1772,'Control Panel'!$G$132:$K$171,5,FALSE)","v":"WF-7"},"WF",null,null,null,null,null,null,"F86030",null,8330,33,32,32,32,32,null,26,23,22,22,23,22,21,20,18,18,20,17]
["2022-12-01",{"$f":"VLOOKUP(J1773,'Control Panel'!$G$132:$K$171,5,FALSE)","v":"WF-4"},"WF",null,null,null,null,null,null,"F86036",null,14409,39,35,34,37,35,null,37,36,36,36,36,36,46,43,43,41,43,41]
["2022-12-01",{"$f":"VLOOKUP(J1774,'Control Panel'!$G$132:$K$171,5,FALSE)","v":"WF-3"},"WF",null,null,null,null,null,null,"F86038",null,11169,34,28,28,30,28,null,37,34,32,32,32,31,39,31,34,34,33,34]
["2022-12-01",{"$f":"VLOOKUP(J1775,'Control Panel'!$G$132:$K$171,5,FALSE)","v":"WF-4"},"WF",null,null,null,null,null,null,"F86044",null,10472,47,42,41,45,42,null,44,38,37,37,36,36,35,24,23,20,25,21]
["2022-12-01",{"$f":"VLOOKUP(J1776,'Control Panel'!$G$132:$K$171,5,FALSE)","v":"WF-5"},"WF",null,null,null,null,null,null,"F86045",null,2041,8,8,8,8,8,null,3,3,3,3,3,3,1,1,1,0,1,0]
["2022-12-01",{"$f":"VLOOKUP(J1777,'Control Panel'!$G$132:$K$171,5,FALSE)","v":"WF-7"},"WF",null,null,null,null,null,null,"F86058",null,16215,63,57,56,59,55,null,43,39,39,39,40,39,53,46,43,41,41,42]
["2022-12-01",{"$f":"VLOOKUP(J1778,'Control Panel'!$G$132:$K$171,5,FALSE)","v":"WF-7"},"WF",null,null,null,null,null,null,"F86062",null,7173,26,19,19,25,23,null,18,12,12,12,12,11,30,28,24,18,25,19]
["2022-12-01",{"$f":"VLOOKUP(J1779,'Control Panel'!$G$132:$K$171,5,FALSE)","v":"WF-2"},"WF",null,null,null,null,null,null,"F86078",null,6760,12,9,9,11,11,null,9,9,9,9,9,9,18,12,14,12,14,14]
["2022-12-01",{"$f":"VLOOKUP(J1780,'Control Panel'!$G$132:$K$171,5,FALSE)","v":"WF-6"},"WF",null,null,null,null,null,null,"F86086",null,6307,18,17,17,17,17,null,19,16,17,17,17,16,30,26,26,18,24,21]
["2022-12-01",{"$f":"VLOOKUP(J1781,'Control Panel'!$G$132:$K$171,5,FALSE)","v":"WF-4"},"WF",null,null,null,null,null,null,"F86088",null,5065,9,8,8,8,6,null,15,14,11,11,11,13,11,11,11,10,11,10]
["2022-12-01",{"$f":"VLOOKUP(J1782,'Control Panel'!$G$132:$K$171,5,FALSE)","v":"WF-6"},"WF",null,null,null,null,null,null,"F86607",null,15866,59,56,56,57,55,null,51,48,45,46,46,46,40,39,38,36,36,36]
["2022-12-01",{"$f":"VLOOKUP(J1783,'Control Panel'!$G$132:$K$171,5,FALSE)","v":"WF-2"},"WF",null,null,null,null,null,null,"F86616",null,8253,27,25,25,25,25,null,32,28,28,27,28,27,30,27,27,23,27,23]
["2022-12-01",{"$f":"VLOOKUP(J1784,'Control Panel'!$G$132:$K$171,5,FALSE)","v":"WF-5"},"WF",null,null,null,null,null,null,"F86621",null,6684,26,25,24,25,25,null,26,24,22,22,23,21,17,15,13,11,12,11]
["2022-12-01",{"$f":"VLOOKUP(J1785,'Control Panel'!$G$132:$K$171,5,FALSE)","v":"WF-5"},"WF",null,null,null,null,null,null,"F86625",null,5708,15,13,13,13,12,null,10,9,8,8,8,8,20,17,15,12,15,12]
["2022-12-01",{"$f":"VLOOKUP(J1786,'Control Panel'!$G$132:$K$171,5,FALSE)","v":"WF-1"},"WF",null,null,null,null,null,null,"F86626",null,7390,25,24,24,24,23,null,33,32,31,30,31,30,18,16,17,18,15,18]
["2022-12-01",{"$f":"VLOOKUP(J1787,'Control Panel'!$G$132:$K$171,5,FALSE)","v":"WF-2"},"WF",null,null,null,null,null,null,"F86627",null,13153,34,31,31,32,30,null,34,32,29,29,29,28,38,36,35,35,35,34]
["2022-12-01",{"$f":"VLOOKUP(J1788,'Control Panel'!$G$132:$K$171,5,FALSE)","v":"WF-6"},"WF",null,null,null,null,null,null,"F86644",null,8960,13,13,13,13,12,null,13,13,13,12,13,12,16,15,16,16,16,16]
["2022-12-01",{"$f":"VLOOKUP(J1789,'Control Panel'!$G$132:$K$171,5,FALSE)","v":"WF-4"},"WF",null,null,null,null,null,null,"F86650",null,8015,32,31,31,31,30,null,37,33,33,33,32,31,20,17,17,16,17,16]
["2022-12-01",{"$f":"VLOOKUP(J1790,'Control Panel'!$G$132:$K$171,5,FALSE)","v":"WF-1"},"WF",null,null,null,null,null,null,"F86664",null,8559,20,19,19,20,20,null,23,21,22,22,22,22,28,25,24,18,24,20]
["2022-12-01",{"$f":"VLOOKUP(J1791,'Control Panel'!$G$132:$K$171,5,FALSE)","v":"WF-5"},"WF",null,null,null,null,null,null,"F86666",null,14847,46,44,40,44,43,null,40,37,35,35,35,35,59,49,47,47,49,47]
["2022-12-01",{"$f":"VLOOKUP(J1792,'Control Panel'!$G$132:$K$171,5,FALSE)","v":"WF-7"},"WF",null,null,null,null,null,null,"F86679",null,6387,33,33,33,33,32,null,22,21,21,20,20,21,36,35,34,28,35,28]
["2022-12-01",{"$f":"VLOOKUP(J1793,'Control Panel'!$G$132:$K$171,5,FALSE)","v":"WF-1"},"WF",null,null,null,null,null,null,"F86689",null,4411,20,19,19,20,20,null,16,16,15,15,15,15,28,27,28,27,27,27]
["2022-12-01",{"$f":"VLOOKUP(J1794,'Control Panel'!$G$132:$K$171,5,FALSE)","v":"WF-4"},"WF",null,null,null,null,null,null,"F86696",null,7089,19,13,13,15,14,null,21,17,15,15,15,15,13,11,10,9,11,8]
["2022-12-01",{"$f":"VLOOKUP(J1795,'Control Panel'!$G$132:$K$171,5,FALSE)","v":"WF-1"},"WF",null,null,null,null,null,null,"F86700",null,3854,8,7,7,7,6,null,1,1,0,0,0,0,16,15,15,16,15,16]
["2022-12-01",{"$f":"VLOOKUP(J1796,'Control Panel'!$G$132:$K$171,5,FALSE)","v":"WF-5"},"WF",null,null,null,null,null,null,"F86701",null,3934,11,10,10,11,9,null,15,14,11,11,10,10,7,7,7,3,7,3]
["2022-12-01",{"$f":"VLOOKUP(J1797,'Control Panel'!$G$132:$K$171,5,FALSE)","v":"WF-5"},"WF",null,null,null,null,null,null,"F86705",null,3467,13,13,12,13,13,null,6,6,4,5,5,5,3,3,3,2,3,2]
["2022-12-01",{"$f":"VLOOKUP(J1798,'Control Panel'!$G$132:$K$171,5,FALSE)","v":"WF-6"},"WF",null,null,null,null,null,null,"F86708",null,2817,5,4,4,4,4,null,8,7,7,7,7,7,6,6,5,5,5,5]
["2022-12-01",{"$f":"VLOOKUP(J1799,'Control Panel'!$G$132:$K$171,5,FALSE)","v":"WF-4"},"WF",null,null,null,null,null,null,"F86712",null,3468,15,14,14,15,13,null,10,10,10,10,10,10,14,11,11,10,11,10]
["2022-12-01",{"$f":"VLOOKUP(J1800,'Control Panel'!$G$132:$K$171,5,FALSE)","v":"WF-2"},"WF",null,null,null,null,null,null,"Y01291",null,9586,24,20,20,22,20,null,24,22,21,21,22,21,26,26,26,21,26,21]
["2022-12-01",{"$f":"VLOOKUP(J1801,'Control Panel'!$G$132:$K$171,5,FALSE)","v":"WF-1"},"WF",null,null,null,null,null,null,"Y01839",null,6508,27,26,26,27,26,null,20,20,19,20,19,20,24,22,21,19,21,19]
["2022-12-01",{"$f":"VLOOKUP(J1802,'Control Panel'!$G$132:$K$171,5,FALSE)","v":"WF-2"},"WF",null,null,null,null,null,null,"F86004",null,15988,42,40,38,38,38,null,43,39,30,40,39,39,46,43,11,0,36,3]
["2022-12-01",{"$f":"VLOOKUP(J1803,'Control Panel'!$G$132:$K$171,5,FALSE)","v":"WF-4"},"WF",null,null,null,null,null,null,"F86018",null,9792,20,17,18,17,0,null,22,22,2,20,21,20,25,21,8,6,15,2]
["2022-12-01",{"$f":"VLOOKUP(J1804,'Control Panel'!$G$132:$K$171,5,FALSE)","v":"WF-1"},"WF",null,null,null,null,null,null,"F86026",null,7082,21,20,20,20,14,null,18,13,3,11,12,11,19,18,7,5,14,0]
["2022-12-01",{"$f":"VLOOKUP(J1805,'Control Panel'!$G$132:$K$171,5,FALSE)","v":"WF-3"},"WF",null,null,null,null,null,null,"F86074",null,15051,53,47,48,46,47,null,44,42,17,14,40,40,44,33,22,2,25,2]
["2022-12-01",{"$f":"VLOOKUP(J1806,'Control Panel'!$G$132:$K$171,5,FALSE)","v":"WF-1"},"WF",null,null,null,null,null,null,"F86638",null,4987,9,8,8,8,0,null,12,11,0,10,12,12,24,23,6,0,20,0]
["2022-12-01",{"$f":"VLOOKUP(J1807,'Control Panel'!$G$132:$K$171,5,FALSE)","v":{"$error":"#N/A"}},"WF",null,null,null,null,null,null,"Total",null,{"$f":"SUM(L1768:L1806)","v":324111},{"$f":"SUM(M1768:M1806)","v":1012},918,909,948,876,0,925,847,738,779,812,799,1002,892,787,674,840,676]
["2023-01-01",{"$f":"VLOOKUP(J1808,'Control Panel'!$G$132:$K$171,5,FALSE)","v":{"$error":"#N/A"}},"WF",null,"Last Run:",null,"Population Count",283408,null,null,"Search","All currently registered regular patients","(01) 12 MONTH COHORT","(01.01) DTaP/IPV/Hib/HepB","(01.02) Men B (1st and 2nd)","(01.03) PCV","(01.04) Rotavirus",null,"(02) 24 MONTH COHORT","(02.01) DTaP/IPV/Hib/HepB","(02.02) MMR","(02.03) HiB/Men C","(02.04) PCV (Booster)","(02.05) Men B (Booster)","(03) 5 YEAR COHORT","(03.01) DTaP/IPV/Hib or DTaP/IPV/Hib/HepB","(03.02) MMR (Primary)","(03.03) DTaP/IPV (Booster)","(03.04) HiB/Men C","(03.05) MMR (Booster)"]
["2023-01-01",{"$f":"VLOOKUP(J1809,'Control Panel'!$G$132:$K$171,5,FALSE)","v":{"$error":"#N/A"}},"WF",null,"2023-02-06T13:15:00",null,"Males",146238,null,"Organisation Code"]
["2023-01-01",{"$f":"VLOOKUP(J1810,'Control Panel'!$G$132:$K$171,5,FALSE)","v":"WF-6"},"WF",null,"Relative Date:",null,"Females",137170,null,"F86001",null,8152,16,11,10,11,12,null,17,15,13,13,13,14,17,13,11,11,11,11]
["2023-01-01",{"$f":"VLOOKUP(J1811,'Control Panel'!$G$132:$K$171,5,FALSE)","v":"WF-1"},"WF",null,"2023-02-01",null,null,null,null,"F86005",null,9538,43,38,37,42,38,null,40,39,39,39,38,38,34,32,31,28,30,28]
["2023-01-01",{"$f":"VLOOKUP(J1812,'Control Panel'!$G$132:$K$171,5,FALSE)","v":"WF-7"},"WF",null,null,null,null,null,null,"F86006",null,7021,18,14,14,14,14,null,19,18,18,17,16,17,16,15,14,14,14,14]
["2023-01-01",{"$f":"VLOOKUP(J1813,'Control Panel'!$G$132:$K$171,5,FALSE)","v":"WF-3"},"WF",null,null,null,null,null,null,"F86011",null,9798,20,16,16,17,16,null,26,21,20,19,19,19,19,18,18,14,17,14]
["2023-01-01",{"$f":"VLOOKUP(J1814,'Control Panel'!$G$132:$K$171,5,FALSE)","v":"WF-7"},"WF",null,null,null,null,null,null,"F86030",null,8328,20,17,16,20,18,null,24,19,21,21,19,19,17,16,15,14,15,14]
["2023-01-01",{"$f":"VLOOKUP(J1815,'Control Panel'!$G$132:$K$171,5,FALSE)","v":"WF-4"},"WF",null,null,null,null,null,null,"F86036",null,14424,41,39,38,39,39,null,32,29,28,28,28,28,36,33,32,30,32,30]
["2023-01-01",{"$f":"VLOOKUP(J1816,'Control Panel'!$G$132:$K$171,5,FALSE)","v":"WF-3"},"WF",null,null,null,null,null,null,"F86038",null,11172,30,23,23,26,26,null,26,24,26,26,26,25,40,34,34,31,34,30]
["2023-01-01",{"$f":"VLOOKUP(J1817,'Control Panel'!$G$132:$K$171,5,FALSE)","v":"WF-4"},"WF",null,null,null,null,null,null,"F86044",null,10511,27,22,22,24,22,null,31,26,27,27,27,26,33,27,30,25,28,25]
["2023-01-01",{"$f":"VLOOKUP(J1818,'Control Panel'!$G$132:$K$171,5,FALSE)","v":"WF-5"},"WF",null,null,null,null,null,null,"F86045",null,2038,3,3,3,3,3,null,6,6,5,5,5,5,4,4,3,4,3,4]
["2023-01-01",{"$f":"VLOOKUP(J1819,'Control Panel'!$G$132:$K$171,5,FALSE)","v":"WF-7"},"WF",null,null,null,null,null,null,"F86058",null,16131,58,50,48,51,49,null,62,55,51,52,54,52,44,40,40,34,39,35]
["2023-01-01",{"$f":"VLOOKUP(J1820,'Control Panel'!$G$132:$K$171,5,FALSE)","v":"WF-7"},"WF",null,null,null,null,null,null,"F86062",null,7185,23,20,18,20,20,null,7,6,5,5,5,5,13,12,13,11,12,11]
["2023-01-01",{"$f":"VLOOKUP(J1821,'Control Panel'!$G$132:$K$171,5,FALSE)","v":"WF-2"},"WF",null,null,null,null,null,null,"F86078",null,6793,12,11,11,12,11,null,12,11,9,9,9,9,13,13,13,12,13,11]
["2023-01-01",{"$f":"VLOOKUP(J1822,'Control Panel'!$G$132:$K$171,5,FALSE)","v":"WF-6"},"WF",null,null,null,null,null,null,"F86086",null,6348,24,21,21,24,21,null,25,21,19,19,19,19,24,22,23,18,23,18]
["2023-01-01",{"$f":"VLOOKUP(J1823,'Control Panel'!$G$132:$K$171,5,FALSE)","v":"WF-4"},"WF",null,null,null,null,null,null,"F86088",null,5100,16,15,15,15,15,null,10,9,9,9,9,9,7,5,5,5,5,5]
["2023-01-01",{"$f":"VLOOKUP(J1824,'Control Panel'!$G$132:$K$171,5,FALSE)","v":"WF-6"},"WF",null,null,null,null,null,null,"F86607",null,15926,52,51,52,52,49,null,48,38,43,43,43,43,49,44,42,41,43,40]
["2023-01-01",{"$f":"VLOOKUP(J1825,'Control Panel'!$G$132:$K$171,5,FALSE)","v":"WF-2"},"WF",null,null,null,null,null,null,"F86616",null,8285,36,36,36,36,34,null,35,30,26,27,27,27,33,28,29,26,28,27]
["2023-01-01",{"$f":"VLOOKUP(J1826,'Control Panel'!$G$132:$K$171,5,FALSE)","v":"WF-5"},"WF",null,null,null,null,null,null,"F86621",null,6709,15,9,8,11,10,null,23,19,18,18,19,17,12,11,12,9,11,9]
["2023-01-01",{"$f":"VLOOKUP(J1827,'Control Panel'!$G$132:$K$171,5,FALSE)","v":"WF-5"},"WF",null,null,null,null,null,null,"F86625",null,5721,6,5,5,5,4,null,10,8,8,8,8,8,18,16,15,11,15,11]
["2023-01-01",{"$f":"VLOOKUP(J1828,'Control Panel'!$G$132:$K$171,5,FALSE)","v":"WF-1"},"WF",null,null,null,null,null,null,"F86626",null,7426,21,20,21,20,20,null,25,21,22,20,21,22,20,18,18,18,18,18]
["2023-01-01",{"$f":"VLOOKUP(J1829,'Control Panel'!$G$132:$K$171,5,FALSE)","v":"WF-2"},"WF",null,null,null,null,null,null,"F86627",null,13170,21,21,21,21,18,null,30,28,24,23,22,23,32,29,29,24,29,25]
["2023-01-01",{"$f":"VLOOKUP(J1830,'Control Panel'!$G$132:$K$171,5,FALSE)","v":"WF-6"},"WF",null,null,null,null,null,null,"F86644",null,9031,20,19,19,19,18,null,22,21,19,21,21,21,18,17,17,15,16,15]
["2023-01-01",{"$f":"VLOOKUP(J1831,'Control Panel'!$G$132:$K$171,5,FALSE)","v":"WF-4"},"WF",null,null,null,null,null,null,"F86650",null,8040,24,19,19,20,17,null,20,17,16,16,16,16,16,13,14,10,14,10]
["2023-01-01",{"$f":"VLOOKUP(J1832,'Control Panel'!$G$132:$K$171,5,FALSE)","v":"WF-1"},"WF",null,null,null,null,null,null,"F86664",null,8625,18,17,16,17,17,null,36,34,32,32,32,32,17,15,14,12,14,12]
["2023-01-01",{"$f":"VLOOKUP(J1833,'Control Panel'!$G$132:$K$171,5,FALSE)","v":"WF-5"},"WF",null,null,null,null,null,null,"F86666",null,14806,35,34,34,35,32,null,50,42,41,40,41,40,34,28,27,26,28,25]
["2023-01-01",{"$f":"VLOOKUP(J1834,'Control Panel'!$G$132:$K$171,5,FALSE)","v":"WF-7"},"WF",null,null,null,null,null,null,"F86679",null,6368,30,24,24,25,25,null,30,27,23,23,23,23,12,12,12,11,12,11]
["2023-01-01",{"$f":"VLOOKUP(J1835,'Control Panel'!$G$132:$K$171,5,FALSE)","v":"WF-1"},"WF",null,null,null,null,null,null,"F86689",null,4413,32,28,28,29,28,null,21,19,21,21,21,20,22,22,20,18,20,18]
["2023-01-01",{"$f":"VLOOKUP(J1836,'Control Panel'!$G$132:$K$171,5,FALSE)","v":"WF-4"},"WF",null,null,null,null,null,null,"F86696",null,7135,32,25,22,27,23,null,21,19,17,17,17,17,21,17,16,14,16,13]
["2023-01-01",{"$f":"VLOOKUP(J1837,'Control Panel'!$G$132:$K$171,5,FALSE)","v":"WF-1"},"WF",null,null,null,null,null,null,"F86700",null,3877,9,7,6,8,7,null,12,10,9,9,9,9,11,9,9,9,9,9]
["2023-01-01",{"$f":"VLOOKUP(J1838,'Control Panel'!$G$132:$K$171,5,FALSE)","v":"WF-5"},"WF",null,null,null,null,null,null,"F86701",null,3927,8,6,5,5,6,null,11,10,8,8,9,9,6,6,6,6,6,6]
["2023-01-01",{"$f":"VLOOKUP(J1839,'Control Panel'!$G$132:$K$171,5,FALSE)","v":"WF-5"},"WF",null,null,null,null,null,null,"F86705",null,3466,14,14,14,14,14,null,5,4,4,3,4,3,8,6,6,6,6,6]
["2023-01-01",{"$f":"VLOOKUP(J1840,'Control Panel'!$G$132:$K$171,5,FALSE)","v":"WF-6"},"WF",null,null,null,null,null,null,"F86708",null,2813,5,4,4,4,4,null,8,7,7,5,6,5,6,5,5,5,5,5]
["2023-01-01",{"$f":"VLOOKUP(J1841,'Control Panel'!$G$132:$K$171,5,FALSE)","v":"WF-4"},"WF",null,null,null,null,null,null,"F86712",null,3478,10,10,9,10,10,null,8,6,6,6,6,6,10,9,8,8,8,7]
["2023-01-01",{"$f":"VLOOKUP(J1842,'Control Panel'!$G$132:$K$171,5,FALSE)","v":"WF-2"},"WF",null,null,null,null,null,null,"Y01291",null,9601,31,31,31,31,29,null,27,25,24,24,24,24,32,29,28,28,27,28]
["2023-01-01",{"$f":"VLOOKUP(J1843,'Control Panel'!$G$132:$K$171,5,FALSE)","v":"WF-1"},"WF",null,null,null,null,null,null,"Y01839",null,6571,18,17,17,18,17,null,20,19,19,19,19,19,19,17,15,13,15,13]
["2023-01-01",{"$f":"VLOOKUP(J1844,'Control Panel'!$G$132:$K$171,5,FALSE)","v":"WF-2"},"WF",null,null,null,null,null,null,"F86004",null,16029,28,26,24,24,24,null,52,48,18,49,49,49,46,44,17,0,31,3]
["2023-01-01",{"$f":"VLOOKUP(J1845,'Control Panel'!$G$132:$K$171,5,FALSE)","v":"WF-4"},"WF",null,null,null,null,null,null,"F86018",null,9815,32,30,29,29,0,null,16,15,0,14,15,15,33,28,7,1,20,2]
["2023-01-01",{"$f":"VLOOKUP(J1846,'Control Panel'!$G$132:$K$171,5,FALSE)","v":"WF-1"},"WF",null,null,null,null,null,null,"F86026",null,7092,21,20,20,19,19,null,17,13,2,11,11,11,18,13,13,3,9,0]
["2023-01-01",{"$f":"VLOOKUP(J1847,'Control Panel'!$G$132:$K$171,5,FALSE)","v":"WF-3"},"WF",null,null,null,null,null,null,"F86074",null,15085,38,37,36,36,32,null,38,36,7,1,33,33,41,29,29,0,26,4]
["2023-01-01",{"$f":"VLOOKUP(J1848,'Control Panel'!$G$132:$K$171,5,FALSE)","v":"WF-1"},"WF",null,null,null,null,null,null,"F86638",null,4987,12,12,12,12,3,null,18,12,1,13,14,14,18,17,3,0,13,0]
["2023-02-01",{"$f":"VLOOKUP(J1849,'Control Panel'!$G$132:$K$171,5,FALSE)","v":{"$error":"#N/A"}},"WF",null,"Last Run:",null,"Population Count",283762,null,null,"Search","All currently registered regular patients","(01) 12 MONTH COHORT","(01.01) DTaP/IPV/Hib/HepB","(01.02) Men B (1st and 2nd)","(01.03) PCV","(01.04) Rotavirus",null,"(02) 24 MONTH COHORT","(02.01) DTaP/IPV/Hib/HepB","(02.02) MMR","(02.03) HiB/Men C","(02.04) PCV (Booster)","(02.05) Men B (Booster)","(03) 5 YEAR COHORT","(03.01) DTaP/IPV/Hib or DTaP/IPV/Hib/HepB","(03.02) MMR (Primary)","(03.03) DTaP/IPV (Booster)","(03.04) HiB/Men C","(03.05) MMR (Booster)"]
["2023-02-01",{"$f":"VLOOKUP(J1850,'Control Panel'!$G$132:$K$171,5,FALSE)","v":{"$error":"#N/A"}},"WF",null,"2023-03-02T10:01:00",null,"Males",146382,null,"Organisation Code"]
["2023-02-01",{"$f":"VLOOKUP(J1851,'Control Panel'!$G$132:$K$171,5,FALSE)","v":"WF-6"},"WF",null,"Relative Date:",null,"Females",137380,null,"F86001",null,8311,16,11,10,11,12,null,17,15,13,13,13,14,17,13,11,11,11,11]
["2023-02-01",{"$f":"VLOOKUP(J1852,'Control Panel'!$G$132:$K$171,5,FALSE)","v":"WF-1"},"WF",null,"2023-03-01",null,null,null,null,"F86005",null,9520,43,39,37,42,39,null,40,39,39,39,38,38,34,32,31,28,30,28]
["2023-02-01",{"$f":"VLOOKUP(J1853,'Control Panel'!$G$132:$K$171,5,FALSE)","v":"WF-7"},"WF",null,null,null,null,null,null,"F86006",null,7064,17,13,13,13,13,null,20,19,19,18,17,18,17,15,14,14,14,14]
["2023-02-01",{"$f":"VLOOKUP(J1854,'Control Panel'!$G$132:$K$171,5,FALSE)","v":"WF-3"},"WF",null,null,null,null,null,null,"F86011",null,9816,20,17,16,18,17,null,26,21,20,19,19,19,20,19,19,14,18,14]
["2023-02-01",{"$f":"VLOOKUP(J1855,'Control Panel'!$G$132:$K$171,5,FALSE)","v":"WF-7"},"WF",null,null,null,null,null,null,"F86030",null,8289,21,17,16,20,18,null,24,19,21,21,19,19,17,16,15,14,15,14]
["2023-02-01",{"$f":"VLOOKUP(J1856,'Control Panel'!$G$132:$K$171,5,FALSE)","v":"WF-4"},"WF",null,null,null,null,null,null,"F86036",null,14354,42,40,39,40,40,null,32,29,28,28,28,28,37,34,33,31,33,31]
["2023-02-01",{"$f":"VLOOKUP(J1857,'Control Panel'!$G$132:$K$171,5,FALSE)","v":"WF-3"},"WF",null,null,null,null,null,null,"F86038",null,11112,30,23,23,26,26,null,26,24,26,26,26,25,39,34,34,31,34,30]
["2023-02-01",{"$f":"VLOOKUP(J1858,'Control Panel'!$G$132:$K$171,5,FALSE)","v":"WF-4"},"WF",null,null,null,null,null,null,"F86044",null,10515,27,22,22,24,22,null,31,26,27,27,27,26,32,26,29,24,27,24]
["2023-02-01",{"$f":"VLOOKUP(J1859,'Control Panel'!$G$132:$K$171,5,FALSE)","v":"WF-5"},"WF",null,null,null,null,null,null,"F86045",null,2039,3,3,3,3,3,null,6,6,5,5,5,5,4,4,3,4,3,4]
["2023-02-01",{"$f":"VLOOKUP(J1860,'Control Panel'!$G$132:$K$171,5,FALSE)","v":"WF-7"},"WF",null,null,null,null,null,null,"F86058",null,16038,56,48,46,50,48,null,61,54,51,52,54,52,44,41,40,34,39,36]
["2023-02-01",{"$f":"VLOOKUP(J1861,'Control Panel'!$G$132:$K$171,5,FALSE)","v":"WF-7"},"WF",null,null,null,null,null,null,"F86062",null,7218,23,20,18,20,20,null,6,5,4,4,4,4,13,12,13,11,12,11]
["2023-02-01",{"$f":"VLOOKUP(J1862,'Control Panel'!$G$132:$K$171,5,FALSE)","v":"WF-2"},"WF",null,null,null,null,null,null,"F86078",null,6804,12,11,11,12,11,null,12,11,9,9,9,9,13,13,13,12,13,11]
["2023-02-01",{"$f":"VLOOKUP(J1863,'Control Panel'!$G$132:$K$171,5,FALSE)","v":"WF-6"},"WF",null,null,null,null,null,null,"F86086",null,6389,24,21,21,24,21,null,26,21,19,19,19,19,24,22,23,18,23,18]
["2023-02-01",{"$f":"VLOOKUP(J1864,'Control Panel'!$G$132:$K$171,5,FALSE)","v":"WF-4"},"WF",null,null,null,null,null,null,"F86088",null,5102,15,14,14,14,14,null,10,9,9,9,9,9,7,5,5,5,5,5]
["2023-02-01",{"$f":"VLOOKUP(J1865,'Control Panel'!$G$132:$K$171,5,FALSE)","v":"WF-6"},"WF",null,null,null,null,null,null,"F86607",null,16053,52,51,52,52,49,null,48,38,43,43,43,43,49,44,42,41,43,40]
["2023-02-01",{"$f":"VLOOKUP(J1866,'Control Panel'!$G$132:$K$171,5,FALSE)","v":"WF-2"},"WF",null,null,null,null,null,null,"F86616",null,8314,36,36,36,36,34,null,35,30,26,27,27,27,31,26,27,26,27,26]
["2023-02-01",{"$f":"VLOOKUP(J1867,'Control Panel'!$G$132:$K$171,5,FALSE)","v":"WF-5"},"WF",null,null,null,null,null,null,"F86621",null,6746,16,10,9,13,11,null,23,19,18,18,19,17,12,11,12,9,11,9]
["2023-02-01",{"$f":"VLOOKUP(J1868,'Control Panel'!$G$132:$K$171,5,FALSE)","v":"WF-5"},"WF",null,null,null,null,null,null,"F86625",null,5705,6,5,5,5,4,null,9,7,7,7,7,7,18,16,15,11,15,11]
["2023-02-01",{"$f":"VLOOKUP(J1869,'Control Panel'!$G$132:$K$171,5,FALSE)","v":"WF-1"},"WF",null,null,null,null,null,null,"F86626",null,7453,21,20,21,20,20,null,25,22,22,20,21,23,20,18,18,18,18,18]
["2023-02-01",{"$f":"VLOOKUP(J1870,'Control Panel'!$G$132:$K$171,5,FALSE)","v":"WF-2"},"WF",null,null,null,null,null,null,"F86627",null,13199,22,21,21,21,18,null,29,26,22,21,20,21,32,29,29,24,29,25]
["2023-02-01",{"$f":"VLOOKUP(J1871,'Control Panel'!$G$132:$K$171,5,FALSE)","v":"WF-6"},"WF",null,null,null,null,null,null,"F86644",null,9082,21,20,20,20,19,null,22,21,19,21,21,21,18,17,17,15,16,15]
["2023-02-01",{"$f":"VLOOKUP(J1872,'Control Panel'!$G$132:$K$171,5,FALSE)","v":"WF-4"},"WF",null,null,null,null,null,null,"F86650",null,7987,22,17,17,18,15,null,20,17,16,16,16,16,16,13,14,10,14,10]
["2023-02-01",{"$f":"VLOOKUP(J1873,'Control Panel'!$G$132:$K$171,5,FALSE)","v":"WF-1"},"WF",null,null,null,null,null,null,"F86664",null,8598,18,17,16,17,17,null,35,33,31,31,31,31,17,15,14,12,14,12]
["2023-02-01",{"$f":"VLOOKUP(J1874,'Control Panel'!$G$132:$K$171,5,FALSE)","v":"WF-5"},"WF",null,null,null,null,null,null,"F86666",null,14896,35,34,34,35,32,null,50,41,40,39,40,39,35,29,28,27,30,26]
["2023-02-01",{"$f":"VLOOKUP(J1875,'Control Panel'!$G$132:$K$171,5,FALSE)","v":"WF-7"},"WF",null,null,null,null,null,null,"F86679",null,6371,30,24,24,25,25,null,30,27,23,23,23,23,12,12,12,11,12,11]
["2023-02-01",{"$f":"VLOOKUP(J1876,'Control Panel'!$G$132:$K$171,5,FALSE)","v":"WF-1"},"WF",null,null,null,null,null,null,"F86689",null,4392,32,28,28,29,28,null,21,19,21,21,21,20,22,22,20,19,20,19]
["2023-02-01",{"$f":"VLOOKUP(J1877,'Control Panel'!$G$132:$K$171,5,FALSE)","v":"WF-4"},"WF",null,null,null,null,null,null,"F86696",null,7105,32,25,22,27,23,null,20,18,16,16,16,16,21,18,17,14,17,13]
["2023-02-01",{"$f":"VLOOKUP(J1878,'Control Panel'!$G$132:$K$171,5,FALSE)","v":"WF-1"},"WF",null,null,null,null,null,null,"F86700",null,3863,10,7,6,8,7,null,11,9,8,8,8,8,11,9,9,9,9,9]
["2023-02-01",{"$f":"VLOOKUP(J1879,'Control Panel'!$G$132:$K$171,5,FALSE)","v":"WF-5"},"WF",null,null,null,null,null,null,"F86701",null,3966,7,5,4,4,5,null,11,10,8,8,9,9,6,6,6,6,6,6]
["2023-02-01",{"$f":"VLOOKUP(J1880,'Control Panel'!$G$132:$K$171,5,FALSE)","v":"WF-5"},"WF",null,null,null,null,null,null,"F86705",null,3471,14,14,14,14,14,null,5,5,5,3,4,3,8,6,6,6,6,6]
["2023-02-01",{"$f":"VLOOKUP(J1881,'Control Panel'!$G$132:$K$171,5,FALSE)","v":"WF-6"},"WF",null,null,null,null,null,null,"F86708",null,2815,5,4,4,4,4,null,8,7,7,5,6,5,7,6,6,5,5,5]
["2023-02-01",{"$f":"VLOOKUP(J1882,'Control Panel'!$G$132:$K$171,5,FALSE)","v":"WF-4"},"WF",null,null,null,null,null,null,"F86712",null,3480,10,10,9,10,10,null,8,6,6,6,6,6,9,8,7,7,7,6]
["2023-02-01",{"$f":"VLOOKUP(J1883,'Control Panel'!$G$132:$K$171,5,FALSE)","v":"WF-2"},"WF",null,null,null,null,null,null,"Y01291",null,9670,32,31,31,31,29,null,27,25,24,24,24,24,32,29,28,28,27,28]
["2023-02-01",{"$f":"VLOOKUP(J1884,'Control Panel'!$G$132:$K$171,5,FALSE)","v":"WF-1"},"WF",null,null,null,null,null,null,"Y01839",null,6587,17,16,16,17,16,null,20,19,19,19,19,19,19,17,15,13,15,13]
["2023-02-01",{"$f":"VLOOKUP(J1885,'Control Panel'!$G$132:$K$171,5,FALSE)","v":"WF-2"},"WF",null,null,null,null,null,null,"F86004",null,16038,29,26,24,27,27,null,52,51,47,49,49,51,47,44,44,40,42,42]
["2023-02-01",{"$f":"VLOOKUP(J1886,'Control Panel'!$G$132:$K$171,5,FALSE)","v":"WF-4"},"WF",null,null,null,null,null,null,"F86018",null,9800,32,28,29,30,30,null,16,15,13,14,13,15,33,27,27,19,25,22]
["2023-02-01",{"$f":"VLOOKUP(J1887,'Control Panel'!$G$132:$K$171,5,FALSE)","v":"WF-1"},"WF",null,null,null,null,null,null,"F86026",null,7118,21,19,20,20,20,null,18,15,13,12,14,16,18,12,16,14,16,14]
["2023-02-01",{"$f":"VLOOKUP(J1888,'Control Panel'!$G$132:$K$171,5,FALSE)","v":"WF-3"},"WF",null,null,null,null,null,null,"F86074",null,15073,39,36,37,38,34,null,38,34,35,33,34,34,41,30,37,35,36,34]
["2023-02-01",{"$f":"VLOOKUP(J1889,'Control Panel'!$G$132:$K$171,5,FALSE)","v":"WF-1"},"WF",null,null,null,null,null,null,"F86638",null,4981,12,12,12,12,11,null,18,14,11,13,12,14,18,16,15,13,15,13]
["2023-03-01",{"$f":"VLOOKUP(J1890,'Control Panel'!$G$132:$K$171,5,FALSE)","v":{"$error":"#N/A"}},"WF",null,"Last Run:",null,"Population Count",283911,null,null,"Search","All currently registered regular patients","(01) 12 MONTH COHORT","(01.01) DTaP/IPV/Hib/HepB","(01.02) Men B (1st and 2nd)","(01.03) PCV","(01.04) Rotavirus",null,"(02) 24 MONTH COHORT","(02.01) DTaP/IPV/Hib/HepB","(02.02) MMR","(02.03) HiB/Men C","(02.04) PCV (Booster)","(02.05) Men B (Booster)","(03) 5 YEAR COHORT","(03.01) DTaP/IPV/Hib or DTaP/IPV/Hib/HepB","(03.02) MMR (Primary)","(03.03) DTaP/IPV (Booster)","(03.04) HiB/Men C","(03.05) MMR (Booster)"]
["2023-03-01",{"$f":"VLOOKUP(J1891,'Control Panel'!$G$132:$K$171,5,FALSE)","v":{"$error":"#N/A"}},"WF",null,"2023-04-03T10:10:00",null,"Males",146416,null,"Organisation Code"]
["2023-03-01",{"$f":"VLOOKUP(J1892,'Control Panel'!$G$132:$K$171,5,FALSE)","v":"WF-6"},"WF",null,"Relative Date:",null,"Females",137495,null,"F86001",null,8444,16,11,10,11,12,null,17,15,13,13,13,14,17,12,10,10,10,10]
["2023-03-01",{"$f":"VLOOKUP(J1893,'Control Panel'!$G$132:$K$171,5,FALSE)","v":"WF-1"},"WF",null,"2023-04-01",null,null,null,null,"F86005",null,9530,44,39,37,42,39,null,39,38,38,38,37,37,34,32,31,28,30,28]
["2023-03-01",{"$f":"VLOOKUP(J1894,'Control Panel'!$G$132:$K$171,5,FALSE)","v":"WF-7"},"WF",null,null,null,null,null,null,"F86006",null,7082,16,13,13,13,13,null,22,21,21,20,19,20,18,16,15,15,15,15]
["2023-03-01",{"$f":"VLOOKUP(J1895,'Control Panel'!$G$132:$K$171,5,FALSE)","v":"WF-3"},"WF",null,null,null,null,null,null,"F86011",null,9774,20,17,16,18,17,null,25,21,19,19,19,19,21,20,19,15,18,15]
["2023-03-01",{"$f":"VLOOKUP(J1896,'Control Panel'!$G$132:$K$171,5,FALSE)","v":"WF-7"},"WF",null,null,null,null,null,null,"F86030",null,8280,21,17,16,20,18,null,24,19,21,21,19,19,16,16,15,14,15,14]
["2023-03-01",{"$f":"VLOOKUP(J1897,'Control Panel'!$G$132:$K$171,5,FALSE)","v":"WF-4"},"WF",null,null,null,null,null,null,"F86036",null,14350,43,41,40,41,41,null,32,29,28,28,28,28,36,34,33,31,33,31]
["2023-03-01",{"$f":"VLOOKUP(J1898,'Control Panel'!$G$132:$K$171,5,FALSE)","v":"WF-3"},"WF",null,null,null,null,null,null,"F86038",null,11059,29,22,22,25,25,null,26,24,26,26,26,25,39,34,34,31,34,30]
["2023-03-01",{"$f":"VLOOKUP(J1899,'Control Panel'!$G$132:$K$171,5,FALSE)","v":"WF-4"},"WF",null,null,null,null,null,null,"F86044",null,10497,27,22,22,24,22,null,30,26,27,27,27,26,30,24,27,23,25,23]
["2023-03-01",{"$f":"VLOOKUP(J1900,'Control Panel'!$G$132:$K$171,5,FALSE)","v":"WF-5"},"WF",null,null,null,null,null,null,"F86045",null,2032,3,3,3,3,3,null,6,6,5,5,5,5,4,4,4,4,3,4]
["2023-03-01",{"$f":"VLOOKUP(J1901,'Control Panel'!$G$132:$K$171,5,FALSE)","v":"WF-7"},"WF",null,null,null,null,null,null,"F86058",null,15867,56,48,46,50,48,null,61,54,51,52,54,52,42,41,39,34,38,36]
["2023-03-01",{"$f":"VLOOKUP(J1902,'Control Panel'!$G$132:$K$171,5,FALSE)","v":"WF-7"},"WF",null,null,null,null,null,null,"F86062",null,7220,23,20,18,20,20,null,6,5,4,4,4,4,13,12,13,11,12,11]
["2023-03-01",{"$f":"VLOOKUP(J1903,'Control Panel'!$G$132:$K$171,5,FALSE)","v":"WF-2"},"WF",null,null,null,null,null,null,"F86078",null,6811,12,11,11,12,11,null,12,12,10,10,10,10,13,13,13,12,13,11]
["2023-03-01",{"$f":"VLOOKUP(J1904,'Control Panel'!$G$132:$K$171,5,FALSE)","v":"WF-6"},"WF",null,null,null,null,null,null,"F86086",null,6398,25,22,22,25,22,null,27,22,20,20,20,20,24,22,23,18,23,18]
["2023-03-01",{"$f":"VLOOKUP(J1905,'Control Panel'!$G$132:$K$171,5,FALSE)","v":"WF-4"},"WF",null,null,null,null,null,null,"F86088",null,5098,14,13,13,13,13,null,11,9,9,9,9,9,7,5,5,5,5,5]
["2023-03-01",{"$f":"VLOOKUP(J1906,'Control Panel'!$G$132:$K$171,5,FALSE)","v":"WF-6"},"WF",null,null,null,null,null,null,"F86607",null,16152,54,53,53,54,50,null,50,39,44,44,44,45,49,44,42,41,43,40]
["2023-03-01",{"$f":"VLOOKUP(J1907,'Control Panel'!$G$132:$K$171,5,FALSE)","v":"WF-2"},"WF",null,null,null,null,null,null,"F86616",null,8351,38,37,37,37,35,null,35,30,26,27,27,27,31,27,28,26,27,27]
["2023-03-01",{"$f":"VLOOKUP(J1908,'Control Panel'!$G$132:$K$171,5,FALSE)","v":"WF-5"},"WF",null,null,null,null,null,null,"F86621",null,6805,16,10,9,13,11,null,25,21,19,19,20,18,12,11,12,9,11,9]
["2023-03-01",{"$f":"VLOOKUP(J1909,'Control Panel'!$G$132:$K$171,5,FALSE)","v":"WF-5"},"WF",null,null,null,null,null,null,"F86625",null,5726,6,5,5,5,4,null,9,7,7,7,7,7,18,16,15,11,15,11]
["2023-03-01",{"$f":"VLOOKUP(J1910,'Control Panel'!$G$132:$K$171,5,FALSE)","v":"WF-1"},"WF",null,null,null,null,null,null,"F86626",null,7441,21,20,21,20,20,null,25,22,22,20,21,23,20,18,18,18,18,18]
["2023-03-01",{"$f":"VLOOKUP(J1911,'Control Panel'!$G$132:$K$171,5,FALSE)","v":"WF-2"},"WF",null,null,null,null,null,null,"F86627",null,13171,21,20,20,20,17,null,29,26,22,21,20,21,32,30,30,25,29,26]
["2023-03-01",{"$f":"VLOOKUP(J1912,'Control Panel'!$G$132:$K$171,5,FALSE)","v":"WF-6"},"WF",null,null,null,null,null,null,"F86644",null,9083,21,20,20,20,19,null,22,21,19,21,21,21,18,17,17,15,16,15]
["2023-03-01",{"$f":"VLOOKUP(J1913,'Control Panel'!$G$132:$K$171,5,FALSE)","v":"WF-4"},"WF",null,null,null,null,null,null,"F86650",null,7953,22,17,17,18,15,null,20,17,16,16,16,16,16,13,14,10,14,10]
["2023-03-01",{"$f":"VLOOKUP(J1914,'Control Panel'!$G$132:$K$171,5,FALSE)","v":"WF-1"},"WF",null,null,null,null,null,null,"F86664",null,8579,18,18,17,18,18,null,34,32,30,30,30,30,18,16,15,13,15,13]
["2023-03-01",{"$f":"VLOOKUP(J1915,'Control Panel'!$G$132:$K$171,5,FALSE)","v":"WF-5"},"WF",null,null,null,null,null,null,"F86666",null,14945,35,33,33,34,31,null,50,43,41,39,40,40,34,28,27,26,29,25]
["2023-03-01",{"$f":"VLOOKUP(J1916,'Control Panel'!$G$132:$K$171,5,FALSE)","v":"WF-7"},"WF",null,null,null,null,null,null,"F86679",null,6412,26,21,21,22,22,null,30,27,23,23,23,23,13,12,13,11,13,12]
["2023-03-01",{"$f":"VLOOKUP(J1917,'Control Panel'!$G$132:$K$171,5,FALSE)","v":"WF-1"},"WF",null,null,null,null,null,null,"F86689",null,4367,30,26,26,27,26,null,21,19,21,21,21,20,21,21,20,19,20,19]
["2023-03-01",{"$f":"VLOOKUP(J1918,'Control Panel'!$G$132:$K$171,5,FALSE)","v":"WF-4"},"WF",null,null,null,null,null,null,"F86696",null,7132,32,25,22,27,23,null,21,19,17,17,17,17,21,18,17,14,17,13]
["2023-03-01",{"$f":"VLOOKUP(J1919,'Control Panel'!$G$132:$K$171,5,FALSE)","v":"WF-1"},"WF",null,null,null,null,null,null,"F86700",null,3845,10,7,6,9,7,null,11,9,8,8,8,8,10,9,9,9,9,9]
["2023-03-01",{"$f":"VLOOKUP(J1920,'Control Panel'!$G$132:$K$171,5,FALSE)","v":"WF-5"},"WF",null,null,null,null,null,null,"F86701",null,4010,8,6,5,5,6,null,11,10,8,8,9,9,7,7,7,7,7,7]
["2023-03-01",{"$f":"VLOOKUP(J1921,'Control Panel'!$G$132:$K$171,5,FALSE)","v":"WF-5"},"WF",null,null,null,null,null,null,"F86705",null,3447,14,14,14,14,14,null,5,5,5,3,4,3,8,6,6,6,6,6]
["2023-03-01",{"$f":"VLOOKUP(J1922,'Control Panel'!$G$132:$K$171,5,FALSE)","v":"WF-6"},"WF",null,null,null,null,null,null,"F86708",null,2843,5,4,4,4,4,null,7,6,6,5,6,5,7,6,6,5,5,5]
["2023-03-01",{"$f":"VLOOKUP(J1923,'Control Panel'!$G$132:$K$171,5,FALSE)","v":"WF-4"},"WF",null,null,null,null,null,null,"F86712",null,3433,10,10,9,10,10,null,8,6,6,6,6,6,11,8,8,8,7,7]
["2023-03-01",{"$f":"VLOOKUP(J1924,'Control Panel'!$G$132:$K$171,5,FALSE)","v":"WF-2"},"WF",null,null,null,null,null,null,"Y01291",null,9699,32,31,31,31,29,null,27,25,24,24,24,24,32,29,28,28,27,28]
["2023-03-01",{"$f":"VLOOKUP(J1925,'Control Panel'!$G$132:$K$171,5,FALSE)","v":"WF-1"},"WF",null,null,null,null,null,null,"Y01839",null,6601,17,16,16,17,16,null,20,19,19,19,19,19,20,18,16,14,16,14]
["2023-03-01",{"$f":"VLOOKUP(J1926,'Control Panel'!$G$132:$K$171,5,FALSE)","v":"WF-2"},"WF",null,null,null,null,null,null,"F86004",null,16038,29,27,24,27,27,null,53,52,48,50,50,52,47,44,44,40,42,42]
["2023-03-01",{"$f":"VLOOKUP(J1927,'Control Panel'!$G$132:$K$171,5,FALSE)","v":"WF-4"},"WF",null,null,null,null,null,null,"F86018",null,9800,32,28,29,30,30,null,16,15,13,14,13,15,33,27,27,19,25,22]
["2023-03-01",{"$f":"VLOOKUP(J1928,'Control Panel'!$G$132:$K$171,5,FALSE)","v":"WF-1"},"WF",null,null,null,null,null,null,"F86026",null,7118,20,18,19,19,19,null,18,16,15,14,14,16,17,12,16,14,16,14]
["2023-03-01",{"$f":"VLOOKUP(J1929,'Control Panel'!$G$132:$K$171,5,FALSE)","v":"WF-3"},"WF",null,null,null,null,null,null,"F86074",null,15073,39,36,37,38,34,null,36,32,33,31,32,32,40,29,36,34,35,33]
["2023-03-01",{"$f":"VLOOKUP(J1930,'Control Panel'!$G$132:$K$171,5,FALSE)","v":"WF-1"},"WF",null,null,null,null,null,null,"F86638",null,4981,11,11,11,11,10,null,18,14,12,13,12,14,18,16,15,13,15,13]
["2023-03-01",{"$f":"VLOOKUP(J1931,'Control Panel'!$G$132:$K$171,5,FALSE)","v":{"$error":"#N/A"}},"WF",null,null,null,null,null,null,"total",null,{"$f":"SUM(L1892:L1930)","v":325447},{"$f":"SUM(M1892:M1930)","v":916},812,795,847,801,0,939,833,796,792,794,799,867,767,767,686,751,689]

{"sheet":"01072021","index":10,"n_rows":92,"n_cols":19,"rows_kept":92,"cut":false,"hidden":true,"merged":[]}
["Registered practice ID","(01)_12_MONTH_COHORT_(CEG_Dashboards___COVER_Audit_Child_Imms).csv","(01.01)_DTaP_IPV_Hib_HepB_(CEG_Dashboards___COVER_Audit_Child_Imms).csv","(01.02)_Men_B_(1st_and_2nd)_(CEG_Dashboards___COVER_Audit_Child_Imms).csv","(01.03)_PCV_(CEG_Dashboards___COVER_Audit_Child_Imms).csv","(01.04)_Rotavirus_(CEG_Dashboards___COVER_Audit_Child_Imms).csv","(02)_24_MONTH_COHORT_(CEG_Dashboards___COVER_Audit_Child_Imms).csv","(02.01)_DTaP_IPV_Hib_HepB_(CEG_Dashboards___COVER_Audit_Child_Imms).csv","(02.02)_MMR_(CEG_Dashboards___COVER_Audit_Child_Imms).csv","(02.03)_HiB_Men_C_(CEG_Dashboards___COVER_Audit_Child_Imms).csv","(02.04)_PCV_(Booster)_(CEG_Dashboards___COVER_Audit_Child_Imms).csv","(02.05)_Men_B_(Booster)_(CEG_Dashboards___COVER_Audit_Child_Imms).csv","(03)_5_YEAR_COHORT_(CEG_Dashboards___COVER_Audit_Child_Imms).csv","(03.01)_DTaP_IPV_Hib_or_DTaP_IPV_Hib_HepB_(CEG_Dashboards___COVER_Audit_Child_Imms).csv","(03.02)_MMR_(Primary)_(CEG_Dashboards___COVER_Audit_Child_Imms).csv","(03.03)_DTaP_IPV_(Booster)_(CEG_Dashboards___COVER_Audit_Child_Imms).csv","(03.04)_HiB_Men_C_(CEG_Dashboards___COVER_Audit_Child_Imms).csv","(03.05)_MMR_(Booster)_(CEG_Dashboards___COVER_Audit_Child_Imms).csv","listsize_(CEG_Dashboards___COVER_Audit_Child_Imms).csv"]
["A83020",null,null,null,null,null,null,null,null,null,null,null,null,null,null,null,null,null,1]
["A83635",null,null,null,null,null,null,null,null,null,null,null,null,null,null,null,null,null,1]
["C84023",null,null,null,null,null,null,null,null,null,null,null,null,null,null,null,null,null,1]
["D81054",null,null,null,null,null,null,null,null,null,null,null,null,null,null,null,null,null,1]
["D82008",null,null,null,null,null,null,null,null,null,null,null,null,null,null,null,null,null,1]
["D83021",null,null,null,null,null,null,null,null,null,null,null,null,null,null,null,null,null,3]
["E81014",null,null,null,null,null,null,null,null,null,null,null,null,null,null,null,null,null,1]
["E81027",null,null,null,null,null,null,null,null,null,null,null,null,null,null,null,null,null,1]
["E81064",null,null,null,null,null,null,null,null,null,null,null,null,null,null,null,null,null,1]
["E82014",null,null,null,null,null,null,null,null,null,null,null,null,null,null,null,null,null,1]
["E82068",null,null,null,null,null,null,null,null,null,null,null,null,null,null,null,null,null,1]
["E82100",null,null,null,null,null,null,null,null,null,null,null,null,null,null,null,null,null,1]
["E83003",null,null,null,null,null,null,null,null,null,null,null,null,null,null,null,null,null,1]
["E83017",null,null,null,null,null,null,null,null,null,null,null,null,null,null,null,null,null,1]
["E83045",null,null,null,null,null,null,null,null,null,null,null,null,null,null,null,null,null,1]
["E84066",null,null,null,null,null,null,null,null,null,null,null,null,null,null,null,null,null,2]
["E85033",null,null,null,null,null,null,null,null,null,null,null,null,null,null,null,null,null,1]
["E86014",null,null,null,null,null,null,null,null,null,null,null,null,null,null,null,null,null,1]
["E86028",null,null,null,null,null,null,null,null,null,null,null,null,null,null,null,null,null,1]
["E87754",null,null,null,null,null,null,null,null,null,null,null,null,null,null,null,null,null,1]
["F81115",null,null,null,null,null,null,null,null,null,null,null,null,null,null,null,null,null,1]
["F81118",null,null,null,null,null,null,null,null,null,null,null,null,null,null,null,null,null,2]
["F81122",null,null,null,null,null,null,null,null,null,null,null,null,null,null,null,null,null,1]
["F81144",null,null,null,null,null,null,null,null,null,null,null,null,null,null,null,null,null,1]
["F81218",null,null,null,null,null,null,null,null,null,null,null,null,null,null,null,null,null,2]
["F82011",null,null,null,null,null,null,null,null,null,null,null,null,null,null,null,null,null,1]
["F82680",null,null,null,null,null,1,null,null,null,null,null,null,null,null,null,null,null,128]
["F83004",null,null,null,null,null,null,null,null,null,null,null,null,null,null,null,null,null,2]
["F83017",null,null,null,null,null,null,null,null,null,null,null,null,null,null,null,null,null,1]
["F84025",null,null,null,null,null,null,null,null,null,null,null,1,null,1,1,1,1,1]
["F84053",null,null,null,null,null,null,null,null,null,null,null,null,null,null,null,null,null,1]
["F84072",null,null,null,null,null,null,null,null,null,null,null,null,null,null,null,null,null,1]
["F84080",null,null,null,null,null,null,null,null,null,null,null,null,null,null,null,null,null,1]
["F84086",null,null,null,null,null,null,null,null,null,null,null,null,null,null,null,null,null,1]
["F84111",null,null,null,null,null,null,null,null,null,null,null,null,null,null,null,null,null,1]
["F84119",null,null,null,null,null,null,null,null,null,null,null,null,null,null,null,null,null,1]
["F84621",null,null,null,null,null,null,null,null,null,null,null,null,null,null,null,null,null,1]
["F84647",null,null,null,null,null,null,null,null,null,null,null,null,null,null,null,null,null,1]
["F84735",null,null,null,null,null,null,null,null,null,null,null,null,null,null,null,null,null,1]
["F84747",null,null,null,null,null,null,null,null,null,null,null,null,null,null,null,null,null,1]
["F85039",null,null,null,null,null,null,null,null,null,null,null,null,null,null,null,null,null,1]
["F85700",null,null,null,null,null,null,null,null,null,null,null,null,null,null,null,null,null,3]
["F85701",null,null,null,null,null,null,null,null,null,null,null,null,null,null,null,null,null,1]
["F86004",29,27,24,27,27,53,52,48,50,50,52,47,44,44,40,42,42,16038]
["F86006",null,null,null,null,null,null,null,null,null,null,null,null,null,null,null,null,null,1]
["F86011",null,null,null,null,null,null,null,null,null,null,null,null,null,null,null,null,null,1]
["F86013",1,null,null,null,null,null,null,null,null,null,null,null,null,null,null,null,null,348]
["F86018",32,28,29,30,30,16,15,13,14,13,15,33,27,27,19,25,22,9800]
["F86023",null,null,null,null,null,null,null,null,null,null,null,null,null,null,null,null,null,1]
["F86025",null,null,null,null,null,null,null,null,null,null,null,null,null,null,null,null,null,215]
["F86026",20,18,19,19,19,18,16,15,14,14,16,17,12,16,14,16,14,7118]
["F86028",null,null,null,null,null,null,null,null,null,null,null,null,null,null,null,null,null,1]
["F86030",null,null,null,null,null,null,null,null,null,null,null,null,null,null,null,null,null,1]
["F86034",null,null,null,null,null,null,null,null,null,null,null,null,null,null,null,null,null,2]
["F86036",null,null,null,null,null,null,null,null,null,null,null,null,null,null,null,null,null,1]
["F86044",null,null,null,null,null,null,null,null,null,null,null,null,null,null,null,null,null,1]
["F86045",null,null,null,null,null,null,null,null,null,null,null,null,null,null,null,null,null,1]
["F86062",null,null,null,null,null,null,null,null,null,null,null,null,null,null,null,null,null,1]
["F86074",39,36,37,38,34,36,32,33,31,32,32,40,29,36,34,35,33,15073]
["F86082",null,null,null,null,null,null,null,null,null,null,null,null,null,null,null,null,null,65]
["F86616",null,null,null,null,null,null,null,null,null,null,null,null,null,null,null,null,null,2]
["F86638",11,11,11,11,10,18,14,12,13,12,14,18,16,15,13,15,13,4981]
["F86657",null,null,null,null,null,null,null,null,null,null,null,null,null,null,null,null,null,114]
["F86691",null,null,null,null,null,null,null,null,null,null,null,null,null,null,null,null,null,4]
["F86700",null,null,null,null,null,null,null,null,null,null,null,null,null,null,null,null,null,1]
["F86701",null,null,null,null,null,null,null,null,null,null,null,null,null,null,null,null,null,1]
["F86707",null,null,null,null,null,null,null,null,null,null,null,null,null,null,null,null,null,1]
["G82741",null,null,null,null,null,null,null,null,null,null,null,null,null,null,null,null,null,1]
["G83062",null,null,null,null,null,null,null,null,null,null,null,null,null,null,null,null,null,1]
["G85085",null,null,null,null,null,null,null,null,null,null,null,null,null,null,null,null,null,1]
["G85087",null,null,null,null,null,null,null,null,null,null,null,null,null,null,null,null,null,1]
["G85096",null,null,null,null,null,null,null,null,null,null,null,null,null,null,null,null,null,1]
["G85136",null,null,null,null,null,null,null,null,null,null,null,null,null,null,null,null,null,1]
["H83015",null,null,null,null,null,null,null,null,null,null,null,null,null,null,null,null,null,1]
["H83021",null,null,null,null,null,null,null,null,null,null,null,null,null,null,null,null,null,1]
["H84062",null,null,null,null,null,null,null,null,null,null,null,null,null,null,null,null,null,1]
["H85103",null,null,null,null,null,null,null,null,null,null,null,null,null,null,null,null,null,1]
["J81076",null,null,null,null,null,null,null,null,null,null,null,null,null,null,null,null,null,1]
["K81081",null,null,null,null,null,null,null,null,null,null,null,null,null,null,null,null,null,1]
["M88004",null,null,null,null,null,null,null,null,null,null,null,null,null,null,null,null,null,1]
["P81002",null,null,null,null,null,null,null,null,null,null,null,null,null,null,null,null,null,1]
["P84023",null,null,null,null,null,null,null,null,null,null,null,null,null,null,null,null,null,1]
["Unknown",1,null,null,null,null,null,null,null,null,null,null,null,null,null,null,null,null,46]
["Y00155",null,null,null,null,null,null,null,null,null,null,null,1,null,null,null,null,null,211]
["Y00403",null,null,null,null,null,null,null,null,null,null,null,null,null,null,null,null,null,1]
["Y01795",null,null,null,null,null,null,null,null,null,null,null,null,null,null,null,null,null,2]
["Y01839",null,null,null,null,null,null,null,null,null,null,null,null,null,null,null,null,null,1]
["Y02575",null,null,null,null,null,null,null,null,null,null,null,null,null,null,null,null,null,3]
["Y02987",null,null,null,null,null,null,null,null,null,null,null,null,null,null,null,null,null,3]
["Y03049",null,null,null,null,null,null,null,null,null,null,null,null,null,null,null,null,null,1]
["Y06592",null,null,null,null,null,null,null,null,null,null,null,null,null,null,null,null,null,4]

{"sheet":"Sheet2","index":11,"n_rows":270,"n_cols":18,"rows_kept":270,"cut":false,"hidden":true,"merged":[]}
["Status","Practice ID","Practice","Locality ID","Locality","SubLocality ID","SubLocality","PCN/Network","PCN code","Clinical System","Address 1","Address 2","Postcode","Grid Reference","X (easting)","Y (northing)","Latitude","Longitude"]
["Active","F82005","Church Elm Lane Medical Practice","BK","Barking and Dagenham","BK-1","East","Network East","U86967","EMISweb","Church Elm Lane","Dagenham","RM10 9RR","TQ 49667 84556",549667,184556,51.540066000000003,0.15673988]
["Active","Y01719","Broad Street Medical Centre","BK","Barking and Dagenham","BK-1","East","Network East","U86968","EMISweb","Broad Street Resource Centre","Dagenham","RM10 9HU","TQ 49367 83962",549367,183962,51.534807999999998,0.15216547999999999]
["Active","Y02575","Porters Avenue Doctors Surgery","BK","Barking and Dagenham","BK-1","East","Network East","U86969","EMISweb","234 Porters Avenue","Dagenham","RM8 2EQ","TQ 47283 85077",547283,185077,51.545372999999998,0.12260706]
["Active","F82003","First Avenue Surgery","BK","Barking and Dagenham","BK-2","East One","Network East One","U27362","EMISweb","2 First Avenue","Dagenham","RM10 9AT","TQ 49762 83388",549762,183388,51.529546000000003,0.15761231000000001]
["Active","F82015","Hedgemans Surgery","BK","Barking and Dagenham","BK-2","East One","Network East One","U27362","EMISweb","92 Hedgemans Road","Dagenham","RM9 6HT","TQ 48734 84495",548734,184495,51.539763999999998,0.14327081999999999]
["Active","F82017","St Albans Surgery ","BK","Barking and Dagenham","BK-2","East One","Network East One","U27362","EMISweb","Urswick Road","Dagenham","RM9 6EA","TQ 48052 84181",548052,184181,51.537121999999997,0.13331214999999999]
["Active","F82621","The Dewey Practice","BK","Barking and Dagenham","BK-2","East One","Network East One","U27362","EMISweb","281 Oxlow Lane","Dagenham","RM10 7YU","TQ 50141 84824",550141,184824,51.542347999999997,0.16368373999999999]
["Active","F82634","Heathway Medical Centre","BK","Barking and Dagenham","BK-2","East One","Network East One","U27362","EMISweb","Morland Road ","Dagenham","RM10 9HU","TQ 49367 83962",549367,183962,51.534807999999998,0.15216547999999999]
["Active","F82678","Dr Alkaisy Surgery ","BK","Barking and Dagenham","BK-2","East One","Network East One","U27362","EMISweb","Urswick Road","Dagenham","RM9 6EA","TQ 48052 84181",548052,184181,51.537121999999997,0.13331214999999999]
["Active","F82679","Parkview Medical Practice","BK","Barking and Dagenham","BK-2","East One","Network East One","U27362","EMISweb","199 Reede Road","Dagenham","RM10 8EJ","TQ 49877 85126",549877,185126,51.545130999999998,0.16000821000000001]
["Active","F82034","Victoria Medical Centre","BK","Barking and Dagenham","BK-3","New West","Network New West","U26744","EMISweb","1 Queens Road","Barking","IG11 8GD","TQ 44085 84494",544085,184494,51.540959999999998,7.6282445000000004E-2]
["Active","F82042","Aurora Medcare","BK","Barking and Dagenham","BK-3","New West","Network New West","U26744","EMISweb","1 King Edwards Road","Barking","IG11 7TB","TQ 44643 83708",544643,183708,51.533754999999999,8.4000310999999994E-2]
["Active","F82625","Abbey Medical centre","BK","Barking and Dagenham","BK-3","New West","Network New West","U26744","EMISweb","1 Harpour Road","Barking","IG11 8RJ","TQ 44215 84642",544215,184642,51.542256000000002,7.8216283999999997E-2]
["Active","Y01280","Shifa Medical Practice","BK","Barking and Dagenham","BK-3","New West","Network New West","U26744","EMISweb","Gasgoine Road","Barking","IG11 7RS","TQ 44478 83438",544478,183438,51.531371,8.1512427999999998E-2]
["Active","F82001","Halbutt Street Surgery","BK","Barking and Dagenham","BK-4","West One","Network West One","U11211","EMISweb","2 Halbutt Street","Dagenham","RM9 5AS","TQ 48956 85305",548956,185305,51.546982999999997,0.14681208000000001]
["Active","F82018","Barking Medical  Group Practice","BK","Barking and Dagenham","BK-4","West One","Network West One","U11211","EMISweb","130 Upney lane","Barking","IG11 9LT","TQ 45536 84574",545536,184574,51.541307000000003,9.7223614999999999E-2]
["Active","F82040","John Smith House","BK","Barking and Dagenham","BK-4","West One","Network West One","U11211","EMISweb","145-207 Bevan Avenue","Barking","IG11 9NS","TQ 46496 84245",546496,184245,51.538102000000002,0.11091985]
["Active","F82612","The White House","BK","Barking and Dagenham","BK-4","West One","Network West One","U11211","EMISweb","12 Movers Lane","Barking","IG11 7UN","TQ 44930 83744",544930,183744,51.534005000000001,8.8149991999999996E-2]
["Active","F82647","Dr Gupta & Partner","BK","Barking and Dagenham","BK-4","West One","Network West One","U11211","EMISweb","7 Salisbury Avenue","Barking","IG11 9XQ","TQ 44605 84272",544605,184272,51.538831999999999,8.3684289999999995E-2]
["Active","F82650","Ripple Road Medical Centre","BK","Barking and Dagenham","BK-4","West One","Network West One","U11211","EMISweb","343 Ripple Road","Barking","IG11 7RJ","TQ 45217 83938",545217,183938,51.535674,9.2364823999999998E-2]
["Active","F82680","Highgrove Surgery","BK","Barking and Dagenham","BK-4","West One","Network West One","U11211","SystmOne","Upney Lane ","Barking","IG11 9LX","TQ 45644 84306",545644,184306,51.538871,9.8669044999999997E-2]
["Active","F82027","Faircross Health Centre","BK","Barking and Dagenham","BK-5","North","Network North","U55387","EMISweb","51 Upney Lane","Barking","IG11 9LP","TQ 45367 84850",545367,184850,51.54383,9.4902305000000006E-2]
["Active","F82012","Five Elms","BK","Barking and Dagenham","BK-5","North","Network North","U55387","EMISweb","Five Elms Road","Dagenham","RM9 5TT","TQ 48622 86004",548622,186004,51.553351999999997,0.14229391]
["Active","F82025","Julia Engwell Surgery","BK","Barking and Dagenham","BK-5","North","Network North","U55387","EMISweb","Woodward Road","Dagenham","RM9 4SR","TQ 47520 84362",547520,184362,51.538887000000003,0.12572291999999999]
["Active","F82051","Laburnum Health centre","BK","Barking and Dagenham","BK-5","North","Network North","U55387","EMISweb","11 Althorne Way","Dagenham","RM10 7DF","TQ 49234 86817",549234,186817,51.560495000000003,0.15145929999999999]
["Active","F82642","Gables Surgery","BK","Barking and Dagenham","BK-5","North","Network North","U55387","EMISweb","Markyate Road","Dagenham","RM8 2LD","TQ 46953 85105",546953,185105,51.545710999999997,0.11786323999999999]
["Active","F82661","Green Lane Surgery","BK","Barking and Dagenham","BK-5","North","Network North","U55387","EMISweb","872 Green Lane","Dagenham","RM8 1BX","TQ 48005 86869",548005,186869,51.561286000000003,0.13376487000000001]
["Active","F86040","The Surgery","BK","Barking and Dagenham","BK-5","North","Network North","U55387","EMISweb","620 Longbridge Road","Dagenham","RM8 2AJ","TQ 46755 85732",546755,185732,51.551395999999997,0.11527123]
["Active","Y01795","The Oval Practice","BK","Barking and Dagenham","BK-5","North","Network North","U55388","EMISweb","69 Oval Road North","Dagenham","RM10 9ET","TQ 49697 83763",549697,183763,51.532933,0.15683522999999999]
["Active","F82038","Valence Medical Centre","BK","Barking and Dagenham","BK-5","North","Network North","U55389","EMISweb","563 Valence Avenue","Dagenham","RM8 3RH","TQ 47822 85951",547822,185951,51.553086,0.13074125]
["Active","F82604","Marks Gate Medical Practice","BK","Barking and Dagenham","BK-6","Central","Network Central","U92874","EMISweb","Lawn Farm Grove","Dagenham","RM6 5LL","TQ 48155 89472",548155,189472,51.584634999999999,0.13702396999999999]
["Active","F82660","Tulasi Medical Centre","BK","Barking and Dagenham","BK-6","Central","Network Central","U92874","EMISweb","10 Bennetts Castle Lane","Dagenham","RM8 3XU","TQ 47363 86819",547363,186819,51.561005000000002,0.12448914]
["Active","F82677","Becontree Medical Centre","BK","Barking and Dagenham","BK-6","Central","Network Central","U92874","EMISweb","645 Becontree Avenue","Dagenham","RM8 3HP","TQ 48516 86671",548516,186671,51.559373000000001,0.1410476]
["Active","F84013","Stamford Hill Surgery ","CH","City & Hackney","CH-NE1","Springfield Park (NE1)","Springfield Park (NE1)","U89154","EMISweb","2 Egerton Road","Stamford Hill","N16 6UA","TQ 33741 87885",533741,187885,51.573976000000002,-7.1492951999999999E-2]
["Active","F84686","Cranwich Road Surgery ","CH","City & Hackney","CH-NE1","Springfield Park (NE1)","Springfield Park (NE1)","U89154","EMISweb","62 Cranwich Road",null,"N16 5JF","TQ 33045 87827",533045,187827,51.573619000000001,-8.1552204000000003E-2]
["Active","Y03049","Spring Hill Practice","CH","City & Hackney","CH-NE1","Springfield Park (NE1)","Springfield Park (NE1)","U89154","EMISweb","19-21 Oldhill Street",null,"N16 6LU","TQ 34202 87381",534202,187381,51.569336999999997,-6.5037069000000003E-2]
["Active","F84018","The Nightingale Practice","CH","City & Hackney","CH-NE2","Hackney Downs (NE2)","Hackney Downs (NE2)","U21268","EMISweb","10 Kenninghall Rd","Clapton","E5 8BY","TQ 34412 86145",534412,186145,51.55818,-6.2481117000000003E-2]
["Active","F84080","The Gadvhi Practice","CH","City & Hackney","CH-NE2","Hackney Downs (NE2)","Hackney Downs (NE2)","U21268","EMISweb","1a Fountayne Road",null,"N16 7EA","TQ 34209 86834",534209,186834,51.564419999999998,-6.5144830000000001E-2]
["Active","F84619","The Riverside Practice","CH","City & Hackney","CH-NE2","Hackney Downs (NE2)","Hackney Downs (NE2)","U21268","EMISweb","14 Urban Hive, Theydon Rd",null,"E5 9BQ","TQ 35164 86953",535164,186953,51.565261999999997,-5.1329751999999999E-2]
["Active","F84668","Clapton Surgery","CH","City & Hackney","CH-NE2","Hackney Downs (NE2)","Hackney Downs (NE2)","U21268","EMISweb","14 Theydon Road",null,"E5 9BQ","TQ 35164 86953",535164,186953,51.565261999999997,-5.1329751999999999E-2]
["Active","F84685","Elm Practice","CH","City & Hackney","CH-NE2","Hackney Downs (NE2)","Hackney Downs (NE2)","U21268","EMISweb","1a Fountayne Road",null,"N16 7EA","TQ 34209 86834",534209,186834,51.564419999999998,-6.5144830000000001E-2]
["Active","F84711","Rosewood Practice","CH","City & Hackney","CH-NE2","Hackney Downs (NE2)","Hackney Downs (NE2)","U21268","EMISweb","1a Fountayne Road",null,"N16 7EA","TQ 34209 86834",534209,186834,51.564419999999998,-6.5144830000000001E-2]
["Active","F84720","Healy Medical Centre","CH","City & Hackney","CH-NE2","Hackney Downs (NE2)","Hackney Downs (NE2)","U21268","EMISweb","200 Upper Clapton Road",null,"E5 9HD","TQ 35028 87268",535028,187268,51.568125000000002,-5.3169741999999999E-2]
["Active","F84036","Cedar Practice ","CH","City & Hackney","CH-NW1","Woodberry Wetlands (NW1)","Woodberry Wetlands (NW1)","U46293","EMISweb","John Scott Health Centre","Green Lanes","N4 2NU","TQ 32221 87203",532221,187203,51.568204999999999,-9.3670042999999995E-2]
["Active","F84115","Statham Grove Surgery","CH","City & Hackney","CH-NW1","Woodberry Wetlands (NW1)","Woodberry Wetlands (NW1)","U46293","EMISweb","Statham Grove",null,"N16 9DP","TQ 32544 86016",532544,186016,51.557462999999998,-8.9459644000000005E-2]
["Active","F84119","The Heron Practice","CH","City & Hackney","CH-NW1","Woodberry Wetlands (NW1)","Woodberry Wetlands (NW1)","U46293","EMISweb","John Scott Health Centre","Green Lanes","N4 2NU","TQ 32221 87203",532221,187203,51.568204999999999,-9.3670042999999995E-2]
["Active","F84716","Allerton Road Medical Centre","CH","City & Hackney","CH-NW1","Woodberry Wetlands (NW1)","Woodberry Wetlands (NW1)","U46293","EMISweb","34a Allerton Road",null,"N16 5UF","TQ 32456 86933",532456,186933,51.565724000000003,-9.0383086000000001E-2]
["Active","F84008","Barton House Health Centre","CH","City & Hackney","CH-NW2","Clissold Park (NW2)","Clissold Park (NW2)","U51492","EMISweb","233 Albion Road","Stoke Newington","N16 9JT","TQ 32926 86369",532926,186369,51.560544999999998,-8.3819307999999995E-2]
["Active","F84033","Somerford Grove Practice","CH","City & Hackney","CH-NW2","Clissold Park (NW2)","Clissold Park (NW2)","U51492","EMISweb","Somerford Grove",null,"N16 7UA","TQ 33722 85639",533722,185639,51.553797000000003,-7.2620630000000005E-2]
["Active","F84636","Barretts Grove Surgery","CH","City & Hackney","CH-NW2","Clissold Park (NW2)","Clissold Park (NW2)","U51492","EMISweb","6 Barretts Grove",null,"N16 8AR","TQ 33334 85451",533334,185451,51.552199999999999,-7.8284858999999998E-2]
["Active","F84694","Brooke Road Surgery","CH","City & Hackney","CH-NW2","Clissold Park (NW2)","Clissold Park (NW2)","U51492","EMISweb","40-42 Brooke Road",null,"N16 7LR","TQ 33833 86338",533833,186338,51.560051999999999,-7.0754775000000006E-2]
["Active","F84003","Lower Clapton Group Practice","CH","City & Hackney","CH-SE1","Hackney Marshes (SE1)","Hackney Marshes (SE1)","U05451","EMISweb","36 Lower Clapton Road",null,"E5 0PD","TQ 35145 85320",535145,185320,51.550592000000002,-5.2230775E-2]
["Active","F84015","Kingsmead Healthcare","CH","City & Hackney","CH-SE1","Hackney Marshes (SE1)","Hackney Marshes (SE1)","U05451","EMISweb","4 Kingsmead Way",null,"E9 5QG","TQ 36351 85487",536351,185487,51.551803,-3.4783215999999999E-2]
["Active","F84060","Athena Medical Centre","CH","City & Hackney","CH-SE1","Hackney Marshes (SE1)","Hackney Marshes (SE1)","U05451","EMISweb","21 Atherden Road","Clapton","E5 0QP","TQ 35057 85799",535057,185799,51.554917000000003,-5.3315426999999999E-2]
["Active","F84105","The Lea Surgery","CH","City & Hackney","CH-SE1","Hackney Marshes (SE1)","Hackney Marshes (SE1)","U05451","EMISweb","186 Homerton High Street",null,"E9 6AG","TQ 35784 85079",535784,185079,51.548273000000002,-4.311334E-2]
["Active","F84719","Latimer Health Centre","CH","City & Hackney","CH-SE1","Hackney Marshes (SE1)","Hackney Marshes (SE1)","U05451","EMISweb","4 Homerton Terrace",null,"E9 6RT","TQ 35346 84880",535346,184880,51.546590000000002,-4.9502727000000003E-2]
["Active","F84069","The Well Street Surgery","CH","City & Hackney","CH-SE2","Well Street Common (SE2)","Well Street Common (SE2)","U58256","EMISweb","28 Shore Road",null,"E9 7TA","TQ 35138 84055",535138,184055,51.539225999999999,-5.2817041000000002E-2]
["Active","F84601","Elsdale Street Surgery ","CH","City & Hackney","CH-SE2","Well Street Common (SE2)","Well Street Common (SE2)","U58256","EMISweb","28 Elsdale Street",null,"E9 6QY","TQ 35380 84483",535380,184483,51.543013999999999,-4.9165300000000002E-2]
["Active","F84620","The Wick Health Centre","CH","City & Hackney","CH-SE2","Well Street Common (SE2)","Well Street Common (SE2)","U58256","EMISweb","200 Wick Rd",null,"E9 5AN","TQ 36085 84711",536085,184711,51.544893999999999,-3.8917245000000003E-2]
["Active","F84632","The Greenhouse","CH","City & Hackney","CH-SE2","Well Street Common (SE2)","Well Street Common (SE2)","U58256","EMISweb","19 Tudor Road",null,"E9 7SN","TQ 34985 83975",534985,183975,51.538544000000002,-5.5052455E-2]
["Active","Y00403","Trowbridge Surgery ","CH","City & Hackney","CH-SE2","Well Street Common (SE2)","Well Street Common (SE2)","U58256","EMISweb","18 Merriam Avenue",null,"E9 5NE","TQ 36747 84792",536747,184792,51.545462000000001,-2.9345178999999999E-2]
["Active","F84021","London Fields Medical Centre","CH","City & Hackney","CH-SW1","London Fields (SW1)","London Fields (SW1)","U40100","EMISweb","38-44 Broadway Market",null,"E8 4QJ","TQ 34536 83745",534536,183745,51.536583999999998,-6.1610386000000003E-2]
["Active","F84035","Richmond Road Medical Centre","CH","City & Hackney","CH-SW1","London Fields (SW1)","London Fields (SW1)","U40100","EMISweb","136 Richmond Road",null,"E8 3HN","TQ 34245 84457",534245,184457,51.543050999999998,-6.5532240000000005E-2]
["Active","F84038","Beechwood Medical Centre","CH","City & Hackney","CH-SW1","London Fields (SW1)","London Fields (SW1)","U40100","EMISweb","86-86a Dalston Lane",null,"E8 3AH","TQ 33890 84780",533890,184780,51.546038000000003,-7.0525556000000003E-2]
["Active","F84063","Dalston Practice","CH","City & Hackney","CH-SW1","London Fields (SW1)","London Fields (SW1)","U40100","EMISweb","1b Madinah Road",null,"E8 1PG","TQ 34111 84978",534111,184978,51.547764999999998,-6.7264995999999994E-2]
["Active","F84117","Queensbridge Group Practice","CH","City & Hackney","CH-SW1","London Fields (SW1)","London Fields (SW1)","U40100","EMISweb","24, Holly Street",null,"E8 3XP","TQ 33838 84271",533838,184271,51.541476000000003,-7.1468413999999994E-2]
["Active","F84621","The Sandringham Practice","CH","City & Hackney","CH-SW1","London Fields (SW1)","London Fields (SW1)","U40100","EMISweb","1a Madinah Road",null,"E8 1PG","TQ 34111 84978",534111,184978,51.547764999999998,-6.7264995999999994E-2]
["Active","F84640","The Neaman Practice","CH","City & Hackney","CH-SW2","Shoreditch Park & City (SW2)","Shoreditch Park & City (SW2)","U07169","EMISweb","15 Half Moon Court",null,"EC1A 7HF","TQ 32048 81725",532048,181725,51.519018000000003,-9.8218282000000004E-2]
["Active","F84072","De Beauvoir Surgery","CH","City & Hackney","CH-SW2","Shoreditch Park & City (SW2)","Shoreditch Park & City (SW2)","U07169","EMISweb","30 Hertford Road",null,"N1 5QT","TQ 33377 83922",533377,183922,51.538449,-7.8244064000000002E-2]
["Active","F84096","The Lawson Practice","CH","City & Hackney","CH-SW2","Shoreditch Park & City (SW2)","Shoreditch Park & City (SW2)","U07169","EMISweb","St Leonard's Hospital, Nuttall St","Nuttall Street","N1 5HZ","TQ 33302 83395",533302,183395,51.533731000000003,-7.9524182999999998E-2]
["Active","F84635","Shoreditch Park Surgery","CH","City & Hackney","CH-SW2","Shoreditch Park & City (SW2)","Shoreditch Park & City (SW2)","U07169","EMISweb","10 Rushton Street",null,"N1 5DR","TQ 32796 83359",532796,183359,51.533526999999999,-8.6828572000000007E-2]
["Active","F84692","The Hoxton Surgery","CH","City & Hackney","CH-SW2","Shoreditch Park & City (SW2)","Shoreditch Park & City (SW2)","U07169","EMISweb","12 Rushton Street",null,"N1 5DR","TQ 32796 83359",532796,183359,51.533526999999999,-8.6828572000000007E-2]
["Active","F82011","St Edwards Surgery","HV","Havering","HV-1","Havering Crest","Havering Crest Network","U29424","EMISweb","7 St Edwards Way","Romford","RM1 3DQ","TQ 51307 89056",551307,189056,51.580061000000001,0.18230462]
["Active","F82019","Chadwell Heath Health Centre - The Upstairs Surgery (Dr Hamilton-Smith)","HV","Havering","HV-1","Havering Crest","Havering Crest Network","U29424","EMISweb","Ashton Garden","Chadwell Heath","RM6 6RT","TQ 48405 88264",548405,188264,51.573715,0.14011965000000001]
["Active","F82638","The Modern Medical Centre","HV","Havering","HV-1","Havering Crest","Havering Crest Network","U29424","EMISweb","195 Rush Green Road","Rush Green","RM7 0PX","TQ 51030 87418",551030,187418,51.565418000000001,0.17760643000000001]
["Active","F82039","Rush Green Medical Centre (Dr Poologanathan & Partners)","HV","Havering","HV-1","Havering Crest","Havering Crest Network","U29424","EMISweb","261 Dagenham Road","Rush Green","RM7 0XR","TQ 50932 86893",550932,186893,51.560727,0.1759684]
["Active","F82031","Rush Green Medical Centre (Dr Sanomi)","HV","Havering","HV-1","Havering Crest","Havering Crest Network","U29424","EMISweb","261 Dagenham Road","Rush Green","RM7 0XR","TQ 50932 86893",550932,186893,51.560727,0.1759684]
["Active","F82023","High Street Surgery (Dr Pervez)","HV","Havering","HV-1","Havering Crest","Havering Crest Network","U29424","EMISweb","219 High Street","Hornchurch","RM11 3XT","TQ 54233 87089",554233,187089,51.561596000000002,0.22363675]
["Active","F82675","Billet Lane Medical Centre","HV","Havering","HV-1","Havering Crest","Havering Crest Network","U29424","EMISweb","58b Billet Lane","Hornchurch","RM11 1XA","TQ 53895 87670",553895,187670,51.566907999999998,0.21901872]
["Active","F82663","Brentwood Road Surgery (Dr Marks)","HV","Havering","HV-1","Havering Crest","Havering Crest Network","U29424","EMISweb","107 Brentwood Road","Romford","RM1 2SB","TQ 52030 88243",552030,188243,51.572561999999998,0.19237934000000001]
["Active","F82013","Western Road Medical Centre ","HV","Havering","HV-2","Havering Marshall","Marshall Network","U50107","EMISweb","99 Western Road","Romford","RM1 3LS","TQ 51671 88948",551671,188948,51.578992,0.18750723]
["Active","F82021","The New Medical Centre","HV","Havering","HV-2","Havering Marshall","Marshall Network","U50107","EMISweb","264 Brentwood Road","Romford","RM2 5SU","TQ 52819 88475",552819,188475,51.574432999999999,0.20385631000000001]
["Active","F82009","North Street Medical Care","HV","Havering","HV-2","Havering Marshall","Marshall Network","U50107","EMISweb","274 North Street","Romford","RM1 4QJ","TQ 50672 89720",550672,189720,51.586196000000001,0.17343195]
["Active","F82686","Ashton Gardens Surgery","HV","Havering","HV-3","Havering North","North Network","U55939","EMISweb","Ashton Gardens","Chadwell Heath","RM6 6RT","TQ 48405 88264",548405,188264,51.573715,0.14011965000000001]
["Active","F82010","Petersfield Surgery","HV","Havering","HV-3","Havering North","North Network","U55939","EMISweb","70 Petersfield Ave","Harold Hill","RM3 9PD","TQ 54717 92014",554717,192014,51.605711999999997,0.23278188999999999]
["Active","F82648","Ingrebourne Medical Centre","HV","Havering","HV-3","Havering North","North Network","U55939","EMISweb","135 Straight Road","Harold Hill","RM3 7JJ","TQ 53197 91366",553197,191366,51.600304999999999,0.21056731000000001]
["Active","F82671","Straight Road Doctors Surgery (Dr Prasad)","HV","Havering","HV-3","Havering North","North Network","U55939","EMISweb","137 Straight Road","Harold Hill","RM3 7JJ","TQ 53197 91366",553197,191366,51.600304999999999,0.21056731000000001]
["Active","F82670","AbbaMoor Surgery","HV","Havering","HV-3","Havering North","North Network","U55939","EMISweb","Gooshays Drive","Harold Hill","RM3 9SU","TQ 54169 92056",554169,192056,51.606239000000002,0.22489343000000001]
["Active","F82014","Harold Hill Health Centre (Dr Kuchhai)","HV","Havering","HV-3","Havering North","North Network","U55939","EMISweb","Gooshays Drive","Harold Hill","RM3 9SU","TQ 54169 92056",554169,192056,51.606239000000002,0.22489343000000001]
["Active","F82016","Central Park Surgery (Dr Kakad)","HV","Havering","HV-3","Havering North","North Network","U55939","EMISweb","Gooshays Drive","Harold Hill","RM3 9SU","TQ 54169 92056",554169,192056,51.606239000000002,0.22489343000000001]
["Active","Y00312","The Robins Surgery","HV","Havering","HV-3","Havering North","North Network","U55939","EMISweb","Gooshays Drive","Harold Hill","RM3 9SU","TQ 54169 92056",554169,192056,51.606239000000002,0.22489343000000001]
["Active","F82007","The Greenwood Practice","HV","Havering","HV-3","Havering North","North Network","U55939","EMISweb","89 Gubbins Lane","Harold Wood","RM3 0DR","TQ 54748 90860",554748,190860,51.595334999999999,0.23272048000000001]
["Active","F82045","Oak Lodge Surgery (Dr Chowdhury)","HV","Havering","HV-3","Havering North","North Network","U55939","EMISweb","6 Oak Road","Harold Wood","RM3 0PT","TQ 54849 90533",554849,190533,51.592370000000003,0.23403325]
["Active","Y02973","Kings Park Surgery","HV","Havering","HV-3","Havering North","North Network","U55939","EMISweb","St Clements Avenue","Harold Wood","RM3 0FE","TQ 54268 90605",554268,190605,51.593176,0.22568427999999999]
["Active","F82030","Lynwood Medical Centre","HV","Havering","HV-3","Havering North","North Network","U55939","EMISweb","4 Lynwood Drive","Collier Row","RM5 3QL","TQ 49970 91426",549970,191426,51.601711999999999,0.16403546999999999]
["Active","F82630","Chase Cross Medical Centre (Dr Kulendran)","HV","Havering","HV-3","Havering North","North Network","U55939","EMISweb","Chase Cross Road","Collier Row","RM5 3PJ","TQ 50027 91251",550027,191251,51.600124000000001,0.16478307]
["Active","F82610","Dr N K Gupta Surgery","HV","Havering","HV-3","Havering North","North Network","U55939","EMISweb","206 Mawney Road","Romford","RM7 8BU","TQ 50077 89338",550077,189338,51.582923000000001,0.16468706999999999]
["Active","F82055","Hornchurch Healthcare","HV","Havering","HV-4","Havering South","South Network","U00367","EMISweb","58b Billet Lane","Hornchurch","RM11 1XA","TQ 53895 87670",553895,187670,51.566907999999998,0.21901872]
["Active","F82609","Sutton Ave surgery (P M Patel)","HV","Havering","HV-4","Havering South","South Network","U00367","EMISweb","24 Suttons Ave","Hornchurch","RM12 4LF","TQ 53941 86488",553941,186488,51.556274999999999,0.21916472000000001]
["Active","F82002","Haiderian Medical Centre","HV","Havering","HV-4","Havering South","South Network","U00367","EMISweb","181 Corbets Tey Road","Upminster","RM14 2YN","TQ 55913 85795",555913,185795,51.549508000000003,0.24727998000000001]
["Active","F82008","Maylands Health Care","HV","Havering","HV-4","Havering South","South Network","U00367","EMISweb","300 Upper Rainham Road","Elm Park","RM12 4EQ","TQ 51980 86056",551980,186056,51.552925000000002,0.19071367]
["Active","F82028","Wood Lane Medical Centre","HV","Havering","HV-4","Havering South","South Network","U00367","EMISweb","39 Wood Lane","Elm Park","RM12 5HX","TQ 52375 85087",552375,185087,51.544113000000003,0.19598719000000001]
["Active","F82666","The Surgery (Dr Rahman)","HV","Havering","HV-4","Havering South","South Network","U00367","EMISweb","482 South End Road","Elm Park","RM12 5PA","TQ 52924 85456",552924,185456,51.547280000000001,0.20405819]
["Active","F82022","The Rosewood Medical Centre","HV","Havering","HV-4","Havering South","South Network","U00367","EMISweb","30 Astra Close","Hornchurch","RM12 5NJ","TQ 52722 84935",552722,184935,51.542653000000001,0.20092135999999999]
["Active","F82619","Harlow Road Surgery (Dr N Tariq)","HV","Havering","HV-4","Havering South","South Network","U00367","EMISweb","1 Harlow Road","Rainham","RM13 7UP","TQ 51752 83712",551752,183712,51.531925999999999,0.18641779999999999]
["Active","F82627","Rainham Health Centre","HV","Havering","HV-4","Havering South","South Network","U00367","EMISweb","Upminster Road South","Rainham","RM13 9AB","TQ 52533 82337",552533,182337,51.519362000000001,0.19707374999999999]
["Active","F82649","Berwick Surgery","HV","Havering","HV-4","Havering South","South Network","U00367","EMISweb","17 Berwick Road","Rainham","RM13 9QU","TQ 53679 83242",553679,183242,51.527183000000001,0.21397231999999999]
["Active","F82607","South Hornchurch Medical Practice","HV","Havering","HV-4","Havering South","South Network","U00367","EMISweb","382 Upminster Road North","North Rainham","RM13 9RZ","TQ 53703 82663",553703,182663,51.521974,0.21406560999999999]
["Active","F82674","Avon Road Surgery (Cranham Health Centre)","HV","Havering","HV-4","Havering South","South Network","U00367","EMISweb","Avon Road","Cranham","RM14 1RG","TQ 57095 87988",557095,187988,51.568883,0.26529226]
["Active","F82006","Cranham Village Surgery (Dr C Dahs & Dr IP Humberstone Surgery)","HV","Havering","HV-4","Havering South","South Network","U00367","EMISweb","143 Ingrebourne Gardens","Cranham","RM14 1BJ","TQ 56984 87288",556984,187288,51.562624999999997,0.26337961999999998]
["Active","F82053","Upminster Medical Centre","HV","Havering","HV-4","Havering South","South Network","U00367","EMISweb","226 St Mary's Lane","Upminster","RM14 3DH","TQ 56440 86625",556440,186625,51.556818999999997,0.25524323999999998]
["Active","F82624","The Upminster Bridge Surgery (Dr O'Moore)","HV","Havering","HV-4","Havering South","South Network","U00367","EMISweb","126 Upminster Road","Upminster","RM12 6PL","TQ 55046 86819",555046,186819,51.558947000000003,0.23523689]
["Active","F82033","Dr V M Patel Surgery","HV","Havering","HV-4","Havering South","South Network","U00367","EMISweb","9 Glanville Drive","Hornchurch","RM11 3SZ","TQ 54586 87037",554586,187037,51.561031999999997,0.22870229]
["Active","F84047","Custom House Surgery ","NH","Newham","NH-PCN1","South One Newham","South One Newham","U23362","EMISweb","16 Freemasons Rd",null,"E16 3NA","TQ 40635 81244",540635,181244,51.512625,2.5271616E-2]
["Active","F84666","Dr Ruiz – St Lukes Medical Centre ","NH","Newham","NH-PCN1","South One Newham","South One Newham","U23362","EMISweb","2 St Luke's Square",null,"E16 1HT","TQ 39825 81135",539825,181135,51.511847000000003,1.3563443E-2]
["Active","F84092","Glen Road Medical Centre ","NH","Newham","NH-PCN1","South One Newham","South One Newham","U23362","EMISweb","1-9 Glen Rd",null,"E13 8RU","TQ 41109 82327",541109,182327,51.522238999999999,3.2530946999999998E-2]
["Active","F84017","Star Lane Medical Centre ","NH","Newham","NH-PCN1","South One Newham","South One Newham","U23362","EMISweb","121 Star Ln",null,"E16 4QH","TQ 39602 82012",539602,182012,51.519781999999999,1.0699055000000001E-2]
["Active","F84717","Royal Docks Medical Centre ","NH","Newham","NH-PCN10","Docklands","Docklands","U56681","EMISweb","21 East Ham Manor Way",null,"E6 5NA","TQ 43258 80969",543258,180969,51.509495999999999,6.2933420000000004E-2]
["Active","F84093","Tollgate Health Centre ","NH","Newham","NH-PCN10","Docklands","Docklands","U56681","EMISweb","220 Tollgate Rd",null,"E6 5JS","TQ 42787 81629",542787,181629,51.515546000000001,5.6418168999999997E-2]
["Active","Y02928","E16 Health","NH","Newham","NH-PCN10","Docklands","Docklands","U56681","EMISweb","76 Albert Rd",null,"E16 2DY","TQ 42593 80059",542593,180059,51.501486999999997,5.2989908000000002E-2]
["Active","F84735","The Azad Practice ","NH","Newham","NH-PCN2","Central 1","Central 1","U71739","EMISweb","152 Barking Road",null,"E6 3BD","TQ 41930 83350",541930,183350,51.531225999999997,4.4768458999999997E-2]
["Active","F84669","Newham Medical Centre ","NH","Newham","NH-PCN2","Central 1","Central 1","U71739","EMISweb","576 Green St",null,"E13 9DA","TQ 41405 83360",541405,183360,51.531447,3.7208861000000003E-2]
["Active","F84010","St Bartholomew Surgery ","NH","Newham","NH-PCN2","Central 1","Central 1","U71739","EMISweb","292A Barking Road ",null,"E6 3BA","TQ 42477 83507",542477,183507,51.532499000000001,5.2712424000000001E-2]
["Active","F84004","Market Street Health Group","NH","Newham","NH-PCN2","Central 1","Central 1","U71739","EMISweb","52 Market St",null,"E6 2RA","TQ 42814 83350",542814,183350,51.531002999999998,5.7504007000000003E-2]
["Active","F84053","Greengate Medical Practice ","NH","Newham","NH-PCN2","Central 1","Central 1","U71739","EMISweb","497 Barking Road",null,"E13 8PS","TQ 40757 82646",540757,182646,51.525193000000002,2.7588027000000001E-2]
["Active","F84124","The Project Surgery ","NH","Newham","NH-PCN2","Central 1","Central 1","U71739","EMISweb","10 Lettsom Walk",null,"E13 0LN","TQ 40253 83419",540253,183419,51.532263999999998,2.0635384999999999E-2]
["Active","F84050","Boleyn Medical Centre ","NH","Newham","NH-PCN2","Central 1","Central 1","U71739","EMISweb","152 Barking Road",null,"E6 3BD","TQ 41930 83350",541930,183350,51.531225999999997,4.4768458999999997E-2]
["Active","F84052","Essex Lodge ","NH","Newham","NH-PCN3","Newham Central","Newham Central","U11373","EMISweb","94 Greengate St",null,"E13 0AS","TQ 40684 82946",540684,182946,51.527906999999999,2.6656164E-2]
["Active","F84681","Balaam Street Practice ","NH","Newham","NH-PCN3","Newham Central","Newham Central","U11373","EMISweb","113 Balaam St",null,"E13 8AF","TQ 40488 82808",540488,182808,51.526716,2.3777605E-2]
["Active","F84642","Lucas Avenue Surgery","NH","Newham","NH-PCN3","Newham Central","Newham Central","U11373","EMISweb",null,null,"E13 0QP","TQ 40943 83883",540943,183883,51.536262000000001,3.0761987000000001E-2]
["Active","F84749","Carpenter's Practice","NH","Newham","NH-PCN3","Newham Central","Newham Central","U11373","EMISweb","236-252 High St",null,"E15 2JA","TQ 38568 83938",538568,183938,51.537343999999997,-3.4372387999999999E-3]
["Active","F84658","Sangam Surgery ","NH","Newham","NH-PCN4","North East 1","North East 1","U34188","EMISweb","Snowshill Rd",null,"E12 6BE","TQ 42142 85378",542142,185378,51.549394999999997,4.8640959999999997E-2]
["Active","F84660","Dr CM Patel ","NH","Newham","NH-PCN4","North East 1","North East 1","U34188","EMISweb","2 Jephson Rd",null,"E7 8LZ","TQ 41250 84414",541250,184414,51.540956999999999,3.5398279999999997E-2]
["Active","F84088","Plashet Medical Centre ","NH","Newham","NH-PCN4","North East 1","North East 1","U34188","EMISweb","152 Plashet Rd",null,"E13 0QT","TQ 41097 84021",541097,184021,51.537464,3.3036159000000002E-2]
["Active","F84670","Westbury Road Medical Practice","NH","Newham","NH-PCN4","North East 1","North East 1","U34188","EMISweb","45 Westbury Terrace",null,"E7 8BU","TQ 40876 84941",540876,184941,51.545786,3.0219711999999999E-2]
["Active","F84729","The Manor Park Practice","NH","Newham","NH-PCN4","North East 1","North East 1","U34188","EMISweb","778 Romford Rd",null,"E12 5JG","TQ 42725 85896",542725,185896,51.553902999999998,5.7253423999999997E-2]
["Active","F84641","Birchdale Road Medical Practice ","NH","Newham","NH-PCN4","North East 1","North East 1","U34188","EMISweb","2 Birchdale Rd",null,"E7 8AR","TQ 41441 85069",541441,185069,51.546795000000003,3.8413612E-2]
["Active","F84739","E12 Medical Practice ","NH","Newham","NH-PCN5","North East 2","North East 2","U06978","EMISweb","243 High Street North",null,"E12 6SJ","TQ 42286 84464",542286,184464,51.541145999999998,5.0347099999999999E-2]
["Active","F84006","Shrewsbury Road Surgery ","NH","Newham","NH-PCN5","North East 2","North East 2","U06978","EMISweb","Shrewsbury Annexe' Shrewsbury Road",null,"E7 8QP","TQ 41796 84426",541796,184426,51.540928000000001,4.3270927000000001E-2]
["Active","F84074","Wordsworth Health Centre ","NH","Newham","NH-PCN5","North East 2","North East 2","U06978","EMISweb","19 Wordsworth Avenue",null,"E12 6SU","TQ 42172 84503",542172,184503,51.541525,4.8720109999999997E-2]
["Active","F84741","Plashet Harmony Practice","NH","Newham","NH-PCN5","North East 2","North East 2","U06978","EMISweb","Eastham Memorial Hospital",null,"E7 8QP","TQ 41796 84426",541796,184426,51.540928000000001,4.3270927000000001E-2]
["Active","F84070","Lathom Medical Centre ","NH","Newham","NH-PCN5","North East 2","North East 2","U06978","EMISweb","2A Lathom Rd",null,"E6 2DU","TQ 42458 84130",542458,184130,51.538102000000002,5.2690542999999999E-2]
["Active","F84672","E7 Health - First 4 Health Group","NH","Newham","NH-PCN6","North Newham ","North Newham ","U52641","EMISweb","157 Leytonstone Rd",null,"E15 1LH","TQ 39102 85361",539102,185361,51.55,4.8192100999999996E-3]
["Active","F84097","Claremont Clinic ","NH","Newham","NH-PCN6","North Newham ","North Newham ","U52641","EMISweb","459-463 Romford Rd",null,"E7 8AB","TQ 41105 85137",541105,185137,51.547490000000003,3.3598484999999997E-2]
["Active","F84724","Woodgrange Medical Practice ","NH","Newham","NH-PCN6","North Newham ","North Newham ","U52641","EMISweb","40 Woodgrange Rd",null,"E7 0QH","TQ 40516 85243",540516,185243,51.548589,2.5152046000000001E-2]
["Active","F84111","Abbey Road Medical Practice ","NH","Newham","NH-PCN8","Stratford","Stratford","U76122","EMISweb","28a Abbey Rd",null,"E15 3LT","TQ 39225 83671",539225,183671,51.534782999999997,5.9240574000000001E-3]
["Active","Y04273","Liberty Bridge Road ","NH","Newham","NH-PCN8","Stratford","Stratford","U76122","EMISweb","40 Liberty Bridge Rd",null,"E20 1AS","TQ 38349 85140",538349,185140,51.548198999999997,-6.1207496000000002E-3]
["Active","F84730","The Vicarage Lane Surgery","NH","Newham","NH-PCN8","Stratford","Stratford","U76122","EMISweb","10 Vicarage Ln",null,"E15 4HG","TQ 39553 84332",539553,184332,51.540641999999998,1.0911766999999999E-2]
["Active","F84121","First4Health Church Road","NH","Newham","NH-PCN8","Stratford","Stratford","U76122","EMISweb","30 Church Road",null,"E12 6AQ","TQ 42460 85199",542460,185199,51.547707000000003,5.3151713000000003E-2]
["Active","F84009","Stratford Village Surgery ","NH","Newham","NH-PCN8","Stratford","Stratford","U76122","EMISweb","50C Romford Rd",null,"E15 4BZ","TQ 39233 84486",539233,184486,51.542104999999999,6.3613932999999996E-3]
["Active","F84740","Newham Transitional Team ","NH","Newham","NH-PCN8","Stratford","Stratford","U76122","EMISweb","30 Church Rd",null,"E12 6AQ","TQ 42460 85199",542460,185199,51.547707000000003,5.3151713000000003E-2]
["Active","F84077","Newham Vicarage Practice","NH","Newham","NH-PCN9","North West 2","North West 2","U94747","EMISweb","10 Vicarage Ln",null,"E15 4ES","TQ 39491 84416",539491,184416,51.541412000000001,1.0051602E-2]
["Active","F84677","East End Medical Centre ","NH","Newham","NH-PCN9","North West 2","North West 2","U94747","EMISweb","61 Plashet Rd",null,"E13 0QA","TQ 40567 83994",540567,183994,51.537353000000003,2.5388643999999998E-2]
["Active","F84022","Stratford Health Centre ","NH","Newham","NH-PCN9","North West 2","North West 2","U94747","EMISweb","123 The Grove",null,"E15 1EN","TQ 39112 84766",539112,184766,51.544649999999997,4.7282946000000003E-3]
["Active","F84086","The Forest Practice","NH","Newham","NH-PCN9","North West 2","North West 2","U94747","EMISweb","121 Woodgrange Rd",null,"E7 0EP","TQ 40492 85464",540492,185464,51.550581000000001,2.4894327000000001E-2]
["Active","F84014","Upton Lane Medical Centre ","NH","Newham","NH-PCN9","North West 2","North West 2","U94747","EMISweb","75-77 Upton Ln",null,"E7 9PB","TQ 40620 84636",540620,184636,51.543109000000001,2.6408576E-2]
["Active","F86652","Drive Surgery","RB","Redbridge","RB-1","Cranbrook","Cranbrook","U51307","EMISweb","68 The Drive","Ilford","IG1 3HZ","TQ 42899 87429",542899,187429,51.567633999999998,6.0384001E-2]
["Active","F86702","St Clements Surgery","RB","Redbridge","RB-1","Cranbrook","Cranbrook","U51307","EMISweb","38 Bathhurst Road","Ilford","IG1 4LA","TQ 43751 87002",543751,187002,51.563580999999999,7.2493724999999995E-2]
["Active","Y00918","Granville Medical Centre","RB","Redbridge","RB-1","Cranbrook","Cranbrook","U51307","EMISweb","4 Granville Road","Ilford","IG1 4JY","TQ 43646 86952",543646,186952,51.563158000000001,7.0959545999999998E-2]
["Active","F86042","Balfour Road Surgery","RB","Redbridge","RB-1","Cranbrook","Cranbrook","U51307","EMISweb","92 Balfour Road","Ilford","IG1 4JE","TQ 43990 86949",543990,186949,51.563043,7.5917640999999994E-2]
["Active","F86698","Cranbrook Surgery","RB","Redbridge","RB-1","Cranbrook","Cranbrook","U51307","EMISweb","465 Cranbrook Road","Ilford","IG2 6EW","TQ 43201 88032",543201,188032,51.572975,6.4983819999999998E-2]
["Active","F86008","Gants Hill Medical Centre","RB","Redbridge","RB-1","Cranbrook","Cranbrook","U51307","EMISweb","63-65 Ethelbert Gardens","Gants Hill","IG2 6UW","TQ 43151 88496",543151,188496,51.577157,6.4451751000000002E-2]
["Active","F86703","Redbridge Surgery","RB","Redbridge","RB-1","Cranbrook","Cranbrook","U51307","EMISweb","49 Windermere Gardens","Gants Hill","IG4 5BZ","TQ 42406 88530",542406,188530,51.577651000000003,5.3721702000000003E-2]
["Active","F86657","York Road Surgery","RB","Redbridge","RB-1","Cranbrook","Cranbrook","U51307","SystmOne","55 York Road","Ilford","IG1 3AF","TQ 43305 86498",543305,186498,51.559165,6.5858546000000004E-2]
["Active","F86081","Kenwood Medical Centre","RB","Redbridge","RB-2","Fairlop","Fairlop","U03653","EMISweb","Kenwood Gardens","Gants Hill","IG2 6YG","TQ 43661 88984",543661,188984,51.581412999999998,7.2005967000000004E-2]
["Active","F86083","Eastern Avenue Medical Centre","RB","Redbridge","RB-2","Fairlop","Fairlop","U03653","EMISweb","167 Eastern Avenue","Gants Hill","IG4 5AW","TQ 42226 88390",542226,188390,51.576439000000001,5.1069203000000001E-2]
["Active","F86612","Fullwell Avenue Surgery","RB","Redbridge","RB-2","Fairlop","Fairlop","U03653","EMISweb","272 Fullwell Avenue","Fullwell Cross","IG5 0SB","TQ 43621 90647",543621,190647,51.596366000000003,7.2108948000000006E-2]
["Active","F86624","Heathcote Primary Care Centre","RB","Redbridge","RB-2","Fairlop","Fairlop","U03653","EMISweb","Heathcote Avenue","Barkingside","IG5 0QS","TQ 42982 90347",542982,190347,51.593831999999999,6.2767795000000001E-2]
["Active","F86707","Fencepiece Road Medical Practice","RB","Redbridge","RB-2","Fairlop","Fairlop","U03653","EMISweb","83 Fencepiece Road","Fairlop","IG6 2NB","TQ 44453 91094",544453,191094,51.600169999999999,8.4296185999999995E-2]
["Active","F86057","The Willows Practice","RB","Redbridge","RB-2","Fairlop","Fairlop","U03653","EMISweb","Hainault Health Centre","Chigwell","IG7 4DF","TQ 45822 91978",545822,191978,51.607759999999999,0.10441554]
["Active","F86007","Forest Edge Practice","RB","Redbridge","RB-2","Fairlop","Fairlop","U03653","EMISweb","Hainault Health Centre","Chigwell","IG7 4DF","TQ 45822 91978",545822,191978,51.607759999999999,0.10441554]
["Active","F86009","The Palms Medical Centre","RB","Redbridge","RB-3","Seven Kings","Seven Kings","U27585","EMISweb","97-101 Netley Road","Newbury Park","IG2 7NW","TQ 44820 88524",544820,188524,51.576982999999998,8.8531907000000007E-2]
["Active","F86087","Goodmayes Medical Centre","RB","Redbridge","RB-3","Seven Kings","Seven Kings","U27585","EMISweb","4 Eastwood Road","Goodmayes","IG3 8XB","TQ 46331 87526",546331,187526,51.567625999999997,0.10990630999999999]
["Active","F86637","Seven Kings Practice","RB","Redbridge","RB-3","Seven Kings","Seven Kings","U27585","EMISweb","1 Salisbury Road","Seven Kings","IG3 8BG","TQ 45438 87037",545438,187037,51.563462999999999,9.6829019000000002E-2]
["Active","Y00090","Doctor's House","RB","Redbridge","RB-3","Seven Kings","Seven Kings","U27585","EMISweb","40 Cameron Road","Seven Kings","IG3 8LF","TQ 45249 87246",545249,187246,51.565389000000003,9.4190582999999994E-2]
["Active","F86034","Green Lane, Goodmayes Medical practice","RB","Redbridge","RB-3","Seven Kings","Seven Kings","U27585","EMISweb","595 Green Lane","Goodmayes","IG3 9RN","TQ 46598 87054",546598,187054,51.563316,0.11355912999999999]
["Active","F86642","Castleton Road Surgery","RB","Redbridge","RB-3","Seven Kings","Seven Kings","U27585","EMISweb","19 Castleton Road","Goodmayes","IG3 9QW","TQ 46532 87121",546532,187121,51.563935000000001,0.11263556]
["Active","F86028","Chadwell Heath Surgery","RB","Redbridge","RB-3","Seven Kings","Seven Kings","U27585","EMISweb","72 Chadwell Heath Lane","Chadwell Heath","RM6 4AF","TQ 47352 88216",547352,188216,51.573560000000001,0.12491581]
["Active","Y00155","Grove Surgery","RB","Redbridge","RB-3","Seven Kings","Seven Kings","U27585","SystmOne","200-202 Chadwell Heath Lane","Chadwell Heath","RM6 4YU","TQ 47178 88535",547178,188535,51.576472000000003,0.12254036]
["Active","F86013","Broadway Surgery","RB","Redbridge","RB-4","Wanstead & Woodford","Wanstead & Woodford","U78575","SystmOne","3 The Broadway","Woodford Green","IG8 0HF","TQ 40897 91927",540897,191927,51.608555000000003,3.3322327999999998E-2]
["Active","F86023","The Evergreen Practice","RB","Redbridge","RB-4","Wanstead & Woodford","Wanstead & Woodford","U78575","EMISweb","26 High Street","Wanstead","E11 2AQ","TQ 40453 88526",540453,188526,51.578105000000001,2.5554684000000001E-2]
["Active","F86032","Wanstead Place Surgery","RB","Redbridge","RB-4","Wanstead & Woodford","Wanstead & Woodford","U78575","EMISweb","45 Wanstead Place","Wanstead","E11 2SW","TQ 40289 88521",540289,188521,51.578100999999997,2.3187508999999999E-2]
["Active","F86731","Aldersbrook Medical Centre","RB","Redbridge","RB-4","Wanstead & Woodford","Wanstead & Woodford","U78575","EMISweb","65 Aldersbrook Road","Manor Park","E12 5DL","TQ 41394 86612",541394,186612,51.560670999999999,3.8356031999999998E-2]
["Active","F86066","Southdene Surgery","RB","Redbridge","RB-4","Wanstead & Woodford","Wanstead & Woodford","U78575","EMISweb","The Shrubberies, George Ln","South Woodford","E18 1BD","TQ 40404 90279",540404,190279,51.593868999999998,2.554851E-2]
["Active","F86641","Shrubberies Medical Centre","RB","Redbridge","RB-4","Wanstead & Woodford","Wanstead & Woodford","U78575","EMISweb","12 The Shrubberies, ","South Woodford","E18 1BD","TQ 40404 90279",540404,190279,51.593868999999998,2.554851E-2]
["Active","F86020","Glebelands Practice","RB","Redbridge","RB-4","Wanstead & Woodford","Wanstead & Woodford","U78575","EMISweb","2 Glebelands Avenue","South Woodford","E18 2AB","TQ 40310 90124",540310,190124,51.592500000000001,2.4130467999999999E-2]
["Active","F86064","Elmhurst Practice","RB","Redbridge","RB-4","Wanstead & Woodford","Wanstead & Woodford","U78575","EMISweb","114 High Road","South Woodford","E18 2QS","TQ 40129 90669",540129,190669,51.597442000000001,2.1736756999999999E-2]
["Active","F86691","Clayhall Clinic","RB","Redbridge","RB-4","Wanstead & Woodford","Wanstead & Woodford","U78575","EMISweb","14 Clayhall Avenue","Ilford","IG5 0LG","TQ 42206 90038",542206,190038,51.591251999999997,5.1447693000000003E-2]
["Active","F86012","Rydal Practice","RB","Redbridge","RB-4","Wanstead & Woodford","Wanstead & Woodford","U78575","EMISweb","375 High Road","Woodford Green","IG8 9QJ","TQ 39982 91888",539982,191888,51.608432000000001,2.0101964E-2]
["Active","F86658","Queen Mary Practice","RB","Redbridge","RB-4","Wanstead & Woodford","Wanstead & Woodford","U78575","EMISweb","114 High Road","South Woodford","E18 2QS","TQ 40129 90669",540129,190669,51.597442000000001,2.1736756999999999E-2]
["Active","F86022","Ilford Medical Centre","RB","Redbridge","RB-5","Loxford","Loxford","U20290","EMISweb","61 Cleveland Road","Ilford","IG1 1EE","TQ 43897 86254",543897,186254,51.556821999999997,7.4292691999999994E-2]
["Active","Y02987","The Practice Loxford","RB","Redbridge","RB-5","Loxford","Loxford","U20290","EMISweb","417 Ilford Lane","Ilford","IG1 2SN","TQ 44106 85110",544106,185110,51.546489000000001,7.6837077000000004E-2]
["Active","F86692","Mathukias Surgery","RB","Redbridge","RB-5","Loxford","Loxford","U20290","EMISweb","281 Ilford Lane","Ilford","IG1 2SF","TQ 43991 85477",543991,185477,51.549816,7.5329842999999994E-2]
["Active","F86082","Ilford Lane Surgery","RB","Redbridge","RB-5","Loxford","Loxford","U20290","SystmOne","417 Ilford Lane","Ilford","IG1 2SN","TQ 44106 85110",544106,185110,51.546489000000001,7.6837077000000004E-2]
["Active","F86025","Oak Tree Medical Practice","RB","Redbridge","RB-5","Loxford","Loxford","U20290","SystmOne","273-275 Green Lane","Seven Kings","IG3 9TJ","TQ 45422 86734",545422,186734,51.560744,9.6473119999999996E-2]
["Active","F86085","Hainault Surgery","RB","Redbridge","RB-6","NewCross Alliance","New Cross Alliance","U08578","EMISweb","34 New North Road","Hainault","IG6 2XG","TQ 44572 91321",544572,191321,51.602179,8.6106632000000002E-2]
["Active","F86010","Fullwell Cross Medical Centre","RB","Redbridge","RB-6","NewCross Alliance","New Cross Alliance","U08578","EMISweb","1 Tomswood Hill","Fairlop","IG6 2HG","TQ 44435 90476",544435,190476,51.594620999999997,8.3782263999999995E-2]
["Active","F86060","Newbury Group Practice","RB","Redbridge","RB-6","NewCross Alliance","New Cross Alliance","U08578","EMISweb","40 Perrymans Farm Road","Newbury Park","IG2 7LE","TQ 44654 88447",544654,188447,51.576334000000003,8.6106352999999997E-2]
["Active","F84083","Bethnal Green Health Centre","TH","Tower Hamlets","TH-NW1","The One Network","Network 1","U50771","EMISweb","60 Florida Street",null,"E2 6LL","TQ 34381 82665",534381,182665,51.526916,-6.4255604999999993E-2]
["Active","F84016","The Mission Practice","TH","Tower Hamlets","TH-NW1","The One Network","Network 1","U50771","EMISweb","208 Cambridge Heath Road",null,"E2 9LS","TQ 34907 83175",534907,183175,51.531373000000002,-5.6482689000000003E-2]
["Active","F84123","Globe Town Surgery","TH","Tower Hamlets","TH-NW1","The One Network","Network 1","U50771","EMISweb","82a Roman Road",null,"E2 0PJ","TQ 35420 82859",535420,182859,51.528410999999998,-4.9212931000000001E-2]
["Active","F84051","Strouts Place Medical Centre","TH","Tower Hamlets","TH-NW1","The One Network","Network 1","U50771","EMISweb","3 Strouts Place, Pelter Street",null,"E2 7QU","TQ 33683 82924",533683,182924,51.529409000000001,-7.4213118999999994E-2]
["Active","F84081","Spitalfields Practice","TH","Tower Hamlets","TH-NW2","East End Health Network","Network 2","U54453","EMISweb","20 Old Montague Street",null,"E1 5PB","TQ 34066 81571",534066,181571,51.517158999999999,-6.9209514E-2]
["Active","F84718","Blithehale Medical Centre","TH","Tower Hamlets","TH-NW2","East End Health Network","Network 2","U54453","EMISweb","22 Dunbridge Street",null,"E2 6JA","TQ 34306 82311",534306,182311,51.523752000000002,-6.5470924E-2]
["Active","F84733","Health E1","TH","Tower Hamlets","TH-NW2","East End Health Network","Network 2","U54453","EMISweb","9-11 Brick Lane",null,"E1 6PU","TQ 33910 81676",533910,181676,51.518140000000002,-7.1416585000000005E-2]
["Active","F84012","Albion Health Centre","TH","Tower Hamlets","TH-NW2","East End Health Network","Network 2","U54453","EMISweb","333 Whitechapel Road",null,"E1 1BU","TQ 34859 81910",534859,181910,51.520017000000003,-5.7658092000000001E-2]
["Active","F84087","Harford Health Centre","TH","Tower Hamlets","TH-NW3","Tower Network","Tower Network","U37286","EMISweb","79 Ben Jonson Road",null,"E1 4SA","TQ 35898 81752",535898,181752,51.518349000000001,-4.2753129000000001E-2]
["Active","F84039","Goodman’s Field Health Centre","TH","Tower Hamlets","TH-NW3","Tower Network","Tower Network","U37286","EMISweb","44-56 Hessel Street",null,"E1 2LP","TQ 34537 81246",534537,181246,51.514127000000002,-6.2549480000000005E-2]
["Active","F84114","City Square Medical Group","TH","Tower Hamlets","TH-NW3","Tower Network","Tower Network","U37286","EMISweb","129 Cannon Street Road",null,"E1 2LX","TQ 34595 81156",534595,181156,51.513303999999998,-6.1748474999999997E-2]
["Active","F84079","Wapping Group Practice","TH","Tower Hamlets","TH-NW3","Tower Network","Tower Network","U37286","EMISweb","22 Wapping Lane",null,"E1W 2RL","TQ 34810 80364",534810,180364,51.506135999999998,-5.8954558999999997E-2]
["Active","F84031","Jubilee Street Practice","TH","Tower Hamlets","TH-NW3","Tower Network","Tower Network","U37286","EMISweb","368-374 Commercial Road",null,"E1 0LS","TQ 35359 81212",535359,181212,51.513624999999998,-5.0723846000000003E-2]
["Active","F84731","St Katharine Docks Practice","TH","Tower Hamlets","TH-NW3","Tower Network","Tower Network","U37286","EMISweb","12-14 Nightingale House, 50 Thomas More Street",null,"E1W 1UA","TQ 34160 80441",534160,180441,51.506982999999998,-6.8285214999999996E-2]
["Active","F84044","Harley Grove Medical Centre","TH","Tower Hamlets","TH-NW4","Bow Health ","Network 5","U87199","EMISweb","15 Harley Grove",null,"E3 2AT","TQ 36903 82836",536903,182836,51.527847000000001,-2.7856860000000001E-2]
["Active","F84034","St Stephens Health Centre","TH","Tower Hamlets","TH-NW4","Bow Health ","Network 5","U87199","EMISweb","Bow Community Hall, William Place",null,"E3 5ED","TQ 36678 83316",536678,183316,51.532215000000001,-3.0912192000000002E-2]
["Active","F84030","Ruston Street Clinic (Dr Amin)","TH","Tower Hamlets","TH-NW4","Bow Health ","Network 5","U87199","EMISweb","Ruston Street",null,"E3 2LR","TQ 36931 83782",536931,183782,51.536341,-2.7085962000000002E-2]
["Active","F84055","Grove Road Surgery (Dr Shah)","TH","Tower Hamlets","TH-NW4","Bow Health ","Network 5","U87199","EMISweb","3 Ivanhoe House, 130 Grove Road",null,"E3 5TW","TQ 36133 83031",536133,183031,51.529784999999997,-3.8874542999999998E-2]
["Active","F84696","The Tredegar Practice","TH","Tower Hamlets","TH-NW4","Bow Health ","Network 5","U87199","EMISweb","35 St. Stephens Road",null,"E3 5JD","TQ 36617 83214",536617,183214,51.531312999999997,-3.1830602999999999E-2]
["Active","Y03023","St Andrews Health Centre","TH","Tower Hamlets","TH-NW5","Mile End East and Bromley by Bow Network","Network 6","U08803","EMISweb","2 Hannaford Way",null,"E3 3FF","TQ 37837 82418",537837,182418,51.523864000000003,-1.4564782E-2]
["Active","F84118","Wellington Way Health Centre","TH","Tower Hamlets","TH-NW5","Mile End East and Bromley by Bow Network","Network 6","U08803","EMISweb","5 Merchant Street",null,"E3 4LJ","TQ 36940 82648",536940,182648,51.526148999999997,-2.7396845E-2]
["Active","F84714","St Pauls Way Medical Centre","TH","Tower Hamlets","TH-NW5","Mile End East and Bromley by Bow Network","Network 6","U08803","EMISweb","First Floor. 11 Selsey Street",null,"E14 7LJ","TQ 37160 81748",537160,181748,51.518008000000002,-2.4577591999999999E-2]
["Active","F84122","XX Place /Bromley-by-Bow","TH","Tower Hamlets","TH-NW5","Mile End East and Bromley by Bow Network","Network 6","U08803","EMISweb","St Leonard’s Street",null,"E3 3BT","TQ 37975 82706",537975,182706,51.526418,-1.2464196E-2]
["Active","F84054","Limehouse Practice (Gill Street)","TH","Tower Hamlets","TH-NW6","Poplar and Limehouse Network","Network 7","U60865","EMISweb","Gill St Health Centre, 11 Gill Street",null,"E14 8HQ","TQ 36891 80989",536891,180989,51.511253000000004,-2.8746565000000002E-2]
["Active","F84062","Chrisp Street Health Centre","TH","Tower Hamlets","TH-NW6","Poplar and Limehouse Network","Network 7","U60865","EMISweb","100 Chrisp Street",null,"E14 6PG","TQ 37882 81345",537882,181345,51.514211000000003,-1.4335996E-2]
["Active","F84698","Aberfeldy Practice","TH","Tower Hamlets","TH-NW6","Poplar and Limehouse Network","Network 7","U60865","EMISweb","2a Ettrick Street",null,"E14 0PU","TQ 38534 81393",538534,181393,51.514482999999998,-4.9271033000000001E-3]
["Active","F84025","Gough Walk (Dr Selvan)","TH","Tower Hamlets","TH-NW6","Poplar and Limehouse Network","Network 7","U60865","EMISweb","21 Newby Place ",null,"E14 0EY","TQ 38012 80933",538012,180933,51.510477000000002,-1.2624882E-2]
["Active","F84710","Island Health","TH","Tower Hamlets","TH-NW7","Healthy Island Network","Network 8","U09193","EMISweb","145 East Ferry Road",null,"E14 3BQ","TQ 37996 79250",537996,179250,51.495356999999998,-1.3513117E-2]
["Active","F84656","Docklands Medical Centre","TH","Tower Hamlets","TH-NW7","Healthy Island Network","Network 8","U09193","EMISweb","100 Spindrift Avenue",null,"E14 9WU","TQ 37480 78772",537480,178772,51.491188000000001,-2.1127525000000001E-2]
["Active","F84647","Island Medical Centre","TH","Tower Hamlets","TH-NW7","Healthy Island Network","Network 8","U09193","EMISweb","Roserton Street",null,"E14 3PG","TQ 38227 79604",538227,179604,51.498482000000003,-1.0049091E-2]
["Active","F84747","Barkantine Practice","TH","Tower Hamlets","TH-NW7","Healthy Island Network","Network 8","U09193","EMISweb","121 Westferry Road",null,"E14 8JH","TQ 37136 79834",537136,179834,51.500813999999998,-2.5666996000000001E-2]
["Active","F86026","Forest Surgery","WF","Waltham Forest","WF-1","Chingford/ Walthamstow","Chingford/Walthamstow","U92720","SystmOne","2 Macdonald Road","Walthamstow","E17 4BA","TQ 38283 90316",538283,190316,51.594726000000001,-5.0366318E-3]
["Active","F86700","Kings Head Medical Practice","WF","Waltham Forest","WF-1","Chingford/ Walthamstow","Chingford/Walthamstow","U92720","EMISweb","178 Kings Head Hill","Chingford","E4 7NX","TQ 37715 94859",537715,194859,51.635688000000002,-1.1447793E-2]
["Active","F86664","Larkshall Medical Centre","WF","Waltham Forest","WF-1","Chingford/ Walthamstow","Chingford/Walthamstow","U92720","EMISweb","1 Larkshall Road","Chingford","E4 7HS","TQ 38739 93914",538739,193914,51.626944999999999,2.9649466000000002E-3]
["Active","F86005","The Penryhn Surgery","WF","Waltham Forest","WF-1","Chingford/ Walthamstow","Chingford/Walthamstow","U92720","EMISweb","2a Penryn Avenue","Walthamstow","E17 5DB","TQ 36985 90544",536985,190544,51.597090999999999,-2.3674555E-2]
["Active","F86626","Dr Shantir Practice","WF","Waltham Forest","WF-1","Chingford/ Walthamstow","Chingford/Walthamstow","U92720","EMISweb","354-358 Forest Rd","Walthamstow","E17 5JG","TQ 36694 89687",536694,189687,51.589461,-2.8206729E-2]
["Active","Y01839","Lime Tree & Sinnott Healthcare Ltd","WF","Waltham Forest","WF-1","Chingford/ Walthamstow","Chingford/Walthamstow","U92720","EMISweb","12b Sinnott Road","Walthamstow","E17 5QB","TQ 35891 90652",535891,190652,51.598326999999998,-3.9417391000000003E-2]
["Active","F86689","The Bailey Practice","WF","Waltham Forest","WF-1","Chingford/ Walthamstow","Chingford/Walthamstow","U92720","EMISweb","107 Shernhall Street","Walthamstow","E17 9HS","TQ 38167 89081",538167,189081,51.583657000000002,-7.1959318999999999E-3]
["Active","F86638","The Microfaculty","WF","Waltham Forest","WF-1","Chingford/ Walthamstow","Chingford/Walthamstow","U92720","SystmOne","107 Chingford Mount Road","Chingford","E4 8LT","TQ 37307 92314",537307,192314,51.612918000000001,-1.8336228999999999E-2]
["Active","F86004","Handsworth Medical Centre","WF","Waltham Forest","WF-2","Chingford E4","Chingford E4","U47946","SystmOne","Highams Park, Handsworth Avenue","Chingford","E4 9PD"]
["Active","Y01291","Chingford Medical Practice","WF","Waltham Forest","WF-2","Chingford E4","Chingford E4","U47946","EMISweb","109 York Road","Chingford","E4 8LF","TQ 37006 92657",537006,192657,51.616073999999998,-2.2546676000000002E-2]
["Active","F86627","Churchill Medical Centre","WF","Waltham Forest","WF-2","Chingford E4","Chingford E4","U47946","EMISweb","1 Churchill Terrace","Chingford","E4 8DG","TQ 37293 92913",537293,192913,51.618304000000002,-1.8303841000000001E-2]
["Active","F86078","The Ridgeway Surgery","WF","Waltham Forest","WF-2","Chingford E4","Chingford E4","U47946","EMISweb","1 Mount Echo Avenue","Chingford","E4 7JX","TQ 37765 94083",537765,194083,51.628701999999997,-1.1030843E-2]
["Active","F86616","Old Church Surgery","WF","Waltham Forest","WF-2","Chingford E4","Chingford E4","U47946","EMISweb","99 Chingford Avenue","Chingford","E4 6RG","TQ 37534 93450",537534,193450,51.623071000000003,-1.4614411000000001E-2]
["Active","F86074","Leyton Healthcare (Oliver Road)","WF","Waltham Forest","WF-3","Leyton Collaborative","Leyton Collaborative","U87776","SystmOne","Leyton Orient Football Club (West Stand), 75 Oliver Road","Leyton","E10 5LG","TQ 37815 86429",537815,186429,51.559911999999997,-1.3312475000000001E-2]
["Active","F86011","The Manor Practice","WF","Waltham Forest","WF-3","Leyton Collaborative","Leyton Collaborative","U87776","EMISweb","454 Lea Bridge Road","Leyton","E10 7DY","TQ 37179 87682",537179,187682,51.571325999999999,-2.1992728E-2]
["Active","F86038","Sma Medical Centre","WF","Waltham Forest","WF-3","Leyton Collaborative","Leyton Collaborative","U87776","EMISweb","693-695 High Road","Leyton","E10 6RA","TQ 38108 87688",538108,187688,51.571154,-8.5942013999999994E-3]
["Active","F86018","The Ecclesbourne Practice","WF","Waltham Forest","WF-4","Forest Integrated Health","Forest Intergrated Health","U65471","SystmOne","Ecclesbourne Warwick Terrace, Leabridge Rd","Leyton","E17 9DP","TQ 38574 88755",538574,188755,51.580627,-1.4539803E-3]
["Active","F86036","The Allum Medical Centre","WF","Waltham Forest","WF-4","Forest Integrated Health","Forest Intergrated Health","U65471","EMISweb","Fairlop Road","Leytonstone","E11 1BN","TQ 38947 87574",538947,187574,51.569923000000003,3.4589922000000002E-3]
["Active","F86044","Crawley Road Medical Centre","WF","Waltham Forest","WF-4","Forest Integrated Health","Forest Intergrated Health","U65471","EMISweb","479 High Road","Leyton","E10 5EL","TQ 37940 86918",537940,186918,51.564276,-1.1318719E-2]
["Active","F86696","Francis Road Medical Centre","WF","Waltham Forest","WF-4","Forest Integrated Health","Forest Intergrated Health","U65471","EMISweb","94 Francis Road","Leyton","E10 6PP","TQ 38466 86672",538466,186672,51.561936000000003,-3.8318204999999998E-3]
["Active","F86712","Hampton Medical Centre","WF","Waltham Forest","WF-4","Forest Integrated Health","Forest Intergrated Health","U65471","EMISweb","1 Pretoria Road","Leytonstone","E11 4BB","TQ 38721 87186",538721,187186,51.566491999999997,4.7171125999999997E-5]
["Active","F86650","Lime Tree Surgery","WF","Waltham Forest","WF-4","Forest Integrated Health","Forest Intergrated Health","U65471","EMISweb","38 Cann Hall Road","Leytonstone","E11 3HZ","TQ 39258 85734",539258,185734,51.553313000000003,7.2151919999999996E-3]
["Active","F86088","The Lyndhurst Surgery","WF","Waltham Forest","WF-4","Forest Integrated Health","Forest Intergrated Health","U65471","EMISweb","53 Lyndhurst Drive","Leyton","E10 6JB","TQ 38433 87787",538433,187787,51.571964000000001,-3.8687688000000001E-3]
["Active","F86621","Green Man Medical Centre","WF","Waltham Forest","WF-5","South Leytonstone","South Leytonstone","U47812","EMISweb","1 Hanbury Drive","Leytonstone","E11 1HR","TQ 39685 87696",539685,187696,51.570836999999997,1.4148923000000001E-2]
["Active","F86045","High Road Surgery","WF","Waltham Forest","WF-5","South Leytonstone","South Leytonstone","U47812","EMISweb","287 High Road","Leytonstone","E11 4HH","TQ 39101 85749",539101,185749,51.553485999999999,4.9580980000000002E-3]
["Active","F86701","Kiyani Medical Practice","WF","Waltham Forest","WF-5","South Leytonstone","South Leytonstone","U47812","EMISweb","13 Langthorne Rd","Leytonstone","E11 4HX","TQ 38897 85957",538897,185957,51.555405999999998,2.0996700000000001E-3]
["Active","F86625","LL Medical Care (Agarwal & Agrwal Practice)","WF","Waltham Forest","WF-5","South Leytonstone","South Leytonstone","U47812","EMISweb","13 Langthorne Rd","Leytonstone","E11 4HX","TQ 38897 85957",538897,185957,51.555405999999998,2.0996700000000001E-3]
["Active","F86666","The Harrow Road Surgery","WF","Waltham Forest","WF-5","South Leytonstone","South Leytonstone","U47812","EMISweb","2-8 Harrow Road","Leytonstone","E11 3QF","TQ 39369 86366",539369,186366,51.558964000000003,9.0654107999999997E-3]
["Active","F86705","The Langthorne Sharma Family Practice","WF","Waltham Forest","WF-5","South Leytonstone","South Leytonstone","U47812","EMISweb","13 Langthorne Rd","Leytonstone","E11 4HX","TQ 38897 85957",538897,185957,51.555405999999998,2.0996700000000001E-3]
["Active","F86607","Addison Road Medical Practice","WF","Waltham Forest","WF-6","Central Walthamstow","Central Walthamstow","U93045","EMISweb","Comely Bank Clinic","Walthamstow","E17 9LY","TQ 38040 89024",538040,189024,51.583176000000002,-9.0501534999999998E-3]
["Active","F86708","Claremont Medical Centre","WF","Waltham Forest","WF-6","Central Walthamstow","Central Walthamstow","U93045","EMISweb","29-31 Claremont Medical Centre","Walthamstow","E17 5RJ","TQ 36291 90221",536291,190221,51.594357000000002,-3.3813172000000002E-2]
["Active","F86001","The Firs","WF","Waltham Forest","WF-6","Central Walthamstow","Central Walthamstow","U93045","EMISweb","26 Stephenson Road","Walthamstow","E17 7JT","TQ 36241 88655",536241,188655,51.580297000000002,-3.5141800000000001E-2]
["Active","F86086","Dr Dhital Practice","WF","Waltham Forest","WF-6","Central Walthamstow","Central Walthamstow","U93045","EMISweb","6 Linford Rd","Walthamstow","E17 3LA","TQ 38444 89544",538444,189544,51.587749000000002,-3.0181050000000001E-3]
["Active","F86644","Waltham Forest Community & Family Health Services Ltd","WF","Waltham Forest","WF-6","Central Walthamstow","Central Walthamstow","U93045","EMISweb","6 Linford Rd","Walthamstow","E17 3LA","TQ 38444 89544",538444,189544,51.587749000000002,-3.0181050000000001E-3]
["Active","F86006","Seymour Medical Centre","WF","Waltham Forest","WF-7","Walthamstow West","Walthamstow West ","U17084","EMISweb","266 Lea Bridge Road","Walthamstow","E10 7LD","TQ 36763 87420",536763,187420,51.569073000000003,-2.8093386000000001E-2]
["Active","F86030","Queens Road Medical Centre","WF","Waltham Forest","WF-7","Walthamstow West","Walthamstow West ","U17084","EMISweb","48 Queens Road","Walthamstow","E17 8PX","TQ 37259 88627",537259,188627,51.579799000000001,-2.0470187000000001E-2]
["Active","F86062","Grove Surgery","WF","Waltham Forest","WF-7","Walthamstow West","Walthamstow West ","U17084","EMISweb","103-105 Grove Road","Walthamstow","E17 9BU","TQ 37919 88578",537919,188578,51.579197000000001,-1.0970442E-2]
["Active","F86679","Higham Hill Medical Centre","WF","Waltham Forest","WF-7","Walthamstow West","Walthamstow West ","U17084","EMISweb","258-260 Higham Hill Road","Walthamstow","E17 5RQ","TQ 36234 90272",536234,190272,51.594828999999997,-3.4615754999999998E-2]
["Active","F86058","St James Medical Practice Ltd","WF","Waltham Forest","WF-7","Walthamstow West","Walthamstow West ","U17085","EMISweb","47 St James St","Walthamstow","E17 7NH","TQ 36455 88670",536455,188670,51.580379999999998,-3.2049451E-2]
["N/A","Y06760","City & Hackney GP Confederation","CH","City & Hackney",null,null,null,null,"EMISweb"]