{"text_format":"1","workbook":"xlsx","n_sheets":11,"sheets":["Cover Sheet","Network Summary","Patients becoming 12m","Patients becoming 24m","Patients becoming 5y","Chart Data","Ranking Tables","Ranking","Control Panel","Rows","Data"],"not_rendered":{"charts":8,"images":8,"macros":1,"external_links":1,"defined_names":7,"comments":0,"pivot_tables":0},"unopened":[],"bounds":{"document_bytes":16777216,"sheet_cells":100000,"rows_first":2000,"rows_last":500,"rows_between":2000,"halvings":0,"cell_chars":16384,"cell_head_chars":4096},"cells_cut":0,"cells_raw":0,"read":"whole","date_system":"1900"}

{"sheet":"Cover Sheet","index":0,"n_rows":52,"n_cols":13,"rows_kept":52,"cut":false,"hidden":false,"merged":[]}
[]
[]
[]
[null,null,null,null,null,"Tower Hamlets Childhood Immunisations Dashboard"]
[]
[null,null,null,null,null,"Report designed following the parameters of the Public Health England COVER programme"]
[]
[null,null,null,null,null,"Contains data on immunisation uptake for children becoming 12m, 24m and 5yrs in the quarter"]
[]
[null,null,null,null,null,"Patients becoming 12m"]
[]
[null,null,null,null,null,"DTaP/IPV/Hib/HepB"]
[null,null,null,null,null,"Men B"]
[null,null,null,null,null,"PCV"]
[null,null,null,null,null,"Rotavirus"]
[]
[]
[null,null,null,null,null,"Patients becoming 24m"]
[]
[null,null,null,null,null,"DTaP/IPV/Hib/HepB"]
[null,null,null,null,null,"MMR"]
[null,null,null,null,null,"HiB/Men C"]
[null,null,null,null,null,"PCV (Booster)"]
[null,null,null,null,null,"Men B (Booster)"]
[null,null,null,null,null,"Patients becoming 5y"]
[]
[null,null,null,null,null,"DTaP/IPV/Hib"]
[null,null,null,null,null,"MMR (Primary)"]
[null,null,null,null,null,"DTaP/IPV (Booster)"]
[null,null,null,null,null,"MMR (Booster)"]
[null,null,null,null,null,"HiB/Men C"]
[]
[null,null,null,null,null,"N.B. Rotavirus not included in performance target"]
[]
[null,null,null,null,null,"Version tracking"]
[null,null,null,null,null,"Version 2.8","- PCV Schedule updated",null,null,null,null,null,"December 2020"]
[]
[null,null,null,null,null,"Version 2.7","- Removed the 5in1 from Patients becoming 12m, now only 6in1",null,null,null,null,null,"April 2019"]
[]
[null,null,null,null,null,"Version 2.6","- Men B (Booster) included and 5in1 to have to become 6in1 for patients born after 01/08/2017",null,null,null,null,null,"April 2018"]
[]
[null,null,null,null,null,"Version 2.5","- Men C removed Men B included",null,null,null,null,null,"May 2017"]
[]
[null,null,null,null,null,"Version 2.4","- DTaP/IPV (Booster) (NO LOWER AGE LIMIT) Removed",null,null,null,null,null,"May 2016"]
[]
[null,null,null,null,null,"Version 2.3","- Lower age limit for MMR, HiB/Men C and PCV adjusted to 1 year in line with NHSE guidance",null,null,null,null,null,"May 2015"]
[]
[null,null,null,null,null,"Version 2.2","- Cluster configuration and practice names updated",null,null,null,null,null,"April 2015"]
[]
[null,null,null,null,null,"Version 2.1","- DTaP/IPV/Hib (No lower age limit) added to 5yr cohort",null,null,null,null,null,"October 2014"]
[]
[null,null,null,null,null,"Version 2.0","- Specification and presentation used from CEG report for Tower Hamlets",null,null,null,null,null,"September 2014"]

{"sheet":"Network Summary","index":1,"n_rows":36,"n_cols":34,"rows_kept":36,"cut":false,"hidden":false,"merged":[[4,7,4,10],[10,27,10,29],[10,31,10,33],[10,4,10,5],[10,7,10,9],[10,11,10,13],[10,15,10,17],[10,19,10,21],[10,23,10,25]]}
[]
[null,null,null,null,null,null,null,null,null,null,null,null,"March 2022"]
[null,null,null,null,"Tower Hamlets Childhood Immunisations Dashboard: Metric Details"]
[null,null,null,null,"Network Summary"]
[]
[null,null,null,null,null,null,null,null,null,null,null,null,null,null,null,null,0.96,"95% and over",null,"100% of quarterly performance payment"]
[null,null,null,null,"Coverage","Percentage of target population immunised",null,null,null,null,null,null,null,null,null,null,0.94,0.94,null,"80% of quarterly performance payment"]
[null,null,null,null,"Activty","Number of patients immunised",null,null,null,null,null,null,null,null,null,null,0.92,"92% or 93%",null,"40% of quarterly performance payment"]
[null,null,null,null,"Required","Number of patients requiring immunisation for network to attain 95% coverage",null,null,null,null,null,null,null,null,null,null,0.1,"Less than 92%"]
[null,null,null,null,null,null,null,null,"NW1",null,null,null,"NW2",null,null,null,"NW3&4",null,null,null,"NW5",null,null,null,"NW6",null,null,null,"NW7",null,null,null,"NW8"]
[null,null,null,null,"Tower Hamlets Total",null,null,"The One Network",null,null,null,"East End Health Network",null,null,null,"Tower Network",null,null,null,"Bow Health Network",null,null,null,"Mile End East and Bromley by Bow Network",null,null,null,"Poplar and Limehouse Network",null,null,null,"Healthy Island Network"]
[]
[]
[null,"(01) 12 MONTH COHORT",{"$f":"\"Patients becoming 12m within \"&'Control Panel'!$B$1","v":"Patients becoming 12m within Q3"},null,null,{"$f":"I14+M14+Q14+U14+Y14+AC14+AG14","v":992},null,null,{"$f":"SUMIFS(OFFSET(REL_D,,MATCH(B14,IND,0)-1),REL_D,$M$2,IF(LEFT($I$10,1)=\"N\",NwID,OrgID),$I$10)","v":96},null,null,null,{"$f":"SUMIFS(OFFSET(REL_D,,MATCH(B14,IND,0)-1),REL_D,$M$2,IF(LEFT($M$10,1)=\"N\",NwID,OrgID),$M$10)","v":90},null,null,null,{"$f":"SUMIFS(OFFSET(REL_D,,MATCH(B14,IND,0)-1),REL_D,$M$2,IF(LEFT($Q$10,1)=\"N\",NwID,OrgID),$Q$10)","v":229},null,null,null,{"$f":"SUMIFS(OFFSET(REL_D,,MATCH(B14,IND,0)-1),REL_D,$M$2,IF(LEFT($U$10,1)=\"N\",NwID,OrgID),$U$10)","v":105},null,null,null,{"$f":"SUMIFS(OFFSET(REL_D,,MATCH(B14,IND,0)-1),REL_D,$M$2,IF(LEFT($Y$10,1)=\"N\",NwID,OrgID),$Y$10)","v":167},null,null,null,{"$f":"SUMIFS(OFFSET(REL_D,,MATCH(B14,IND,0)-1),REL_D,$M$2,IF(LEFT($AC$10,1)=\"N\",NwID,OrgID),$AC$10)","v":133},null,null,null,{"$f":"SUMIFS(OFFSET(REL_D,,MATCH(B14,IND,0)-1),REL_D,$M$2,IF(LEFT($AG$10,1)=\"N\",NwID,OrgID),$AG$10)","v":172}]
[null,null,null,null,"Coverage","Activty",null,"Coverage","Activty","Required",null,"Coverage","Activty","Required",null,"Coverage","Activty","Required",null,"Coverage","Activty","Required",null,"Coverage","Activty","Required",null,"Coverage","Activty","Required",null,"Coverage","Activty","Required"]
[null,"(01.01) DTaP/IPV/Hib","DTaP/IPV/Hib/HepB",null,{"$f":"IFERROR(F16/F$14,\"-\")","v":0.89717741935483875},{"$f":"I16+M16+Q16+U16+Y16+AC16+AG16","v":890},null,{"$f":"IFERROR(I16/I$14,\"-\")","v":0.85416666666666663},{"$f":"SUMIFS(OFFSET(REL_D,,MATCH(B16,IND,0)-1),REL_D,$M$2,IF(LEFT($I$10,1)=\"N\",NwID,OrgID),$I$10)","v":82},{"$f":"IF(AND(I$14*0.95-I16<1,(I$14*0.95-I16>0)),1,IF(I$14*0.95-I16<=0,\"\",I$14*0.95-I16))","v":9.1999999999999886},null,{"$f":"IFERROR(M16/M$14,\"-\")","v":0.94444444444444442},{"$f":"SUMIFS(OFFSET(REL_D,,MATCH($B16,IND,0)-1),REL_D,$M$2,IF(LEFT($M$10,1)=\"N\",NwID,OrgID),$M$10)","v":85},{"$f":"IF(AND(M$14*0.95-M16<1,(M$14*0.95-M16>0)),1,IF(M$14*0.95-M16<=0,\"\",M$14*0.95-M16))","v":1},null,{"$f":"IFERROR(Q16/Q$14,\"-\")","v":0.88209606986899558},{"$f":"SUMIFS(OFFSET(REL_D,,MATCH($B16,IND,0)-1),REL_D,$M$2,IF(LEFT($Q$10,1)=\"N\",NwID,OrgID),$Q$10)","v":202},{"$f":"IF(AND(Q$14*0.95-Q16<1,(Q$14*0.95-Q16>0)),1,IF(Q$14*0.95-Q16<=0,\"\",Q$14*0.95-Q16))","v":15.549999999999983},null,{"$f":"IFERROR(U16/U$14,\"-\")","v":0.92380952380952386},{"$f":"SUMIFS(OFFSET(REL_D,,MATCH($B16,IND,0)-1),REL_D,$M$2,IF(LEFT($U$10,1)=\"N\",NwID,OrgID),$U$10)","v":97},{"$f":"IF(AND(U$14*0.95-U16<1,(U$14*0.95-U16>0)),1,IF(U$14*0.95-U16<=0,\"\",U$14*0.95-U16))","v":2.75},null,{"$f":"IFERROR(Y16/Y$14,\"-\")","v":0.90419161676646709},{"$f":"SUMIFS(OFFSET(REL_D,,MATCH($B16,IND,0)-1),REL_D,$M$2,IF(LEFT($Y$10,1)=\"N\",NwID,OrgID),$Y$10)","v":151},{"$f":"IF(AND(Y$14*0.95-Y16<1,(Y$14*0.95-Y16>0)),1,IF(Y$14*0.95-Y16<=0,\"\",Y$14*0.95-Y16))","v":7.6500000000000057},null,{"$f":"IFERROR(AC16/AC$14,\"-\")","v":0.84962406015037595},{"$f":"SUMIFS(OFFSET(REL_D,,MATCH($B16,IND,0)-1),REL_D,$M$2,IF(LEFT($AC$10,1)=\"N\",NwID,OrgID),$AC$10)","v":113},{"$f":"IF(AND(AC$14*0.95-AC16<1,(AC$14*0.95-AC16>0)),1,IF(AC$14*0.95-AC16<=0,\"\",AC$14*0.95-AC16))","v":13.349999999999994},null,{"$f":"IFERROR(AG16/AG$14,\"-\")","v":0.93023255813953487},{"$f":"SUMIFS(OFFSET(REL_D,,MATCH($B16,IND,0)-1),REL_D,$M$2,IF(LEFT($AG$10,1)=\"N\",NwID,OrgID),$AG$10)","v":160},{"$f":"IF(AND(AG$14*0.95-AG16<1,(AG$14*0.95-AG16>0)),1,IF(AG$14*0.95-AG16<=0,\"\",AG$14*0.95-AG16))","v":3.4000000000000057}]
[null,"(01.02) Men B (1st and 2nd)","Men B",null,{"$f":"IFERROR(F17/F$14,\"-\")","v":0.89213709677419351},{"$f":"I17+M17+Q17+U17+Y17+AC17+AG17","v":885},null,{"$f":"IFERROR(I17/I$14,\"-\")","v":0.86458333333333337},{"$f":"SUMIFS(OFFSET(REL_D,,MATCH(B17,IND,0)-1),REL_D,$M$2,IF(LEFT($I$10,1)=\"N\",NwID,OrgID),$I$10)","v":83},{"$f":"IF(AND(I$14*0.95-I17<1,(I$14*0.95-I17>0)),1,IF(I$14*0.95-I17<=0,\"\",I$14*0.95-I17))","v":8.1999999999999886},null,{"$f":"IFERROR(M17/M$14,\"-\")","v":0.9555555555555556},{"$f":"SUMIFS(OFFSET(REL_D,,MATCH($B17,IND,0)-1),REL_D,$M$2,IF(LEFT($M$10,1)=\"N\",NwID,OrgID),$M$10)","v":86},{"$f":"IF(AND(M$14*0.95-M17<1,(M$14*0.95-M17>0)),1,IF(M$14*0.95-M17<=0,\"\",M$14*0.95-M17))","v":""},null,{"$f":"IFERROR(Q17/Q$14,\"-\")","v":0.86899563318777295},{"$f":"SUMIFS(OFFSET(REL_D,,MATCH($B17,IND,0)-1),REL_D,$M$2,IF(LEFT($Q$10,1)=\"N\",NwID,OrgID),$Q$10)","v":199},{"$f":"IF(AND(Q$14*0.95-Q17<1,(Q$14*0.95-Q17>0)),1,IF(Q$14*0.95-Q17<=0,\"\",Q$14*0.95-Q17))","v":18.549999999999983},null,{"$f":"IFERROR(U17/U$14,\"-\")","v":0.93333333333333335},{"$f":"SUMIFS(OFFSET(REL_D,,MATCH($B17,IND,0)-1),REL_D,$M$2,IF(LEFT($U$10,1)=\"N\",NwID,OrgID),$U$10)","v":98},{"$f":"IF(AND(U$14*0.95-U17<1,(U$14*0.95-U17>0)),1,IF(U$14*0.95-U17<=0,\"\",U$14*0.95-U17))","v":1.75},null,{"$f":"IFERROR(Y17/Y$14,\"-\")","v":0.89820359281437123},{"$f":"SUMIFS(OFFSET(REL_D,,MATCH($B17,IND,0)-1),REL_D,$M$2,IF(LEFT($Y$10,1)=\"N\",NwID,OrgID),$Y$10)","v":150},{"$f":"IF(AND(Y$14*0.95-Y17<1,(Y$14*0.95-Y17>0)),1,IF(Y$14*0.95-Y17<=0,\"\",Y$14*0.95-Y17))","v":8.6500000000000057},null,{"$f":"IFERROR(AC17/AC$14,\"-\")","v":0.84962406015037595},{"$f":"SUMIFS(OFFSET(REL_D,,MATCH($B17,IND,0)-1),REL_D,$M$2,IF(LEFT($AC$10,1)=\"N\",NwID,OrgID),$AC$10)","v":113},{"$f":"IF(AND(AC$14*0.95-AC17<1,(AC$14*0.95-AC17>0)),1,IF(AC$14*0.95-AC17<=0,\"\",AC$14*0.95-AC17))","v":13.349999999999994},null,{"$f":"IFERROR(AG17/AG$14,\"-\")","v":0.90697674418604646},{"$f":"SUMIFS(OFFSET(REL_D,,MATCH($B17,IND,0)-1),REL_D,$M$2,IF(LEFT($AG$10,1)=\"N\",NwID,OrgID),$AG$10)","v":156},{"$f":"IF(AND(AG$14*0.95-AG17<1,(AG$14*0.95-AG17>0)),1,IF(AG$14*0.95-AG17<=0,\"\",AG$14*0.95-AG17))","v":7.4000000000000057}]
[null,"(01.03) PCV","PCV",null,0.9213709677419355,{"$f":"I18+M18+Q18+U18+Y18+AC18+AG18","v":914},null,0.90625,{"$f":"SUMIFS(OFFSET(REL_D,,MATCH(B18,IND,0)-1),REL_D,$M$2,IF(LEFT($I$10,1)=\"N\",NwID,OrgID),$I$10)","v":87},4.1999999999999886,null,0.94444444444444442,{"$f":"SUMIFS(OFFSET(REL_D,,MATCH($B18,IND,0)-1),REL_D,$M$2,IF(LEFT($M$10,1)=\"N\",NwID,OrgID),$M$10)","v":85},1,null,0.90393013100436681,{"$f":"SUMIFS(OFFSET(REL_D,,MATCH($B18,IND,0)-1),REL_D,$M$2,IF(LEFT($Q$10,1)=\"N\",NwID,OrgID),$Q$10)","v":207},10.549999999999983,null,{"$f":"IFERROR(U18/U$14,\"-\")","v":0.93333333333333335},{"$f":"SUMIFS(OFFSET(REL_D,,MATCH($B18,IND,0)-1),REL_D,$M$2,IF(LEFT($U$10,1)=\"N\",NwID,OrgID),$U$10)","v":98},{"$f":"IF(AND(U$14*0.95-U18<1,(U$14*0.95-U18>0)),1,IF(U$14*0.95-U18<=0,\"\",U$14*0.95-U18))","v":1.75},null,{"$f":"IFERROR(Y18/Y$14,\"-\")","v":0.93413173652694614},{"$f":"SUMIFS(OFFSET(REL_D,,MATCH($B18,IND,0)-1),REL_D,$M$2,IF(LEFT($Y$10,1)=\"N\",NwID,OrgID),$Y$10)","v":156},{"$f":"IF(AND(Y$14*0.95-Y18<1,(Y$14*0.95-Y18>0)),1,IF(Y$14*0.95-Y18<=0,\"\",Y$14*0.95-Y18))","v":2.6500000000000057},null,{"$f":"IFERROR(AC18/AC$14,\"-\")","v":0.89473684210526316},{"$f":"SUMIFS(OFFSET(REL_D,,MATCH($B18,IND,0)-1),REL_D,$M$2,IF(LEFT($AC$10,1)=\"N\",NwID,OrgID),$AC$10)","v":119},{"$f":"IF(AND(AC$14*0.95-AC18<1,(AC$14*0.95-AC18>0)),1,IF(AC$14*0.95-AC18<=0,\"\",AC$14*0.95-AC18))","v":7.3499999999999943},null,{"$f":"IFERROR(AG18/AG$14,\"-\")","v":0.94186046511627908},{"$f":"SUMIFS(OFFSET(REL_D,,MATCH($B18,IND,0)-1),REL_D,$M$2,IF(LEFT($AG$10,1)=\"N\",NwID,OrgID),$AG$10)","v":162},{"$f":"IF(AND(AG$14*0.95-AG18<1,(AG$14*0.95-AG18>0)),1,IF(AG$14*0.95-AG18<=0,\"\",AG$14*0.95-AG18))","v":1.4000000000000057}]
[null,"(01.04) Rotavirus","Rotavirus",null,0.87903225806451613,{"$f":"I19+M19+Q19+U19+Y19+AC19+AG19","v":872},null,0.84375,{"$f":"SUMIFS(OFFSET(REL_D,,MATCH(B19,IND,0)-1),REL_D,$M$2,IF(LEFT($I$10,1)=\"N\",NwID,OrgID),$I$10)","v":81},10.199999999999989,null,0.91111111111111109,{"$f":"SUMIFS(OFFSET(REL_D,,MATCH($B19,IND,0)-1),REL_D,$M$2,IF(LEFT($M$10,1)=\"N\",NwID,OrgID),$M$10)","v":82},3.5,null,0.88209606986899558,{"$f":"SUMIFS(OFFSET(REL_D,,MATCH($B19,IND,0)-1),REL_D,$M$2,IF(LEFT($Q$10,1)=\"N\",NwID,OrgID),$Q$10)","v":202},15.549999999999983,null,{"$f":"IFERROR(U19/U$14,\"-\")","v":0.91428571428571426},{"$f":"SUMIFS(OFFSET(REL_D,,MATCH($B19,IND,0)-1),REL_D,$M$2,IF(LEFT($U$10,1)=\"N\",NwID,OrgID),$U$10)","v":96},{"$f":"IF(AND(U$14*0.95-U19<1,(U$14*0.95-U19>0)),1,IF(U$14*0.95-U19<=0,\"\",U$14*0.95-U19))","v":3.75},null,{"$f":"IFERROR(Y19/Y$14,\"-\")","v":0.88622754491017963},{"$f":"SUMIFS(OFFSET(REL_D,,MATCH($B19,IND,0)-1),REL_D,$M$2,IF(LEFT($Y$10,1)=\"N\",NwID,OrgID),$Y$10)","v":148},{"$f":"IF(AND(Y$14*0.95-Y19<1,(Y$14*0.95-Y19>0)),1,IF(Y$14*0.95-Y19<=0,\"\",Y$14*0.95-Y19))","v":10.650000000000006},null,{"$f":"IFERROR(AC19/AC$14,\"-\")","v":0.79699248120300747},{"$f":"SUMIFS(OFFSET(REL_D,,MATCH($B19,IND,0)-1),REL_D,$M$2,IF(LEFT($AC$10,1)=\"N\",NwID,OrgID),$AC$10)","v":106},{"$f":"IF(AND(AC$14*0.95-AC19<1,(AC$14*0.95-AC19>0)),1,IF(AC$14*0.95-AC19<=0,\"\",AC$14*0.95-AC19))","v":20.349999999999994},null,{"$f":"IFERROR(AG19/AG$14,\"-\")","v":0.91279069767441856},{"$f":"SUMIFS(OFFSET(REL_D,,MATCH($B19,IND,0)-1),REL_D,$M$2,IF(LEFT($AG$10,1)=\"N\",NwID,OrgID),$AG$10)","v":157},{"$f":"IF(AND(AG$14*0.95-AG19<1,(AG$14*0.95-AG19>0)),1,IF(AG$14*0.95-AG19<=0,\"\",AG$14*0.95-AG19))","v":6.4000000000000057}]
[null,"(01.05) BCG","BCG",null,0.47278225806451613,{"$f":"I20+M20+Q20+U20+Y20+AC20+AG20","v":469},null,0.30208333333333331,{"$f":"SUMIFS(OFFSET(REL_D,,MATCH(B20,IND,0)-1),REL_D,$M$2,IF(LEFT($I$10,1)=\"N\",NwID,OrgID),$I$10)","v":29},62.199999999999989,null,0.72222222222222221,{"$f":"SUMIFS(OFFSET(REL_D,,MATCH($B20,IND,0)-1),REL_D,$M$2,IF(LEFT($M$10,1)=\"N\",NwID,OrgID),$M$10)","v":65},20.5,null,0.37554585152838427,{"$f":"SUMIFS(OFFSET(REL_D,,MATCH($B20,IND,0)-1),REL_D,$M$2,IF(LEFT($Q$10,1)=\"N\",NwID,OrgID),$Q$10)","v":86},131.54999999999998,null,{"$f":"IFERROR(U20/U$14,\"-\")","v":0.33333333333333331},{"$f":"SUMIFS(OFFSET(REL_D,,MATCH($B20,IND,0)-1),REL_D,$M$2,IF(LEFT($U$10,1)=\"N\",NwID,OrgID),$U$10)","v":35},{"$f":"IF(AND(U$14*0.95-U20<1,(U$14*0.95-U20>0)),1,IF(U$14*0.95-U20<=0,\"\",U$14*0.95-U20))","v":64.75},null,{"$f":"IFERROR(Y20/Y$14,\"-\")","v":0.57485029940119758},{"$f":"SUMIFS(OFFSET(REL_D,,MATCH($B20,IND,0)-1),REL_D,$M$2,IF(LEFT($Y$10,1)=\"N\",NwID,OrgID),$Y$10)","v":96},{"$f":"IF(AND(Y$14*0.95-Y20<1,(Y$14*0.95-Y20>0)),1,IF(Y$14*0.95-Y20<=0,\"\",Y$14*0.95-Y20))","v":62.650000000000006},null,{"$f":"IFERROR(AC20/AC$14,\"-\")","v":0.51127819548872178},{"$f":"SUMIFS(OFFSET(REL_D,,MATCH($B20,IND,0)-1),REL_D,$M$2,IF(LEFT($AC$10,1)=\"N\",NwID,OrgID),$AC$10)","v":68},{"$f":"IF(AND(AC$14*0.95-AC20<1,(AC$14*0.95-AC20>0)),1,IF(AC$14*0.95-AC20<=0,\"\",AC$14*0.95-AC20))","v":58.349999999999994},null,{"$f":"IFERROR(AG20/AG$14,\"-\")","v":0.52325581395348841},{"$f":"SUMIFS(OFFSET(REL_D,,MATCH($B20,IND,0)-1),REL_D,$M$2,IF(LEFT($AG$10,1)=\"N\",NwID,OrgID),$AG$10)","v":90},{"$f":"IF(AND(AG$14*0.95-AG20<1,(AG$14*0.95-AG20>0)),1,IF(AG$14*0.95-AG20<=0,\"\",AG$14*0.95-AG20))","v":73.400000000000006}]
[]
[null,"(02) 24 MONTH COHORT",{"$f":"\"Patients becoming 24m within \"&'Control Panel'!$B$1","v":"Patients becoming 24m within Q3"},null,null,{"$f":"I22+M22+Q22+U22+Y22+AC22+AG22","v":974},null,null,{"$f":"SUMIFS(OFFSET(REL_D,,MATCH(B22,IND,0)-1),REL_D,$M$2,IF(LEFT($I$10,1)=\"N\",NwID,OrgID),$I$10)","v":94},null,null,null,{"$f":"SUMIFS(OFFSET(REL_D,,MATCH(B22,IND,0)-1),REL_D,$M$2,IF(LEFT($M$10,1)=\"N\",NwID,OrgID),$M$10)","v":90},null,null,null,{"$f":"SUMIFS(OFFSET(REL_D,,MATCH(B22,IND,0)-1),REL_D,$M$2,IF(LEFT($Q$10,1)=\"N\",NwID,OrgID),$Q$10)","v":218},null,null,null,{"$f":"SUMIFS(OFFSET(REL_D,,MATCH(B22,IND,0)-1),REL_D,$M$2,IF(LEFT($U$10,1)=\"N\",NwID,OrgID),$U$10)","v":84},null,null,null,{"$f":"SUMIFS(OFFSET(REL_D,,MATCH(B22,IND,0)-1),REL_D,$M$2,IF(LEFT($Y$10,1)=\"N\",NwID,OrgID),$Y$10)","v":167},null,null,null,{"$f":"SUMIFS(OFFSET(REL_D,,MATCH(B22,IND,0)-1),REL_D,$M$2,IF(LEFT($AC$10,1)=\"N\",NwID,OrgID),$AC$10)","v":147},null,null,null,{"$f":"SUMIFS(OFFSET(REL_D,,MATCH(B22,IND,0)-1),REL_D,$M$2,IF(LEFT($AG$10,1)=\"N\",NwID,OrgID),$AG$10)","v":174}]
[null,null,null,null,"Coverage","Activty",null,"Coverage","Activty","Required",null,"Coverage","Activty","Required",null,"Coverage","Activty","Required",null,"Coverage","Activty","Required",null,"Coverage","Activty","Required",null,"Coverage","Activty","Required",null,"Coverage","Activty","Required"]
[null,"(02.01) DTaP/IPV/Hib","DTaP/IPV/Hib/HepB",null,{"$f":"IFERROR(F24/F$22,\"-\")","v":0.90451745379876791},{"$f":"I24+M24+Q24+U24+Y24+AC24+AG24","v":881},null,{"$f":"IFERROR(I24/I$22,\"-\")","v":0.9042553191489362},{"$f":"SUMIFS(OFFSET(REL_D,,MATCH(B24,IND,0)-1),REL_D,$M$2,IF(LEFT($I$10,1)=\"N\",NwID,OrgID),$I$10)","v":85},{"$f":"IF(AND(I$22*0.95-I24<1,(I$22*0.95-I24>0)),1,IF(I$22*0.95-I24<=0,\"\",I$22*0.95-I24))","v":4.2999999999999972},null,{"$f":"IFERROR(M24/M$22,\"-\")","v":0.92222222222222228},{"$f":"SUMIFS(OFFSET(REL_D,,MATCH($B24,IND,0)-1),REL_D,$M$2,IF(LEFT($M$10,1)=\"N\",NwID,OrgID),$M$10)","v":83},{"$f":"IF(AND(M$22*0.95-M24<1,(M$22*0.95-M24>0)),1,IF(M$22*0.95-M24<=0,\"\",M$22*0.95-M24))","v":2.5},null,{"$f":"IFERROR(Q24/Q$22,\"-\")","v":0.90366972477064222},{"$f":"SUMIFS(OFFSET(REL_D,,MATCH($B24,IND,0)-1),REL_D,$M$2,IF(LEFT($Q$10,1)=\"N\",NwID,OrgID),$Q$10)","v":197},{"$f":"IF(AND(Q$22*0.95-Q24<1,(Q$22*0.95-Q24>0)),1,IF(Q$22*0.95-Q24<=0,\"\",Q$22*0.95-Q24))","v":10.099999999999994},null,{"$f":"IFERROR(U24/U$22,\"-\")","v":0.9285714285714286},{"$f":"SUMIFS(OFFSET(REL_D,,MATCH($B24,IND,0)-1),REL_D,$M$2,IF(LEFT($U$10,1)=\"N\",NwID,OrgID),$U$10)","v":78},{"$f":"IF(AND(U$22*0.95-U24<1,(U$22*0.95-U24>0)),1,IF(U$22*0.95-U24<=0,\"\",U$22*0.95-U24))","v":1.7999999999999972},null,{"$f":"IFERROR(Y24/Y$22,\"-\")","v":0.93413173652694614},{"$f":"SUMIFS(OFFSET(REL_D,,MATCH($B24,IND,0)-1),REL_D,$M$2,IF(LEFT($Y$10,1)=\"N\",NwID,OrgID),$Y$10)","v":156},{"$f":"IF(AND(Y$22*0.95-Y24<1,(Y$22*0.95-Y24>0)),1,IF(Y$22*0.95-Y24<=0,\"\",Y$22*0.95-Y24))","v":2.6500000000000057},null,{"$f":"IFERROR(AC24/AC$22,\"-\")","v":0.86394557823129248},{"$f":"SUMIFS(OFFSET(REL_D,,MATCH($B24,IND,0)-1),REL_D,$M$2,IF(LEFT($AC$10,1)=\"N\",NwID,OrgID),$AC$10)","v":127},{"$f":"IF(AND(AC$22*0.95-AC24<1,(AC$22*0.95-AC24>0)),1,IF(AC$22*0.95-AC24<=0,\"\",AC$22*0.95-AC24))","v":12.650000000000006},null,{"$f":"IFERROR(AG24/AG$22,\"-\")","v":0.89080459770114939},{"$f":"SUMIFS(OFFSET(REL_D,,MATCH($B24,IND,0)-1),REL_D,$M$2,IF(LEFT($AG$10,1)=\"N\",NwID,OrgID),$AG$10)","v":155},{"$f":"IF(AND(AG$22*0.95-AG24<1,(AG$22*0.95-AG24>0)),1,IF(AG$22*0.95-AG24<=0,\"\",AG$22*0.95-AG24))","v":10.299999999999983}]
[null,"(02.02) MMR","MMR",null,{"$f":"IFERROR(F25/F$22,\"-\")","v":0.85831622176591371},{"$f":"I25+M25+Q25+U25+Y25+AC25+AG25","v":836},null,{"$f":"IFERROR(I25/I$22,\"-\")","v":0.86170212765957444},{"$f":"SUMIFS(OFFSET(REL_D,,MATCH(B25,IND,0)-1),REL_D,$M$2,IF(LEFT($I$10,1)=\"N\",NwID,OrgID),$I$10)","v":81},{"$f":"IF(AND(I$22*0.95-I25<1,(I$22*0.95-I25>0)),1,IF(I$22*0.95-I25<=0,\"\",I$22*0.95-I25))","v":8.2999999999999972},null,{"$f":"IFERROR(M25/M$22,\"-\")","v":0.9},{"$f":"SUMIFS(OFFSET(REL_D,,MATCH($B25,IND,0)-1),REL_D,$M$2,IF(LEFT($M$10,1)=\"N\",NwID,OrgID),$M$10)","v":81},{"$f":"IF(AND(M$22*0.95-M25<1,(M$22*0.95-M25>0)),1,IF(M$22*0.95-M25<=0,\"\",M$22*0.95-M25))","v":4.5},null,{"$f":"IFERROR(Q25/Q$22,\"-\")","v":0.83944954128440363},{"$f":"SUMIFS(OFFSET(REL_D,,MATCH($B25,IND,0)-1),REL_D,$M$2,IF(LEFT($Q$10,1)=\"N\",NwID,OrgID),$Q$10)","v":183},{"$f":"IF(AND(Q$22*0.95-Q25<1,(Q$22*0.95-Q25>0)),1,IF(Q$22*0.95-Q25<=0,\"\",Q$22*0.95-Q25))","v":24.099999999999994},null,{"$f":"IFERROR(U25/U$22,\"-\")","v":0.8571428571428571},{"$f":"SUMIFS(OFFSET(REL_D,,MATCH($B25,IND,0)-1),REL_D,$M$2,IF(LEFT($U$10,1)=\"N\",NwID,OrgID),$U$10)","v":72},{"$f":"IF(AND(U$22*0.95-U25<1,(U$22*0.95-U25>0)),1,IF(U$22*0.95-U25<=0,\"\",U$22*0.95-U25))","v":7.7999999999999972},null,{"$f":"IFERROR(Y25/Y$22,\"-\")","v":0.91616766467065869},{"$f":"SUMIFS(OFFSET(REL_D,,MATCH($B25,IND,0)-1),REL_D,$M$2,IF(LEFT($Y$10,1)=\"N\",NwID,OrgID),$Y$10)","v":153},{"$f":"IF(AND(Y$22*0.95-Y25<1,(Y$22*0.95-Y25>0)),1,IF(Y$22*0.95-Y25<=0,\"\",Y$22*0.95-Y25))","v":5.6500000000000057},null,{"$f":"IFERROR(AC25/AC$22,\"-\")","v":0.84353741496598644},{"$f":"SUMIFS(OFFSET(REL_D,,MATCH($B25,IND,0)-1),REL_D,$M$2,IF(LEFT($AC$10,1)=\"N\",NwID,OrgID),$AC$10)","v":124},{"$f":"IF(AND(AC$22*0.95-AC25<1,(AC$22*0.95-AC25>0)),1,IF(AC$22*0.95-AC25<=0,\"\",AC$22*0.95-AC25))","v":15.650000000000006},null,{"$f":"IFERROR(AG25/AG$22,\"-\")","v":0.81609195402298851},{"$f":"SUMIFS(OFFSET(REL_D,,MATCH($B25,IND,0)-1),REL_D,$M$2,IF(LEFT($AG$10,1)=\"N\",NwID,OrgID),$AG$10)","v":142},{"$f":"IF(AND(AG$22*0.95-AG25<1,(AG$22*0.95-AG25>0)),1,IF(AG$22*0.95-AG25<=0,\"\",AG$22*0.95-AG25))","v":23.299999999999983}]
[null,"(02.03) HiB/Men C","HiB/Men C",null,0.86447638603696098,{"$f":"I26+M26+Q26+U26+Y26+AC26+AG26","v":842},null,{"$f":"IFERROR(I26/I$22,\"-\")","v":0.87234042553191493},{"$f":"SUMIFS(OFFSET(REL_D,,MATCH(B26,IND,0)-1),REL_D,$M$2,IF(LEFT($I$10,1)=\"N\",NwID,OrgID),$I$10)","v":82},7.2999999999999972,null,0.91111111111111109,{"$f":"SUMIFS(OFFSET(REL_D,,MATCH($B26,IND,0)-1),REL_D,$M$2,IF(LEFT($M$10,1)=\"N\",NwID,OrgID),$M$10)","v":82},3.5,null,0.84862385321100919,{"$f":"SUMIFS(OFFSET(REL_D,,MATCH($B26,IND,0)-1),REL_D,$M$2,IF(LEFT($Q$10,1)=\"N\",NwID,OrgID),$Q$10)","v":185},22.099999999999994,null,{"$f":"IFERROR(U26/U$22,\"-\")","v":0.88095238095238093},{"$f":"SUMIFS(OFFSET(REL_D,,MATCH($B26,IND,0)-1),REL_D,$M$2,IF(LEFT($U$10,1)=\"N\",NwID,OrgID),$U$10)","v":74},{"$f":"IF(AND(U$22*0.95-U26<1,(U$22*0.95-U26>0)),1,IF(U$22*0.95-U26<=0,\"\",U$22*0.95-U26))","v":5.7999999999999972},null,{"$f":"IFERROR(Y26/Y$22,\"-\")","v":0.91616766467065869},{"$f":"SUMIFS(OFFSET(REL_D,,MATCH($B26,IND,0)-1),REL_D,$M$2,IF(LEFT($Y$10,1)=\"N\",NwID,OrgID),$Y$10)","v":153},{"$f":"IF(AND(Y$22*0.95-Y26<1,(Y$22*0.95-Y26>0)),1,IF(Y$22*0.95-Y26<=0,\"\",Y$22*0.95-Y26))","v":5.6500000000000057},null,{"$f":"IFERROR(AC26/AC$22,\"-\")","v":0.83673469387755106},{"$f":"SUMIFS(OFFSET(REL_D,,MATCH($B26,IND,0)-1),REL_D,$M$2,IF(LEFT($AC$10,1)=\"N\",NwID,OrgID),$AC$10)","v":123},{"$f":"IF(AND(AC$22*0.95-AC26<1,(AC$22*0.95-AC26>0)),1,IF(AC$22*0.95-AC26<=0,\"\",AC$22*0.95-AC26))","v":16.650000000000006},null,{"$f":"IFERROR(AG26/AG$22,\"-\")","v":0.82183908045977017},{"$f":"SUMIFS(OFFSET(REL_D,,MATCH($B26,IND,0)-1),REL_D,$M$2,IF(LEFT($AG$10,1)=\"N\",NwID,OrgID),$AG$10)","v":143},{"$f":"IF(AND(AG$22*0.95-AG26<1,(AG$22*0.95-AG26>0)),1,IF(AG$22*0.95-AG26<=0,\"\",AG$22*0.95-AG26))","v":22.299999999999983}]
[null,"(02.04) PCV (Booster)","PCV (Booster)",null,0.86344969199178645,{"$f":"I27+M27+Q27+U27+Y27+AC27+AG27","v":841},null,{"$f":"IFERROR(I27/I$22,\"-\")","v":0.88297872340425532},{"$f":"SUMIFS(OFFSET(REL_D,,MATCH(B27,IND,0)-1),REL_D,$M$2,IF(LEFT($I$10,1)=\"N\",NwID,OrgID),$I$10)","v":83},6.2999999999999972,null,0.91111111111111109,{"$f":"SUMIFS(OFFSET(REL_D,,MATCH($B27,IND,0)-1),REL_D,$M$2,IF(LEFT($M$10,1)=\"N\",NwID,OrgID),$M$10)","v":82},3.5,null,0.84862385321100919,{"$f":"SUMIFS(OFFSET(REL_D,,MATCH($B27,IND,0)-1),REL_D,$M$2,IF(LEFT($Q$10,1)=\"N\",NwID,OrgID),$Q$10)","v":185},22.099999999999994,null,{"$f":"IFERROR(U27/U$22,\"-\")","v":0.88095238095238093},{"$f":"SUMIFS(OFFSET(REL_D,,MATCH($B27,IND,0)-1),REL_D,$M$2,IF(LEFT($U$10,1)=\"N\",NwID,OrgID),$U$10)","v":74},{"$f":"IF(AND(U$22*0.95-U27<1,(U$22*0.95-U27>0)),1,IF(U$22*0.95-U27<=0,\"\",U$22*0.95-U27))","v":5.7999999999999972},null,{"$f":"IFERROR(Y27/Y$22,\"-\")","v":0.91616766467065869},{"$f":"SUMIFS(OFFSET(REL_D,,MATCH($B27,IND,0)-1),REL_D,$M$2,IF(LEFT($Y$10,1)=\"N\",NwID,OrgID),$Y$10)","v":153},{"$f":"IF(AND(Y$22*0.95-Y27<1,(Y$22*0.95-Y27>0)),1,IF(Y$22*0.95-Y27<=0,\"\",Y$22*0.95-Y27))","v":5.6500000000000057},null,{"$f":"IFERROR(AC27/AC$22,\"-\")","v":0.8231292517006803},{"$f":"SUMIFS(OFFSET(REL_D,,MATCH($B27,IND,0)-1),REL_D,$M$2,IF(LEFT($AC$10,1)=\"N\",NwID,OrgID),$AC$10)","v":121},{"$f":"IF(AND(AC$22*0.95-AC27<1,(AC$22*0.95-AC27>0)),1,IF(AC$22*0.95-AC27<=0,\"\",AC$22*0.95-AC27))","v":18.650000000000006},null,{"$f":"IFERROR(AG27/AG$22,\"-\")","v":0.82183908045977017},{"$f":"SUMIFS(OFFSET(REL_D,,MATCH($B27,IND,0)-1),REL_D,$M$2,IF(LEFT($AG$10,1)=\"N\",NwID,OrgID),$AG$10)","v":143},{"$f":"IF(AND(AG$22*0.95-AG27<1,(AG$22*0.95-AG27>0)),1,IF(AG$22*0.95-AG27<=0,\"\",AG$22*0.95-AG27))","v":22.299999999999983}]
[null,"(02.05) Men B (Booster)","MenB (Booster) ",null,0.8613963039014374,{"$f":"I28+M28+Q28+U28+Y28+AC28+AG28","v":839},null,{"$f":"IFERROR(I28/I$22,\"-\")","v":0.88297872340425532},{"$f":"SUMIFS(OFFSET(REL_D,,MATCH(B28,IND,0)-1),REL_D,$M$2,IF(LEFT($I$10,1)=\"N\",NwID,OrgID),$I$10)","v":83},{"$f":"IF(AND(I$22*0.95-I28<1,(I$22*0.95-I28>0)),1,IF(I$22*0.95-I28<=0,\"\",I$22*0.95-I28))","v":6.2999999999999972},null,0.91111111111111109,{"$f":"SUMIFS(OFFSET(REL_D,,MATCH($B28,IND,0)-1),REL_D,$M$2,IF(LEFT($M$10,1)=\"N\",NwID,OrgID),$M$10)","v":82},{"$f":"IF(AND(M$22*0.95-M28<1,(M$22*0.95-M28>0)),1,IF(M$22*0.95-M28<=0,\"\",M$22*0.95-M28))","v":3.5},null,0.83944954128440363,{"$f":"SUMIFS(OFFSET(REL_D,,MATCH($B28,IND,0)-1),REL_D,$M$2,IF(LEFT($Q$10,1)=\"N\",NwID,OrgID),$Q$10)","v":183},{"$f":"IF(AND(Q$22*0.95-Q28<1,(Q$22*0.95-Q28>0)),1,IF(Q$22*0.95-Q28<=0,\"\",Q$22*0.95-Q28))","v":24.099999999999994},null,{"$f":"IFERROR(U28/U$22,\"-\")","v":0.88095238095238093},{"$f":"SUMIFS(OFFSET(REL_D,,MATCH($B28,IND,0)-1),REL_D,$M$2,IF(LEFT($U$10,1)=\"N\",NwID,OrgID),$U$10)","v":74},{"$f":"IF(AND(U$22*0.95-U28<1,(U$22*0.95-U28>0)),1,IF(U$22*0.95-U28<=0,\"\",U$22*0.95-U28))","v":5.7999999999999972},null,{"$f":"IFERROR(Y28/Y$22,\"-\")","v":0.91017964071856283},{"$f":"SUMIFS(OFFSET(REL_D,,MATCH($B28,IND,0)-1),REL_D,$M$2,IF(LEFT($Y$10,1)=\"N\",NwID,OrgID),$Y$10)","v":152},{"$f":"IF(AND(Y$22*0.95-Y28<1,(Y$22*0.95-Y28>0)),1,IF(Y$22*0.95-Y28<=0,\"\",Y$22*0.95-Y28))","v":6.6500000000000057},null,{"$f":"IFERROR(AC28/AC$22,\"-\")","v":0.82993197278911568},{"$f":"SUMIFS(OFFSET(REL_D,,MATCH($B28,IND,0)-1),REL_D,$M$2,IF(LEFT($AC$10,1)=\"N\",NwID,OrgID),$AC$10)","v":122},{"$f":"IF(AND(AC$22*0.95-AC28<1,(AC$22*0.95-AC28>0)),1,IF(AC$22*0.95-AC28<=0,\"\",AC$22*0.95-AC28))","v":17.650000000000006},null,{"$f":"IFERROR(AG28/AG$22,\"-\")","v":0.82183908045977017},{"$f":"SUMIFS(OFFSET(REL_D,,MATCH($B28,IND,0)-1),REL_D,$M$2,IF(LEFT($AG$10,1)=\"N\",NwID,OrgID),$AG$10)","v":143},{"$f":"IF(AND(AG$22*0.95-AG28<1,(AG$22*0.95-AG28>0)),1,IF(AG$22*0.95-AG28<=0,\"\",AG$22*0.95-AG28))","v":22.299999999999983}]
[]
[null,"(03) 5 YEAR COHORT",{"$f":"\"Patients becoming 5y within \"&'Control Panel'!$B$1","v":"Patients becoming 5y within Q3"},null,null,{"$f":"I30+M30+Q30+U30+Y30+AC30+AG30","v":936},null,null,{"$f":"SUMIFS(OFFSET(REL_D,,MATCH(B30,IND,0)-1),REL_D,$M$2,IF(LEFT($I$10,1)=\"N\",NwID,OrgID),$I$10)","v":107},null,null,null,{"$f":"SUMIFS(OFFSET(REL_D,,MATCH(B30,IND,0)-1),REL_D,$M$2,IF(LEFT($M$10,1)=\"N\",NwID,OrgID),$M$10)","v":81},null,null,null,{"$f":"SUMIFS(OFFSET(REL_D,,MATCH(B30,IND,0)-1),REL_D,$M$2,IF(LEFT($Q$10,1)=\"N\",NwID,OrgID),$Q$10)","v":197},null,null,null,{"$f":"SUMIFS(OFFSET(REL_D,,MATCH(B30,IND,0)-1),REL_D,$M$2,IF(LEFT($U$10,1)=\"N\",NwID,OrgID),$U$10)","v":91},null,null,null,{"$f":"SUMIFS(OFFSET(REL_D,,MATCH(B30,IND,0)-1),REL_D,$M$2,IF(LEFT($Y$10,1)=\"N\",NwID,OrgID),$Y$10)","v":169},null,null,null,{"$f":"SUMIFS(OFFSET(REL_D,,MATCH(B30,IND,0)-1),REL_D,$M$2,IF(LEFT($AC$10,1)=\"N\",NwID,OrgID),$AC$10)","v":133},null,null,null,{"$f":"SUMIFS(OFFSET(REL_D,,MATCH(B30,IND,0)-1),REL_D,$M$2,IF(LEFT($AG$10,1)=\"N\",NwID,OrgID),$AG$10)","v":158}]
[null,null,null,null,"Coverage","Activty",null,"Coverage","Activty","Required",null,"Coverage","Activty","Required",null,"Coverage","Activty","Required",null,"Coverage","Activty","Required",null,"Coverage","Activty","Required",null,"Coverage","Activty","Required",null,"Coverage","Activty","Required"]
[null,"(03.01) DTaP/IPV/Hib","DTaP/IPV/Hib",null,{"$f":"IFERROR(F32/F$30,\"-\")","v":0.92948717948717952},{"$f":"I32+M32+Q32+U32+Y32+AC32+AG32","v":870},null,{"$f":"IFERROR(I32/I$30,\"-\")","v":0.94392523364485981},{"$f":"SUMIFS(OFFSET(REL_D,,MATCH(B32,IND,0)-1),REL_D,$M$2,IF(LEFT($I$10,1)=\"N\",NwID,OrgID),$I$10)","v":101},{"$f":"IF(AND(I$30*0.95-I32<1,(I$30*0.95-I32>0)),1,IF(I$30*0.95-I32<=0,\"\",I$30*0.95-I32))","v":1},null,{"$f":"IFERROR(M32/M$30,\"-\")","v":0.95061728395061729},{"$f":"SUMIFS(OFFSET(REL_D,,MATCH($B32,IND,0)-1),REL_D,$M$2,IF(LEFT($M$10,1)=\"N\",NwID,OrgID),$M$10)","v":77},{"$f":"IF(AND(M$30*0.95-M32<1,(M$30*0.95-M32>0)),1,IF(M$30*0.95-M32<=0,\"\",M$30*0.95-M32))","v":""},null,{"$f":"IFERROR(Q32/Q$30,\"-\")","v":0.92385786802030456},{"$f":"SUMIFS(OFFSET(REL_D,,MATCH($B32,IND,0)-1),REL_D,$M$2,IF(LEFT($Q$10,1)=\"N\",NwID,OrgID),$Q$10)","v":182},{"$f":"IF(AND(Q$30*0.95-Q32<1,(Q$30*0.95-Q32>0)),1,IF(Q$30*0.95-Q32<=0,\"\",Q$30*0.95-Q32))","v":5.1499999999999773},null,{"$f":"IFERROR(U32/U$30,\"-\")","v":0.91208791208791207},{"$f":"SUMIFS(OFFSET(REL_D,,MATCH($B32,IND,0)-1),REL_D,$M$2,IF(LEFT($U$10,1)=\"N\",NwID,OrgID),$U$10)","v":83},{"$f":"IF(AND(U$30*0.95-U32<1,(U$30*0.95-U32>0)),1,IF(U$30*0.95-U32<=0,\"\",U$30*0.95-U32))","v":3.4500000000000028},null,{"$f":"IFERROR(Y32/Y$30,\"-\")","v":0.94082840236686394},{"$f":"SUMIFS(OFFSET(REL_D,,MATCH($B32,IND,0)-1),REL_D,$M$2,IF(LEFT($Y$10,1)=\"N\",NwID,OrgID),$Y$10)","v":159},{"$f":"IF(AND(Y$30*0.95-Y32<1,(Y$30*0.95-Y32>0)),1,IF(Y$30*0.95-Y32<=0,\"\",Y$30*0.95-Y32))","v":1.5499999999999829},null,{"$f":"IFERROR(AC32/AC$30,\"-\")","v":0.90977443609022557},{"$f":"SUMIFS(OFFSET(REL_D,,MATCH($B32,IND,0)-1),REL_D,$M$2,IF(LEFT($AC$10,1)=\"N\",NwID,OrgID),$AC$10)","v":121},{"$f":"IF(AND(AC$30*0.95-AC32<1,(AC$30*0.95-AC32>0)),1,IF(AC$30*0.95-AC32<=0,\"\",AC$30*0.95-AC32))","v":5.3499999999999943},null,{"$f":"IFERROR(AG32/AG$30,\"-\")","v":0.930379746835443},{"$f":"SUMIFS(OFFSET(REL_D,,MATCH($B32,IND,0)-1),REL_D,$M$2,IF(LEFT($AG$10,1)=\"N\",NwID,OrgID),$AG$10)","v":147},{"$f":"IF(AND(AG$30*0.95-AG32<1,(AG$30*0.95-AG32>0)),1,IF(AG$30*0.95-AG32<=0,\"\",AG$30*0.95-AG32))","v":3.0999999999999943}]
[null,"(03.02) MMR (Primary)","MMR (Primary)",null,{"$f":"IFERROR(F33/F$30,\"-\")","v":0.8995726495726496},{"$f":"I33+M33+Q33+U33+Y33+AC33+AG33","v":842},null,{"$f":"IFERROR(I33/I$30,\"-\")","v":0.89719626168224298},{"$f":"SUMIFS(OFFSET(REL_D,,MATCH(B33,IND,0)-1),REL_D,$M$2,IF(LEFT($I$10,1)=\"N\",NwID,OrgID),$I$10)","v":96},{"$f":"IF(AND(I$30*0.95-I33<1,(I$30*0.95-I33>0)),1,IF(I$30*0.95-I33<=0,\"\",I$30*0.95-I33))","v":5.6499999999999915},null,{"$f":"IFERROR(M33/M$30,\"-\")","v":0.95061728395061729},{"$f":"SUMIFS(OFFSET(REL_D,,MATCH($B33,IND,0)-1),REL_D,$M$2,IF(LEFT($M$10,1)=\"N\",NwID,OrgID),$M$10)","v":77},{"$f":"IF(AND(M$30*0.95-M33<1,(M$30*0.95-M33>0)),1,IF(M$30*0.95-M33<=0,\"\",M$30*0.95-M33))","v":""},null,{"$f":"IFERROR(Q33/Q$30,\"-\")","v":0.90355329949238583},{"$f":"SUMIFS(OFFSET(REL_D,,MATCH($B33,IND,0)-1),REL_D,$M$2,IF(LEFT($Q$10,1)=\"N\",NwID,OrgID),$Q$10)","v":178},{"$f":"IF(AND(Q$30*0.95-Q33<1,(Q$30*0.95-Q33>0)),1,IF(Q$30*0.95-Q33<=0,\"\",Q$30*0.95-Q33))","v":9.1499999999999773},null,{"$f":"IFERROR(U33/U$30,\"-\")","v":0.86813186813186816},{"$f":"SUMIFS(OFFSET(REL_D,,MATCH($B33,IND,0)-1),REL_D,$M$2,IF(LEFT($U$10,1)=\"N\",NwID,OrgID),$U$10)","v":79},{"$f":"IF(AND(U$30*0.95-U33<1,(U$30*0.95-U33>0)),1,IF(U$30*0.95-U33<=0,\"\",U$30*0.95-U33))","v":7.4500000000000028},null,{"$f":"IFERROR(Y33/Y$30,\"-\")","v":0.88165680473372776},{"$f":"SUMIFS(OFFSET(REL_D,,MATCH($B33,IND,0)-1),REL_D,$M$2,IF(LEFT($Y$10,1)=\"N\",NwID,OrgID),$Y$10)","v":149},{"$f":"IF(AND(Y$30*0.95-Y33<1,(Y$30*0.95-Y33>0)),1,IF(Y$30*0.95-Y33<=0,\"\",Y$30*0.95-Y33))","v":11.549999999999983},null,{"$f":"IFERROR(AC33/AC$30,\"-\")","v":0.88721804511278191},{"$f":"SUMIFS(OFFSET(REL_D,,MATCH($B33,IND,0)-1),REL_D,$M$2,IF(LEFT($AC$10,1)=\"N\",NwID,OrgID),$AC$10)","v":118},{"$f":"IF(AND(AC$30*0.95-AC33<1,(AC$30*0.95-AC33>0)),1,IF(AC$30*0.95-AC33<=0,\"\",AC$30*0.95-AC33))","v":8.3499999999999943},null,{"$f":"IFERROR(AG33/AG$30,\"-\")","v":0.91772151898734178},{"$f":"SUMIFS(OFFSET(REL_D,,MATCH($B33,IND,0)-1),REL_D,$M$2,IF(LEFT($AG$10,1)=\"N\",NwID,OrgID),$AG$10)","v":145},{"$f":"IF(AND(AG$30*0.95-AG33<1,(AG$30*0.95-AG33>0)),1,IF(AG$30*0.95-AG33<=0,\"\",AG$30*0.95-AG33))","v":5.0999999999999943}]
[null,"(03.03) DTaP/IPV (Booster)","DTaP/IPV (Booster)",null,0.81623931623931623,{"$f":"I34+M34+Q34+U34+Y34+AC34+AG34","v":764},null,{"$f":"IFERROR(I34/I$30,\"-\")","v":0.87850467289719625},{"$f":"SUMIFS(OFFSET(REL_D,,MATCH(B34,IND,0)-1),REL_D,$M$2,IF(LEFT($I$10,1)=\"N\",NwID,OrgID),$I$10)","v":94},{"$f":"IF(AND(I$30*0.95-I34<1,(I$30*0.95-I34>0)),1,IF(I$30*0.95-I34<=0,\"\",I$30*0.95-I34))","v":7.6499999999999915},null,0.86419753086419748,{"$f":"SUMIFS(OFFSET(REL_D,,MATCH($B34,IND,0)-1),REL_D,$M$2,IF(LEFT($M$10,1)=\"N\",NwID,OrgID),$M$10)","v":70},{"$f":"IF(AND(M$30*0.95-M34<1,(M$30*0.95-M34>0)),1,IF(M$30*0.95-M34<=0,\"\",M$30*0.95-M34))","v":6.9500000000000028},null,0.76142131979695427,{"$f":"SUMIFS(OFFSET(REL_D,,MATCH($B34,IND,0)-1),REL_D,$M$2,IF(LEFT($Q$10,1)=\"N\",NwID,OrgID),$Q$10)","v":150},{"$f":"IF(AND(Q$30*0.95-Q34<1,(Q$30*0.95-Q34>0)),1,IF(Q$30*0.95-Q34<=0,\"\",Q$30*0.95-Q34))","v":37.149999999999977},null,{"$f":"IFERROR(U34/U$30,\"-\")","v":0.8351648351648352},{"$f":"SUMIFS(OFFSET(REL_D,,MATCH($B34,IND,0)-1),REL_D,$M$2,IF(LEFT($U$10,1)=\"N\",NwID,OrgID),$U$10)","v":76},{"$f":"IF(AND(U$30*0.95-U34<1,(U$30*0.95-U34>0)),1,IF(U$30*0.95-U34<=0,\"\",U$30*0.95-U34))","v":10.450000000000003},null,{"$f":"IFERROR(Y34/Y$30,\"-\")","v":0.85207100591715978},{"$f":"SUMIFS(OFFSET(REL_D,,MATCH($B34,IND,0)-1),REL_D,$M$2,IF(LEFT($Y$10,1)=\"N\",NwID,OrgID),$Y$10)","v":144},{"$f":"IF(AND(Y$30*0.95-Y34<1,(Y$30*0.95-Y34>0)),1,IF(Y$30*0.95-Y34<=0,\"\",Y$30*0.95-Y34))","v":16.549999999999983},null,{"$f":"IFERROR(AC34/AC$30,\"-\")","v":0.72180451127819545},{"$f":"SUMIFS(OFFSET(REL_D,,MATCH($B34,IND,0)-1),REL_D,$M$2,IF(LEFT($AC$10,1)=\"N\",NwID,OrgID),$AC$10)","v":96},{"$f":"IF(AND(AC$30*0.95-AC34<1,(AC$30*0.95-AC34>0)),1,IF(AC$30*0.95-AC34<=0,\"\",AC$30*0.95-AC34))","v":30.349999999999994},null,{"$f":"IFERROR(AG34/AG$30,\"-\")","v":0.84810126582278478},{"$f":"SUMIFS(OFFSET(REL_D,,MATCH($B34,IND,0)-1),REL_D,$M$2,IF(LEFT($AG$10,1)=\"N\",NwID,OrgID),$AG$10)","v":134},{"$f":"IF(AND(AG$30*0.95-AG34<1,(AG$30*0.95-AG34>0)),1,IF(AG$30*0.95-AG34<=0,\"\",AG$30*0.95-AG34))","v":16.099999999999994}]
[null,"(03.05) MMR (Booster)","MMR (Booster)",null,0.82158119658119655,{"$f":"I35+M35+Q35+U35+Y35+AC35+AG35","v":769},null,0.87850467289719625,{"$f":"SUMIFS(OFFSET(REL_D,,MATCH(B35,IND,0)-1),REL_D,$M$2,IF(LEFT($I$10,1)=\"N\",NwID,OrgID),$I$10)","v":94},7.6499999999999915,null,0.86419753086419748,{"$f":"SUMIFS(OFFSET(REL_D,,MATCH($B35,IND,0)-1),REL_D,$M$2,IF(LEFT($M$10,1)=\"N\",NwID,OrgID),$M$10)","v":70},6.9500000000000028,null,0.78680203045685282,{"$f":"SUMIFS(OFFSET(REL_D,,MATCH($B35,IND,0)-1),REL_D,$M$2,IF(LEFT($Q$10,1)=\"N\",NwID,OrgID),$Q$10)","v":155},32.149999999999977,null,{"$f":"IFERROR(U35/U$30,\"-\")","v":0.8351648351648352},{"$f":"SUMIFS(OFFSET(REL_D,,MATCH($B35,IND,0)-1),REL_D,$M$2,IF(LEFT($U$10,1)=\"N\",NwID,OrgID),$U$10)","v":76},{"$f":"IF(AND(U$30*0.95-U35<1,(U$30*0.95-U35>0)),1,IF(U$30*0.95-U35<=0,\"\",U$30*0.95-U35))","v":10.450000000000003},null,{"$f":"IFERROR(Y35/Y$30,\"-\")","v":0.84615384615384615},{"$f":"SUMIFS(OFFSET(REL_D,,MATCH($B35,IND,0)-1),REL_D,$M$2,IF(LEFT($Y$10,1)=\"N\",NwID,OrgID),$Y$10)","v":143},{"$f":"IF(AND(Y$30*0.95-Y35<1,(Y$30*0.95-Y35>0)),1,IF(Y$30*0.95-Y35<=0,\"\",Y$30*0.95-Y35))","v":17.549999999999983},null,{"$f":"IFERROR(AC35/AC$30,\"-\")","v":0.72180451127819545},{"$f":"SUMIFS(OFFSET(REL_D,,MATCH($B35,IND,0)-1),REL_D,$M$2,IF(LEFT($AC$10,1)=\"N\",NwID,OrgID),$AC$10)","v":96},{"$f":"IF(AND(AC$30*0.95-AC35<1,(AC$30*0.95-AC35>0)),1,IF(AC$30*0.95-AC35<=0,\"\",AC$30*0.95-AC35))","v":30.349999999999994},null,{"$f":"IFERROR(AG35/AG$30,\"-\")","v":0.85443037974683544},{"$f":"SUMIFS(OFFSET(REL_D,,MATCH($B35,IND,0)-1),REL_D,$M$2,IF(LEFT($AG$10,1)=\"N\",NwID,OrgID),$AG$10)","v":135},{"$f":"IF(AND(AG$30*0.95-AG35<1,(AG$30*0.95-AG35>0)),1,IF(AG$30*0.95-AG35<=0,\"\",AG$30*0.95-AG35))","v":15.099999999999994}]
[null,"(03.04) HiB/Men C","HiB/Men C",null,0.90598290598290598,{"$f":"I36+M36+Q36+U36+Y36+AC36+AG36","v":848},null,0.90654205607476634,{"$f":"SUMIFS(OFFSET(REL_D,,MATCH(B36,IND,0)-1),REL_D,$M$2,IF(LEFT($I$10,1)=\"N\",NwID,OrgID),$I$10)","v":97},4.6499999999999915,null,0.92592592592592593,{"$f":"SUMIFS(OFFSET(REL_D,,MATCH($B36,IND,0)-1),REL_D,$M$2,IF(LEFT($M$10,1)=\"N\",NwID,OrgID),$M$10)","v":75},1.9500000000000028,null,0.89847715736040612,{"$f":"SUMIFS(OFFSET(REL_D,,MATCH($B36,IND,0)-1),REL_D,$M$2,IF(LEFT($Q$10,1)=\"N\",NwID,OrgID),$Q$10)","v":177},10.149999999999977,null,{"$f":"IFERROR(U36/U$30,\"-\")","v":0.89010989010989006},{"$f":"SUMIFS(OFFSET(REL_D,,MATCH($B36,IND,0)-1),REL_D,$M$2,IF(LEFT($U$10,1)=\"N\",NwID,OrgID),$U$10)","v":81},{"$f":"IF(AND(U$30*0.95-U36<1,(U$30*0.95-U36>0)),1,IF(U$30*0.95-U36<=0,\"\",U$30*0.95-U36))","v":5.4500000000000028},null,{"$f":"IFERROR(Y36/Y$30,\"-\")","v":0.92307692307692313},{"$f":"SUMIFS(OFFSET(REL_D,,MATCH($B36,IND,0)-1),REL_D,$M$2,IF(LEFT($Y$10,1)=\"N\",NwID,OrgID),$Y$10)","v":156},{"$f":"IF(AND(Y$30*0.95-Y36<1,(Y$30*0.95-Y36>0)),1,IF(Y$30*0.95-Y36<=0,\"\",Y$30*0.95-Y36))","v":4.5499999999999829},null,{"$f":"IFERROR(AC36/AC$30,\"-\")","v":0.86466165413533835},{"$f":"SUMIFS(OFFSET(REL_D,,MATCH($B36,IND,0)-1),REL_D,$M$2,IF(LEFT($AC$10,1)=\"N\",NwID,OrgID),$AC$10)","v":115},{"$f":"IF(AND(AC$30*0.95-AC36<1,(AC$30*0.95-AC36>0)),1,IF(AC$30*0.95-AC36<=0,\"\",AC$30*0.95-AC36))","v":11.349999999999994},null,{"$f":"IFERROR(AG36/AG$30,\"-\")","v":0.930379746835443},{"$f":"SUMIFS(OFFSET(REL_D,,MATCH($B36,IND,0)-1),REL_D,$M$2,IF(LEFT($AG$10,1)=\"N\",NwID,OrgID),$AG$10)","v":147},{"$f":"IF(AND(AG$30*0.95-AG36<1,(AG$30*0.95-AG36>0)),1,IF(AG$30*0.95-AG36<=0,\"\",AG$30*0.95-AG36))","v":3.0999999999999943}]

{"sheet":"Patients becoming 12m","index":2,"n_rows":51,"n_cols":16,"rows_kept":51,"cut":false,"hidden":false,"merged":[[15,0,16,2],[15,4,16,4]]}
[]
[null,null,null,"Tower Hamlets Childhood Immunisations Dashboard: Metric Details"]
[null,null,null,"Patients becoming 12m",null,{"$f":"E15","v":992}]
[]
[null,null,"March 2022","All Patients","(01) 12 MONTH COHORT","(01.01) DTaP/IPV/Hib","DTaP/IPV/Hib(%)","Patients required to achieve CCG Target (95%)","(01.02) Men B (1st and 2nd)","Men B(%)","Patients required to achieve CCG Target (95%)","(01.03) PCV","PCV(%)","Patients required to achieve CCG Target (95%)","(01.04) Rotavirus","Rotavirus(%)"]
[null,"Home",null,"Listsize ","Patients becoming 12m","DTaP/IPV/Hib/HepB","DTaP/IPV/Hib/HepB(%)","Patients required to achieve CCG Target (95%)","Men B","Men B(%)","Patients required to achieve CCG Target (95%)","PCV","PCV(%)","Patients required to achieve CCG Target (95%)","Rotavirus","Rotavirus(%)"]
["Cluster"]
[{"$f":"'Control Panel'!A3","v":"NW1"},{"$f":"'Control Panel'!B3","v":"The One Network"},null,{"$f":"SUM(IF($A8=$A$19:$A$50,D$19:D$50))","v":49033},{"$f":"SUM(IF($A8=$A$19:$A$50,E$19:E$50))","v":96},{"$f":"SUM(IF($A8=$A$19:$A$50,F$19:F$50))","v":82},{"$f":"IF(OR(ISTEXT($E8),$E8=0),\"N/A\",F8/$E8)","v":0.85416666666666663},null,{"$f":"SUM(IF($A8=$A$19:$A$50,I$19:I$50))","v":83},{"$f":"IF(OR(ISTEXT($E8),$E8=0),\"N/A\",I8/$E8)","v":0.86458333333333337},null,{"$f":"SUM(IF($A8=$A$19:$A$50,L$19:L$50))","v":87},{"$f":"IF(OR(ISTEXT($E8),$E8=0),\"N/A\",L8/$E8)","v":0.90625},null,{"$f":"SUM(IF($A8=$A$19:$A$50,O$19:O$50))","v":81},{"$f":"IF(OR(ISTEXT($E8),$E8=0),\"N/A\",O8/$E8)","v":0.84375}]
[{"$f":"'Control Panel'!A4","v":"NW2"},{"$f":"'Control Panel'!B4","v":"East End Health Network"},null,{"$f":"SUM(IF($A9=$A$19:$A$50,D$19:D$50))","v":40368},{"$f":"SUM(IF($A9=$A$19:$A$50,E$19:E$50))","v":90},{"$f":"SUM(IF($A9=$A$19:$A$50,F$19:F$50))","v":85},{"$f":"IF(OR(ISTEXT($E9),$E9=0),\"N/A\",F9/$E9)","v":0.94444444444444442},null,{"$f":"SUM(IF($A9=$A$19:$A$50,I$19:I$50))","v":86},{"$f":"IF(OR(ISTEXT($E9),$E9=0),\"N/A\",I9/$E9)","v":0.9555555555555556},null,{"$f":"SUM(IF($A9=$A$19:$A$50,L$19:L$50))","v":85},{"$f":"IF(OR(ISTEXT($E9),$E9=0),\"N/A\",L9/$E9)","v":0.94444444444444442},null,{"$f":"SUM(IF($A9=$A$19:$A$50,O$19:O$50))","v":82},{"$f":"IF(OR(ISTEXT($E9),$E9=0),\"N/A\",O9/$E9)","v":0.91111111111111109}]
[{"$f":"'Control Panel'!A5","v":"NW3&4"},{"$f":"'Control Panel'!B5","v":"Tower Network"},null,{"$f":"SUM(IF($A10=$A$19:$A$50,D$19:D$50))","v":79369},{"$f":"SUM(IF($A10=$A$19:$A$50,E$19:E$50))","v":229},{"$f":"SUM(IF($A10=$A$19:$A$50,F$19:F$50))","v":202},0.88209606986899558,null,{"$f":"SUM(IF($A10=$A$19:$A$50,I$19:I$50))","v":199},0.86899563318777295,null,{"$f":"SUM(IF($A10=$A$19:$A$50,L$19:L$50))","v":207},0.90393013100436681,null,{"$f":"SUM(IF($A10=$A$19:$A$50,O$19:O$50))","v":202},0.88209606986899558]
[{"$f":"'Control Panel'!A6","v":"NW5"},{"$f":"'Control Panel'!B6","v":"Bow Health Network"},null,{"$f":"SUM(IF($A11=$A$19:$A$50,D$19:D$50))","v":35730},{"$f":"SUM(IF($A11=$A$19:$A$50,E$19:E$50))","v":105},{"$f":"SUM(IF($A11=$A$19:$A$50,F$19:F$50))","v":97},0.92380952380952386,null,{"$f":"SUM(IF($A11=$A$19:$A$50,I$19:I$50))","v":98},0.93333333333333335,null,{"$f":"SUM(IF($A11=$A$19:$A$50,L$19:L$50))","v":98},0.93333333333333335,null,{"$f":"SUM(IF($A11=$A$19:$A$50,O$19:O$50))","v":96},0.91428571428571426]
[{"$f":"'Control Panel'!A7","v":"NW6"},{"$f":"'Control Panel'!B7","v":"Mile End East and Bromley by Bow Network"},null,{"$f":"SUM(IF($A12=$A$19:$A$50,D$19:D$50))","v":59327},{"$f":"SUM(IF($A12=$A$19:$A$50,E$19:E$50))","v":167},{"$f":"SUM(IF($A12=$A$19:$A$50,F$19:F$50))","v":151},0.90419161676646709,null,{"$f":"SUM(IF($A12=$A$19:$A$50,I$19:I$50))","v":150},0.89820359281437123,null,{"$f":"SUM(IF($A12=$A$19:$A$50,L$19:L$50))","v":156},0.93413173652694614,null,{"$f":"SUM(IF($A12=$A$19:$A$50,O$19:O$50))","v":148},0.88622754491017963]
[{"$f":"'Control Panel'!A8","v":"NW7"},{"$f":"'Control Panel'!B8","v":"Poplar and Limehouse Network"},null,{"$f":"SUM(IF($A13=$A$19:$A$50,D$19:D$50))","v":50962},{"$f":"SUM(IF($A13=$A$19:$A$50,E$19:E$50))","v":133},{"$f":"SUM(IF($A13=$A$19:$A$50,F$19:F$50))","v":113},0.84962406015037595,null,{"$f":"SUM(IF($A13=$A$19:$A$50,I$19:I$50))","v":113},0.84962406015037595,null,{"$f":"SUM(IF($A13=$A$19:$A$50,L$19:L$50))","v":119},0.89473684210526316,null,{"$f":"SUM(IF($A13=$A$19:$A$50,O$19:O$50))","v":106},0.79699248120300747]
[{"$f":"'Control Panel'!A9","v":"NW8"},{"$f":"'Control Panel'!B9","v":"Healthy Island Network"},null,{"$f":"SUM(IF($A14=$A$19:$A$50,D$19:D$50))","v":62657},{"$f":"SUM(IF($A14=$A$19:$A$50,E$19:E$50))","v":172},{"$f":"SUM(IF($A14=$A$19:$A$50,F$19:F$50))","v":160},0.93023255813953487,null,{"$f":"SUM(IF($A14=$A$19:$A$50,I$19:I$50))","v":156},0.90697674418604646,null,{"$f":"SUM(IF($A14=$A$19:$A$50,L$19:L$50))","v":162},0.94186046511627908,null,{"$f":"SUM(IF($A14=$A$19:$A$50,O$19:O$50))","v":157},0.91279069767441856]
["Total",null,null,{"$f":"SUM(D8:D14)","v":377446},{"$f":"SUM(E8:E14)","v":992},{"$f":"SUM(F8:F14)","v":890},0.89717741935483875,null,{"$f":"SUM(I8:I14)","v":885},0.89213709677419351,null,{"$f":"SUM(L8:L14)","v":914},0.9213709677419355,null,{"$f":"SUM(O8:O14)","v":872},0.87903225806451613]
["Minimum and Maximum %",null,null,null,null,"Min","Max",null,"Min","Max",null,"Min","Max",null,"Min","Max"]
[null,null,null,null,null,{"$f":"SMALL(G19:G50,COUNTIF(G19:G50,0)+1)","v":0.81818181818181823},{"$f":"MAX(G19:G50)","v":1},null,{"$f":"SMALL(J19:J50,COUNTIF(J19:J50,0)+1)","v":0.80582524271844658},{"$f":"MAX(J19:J50)","v":1},null,{"$f":"SMALL(M19:M50,COUNTIF(M19:M50,0)+1)","v":0.84848484848484851},{"$f":"MAX(M19:M50)","v":1},null,{"$f":"SMALL(P19:P50,COUNTIF(P19:P50,0)+1)","v":0.66666666666666663},{"$f":"MAX(P19:P50)","v":1}]
["Practices"]
[{"$f":"'Control Panel'!A12","v":"NW1"},{"$f":"'Control Panel'!B12","v":"Bethnal Green Health Centre"},{"$f":"'Control Panel'!C12","v":"F84083"},{"$f":"SUMIFS(OFFSET(REL_D,,MATCH($D$5,IND,0)-1),REL_D,$C$5,OrgID,$C19)","v":9766},{"$f":"SUMIFS(OFFSET(REL_D,,MATCH($E$5,IND,0)-1),REL_D,$C$5,OrgID,$C19)","v":20},{"$f":"SUMIFS(OFFSET(REL_D,,MATCH($F$5,IND,0)-1),REL_D,$C$5,OrgID,$C19)","v":17},{"$f":"IF(OR(ISTEXT($E19),$E19=0),\"N/A\",F19/$E19)","v":0.85},{"$f":"IFERROR(ROUNDUP(IF($E19*0.95-F19>=0,$E19*0.95-F19,\"\"),0),\"\")","v":2},{"$f":"SUMIFS(OFFSET(REL_D,,MATCH($I$5,IND,0)-1),REL_D,$C$5,OrgID,$C19)","v":17},{"$f":"IF(OR(ISTEXT($E19),$E19=0),\"N/A\",I19/$E19)","v":0.85},{"$f":"IFERROR(ROUNDUP(IF($E19*0.95-I19>=0,$E19*0.95-I19,\"\"),0),\"\")","v":2},{"$f":"SUMIFS(OFFSET(REL_D,,MATCH($L$5,IND,0)-1),REL_D,$C$5,OrgID,$C19)","v":18},{"$f":"IF(OR(ISTEXT($E19),$E19=0),\"N/A\",L19/$E19)","v":0.9},{"$f":"IFERROR(ROUNDUP(IF($E19*0.95-L19>=0,$E19*0.95-L19,\"\"),0),\"\")","v":1},{"$f":"SUMIFS(OFFSET(REL_D,,MATCH($O$5,IND,0)-1),REL_D,$C$5,OrgID,$C19)","v":17},{"$f":"IF(OR(ISTEXT($E19),$E19=0),\"N/A\",O19/$E19)","v":0.85}]
[{"$f":"'Control Panel'!A13","v":"NW1"},{"$f":"'Control Panel'!B13","v":"The Mission Practice"},{"$f":"'Control Panel'!C13","v":"F84016"},12618,25,22,0.88,2,22,0.88,2,23,0.92,1,23,{"$f":"IF(OR(ISTEXT($E20),$E20=0),\"N/A\",O20/$E20)","v":0.92}]
[{"$f":"'Control Panel'!A14","v":"NW1"},{"$f":"'Control Panel'!B14","v":"Globe Town Surgery"},{"$f":"'Control Panel'!C14","v":"F84123"},18056,33,27,0.81818181818181823,5,28,0.84848484848484851,4,29,0.87878787878787878,3,27,0.81818181818181823]
[{"$f":"'Control Panel'!A16","v":"NW1"},{"$f":"'Control Panel'!B16","v":"Strouts Place Medical Centre"},{"$f":"'Control Panel'!C16","v":"F84051"},8593,18,16,0.88888888888888884,2,16,0.88888888888888884,2,17,0.94444444444444442,1,14,0.77777777777777779]
[{"$f":"'Control Panel'!A17","v":"NW2"},{"$f":"'Control Panel'!B17","v":"Spitalfields Practice"},{"$f":"'Control Panel'!C17","v":"F84081"},14828,25,22,{"$f":"IF(OR(ISTEXT($E23),$E23=0),\"N/A\",F23/$E23)","v":0.88},2,23,{"$f":"IF(OR(ISTEXT($E23),$E23=0),\"N/A\",I23/$E23)","v":0.92},1,22,{"$f":"IF(OR(ISTEXT($E23),$E23=0),\"N/A\",L23/$E23)","v":0.88},2,21,{"$f":"IF(OR(ISTEXT($E23),$E23=0),\"N/A\",O23/$E23)","v":0.84}]
[{"$f":"'Control Panel'!A18","v":"NW2"},{"$f":"'Control Panel'!B18","v":"Blithehale Medical Centre"},{"$f":"'Control Panel'!C18","v":"F84718"},14732,36,35,0.97222222222222221,"",35,0.97222222222222221,"",36,1,"",35,0.97222222222222221]
[{"$f":"'Control Panel'!A19","v":"NW2"},{"$f":"'Control Panel'!B19","v":"Health E1"},{"$f":"'Control Panel'!C19","v":"F84733"},1109,0,0,"N/A",0,0,"N/A",0,0,"N/A",0,0,"N/A"]
[{"$f":"'Control Panel'!A20","v":"NW2"},{"$f":"'Control Panel'!B20","v":"Albion Health Centre"},{"$f":"'Control Panel'!C20","v":"F84012"},9699,29,28,{"$f":"IF(OR(ISTEXT($E26),$E26=0),\"N/A\",F26/$E26)","v":0.96551724137931039},"",28,0.96551724137931039,"",27,0.93103448275862066,1,26,0.89655172413793105]
[{"$f":"'Control Panel'!A21","v":"NW3&4"},{"$f":"'Control Panel'!B21","v":"Harford Health Centre"},{"$f":"'Control Panel'!C21","v":"F84087"},9781,33,31,0.93939393939393945,1,31,0.93939393939393945,1,32,0.96969696969696972,"",31,0.93939393939393945]
[{"$f":"'Control Panel'!A23","v":"NW3&4"},{"$f":"'Control Panel'!B23","v":"Goodman’s Field Health Centre"},{"$f":"'Control Panel'!C23","v":"F84039"},29370,103,85,0.82524271844660191,13,83,0.80582524271844658,15,88,0.85436893203883491,10,84,0.81553398058252424]
[{"$f":"'Control Panel'!A24","v":"NW3&4"},{"$f":"'Control Panel'!B24","v":"City Wellbeing Practice (Tower Medical)"},{"$f":"'Control Panel'!C24","v":"F84114"},12178,32,28,0.875,3,27,0.84375,4,29,0.90625,2,29,0.90625]
[{"$f":"'Control Panel'!A25","v":"NW3&4"},{"$f":"'Control Panel'!B25","v":"Wapping Group Practice"},{"$f":"'Control Panel'!C25","v":"F84079"},11843,19,19,1,"",19,1,"",19,1,"",19,1]
[{"$f":"'Control Panel'!A26","v":"NW3&4"},{"$f":"'Control Panel'!B26","v":"Jubilee Street Practice"},{"$f":"'Control Panel'!C26","v":"F84031"},14178,39,36,0.92307692307692313,2,36,0.92307692307692313,2,36,0.92307692307692313,2,36,0.92307692307692313]
[{"$f":"'Control Panel'!A27","v":"NW3&4"},{"$f":"'Control Panel'!B27","v":"St Katharine Docks Practice"},{"$f":"'Control Panel'!C27","v":"F84731"},2019,3,3,1,"",3,1,"",3,1,"",3,1]
[{"$f":"'Control Panel'!A29","v":"NW5"},{"$f":"'Control Panel'!B29","v":"Harley Grove Medical Centre"},{"$f":"'Control Panel'!C29","v":"F84044"},8063,23,21,0.91304347826086951,1,21,0.91304347826086951,1,21,0.91304347826086951,1,21,0.91304347826086951]
[{"$f":"'Control Panel'!A30","v":"NW5"},{"$f":"'Control Panel'!B30","v":"St Stephens Health Centre"},{"$f":"'Control Panel'!C30","v":"F84034"},13458,43,40,0.93023255813953487,1,40,0.93023255813953487,1,40,0.93023255813953487,1,38,0.88372093023255816]
[{"$f":"'Control Panel'!A31","v":"NW5"},{"$f":"'Control Panel'!B31","v":"Ruston Street Clinic (Dr Amin)"},{"$f":"'Control Panel'!C31","v":"F84030"},3818,13,11,0.84615384615384615,2,12,0.92307692307692313,1,12,0.92307692307692313,1,12,0.92307692307692313]
[{"$f":"'Control Panel'!A32","v":"NW5"},{"$f":"'Control Panel'!B32","v":"Grove Road Surgery (Dr Shah)"},{"$f":"'Control Panel'!C32","v":"F84055"},4204,8,7,0.875,1,7,0.875,1,7,0.875,1,7,0.875]
[{"$f":"'Control Panel'!A33","v":"NW5"},{"$f":"'Control Panel'!B33","v":"The Tredegar Practice"},{"$f":"'Control Panel'!C33","v":"F84696"},6187,18,18,1,"",18,1,"",18,1,"",18,1]
[{"$f":"'Control Panel'!A34","v":"NW6"},{"$f":"'Control Panel'!B34","v":"Stroudley Walk Centre"},{"$f":"'Control Panel'!C34","v":"F84676"},4223,11,10,0.90909090909090906,1,10,0.90909090909090906,1,11,1,"",9,0.81818181818181823]
[{"$f":"'Control Panel'!A35","v":"NW6"},{"$f":"'Control Panel'!B35","v":"St Andrews Health Centre"},{"$f":"'Control Panel'!C35","v":"Y03023"},15467,50,43,0.86,5,43,0.86,5,44,0.88,4,43,0.86]
[{"$f":"'Control Panel'!A36","v":"NW6"},{"$f":"'Control Panel'!B36","v":"Merchant Street (Dr Rana)"},{"$f":"'Control Panel'!C36","v":"F84118"},6097,13,12,0.92307692307692313,1,12,0.92307692307692313,1,13,1,"",12,0.92307692307692313]
[{"$f":"'Control Panel'!A37","v":"NW6"},{"$f":"'Control Panel'!B37","v":"St Pauls Way Medical Centre"},{"$f":"'Control Panel'!C37","v":"F84714"},16336,54,49,0.90740740740740744,3,48,0.88888888888888884,4,50,0.92592592592592593,2,48,0.88888888888888884]
[{"$f":"'Control Panel'!A38","v":"NW6"},{"$f":"'Control Panel'!B38","v":"Bromley-By-Bow Health Centre / XX Place"},{"$f":"'Control Panel'!O30","v":"F84122"},17204,39,37,{"$f":"IF(OR(ISTEXT($E42),$E42=0),\"N/A\",F42/$E42)","v":0.94871794871794868},1,37,{"$f":"IF(OR(ISTEXT($E42),$E42=0),\"N/A\",I42/$E42)","v":0.94871794871794868},1,38,{"$f":"IF(OR(ISTEXT($E42),$E42=0),\"N/A\",L42/$E42)","v":0.97435897435897434},"",36,{"$f":"IF(OR(ISTEXT($E42),$E42=0),\"N/A\",O42/$E42)","v":0.92307692307692313}]
[{"$f":"'Control Panel'!A39","v":"NW7"},{"$f":"'Control Panel'!B39","v":"Limehouse Practice (Gill Street)"},{"$f":"'Control Panel'!C39","v":"F84054"},11987,24,21,0.875,2,21,0.875,2,22,0.91666666666666663,1,16,0.66666666666666663]
[{"$f":"'Control Panel'!A40","v":"NW7"},{"$f":"'Control Panel'!B40","v":"Chrisp Street Health Centre"},{"$f":"'Control Panel'!C40","v":"F84062"},15612,47,40,0.85106382978723405,5,40,0.85106382978723405,5,43,0.91489361702127658,2,39,0.82978723404255317]
[{"$f":"'Control Panel'!A41","v":"NW7"},{"$f":"'Control Panel'!B41","v":"Aberfeldy Practice"},{"$f":"'Control Panel'!C41","v":"F84698"},11510,33,27,0.81818181818181823,5,27,0.81818181818181823,5,28,0.84848484848484851,4,27,0.81818181818181823]
[{"$f":"'Control Panel'!A42","v":"NW7"},{"$f":"'Control Panel'!B42","v":"Gough Walk (Dr Selvan)"},{"$f":"'Control Panel'!C42","v":"F84025"},11853,29,25,0.86206896551724133,3,25,0.86206896551724133,3,26,0.89655172413793105,2,24,0.82758620689655171]
[{"$f":"'Control Panel'!A43","v":"NW8"},{"$f":"'Control Panel'!B43","v":"Island Health"},{"$f":"'Control Panel'!C43","v":"F84710"},15259,35,34,0.97142857142857142,"",34,0.97142857142857142,"",34,0.97142857142857142,"",33,0.94285714285714284]
[{"$f":"'Control Panel'!A44","v":"NW8"},{"$f":"'Control Panel'!B44","v":"Docklands Medical Centre"},{"$f":"'Control Panel'!C44","v":"F84656"},9970,21,21,1,"",21,1,"",21,1,"",21,1]
[{"$f":"'Control Panel'!A45","v":"NW8"},{"$f":"'Control Panel'!B45","v":"Island Medical Centre"},{"$f":"'Control Panel'!C45","v":"F84647"},9506,25,24,0.96,"",23,0.92,1,24,0.96,"",24,0.96]
[{"$f":"'Control Panel'!A46","v":"NW8"},{"$f":"'Control Panel'!B46","v":"Barkantine Practice"},{"$f":"'Control Panel'!C46","v":"F84747"},27922,91,81,0.89010989010989006,6,78,0.8571428571428571,9,83,0.91208791208791207,4,79,0.86813186813186816]
[null,"Total",null,{"$f":"SUM(D19:D50)","v":377446},{"$f":"SUM(E19:E50)","v":992},{"$f":"SUM(F19:F50)","v":890},0.89717741935483875,null,{"$f":"SUM(I19:I50)","v":885},0.89213709677419351,null,{"$f":"SUM(L19:L50)","v":914},0.9213709677419355,null,{"$f":"SUM(O19:O50)","v":872},0.87903225806451613]

{"sheet":"Patients becoming 24m","index":3,"n_rows":51,"n_cols":18,"rows_kept":51,"cut":false,"hidden":false,"merged":[[15,0,16,2]]}
[]
[null,null,null,"Tower Hamlets Childhood Immunisations Dashboard: Metric Details"]
[null,null,null,"Patients becoming 24m",null,{"$f":"E15","v":974}]
[]
[null,null,"March 2022","All Patients","(02) 24 MONTH COHORT","(02.01) DTaP/IPV/Hib","DTaP/IPV/Hib(%)","(02.02) MMR","MMR(%)","Patients required to achieve CCG Target (95%)","(02.03) HiB/Men C","HiB/Men C (%)","Patients required to achieve CCG Target (95%)","(02.04) PCV (Booster)","PCV (Booster)(%)","Patients required to achieve CCG Target (95%)","(02.05) Men B (Booster)","Men B (Booster)(%)"]
[null,"Home",null,"Listsize ","Patients becoming 24m","DTaP/IPV/Hib/HepB","DTaP/IPV/Hib/HepB(%)","MMR","MMR(%)","Patients required to achieve CCG Target (95%)","HiB/Men C","HiB/Men C (%)","Patients required to achieve CCG Target (95%)","PCV (Booster)","PCV (Booster)(%)","Patients required to achieve CCG Target (95%)","Men B (Booster)","Men B (Booster)(%)"]
["Cluster"]
[{"$f":"'Control Panel'!A3","v":"NW1"},{"$f":"'Control Panel'!B3","v":"The One Network"},null,{"$f":"SUM(IF($A8=$A$19:$A$50,D$19:D$50))","v":49033},{"$f":"SUM(IF($A8=$A$19:$A$50,E$19:E$50))","v":94},{"$f":"SUM(IF($A8=$A$19:$A$50,F$19:F$50))","v":85},{"$f":"IF(OR(ISTEXT($E8),$E8=0),\"N/A\",F8/$E8)","v":0.9042553191489362},{"$f":"SUM(IF($A8=$A$19:$A$50,H$19:H$50))","v":81},{"$f":"IF(OR(ISTEXT($E8),$E8=0),\"N/A\",H8/$E8)","v":0.86170212765957444},null,{"$f":"SUM(IF($A8=$A$19:$A$50,K$19:K$50))","v":82},{"$f":"IF(OR(ISTEXT($E8),$E8=0),\"N/A\",K8/$E8)","v":0.87234042553191493},null,{"$f":"SUM(IF($A8=$A$19:$A$50,N$19:N$50))","v":83},{"$f":"IF(OR(ISTEXT($E8),$E8=0),\"N/A\",N8/$E8)","v":0.88297872340425532},null,{"$f":"SUM(IF($A8=$A$19:$A$50,Q$19:Q$50))","v":83},{"$f":"IF(OR(ISTEXT($E8),$E8=0),\"N/A\",Q8/$E8)","v":0.88297872340425532}]
[{"$f":"'Control Panel'!A4","v":"NW2"},{"$f":"'Control Panel'!B4","v":"East End Health Network"},null,{"$f":"SUM(IF($A9=$A$19:$A$50,D$19:D$50))","v":40368},{"$f":"SUM(IF($A9=$A$19:$A$50,E$19:E$50))","v":90},{"$f":"SUM(IF($A9=$A$19:$A$50,F$19:F$50))","v":83},{"$f":"IF(OR(ISTEXT($E9),$E9=0),\"N/A\",F9/$E9)","v":0.92222222222222228},{"$f":"SUM(IF($A9=$A$19:$A$50,H$19:H$50))","v":81},0.9,null,{"$f":"SUM(IF($A9=$A$19:$A$50,K$19:K$50))","v":82},{"$f":"IF(OR(ISTEXT($E9),$E9=0),\"N/A\",K9/$E9)","v":0.91111111111111109},null,{"$f":"SUM(IF($A9=$A$19:$A$50,N$19:N$50))","v":82},{"$f":"IF(OR(ISTEXT($E9),$E9=0),\"N/A\",N9/$E9)","v":0.91111111111111109},null,{"$f":"SUM(IF($A9=$A$19:$A$50,Q$19:Q$50))","v":82},{"$f":"IF(OR(ISTEXT($E9),$E9=0),\"N/A\",Q9/$E9)","v":0.91111111111111109}]
[{"$f":"'Control Panel'!A5","v":"NW3&4"},{"$f":"'Control Panel'!B5","v":"Tower Network"},null,{"$f":"SUM(IF($A10=$A$19:$A$50,D$19:D$50))","v":79369},{"$f":"SUM(IF($A10=$A$19:$A$50,E$19:E$50))","v":218},{"$f":"SUM(IF($A10=$A$19:$A$50,F$19:F$50))","v":197},0.90366972477064222,{"$f":"SUM(IF($A10=$A$19:$A$50,H$19:H$50))","v":183},0.83944954128440363,null,{"$f":"SUM(IF($A10=$A$19:$A$50,K$19:K$50))","v":185},0.84862385321100919,null,{"$f":"SUM(IF($A10=$A$19:$A$50,N$19:N$50))","v":185},0.84862385321100919,null,{"$f":"SUM(IF($A10=$A$19:$A$50,Q$19:Q$50))","v":183},0.83944954128440363]
[{"$f":"'Control Panel'!A6","v":"NW5"},{"$f":"'Control Panel'!B6","v":"Bow Health Network"},null,{"$f":"SUM(IF($A11=$A$19:$A$50,D$19:D$50))","v":35730},{"$f":"SUM(IF($A11=$A$19:$A$50,E$19:E$50))","v":84},{"$f":"SUM(IF($A11=$A$19:$A$50,F$19:F$50))","v":78},0.9285714285714286,{"$f":"SUM(IF($A11=$A$19:$A$50,H$19:H$50))","v":72},0.8571428571428571,null,{"$f":"SUM(IF($A11=$A$19:$A$50,K$19:K$50))","v":74},0.88095238095238093,null,{"$f":"SUM(IF($A11=$A$19:$A$50,N$19:N$50))","v":74},0.88095238095238093,null,{"$f":"SUM(IF($A11=$A$19:$A$50,Q$19:Q$50))","v":74},0.88095238095238093]
[{"$f":"'Control Panel'!A7","v":"NW6"},{"$f":"'Control Panel'!B7","v":"Mile End East and Bromley by Bow Network"},null,{"$f":"SUM(IF($A12=$A$19:$A$50,D$19:D$50))","v":59327},{"$f":"SUM(IF($A12=$A$19:$A$50,E$19:E$50))","v":167},{"$f":"SUM(IF($A12=$A$19:$A$50,F$19:F$50))","v":156},0.93413173652694614,{"$f":"SUM(IF($A12=$A$19:$A$50,H$19:H$50))","v":153},0.91616766467065869,null,{"$f":"SUM(IF($A12=$A$19:$A$50,K$19:K$50))","v":153},0.91616766467065869,null,{"$f":"SUM(IF($A12=$A$19:$A$50,N$19:N$50))","v":153},0.91616766467065869,null,{"$f":"SUM(IF($A12=$A$19:$A$50,Q$19:Q$50))","v":152},0.91017964071856283]
[{"$f":"'Control Panel'!A8","v":"NW7"},{"$f":"'Control Panel'!B8","v":"Poplar and Limehouse Network"},null,{"$f":"SUM(IF($A13=$A$19:$A$50,D$19:D$50))","v":50962},{"$f":"SUM(IF($A13=$A$19:$A$50,E$19:E$50))","v":147},{"$f":"SUM(IF($A13=$A$19:$A$50,F$19:F$50))","v":127},0.86394557823129248,{"$f":"SUM(IF($A13=$A$19:$A$50,H$19:H$50))","v":124},0.84353741496598644,null,{"$f":"SUM(IF($A13=$A$19:$A$50,K$19:K$50))","v":123},0.83673469387755106,null,{"$f":"SUM(IF($A13=$A$19:$A$50,N$19:N$50))","v":121},0.8231292517006803,null,{"$f":"SUM(IF($A13=$A$19:$A$50,Q$19:Q$50))","v":122},0.82993197278911568]
[{"$f":"'Control Panel'!A9","v":"NW8"},{"$f":"'Control Panel'!B9","v":"Healthy Island Network"},null,{"$f":"SUM(IF($A14=$A$19:$A$50,D$19:D$50))","v":62657},{"$f":"SUM(IF($A14=$A$19:$A$50,E$19:E$50))","v":174},{"$f":"SUM(IF($A14=$A$19:$A$50,F$19:F$50))","v":155},0.89080459770114939,{"$f":"SUM(IF($A14=$A$19:$A$50,H$19:H$50))","v":142},0.81609195402298851,null,{"$f":"SUM(IF($A14=$A$19:$A$50,K$19:K$50))","v":143},0.82183908045977017,null,{"$f":"SUM(IF($A14=$A$19:$A$50,N$19:N$50))","v":143},0.82183908045977017,null,{"$f":"SUM(IF($A14=$A$19:$A$50,Q$19:Q$50))","v":143},0.82183908045977017]
["Total",null,null,{"$f":"SUM(D8:D14)","v":377446},{"$f":"SUM(E8:E14)","v":974},{"$f":"SUM(F8:F14)","v":881},0.90451745379876791,{"$f":"SUM(H8:H14)","v":836},0.85831622176591371,null,{"$f":"SUM(K8:K14)","v":842},0.86447638603696098,null,{"$f":"SUM(N8:N14)","v":841},0.86344969199178645,null,{"$f":"SUM(Q8:Q14)","v":839},0.8613963039014374]
["Minimum and Maximum %",null,null,null,null,"Min","Max","Min","Max",null,"Min","Max",null,"Min","Max",null,"Min","Max"]
[null,null,null,null,null,{"$f":"SMALL(G19:G50,COUNTIF(G19:G50,0)+1)","v":0.75},{"$f":"MAX(G19:G50)","v":1},{"$f":"SMALL(I19:I50,COUNTIF(I19:I50,0)+1)","v":0.75},{"$f":"MAX(I19:I50)","v":1},null,{"$f":"SMALL(L19:L50,COUNTIF(L19:L50,0)+1)","v":0.75},{"$f":"MAX(L19:L50)","v":1},null,{"$f":"SMALL(O19:O50,COUNTIF(O19:O50,0)+1)","v":0.75},{"$f":"MAX(O19:O50)","v":1},null,{"$f":"SMALL(R19:R50,COUNTIF(R19:R50,0)+1)","v":0.75},{"$f":"MAX(R19:R50)","v":1}]
["Practices"]
[{"$f":"'Control Panel'!A12","v":"NW1"},{"$f":"'Control Panel'!B12","v":"Bethnal Green Health Centre"},{"$f":"'Control Panel'!C12","v":"F84083"},{"$f":"SUMIFS(OFFSET(REL_D,,MATCH($D$5,IND,0)-1),REL_D,$C$5,OrgID,$C19)","v":9766},{"$f":"SUMIFS(OFFSET(REL_D,,MATCH($E$5,IND,0)-1),REL_D,$C$5,OrgID,$C19)","v":21},{"$f":"SUMIFS(OFFSET(REL_D,,MATCH($F$5,IND,0)-1),REL_D,$C$5,OrgID,$C19)","v":20},{"$f":"IF(OR(ISTEXT($E19),$E19=0),\"N/A\",F19/$E19)","v":0.95238095238095233},{"$f":"SUMIFS(OFFSET(REL_D,,MATCH($H$5,IND,0)-1),REL_D,$C$5,OrgID,$C19)","v":17},{"$f":"IF(OR(ISTEXT($E19),$E19=0),\"N/A\",H19/$E19)","v":0.80952380952380953},{"$f":"IFERROR(ROUNDUP(IF($E19*0.95-H19>=0,$E19*0.95-H19,\"\"),0),\"\")","v":3},{"$f":"SUMIFS(OFFSET(REL_D,,MATCH($K$5,IND,0)-1),REL_D,$C$5,OrgID,$C19)","v":17},{"$f":"IF(OR(ISTEXT($E19),$E19=0),\"N/A\",K19/$E19)","v":0.80952380952380953},{"$f":"IFERROR(ROUNDUP(IF($E19*0.95-K19>=0,$E19*0.95-K19,\"\"),0),\"\")","v":3},{"$f":"SUMIFS(OFFSET(REL_D,,MATCH($N$5,IND,0)-1),REL_D,$C$5,OrgID,$C19)","v":17},{"$f":"IF(OR(ISTEXT($E19),$E19=0),\"N/A\",N19/$E19)","v":0.80952380952380953},{"$f":"IFERROR(ROUNDUP(IF($E19*0.95-N19>=0,$E19*0.95-N19,\"\"),0),\"\")","v":3},{"$f":"SUMIFS(OFFSET(REL_D,,MATCH($Q$5,IND,0)-1),REL_D,$C$5,OrgID,$C19)","v":17},{"$f":"IF(OR(ISTEXT($E19),$E19=0),\"N/A\",Q19/$E19)","v":0.80952380952380953}]
[{"$f":"'Control Panel'!A13","v":"NW1"},{"$f":"'Control Panel'!B13","v":"The Mission Practice"},{"$f":"'Control Panel'!C13","v":"F84016"},12618,29,25,0.86206896551724133,27,0.93103448275862066,1,28,0.96551724137931039,"",{"$f":"SUMIFS(OFFSET(REL_D,,MATCH($N$5,IND,0)-1),REL_D,$C$5,OrgID,$C20)","v":28},0.96551724137931039,{"$f":"IFERROR(ROUNDUP(IF($E20*0.95-N20>=0,$E20*0.95-N20,\"\"),0),\"\")","v":""},28,0.96551724137931039]
[{"$f":"'Control Panel'!A14","v":"NW1"},{"$f":"'Control Panel'!B14","v":"Globe Town Surgery"},{"$f":"'Control Panel'!C14","v":"F84123"},18056,29,26,0.89655172413793105,25,0.86206896551724133,3,25,0.86206896551724133,3,{"$f":"SUMIFS(OFFSET(REL_D,,MATCH($N$5,IND,0)-1),REL_D,$C$5,OrgID,$C21)","v":25},0.86206896551724133,3,25,0.86206896551724133]
[{"$f":"'Control Panel'!A16","v":"NW1"},{"$f":"'Control Panel'!B16","v":"Strouts Place Medical Centre"},{"$f":"'Control Panel'!C16","v":"F84051"},8593,15,14,0.93333333333333335,12,0.8,3,12,0.8,3,{"$f":"SUMIFS(OFFSET(REL_D,,MATCH($N$5,IND,0)-1),REL_D,$C$5,OrgID,$C22)","v":13},0.8666666666666667,2,13,0.8666666666666667]
[{"$f":"'Control Panel'!A17","v":"NW2"},{"$f":"'Control Panel'!B17","v":"Spitalfields Practice"},{"$f":"'Control Panel'!C17","v":"F84081"},14828,27,25,0.92592592592592593,23,0.85185185185185186,3,23,0.85185185185185186,3,{"$f":"SUMIFS(OFFSET(REL_D,,MATCH($N$5,IND,0)-1),REL_D,$C$5,OrgID,$C23)","v":22},0.81481481481481477,4,23,0.85185185185185186]
[{"$f":"'Control Panel'!A18","v":"NW2"},{"$f":"'Control Panel'!B18","v":"Blithehale Medical Centre"},{"$f":"'Control Panel'!C18","v":"F84718"},14732,32,31,0.96875,31,0.96875,"",31,0.96875,"",{"$f":"SUMIFS(OFFSET(REL_D,,MATCH($N$5,IND,0)-1),REL_D,$C$5,OrgID,$C24)","v":31},0.96875,"",31,0.96875]
[{"$f":"'Control Panel'!A19","v":"NW2"},{"$f":"'Control Panel'!B19","v":"Health E1"},{"$f":"'Control Panel'!C19","v":"F84733"},1109,0,0,"N/A",0,"N/A",0,0,"N/A",0,{"$f":"SUMIFS(OFFSET(REL_D,,MATCH($N$5,IND,0)-1),REL_D,$C$5,OrgID,$C25)","v":0},"N/A",0,0,"N/A"]
[{"$f":"'Control Panel'!A20","v":"NW2"},{"$f":"'Control Panel'!B20","v":"Albion Health Centre"},{"$f":"'Control Panel'!C20","v":"F84012"},9699,31,27,0.87096774193548387,27,0.87096774193548387,3,28,0.90322580645161288,2,{"$f":"SUMIFS(OFFSET(REL_D,,MATCH($N$5,IND,0)-1),REL_D,$C$5,OrgID,$C26)","v":29},0.93548387096774188,1,28,0.90322580645161288]
[{"$f":"'Control Panel'!A21","v":"NW3&4"},{"$f":"'Control Panel'!B21","v":"Harford Health Centre"},{"$f":"'Control Panel'!C21","v":"F84087"},9781,33,28,0.84848484848484851,27,0.81818181818181823,5,28,0.84848484848484851,4,{"$f":"SUMIFS(OFFSET(REL_D,,MATCH($N$5,IND,0)-1),REL_D,$C$5,OrgID,$C27)","v":31},0.93939393939393945,1,28,0.84848484848484851]
[{"$f":"'Control Panel'!A23","v":"NW3&4"},{"$f":"'Control Panel'!B23","v":"Goodman’s Field Health Centre"},{"$f":"'Control Panel'!C23","v":"F84039"},29370,76,69,0.90789473684210531,62,0.81578947368421051,11,63,0.82894736842105265,10,{"$f":"SUMIFS(OFFSET(REL_D,,MATCH($N$5,IND,0)-1),REL_D,$C$5,OrgID,$C28)","v":60},0.78947368421052633,13,62,0.81578947368421051]
[{"$f":"'Control Panel'!A24","v":"NW3&4"},{"$f":"'Control Panel'!B24","v":"City Wellbeing Practice (Tower Medical)"},{"$f":"'Control Panel'!C24","v":"F84114"},12178,37,34,0.91891891891891897,33,0.89189189189189189,3,32,0.86486486486486491,4,{"$f":"SUMIFS(OFFSET(REL_D,,MATCH($N$5,IND,0)-1),REL_D,$C$5,OrgID,$C29)","v":32},0.86486486486486491,4,32,0.86486486486486491]
[{"$f":"'Control Panel'!A25","v":"NW3&4"},{"$f":"'Control Panel'!B25","v":"Wapping Group Practice"},{"$f":"'Control Panel'!C25","v":"F84079"},11843,25,22,0.88,23,0.92,1,23,0.92,1,{"$f":"SUMIFS(OFFSET(REL_D,,MATCH($N$5,IND,0)-1),REL_D,$C$5,OrgID,$C30)","v":23},0.92,1,22,0.88]
[{"$f":"'Control Panel'!A26","v":"NW3&4"},{"$f":"'Control Panel'!B26","v":"Jubilee Street Practice"},{"$f":"'Control Panel'!C26","v":"F84031"},14178,44,41,0.93181818181818177,35,0.79545454545454541,7,36,0.81818181818181823,6,{"$f":"SUMIFS(OFFSET(REL_D,,MATCH($N$5,IND,0)-1),REL_D,$C$5,OrgID,$C31)","v":36},0.81818181818181823,6,36,0.81818181818181823]
[{"$f":"'Control Panel'!A27","v":"NW3&4"},{"$f":"'Control Panel'!B27","v":"St Katharine Docks Practice"},{"$f":"'Control Panel'!C27","v":"F84731"},2019,3,3,1,3,1,"",3,1,"",{"$f":"SUMIFS(OFFSET(REL_D,,MATCH($N$5,IND,0)-1),REL_D,$C$5,OrgID,$C32)","v":3},1,"",3,1]
[{"$f":"'Control Panel'!A29","v":"NW5"},{"$f":"'Control Panel'!B29","v":"Harley Grove Medical Centre"},{"$f":"'Control Panel'!C29","v":"F84044"},8063,18,17,0.94444444444444442,16,0.88888888888888884,2,17,0.94444444444444442,1,{"$f":"SUMIFS(OFFSET(REL_D,,MATCH($N$5,IND,0)-1),REL_D,$C$5,OrgID,$C33)","v":17},0.94444444444444442,1,17,0.94444444444444442]
[{"$f":"'Control Panel'!A30","v":"NW5"},{"$f":"'Control Panel'!B30","v":"St Stephens Health Centre"},{"$f":"'Control Panel'!C30","v":"F84034"},13458,40,37,0.92500000000000004,33,0.82499999999999996,5,34,0.85,4,{"$f":"SUMIFS(OFFSET(REL_D,,MATCH($N$5,IND,0)-1),REL_D,$C$5,OrgID,$C34)","v":34},0.85,4,34,0.85]
[{"$f":"'Control Panel'!A31","v":"NW5"},{"$f":"'Control Panel'!B31","v":"Ruston Street Clinic (Dr Amin)"},{"$f":"'Control Panel'!C31","v":"F84030"},3818,10,9,0.9,8,0.8,2,8,0.8,2,{"$f":"SUMIFS(OFFSET(REL_D,,MATCH($N$5,IND,0)-1),REL_D,$C$5,OrgID,$C35)","v":8},0.8,2,8,0.8]
[{"$f":"'Control Panel'!A32","v":"NW5"},{"$f":"'Control Panel'!B32","v":"Grove Road Surgery (Dr Shah)"},{"$f":"'Control Panel'!C32","v":"F84055"},4204,4,3,0.75,3,0.75,1,3,0.75,1,{"$f":"SUMIFS(OFFSET(REL_D,,MATCH($N$5,IND,0)-1),REL_D,$C$5,OrgID,$C36)","v":3},0.75,1,3,0.75]
[{"$f":"'Control Panel'!A33","v":"NW5"},{"$f":"'Control Panel'!B33","v":"The Tredegar Practice"},{"$f":"'Control Panel'!C33","v":"F84696"},6187,12,12,1,12,1,"",12,1,"",{"$f":"SUMIFS(OFFSET(REL_D,,MATCH($N$5,IND,0)-1),REL_D,$C$5,OrgID,$C37)","v":12},1,"",12,1]
[{"$f":"'Control Panel'!A34","v":"NW6"},{"$f":"'Control Panel'!B34","v":"Stroudley Walk Centre"},{"$f":"'Control Panel'!C34","v":"F84676"},4223,7,7,1,7,1,"",7,1,"",{"$f":"SUMIFS(OFFSET(REL_D,,MATCH($N$5,IND,0)-1),REL_D,$C$5,OrgID,$C38)","v":7},1,"",7,1]
[{"$f":"'Control Panel'!A35","v":"NW6"},{"$f":"'Control Panel'!B35","v":"St Andrews Health Centre"},{"$f":"'Control Panel'!C35","v":"Y03023"},15467,65,62,0.9538461538461539,59,0.90769230769230769,3,58,0.89230769230769236,4,{"$f":"SUMIFS(OFFSET(REL_D,,MATCH($N$5,IND,0)-1),REL_D,$C$5,OrgID,$C39)","v":58},0.89230769230769236,4,57,0.87692307692307692]
[{"$f":"'Control Panel'!A36","v":"NW6"},{"$f":"'Control Panel'!B36","v":"Merchant Street (Dr Rana)"},{"$f":"'Control Panel'!C36","v":"F84118"},6097,7,6,0.8571428571428571,6,0.8571428571428571,1,6,0.8571428571428571,1,{"$f":"SUMIFS(OFFSET(REL_D,,MATCH($N$5,IND,0)-1),REL_D,$C$5,OrgID,$C40)","v":6},0.8571428571428571,1,6,0.8571428571428571]
[{"$f":"'Control Panel'!A37","v":"NW6"},{"$f":"'Control Panel'!B37","v":"St Pauls Way Medical Centre"},{"$f":"'Control Panel'!C37","v":"F84714"},16336,46,43,0.93478260869565222,44,0.95652173913043481,"",44,0.95652173913043481,"",{"$f":"SUMIFS(OFFSET(REL_D,,MATCH($N$5,IND,0)-1),REL_D,$C$5,OrgID,$C41)","v":43},0.93478260869565222,1,43,0.93478260869565222]
[{"$f":"'Control Panel'!A38","v":"NW6"},{"$f":"'Control Panel'!B38","v":"Bromley-By-Bow Health Centre / XX Place"},{"$f":"'Control Panel'!O30","v":"F84122"},17204,42,38,{"$f":"IF(OR(ISTEXT($E42),$E42=0),\"N/A\",F42/$E42)","v":0.90476190476190477},37,0.88095238095238093,3,38,{"$f":"IF(OR(ISTEXT($E42),$E42=0),\"N/A\",K42/$E42)","v":0.90476190476190477},2,{"$f":"SUMIFS(OFFSET(REL_D,,MATCH($N$5,IND,0)-1),REL_D,$C$5,OrgID,$C42)","v":39},{"$f":"IF(OR(ISTEXT($E42),$E42=0),\"N/A\",N42/$E42)","v":0.9285714285714286},1,39,0.9285714285714286]
[{"$f":"'Control Panel'!A39","v":"NW7"},{"$f":"'Control Panel'!B39","v":"Limehouse Practice (Gill Street)"},{"$f":"'Control Panel'!C39","v":"F84054"},11987,32,28,0.875,26,0.8125,5,27,0.84375,4,{"$f":"SUMIFS(OFFSET(REL_D,,MATCH($N$5,IND,0)-1),REL_D,$C$5,OrgID,$C43)","v":26},0.8125,5,27,0.84375]
[{"$f":"'Control Panel'!A40","v":"NW7"},{"$f":"'Control Panel'!B40","v":"Chrisp Street Health Centre"},{"$f":"'Control Panel'!C40","v":"F84062"},15612,41,37,0.90243902439024393,37,0.90243902439024393,2,37,0.90243902439024393,2,{"$f":"SUMIFS(OFFSET(REL_D,,MATCH($N$5,IND,0)-1),REL_D,$C$5,OrgID,$C44)","v":37},0.90243902439024393,2,37,0.90243902439024393]
[{"$f":"'Control Panel'!A41","v":"NW7"},{"$f":"'Control Panel'!B41","v":"Aberfeldy Practice"},{"$f":"'Control Panel'!C41","v":"F84698"},11510,35,31,0.88571428571428568,29,0.82857142857142863,5,28,0.8,6,{"$f":"SUMIFS(OFFSET(REL_D,,MATCH($N$5,IND,0)-1),REL_D,$C$5,OrgID,$C45)","v":28},0.8,6,28,0.8]
[{"$f":"'Control Panel'!A42","v":"NW7"},{"$f":"'Control Panel'!B42","v":"Gough Walk (Dr Selvan)"},{"$f":"'Control Panel'!C42","v":"F84025"},11853,39,31,0.79487179487179482,32,0.82051282051282048,6,31,0.79487179487179482,7,{"$f":"SUMIFS(OFFSET(REL_D,,MATCH($N$5,IND,0)-1),REL_D,$C$5,OrgID,$C46)","v":30},0.76923076923076927,8,30,0.76923076923076927]
[{"$f":"'Control Panel'!A43","v":"NW8"},{"$f":"'Control Panel'!B43","v":"Island Health"},{"$f":"'Control Panel'!C43","v":"F84710"},15259,34,30,0.88235294117647056,27,0.79411764705882348,6,28,0.82352941176470584,5,{"$f":"SUMIFS(OFFSET(REL_D,,MATCH($N$5,IND,0)-1),REL_D,$C$5,OrgID,$C47)","v":28},0.82352941176470584,5,29,0.8529411764705882]
[{"$f":"'Control Panel'!A44","v":"NW8"},{"$f":"'Control Panel'!B44","v":"Docklands Medical Centre"},{"$f":"'Control Panel'!C44","v":"F84656"},9970,21,20,0.95238095238095233,17,0.80952380952380953,3,17,0.80952380952380953,3,{"$f":"SUMIFS(OFFSET(REL_D,,MATCH($N$5,IND,0)-1),REL_D,$C$5,OrgID,$C48)","v":17},0.80952380952380953,3,17,0.80952380952380953]
[{"$f":"'Control Panel'!A45","v":"NW8"},{"$f":"'Control Panel'!B45","v":"Island Medical Centre"},{"$f":"'Control Panel'!C45","v":"F84647"},9506,20,18,0.9,16,0.8,3,16,0.8,3,{"$f":"SUMIFS(OFFSET(REL_D,,MATCH($N$5,IND,0)-1),REL_D,$C$5,OrgID,$C49)","v":16},0.8,3,16,0.8]
[{"$f":"'Control Panel'!A46","v":"NW8"},{"$f":"'Control Panel'!B46","v":"Barkantine Practice"},{"$f":"'Control Panel'!C46","v":"F84747"},27922,99,87,0.87878787878787878,82,0.82828282828282829,13,82,0.82828282828282829,13,{"$f":"SUMIFS(OFFSET(REL_D,,MATCH($N$5,IND,0)-1),REL_D,$C$5,OrgID,$C50)","v":82},0.82828282828282829,13,81,0.81818181818181823]
[null,"Total",null,{"$f":"SUM(D19:D50)","v":377446},{"$f":"SUM(E19:E50)","v":974},{"$f":"SUM(F19:F50)","v":881},0.90451745379876791,{"$f":"SUM(H19:H50)","v":836},0.85831622176591371,null,{"$f":"SUM(K19:K50)","v":842},0.86447638603696098,null,{"$f":"SUM(N19:N50)","v":841},0.86344969199178645,null,{"$f":"SUM(Q19:Q50)","v":839},0.8613963039014374]

{"sheet":"Patients becoming 5y","index":4,"n_rows":51,"n_cols":17,"rows_kept":51,"cut":false,"hidden":false,"merged":[[15,0,16,2],[15,4,16,4]]}
[]
[null,null,null,"Tower Hamlets Childhood Immunisations Dashboard: Metric Details"]
[null,null,null,"Patients becoming 5y",null,{"$f":"E15","v":936}]
[]
[null,null,"March 2022","All Patients","(03) 5 YEAR COHORT","(03.01) DTaP/IPV/Hib","DTaP/IPV/Hib(%)","(03.02) MMR (Primary)","MMR (Primary)(%)","(03.03) DTaP/IPV (Booster)","DTaP/IPV (Booster)(%)","Patients required to achieve CCG Target (95%)","(03.05) MMR (Booster)","MMR (Booster)(%)","Patients required to achieve CCG Target (95%)","(03.04) HiB/Men C","HiB/Men C(%)"]
[null,"Home",null,"Listsize ","Patients becoming 5y","DTaP/IPV/Hib","DTaP/IPV/Hib(%)","MMR (Primary)","MMR (Primary)(%)","DTaP/IPV (Booster)","DTaP/IPV (Booster)(%)","Patients required to achieve CCG Target (95%)","MMR (Booster)","MMR (Booster)(%)","Patients required to achieve CCG Target (95%)","HiB/Men C","HiB/Men C(%)"]
["Cluster"]
[{"$f":"'Control Panel'!A3","v":"NW1"},{"$f":"'Control Panel'!B3","v":"The One Network"},null,{"$f":"SUM(IF($A8=$A$19:$A$50,D$19:D$50))","v":49033},{"$f":"SUM(IF($A8=$A$19:$A$50,E$19:E$50))","v":107},{"$f":"SUM(IF($A8=$A$19:$A$50,F$19:F$50))","v":101},{"$f":"IF(OR(ISTEXT($E8),$E8=0),\"N/A\",F8/$E8)","v":0.94392523364485981},{"$f":"SUM(IF($A8=$A$19:$A$50,H$19:H$50))","v":96},{"$f":"IF(OR(ISTEXT($E8),$E8=0),\"N/A\",H8/$E8)","v":0.89719626168224298},{"$f":"SUM(IF($A8=$A$19:$A$50,J$19:J$50))","v":94},{"$f":"IF(OR(ISTEXT($E8),$E8=0),\"N/A\",J8/$E8)","v":0.87850467289719625},null,{"$f":"SUM(IF($A8=$A$19:$A$50,M$19:M$50))","v":94},{"$f":"IF(OR(ISTEXT($E8),$E8=0),\"N/A\",M8/$E8)","v":0.87850467289719625},null,{"$f":"SUM(IF($A8=$A$19:$A$50,P$19:P$50))","v":97},{"$f":"IF(OR(ISTEXT($E8),$E8=0),\"N/A\",P8/$E8)","v":0.90654205607476634}]
[{"$f":"'Control Panel'!A4","v":"NW2"},{"$f":"'Control Panel'!B4","v":"East End Health Network"},null,{"$f":"SUM(IF($A9=$A$19:$A$50,D$19:D$50))","v":40368},{"$f":"SUM(IF($A9=$A$19:$A$50,E$19:E$50))","v":81},{"$f":"SUM(IF($A9=$A$19:$A$50,F$19:F$50))","v":77},{"$f":"IF(OR(ISTEXT($E9),$E9=0),\"N/A\",F9/$E9)","v":0.95061728395061729},{"$f":"SUM(IF($A9=$A$19:$A$50,H$19:H$50))","v":77},{"$f":"IF(OR(ISTEXT($E9),$E9=0),\"N/A\",H9/$E9)","v":0.95061728395061729},{"$f":"SUM(IF($A9=$A$19:$A$50,J$19:J$50))","v":70},{"$f":"IF(OR(ISTEXT($E9),$E9=0),\"N/A\",J9/$E9)","v":0.86419753086419748},null,{"$f":"SUM(IF($A9=$A$19:$A$50,M$19:M$50))","v":70},{"$f":"IF(OR(ISTEXT($E9),$E9=0),\"N/A\",M9/$E9)","v":0.86419753086419748},null,{"$f":"SUM(IF($A9=$A$19:$A$50,P$19:P$50))","v":75},{"$f":"IF(OR(ISTEXT($E9),$E9=0),\"N/A\",P9/$E9)","v":0.92592592592592593}]
[{"$f":"'Control Panel'!A5","v":"NW3&4"},{"$f":"'Control Panel'!B5","v":"Tower Network"},null,{"$f":"SUM(IF($A10=$A$19:$A$50,D$19:D$50))","v":79369},{"$f":"SUM(IF($A10=$A$19:$A$50,E$19:E$50))","v":197},{"$f":"SUM(IF($A10=$A$19:$A$50,F$19:F$50))","v":182},0.92385786802030456,{"$f":"SUM(IF($A10=$A$19:$A$50,H$19:H$50))","v":178},0.90355329949238583,{"$f":"SUM(IF($A10=$A$19:$A$50,J$19:J$50))","v":150},0.76142131979695427,null,{"$f":"SUM(IF($A10=$A$19:$A$50,M$19:M$50))","v":155},0.78680203045685282,null,{"$f":"SUM(IF($A10=$A$19:$A$50,P$19:P$50))","v":177},0.89847715736040612]
[{"$f":"'Control Panel'!A6","v":"NW5"},{"$f":"'Control Panel'!B6","v":"Bow Health Network"},null,{"$f":"SUM(IF($A11=$A$19:$A$50,D$19:D$50))","v":35730},{"$f":"SUM(IF($A11=$A$19:$A$50,E$19:E$50))","v":91},{"$f":"SUM(IF($A11=$A$19:$A$50,F$19:F$50))","v":83},0.91208791208791207,{"$f":"SUM(IF($A11=$A$19:$A$50,H$19:H$50))","v":79},0.86813186813186816,{"$f":"SUM(IF($A11=$A$19:$A$50,J$19:J$50))","v":76},0.8351648351648352,null,{"$f":"SUM(IF($A11=$A$19:$A$50,M$19:M$50))","v":76},0.8351648351648352,null,{"$f":"SUM(IF($A11=$A$19:$A$50,P$19:P$50))","v":81},0.89010989010989006]
[{"$f":"'Control Panel'!A7","v":"NW6"},{"$f":"'Control Panel'!B7","v":"Mile End East and Bromley by Bow Network"},null,{"$f":"SUM(IF($A12=$A$19:$A$50,D$19:D$50))","v":59327},{"$f":"SUM(IF($A12=$A$19:$A$50,E$19:E$50))","v":169},{"$f":"SUM(IF($A12=$A$19:$A$50,F$19:F$50))","v":159},0.94082840236686394,{"$f":"SUM(IF($A12=$A$19:$A$50,H$19:H$50))","v":149},0.88165680473372776,{"$f":"SUM(IF($A12=$A$19:$A$50,J$19:J$50))","v":144},0.85207100591715978,null,{"$f":"SUM(IF($A12=$A$19:$A$50,M$19:M$50))","v":143},0.84615384615384615,null,{"$f":"SUM(IF($A12=$A$19:$A$50,P$19:P$50))","v":156},0.92307692307692313]
[{"$f":"'Control Panel'!A8","v":"NW7"},{"$f":"'Control Panel'!B8","v":"Poplar and Limehouse Network"},null,{"$f":"SUM(IF($A13=$A$19:$A$50,D$19:D$50))","v":50962},{"$f":"SUM(IF($A13=$A$19:$A$50,E$19:E$50))","v":133},{"$f":"SUM(IF($A13=$A$19:$A$50,F$19:F$50))","v":121},0.90977443609022557,{"$f":"SUM(IF($A13=$A$19:$A$50,H$19:H$50))","v":118},0.88721804511278191,{"$f":"SUM(IF($A13=$A$19:$A$50,J$19:J$50))","v":96},0.72180451127819545,null,{"$f":"SUM(IF($A13=$A$19:$A$50,M$19:M$50))","v":96},0.72180451127819545,null,{"$f":"SUM(IF($A13=$A$19:$A$50,P$19:P$50))","v":115},0.86466165413533835]
[{"$f":"'Control Panel'!A9","v":"NW8"},{"$f":"'Control Panel'!B9","v":"Healthy Island Network"},null,{"$f":"SUM(IF($A14=$A$19:$A$50,D$19:D$50))","v":62657},{"$f":"SUM(IF($A14=$A$19:$A$50,E$19:E$50))","v":158},{"$f":"SUM(IF($A14=$A$19:$A$50,F$19:F$50))","v":147},0.930379746835443,{"$f":"SUM(IF($A14=$A$19:$A$50,H$19:H$50))","v":145},0.91772151898734178,{"$f":"SUM(IF($A14=$A$19:$A$50,J$19:J$50))","v":134},0.84810126582278478,null,{"$f":"SUM(IF($A14=$A$19:$A$50,M$19:M$50))","v":135},0.85443037974683544,null,{"$f":"SUM(IF($A14=$A$19:$A$50,P$19:P$50))","v":147},0.930379746835443]
["Total",null,null,{"$f":"SUM(D8:D14)","v":377446},{"$f":"SUM(E8:E14)","v":936},{"$f":"SUM(F8:F14)","v":870},0.92948717948717952,{"$f":"SUM(H8:H14)","v":842},0.8995726495726496,{"$f":"SUM(J8:J14)","v":764},0.81623931623931623,null,{"$f":"SUM(M8:M14)","v":769},0.82158119658119655,null,{"$f":"SUM(P8:P14)","v":848},0.90598290598290598]
["Minimum and Maximum %",null,null,null,null,"Min","Max","Min","Max","Min","Max",null,"Min","Max",null,"Min","Max"]
[null,null,null,null,null,{"$f":"SMALL(G19:G50,COUNTIF(G19:G50,0)+1)","v":0.78260869565217395},{"$f":"MAX(G19:G50)","v":1},{"$f":"SMALL(I19:I50,COUNTIF(I19:I50,0)+1)","v":0.76470588235294112},{"$f":"MAX(I19:I50)","v":1},{"$f":"SMALL(K19:K50,COUNTIF(K19:K50,0)+1)","v":0.6},{"$f":"MAX(K19:K50)","v":1},null,{"$f":"SMALL(N19:N50,COUNTIF(N19:N50,0)+1)","v":0.61111111111111116},{"$f":"MAX(N19:N50)","v":1},null,{"$f":"SMALL(Q19:Q50,COUNTIF(Q19:Q50,0)+1)","v":0.78260869565217395},{"$f":"MAX(Q19:Q50)","v":1}]
["Practices"]
[{"$f":"'Control Panel'!A12","v":"NW1"},{"$f":"'Control Panel'!B12","v":"Bethnal Green Health Centre"},{"$f":"'Control Panel'!C12","v":"F84083"},{"$f":"SUMIFS(OFFSET(REL_D,,MATCH($D$5,IND,0)-1),REL_D,$C$5,OrgID,$C19)","v":9766},{"$f":"SUMIFS(OFFSET(REL_D,,MATCH($E$5,IND,0)-1),REL_D,$C$5,OrgID,$C19)","v":28},{"$f":"SUMIFS(OFFSET(REL_D,,MATCH($F$5,IND,0)-1),REL_D,$C$5,OrgID,$C19)","v":27},{"$f":"IF(OR(ISTEXT($E19),$E19=0),\"N/A\",F19/$E19)","v":0.9642857142857143},{"$f":"SUMIFS(OFFSET(REL_D,,MATCH($H$5,IND,0)-1),REL_D,$C$5,OrgID,$C19)","v":25},{"$f":"IF(OR(ISTEXT($E19),$E19=0),\"N/A\",H19/$E19)","v":0.8928571428571429},{"$f":"SUMIFS(OFFSET(REL_D,,MATCH($J$5,IND,0)-1),REL_D,$C$5,OrgID,$C19)","v":24},{"$f":"IF(OR(ISTEXT($E19),$E19=0),\"N/A\",J19/$E19)","v":0.8571428571428571},{"$f":"IFERROR(ROUNDUP(IF($E19*0.95-J19>=0,$E19*0.95-J19,\"\"),0),\"\")","v":3},{"$f":"SUMIFS(OFFSET(REL_D,,MATCH($M$5,IND,0)-1),REL_D,$C$5,OrgID,$C19)","v":25},{"$f":"IF(OR(ISTEXT($E19),$E19=0),\"N/A\",M19/$E19)","v":0.8928571428571429},{"$f":"IFERROR(ROUNDUP(IF($E19*0.95-M19>=0,$E19*0.95-M19,\"\"),0),\"\")","v":2},{"$f":"SUMIFS(OFFSET(REL_D,,MATCH($P$5,IND,0)-1),REL_D,$C$5,OrgID,$C19)","v":26},{"$f":"IF(OR(ISTEXT($E19),$E19=0),\"N/A\",P19/$E19)","v":0.9285714285714286}]
[{"$f":"'Control Panel'!A13","v":"NW1"},{"$f":"'Control Panel'!B13","v":"The Mission Practice"},{"$f":"'Control Panel'!C13","v":"F84016"},12618,35,32,0.91428571428571426,30,0.8571428571428571,30,0.8571428571428571,4,{"$f":"SUMIFS(OFFSET(REL_D,,MATCH($M$5,IND,0)-1),REL_D,$C$5,OrgID,$C20)","v":29},0.82857142857142863,5,31,0.88571428571428568]
[{"$f":"'Control Panel'!A14","v":"NW1"},{"$f":"'Control Panel'!B14","v":"Globe Town Surgery"},{"$f":"'Control Panel'!C14","v":"F84123"},18056,33,31,0.93939393939393945,30,0.90909090909090906,30,0.90909090909090906,2,{"$f":"SUMIFS(OFFSET(REL_D,,MATCH($M$5,IND,0)-1),REL_D,$C$5,OrgID,$C21)","v":30},0.90909090909090906,2,29,0.87878787878787878]
[{"$f":"'Control Panel'!A16","v":"NW1"},{"$f":"'Control Panel'!B16","v":"Strouts Place Medical Centre"},{"$f":"'Control Panel'!C16","v":"F84051"},8593,11,11,1,11,1,10,0.90909090909090906,1,{"$f":"SUMIFS(OFFSET(REL_D,,MATCH($M$5,IND,0)-1),REL_D,$C$5,OrgID,$C22)","v":10},0.90909090909090906,1,11,1]
[{"$f":"'Control Panel'!A17","v":"NW2"},{"$f":"'Control Panel'!B17","v":"Spitalfields Practice"},{"$f":"'Control Panel'!C17","v":"F84081"},14828,29,27,0.93103448275862066,27,0.93103448275862066,26,0.89655172413793105,2,{"$f":"SUMIFS(OFFSET(REL_D,,MATCH($M$5,IND,0)-1),REL_D,$C$5,OrgID,$C23)","v":26},0.89655172413793105,2,27,0.93103448275862066]
[{"$f":"'Control Panel'!A18","v":"NW2"},{"$f":"'Control Panel'!B18","v":"Blithehale Medical Centre"},{"$f":"'Control Panel'!C18","v":"F84718"},14732,21,20,0.95238095238095233,21,1,18,0.8571428571428571,2,{"$f":"SUMIFS(OFFSET(REL_D,,MATCH($M$5,IND,0)-1),REL_D,$C$5,OrgID,$C24)","v":18},0.8571428571428571,2,20,0.95238095238095233]
[{"$f":"'Control Panel'!A19","v":"NW2"},{"$f":"'Control Panel'!B19","v":"Health E1"},{"$f":"'Control Panel'!C19","v":"F84733"},1109,0,0,"N/A",0,"N/A",0,"N/A",0,{"$f":"SUMIFS(OFFSET(REL_D,,MATCH($M$5,IND,0)-1),REL_D,$C$5,OrgID,$C25)","v":0},"N/A",0,0,"N/A"]
[{"$f":"'Control Panel'!A20","v":"NW2"},{"$f":"'Control Panel'!B20","v":"Albion Health Centre"},{"$f":"'Control Panel'!C20","v":"F84012"},9699,31,30,0.967741935483871,29,0.93548387096774188,26,0.83870967741935487,4,{"$f":"SUMIFS(OFFSET(REL_D,,MATCH($M$5,IND,0)-1),REL_D,$C$5,OrgID,$C26)","v":26},0.83870967741935487,4,28,0.90322580645161288]
[{"$f":"'Control Panel'!A21","v":"NW3&4"},{"$f":"'Control Panel'!B21","v":"Harford Health Centre"},{"$f":"'Control Panel'!C21","v":"F84087"},9781,35,32,0.91428571428571426,31,0.88571428571428568,27,0.77142857142857146,7,{"$f":"SUMIFS(OFFSET(REL_D,,MATCH($M$5,IND,0)-1),REL_D,$C$5,OrgID,$C27)","v":27},0.77142857142857146,7,31,0.88571428571428568]
[{"$f":"'Control Panel'!A23","v":"NW3&4"},{"$f":"'Control Panel'!B23","v":"Goodman’s Field Health Centre"},{"$f":"'Control Panel'!C23","v":"F84039"},29370,73,66,0.90410958904109584,65,0.8904109589041096,56,0.76712328767123283,14,{"$f":"SUMIFS(OFFSET(REL_D,,MATCH($M$5,IND,0)-1),REL_D,$C$5,OrgID,$C28)","v":60},0.82191780821917804,10,65,0.8904109589041096]
[{"$f":"'Control Panel'!A24","v":"NW3&4"},{"$f":"'Control Panel'!B24","v":"City Wellbeing Practice (Tower Medical)"},{"$f":"'Control Panel'!C24","v":"F84114"},12178,25,22,0.88,22,0.88,15,0.6,9,{"$f":"SUMIFS(OFFSET(REL_D,,MATCH($M$5,IND,0)-1),REL_D,$C$5,OrgID,$C29)","v":16},0.64,8,22,0.88]
[{"$f":"'Control Panel'!A25","v":"NW3&4"},{"$f":"'Control Panel'!B25","v":"Wapping Group Practice"},{"$f":"'Control Panel'!C25","v":"F84079"},11843,19,19,1,19,1,16,0.84210526315789469,3,{"$f":"SUMIFS(OFFSET(REL_D,,MATCH($M$5,IND,0)-1),REL_D,$C$5,OrgID,$C30)","v":16},0.84210526315789469,3,18,0.94736842105263153]
[{"$f":"'Control Panel'!A26","v":"NW3&4"},{"$f":"'Control Panel'!B26","v":"Jubilee Street Practice"},{"$f":"'Control Panel'!C26","v":"F84031"},14178,44,42,0.95454545454545459,40,0.90909090909090906,35,0.79545454545454541,7,{"$f":"SUMIFS(OFFSET(REL_D,,MATCH($M$5,IND,0)-1),REL_D,$C$5,OrgID,$C31)","v":35},0.79545454545454541,7,40,0.90909090909090906]
[{"$f":"'Control Panel'!A27","v":"NW3&4"},{"$f":"'Control Panel'!B27","v":"St Katharine Docks Practice"},{"$f":"'Control Panel'!C27","v":"F84731"},2019,1,1,1,1,1,1,1,"",{"$f":"SUMIFS(OFFSET(REL_D,,MATCH($M$5,IND,0)-1),REL_D,$C$5,OrgID,$C32)","v":1},1,"",1,1]
[{"$f":"'Control Panel'!A29","v":"NW5"},{"$f":"'Control Panel'!B29","v":"Harley Grove Medical Centre"},{"$f":"'Control Panel'!C29","v":"F84044"},8063,23,18,0.78260869565217395,18,0.78260869565217395,16,0.69565217391304346,6,{"$f":"SUMIFS(OFFSET(REL_D,,MATCH($M$5,IND,0)-1),REL_D,$C$5,OrgID,$C33)","v":16},0.69565217391304346,6,18,0.78260869565217395]
[{"$f":"'Control Panel'!A30","v":"NW5"},{"$f":"'Control Panel'!B30","v":"St Stephens Health Centre"},{"$f":"'Control Panel'!C30","v":"F84034"},13458,37,37,1,33,0.89189189189189189,35,0.94594594594594594,1,{"$f":"SUMIFS(OFFSET(REL_D,,MATCH($M$5,IND,0)-1),REL_D,$C$5,OrgID,$C34)","v":33},0.89189189189189189,3,36,0.97297297297297303]
[{"$f":"'Control Panel'!A31","v":"NW5"},{"$f":"'Control Panel'!B31","v":"Ruston Street Clinic (Dr Amin)"},{"$f":"'Control Panel'!C31","v":"F84030"},3818,6,6,1,6,1,5,0.83333333333333337,1,{"$f":"SUMIFS(OFFSET(REL_D,,MATCH($M$5,IND,0)-1),REL_D,$C$5,OrgID,$C35)","v":5},0.83333333333333337,1,6,1]
[{"$f":"'Control Panel'!A32","v":"NW5"},{"$f":"'Control Panel'!B32","v":"Grove Road Surgery (Dr Shah)"},{"$f":"'Control Panel'!C32","v":"F84055"},4204,10,9,0.9,9,0.9,7,0.7,3,{"$f":"SUMIFS(OFFSET(REL_D,,MATCH($M$5,IND,0)-1),REL_D,$C$5,OrgID,$C36)","v":9},0.9,1,8,0.8]
[{"$f":"'Control Panel'!A33","v":"NW5"},{"$f":"'Control Panel'!B33","v":"The Tredegar Practice"},{"$f":"'Control Panel'!C33","v":"F84696"},6187,15,13,0.8666666666666667,13,0.8666666666666667,13,0.8666666666666667,2,{"$f":"SUMIFS(OFFSET(REL_D,,MATCH($M$5,IND,0)-1),REL_D,$C$5,OrgID,$C37)","v":13},0.8666666666666667,2,13,0.8666666666666667]
[{"$f":"'Control Panel'!A34","v":"NW6"},{"$f":"'Control Panel'!B34","v":"Stroudley Walk Centre"},{"$f":"'Control Panel'!C34","v":"F84676"},4223,17,14,0.82352941176470584,13,0.76470588235294112,14,0.82352941176470584,3,{"$f":"SUMIFS(OFFSET(REL_D,,MATCH($M$5,IND,0)-1),REL_D,$C$5,OrgID,$C38)","v":14},0.82352941176470584,3,14,0.82352941176470584]
[{"$f":"'Control Panel'!A35","v":"NW6"},{"$f":"'Control Panel'!B35","v":"St Andrews Health Centre"},{"$f":"'Control Panel'!C35","v":"Y03023"},15467,46,45,0.97826086956521741,44,0.95652173913043481,40,0.86956521739130432,4,{"$f":"SUMIFS(OFFSET(REL_D,,MATCH($M$5,IND,0)-1),REL_D,$C$5,OrgID,$C39)","v":41},0.89130434782608692,3,45,0.97826086956521741]
[{"$f":"'Control Panel'!A36","v":"NW6"},{"$f":"'Control Panel'!B36","v":"Merchant Street (Dr Rana)"},{"$f":"'Control Panel'!C36","v":"F84118"},6097,10,10,1,10,1,10,1,"",{"$f":"SUMIFS(OFFSET(REL_D,,MATCH($M$5,IND,0)-1),REL_D,$C$5,OrgID,$C40)","v":10},1,"",10,1]
[{"$f":"'Control Panel'!A37","v":"NW6"},{"$f":"'Control Panel'!B37","v":"St Pauls Way Medical Centre"},{"$f":"'Control Panel'!C37","v":"F84714"},16336,54,49,0.90740740740740744,45,0.83333333333333337,45,0.83333333333333337,7,{"$f":"SUMIFS(OFFSET(REL_D,,MATCH($M$5,IND,0)-1),REL_D,$C$5,OrgID,$C41)","v":44},0.81481481481481477,8,47,0.87037037037037035]
[{"$f":"'Control Panel'!A38","v":"NW6"},{"$f":"'Control Panel'!B38","v":"Bromley-By-Bow Health Centre / XX Place"},{"$f":"'Control Panel'!O30","v":"F84122"},17204,42,41,{"$f":"IF(OR(ISTEXT($E42),$E42=0),\"N/A\",F42/$E42)","v":0.97619047619047616},37,{"$f":"IF(OR(ISTEXT($E42),$E42=0),\"N/A\",H42/$E42)","v":0.88095238095238093},35,{"$f":"IF(OR(ISTEXT($E42),$E42=0),\"N/A\",J42/$E42)","v":0.83333333333333337},5,{"$f":"SUMIFS(OFFSET(REL_D,,MATCH($M$5,IND,0)-1),REL_D,$C$5,OrgID,$C42)","v":34},0.80952380952380953,6,40,{"$f":"IF(OR(ISTEXT($E42),$E42=0),\"N/A\",P42/$E42)","v":0.95238095238095233}]
[{"$f":"'Control Panel'!A39","v":"NW7"},{"$f":"'Control Panel'!B39","v":"Limehouse Practice (Gill Street)"},{"$f":"'Control Panel'!C39","v":"F84054"},11987,28,27,0.9642857142857143,25,0.8928571428571429,20,0.7142857142857143,7,{"$f":"SUMIFS(OFFSET(REL_D,,MATCH($M$5,IND,0)-1),REL_D,$C$5,OrgID,$C43)","v":20},0.7142857142857143,7,23,0.8214285714285714]
[{"$f":"'Control Panel'!A40","v":"NW7"},{"$f":"'Control Panel'!B40","v":"Chrisp Street Health Centre"},{"$f":"'Control Panel'!C40","v":"F84062"},15612,43,39,0.90697674418604646,37,0.86046511627906974,31,0.72093023255813948,10,{"$f":"SUMIFS(OFFSET(REL_D,,MATCH($M$5,IND,0)-1),REL_D,$C$5,OrgID,$C44)","v":31},0.72093023255813948,10,38,0.88372093023255816]
[{"$f":"'Control Panel'!A41","v":"NW7"},{"$f":"'Control Panel'!B41","v":"Aberfeldy Practice"},{"$f":"'Control Panel'!C41","v":"F84698"},11510,26,24,0.92307692307692313,24,0.92307692307692313,23,0.88461538461538458,2,{"$f":"SUMIFS(OFFSET(REL_D,,MATCH($M$5,IND,0)-1),REL_D,$C$5,OrgID,$C45)","v":23},0.88461538461538458,2,23,0.88461538461538458]
[{"$f":"'Control Panel'!A42","v":"NW7"},{"$f":"'Control Panel'!B42","v":"Gough Walk (Dr Selvan)"},{"$f":"'Control Panel'!C42","v":"F84025"},11853,36,31,0.86111111111111116,32,0.88888888888888884,22,0.61111111111111116,13,{"$f":"SUMIFS(OFFSET(REL_D,,MATCH($M$5,IND,0)-1),REL_D,$C$5,OrgID,$C46)","v":22},0.61111111111111116,13,31,0.86111111111111116]
[{"$f":"'Control Panel'!A43","v":"NW8"},{"$f":"'Control Panel'!B43","v":"Island Health"},{"$f":"'Control Panel'!C43","v":"F84710"},15259,37,35,0.94594594594594594,34,0.91891891891891897,26,0.70270270270270274,10,{"$f":"SUMIFS(OFFSET(REL_D,,MATCH($M$5,IND,0)-1),REL_D,$C$5,OrgID,$C47)","v":26},0.70270270270270274,10,35,0.94594594594594594]
[{"$f":"'Control Panel'!A44","v":"NW8"},{"$f":"'Control Panel'!B44","v":"Docklands Medical Centre"},{"$f":"'Control Panel'!C44","v":"F84656"},9970,25,22,0.88,21,0.84,21,0.84,3,{"$f":"SUMIFS(OFFSET(REL_D,,MATCH($M$5,IND,0)-1),REL_D,$C$5,OrgID,$C48)","v":21},0.84,3,22,0.88]
[{"$f":"'Control Panel'!A45","v":"NW8"},{"$f":"'Control Panel'!B45","v":"Island Medical Centre"},{"$f":"'Control Panel'!C45","v":"F84647"},9506,18,17,0.94444444444444442,17,0.94444444444444442,17,0.94444444444444442,1,{"$f":"SUMIFS(OFFSET(REL_D,,MATCH($M$5,IND,0)-1),REL_D,$C$5,OrgID,$C49)","v":17},0.94444444444444442,1,17,0.94444444444444442]
[{"$f":"'Control Panel'!A46","v":"NW8"},{"$f":"'Control Panel'!B46","v":"Barkantine Practice"},{"$f":"'Control Panel'!C46","v":"F84747"},27922,78,73,0.9358974358974359,73,0.9358974358974359,70,0.89743589743589747,5,{"$f":"SUMIFS(OFFSET(REL_D,,MATCH($M$5,IND,0)-1),REL_D,$C$5,OrgID,$C50)","v":71},0.91025641025641024,4,73,0.9358974358974359]
[null,"Total",null,{"$f":"SUM(D19:D50)","v":377446},{"$f":"SUM(E19:E50)","v":936},{"$f":"SUM(F19:F50)","v":870},0.92948717948717952,{"$f":"SUM(H19:H50)","v":842},0.8995726495726496,{"$f":"SUM(J19:J50)","v":764},0.81623931623931623,null,{"$f":"SUM(M19:M50)","v":769},0.82158119658119655,null,{"$f":"SUM(P19:P50)","v":848},0.90598290598290598]

{"sheet":"Chart Data","index":5,"n_rows":64,"n_cols":13,"rows_kept":64,"cut":false,"hidden":false,"merged":[[1,3,1,4]]}
[null,null,null,"Tower Hamlets - Childhood Immunisations",null,null,null,null,null,null,null,null,{"$f":"\"'\"&K3&\"'!$C$9:$AT$71\"","v":"'1st April 2016'!$C$9:$AT$71"}]
[null,null,null,null,null,null,"Tower Hamlets"]
[null,"2015/16 Q1",null,{"$f":"VLOOKUP(G2,'Control Panel'!B2:C9,2,FALSE)","v":"Total"},null,null,"FHV",null,null,null,"1st April 2016"]
[null,null,null,null,null,null,"Patient becoming 12m","Control Panel'!J34:J36"]
[]
[null,{"$f":"INDEX(INDIRECT(VLOOKUP($G$4,'Control Panel'!$J$41:$K$43,2,FALSE)),COLUMN(Rows!A1))","v":"(01) 12 MONTH COHORT"},{"$f":"INDEX(INDIRECT(VLOOKUP($G$4,'Control Panel'!$J$41:$K$43,2,FALSE)),COLUMN(Rows!B1))","v":"(01.01) DTaP/IPV/Hib"},{"$f":"INDEX(INDIRECT(VLOOKUP($G$4,'Control Panel'!$J$41:$K$43,2,FALSE)),COLUMN(Rows!C1))","v":"(01.02) Men B (1st and 2nd)"},{"$f":"INDEX(INDIRECT(VLOOKUP($G$4,'Control Panel'!$J$41:$K$43,2,FALSE)),COLUMN(Rows!D1))","v":"(01.03) PCV"}]
["Time Stamp",{"$f":"IFERROR(INDEX(INDIRECT(VLOOKUP($G$4,'Control Panel'!$J$36:$L$38,3,FALSE)),COLUMN(Rows!B17)),\"\")","v":"DTaP/IPV/Hib %"},{"$f":"IFERROR(INDEX(INDIRECT(VLOOKUP($G$4,'Control Panel'!$J$36:$L$38,3,FALSE)),COLUMN(Rows!C17)),\"\")","v":"Men C / Men B %"},{"$f":"IFERROR(INDEX(INDIRECT(VLOOKUP($G$4,'Control Panel'!$J$36:$L$38,3,FALSE)),COLUMN(Rows!D17)),\"\")","v":"PCV %"}]
["2015/16 Q1",{"$f":"IFERROR(C37/B37,\"\")","v":0.93767186067827679},{"$f":"IFERROR(D37/B37,\"\")","v":0.95417048579285058},{"$f":"IFERROR(E37/B37,NA())","v":0.94133822181484872}]
["2015/16 Q2",0.9582985821517932,0.96246872393661387,{"$f":"IFERROR(E38/B38,NA())","v":0.95496246872393664}]
["2015/16 Q3",0.94709453599306159,0.95490026019080654,{"$f":"IFERROR(E39/B39,NA())","v":0.94449262792714661}]
["2015/16 Q4",0.95802919708029199,0.97080291970802923,0.95620437956204385]
["2016/17 Q1",0.94020239190432386,0.9466421343146274,0.93836246550137992]
["2016/17 Q2",0.95487364620938631,0.95848375451263534,0.95667870036101088]
["2016/17 Q3",0.95192307692307687,0.93531468531468531,0.95541958041958042]
["2016/17 Q4",0.94345238095238093,0.79067460317460314,0.95138888888888884]
["2017/18 Q1",0.93259385665529015,0.90529010238907848,0.93430034129692829]
["2017/18 Q2",0.93333333333333335,0.92,0.93866666666666665]
["2017/18 Q3",0.9363228699551569,0.92107623318385645,0.94170403587443952]
["2017/18 Q4",0.92884250474383301,0.92220113851992414,0.94307400379506645]
["2018/19 Q1",0.9348795718108831,0.92595896520963428,0.93933987511150763]
["2018/19 Q2",0.91099476439790572,0.90837696335078533,0.92670157068062831]
["2018/19 Q3",0.93715341959334564,0.92791127541589646,0.94547134935304988]
["2018/19 Q4",0.94142259414225937,0.92468619246861927,0.94246861924686187]
["2019/20 Q1",{"$f":"IFERROR(C53/B53,\"\")","v":0.9312217194570136},{"$f":"IFERROR(D53/B53,\"\")","v":0.92760180995475117},{"$f":"IFERROR(E53/B53,NA())","v":0.93936651583710407}]
["2019/20 Q2",{"$f":"IFERROR(C54/B54,\"\")","v":0.92293407613741874},{"$f":"IFERROR(D54/B54,\"\")","v":0.91086350974930363},{"$f":"IFERROR(E54/B54,NA())","v":0.93221912720519962}]
["2019/20 Q3",{"$f":"IFERROR(C55/B55,\"\")","v":0.93406593406593408},{"$f":"IFERROR(D55/B55,\"\")","v":0.91941391941391937},{"$f":"IFERROR(E55/B55,NA())","v":0.93956043956043955}]
["2019/20 Q4",{"$f":"IFERROR(C56/B56,\"\")","v":0.94326241134751776},{"$f":"IFERROR(D56/B56,\"\")","v":0.93414387031408308},{"$f":"IFERROR(E56/B56,NA())","v":0.9442755825734549}]
["2020/21 Q1",{"$f":"IFERROR(C57/B57,\"\")","v":0.91499522445081183},{"$f":"IFERROR(D57/B57,\"\")","v":0.91308500477554921},{"$f":"IFERROR(E57/B57,NA())","v":0.92263610315186251}]
["2020/21 Q2",{"$f":"IFERROR(C58/B58,\"\")","v":0.92300556586270877},{"$f":"IFERROR(D58/B58,\"\")","v":0.92022263450834885},{"$f":"IFERROR(E58/B58,NA())","v":0.92393320964749537}]
["2020/21 Q3",{"$f":"IFERROR(C59/B59,\"\")","v":0.88224121557454893},{"$f":"IFERROR(D59/B59,\"\")","v":0.88414055080721743},{"$f":"IFERROR(E59/B59,NA())","v":0.87179487179487181}]
["2020/21 Q4",{"$f":"IFERROR(C60/B60,\"\")","v":0.88090551181102361},{"$f":"IFERROR(D60/B60,\"\")","v":0.88287401574803148},{"$f":"IFERROR(E60/B60,NA())","v":0.91535433070866146}]
["2021/22 Q1",{"$f":"IFERROR(C61/B61,\"\")","v":0.89351403678606001},{"$f":"IFERROR(D61/B61,\"\")","v":0.89351403678606001},{"$f":"IFERROR(E61/B61,NA())","v":0.9273959341723137}]
["2021/22 Q2",{"$f":"IFERROR(C62/B62,\"\")","v":0.89014821272885791},{"$f":"IFERROR(D62/B62,\"\")","v":0.89363557105492586},{"$f":"IFERROR(E62/B62,NA())","v":0.92414995640802089}]
["2021/22 Q3",{"$f":"IFERROR(C63/B63,\"\")","v":0.9},{"$f":"IFERROR(D63/B63,\"\")","v":0.90204081632653066},{"$f":"IFERROR(E63/B63,NA())","v":0.92244897959183669}]
["2021/22 Q4",{"$f":"IFERROR(C64/B64,\"\")","v":0.89717741935483875},{"$f":"IFERROR(D64/B64,\"\")","v":0.89213709677419351},{"$f":"IFERROR(E64/B64,NA())","v":0.9213709677419355}]
["Time Stamp",{"$f":"IFERROR(INDEX(INDIRECT(VLOOKUP($G$4,'Control Panel'!$J$36:$K$38,2,FALSE)),COLUMN(Rows!A1)),\"\")","v":"Patients becoming 12m"},{"$f":"IFERROR(INDEX(INDIRECT(VLOOKUP($G$4,'Control Panel'!$J$36:$K$38,2,FALSE)),COLUMN(Rows!B1)),\"\")","v":"DTaP/IPV/Hib"},{"$f":"IFERROR(INDEX(INDIRECT(VLOOKUP($G$4,'Control Panel'!$J$36:$K$38,2,FALSE)),COLUMN(Rows!C1)),\"\")","v":"Men B"}]
["2015/16 Q1",{"$f":"SUMIFS(OFFSET(REL_D,,MATCH($B$6,IND,0)-1),REL_D,$A37,IF(LEFT($D$3,1)=\"N\",NwID,OrgID),$D$3)","v":1091},{"$f":"IFERROR(SUMIFS(OFFSET(REL_D,,MATCH($C$6,IND,0)-1),REL_D,$A37,IF(LEFT($D$3,1)=\"N\",NwID,OrgID),$D$3),\"\")","v":1023},{"$f":"IFERROR(SUMIFS(OFFSET(REL_D,,MATCH($D$6,IND,0)-1),REL_D,$A37,IF(LEFT($D$3,1)=\"N\",NwID,OrgID),$D$3),\"\")","v":1041},{"$f":"IFERROR(SUMIFS(OFFSET(REL_D,,MATCH($E$6,IND,0)-1),REL_D,$A37,IF(LEFT($D$3,1)=\"N\",NwID,OrgID),$D$3),\"\")","v":1027}]
["2015/16 Q2",1199,1149,1154,1145]
["2015/16 Q3",1153,1092,1101,1089]
["2015/16 Q4",1096,1050,1064,1048]
["2016/17 Q1",1087,1022,1029,1020]
["2016/17 Q2",1108,1058,1062,1060]
["2016/17 Q3",1144,1089,1070,1093]
["2016/17 Q4",1008,951,797,959]
["2017/18 Q1",1172,1093,1061,1095]
["2017/18 Q2",1125,1050,1035,1056]
["2017/18 Q3",1115,1044,1027,1050]
["2017/18 Q4",1054,979,972,994]
["2018-06-01",1121,1048,1038,1053]
["2018-09-01",1146,1044,1041,1062]
["2018-12-01",1082,1014,1004,1023]
["2019-03-01",956,900,884,901]
["2019-06-01",1105,1029,1025,1038]
["2019-09-01",1077,994,981,1004]
["2019-12-01",1092,1020,1004,1026]
["2020-03-01",987,931,922,932]
["2020-06-01",1047,958,956,966]
["2020-09-01",1078,995,992,996]
["2020-12-01",1053,929,931,918]
["2021-03-01",1016,895,897,930]
["2021-06-01",1033,923,923,958]
["2021-09-01",1147,1021,1025,1060]
["2021-12-01",980,882,884,904]
["2022-03-01",992,890,885,914]

{"sheet":"Ranking Tables","index":6,"n_rows":0,"n_cols":0,"rows_kept":0,"cut":false,"hidden":false,"merged":[]}

{"sheet":"Ranking","index":7,"n_rows":39,"n_cols":56,"rows_kept":39,"cut":false,"hidden":true,"merged":[]}
[null,"March 2022",{"$f":"INDEX(INDIRECT(VLOOKUP($AN$39,'Control Panel'!$E$67:$G$75,2,FALSE)),COLUMN(Rows!A1))","v":"(01) 12 MONTH COHORT"},{"$f":"INDEX(INDIRECT(VLOOKUP($AN$39,'Control Panel'!$E$67:$G$75,2,FALSE)),COLUMN(Rows!B1))","v":"(01.01) DTaP/IPV/Hib"},{"$f":"INDEX(INDIRECT(VLOOKUP($AN$39,'Control Panel'!$E$67:$G$75,2,FALSE)),COLUMN(Rows!C1))","v":"DTaP/IPV/Hib(%)"},null,null,null,null,null,null,null,null,null,null,null,"(02) 24 MONTH COHORT","(02.02) MMR",null,null,null,null,null,null,null,null,null,null,null,"(03) 5 YEAR COHORT","(03.05) MMR (Booster)"]
["Code","Practice",{"$f":"VLOOKUP(C1,'Control Panel'!$E$2:$G$23,2,FALSE)","v":"Patients becoming 12m"},{"$f":"VLOOKUP(D1,'Control Panel'!$E$2:$G$23,2,FALSE)","v":"DTaP/IPV/Hib/HepB"},{"$f":"VLOOKUP(E1,'Control Panel'!$E$2:$F$63,2,FALSE)","v":"DTaP/IPV/Hib/HepB(%)"},"Rank",null,"Order","NACS","Practice","Ranking",null,null,null,"Code","Practice",{"$error":"#N/A"},{"$error":"#N/A"},"MMR(%)","Rank",null,"Order","NACS","Practice","Ranking",null,null,"Code","Practice",null,null,"%","Rank",null,"Order","NACS","Practice","Ranking",null,"NW","(01) 12 MONTH COHORT","(01.01) DTaP/IPV/Hib","DTaP/IPV/Hib(%)","Rank","Order","NACS","Ranking"]
["F84733","Health E1",{"$f":"SUMIFS(OFFSET(REL_D,,MATCH($C$1,IND,0)-1),REL_D,$B$1,IF(LEFT($A3,1)=\"N\",NwID,OrgID),$A3)","v":0},{"$f":"SUMIFS(OFFSET(REL_D,,MATCH($D$1,IND,0)-1),REL_D,$B$1,IF(LEFT($A3,1)=\"N\",NwID,OrgID),$A3)","v":0},{"$f":"IF(OR(ISTEXT($C3),$C3=0),\"0%\",D3/$C3)","v":"0%"},{"$f":"IFERROR(RANK(E3,$E$3:$E$38,0)+COUNTIF(E$3:$E3,E3)-1,\"36\")","v":"36"},null,36,{"$f":"INDEX($A$3:$A$38,MATCH($H3,$F$3:$F$38,0))","v":{"$error":"#N/A"}},{"$f":"IFERROR(INDEX($B$3:$B$39,MATCH($H3,$F$3:$F$39,0)),\"Health E1\")","v":"Health E1"},{"$f":"IFERROR(INDEX($E$3:$E$38,MATCH($H3,$F$3:$F$38,0)),\"0%\")","v":"0%"},null,null,null,"F84733","Health E1",{"$f":"SUMIFS(OFFSET(REL_D,,MATCH($Q$1,IND,0)-1),REL_D,$B$1,IF(LEFT($O3,1)=\"N\",NwID,OrgID),$O3)","v":0},{"$f":"SUMIFS(OFFSET(REL_D,,MATCH($R$1,IND,0)-1),REL_D,$B$1,IF(LEFT($O3,1)=\"N\",NwID,OrgID),$O3)","v":0},{"$f":"IF(OR(ISTEXT($Q3),$Q3=0),\"N/A\",R3/$Q3)","v":"N/A"},{"$f":"IFERROR(RANK(S3,$S$3:$S$38,0)+COUNTIF($S$3:S3,S3)-1,\"36\")","v":"36"},null,36,{"$f":"INDEX($O$2:$O$38,MATCH($V3,$T$2:$T$38,0))","v":{"$error":"#N/A"}},{"$f":"IFERROR(INDEX($P$3:$P$39,MATCH($V3,$T$3:$T$39,0)),\"Health E1\")","v":"Health E1"},{"$f":"IFERROR(INDEX($S$3:$S$38,MATCH($V3,$T$3:$T$38,0)),\"0%\")","v":"0%"},null,null,"F84733","Health E1",{"$f":"SUMIFS(OFFSET(REL_D,,MATCH($AD$1,IND,0)-1),REL_D,$B$1,IF(LEFT($AB3,1)=\"N\",NwID,OrgID),$AB3)","v":0},{"$f":"SUMIFS(OFFSET(REL_D,,MATCH($AE$1,IND,0)-1),REL_D,$B$1,IF(LEFT($AB3,1)=\"N\",NwID,OrgID),$AB3)","v":0},{"$f":"IF(OR(ISTEXT($AD3),$AD3=0),\"N/A\",AE3/$AD3)","v":"N/A"},{"$f":"IFERROR(RANK(AF3,$AF$3:$AF$38,0)+COUNTIF($AF$3:AF3,AF3)-1,\"36\")","v":"36"},null,36,{"$f":"INDEX($AB$2:$AB$38,MATCH($AI3,$AG$2:$AG$38,0))","v":{"$error":"#N/A"}},{"$f":"IFERROR(INDEX($AC$2:$AC$38,MATCH($AI3,$AG$2:$AG$38,0)),\"Health E1\")","v":"Health E1"},{"$f":"IFERROR(INDEX($AF$3:$AF$38,MATCH($AI3,$AG$3:$AG$38,0)),\"0%\")","v":"0%"},null,"NW1",{"$f":"SUMIFS(OFFSET(REL_D,,MATCH($AO$2,IND,0)-1),REL_D,$B$1,IF(LEFT(AN3,1)=\"N\",NwID,OrgID),AN3)","v":96},{"$f":"SUMIFS(OFFSET(REL_D,,MATCH($AP$2,IND,0)-1),REL_D,$B$1,IF(LEFT(AN3,1)=\"N\",NwID,OrgID),AN3)","v":82},{"$f":"IF(OR(ISTEXT($AO3),$AO3=0),\"N/A\",AP3/$AO3)","v":0.85416666666666663},{"$f":"IFERROR(RANK(AQ3,$AQ$3:$AQ$11,0)+COUNTIF($AQ3:AQ$3,AQ3)-1,\"36\")","v":7},9,{"$f":"INDEX($AN$3:$AN$11,MATCH($AS3,$AR$3:$AR$11,0))","v":{"$error":"#N/A"}},{"$f":"IFERROR(INDEX($AQ$3:$AQ$11,MATCH($AS3,$AR$3:$AR$11,0)),\"0%\")","v":"0%"}]
["F84123","Globe Town Surgery",33,27,{"$f":"IF(OR(ISTEXT($C4),$C4=0),\"N/A\",D4/$C4)","v":0.81818181818181823},{"$f":"IFERROR(RANK(E4,$E$3:$E$38,0)+COUNTIF(E$3:$E4,E4)-1,\"37\")","v":31},null,35,{"$f":"INDEX($A$2:$A$38,MATCH($H4,$F$2:$F$38,0))","v":{"$error":"#N/A"}},{"$f":"IFERROR(INDEX($B$3:$B$39,MATCH($H4,$F$3:$F$39,0)),\"Pollard Row Surgery\")","v":"Pollard Row Surgery"},{"$f":"IFERROR(INDEX($E$3:$E$38,MATCH($H4,$F$3:$F$38,0)),\"0%\")","v":"0%"},null,null,null,"F84123","Globe Town Surgery",29,25,0.86206896551724133,{"$f":"IFERROR(RANK(S4,$S$3:$S$38,0)+COUNTIF($S$3:S4,S4)-1,\"36\")","v":14},null,35,{"$f":"INDEX($O$2:$O$38,MATCH($V4,$T$2:$T$38,0))","v":{"$error":"#N/A"}},{"$f":"IFERROR(INDEX($P$3:$P$39,MATCH($V4,$T$3:$T$39,0)),\"Pollard Row Surgery\")","v":"Pollard Row Surgery"},{"$f":"IFERROR(INDEX($S$3:$S$38,MATCH($V4,$T$3:$T$38,0)),\"0%\")","v":"0%"},null,null,"F84123","Globe Town Surgery",33,30,0.90909090909090906,{"$f":"IFERROR(RANK(AF4,$AF$3:$AF$38,0)+COUNTIF($AF$3:AF4,AF4)-1,\"36\")","v":5},null,35,{"$f":"INDEX($AB$2:$AB$38,MATCH($AI4,$AG$2:$AG$38,0))","v":{"$error":"#N/A"}},{"$f":"IFERROR(INDEX($AC$2:$AC$38,MATCH($AI4,$AG$2:$AG$38,0)),\"Pollard Row Surgery\")","v":"Pollard Row Surgery"},{"$f":"IFERROR(INDEX($AF$3:$AF$38,MATCH($AI4,$AG$3:$AG$38,0)),\"0%\")","v":"0%"},null,"NW6",167,151,0.90419161676646709,{"$f":"IFERROR(RANK(AQ4,$AQ$3:$AQ$11,0)+COUNTIF($AQ$3:AQ4,AQ4)-1,\"36\")","v":4},8,{"$f":"INDEX($AN$3:$AN$11,MATCH($AS4,$AR$3:$AR$11,0))","v":"NW7"},{"$f":"IFERROR(INDEX($AQ$3:$AQ$11,MATCH($AS4,$AR$3:$AR$11,0)),\"0%\")","v":0.84962406015037595}]
["F84051","Strouts Place Medical Centre",18,16,0.88888888888888884,{"$f":"IFERROR(RANK(E5,$E$3:$E$38,0)+COUNTIF(E$3:$E5,E5)-1,\"37\")","v":19},null,34,{"$error":"#N/A"},{"$f":"IFERROR(INDEX($B$3:$B$39,MATCH($H5,$F$3:$F$39,0)),\"Health E1\")","v":"Health E1"},"0%",null,null,null,"F84051","Strouts Place Medical Centre",15,12,0.8,{"$f":"IFERROR(RANK(S5,$S$3:$S$38,0)+COUNTIF($S$3:S5,S5)-1,\"36\")","v":27},null,34,{"$error":"#N/A"},{"$f":"IFERROR(INDEX($P$3:$P$39,MATCH($V5,$T$3:$T$39,0)),\"Health E1\")","v":"Health E1"},"0%",null,null,"F84051","Strouts Place Medical Centre",11,10,0.90909090909090906,{"$f":"IFERROR(RANK(AF5,$AF$3:$AF$38,0)+COUNTIF($AF$3:AF5,AF5)-1,\"36\")","v":6},null,34,{"$error":"#N/A"},{"$f":"IFERROR(INDEX($AC$2:$AC$38,MATCH($AI5,$AG$2:$AG$38,0)),\"Health E1\")","v":"Health E1"},"0%",null,"NW2",90,85,0.94444444444444442,{"$f":"IFERROR(RANK(AQ5,$AQ$3:$AQ$11,0)+COUNTIF($AQ$3:AQ5,AQ5)-1,\"36\")","v":1},7,"NW1",0.85416666666666663]
["F84044","Harley Grove Medical Centre",23,21,0.91304347826086951,{"$f":"IFERROR(RANK(E6,$E$3:$E$38,0)+COUNTIF(E$3:$E6,E6)-1,\"37\")","v":14},null,33,{"$error":"#N/A"},"Health E1","0%",null,null,null,"F84044","Harley Grove Medical Centre",18,16,0.88888888888888884,{"$f":"IFERROR(RANK(S6,$S$3:$S$38,0)+COUNTIF($S$3:S6,S6)-1,\"36\")","v":11},null,33,{"$error":"#N/A"},"Health E1","0%",null,null,"F84044","Harley Grove Medical Centre",23,16,0.69565217391304346,{"$f":"IFERROR(RANK(AF6,$AF$3:$AF$38,0)+COUNTIF($AF$3:AF6,AF6)-1,\"36\")","v":30},null,33,{"$error":"#N/A"},"Health E1","0%",null,"Total",992,890,0.89717741935483875,{"$f":"IFERROR(RANK(AQ6,$AQ$3:$AQ$11,0)+COUNTIF($AQ$3:AQ6,AQ6)-1,\"36\")","v":5},6,"NW3&4",0.88209606986899558]
[null,null,null,null,null,null,null,32,"F84698","Aberfeldy Practice",0.81818181818181823,null,null,null,"F84046","Brayford Square (Dr Varma)",0,0,"N/A",{"$f":"IFERROR(RANK(S7,$S$3:$S$38,0)+COUNTIF($S$3:S7,S7)-1,\"36\")","v":"36"},null,32,"F84055","Grove Road Surgery (Dr Shah)",0.75,null,null,"F84046","Brayford Square (Dr Varma)",0,0,"N/A",{"$f":"IFERROR(RANK(AF7,$AF$3:$AF$38,0)+COUNTIF($AF$3:AF7,AF7)-1,\"36\")","v":"36"},null,32,"F84025","Gough Walk (Dr Selvan)",0.61111111111111116,null,"NW4",0,0,"N/A",{"$f":"IFERROR(RANK(AQ7,$AQ$3:$AQ$11,0)+COUNTIF($AQ$3:AQ7,AQ7)-1,\"36\")","v":"36"},5,"Total",0.89717741935483875]
["F84079","Wapping Group Practice",19,19,1,{"$f":"IFERROR(RANK(E8,$E$3:$E$38,0)+COUNTIF(E$3:$E8,E8)-1,\"37\")","v":1},null,31,"F84123","Globe Town Surgery",0.81818181818181823,null,null,null,"F84079","Wapping Group Practice",25,23,0.92,{"$f":"IFERROR(RANK(S8,$S$3:$S$38,0)+COUNTIF($S$3:S8,S8)-1,\"36\")","v":7},null,31,"F84710","Island Health",0.79411764705882348,null,null,"F84079","Wapping Group Practice",19,16,0.84210526315789469,{"$f":"IFERROR(RANK(AF8,$AF$3:$AF$38,0)+COUNTIF($AF$3:AF8,AF8)-1,\"36\")","v":15},null,31,"F84114","City Wellbeing Practice (Tower Medical)",0.64,null,"NW7",133,113,0.84962406015037595,{"$f":"IFERROR(RANK(AQ8,$AQ$3:$AQ$11,0)+COUNTIF($AQ$3:AQ8,AQ8)-1,\"36\")","v":8},4,"NW6",0.90419161676646709]
["F84122","Bromley-By-Bow Health Centre / XX Place",39,37,0.94871794871794868,{"$f":"IFERROR(RANK(E9,$E$3:$E$38,0)+COUNTIF(E$3:$E9,E9)-1,\"37\")","v":9},null,30,"F84039","Goodman’s Field Health Centre",0.82524271844660191,null,null,null,"F84122","Bromley-By-Bow Health Centre / XX Place",42,37,0.88095238095238093,{"$f":"IFERROR(RANK(S9,$S$3:$S$38,0)+COUNTIF($S$3:S9,S9)-1,\"36\")","v":12},null,30,"F84031","Jubilee Street Practice",0.79545454545454541,null,null,"F84122","Bromley-By-Bow Health Centre / XX Place",42,34,0.80952380952380953,{"$f":"IFERROR(RANK(AF9,$AF$3:$AF$38,0)+COUNTIF($AF$3:AF9,AF9)-1,\"36\")","v":24},null,30,"F84044","Harley Grove Medical Centre",0.69565217391304346,null,"NW3&4",229,202,0.88209606986899558,{"$f":"IFERROR(RANK(AQ9,$AQ$3:$AQ$11,0)+COUNTIF($AQ$3:AQ9,AQ9)-1,\"36\")","v":6},3,"NW5",0.92380952380952386]
["F84081","Spitalfields Practice",25,22,0.88,{"$f":"IFERROR(RANK(E10,$E$3:$E$38,0)+COUNTIF(E$3:$E10,E10)-1,\"37\")","v":20},null,29,"F84030","Ruston Street Clinic (Dr Amin)",0.84615384615384615,null,null,null,"F84081","Spitalfields Practice",27,23,0.85185185185185186,{"$f":"IFERROR(RANK(S10,$S$3:$S$38,0)+COUNTIF($S$3:S10,S10)-1,\"36\")","v":17},null,29,"F84030","Ruston Street Clinic (Dr Amin)",0.8,null,null,"F84081","Spitalfields Practice",29,26,0.89655172413793105,{"$f":"IFERROR(RANK(AF10,$AF$3:$AF$38,0)+COUNTIF($AF$3:AF10,AF10)-1,\"36\")","v":8},null,29,"F84710","Island Health",0.70270270270270274,null,"NW5",105,97,0.92380952380952386,{"$f":"IFERROR(RANK(AQ10,$AQ$3:$AQ$11,0)+COUNTIF($AQ$3:AQ10,AQ10)-1,\"36\")","v":3},2,"NW8",0.93023255813953487]
["Y03023","St Andrews Health Centre",50,43,0.86,{"$f":"IFERROR(RANK(E11,$E$3:$E$38,0)+COUNTIF(E$3:$E11,E11)-1,\"37\")","v":26},null,28,"F84083","Bethnal Green Health Centre",0.85,null,null,null,"Y03023","St Andrews Health Centre",65,59,0.90769230769230769,{"$f":"IFERROR(RANK(S11,$S$3:$S$38,0)+COUNTIF($S$3:S11,S11)-1,\"36\")","v":8},null,28,"F84647","Island Medical Centre",0.8,null,null,"Y03023","St Andrews Health Centre",46,41,0.89130434782608692,{"$f":"IFERROR(RANK(AF11,$AF$3:$AF$38,0)+COUNTIF($AF$3:AF11,AF11)-1,\"36\")","v":11},null,28,"F84054","Limehouse Practice (Gill Street)",0.7142857142857143,null,"NW8",{"$f":"SUMIFS(OFFSET(REL_D,,MATCH($AO$2,IND,0)-1),REL_D,$B$1,IF(LEFT(AN11,1)=\"N\",NwID,OrgID),AN11)","v":172},{"$f":"SUMIFS(OFFSET(REL_D,,MATCH($AP$2,IND,0)-1),REL_D,$B$1,IF(LEFT(AN11,1)=\"N\",NwID,OrgID),AN11)","v":160},{"$f":"IF(OR(ISTEXT($AO11),$AO11=0),\"N/A\",AP11/$AO11)","v":0.93023255813953487},{"$f":"IFERROR(RANK(AQ11,$AQ$3:$AQ$11,0)+COUNTIF($AQ$3:AQ11,AQ11)-1,\"36\")","v":2},1,"NW2",0.94444444444444442]
["F84747","Barkantine Practice",91,81,0.89010989010989006,{"$f":"IFERROR(RANK(E12,$E$3:$E$38,0)+COUNTIF(E$3:$E12,E12)-1,\"37\")","v":18},null,27,"F84062","Chrisp Street Health Centre",0.85106382978723405,null,null,null,"F84747","Barkantine Practice",99,82,0.82828282828282829,{"$f":"IFERROR(RANK(S12,$S$3:$S$38,0)+COUNTIF($S$3:S12,S12)-1,\"36\")","v":19},null,27,"F84051","Strouts Place Medical Centre",0.8,null,null,"F84747","Barkantine Practice",78,71,0.91025641025641024,{"$f":"IFERROR(RANK(AF12,$AF$3:$AF$38,0)+COUNTIF($AF$3:AF12,AF12)-1,\"36\")","v":4},null,27,"F84062","Chrisp Street Health Centre",0.72093023255813948]
["F84698","Aberfeldy Practice",33,27,0.81818181818181823,{"$f":"IFERROR(RANK(E13,$E$3:$E$38,0)+COUNTIF(E$3:$E13,E13)-1,\"37\")","v":32},null,26,"Y03023","St Andrews Health Centre",0.86,null,null,null,"F84698","Aberfeldy Practice",35,29,0.82857142857142863,{"$f":"IFERROR(RANK(S13,$S$3:$S$38,0)+COUNTIF($S$3:S13,S13)-1,\"36\")","v":18},null,26,"F84083","Bethnal Green Health Centre",0.80952380952380953,null,null,"F84698","Aberfeldy Practice",26,23,0.88461538461538458,{"$f":"IFERROR(RANK(AF13,$AF$3:$AF$38,0)+COUNTIF($AF$3:AF13,AF13)-1,\"36\")","v":12},null,26,"F84087","Harford Health Centre",0.77142857142857146]
["F84031","Jubilee Street Practice",39,36,0.92307692307692313,{"$f":"IFERROR(RANK(E14,$E$3:$E$38,0)+COUNTIF(E$3:$E14,E14)-1,\"37\")","v":12},null,25,"F84025","Gough Walk (Dr Selvan)",0.86206896551724133,null,null,null,"F84031","Jubilee Street Practice",44,35,0.79545454545454541,{"$f":"IFERROR(RANK(S14,$S$3:$S$38,0)+COUNTIF($S$3:S14,S14)-1,\"36\")","v":30},null,25,"F84656","Docklands Medical Centre",0.80952380952380953,null,null,"F84031","Jubilee Street Practice",44,35,0.79545454545454541,{"$f":"IFERROR(RANK(AF14,$AF$3:$AF$38,0)+COUNTIF($AF$3:AF14,AF14)-1,\"36\")","v":25},null,25,"F84031","Jubilee Street Practice",0.79545454545454541,null,"NW","(02) 24 MONTH COHORT","(02.02) MMR","MMR(%)","Rank","Order","NACS","Ranking"]
["Total","Tower Hamlets",992,890,0.89717741935483875,{"$f":"IFERROR(RANK(E15,$E$3:$E$38,0)+COUNTIF(E$3:$E15,E15)-1,\"37\")","v":17},null,24,"F84055","Grove Road Surgery (Dr Shah)",0.875,null,null,null,"Total","Tower Hamlets",974,836,0.85831622176591371,{"$f":"IFERROR(RANK(S15,$S$3:$S$38,0)+COUNTIF($S$3:S15,S15)-1,\"36\")","v":15},null,24,"F84054","Limehouse Practice (Gill Street)",0.8125,null,null,"Total","Tower Hamlets",936,769,0.82158119658119655,{"$f":"IFERROR(RANK(AF15,$AF$3:$AF$38,0)+COUNTIF($AF$3:AF15,AF15)-1,\"36\")","v":22},null,24,"F84122","Bromley-By-Bow Health Centre / XX Place",0.80952380952380953,null,"NW1",{"$f":"SUMIFS(OFFSET(REL_D,,MATCH($AO$14,IND,0)-1),REL_D,$B$1,IF(LEFT(AN15,1)=\"N\",NwID,OrgID),AN15)","v":94},{"$f":"SUMIFS(OFFSET(REL_D,,MATCH($AP$14,IND,0)-1),REL_D,$B$1,IF(LEFT(AN15,1)=\"N\",NwID,OrgID),AN15)","v":81},{"$f":"IF(OR(ISTEXT($AO15),$AO15=0),\"N/A\",AP15/$AO15)","v":0.86170212765957444},{"$f":"RANK(AQ15,$AQ$15:$AQ$23,0)+COUNTIF(AQ$15:$AQ15,AQ15)-1","v":3},9,{"$f":"INDEX($AN$15:$AN$23,MATCH($AS15,$AR$15:$AR$23,0))","v":{"$error":"#N/A"}},{"$f":"IFERROR(INDEX($AQ$15:$AQ$23,MATCH($AS15,$AR$15:$AR$23,0)),\"0%\")","v":"0%"}]
["F84118","Merchant Street (Dr Rana)",13,12,0.92307692307692313,{"$f":"IFERROR(RANK(E16,$E$3:$E$38,0)+COUNTIF(E$3:$E16,E16)-1,\"37\")","v":13},null,23,"F84054","Limehouse Practice (Gill Street)",0.875,null,null,null,"F84118","Merchant Street (Dr Rana)",7,6,0.8571428571428571,{"$f":"IFERROR(RANK(S16,$S$3:$S$38,0)+COUNTIF($S$3:S16,S16)-1,\"36\")","v":16},null,23,"F84039","Goodman’s Field Health Centre",0.81578947368421051,null,null,"F84118","Merchant Street (Dr Rana)",10,10,1,{"$f":"IFERROR(RANK(AF16,$AF$3:$AF$38,0)+COUNTIF($AF$3:AF16,AF16)-1,\"36\")","v":1},null,23,"F84714","St Pauls Way Medical Centre",0.81481481481481477,null,"NW6",167,153,0.91616766467065869,{"$f":"RANK(AQ16,$AQ$15:$AQ$23,0)+COUNTIF(AQ$15:$AQ16,AQ16)-1","v":1},8,{"$f":"INDEX($AN$15:$AN$23,MATCH($AS16,$AR$15:$AR$23,0))","v":"NW8"},{"$f":"IFERROR(INDEX($AQ$15:$AQ$23,MATCH($AS16,$AR$15:$AR$23,0)),\"0%\")","v":0.81609195402298851}]
["F84696","The Tredegar Practice",18,18,1,{"$f":"IFERROR(RANK(E17,$E$3:$E$38,0)+COUNTIF(E$3:$E17,E17)-1,\"37\")","v":2},null,22,"F84114","City Wellbeing Practice (Tower Medical)",0.875,null,null,null,"F84696","The Tredegar Practice",12,12,1,{"$f":"IFERROR(RANK(S17,$S$3:$S$38,0)+COUNTIF($S$3:S17,S17)-1,\"36\")","v":1},null,22,"F84087","Harford Health Centre",0.81818181818181823,null,null,"F84696","The Tredegar Practice",15,13,0.8666666666666667,{"$f":"IFERROR(RANK(AF17,$AF$3:$AF$38,0)+COUNTIF($AF$3:AF17,AF17)-1,\"36\")","v":13},null,22,"Total","Tower Hamlets",0.82158119658119655,null,"NW2",90,81,0.9,{"$f":"RANK(AQ17,$AQ$15:$AQ$23,0)+COUNTIF(AQ$15:$AQ17,AQ17)-1","v":2},7,"NW3&4",0.83944954128440363]
["F84062","Chrisp Street Health Centre",47,40,0.85106382978723405,{"$f":"IFERROR(RANK(E18,$E$3:$E$38,0)+COUNTIF(E$3:$E18,E18)-1,\"37\")","v":27},null,21,"F84016","The Mission Practice",0.88,null,null,null,"F84062","Chrisp Street Health Centre",41,37,0.90243902439024393,{"$f":"IFERROR(RANK(S18,$S$3:$S$38,0)+COUNTIF($S$3:S18,S18)-1,\"36\")","v":9},null,21,"F84025","Gough Walk (Dr Selvan)",0.82051282051282048,null,null,"F84062","Chrisp Street Health Centre",43,31,0.72093023255813948,{"$f":"IFERROR(RANK(AF18,$AF$3:$AF$38,0)+COUNTIF($AF$3:AF18,AF18)-1,\"36\")","v":27},null,21,"F84039","Goodman’s Field Health Centre",0.82191780821917804,null,"Total",974,836,0.85831622176591371,{"$f":"RANK(AQ18,$AQ$15:$AQ$23,0)+COUNTIF(AQ$15:$AQ18,AQ18)-1","v":4},6,"NW7",0.84353741496598644]
["F84114","City Wellbeing Practice (Tower Medical)",32,28,0.875,{"$f":"IFERROR(RANK(E19,$E$3:$E$38,0)+COUNTIF(E$3:$E19,E19)-1,\"37\")","v":22},null,20,"F84081","Spitalfields Practice",0.88,null,null,null,"F84114","City Wellbeing Practice (Tower Medical)",37,33,0.89189189189189189,{"$f":"IFERROR(RANK(S19,$S$3:$S$38,0)+COUNTIF($S$3:S19,S19)-1,\"36\")","v":10},null,20,"F84034","St Stephens Health Centre",0.82499999999999996,null,null,"F84114","City Wellbeing Practice (Tower Medical)",25,16,0.64,{"$f":"IFERROR(RANK(AF19,$AF$3:$AF$38,0)+COUNTIF($AF$3:AF19,AF19)-1,\"36\")","v":31},null,20,"F84676","Stroudley Walk Centre",0.82352941176470584,null,"NW4",0,0,"N/A",{"$f":"RANK(AQ19,$AQ$15:$AQ$23,0)+COUNTIF(AQ$15:$AQ19,AQ19)-1","v":{"$error":"#VALUE!"}},5,"NW5",0.8571428571428571]
["Y00212","Pollard Row Surgery",0,0,"N/A",{"$f":"IFERROR(RANK(E20,$E$3:$E$38,0)+COUNTIF(E$3:$E20,E20)-1,\"35\")","v":"35"},null,19,"F84051","Strouts Place Medical Centre",0.88888888888888884,null,null,null,"Y00212","Pollard Row Surgery",0,0,"N/A",{"$f":"IFERROR(RANK(S20,$S$3:$S$38,0)+COUNTIF($S$3:S20,S20)-1,\"36\")","v":"36"},null,19,"F84747","Barkantine Practice",0.82828282828282829,null,null,"Y00212","Pollard Row Surgery",0,0,"N/A",{"$f":"IFERROR(RANK(AF20,$AF$3:$AF$38,0)+COUNTIF($AF$3:AF20,AF20)-1,\"36\")","v":"36"},null,19,"F84016","The Mission Practice",0.82857142857142863,null,"NW7",147,124,0.84353741496598644,{"$f":"RANK(AQ20,$AQ$15:$AQ$23,0)+COUNTIF(AQ$15:$AQ20,AQ20)-1","v":6},4,{"$f":"(INDEX($AN$15:$AN$23,MATCH($AS20,$AR$15:$AR$23,0)))","v":"Total"},{"$f":"IFERROR(INDEX($AQ$15:$AQ$23,MATCH($AS20,$AR$15:$AR$23,0)),\"0%\")","v":0.85831622176591371}]
["F84718","Blithehale Medical Centre",36,35,0.97222222222222221,{"$f":"IFERROR(RANK(E21,$E$3:$E$38,0)+COUNTIF(E$3:$E21,E21)-1,\"37\")","v":5},null,18,"F84747","Barkantine Practice",0.89010989010989006,null,null,null,"F84718","Blithehale Medical Centre",32,31,0.96875,{"$f":"IFERROR(RANK(S21,$S$3:$S$38,0)+COUNTIF($S$3:S21,S21)-1,\"36\")","v":4},null,18,"F84698","Aberfeldy Practice",0.82857142857142863,null,null,"F84718","Blithehale Medical Centre",21,18,0.8571428571428571,{"$f":"IFERROR(RANK(AF21,$AF$3:$AF$38,0)+COUNTIF($AF$3:AF21,AF21)-1,\"36\")","v":14},null,18,"F84030","Ruston Street Clinic (Dr Amin)",0.83333333333333337,null,"NW3&4",218,183,0.83944954128440363,{"$f":"RANK(AQ21,$AQ$15:$AQ$23,0)+COUNTIF(AQ$15:$AQ21,AQ21)-1","v":7},3,"NW1",0.86170212765957444]
["F84025","Gough Walk (Dr Selvan)",29,25,0.86206896551724133,{"$f":"IFERROR(RANK(E22,$E$3:$E$38,0)+COUNTIF(E$3:$E22,E22)-1,\"37\")","v":25},null,17,"Total","Tower Hamlets",0.89717741935483875,null,null,null,"F84025","Gough Walk (Dr Selvan)",39,32,0.82051282051282048,{"$f":"IFERROR(RANK(S22,$S$3:$S$38,0)+COUNTIF($S$3:S22,S22)-1,\"36\")","v":21},null,17,"F84081","Spitalfields Practice",0.85185185185185186,null,null,"F84025","Gough Walk (Dr Selvan)",36,22,0.61111111111111116,{"$f":"IFERROR(RANK(AF22,$AF$3:$AF$38,0)+COUNTIF($AF$3:AF22,AF22)-1,\"36\")","v":32},null,17,"F84012","Albion Health Centre",0.83870967741935487,null,"NW5",84,72,0.8571428571428571,{"$f":"RANK(AQ22,$AQ$15:$AQ$23,0)+COUNTIF(AQ$15:$AQ22,AQ22)-1","v":5},2,"NW2",0.9]
["F84647","Island Medical Centre",25,24,0.96,{"$f":"IFERROR(RANK(E23,$E$3:$E$38,0)+COUNTIF(E$3:$E23,E23)-1,\"37\")","v":8},null,16,"F84714","St Pauls Way Medical Centre",0.90740740740740744,null,null,null,"F84647","Island Medical Centre",20,16,0.8,{"$f":"IFERROR(RANK(S23,$S$3:$S$38,0)+COUNTIF($S$3:S23,S23)-1,\"36\")","v":28},null,16,"F84118","Merchant Street (Dr Rana)",0.8571428571428571,null,null,"F84647","Island Medical Centre",18,17,0.94444444444444442,{"$f":"IFERROR(RANK(AF23,$AF$3:$AF$38,0)+COUNTIF($AF$3:AF23,AF23)-1,\"36\")","v":3},null,16,"F84656","Docklands Medical Centre",0.84,null,"NW8",{"$f":"SUMIFS(OFFSET(REL_D,,MATCH($AO$14,IND,0)-1),REL_D,$B$1,IF(LEFT(AN23,1)=\"N\",NwID,OrgID),AN23)","v":174},{"$f":"SUMIFS(OFFSET(REL_D,,MATCH($AP$14,IND,0)-1),REL_D,$B$1,IF(LEFT(AN23,1)=\"N\",NwID,OrgID),AN23)","v":142},{"$f":"IF(OR(ISTEXT($AO23),$AO23=0),\"N/A\",AP23/$AO23)","v":0.81609195402298851},{"$f":"RANK(AQ23,$AQ$15:$AQ$23,0)+COUNTIF(AQ$15:$AQ23,AQ23)-1","v":8},1,"NW6",0.91616766467065869]
["F84714","St Pauls Way Medical Centre",54,49,0.90740740740740744,{"$f":"IFERROR(RANK(E24,$E$3:$E$38,0)+COUNTIF(E$3:$E24,E24)-1,\"37\")","v":16},null,15,"F84676","Stroudley Walk Centre",0.90909090909090906,null,null,null,"F84714","St Pauls Way Medical Centre",46,44,0.95652173913043481,{"$f":"IFERROR(RANK(S24,$S$3:$S$38,0)+COUNTIF($S$3:S24,S24)-1,\"36\")","v":5},null,15,"Total","Tower Hamlets",0.85831622176591371,null,null,"F84714","St Pauls Way Medical Centre",54,44,0.81481481481481477,{"$f":"IFERROR(RANK(AF24,$AF$3:$AF$38,0)+COUNTIF($AF$3:AF24,AF24)-1,\"36\")","v":23},null,15,"F84079","Wapping Group Practice",0.84210526315789469]
["F84710","Island Health",35,34,0.97142857142857142,{"$f":"IFERROR(RANK(E25,$E$3:$E$38,0)+COUNTIF(E$3:$E25,E25)-1,\"37\")","v":6},null,14,"F84044","Harley Grove Medical Centre",0.91304347826086951,null,null,null,"F84710","Island Health",34,27,0.79411764705882348,{"$f":"IFERROR(RANK(S25,$S$3:$S$38,0)+COUNTIF($S$3:S25,S25)-1,\"36\")","v":31},null,14,"F84123","Globe Town Surgery",0.86206896551724133,null,null,"F84710","Island Health",37,26,0.70270270270270274,{"$f":"IFERROR(RANK(AF25,$AF$3:$AF$38,0)+COUNTIF($AF$3:AF25,AF25)-1,\"36\")","v":29},null,14,"F84718","Blithehale Medical Centre",0.8571428571428571]
[null,null,null,null,null,null,null,13,"F84118","Merchant Street (Dr Rana)",0.92307692307692313,null,null,null,"F84682","East One Health",0,0,"N/A",{"$f":"IFERROR(RANK(S26,$S$3:$S$38,0)+COUNTIF($S$3:S26,S26)-1,\"36\")","v":"36"},null,13,"F84012","Albion Health Centre",0.87096774193548387,null,null,"F84682","East One Health",0,0,"N/A",{"$f":"IFERROR(RANK(AF26,$AF$3:$AF$38,0)+COUNTIF($AF$3:AF26,AF26)-1,\"36\")","v":"36"},null,13,"F84696","The Tredegar Practice",0.8666666666666667]
["F84012","Albion Health Centre",29,28,0.96551724137931039,{"$f":"IFERROR(RANK(E27,$E$3:$E$38,0)+COUNTIF(E$3:$E27,E27)-1,\"37\")","v":7},null,12,"F84031","Jubilee Street Practice",0.92307692307692313,null,null,null,"F84012","Albion Health Centre",31,27,0.87096774193548387,{"$f":"IFERROR(RANK(S27,$S$3:$S$38,0)+COUNTIF($S$3:S27,S27)-1,\"36\")","v":13},null,12,"F84122","Bromley-By-Bow Health Centre / XX Place",0.88095238095238093,null,null,"F84012","Albion Health Centre",31,26,0.83870967741935487,{"$f":"IFERROR(RANK(AF27,$AF$3:$AF$38,0)+COUNTIF($AF$3:AF27,AF27)-1,\"36\")","v":17},null,12,"F84698","Aberfeldy Practice",0.88461538461538458,null,"NW","(03) 5 YEAR COHORT","(03.03) DTaP/IPV (Booster)","%","Rank","Order","NACS","Ranking",null,"NW","(03) 5 YEAR COHORT","(03.05) MMR (Booster)","%","Rank","Order","NACS","Ranking"]
["F84656","Docklands Medical Centre",21,21,1,{"$f":"IFERROR(RANK(E28,$E$3:$E$38,0)+COUNTIF(E$3:$E28,E28)-1,\"37\")","v":3},null,11,"F84034","St Stephens Health Centre",0.93023255813953487,null,null,null,"F84656","Docklands Medical Centre",21,17,0.80952380952380953,{"$f":"IFERROR(RANK(S28,$S$3:$S$38,0)+COUNTIF($S$3:S28,S28)-1,\"36\")","v":25},null,11,"F84044","Harley Grove Medical Centre",0.88888888888888884,null,null,"F84656","Docklands Medical Centre",25,21,0.84,{"$f":"IFERROR(RANK(AF28,$AF$3:$AF$38,0)+COUNTIF($AF$3:AF28,AF28)-1,\"36\")","v":16},null,11,"Y03023","St Andrews Health Centre",0.89130434782608692,null,"NW1",{"$f":"SUMIFS(OFFSET(REL_D,,MATCH($AO$27,IND,0)-1),REL_D,$B$1,IF(LEFT(AN28,1)=\"N\",NwID,OrgID),AN28)","v":107},{"$f":"SUMIFS(OFFSET(REL_D,,MATCH($AP$27,IND,0)-1),REL_D,$B$1,IF(LEFT(AN28,1)=\"N\",NwID,OrgID),AN28)","v":94},{"$f":"IF(OR(ISTEXT($AO28),$AO28=0),\"N/A\",AP28/$AO28)","v":0.87850467289719625},{"$f":"IFERROR(RANK(AQ28,$AQ$28:$AQ$36,0)+COUNTIF($AQ$28:AQ28,AQ28)-1,\"36\")","v":1},9,{"$f":"INDEX($AN$28:$AN$36,MATCH($AS28,$AR$28:$AR$36,0))","v":"NW7"},{"$f":"IFERROR(INDEX($AQ$28:$AQ$36,MATCH($AS28,$AR$28:$AR$36,0)),\"0%\")","v":0.72180451127819545},null,"NW1",{"$f":"SUMIFS(OFFSET(REL_D,,MATCH($AX$27,IND,0)-1),REL_D,$B$1,IF(LEFT(AW28,1)=\"N\",NwID,OrgID),AW28)","v":107},{"$f":"SUMIFS(OFFSET(REL_D,,MATCH($AY$27,IND,0)-1),REL_D,$B$1,IF(LEFT(AW28,1)=\"N\",NwID,OrgID),AW28)","v":94},{"$f":"IF(OR(ISTEXT($AX28),$AX28=0),\"N/A\",AY28/$AX28)","v":0.87850467289719625},{"$f":"IFERROR(RANK(AZ28,$AZ$28:$AZ$36,0)+COUNTIF($AZ$28:AZ28,AZ28)-1,\"36\")","v":1},9,{"$f":"INDEX($AW$28:$AW$36,MATCH($BB28,$BA$28:$BA$36,0))","v":{"$error":"#N/A"}},{"$f":"IFERROR(INDEX($AZ$28:$AZ$36,MATCH($BB28,$BA$28:$BA$36,0)),\"0%\")","v":"0%"}]
["F84016","The Mission Practice",25,22,0.88,{"$f":"IFERROR(RANK(E29,$E$3:$E$38,0)+COUNTIF(E$3:$E29,E29)-1,\"37\")","v":21},null,10,"F84087","Harford Health Centre",0.93939393939393945,null,null,null,"F84016","The Mission Practice",29,27,0.93103448275862066,{"$f":"IFERROR(RANK(S29,$S$3:$S$38,0)+COUNTIF($S$3:S29,S29)-1,\"36\")","v":6},null,10,"F84114","City Wellbeing Practice (Tower Medical)",0.89189189189189189,null,null,"F84016","The Mission Practice",35,29,0.82857142857142863,{"$f":"IFERROR(RANK(AF29,$AF$3:$AF$38,0)+COUNTIF($AF$3:AF29,AF29)-1,\"36\")","v":19},null,10,"F84034","St Stephens Health Centre",0.89189189189189189,null,"NW6",169,144,0.85207100591715978,{"$f":"IFERROR(RANK(AQ29,$AQ$28:$AQ$36,0)+COUNTIF($AQ$28:AQ29,AQ29)-1,\"36\")","v":3},8,{"$f":"INDEX($AN$28:$AN$36,MATCH($AS29,$AR$28:$AR$36,0))","v":"NW3&4"},{"$f":"IFERROR(INDEX($AQ$28:$AQ$36,MATCH($AS29,$AR$28:$AR$36,0)),\"0%\")","v":0.76142131979695427},null,"NW6",169,143,0.84615384615384615,{"$f":"IFERROR(RANK(AZ29,$AZ$28:$AZ$36,0)+COUNTIF($AZ$28:AZ29,AZ29)-1,\"36\")","v":4},8,{"$f":"INDEX($AW$28:$AW$36,MATCH($BB29,$BA$28:$BA$36,0))","v":"NW7"},{"$f":"IFERROR(INDEX($AZ$28:$AZ$36,MATCH($BB29,$BA$28:$BA$36,0)),\"0%\")","v":0.72180451127819545}]
["F84083","Bethnal Green Health Centre",20,17,0.85,{"$f":"IFERROR(RANK(E30,$E$3:$E$38,0)+COUNTIF(E$3:$E30,E30)-1,\"37\")","v":28},null,9,"F84122","Bromley-By-Bow Health Centre / XX Place",0.94871794871794868,null,null,null,"F84083","Bethnal Green Health Centre",21,17,0.80952380952380953,{"$f":"IFERROR(RANK(S30,$S$3:$S$38,0)+COUNTIF($S$3:S30,S30)-1,\"36\")","v":26},null,9,"F84062","Chrisp Street Health Centre",0.90243902439024393,null,null,"F84083","Bethnal Green Health Centre",28,25,0.8928571428571429,{"$f":"IFERROR(RANK(AF30,$AF$3:$AF$38,0)+COUNTIF($AF$3:AF30,AF30)-1,\"36\")","v":9},null,9,"F84083","Bethnal Green Health Centre",0.8928571428571429,null,"NW2",81,70,0.86419753086419748,{"$f":"IFERROR(RANK(AQ30,$AQ$28:$AQ$36,0)+COUNTIF($AQ$28:AQ30,AQ30)-1,\"36\")","v":2},7,"NW3&4",0.76142131979695427,null,"NW2",81,70,0.86419753086419748,{"$f":"IFERROR(RANK(AZ30,$AZ$28:$AZ$36,0)+COUNTIF($AZ$28:AZ30,AZ30)-1,\"36\")","v":2},7,"NW3&4",0.78680203045685282]
["F84034","St Stephens Health Centre",43,40,0.93023255813953487,{"$f":"IFERROR(RANK(E31,$E$3:$E$38,0)+COUNTIF(E$3:$E31,E31)-1,\"37\")","v":11},null,8,"F84647","Island Medical Centre",0.96,null,null,null,"F84034","St Stephens Health Centre",40,33,0.82499999999999996,{"$f":"IFERROR(RANK(S31,$S$3:$S$38,0)+COUNTIF($S$3:S31,S31)-1,\"36\")","v":20},null,8,"Y03023","St Andrews Health Centre",0.90769230769230769,null,null,"F84034","St Stephens Health Centre",37,33,0.89189189189189189,{"$f":"IFERROR(RANK(AF31,$AF$3:$AF$38,0)+COUNTIF($AF$3:AF31,AF31)-1,\"36\")","v":10},null,8,"F84081","Spitalfields Practice",0.89655172413793105,null,"Total",936,764,0.81623931623931623,{"$f":"IFERROR(RANK(AQ31,$AQ$28:$AQ$36,0)+COUNTIF($AQ$28:AQ31,AQ31)-1,\"36\")","v":6},6,"Total",0.81623931623931623,null,"Total",936,769,0.82158119658119655,{"$f":"IFERROR(RANK(AZ31,$AZ$28:$AZ$36,0)+COUNTIF($AZ$28:AZ31,AZ31)-1,\"36\")","v":6},6,"Total",0.82158119658119655]
["F84039","Goodman’s Field Health Centre",103,85,0.82524271844660191,{"$f":"IFERROR(RANK(E32,$E$3:$E$38,0)+COUNTIF(E$3:$E32,E32)-1,\"37\")","v":30},null,7,"F84012","Albion Health Centre",0.96551724137931039,null,null,null,"F84039","Goodman’s Field Health Centre",76,62,0.81578947368421051,{"$f":"IFERROR(RANK(S32,$S$3:$S$38,0)+COUNTIF($S$3:S32,S32)-1,\"36\")","v":23},null,7,"F84079","Wapping Group Practice",0.92,null,null,"F84039","Goodman’s Field Health Centre",73,60,0.82191780821917804,{"$f":"IFERROR(RANK(AF32,$AF$3:$AF$38,0)+COUNTIF($AF$3:AF32,AF32)-1,\"36\")","v":21},null,7,"F84055","Grove Road Surgery (Dr Shah)",0.9,null,"NW3&4",197,150,0.76142131979695427,{"$f":"IFERROR(RANK(AQ32,$AQ$28:$AQ$36,0)+COUNTIF($AQ$28:AQ32,AQ32)-1,\"36\")","v":7},5,"NW5",0.8351648351648352,null,"NW4",0,0,"N/A",{"$f":"IFERROR(RANK(AZ32,$AZ$28:$AZ$36,0)+COUNTIF($AZ$28:AZ32,AZ32)-1,\"36\")","v":"36"},5,"NW5",0.8351648351648352]
["F84054","Limehouse Practice (Gill Street)",24,21,0.875,{"$f":"IFERROR(RANK(E33,$E$3:$E$38,0)+COUNTIF(E$3:$E33,E33)-1,\"37\")","v":23},null,6,"F84710","Island Health",0.97142857142857142,null,null,null,"F84054","Limehouse Practice (Gill Street)",32,26,0.8125,{"$f":"IFERROR(RANK(S33,$S$3:$S$38,0)+COUNTIF($S$3:S33,S33)-1,\"36\")","v":24},null,6,"F84016","The Mission Practice",0.93103448275862066,null,null,"F84054","Limehouse Practice (Gill Street)",28,20,0.7142857142857143,{"$f":"IFERROR(RANK(AF33,$AF$3:$AF$38,0)+COUNTIF($AF$3:AF33,AF33)-1,\"36\")","v":28},null,6,"F84051","Strouts Place Medical Centre",0.90909090909090906,null,"NW7",133,96,0.72180451127819545,{"$f":"IFERROR(RANK(AQ33,$AQ$28:$AQ$36,0)+COUNTIF($AQ$28:AQ33,AQ33)-1,\"36\")","v":9},4,"NW8",0.84810126582278478,null,"NW7",133,96,0.72180451127819545,{"$f":"IFERROR(RANK(AZ33,$AZ$28:$AZ$36,0)+COUNTIF($AZ$28:AZ33,AZ33)-1,\"36\")","v":8},4,"NW6",0.84615384615384615]
["F84087","Harford Health Centre",33,31,0.93939393939393945,{"$f":"IFERROR(RANK(E34,$E$3:$E$38,0)+COUNTIF(E$3:$E34,E34)-1,\"37\")","v":10},null,5,"F84718","Blithehale Medical Centre",0.97222222222222221,null,null,null,"F84087","Harford Health Centre",33,27,0.81818181818181823,{"$f":"IFERROR(RANK(S34,$S$3:$S$38,0)+COUNTIF($S$3:S34,S34)-1,\"36\")","v":22},null,5,"F84714","St Pauls Way Medical Centre",0.95652173913043481,null,null,"F84087","Harford Health Centre",35,27,0.77142857142857146,{"$f":"IFERROR(RANK(AF34,$AF$3:$AF$38,0)+COUNTIF($AF$3:AF34,AF34)-1,\"36\")","v":26},null,5,"F84123","Globe Town Surgery",0.90909090909090906,null,"NW3&4",197,150,0.76142131979695427,{"$f":"IFERROR(RANK(AQ34,$AQ$28:$AQ$36,0)+COUNTIF($AQ$28:AQ34,AQ34)-1,\"36\")","v":8},3,"NW6",0.85207100591715978,null,"NW3&4",197,155,0.78680203045685282,{"$f":"IFERROR(RANK(AZ34,$AZ$28:$AZ$36,0)+COUNTIF($AZ$28:AZ34,AZ34)-1,\"36\")","v":7},3,"NW8",0.85443037974683544]
["F84731","St Katharine Docks Practice",3,3,1,{"$f":"IFERROR(RANK(E35,$E$3:$E$38,0)+COUNTIF(E$3:$E35,E35)-1,\"37\")","v":4},null,4,"F84731","St Katharine Docks Practice",1,null,null,null,"F84731","St Katharine Docks Practice",3,3,1,{"$f":"IFERROR(RANK(S35,$S$3:$S$38,0)+COUNTIF($S$3:S35,S35)-1,\"36\")","v":2},null,4,"F84718","Blithehale Medical Centre",0.96875,null,null,"F84731","St Katharine Docks Practice",1,1,1,{"$f":"IFERROR(RANK(AF35,$AF$3:$AF$38,0)+COUNTIF($AF$3:AF35,AF35)-1,\"36\")","v":2},null,4,"F84747","Barkantine Practice",0.91025641025641024,null,"NW5",91,76,0.8351648351648352,{"$f":"IFERROR(RANK(AQ35,$AQ$28:$AQ$36,0)+COUNTIF($AQ$28:AQ35,AQ35)-1,\"36\")","v":5},2,"NW2",0.86419753086419748,null,"NW5",91,76,0.8351648351648352,{"$f":"IFERROR(RANK(AZ35,$AZ$28:$AZ$36,0)+COUNTIF($AZ$28:AZ35,AZ35)-1,\"36\")","v":5},2,"NW2",0.86419753086419748]
["F84030","Ruston Street Clinic (Dr Amin)",13,11,0.84615384615384615,{"$f":"IFERROR(RANK(E36,$E$3:$E$38,0)+COUNTIF(E$3:$E36,E36)-1,\"37\")","v":29},null,3,"F84656","Docklands Medical Centre",1,null,null,null,"F84030","Ruston Street Clinic (Dr Amin)",10,8,0.8,{"$f":"IFERROR(RANK(S36,$S$3:$S$38,0)+COUNTIF($S$3:S36,S36)-1,\"36\")","v":29},null,3,"F84676","Stroudley Walk Centre",1,null,null,"F84030","Ruston Street Clinic (Dr Amin)",6,5,0.83333333333333337,{"$f":"IFERROR(RANK(AF36,$AF$3:$AF$38,0)+COUNTIF($AF$3:AF36,AF36)-1,\"36\")","v":18},null,3,"F84647","Island Medical Centre",0.94444444444444442,null,"NW8",{"$f":"SUMIFS(OFFSET(REL_D,,MATCH($AO$27,IND,0)-1),REL_D,$B$1,IF(LEFT(AN36,1)=\"N\",NwID,OrgID),AN36)","v":158},{"$f":"SUMIFS(OFFSET(REL_D,,MATCH($AP$27,IND,0)-1),REL_D,$B$1,IF(LEFT(AN36,1)=\"N\",NwID,OrgID),AN36)","v":134},{"$f":"IF(OR(ISTEXT($AO36),$AO36=0),\"N/A\",AP36/$AO36)","v":0.84810126582278478},{"$f":"IFERROR(RANK(AQ36,$AQ$28:$AQ$36,0)+COUNTIF($AQ$28:AQ36,AQ36)-1,\"36\")","v":4},1,"NW1",0.87850467289719625,null,"NW8",{"$f":"SUMIFS(OFFSET(REL_D,,MATCH($AX$27,IND,0)-1),REL_D,$B$1,IF(LEFT(AW36,1)=\"N\",NwID,OrgID),AW36)","v":158},{"$f":"SUMIFS(OFFSET(REL_D,,MATCH($AY$27,IND,0)-1),REL_D,$B$1,IF(LEFT(AW36,1)=\"N\",NwID,OrgID),AW36)","v":135},{"$f":"IF(OR(ISTEXT($AX36),$AX36=0),\"N/A\",AY36/$AX36)","v":0.85443037974683544},{"$f":"IFERROR(RANK(AZ36,$AZ$28:$AZ$36,0)+COUNTIF($AZ$28:AZ36,AZ36)-1,\"36\")","v":3},1,"NW1",0.87850467289719625]
["F84055","Grove Road Surgery (Dr Shah)",8,7,0.875,{"$f":"IFERROR(RANK(E37,$E$3:$E$38,0)+COUNTIF(E$3:$E37,E37)-1,\"37\")","v":24},null,2,"F84696","The Tredegar Practice",1,null,null,null,"F84055","Grove Road Surgery (Dr Shah)",4,3,0.75,{"$f":"IFERROR(RANK(S37,$S$3:$S$38,0)+COUNTIF($S$3:S37,S37)-1,\"36\")","v":32},null,2,"F84731","St Katharine Docks Practice",1,null,null,"F84055","Grove Road Surgery (Dr Shah)",10,9,0.9,{"$f":"IFERROR(RANK(AF37,$AF$3:$AF$38,0)+COUNTIF($AF$3:AF37,AF37)-1,\"36\")","v":7},null,2,"F84731","St Katharine Docks Practice",1]
["F84676","Stroudley Walk Centre",11,10,0.90909090909090906,{"$f":"IFERROR(RANK(E38,$E$3:$E$38,0)+COUNTIF(E$3:$E38,E38)-1,\"37\")","v":15},null,1,"F84079","Wapping Group Practice",1,null,null,null,"F84676","Stroudley Walk Centre",7,7,{"$f":"IF(OR(ISTEXT($Q38),$Q38=0),\"N/A\",R38/$Q38)","v":1},{"$f":"IFERROR(RANK(S38,$S$3:$S$38,0)+COUNTIF($S$3:S38,S38)-1,\"36\")","v":3},null,1,"F84696","The Tredegar Practice",1,null,null,"F84676","Stroudley Walk Centre",17,14,{"$f":"IF(OR(ISTEXT($AD38),$AD38=0),\"N/A\",AE38/$AD38)","v":0.82352941176470584},{"$f":"IFERROR(RANK(AF38,$AF$3:$AF$38,0)+COUNTIF($AF$3:AF38,AF38)-1,\"36\")","v":20},null,1,"F84118","Merchant Street (Dr Rana)",1,null,"MMR 1 at 2years"]
[null,null,null,null,null,null,null,null,null,null,null,null,null,null,null,null,null,null,null,null,null,null,null,null,null,null,null,null,null,null,null,null,null,null,null,null,null,null,null,"3rd DTAP/IPV/Hib"]

{"sheet":"Control Panel","index":8,"n_rows":78,"n_cols":26,"rows_kept":78,"cut":false,"hidden":true,"merged":[]}
["2018-11-30","Q3",null,null,"Search Title","Report Title"]
[null,"Tower Hamlets","Total",null,"All Patients","Listsize ",null,null,"April 2021","Q1","Q1: April 2017 - June 2017",null,"Select Dates"]
["NW1","The One Network","NW1",null,"(01) 12 MONTH COHORT","Patients becoming 12m",null,null,"May 2021","Q1","Q1: April 2017 - June 2017",null,"2017-04-01",null," -","Select Practice","DN Team","Patch","Network",null,"OrgID",10,{"$f":"$V$7&ADDRESS(1,V3)&\":\"&ADDRESS($V$8,V3)","v":"'Data'!$J$1:$J$3000"}]
["NW2","East End Health Network","NW2",null,"(01.01) DTaP/IPV/Hib","DTaP/IPV/Hib/HepB",null,null,"June 2021","Q1","Q1: April 2017 - June 2017",null,"2017-05-01","Bethnal Green Health Centre","F84083","Bethnal Green Health Centre",null,null,"NW1",null,"REL_D",1,{"$f":"$V$7&ADDRESS(1,V4)&\":\"&ADDRESS($V$8,V4)","v":"'Data'!$A$1:$A$3000"}]
["NW3&4","Tower Network","NW3&4",null,"DTaP/IPV/Hib(%)","DTaP/IPV/Hib/HepB(%)",null,null,"July 2021","Q2","Q2: July 2017 - September 2017",null,"2017-06-01","The Mission Practice","F84016","The Mission Practice",null,null,"NW1",null,"IND"," -",{"$f":"$V$7&ADDRESS(V12,1)&\":\"&ADDRESS(V12,V9)","v":"'Data'!$A$1:$AD$1"}]
["NW5","Bow Health Network","NW5",null,"Patients required to achieve NHSE Target (90%)","Patients required to achieve NHSE Target (90%)",null,null,"August 2021","Q2","Q2: July 2017 - September 2017",null,"2017-07-01","Globe Town Surgery","F84123","Globe Town Surgery",null,null,"NW1",null,"NwID",2,{"$f":"$V$7&ADDRESS(1,V6)&\":\"&ADDRESS($V$8,V6)","v":"'Data'!$B$1:$B$3000"}]
["NW6","Mile End East and Bromley by Bow Network","NW6",null,"Patients required to achieve CCG Target (95%)","Patients required to achieve CCG Target (95%)",null,null,"September 2021","Q2","Q2: July 2017 - September 2017",null,"2017-08-01","Pollard Row Surgery","Y00212","Pollard Row Surgery",null,null,"NW1",null,"Data",{"$f":"IF(V10=\"N\",\"BLANK!\",\"'\"&V11&\"'!\")","v":"'Data'!"}]
["NW7","Poplar and Limehouse Network","NW7",null,"(01.02) Men B (1st and 2nd)","Men B",null,null,"October 2021","Q3","Q3: October 2017 - December 2017",null,"2017-09-01","Strouts Place Medical Centre","F84051","Strouts Place Medical Centre",null,null,"NW1",null,"Rows",3000]
["NW8","Healthy Island Network","NW8",null,"Men B(%)","Men B(%)",null,null,"November 2021","Q3","Q3: October 2017 - December 2017",null,"2017-10-01","Spitalfields Practice","F84081","Spitalfields Practice",null,null,"NW2",null,"Columns",30]
[null,null,null,null,"Patients required to achieve NHSE Target (90%)","Patients required to achieve NHSE Target (90%)",null,null,"December 2021","Q3","Q3: October 2017 - December 2017",null,"2017-11-01","Blithehale Medical Centre","F84718","Blithehale Medical Centre",null,null,"NW2",null,"Data (Y/N)","Y"]
[null,null,null,null,"Patients required to achieve CCG Target (95%)","Patients required to achieve CCG Target (95%)",null,null,"January 2022","Q4","Q4: January 2018 - March 2018",null,"2017-12-01","Health E1","F84733","Health E1",null,null,"NW2",null,"Q Work Sheet","Data",{"$f":"$V$7&ADDRESS(1,1)&\":\"&ADDRESS(V8,V9)","v":"'Data'!$A$1:$AD$3000"}]
["NW1","Bethnal Green Health Centre","F84083",null,"(01.03) PCV","PCV",null,null,"February 2022","Q4","Q4: January 2018 - March 2018",null,"2018-01-01","Albion Health Centre","F84012","Albion Health Centre",null,null,"NW2",null,"Header Row",1]
["NW1","The Mission Practice","F84016",null,"PCV(%)","PCV(%)",null,null,"March 2022","Q4","Q4: January 2018 - March 2018",null,"2018-02-01","Harford Health Centre","F84087","Harford Health Centre",null,null,"NW3&4",null,"Header Row 2",3]
["NW1","Globe Town Surgery","F84123",null,"Patients required to achieve NHSE Target (90%)","Patients required to achieve NHSE Target (90%)",null,null,null,null,null,null,"2018-03-01","Brayford Square (Dr Varma)","F84046","Brayford Square (Dr Varma)",null,null,"NW3&4"]
["NW1","Pollard Row Surgery","Y00212",null,"Patients required to achieve CCG Target (95%)","Patients required to achieve CCG Target (95%)",null,null,null,null,null,null,null,"Whitechapel Health (Shah Jalal)","F84039","Whitechapel Health (Shah Jalal)",null,null,"NW3&4"]
["NW1","Strouts Place Medical Centre","F84051",null,"(01.04) Rotavirus","Rotavirus",null,null,null,null,null,null,null,"City Wellbeing Practice (Tower Medical)","F84114","City Wellbeing Practice (Tower Medical)",null,null,"NW3&4"]
["NW2","Spitalfields Practice","F84081",null,"Rotavirus(%)","Rotavirus(%)",null,null,null,null,null,null,null,"Wapping Group Practice","F84079","Wapping Group Practice",null,null,"NW3&4"]
["NW2","Blithehale Medical Centre","F84718",null,null,null,null,null,null,null,null,null,null,"Jubilee Street Practice","F84031","Jubilee Street Practice",null,null,"NW3&4",null,null,"Patients becoming 12m",null,null,null,"Patients becoming 12m"]
["NW2","Health E1","F84733",null,null,null,null,null,null,null,"2015/16 Q1",null,null,"St Katharine Docks Practice","F84731","St Katharine Docks Practice",null,null,"NW3&4",null,null,"DTaP/IPV/Hib",null,null,null,"DTaP/IPV/Hib %"]
["NW2","Albion Health Centre","F84012",null,null,null,null,null,null,null,"2015/16 Q2",null,null,"East One Health","F84682","East One Health",null,null,"NW3&4",null,null,"Men B",null,null,null,"Men C / Men B %"]
["NW3&4","Harford Health Centre","F84087",null,null,null,null,null,null,null,"2015/16 Q3",null,null,"Harley Grove Medical Centre","F84044","Harley Grove Medical Centre",null,null,"NW5",null,null,"PCV",null,null,null,"PCV %"]
["NW3&4","Brayford Square (Dr Varma)","F84046",null,null,null,null,null,null,null,"2015/16 Q4",null,null,"St Stephens Health Centre","F84034","St Stephens Health Centre",null,null,"NW5"]
["NW3&4","Goodman’s Field Health Centre","F84039",null,null,null,null,null,null,null,"2016/17 Q1",null,null,"Ruston Street Clinic (Dr Amin)","F84030","Ruston Street Clinic (Dr Amin)",null,null,"NW5",null,null,"Patients becoming 24m",null,null,null,"Patients becoming 24m"]
["NW3&4","City Wellbeing Practice (Tower Medical)","F84114",null,null,null,null,null,null,null,"2016/17 Q2",null,null,"Grove Road Surgery (Dr Shah)","F84055","Grove Road Surgery (Dr Shah)",null,null,"NW5",null,null,"MMR",null,null,null,"MMR %"]
["NW3&4","Wapping Group Practice","F84079",null,"All Patients","Listsize ",null,null,null,null,"2016/17 Q3",null,null,"The Tredegar Practice","F84696","The Tredegar Practice",null,null,"NW5",null,null,"HiB/Men C",null,null,null,"HiB/Men C %"]
["NW3&4","Jubilee Street Practice","F84031",null,"(02) 24 MONTH COHORT","Patients becoming 24m",null,null,null,null,"2016/17 Q4",null,null,"Stroudley Walk Centre","F84676","Stroudley Walk Centre",null,null,"NW6",null,null,"PCV (Booster)",null,null,null,"PCV (Booster) %"]
["NW3&4","St Katharine Docks Practice","F84731",null,"(02.01) DTaP/IPV/Hib","DTaP/IPV/Hib",null,null,null,null,"2017/18 Q1",null,null,"St Andrews Health Centre","Y03023","St Andrews Health Centre",null,null,"NW6"]
["NW3&4","East One Health","F84682",null,"DTaP/IPV/Hib(%)","DTaP/IPV/Hib(%)",null,null,null,null,"2017/18 Q2",null,null,"Merchant Street (Dr Rana)","F84118","Merchant Street (Dr Rana)",null,null,"NW6",null,null,"Patients becoming 5y",null,null,null,"Patients becoming 5y"]
["NW5","Harley Grove Medical Centre","F84044",null,"Patients required to achieve NHSE Target (90%)","Patients required to achieve NHSE Target (90%)",null,null,null,null,"2017/18 Q3",null,null,"St Pauls Way Medical Centre","F84714","St Pauls Way Medical Centre",null,null,"NW6",null,null,"DTaP/IPV (Booster)(%)",null,null,null,"DTaP/IPV (Booster)(%)"]
["NW5","St Stephens Health Centre","F84034",null,"Patients required to achieve CCG Target (95%)","Patients required to achieve CCG Target (95%)",null,null,null,null,"2017/18 Q4",null,null,"Bromley-By-Bow Health Centre / XX Place","F84122","Bromley-By-Bow Health Centre / XX Place",null,null,"NW6",null,null,"MMR (Booster)(%)",null,null,null,"MMR (Booster)(%)"]
["NW5","Ruston Street Clinic (Dr Amin)","F84030",null,"(02.02) MMR","MMR",null,null,null,null,"2018/19 Q1",null,null,"Limehouse Practice (Gill Street)","F84054","Limehouse Practice (Gill Street)",null,null,"NW7"]
["NW5","Grove Road Surgery (Dr Shah)","F84055",null,"MMR(%)","MMR(%)",null,null,null,null,"2018/19 Q2",null,null,"Chrisp Street Health Centre","F84062","Chrisp Street Health Centre",null,null,"NW7",null,null,"(01) 12 MONTH COHORT"]
["NW5","The Tredegar Practice","F84696",null,"Patients required to achieve NHSE Target (90%)","Patients required to achieve NHSE Target (90%)",null,null,null,null,"2018/19 Q3",null,null,"Aberfeldy Practice","F84698","Aberfeldy Practice",null,null,"NW7",null,null,"(01.01) DTaP/IPV/Hib"]
["NW6","Stroudley Walk Centre","F84676",null,"Patients required to achieve CCG Target (95%)","Patients required to achieve CCG Target (95%)",null,null,null,null,"2018/19 Q4",null,null,"Gough Walk (Dr Selvan)","F84025","Gough Walk (Dr Selvan)",null,null,"NW7",null,null,"(01.02) Men B (1st and 2nd)"]
["NW6","St Andrews Health Centre","Y03023",null,"(02.03) HiB/Men C","HiB/Men C",null,null,null,null,null,null,null,"Island Health","F84710","Island Health",null,null,"NW8",null,null,"(01.03) PCV"]
["NW6","Merchant Street (Dr Rana)","F84118",null,"HiB/Men C (%)","HiB/Men C (%)",null,null,null,"Patient becoming 12m","'Control Panel'!$V$18:$V$21","'Control Panel'!$Z$18:$Z$21",null,"Docklands Medical Centre","F84656","Docklands Medical Centre",null,null,"NW8"]
["NW6","St Pauls Way Medical Centre","F84714",null,"Patients required to achieve NHSE Target (90%)","Patients required to achieve NHSE Target (90%)",null,null,null,"Patient becoming 24m","'Control Panel'!$V23:$V$26","'Control Panel'!$Z23:$Z$26",null,"Island Medical Centre","F84647","Island Medical Centre",null,null,"NW8",null,null,"(02) 24 MONTH COHORT"]
["NW6","Bromley-By-Bow Health Centre / XX Place","F84122",null,"Patients required to achieve CCG Target (95%)","Patients required to achieve CCG Target (95%)",null,null,null,"Patient becoming 5y","'Control Panel'!$V28:$V$30","'Control Panel'!$Z28:$Z$30",null,"Barkantine Practice","F84747","Barkantine Practice",null,null,"NW8",null,null,"(02.02) MMR"]
["NW7","Limehouse Practice (Gill Street)","F84054",null,"(02.04) PCV (Booster)","PCV (Booster)",null,null,null,null,null,null,null,"Tower Hamlets","Total","Tower Hamlets",null,null,null,null,null,"(02.03) HiB/Men C"]
["NW7","Chrisp Street Health Centre","F84062",null,"PCV (Booster)(%)","PCV (Booster)(%)",null,null,null,null,null,null,null,"The One Network","NW1","The One Network",null,null,"NW1",null,null,"(02.04) PCV (Booster)"]
["NW7","Aberfeldy Practice","F84698",null,"Patients required to achieve NHSE Target (90%)","Patients required to achieve NHSE Target (90%)",null,null,null,"Patient becoming 12m","'Control Panel'!$V$32:$V$35",null,null,"East End Health Network","NW2","East End Health Network",null,null,"NW2"]
["NW7","Gough Walk (Dr Selvan)","F84025",null,"Patients required to achieve CCG Target (95%)","Patients required to achieve CCG Target (95%)",null,null,null,"Patient becoming 24m","'Control Panel'!$V37:$V$40",null,null,"Stepney and Whitechapel Network","NW3","Stepney and Whitechapel Network",null,null,"NW3",null,null,"(03) 5 YEAR COHORT"]
["NW8","Island Health","F84710",null,"(02.05) Men B (Booster)","Men B (Booster)",null,null,null,"Patient becoming 5y","'Control Panel'!$V42:$V$44",null,null,"The Highway Network","NW4","The Highway Network",null,null,"NW4",null,null,"(03.03) DTaP/IPV (Booster)"]
["NW8","Docklands Medical Centre","F84656",null,"Men B (Booster)(%)","Men B (Booster)(%)",null,null,null,null,null,null,null,"Bow Health Network","NW5","Bow Health Network",null,null,"NW5",null,null,"(03.05) MMR (Booster)"]
["NW8","Island Medical Centre","F84647",null,null,null,null,null,null,null,null,null,null,"Mile End East and Bromley by Bow Network","NW6","Mile End East and Bromley by Bow Network",null,null,"NW6"]
["NW8","Barkantine Practice","F84747",null,null,null,null,null,null,null,null,null,null,"Poplar and Limehouse Network","NW7","Poplar and Limehouse Network",null,null,"NW7"]
[null,null,null,null,null,null,null,null,null,null,null,null,null,"Healthy Island Network","NW8","Healthy Island Network",null,null,"NW8"]
[null,null,null,null,"All Patients","Listsize "]
[null,null,null,null,"(03) 5 YEAR COHORT","Patients becoming 5y"]
[null,null,null,null,"(03.01) DTaP/IPV/Hib","DTaP/IPV/Hib"]
[null,null,null,null,"DTaP/IPV/Hib(%)","DTaP/IPV/Hib(%)",null,null,null,null,null,null,null,"xx",null,null,null,"bbb"]
[null,null,null,null,"(03.02) MMR (Primary)","MMR (Primary)"]
[null,null,null,null,"MMR (Primary)(%)","MMR (Primary)(%)",null,null,null,"Data",null,null,null,"Array Start","Array End","Array as Text",null,"Array Start","Array End"]
[null,null,null,null,"(03.03) DTaP/IPV (Booster)","DTaP/IPV (Booster)",null,null,null,null,null,null,null,{"$f":"\"'XX place'!\"&ADDRESS(MATCH(I56,#REF!,0)+7,2)","v":{"$error":"#REF!"}},{"$f":"ADDRESS(MATCH(I56,#REF!,0)+43,3)","v":{"$error":"#REF!"}},{"$f":"TEXT(N54&\":\"&O54,\"\")","v":{"$error":"#REF!"}},null,{"$f":"\"'BBB'!\"&ADDRESS(MATCH(I56,#REF!,0)+7,2)","v":{"$error":"#REF!"}},{"$f":"ADDRESS(MATCH(I56,#REF!,0)+43,3)","v":{"$error":"#REF!"}}]
[null,null,null,null,"DTaP/IPV (Booster)(%)","DTaP/IPV (Booster)(%)",null,null,"Search Title","Array Start","Array End","Array as Text",null,{"$f":"\"'XX place'!\"&ADDRESS(MATCH(I57,#REF!,0)+7,2)","v":{"$error":"#REF!"}},{"$f":"ADDRESS(MATCH(I57,#REF!,0)+43,3)","v":{"$error":"#REF!"}},{"$error":"#REF!"},null,{"$f":"\"'BBB'!\"&ADDRESS(MATCH(I57,#REF!,0)+7,2)","v":{"$error":"#REF!"}},{"$f":"ADDRESS(MATCH(I57,#REF!,0)+43,3)","v":{"$error":"#REF!"}},"Array as Text"]
[null,null,null,null,"Patients required to achieve NHSE Target (90%)","Patients required to achieve NHSE Target (90%)",null,null,"All Patients",{"$f":"\"Data!\"&ADDRESS(MATCH(I56,#REF!,0)+7,2)","v":{"$error":"#REF!"}},{"$f":"ADDRESS(MATCH(I56,#REF!,0)+46,3)","v":{"$error":"#REF!"}},{"$f":"TEXT(J56&\":\"&K56,\"\")","v":{"$error":"#REF!"}},null,{"$f":"\"'XX place'!\"&ADDRESS(MATCH(I58,#REF!,0)+7,2)","v":{"$error":"#REF!"}},{"$f":"ADDRESS(MATCH(I58,#REF!,0)+43,3)","v":{"$error":"#REF!"}},{"$error":"#REF!"},null,{"$f":"\"'BBB'!\"&ADDRESS(MATCH(I58,#REF!,0)+7,2)","v":{"$error":"#REF!"}},{"$f":"ADDRESS(MATCH(I58,#REF!,0)+43,3)","v":{"$error":"#REF!"}},{"$f":"TEXT(R54&\":\"&S54,\"\")","v":{"$error":"#REF!"}}]
[null,null,null,null,"Patients required to achieve CCG Target (95%)","Patients required to achieve CCG Target (95%)",null,null,"(01) 12 MONTH COHORT",{"$f":"\"Data!\"&ADDRESS(MATCH(I57,#REF!,0)+7,2)","v":{"$error":"#REF!"}},{"$f":"ADDRESS(MATCH(I57,#REF!,0)+46,3)","v":{"$error":"#REF!"}},{"$error":"#REF!"},null,{"$f":"\"'XX place'!\"&ADDRESS(MATCH(I59,#REF!,0)+7,2)","v":{"$error":"#REF!"}},{"$f":"ADDRESS(MATCH(I59,#REF!,0)+43,3)","v":{"$error":"#REF!"}},{"$error":"#REF!"},null,{"$f":"\"'BBB'!\"&ADDRESS(MATCH(I59,#REF!,0)+7,2)","v":{"$error":"#REF!"}},{"$f":"ADDRESS(MATCH(I59,#REF!,0)+43,3)","v":{"$error":"#REF!"}},{"$error":"#REF!"}]
[null,null,null,null,"(03.05) MMR (Booster)","MMR (Booster)",null,null,"(01.01) DTaP/IPV/Hib",{"$f":"\"Data!\"&ADDRESS(MATCH(I58,#REF!,0)+7,2)","v":{"$error":"#REF!"}},{"$f":"ADDRESS(MATCH(I58,#REF!,0)+46,3)","v":{"$error":"#REF!"}},{"$error":"#REF!"},null,{"$f":"\"'XX place'!\"&ADDRESS(MATCH(I60,#REF!,0)+7,2)","v":{"$error":"#REF!"}},{"$f":"ADDRESS(MATCH(I60,#REF!,0)+43,3)","v":{"$error":"#REF!"}},{"$error":"#REF!"},null,{"$f":"\"'BBB'!\"&ADDRESS(MATCH(I60,#REF!,0)+7,2)","v":{"$error":"#REF!"}},{"$f":"ADDRESS(MATCH(I60,#REF!,0)+43,3)","v":{"$error":"#REF!"}},{"$error":"#REF!"}]
[null,null,null,null,"MMR (Booster)(%)","MMR (Booster)(%)",null,null,"(01.02) Men C",{"$f":"\"Data!\"&ADDRESS(MATCH(I59,#REF!,0)+7,2)","v":{"$error":"#REF!"}},{"$f":"ADDRESS(MATCH(I59,#REF!,0)+46,3)","v":{"$error":"#REF!"}},{"$error":"#REF!"},null,{"$f":"\"'XX place'!\"&ADDRESS(MATCH(I61,#REF!,0)+7,2)","v":{"$error":"#REF!"}},{"$f":"ADDRESS(MATCH(I61,#REF!,0)+43,3)","v":{"$error":"#REF!"}},{"$error":"#REF!"},null,{"$f":"\"'BBB'!\"&ADDRESS(MATCH(I61,#REF!,0)+7,2)","v":{"$error":"#REF!"}},{"$f":"ADDRESS(MATCH(I61,#REF!,0)+43,3)","v":{"$error":"#REF!"}},{"$error":"#REF!"}]
[null,null,null,null,"Patients required to achieve NHSE Target (90%)","Patients required to achieve NHSE Target (90%)",null,null,"(01.03) PCV",{"$f":"\"Data!\"&ADDRESS(MATCH(I60,#REF!,0)+7,2)","v":{"$error":"#REF!"}},{"$f":"ADDRESS(MATCH(I60,#REF!,0)+46,3)","v":{"$error":"#REF!"}},{"$error":"#REF!"},null,{"$f":"\"'XX place'!\"&ADDRESS(MATCH(I62,#REF!,0)+7,2)","v":{"$error":"#REF!"}},{"$f":"ADDRESS(MATCH(I62,#REF!,0)+43,3)","v":{"$error":"#REF!"}},{"$error":"#REF!"},null,{"$f":"\"'BBB'!\"&ADDRESS(MATCH(I62,#REF!,0)+7,2)","v":{"$error":"#REF!"}},{"$f":"ADDRESS(MATCH(I62,#REF!,0)+43,3)","v":{"$error":"#REF!"}},{"$error":"#REF!"}]
[null,null,null,null,"Patients required to achieve CCG Target (95%)","Patients required to achieve CCG Target (95%)",null,null,"(01.04) Rotavirus",{"$f":"\"Data!\"&ADDRESS(MATCH(I61,#REF!,0)+7,2)","v":{"$error":"#REF!"}},{"$f":"ADDRESS(MATCH(I61,#REF!,0)+46,3)","v":{"$error":"#REF!"}},{"$error":"#REF!"},null,{"$f":"\"'XX place'!\"&ADDRESS(MATCH(I63,#REF!,0)+7,2)","v":{"$error":"#REF!"}},{"$f":"ADDRESS(MATCH(I63,#REF!,0)+43,3)","v":{"$error":"#REF!"}},{"$error":"#REF!"},null,{"$f":"\"'BBB'!\"&ADDRESS(MATCH(I63,#REF!,0)+7,2)","v":{"$error":"#REF!"}},{"$f":"ADDRESS(MATCH(I63,#REF!,0)+43,3)","v":{"$error":"#REF!"}},{"$error":"#REF!"}]
[null,null,null,null,"(03.04) HiB/Men C","HiB/Men C",null,null,"(01.05) BCG",{"$f":"\"Data!\"&ADDRESS(MATCH(I62,#REF!,0)+7,2)","v":{"$error":"#REF!"}},{"$f":"ADDRESS(MATCH(I62,#REF!,0)+46,3)","v":{"$error":"#REF!"}},{"$error":"#REF!"},null,{"$f":"\"'XX place'!\"&ADDRESS(MATCH(I64,#REF!,0)+7,2)","v":{"$error":"#REF!"}},{"$f":"ADDRESS(MATCH(I64,#REF!,0)+43,3)","v":{"$error":"#REF!"}},{"$error":"#REF!"},null,{"$f":"\"'BBB'!\"&ADDRESS(MATCH(I64,#REF!,0)+7,2)","v":{"$error":"#REF!"}},{"$f":"ADDRESS(MATCH(I64,#REF!,0)+43,3)","v":{"$error":"#REF!"}},{"$error":"#REF!"}]
[null,null,null,null,"HiB/Men C(%)","HiB/Men C(%)",null,null,"(02) 24 MONTH COHORT",{"$f":"\"Data!\"&ADDRESS(MATCH(I63,#REF!,0)+7,2)","v":{"$error":"#REF!"}},{"$f":"ADDRESS(MATCH(I63,#REF!,0)+46,3)","v":{"$error":"#REF!"}},{"$error":"#REF!"},null,{"$f":"\"'XX place'!\"&ADDRESS(MATCH(I65,#REF!,0)+7,2)","v":{"$error":"#REF!"}},{"$f":"ADDRESS(MATCH(I65,#REF!,0)+43,3)","v":{"$error":"#REF!"}},{"$error":"#REF!"},null,{"$f":"\"'BBB'!\"&ADDRESS(MATCH(I65,#REF!,0)+7,2)","v":{"$error":"#REF!"}},{"$f":"ADDRESS(MATCH(I65,#REF!,0)+43,3)","v":{"$error":"#REF!"}},{"$error":"#REF!"}]
[null,null,null,null,null,null,null,null,"(02.01) DTaP/IPV/Hib",{"$f":"\"Data!\"&ADDRESS(MATCH(I64,#REF!,0)+7,2)","v":{"$error":"#REF!"}},{"$f":"ADDRESS(MATCH(I64,#REF!,0)+46,3)","v":{"$error":"#REF!"}},{"$error":"#REF!"},null,{"$f":"\"'XX place'!\"&ADDRESS(MATCH(I66,#REF!,0)+7,2)","v":{"$error":"#REF!"}},{"$f":"ADDRESS(MATCH(I66,#REF!,0)+43,3)","v":{"$error":"#REF!"}},{"$error":"#REF!"},null,{"$f":"\"'BBB'!\"&ADDRESS(MATCH(I66,#REF!,0)+7,2)","v":{"$error":"#REF!"}},{"$f":"ADDRESS(MATCH(I66,#REF!,0)+43,3)","v":{"$error":"#REF!"}},{"$error":"#REF!"}]
[null,null,null,null,null,null,null,null,"(02.02) MMR",{"$f":"\"Data!\"&ADDRESS(MATCH(I65,#REF!,0)+7,2)","v":{"$error":"#REF!"}},{"$f":"ADDRESS(MATCH(I65,#REF!,0)+46,3)","v":{"$error":"#REF!"}},{"$error":"#REF!"},null,{"$f":"\"'XX place'!\"&ADDRESS(MATCH(I67,#REF!,0)+7,2)","v":{"$error":"#REF!"}},{"$f":"ADDRESS(MATCH(I67,#REF!,0)+43,3)","v":{"$error":"#REF!"}},{"$error":"#REF!"},null,{"$f":"\"'BBB'!\"&ADDRESS(MATCH(I67,#REF!,0)+7,2)","v":{"$error":"#REF!"}},{"$f":"ADDRESS(MATCH(I67,#REF!,0)+43,3)","v":{"$error":"#REF!"}},{"$error":"#REF!"}]
[null,null,null,null,null,null,null,null,"(02.03) HiB/Men C",{"$f":"\"Data!\"&ADDRESS(MATCH(I66,#REF!,0)+7,2)","v":{"$error":"#REF!"}},{"$f":"ADDRESS(MATCH(I66,#REF!,0)+46,3)","v":{"$error":"#REF!"}},{"$error":"#REF!"},null,{"$f":"\"'XX place'!\"&ADDRESS(MATCH(I68,#REF!,0)+7,2)","v":{"$error":"#REF!"}},{"$f":"ADDRESS(MATCH(I68,#REF!,0)+43,3)","v":{"$error":"#REF!"}},{"$error":"#REF!"},null,{"$f":"\"'BBB'!\"&ADDRESS(MATCH(I68,#REF!,0)+7,2)","v":{"$error":"#REF!"}},{"$f":"ADDRESS(MATCH(I68,#REF!,0)+43,3)","v":{"$error":"#REF!"}},{"$error":"#REF!"}]
[null,null,null,null,"3rd DTAP/IPV/Hib","'Control Panel'!$G$67:$G$69","(01) 12 MONTH COHORT",null,"(02.04) PCV (Booster)",{"$f":"\"Data!\"&ADDRESS(MATCH(I67,#REF!,0)+7,2)","v":{"$error":"#REF!"}},{"$f":"ADDRESS(MATCH(I67,#REF!,0)+46,3)","v":{"$error":"#REF!"}},{"$error":"#REF!"},null,{"$f":"\"'XX place'!\"&ADDRESS(MATCH(I69,#REF!,0)+7,2)","v":{"$error":"#REF!"}},{"$f":"ADDRESS(MATCH(I69,#REF!,0)+43,3)","v":{"$error":"#REF!"}},{"$error":"#REF!"},null,{"$f":"\"'BBB'!\"&ADDRESS(MATCH(I69,#REF!,0)+7,2)","v":{"$error":"#REF!"}},{"$f":"ADDRESS(MATCH(I69,#REF!,0)+43,3)","v":{"$error":"#REF!"}},{"$error":"#REF!"}]
[null,null,null,null,"MMR 1 at 2years","'Control Panel'!$G$70:$G$72","(01.01) DTaP/IPV/Hib",null,"(03) 5 YEAR COHORT",{"$f":"\"Data!\"&ADDRESS(MATCH(I68,#REF!,0)+7,2)","v":{"$error":"#REF!"}},{"$f":"ADDRESS(MATCH(I68,#REF!,0)+46,3)","v":{"$error":"#REF!"}},{"$error":"#REF!"},null,{"$f":"\"'XX place'!\"&ADDRESS(MATCH(I70,#REF!,0)+7,2)","v":{"$error":"#REF!"}},{"$f":"ADDRESS(MATCH(I70,#REF!,0)+43,3)","v":{"$error":"#REF!"}},{"$error":"#REF!"},null,{"$f":"\"'BBB'!\"&ADDRESS(MATCH(I70,#REF!,0)+7,2)","v":{"$error":"#REF!"}},{"$f":"ADDRESS(MATCH(I70,#REF!,0)+43,3)","v":{"$error":"#REF!"}},{"$error":"#REF!"}]
[null,null,null,null,"MMR 2 at 5yrs ","'Control Panel'!$G$73:$G$75","DTaP/IPV/Hib(%)",null,"(03.01) DTaP/IPV/Hib",{"$f":"\"Data!\"&ADDRESS(MATCH(I69,#REF!,0)+7,2)","v":{"$error":"#REF!"}},{"$f":"ADDRESS(MATCH(I69,#REF!,0)+46,3)","v":{"$error":"#REF!"}},{"$error":"#REF!"},null,{"$f":"\"'XX place'!\"&ADDRESS(MATCH(I71,#REF!,0)+7,2)","v":{"$error":"#REF!"}},{"$f":"ADDRESS(MATCH(I71,#REF!,0)+43,3)","v":{"$error":"#REF!"}},{"$error":"#REF!"},null,{"$f":"\"'BBB'!\"&ADDRESS(MATCH(I71,#REF!,0)+7,2)","v":{"$error":"#REF!"}},{"$f":"ADDRESS(MATCH(I71,#REF!,0)+43,3)","v":{"$error":"#REF!"}},{"$error":"#REF!"}]
[null,null,null,null,"3rd DTAP/IPV/Hib at 1 year","'Control Panel'!$G$67:$G$69","(02) 24 MONTH COHORT",null,"(03.02) MMR (Primary)",{"$f":"\"Data!\"&ADDRESS(MATCH(I70,#REF!,0)+7,2)","v":{"$error":"#REF!"}},{"$f":"ADDRESS(MATCH(I70,#REF!,0)+46,3)","v":{"$error":"#REF!"}},{"$error":"#REF!"},null,{"$f":"\"'XX place'!\"&ADDRESS(MATCH(I72,#REF!,0)+7,2)","v":{"$error":"#REF!"}},{"$f":"ADDRESS(MATCH(I72,#REF!,0)+43,3)","v":{"$error":"#REF!"}},{"$error":"#REF!"},null,{"$f":"\"'BBB'!\"&ADDRESS(MATCH(I72,#REF!,0)+7,2)","v":{"$error":"#REF!"}},{"$f":"ADDRESS(MATCH(I72,#REF!,0)+43,3)","v":{"$error":"#REF!"}},{"$error":"#REF!"}]
[null,null,null,null,"MMR 1 at 2 years","'Control Panel'!$G$70:$G$72","(02.02) MMR",null,"(03.03) DTaP/IPV (Booster)",{"$f":"\"Data!\"&ADDRESS(MATCH(I71,#REF!,0)+7,2)","v":{"$error":"#REF!"}},{"$f":"ADDRESS(MATCH(I71,#REF!,0)+46,3)","v":{"$error":"#REF!"}},{"$error":"#REF!"},null,{"$f":"\"'XX place'!\"&ADDRESS(MATCH(I73,#REF!,0)+7,2)","v":{"$error":"#REF!"}},{"$f":"ADDRESS(MATCH(I73,#REF!,0)+43,3)","v":{"$error":"#REF!"}},{"$f":"TEXT(N71&\":\"&O71,\"\")","v":{"$error":"#REF!"}},null,{"$f":"\"'BBB'!\"&ADDRESS(MATCH(I73,#REF!,0)+7,2)","v":{"$error":"#REF!"}},{"$f":"ADDRESS(MATCH(I73,#REF!,0)+43,3)","v":{"$error":"#REF!"}},{"$error":"#REF!"}]
[null,null,null,null,"Pre-school booster at 5years","'Control Panel'!$G$76:$G$78","MMR(%)",null,"(03.04) HiB/Men C",{"$f":"\"Data!\"&ADDRESS(MATCH(I72,#REF!,0)+7,2)","v":{"$error":"#REF!"}},{"$f":"ADDRESS(MATCH(I72,#REF!,0)+46,3)","v":{"$error":"#REF!"}},{"$error":"#REF!"},null,null,null,null,null,null,null,{"$error":"#REF!"}]
[null,null,null,null,null,null,"(03) 5 YEAR COHORT",null,"(03.05) MMR (Booster)",{"$f":"\"Data!\"&ADDRESS(MATCH(I73,#REF!,0)+7,2)","v":{"$error":"#REF!"}},{"$f":"ADDRESS(MATCH(I73,#REF!,0)+46,3)","v":{"$error":"#REF!"}},{"$f":"TEXT(J73&\":\"&K73,\"\")","v":{"$error":"#REF!"}},null,null,null,null,null,null,null,{"$f":"TEXT(R71&\":\"&S71,\"\")","v":{"$error":"#REF!"}}]
[null,null,null,null,null,null,"(03.02) MMR (Primary)"]
[null,null,null,null,null,null,"MMR (Primary)(%)"]
[null,null,null,null,null,null,"(03) 5 YEAR COHORT"]
[null,null,null,null,null,null,"(03.05) MMR (Booster)"]
[null,null,null,null,null,null,"MMR (Booster)(%)"]

{"sheet":"Rows","index":9,"n_rows":0,"n_cols":0,"rows_kept":0,"cut":false,"hidden":true,"merged":[]}

{"sheet":"Data","index":10,"n_rows":2288,"n_cols":30,"rows_kept":2288,"cut":false,"hidden":true,"merged":[]}
["2015/16 Q1",{"$f":"VLOOKUP(J1,'Control Panel'!$O$3:$S$47,5,FALSE)","v":{"$error":"#N/A"}},null,null,"Parent Population","Author","Last Run",null,null,null,"Search","All Patients","(01) 12 MONTH COHORT","(01.01) DTaP/IPV/Hib","(01.02) Men B (1st and 2nd)","(01.03) PCV","(01.04) Rotavirus","(01.05) BCG","(02) 24 MONTH COHORT","(02.01) DTaP/IPV/Hib","(02.02) MMR","(02.03) HiB/Men C","(02.04) PCV (Booster)","(03) 5 YEAR COHORT","(03.01) DTaP/IPV/Hib","(03.02) MMR (Primary)","(03.03) DTaP/IPV (Booster)","(03.04) HiB/Men C","(03.05) MMR (Booster)","(02.05) Men B (Booster)"]
["2015/16 Q1",{"$f":"VLOOKUP(J2,'Control Panel'!$O$3:$S$47,5,FALSE)","v":"NW2"},null,null,"Currently registered patients","DUNNE, Jack (Mr)","2015-07-02T16:25:00",null,null,"F84081",null,12439,36,34,35,34,34,33,33,31,30,28,28,30,29,29,27,27,27]
["2015/16 Q1",{"$f":"VLOOKUP(J3,'Control Panel'!$O$3:$S$47,5,FALSE)","v":"NW3&4"},null,null,null,null,null,null,null,"F84079",null,9435,35,31,32,31,27,31,35,34,32,31,33,17,17,16,13,16,16]
["2015/16 Q1",{"$f":"VLOOKUP(J4,'Control Panel'!$O$3:$S$47,5,FALSE)","v":"NW3&4"},null,null,null,"Date Modified","Relative Date",null,null,"F84087",null,10780,41,40,41,40,37,39,47,47,46,46,46,44,43,43,38,43,42]
["2015/16 Q1",{"$f":"VLOOKUP(J5,'Control Panel'!$O$3:$S$47,5,FALSE)","v":"NW8"},null,null,null,"2015-05-07","2015-07-01",null,null,"F84710",null,11639,35,31,31,31,27,34,43,41,42,41,42,45,44,43,34,43,43]
["2015/16 Q1",{"$f":"VLOOKUP(J6,'Control Panel'!$O$3:$S$47,5,FALSE)","v":"NW1"},null,null,null,null,null,null,null,"F84083",null,8218,29,27,27,27,24,28,22,22,21,20,21,34,31,31,26,30,29]
["2015/16 Q1",{"$f":"VLOOKUP(J7,'Control Panel'!$O$3:$S$47,5,FALSE)","v":"NW3&4"},null,null,null,null,null,null,null,"F84031",null,10936,39,38,38,37,33,37,41,40,37,38,37,30,28,28,30,26,29]
["2015/16 Q1",{"$f":"VLOOKUP(J8,'Control Panel'!$O$3:$S$47,5,FALSE)","v":"NW5"},null,null,null,null,null,null,null,"F84044",null,5762,20,20,20,20,19,19,21,21,21,21,21,25,25,25,25,24,25]
["2015/16 Q1",{"$f":"VLOOKUP(J9,'Control Panel'!$O$3:$S$47,5,FALSE)","v":"NW7"},null,null,null,null,null,null,null,"F84054",null,10599,54,53,53,53,49,50,47,47,45,44,43,42,42,41,40,41,39]
["2015/16 Q1",{"$f":"VLOOKUP(J10,'Control Panel'!$O$3:$S$47,5,FALSE)","v":"NW7"},null,null,null,null,null,null,null,"F84062",null,13580,51,43,44,43,42,44,65,65,55,57,57,65,64,62,50,61,53]
["2015/16 Q1",{"$f":"VLOOKUP(J11,'Control Panel'!$O$3:$S$47,5,FALSE)","v":"NW5"},null,null,null,null,null,null,null,"F84034",null,12800,55,54,54,55,50,53,44,43,39,40,40,58,55,54,52,53,52]
["2015/16 Q1",{"$f":"VLOOKUP(J12,'Control Panel'!$O$3:$S$47,5,FALSE)","v":"NW1"},null,null,null,null,null,null,null,"F84016",null,11587,28,24,25,24,20,23,35,30,28,29,28,33,30,30,28,30,29]
["2015/16 Q1",{"$f":"VLOOKUP(J13,'Control Panel'!$O$3:$S$47,5,FALSE)","v":"NW3&4"},null,null,null,null,null,null,null,"F84731",null,1805,2,2,2,2,2,2,7,7,7,7,7,2,2,2,2,2,2]
["2015/16 Q1",{"$f":"VLOOKUP(J14,'Control Panel'!$O$3:$S$47,5,FALSE)","v":"NW6"},null,null,null,null,null,null,null,"F84676",null,4417,13,13,13,13,12,13,10,10,10,10,9,9,9,9,8,9,9]
["2015/16 Q1",{"$f":"VLOOKUP(J15,'Control Panel'!$O$3:$S$47,5,FALSE)","v":"NW8"},null,null,null,null,null,null,null,"F84656",null,7525,29,26,27,26,26,26,21,21,21,21,21,22,21,20,21,19,20]
["2015/16 Q1",{"$f":"VLOOKUP(J16,'Control Panel'!$O$3:$S$47,5,FALSE)","v":"NW8"},null,null,null,null,null,null,null,"F84647",null,6175,19,17,18,17,17,17,20,18,17,18,17,16,16,16,15,14,16]
["2015/16 Q1",{"$f":"VLOOKUP(J17,'Control Panel'!$O$3:$S$47,5,FALSE)","v":"NW3&4"},null,null,null,null,null,null,null,"F84682",null,10312,54,49,50,49,43,49,38,38,35,34,35,34,31,30,21,26,24]
["2015/16 Q1",{"$f":"VLOOKUP(J18,'Control Panel'!$O$3:$S$47,5,FALSE)","v":"NW5"},null,null,null,null,null,null,null,"F84030",null,2795,3,3,3,3,3,3,10,9,8,9,9,12,11,11,9,8,10]
["2015/16 Q1",{"$f":"VLOOKUP(J19,'Control Panel'!$O$3:$S$47,5,FALSE)","v":"NW6"},null,null,null,null,null,null,null,"Y03023",null,9390,36,35,34,35,35,35,47,46,44,43,44,44,42,42,37,41,39]
["2015/16 Q1",{"$f":"VLOOKUP(J20,'Control Panel'!$O$3:$S$47,5,FALSE)","v":"NW6"},null,null,null,null,null,null,null,"F84118",null,5233,10,9,9,10,9,9,19,18,18,17,18,10,10,10,10,10,10]
["2015/16 Q1",{"$f":"VLOOKUP(J21,'Control Panel'!$O$3:$S$47,5,FALSE)","v":"NW1"},null,null,null,null,null,null,null,"F84123",null,11125,27,25,27,25,23,27,27,26,24,24,24,22,22,21,21,22,21]
["2015/16 Q1",{"$f":"VLOOKUP(J22,'Control Panel'!$O$3:$S$47,5,FALSE)","v":"NW5"},null,null,null,null,null,null,null,"F84055",null,3608,10,8,8,9,6,9,4,4,4,4,4,11,10,10,8,9,8]
["2015/16 Q1",{"$f":"VLOOKUP(J23,'Control Panel'!$O$3:$S$47,5,FALSE)","v":"NW2"},null,null,null,null,null,null,null,"F84718",null,10561,33,28,31,28,28,31,38,37,34,34,35,24,24,23,19,20,23]
["2015/16 Q1",{"$f":"VLOOKUP(J24,'Control Panel'!$O$3:$S$47,5,FALSE)","v":"NW3&4"},null,null,null,null,null,null,null,"F84046",null,3287,7,7,7,7,7,7,11,11,11,11,11,12,12,12,12,12,12]
["2015/16 Q1",{"$f":"VLOOKUP(J25,'Control Panel'!$O$3:$S$47,5,FALSE)","v":"NW1"},null,null,null,null,null,null,null,"Y00212",null,4791,13,11,12,12,12,11,17,17,17,17,17,7,7,6,4,6,7]
["2015/16 Q1",{"$f":"VLOOKUP(J26,'Control Panel'!$O$3:$S$47,5,FALSE)","v":{"$error":"#N/A"}},null,null,null,null,null,null,null,"F841229B1F",null,8305,58,55,57,55,52,55,52,47,43,43,43,43,42,42,28,39,36]
["2015/16 Q1",{"$f":"VLOOKUP(J27,'Control Panel'!$O$3:$S$47,5,FALSE)","v":"NW1"},null,null,null,null,null,null,null,"F84051",null,3758,10,10,10,10,9,9,4,4,4,4,4,5,5,5,4,5,5]
["2015/16 Q1",{"$f":"VLOOKUP(J28,'Control Panel'!$O$3:$S$47,5,FALSE)","v":"NW7"},null,null,null,null,null,null,null,"F84698",null,6279,20,19,19,19,19,19,26,26,25,26,26,24,24,23,18,22,24]
["2015/16 Q1",{"$f":"VLOOKUP(J29,'Control Panel'!$O$3:$S$47,5,FALSE)","v":"NW3&4"},null,null,null,null,null,null,null,"F84039",null,8385,34,32,33,32,30,33,37,37,37,37,36,22,22,22,16,21,20]
["2015/16 Q1",{"$f":"VLOOKUP(J30,'Control Panel'!$O$3:$S$47,5,FALSE)","v":{"$error":"#N/A"}},null,null,null,null,null,null,null,"F84702",null,6024,34,32,33,32,26,31,21,20,16,16,15,23,22,21,18,19,19]
["2015/16 Q1",{"$f":"VLOOKUP(J31,'Control Panel'!$O$3:$S$47,5,FALSE)","v":"NW6"},null,null,null,null,null,null,null,"F84714",null,10631,44,44,44,44,42,44,45,43,35,37,37,49,47,45,42,44,42]
["2015/16 Q1",{"$f":"VLOOKUP(J32,'Control Panel'!$O$3:$S$47,5,FALSE)","v":"NW7"},null,null,null,null,null,null,null,"F84025",null,4740,27,26,27,26,23,26,18,18,18,17,17,15,15,15,12,14,15]
["2015/16 Q1",{"$f":"VLOOKUP(J33,'Control Panel'!$O$3:$S$47,5,FALSE)","v":"NW3&4"},null,null,null,null,null,null,null,"F84114",null,7431,16,15,15,15,7,13,26,25,24,24,24,15,11,11,11,9,12]
["2015/16 Q1",{"$f":"VLOOKUP(J34,'Control Panel'!$O$3:$S$47,5,FALSE)","v":"NW2"},null,null,null,null,null,null,null,"F84733",null,1279,0,0,0,0,0,0,0,0,0,0,0,0,0,0,0,0,0]
["2015/16 Q1",{"$f":"VLOOKUP(J35,'Control Panel'!$O$3:$S$47,5,FALSE)","v":"NW8"},null,null,null,null,null,null,null,"F84747",null,18600,90,87,84,88,77,84,69,66,64,60,64,65,64,62,46,61,56]
["2015/16 Q1",{"$f":"VLOOKUP(J36,'Control Panel'!$O$3:$S$47,5,FALSE)","v":"NW5"},null,null,null,null,null,null,null,"F84696",null,4251,14,14,14,14,13,14,9,8,8,8,8,11,11,11,7,11,10]
["2015/16 Q1",{"$f":"VLOOKUP(J37,'Control Panel'!$O$3:$S$47,5,FALSE)","v":"NW2"},null,null,null,null,null,null,null,"F84012",null,8940,34,32,33,32,30,32,33,33,31,30,31,20,19,18,18,17,18]
["2015/16 Q1",{"$f":"VLOOKUP(J38,'Control Panel'!$O$3:$S$47,5,FALSE)","v":{"$error":"#N/A"}},null,null,null,null,null,null,null,"F841229B1G",null,6501,31,29,31,29,28,31,20,20,19,19,19,24,23,23,13,39,36]
["2015/16 Q1",{"$f":"VLOOKUP(J39,'Control Panel'!$O$3:$S$47,5,FALSE)","v":0},null,null,null,null,null,null,null,"Total",null,293923,1091,1023,1041,1027,941,1021,1062,1030,970,965,971,964,930,912,783,893,878]
["2015/16 Q2",{"$f":"VLOOKUP(J40,'Control Panel'!$O$3:$S$47,5,FALSE)","v":{"$error":"#N/A"}},null,null,"Parent Population","Author","Last Run",null,null,null,"Search","All Patients","(01) 12 MONTH COHORT","(01.01) DTaP/IPV/Hib","(01.02) Men B (1st and 2nd)","(01.03) PCV","(01.04) Rotavirus","(01.05) BCG","(02) 24 MONTH COHORT","(02.01) DTaP/IPV/Hib","(02.02) MMR","(02.03) HiB/Men C","(02.04) PCV (Booster)","(03) 5 YEAR COHORT","(03.01) DTaP/IPV/Hib","(03.02) MMR (Primary)","(03.03) DTaP/IPV (Booster)","(03.04) HiB/Men C","(03.05) MMR (Booster)"]
["2015/16 Q2",{"$f":"VLOOKUP(J41,'Control Panel'!$O$3:$S$47,5,FALSE)","v":"NW2"},null,null,"Currently registered patients","DUNNE, Jack (Mr)","2015-10-02T09:28:00",null,null,"F84081",null,12513,40,39,39,39,38,38,21,18,19,17,18,36,33,33,33,32,31]
["2015/16 Q2",{"$f":"VLOOKUP(J42,'Control Panel'!$O$3:$S$47,5,FALSE)","v":"NW3&4"},null,null,null,null,null,null,null,"F84079",null,9511,41,40,39,39,33,39,29,28,27,28,26,31,30,28,23,27,27]
["2015/16 Q2",{"$f":"VLOOKUP(J43,'Control Panel'!$O$3:$S$47,5,FALSE)","v":"NW3&4"},null,null,null,"Date Modified","Relative Date",null,null,"F84087",null,11066,44,42,42,42,37,42,51,50,49,49,49,49,49,48,45,48,47]
["2015/16 Q2",{"$f":"VLOOKUP(J44,'Control Panel'!$O$3:$S$47,5,FALSE)","v":"NW8"},null,null,null,"2015-09-30","2015-10-01",null,null,"F84710",null,11823,47,46,44,44,42,46,48,47,45,45,45,31,27,29,28,27,29]
["2015/16 Q2",{"$f":"VLOOKUP(J45,'Control Panel'!$O$3:$S$47,5,FALSE)","v":"NW1"},null,null,null,null,null,null,null,"F84083",null,8322,32,31,30,31,31,30,24,24,24,24,24,20,20,16,16,17,17]
["2015/16 Q2",{"$f":"VLOOKUP(J46,'Control Panel'!$O$3:$S$47,5,FALSE)","v":"NW3&4"},null,null,null,null,null,null,null,"F84031",null,11036,36,35,35,35,35,34,50,49,47,47,47,35,34,33,32,34,33]
["2015/16 Q2",{"$f":"VLOOKUP(J47,'Control Panel'!$O$3:$S$47,5,FALSE)","v":"NW5"},null,null,null,null,null,null,null,"F84044",null,5774,32,30,31,30,29,31,20,20,19,18,19,19,19,19,18,18,18]
["2015/16 Q2",{"$f":"VLOOKUP(J48,'Control Panel'!$O$3:$S$47,5,FALSE)","v":"NW7"},null,null,null,null,null,null,null,"F84054",null,10681,47,46,46,46,42,43,26,26,25,24,25,29,29,29,28,29,28]
["2015/16 Q2",{"$f":"VLOOKUP(J49,'Control Panel'!$O$3:$S$47,5,FALSE)","v":"NW7"},null,null,null,null,null,null,null,"F84062",null,13867,55,54,54,54,48,54,51,51,48,47,47,51,49,49,43,46,43]
["2015/16 Q2",{"$f":"VLOOKUP(J50,'Control Panel'!$O$3:$S$47,5,FALSE)","v":"NW5"},null,null,null,null,null,null,null,"F84034",null,12796,39,38,38,38,36,36,43,42,40,41,41,39,37,36,36,37,35]
["2015/16 Q2",{"$f":"VLOOKUP(J51,'Control Panel'!$O$3:$S$47,5,FALSE)","v":"NW1"},null,null,null,null,null,null,null,"F84016",null,11592,20,19,19,19,17,17,54,52,51,51,51,35,33,28,30,31,31]
["2015/16 Q2",{"$f":"VLOOKUP(J52,'Control Panel'!$O$3:$S$47,5,FALSE)","v":"NW3&4"},null,null,null,null,null,null,null,"F84731",null,1837,4,4,4,4,4,4,3,3,3,3,3,4,4,4,3,3,3]
["2015/16 Q2",{"$f":"VLOOKUP(J53,'Control Panel'!$O$3:$S$47,5,FALSE)","v":"NW6"},null,null,null,null,null,null,null,"F84676",null,4391,18,16,16,16,16,16,21,21,21,21,21,23,23,23,20,22,21]
["2015/16 Q2",{"$f":"VLOOKUP(J54,'Control Panel'!$O$3:$S$47,5,FALSE)","v":"NW8"},null,null,null,null,null,null,null,"F84656",null,7566,28,26,26,25,26,24,22,21,20,18,19,14,13,13,11,12,12]
["2015/16 Q2",{"$f":"VLOOKUP(J55,'Control Panel'!$O$3:$S$47,5,FALSE)","v":"NW8"},null,null,null,null,null,null,null,"F84647",null,6324,16,15,14,14,14,14,17,16,15,14,15,11,10,11,10,9,11]
["2015/16 Q2",{"$f":"VLOOKUP(J56,'Control Panel'!$O$3:$S$47,5,FALSE)","v":"NW3&4"},null,null,null,null,null,null,null,"F84682",null,10447,49,46,48,46,40,44,43,39,36,35,39,47,46,47,42,42,43]
["2015/16 Q2",{"$f":"VLOOKUP(J57,'Control Panel'!$O$3:$S$47,5,FALSE)","v":"NW5"},null,null,null,null,null,null,null,"F84030",null,2798,8,8,8,8,8,8,8,6,6,5,6,6,5,5,6,3,6]
["2015/16 Q2",{"$f":"VLOOKUP(J58,'Control Panel'!$O$3:$S$47,5,FALSE)","v":"NW6"},null,null,null,null,null,null,null,"Y03023",null,9811,58,55,55,55,51,57,51,50,47,46,45,36,35,34,30,32,33]
["2015/16 Q2",{"$f":"VLOOKUP(J59,'Control Panel'!$O$3:$S$47,5,FALSE)","v":"NW6"},null,null,null,null,null,null,null,"F84118",null,5204,20,20,20,20,18,20,10,9,9,10,10,19,19,18,18,18,18]
["2015/16 Q2",{"$f":"VLOOKUP(J60,'Control Panel'!$O$3:$S$47,5,FALSE)","v":"NW1"},null,null,null,null,null,null,null,"F84123",null,11790,22,21,21,21,20,21,25,25,23,23,23,27,27,25,24,24,26]
["2015/16 Q2",{"$f":"VLOOKUP(J61,'Control Panel'!$O$3:$S$47,5,FALSE)","v":"NW5"},null,null,null,null,null,null,null,"F84055",null,3611,10,10,10,10,9,10,8,8,8,8,8,6,6,6,5,6,6]
["2015/16 Q2",{"$f":"VLOOKUP(J62,'Control Panel'!$O$3:$S$47,5,FALSE)","v":"NW2"},null,null,null,null,null,null,null,"F84718",null,10728,43,41,42,41,39,42,35,33,31,31,32,28,27,27,19,27,25]
["2015/16 Q2",{"$f":"VLOOKUP(J63,'Control Panel'!$O$3:$S$47,5,FALSE)","v":"NW3&4"},null,null,null,null,null,null,null,"F84046",null,3344,9,9,9,9,8,9,15,15,14,14,14,10,10,10,9,9,10]
["2015/16 Q2",{"$f":"VLOOKUP(J64,'Control Panel'!$O$3:$S$47,5,FALSE)","v":"NW1"},null,null,null,null,null,null,null,"Y00212",null,4911,16,15,14,15,10,14,11,10,9,9,9,14,14,14,10,14,14]
["2015/16 Q2",{"$f":"VLOOKUP(J65,'Control Panel'!$O$3:$S$47,5,FALSE)","v":{"$error":"#N/A"}},null,null,null,null,null,null,null,"F841229B1F",null,8416,67,64,66,64,59,63,68,66,64,64,65,62,58,59,42,57,48]
["2015/16 Q2",{"$f":"VLOOKUP(J66,'Control Panel'!$O$3:$S$47,5,FALSE)","v":"NW1"},null,null,null,null,null,null,null,"F84051",null,3842,13,13,13,13,13,13,11,10,10,10,10,10,10,10,6,10,10]
["2015/16 Q2",{"$f":"VLOOKUP(J67,'Control Panel'!$O$3:$S$47,5,FALSE)","v":"NW7"},null,null,null,null,null,null,null,"F84698",null,6366,37,34,36,35,33,35,41,40,35,37,36,35,35,33,28,31,30]
["2015/16 Q2",{"$f":"VLOOKUP(J68,'Control Panel'!$O$3:$S$47,5,FALSE)","v":"NW3&4"},null,null,null,null,null,null,null,"F84039",null,8646,36,36,36,36,35,35,37,36,36,36,35,33,32,32,28,31,32]
["2015/16 Q2",{"$f":"VLOOKUP(J69,'Control Panel'!$O$3:$S$47,5,FALSE)","v":{"$error":"#N/A"}},null,null,null,null,null,null,null,"F84702",null,6089,37,34,34,34,25,31,23,21,20,20,19,30,30,29,27,26,27]
["2015/16 Q2",{"$f":"VLOOKUP(J70,'Control Panel'!$O$3:$S$47,5,FALSE)","v":"NW6"},null,null,null,null,null,null,null,"F84714",null,10739,49,49,49,49,43,48,33,32,32,31,30,55,54,54,45,54,52]
["2015/16 Q2",{"$f":"VLOOKUP(J71,'Control Panel'!$O$3:$S$47,5,FALSE)","v":"NW7"},null,null,null,null,null,null,null,"F84025",null,4871,17,15,17,15,14,17,25,25,25,25,25,21,21,19,15,18,19]
["2015/16 Q2",{"$f":"VLOOKUP(J72,'Control Panel'!$O$3:$S$47,5,FALSE)","v":"NW3&4"},null,null,null,null,null,null,null,"F84114",null,7557,23,23,23,23,12,21,19,18,17,17,17,11,11,10,7,10,11]
["2015/16 Q2",{"$f":"VLOOKUP(J73,'Control Panel'!$O$3:$S$47,5,FALSE)","v":"NW2"},null,null,null,null,null,null,null,"F84733",null,1318,0,0,0,0,0,0,0,0,0,0,0,0,0,0,0,0,0]
["2015/16 Q2",{"$f":"VLOOKUP(J74,'Control Panel'!$O$3:$S$47,5,FALSE)","v":"NW8"},null,null,null,null,null,null,null,"F84747",null,18852,88,81,81,81,77,82,76,72,70,71,73,47,46,44,38,44,44]
["2015/16 Q2",{"$f":"VLOOKUP(J75,'Control Panel'!$O$3:$S$47,5,FALSE)","v":"NW5"},null,null,null,null,null,null,null,"F84696",null,4390,22,21,21,21,21,21,12,12,10,10,12,10,10,9,8,10,8]
["2015/16 Q2",{"$f":"VLOOKUP(J76,'Control Panel'!$O$3:$S$47,5,FALSE)","v":"NW2"},null,null,null,null,null,null,null,"F84012",null,9030,43,41,41,41,37,41,35,32,31,32,32,35,35,34,30,34,31]
["2015/16 Q2",{"$f":"VLOOKUP(J77,'Control Panel'!$O$3:$S$47,5,FALSE)","v":{"$error":"#N/A"}},null,null,null,null,null,null,null,"F841229B1G",null,6518,33,32,33,32,28,33,34,34,33,33,33,30,29,30,22,57,48]
["2015/16 Q2",{"$f":"VLOOKUP(J78,'Control Panel'!$O$3:$S$47,5,FALSE)","v":0},null,null,null,null,null,null,null,"Total",null,298377,1199,1149,1154,1145,1048,1133,1100,1061,1019,1014,1023,999,970,948,835,949,927]
["2015/16 Q3",{"$f":"VLOOKUP(J79,'Control Panel'!$O$3:$S$47,5,FALSE)","v":{"$error":"#N/A"}},null,null,"Parent Population","Author","Last Run",null,null,null,"Search","All Patients","(01) 12 MONTH COHORT","(01.01) DTaP/IPV/Hib","(01.02) Men B (1st and 2nd)","(01.03) PCV","(01.04) Rotavirus","(01.05) BCG","(02) 24 MONTH COHORT","(02.01) DTaP/IPV/Hib","(02.02) MMR","(02.03) HiB/Men C","(02.04) PCV (Booster)","(03) 5 YEAR COHORT","(03.01) DTaP/IPV/Hib","(03.02) MMR (Primary)","(03.03) DTaP/IPV (Booster)","(03.04) HiB/Men C","(03.05) MMR (Booster)"]
["2015/16 Q3",{"$f":"VLOOKUP(J80,'Control Panel'!$O$3:$S$47,5,FALSE)","v":"NW2"},null,null,"Currently registered patients","DUNNE, Jack (Mr)","2016-01-05T16:41:00",null,null,"F84081",null,12630,38,35,36,35,31,35,36,35,33,33,33,37,35,37,33,35,35]
["2015/16 Q3",{"$f":"VLOOKUP(J81,'Control Panel'!$O$3:$S$47,5,FALSE)","v":"NW3&4"},null,null,null,null,null,null,null,"F84079",null,9566,29,29,29,29,25,28,24,24,24,24,24,35,32,33,25,31,33]
["2015/16 Q3",{"$f":"VLOOKUP(J82,'Control Panel'!$O$3:$S$47,5,FALSE)","v":"NW3&4"},null,null,null,"Date Modified","Relative Date",null,null,"F84087",null,11268,57,56,56,56,53,54,58,56,54,55,55,52,47,48,45,48,49]
["2015/16 Q3",{"$f":"VLOOKUP(J83,'Control Panel'!$O$3:$S$47,5,FALSE)","v":"NW8"},null,null,null,"2016-01-04","2016-01-01",null,null,"F84710",null,11861,40,38,39,38,35,39,32,31,31,31,31,34,33,34,30,33,32]
["2015/16 Q3",{"$f":"VLOOKUP(J84,'Control Panel'!$O$3:$S$47,5,FALSE)","v":"NW1"},null,null,null,null,null,null,null,"F84083",null,8295,28,28,28,28,26,27,25,25,23,23,23,35,34,31,31,31,29]
["2015/16 Q3",{"$f":"VLOOKUP(J85,'Control Panel'!$O$3:$S$47,5,FALSE)","v":"NW3&4"},null,null,null,null,null,null,null,"F84031",null,11064,37,35,35,35,28,37,38,38,37,37,37,40,39,38,40,36,38]
["2015/16 Q3",{"$f":"VLOOKUP(J86,'Control Panel'!$O$3:$S$47,5,FALSE)","v":"NW5"},null,null,null,null,null,null,null,"F84044",null,5809,21,17,19,17,17,19,24,24,23,23,23,25,24,23,19,24,23]
["2015/16 Q3",{"$f":"VLOOKUP(J87,'Control Panel'!$O$3:$S$47,5,FALSE)","v":"NW7"},null,null,null,null,null,null,null,"F84054",null,10798,45,43,44,43,38,43,43,40,38,39,39,40,38,38,36,38,38]
["2015/16 Q3",{"$f":"VLOOKUP(J88,'Control Panel'!$O$3:$S$47,5,FALSE)","v":"NW7"},null,null,null,null,null,null,null,"F84062",null,14176,57,57,57,57,52,55,51,50,48,48,49,67,64,63,54,62,57]
["2015/16 Q3",{"$f":"VLOOKUP(J89,'Control Panel'!$O$3:$S$47,5,FALSE)","v":"NW5"},null,null,null,null,null,null,null,"F84034",null,12851,58,52,54,52,48,53,45,45,45,44,45,49,49,44,40,46,41]
["2015/16 Q3",{"$f":"VLOOKUP(J90,'Control Panel'!$O$3:$S$47,5,FALSE)","v":"NW1"},null,null,null,null,null,null,null,"F84016",null,11177,43,39,41,39,37,39,37,37,36,37,37,29,28,26,24,28,23]
["2015/16 Q3",{"$f":"VLOOKUP(J91,'Control Panel'!$O$3:$S$47,5,FALSE)","v":"NW3&4"},null,null,null,null,null,null,null,"F84731",null,1836,5,4,3,3,3,2,3,3,3,3,3,4,4,4,4,4,4]
["2015/16 Q3",{"$f":"VLOOKUP(J92,'Control Panel'!$O$3:$S$47,5,FALSE)","v":"NW6"},null,null,null,null,null,null,null,"F84676",null,4489,16,14,14,14,13,13,15,14,15,14,15,10,8,8,8,8,8]
["2015/16 Q3",{"$f":"VLOOKUP(J93,'Control Panel'!$O$3:$S$47,5,FALSE)","v":"NW8"},null,null,null,null,null,null,null,"F84656",null,7567,22,21,22,22,20,20,26,26,25,24,24,20,19,19,17,19,17]
["2015/16 Q3",{"$f":"VLOOKUP(J94,'Control Panel'!$O$3:$S$47,5,FALSE)","v":"NW8"},null,null,null,null,null,null,null,"F84647",null,6597,22,21,21,21,17,20,23,22,23,21,23,8,8,8,8,8,8]
["2015/16 Q3",{"$f":"VLOOKUP(J95,'Control Panel'!$O$3:$S$47,5,FALSE)","v":"NW3&4"},null,null,null,null,null,null,null,"F84682",null,10418,48,46,46,46,46,46,41,40,37,36,36,37,33,33,32,32,32]
["2015/16 Q3",{"$f":"VLOOKUP(J96,'Control Panel'!$O$3:$S$47,5,FALSE)","v":"NW5"},null,null,null,null,null,null,null,"F84030",null,2810,7,7,7,7,7,7,7,7,7,7,7,8,7,7,8,7,8]
["2015/16 Q3",{"$f":"VLOOKUP(J97,'Control Panel'!$O$3:$S$47,5,FALSE)","v":"NW6"},null,null,null,null,null,null,null,"Y03023",null,9999,31,31,31,31,27,31,58,54,52,49,51,42,40,38,36,37,35]
["2015/16 Q3",{"$f":"VLOOKUP(J98,'Control Panel'!$O$3:$S$47,5,FALSE)","v":"NW6"},null,null,null,null,null,null,null,"F84118",null,5191,17,16,16,16,15,16,5,4,5,4,5,12,12,12,12,12,12]
["2015/16 Q3",{"$f":"VLOOKUP(J99,'Control Panel'!$O$3:$S$47,5,FALSE)","v":"NW1"},null,null,null,null,null,null,null,"F84123",null,12215,34,30,30,30,28,31,29,29,25,26,25,36,34,33,28,33,31]
["2015/16 Q3",{"$f":"VLOOKUP(J100,'Control Panel'!$O$3:$S$47,5,FALSE)","v":"NW5"},null,null,null,null,null,null,null,"F84055",null,3720,12,12,12,12,12,10,5,5,5,5,5,7,6,6,6,6,6]
["2015/16 Q3",{"$f":"VLOOKUP(J101,'Control Panel'!$O$3:$S$47,5,FALSE)","v":"NW2"},null,null,null,null,null,null,null,"F84718",null,10977,42,38,38,38,37,36,31,30,28,29,28,31,28,28,27,28,28]
["2015/16 Q3",{"$f":"VLOOKUP(J102,'Control Panel'!$O$3:$S$47,5,FALSE)","v":"NW3&4"},null,null,null,null,null,null,null,"F84046",null,3391,17,17,17,17,17,17,8,8,7,7,7,13,13,13,13,13,13]
["2015/16 Q3",{"$f":"VLOOKUP(J103,'Control Panel'!$O$3:$S$47,5,FALSE)","v":"NW1"},null,null,null,null,null,null,null,"Y00212",null,4935,14,14,14,13,11,13,8,8,8,8,8,12,11,11,7,9,10]
["2015/16 Q3",{"$f":"VLOOKUP(J104,'Control Panel'!$O$3:$S$47,5,FALSE)","v":{"$error":"#N/A"}},null,null,null,null,null,null,null,"F841229B1F",null,8500,52,50,50,50,43,48,57,53,51,51,52,45,43,41,35,40,37]
["2015/16 Q3",{"$f":"VLOOKUP(J105,'Control Panel'!$O$3:$S$47,5,FALSE)","v":"NW1"},null,null,null,null,null,null,null,"F84051",null,3858,8,8,8,8,8,8,11,10,10,10,10,11,9,9,6,9,10]
["2015/16 Q3",{"$f":"VLOOKUP(J106,'Control Panel'!$O$3:$S$47,5,FALSE)","v":"NW7"},null,null,null,null,null,null,null,"F84698",null,6412,28,25,23,24,23,25,23,23,21,21,21,37,37,34,35,35,35]
["2015/16 Q3",{"$f":"VLOOKUP(J107,'Control Panel'!$O$3:$S$47,5,FALSE)","v":"NW3&4"},null,null,null,null,null,null,null,"F84039",null,8760,31,30,29,29,27,29,50,49,49,49,49,32,32,30,29,30,32]
["2015/16 Q3",{"$f":"VLOOKUP(J108,'Control Panel'!$O$3:$S$47,5,FALSE)","v":{"$error":"#N/A"}},null,null,null,null,null,null,null,"F84702",null,6122,26,25,26,25,25,25,21,20,17,19,19,27,26,24,23,24,22]
["2015/16 Q3",{"$f":"VLOOKUP(J109,'Control Panel'!$O$3:$S$47,5,FALSE)","v":"NW6"},null,null,null,null,null,null,null,"F84714",null,10651,40,38,39,38,35,39,32,30,31,31,29,37,36,35,35,36,35]
["2015/16 Q3",{"$f":"VLOOKUP(J110,'Control Panel'!$O$3:$S$47,5,FALSE)","v":"NW7"},null,null,null,null,null,null,null,"F84025",null,4768,23,22,22,22,18,19,19,19,19,18,19,25,25,20,20,19,23]
["2015/16 Q3",{"$f":"VLOOKUP(J111,'Control Panel'!$O$3:$S$47,5,FALSE)","v":"NW3&4"},null,null,null,null,null,null,null,"F84114",null,7587,31,31,31,31,14,31,21,21,20,20,21,11,11,10,9,10,10]
["2015/16 Q3",{"$f":"VLOOKUP(J112,'Control Panel'!$O$3:$S$47,5,FALSE)","v":"NW2"},null,null,null,null,null,null,null,"F84733",null,1295,0,0,0,0,0,0,0,0,0,0,0,0,0,0,0,0,0]
["2015/16 Q3",{"$f":"VLOOKUP(J113,'Control Panel'!$O$3:$S$47,5,FALSE)","v":"NW8"},null,null,null,null,null,null,null,"F84747",null,18976,105,99,99,99,92,101,90,86,86,85,87,64,63,60,55,60,60]
["2015/16 Q3",{"$f":"VLOOKUP(J114,'Control Panel'!$O$3:$S$47,5,FALSE)","v":"NW5"},null,null,null,null,null,null,null,"F84696",null,4501,10,8,8,8,7,8,8,8,8,7,8,18,18,15,17,15,17]
["2015/16 Q3",{"$f":"VLOOKUP(J115,'Control Panel'!$O$3:$S$47,5,FALSE)","v":"NW2"},null,null,null,null,null,null,null,"F84012",null,9004,32,30,31,30,27,32,43,42,41,41,41,26,26,25,19,21,19]
["2015/16 Q3",{"$f":"VLOOKUP(J116,'Control Panel'!$O$3:$S$47,5,FALSE)","v":{"$error":"#N/A"}},null,null,null,null,null,null,null,"F841229B1G",null,6501,27,26,26,26,23,26,26,23,22,23,23,26,25,24,21,40,37]
["2015/16 Q3",{"$f":"VLOOKUP(J117,'Control Panel'!$O$3:$S$47,5,FALSE)","v":0},null,null,null,null,null,null,null,"Total",null,300575,1153,1092,1101,1089,985,1082,1073,1039,1007,1002,1012,1042,997,962,887,967,947]
["2015/16 Q4",{"$f":"VLOOKUP(J118,'Control Panel'!$O$3:$S$47,5,FALSE)","v":{"$error":"#N/A"}},null,null,"Parent Population","Author","Last Run",null,null,null,"Search","All Patients","(01) 12 MONTH COHORT","(01.01) DTaP/IPV/Hib","(01.02) Men B (1st and 2nd)","(01.03) PCV","(01.04) Rotavirus","(01.05) BCG","(02) 24 MONTH COHORT","(02.01) DTaP/IPV/Hib","(02.02) MMR","(02.03) HiB/Men C","(02.04) PCV (Booster)","(03) 5 YEAR COHORT","(03.01) DTaP/IPV/Hib","(03.02) MMR (Primary)","(03.03) DTaP/IPV (Booster)","(03.04) HiB/Men C","(03.05) MMR (Booster)"]
["2015/16 Q4",{"$f":"VLOOKUP(J119,'Control Panel'!$O$3:$S$47,5,FALSE)","v":"NW2"},null,null,"Currently registered patients","DUNNE, Jack (Mr)","2016-04-04T11:35:00",null,null,"F84081",null,12738,53,51,51,51,50,53,37,37,36,36,34,27,27,26,26,25,26]
["2015/16 Q4",{"$f":"VLOOKUP(J120,'Control Panel'!$O$3:$S$47,5,FALSE)","v":"NW3&4"},null,null,null,null,null,null,null,"F84079",null,9591,33,32,32,32,30,32,25,23,22,22,22,33,31,31,24,31,31]
["2015/16 Q4",{"$f":"VLOOKUP(J121,'Control Panel'!$O$3:$S$47,5,FALSE)","v":"NW3&4"},null,null,null,"Date Modified","Relative Date",null,null,"F84087",null,11109,52,49,50,49,43,48,39,39,36,36,36,52,52,49,49,50,51]
["2015/16 Q4",{"$f":"VLOOKUP(J122,'Control Panel'!$O$3:$S$47,5,FALSE)","v":"NW8"},null,null,null,"2016-01-14","2016-04-01",null,null,"F84710",null,11943,30,29,29,29,27,30,37,35,35,32,35,23,22,22,14,21,21]
["2015/16 Q4",{"$f":"VLOOKUP(J123,'Control Panel'!$O$3:$S$47,5,FALSE)","v":"NW1"},null,null,null,null,null,null,null,"F84083",null,8321,24,24,24,24,24,23,27,26,24,24,25,18,16,16,13,16,16]
["2015/16 Q4",{"$f":"VLOOKUP(J124,'Control Panel'!$O$3:$S$47,5,FALSE)","v":"NW3&4"},null,null,null,null,null,null,null,"F84031",null,11116,41,41,41,41,37,41,36,36,35,35,35,36,34,33,34,33,34]
["2015/16 Q4",{"$f":"VLOOKUP(J125,'Control Panel'!$O$3:$S$47,5,FALSE)","v":"NW5"},null,null,null,null,null,null,null,"F84044",null,5883,20,19,20,20,17,20,20,20,20,20,20,13,13,13,11,13,13]
["2015/16 Q4",{"$f":"VLOOKUP(J126,'Control Panel'!$O$3:$S$47,5,FALSE)","v":"NW7"},null,null,null,null,null,null,null,"F84054",null,10913,43,40,41,40,38,41,47,46,45,45,45,27,26,26,26,26,26]
["2015/16 Q4",{"$f":"VLOOKUP(J127,'Control Panel'!$O$3:$S$47,5,FALSE)","v":"NW7"},null,null,null,null,null,null,null,"F84062",null,14036,67,62,62,62,54,61,63,58,55,56,56,60,58,58,52,57,55]
["2015/16 Q4",{"$f":"VLOOKUP(J128,'Control Panel'!$O$3:$S$47,5,FALSE)","v":"NW5"},null,null,null,null,null,null,null,"F84034",null,12909,49,49,49,49,46,49,44,43,41,42,42,42,42,39,39,39,39]
["2015/16 Q4",{"$f":"VLOOKUP(J129,'Control Panel'!$O$3:$S$47,5,FALSE)","v":"NW1"},null,null,null,null,null,null,null,"F84016",null,11383,44,41,42,41,36,39,32,30,29,30,30,41,40,38,35,39,36]
["2015/16 Q4",{"$f":"VLOOKUP(J130,'Control Panel'!$O$3:$S$47,5,FALSE)","v":"NW3&4"},null,null,null,null,null,null,null,"F84731",null,1885,4,4,4,4,4,4,3,3,3,3,3,0,0,0,0,0,0]
["2015/16 Q4",{"$f":"VLOOKUP(J131,'Control Panel'!$O$3:$S$47,5,FALSE)","v":"NW6"},null,null,null,null,null,null,null,"F84676",null,4438,24,22,23,22,23,22,24,24,23,23,23,15,15,15,13,15,13]
["2015/16 Q4",{"$f":"VLOOKUP(J132,'Control Panel'!$O$3:$S$47,5,FALSE)","v":"NW8"},null,null,null,null,null,null,null,"F84656",null,7714,26,26,26,26,25,26,19,19,19,19,19,19,18,17,17,16,18]
["2015/16 Q4",{"$f":"VLOOKUP(J133,'Control Panel'!$O$3:$S$47,5,FALSE)","v":"NW8"},null,null,null,null,null,null,null,"F84647",null,6407,19,18,18,19,15,15,19,19,19,18,19,11,11,11,11,11,11]
["2015/16 Q4",{"$f":"VLOOKUP(J134,'Control Panel'!$O$3:$S$47,5,FALSE)","v":"NW3&4"},null,null,null,null,null,null,null,"F84682",null,10531,49,42,44,42,38,43,33,31,30,31,31,33,32,33,25,31,27]
["2015/16 Q4",{"$f":"VLOOKUP(J135,'Control Panel'!$O$3:$S$47,5,FALSE)","v":"NW5"},null,null,null,null,null,null,null,"F84030",null,2915,8,8,8,8,7,8,11,11,11,11,11,12,11,12,10,11,10]
["2015/16 Q4",{"$f":"VLOOKUP(J136,'Control Panel'!$O$3:$S$47,5,FALSE)","v":"NW6"},null,null,null,null,null,null,null,"Y03023",null,10211,37,37,37,36,32,37,52,51,43,44,44,49,48,46,42,45,42]
["2015/16 Q4",{"$f":"VLOOKUP(J137,'Control Panel'!$O$3:$S$47,5,FALSE)","v":"NW6"},null,null,null,null,null,null,null,"F84118",null,5234,16,16,16,16,16,16,15,14,14,14,14,15,14,13,13,14,13]
["2015/16 Q4",{"$f":"VLOOKUP(J138,'Control Panel'!$O$3:$S$47,5,FALSE)","v":"NW1"},null,null,null,null,null,null,null,"F84123",null,12248,24,22,24,22,22,20,34,32,32,33,33,33,32,30,26,28,30]
["2015/16 Q4",{"$f":"VLOOKUP(J139,'Control Panel'!$O$3:$S$47,5,FALSE)","v":"NW5"},null,null,null,null,null,null,null,"F84055",null,3604,7,7,6,6,5,7,7,7,7,7,7,6,6,6,6,6,6]
["2015/16 Q4",{"$f":"VLOOKUP(J140,'Control Panel'!$O$3:$S$47,5,FALSE)","v":"NW2"},null,null,null,null,null,null,null,"F84718",null,11400,28,24,26,24,26,26,23,22,22,22,22,22,22,21,22,20,22]
["2015/16 Q4",{"$f":"VLOOKUP(J141,'Control Panel'!$O$3:$S$47,5,FALSE)","v":"NW3&4"},null,null,null,null,null,null,null,"F84046",null,3382,12,12,12,12,12,12,14,14,14,14,14,9,9,9,7,9,9]
["2015/16 Q4",{"$f":"VLOOKUP(J142,'Control Panel'!$O$3:$S$47,5,FALSE)","v":"NW1"},null,null,null,null,null,null,null,"Y00212",null,4988,7,6,7,6,7,7,9,9,9,9,9,12,11,11,10,9,11]
["2015/16 Q4",{"$f":"VLOOKUP(J143,'Control Panel'!$O$3:$S$47,5,FALSE)","v":{"$error":"#N/A"}},null,null,null,null,null,null,null,"F841229B1F",null,8625,58,57,57,55,47,55,60,57,52,53,53,34,34,34,31,34,30]
["2015/16 Q4",{"$f":"VLOOKUP(J144,'Control Panel'!$O$3:$S$47,5,FALSE)","v":"NW1"},null,null,null,null,null,null,null,"F84051",null,3827,5,5,5,5,5,5,6,6,6,6,6,1,1,1,1,1,1]
["2015/16 Q4",{"$f":"VLOOKUP(J145,'Control Panel'!$O$3:$S$47,5,FALSE)","v":"NW7"},null,null,null,null,null,null,null,"F84698",null,6548,31,30,30,30,29,30,20,19,18,18,18,20,19,17,14,18,17]
["2015/16 Q4",{"$f":"VLOOKUP(J146,'Control Panel'!$O$3:$S$47,5,FALSE)","v":"NW3&4"},null,null,null,null,null,null,null,"F84039",null,9039,27,27,27,27,27,26,33,32,31,31,30,28,27,28,26,28,28]
["2015/16 Q4",{"$f":"VLOOKUP(J147,'Control Panel'!$O$3:$S$47,5,FALSE)","v":{"$error":"#N/A"}},null,null,null,null,null,null,null,"F84702",null,6244,20,20,20,20,17,19,26,25,23,23,23,22,20,21,21,20,20]
["2015/16 Q4",{"$f":"VLOOKUP(J148,'Control Panel'!$O$3:$S$47,5,FALSE)","v":"NW6"},null,null,null,null,null,null,null,"F84714",null,10751,40,37,39,37,33,39,42,42,41,41,41,39,37,36,37,34,38]
["2015/16 Q4",{"$f":"VLOOKUP(J149,'Control Panel'!$O$3:$S$47,5,FALSE)","v":"NW7"},null,null,null,null,null,null,null,"F84025",null,4851,22,21,22,21,17,22,26,24,23,24,24,24,24,23,21,24,24]
["2015/16 Q4",{"$f":"VLOOKUP(J150,'Control Panel'!$O$3:$S$47,5,FALSE)","v":"NW3&4"},null,null,null,null,null,null,null,"F84114",null,7545,23,22,23,22,12,23,25,25,23,22,22,17,17,17,16,16,17]
["2015/16 Q4",{"$f":"VLOOKUP(J151,'Control Panel'!$O$3:$S$47,5,FALSE)","v":"NW2"},null,null,null,null,null,null,null,"F84733",null,1244,0,0,0,0,0,0,0,0,0,0,0,0,0,0,0,0,0]
["2015/16 Q4",{"$f":"VLOOKUP(J152,'Control Panel'!$O$3:$S$47,5,FALSE)","v":"NW8"},null,null,null,null,null,null,null,"F84747",null,18871,79,77,76,77,69,75,80,77,76,76,74,69,67,66,64,61,66]
["2015/16 Q4",{"$f":"VLOOKUP(J153,'Control Panel'!$O$3:$S$47,5,FALSE)","v":"NW5"},null,null,null,null,null,null,null,"F84696",null,4656,16,15,15,15,14,15,16,16,16,16,16,14,14,14,11,14,13]
["2015/16 Q4",{"$f":"VLOOKUP(J154,'Control Panel'!$O$3:$S$47,5,FALSE)","v":"NW2"},null,null,null,null,null,null,null,"F84012",null,9018,31,31,31,31,30,29,40,40,39,39,39,29,29,29,28,29,28]
["2015/16 Q4",{"$f":"VLOOKUP(J155,'Control Panel'!$O$3:$S$47,5,FALSE)","v":{"$error":"#N/A"}},null,null,null,null,null,null,null,"F841229B1G",null,6495,27,27,27,27,23,25,27,25,22,23,23,14,14,14,13,34,30]
["2015/16 Q4",{"$f":"VLOOKUP(J156,'Control Panel'!$O$3:$S$47,5,FALSE)","v":0},null,null,null,null,null,null,null,"Total",null,302613,1096,1050,1064,1048,957,1043,1071,1037,994,998,998,919,893,875,808,878,872]
["2016/17 Q1",{"$f":"VLOOKUP(J157,'Control Panel'!$O$3:$S$47,5,FALSE)","v":{"$error":"#N/A"}},null,null,"Parent Population","Author","Last Run",null,null,null,"Search","All Patients","(01) 12 MONTH COHORT","(01.01) DTaP/IPV/Hib","(01.02) Men B (1st and 2nd)","(01.03) PCV","(01.04) Rotavirus","(01.05) BCG","(02) 24 MONTH COHORT","(02.01) DTaP/IPV/Hib","(02.02) MMR","(02.03) HiB/Men C","(02.04) PCV (Booster)","(03) 5 YEAR COHORT","(03.01) DTaP/IPV/Hib","(03.02) MMR (Primary)","(03.03) DTaP/IPV (Booster)","(03.04) HiB/Men C","(03.05) MMR (Booster)"]
["2016/17 Q1",{"$f":"VLOOKUP(J158,'Control Panel'!$O$3:$S$47,5,FALSE)","v":"NW2"},null,null,"Currently registered patients","AHMED, Fatima (Miss)","2016-07-04T11:35:00",null,null,"F84081",null,13052,35,31,31,31,29,30,30,28,25,26,25,33,33,33,30,30,33]
["2016/17 Q1",{"$f":"VLOOKUP(J159,'Control Panel'!$O$3:$S$47,5,FALSE)","v":"NW3&4"},null,null,null,null,null,null,null,"F84079",null,9655,35,34,34,34,33,34,33,33,32,33,31,18,18,16,15,17,16]
["2016/17 Q1",{"$f":"VLOOKUP(J160,'Control Panel'!$O$3:$S$47,5,FALSE)","v":"NW3&4"},null,null,null,"Date Modified","Relative Date",null,null,"F84087",null,10272,39,37,37,37,36,34,43,42,41,41,41,42,40,42,37,41,39]
["2016/17 Q1",{"$f":"VLOOKUP(J161,'Control Panel'!$O$3:$S$47,5,FALSE)","v":"NW8"},null,null,null,"2016-05-09","2016-07-01",null,null,"F84710",null,12044,38,35,35,35,33,34,32,29,29,29,29,29,29,26,24,28,26]
["2016/17 Q1",{"$f":"VLOOKUP(J162,'Control Panel'!$O$3:$S$47,5,FALSE)","v":"NW1"},null,null,null,null,null,null,null,"F84083",null,8316,38,32,36,32,35,34,19,17,17,17,16,20,20,20,18,19,17]
["2016/17 Q1",{"$f":"VLOOKUP(J163,'Control Panel'!$O$3:$S$47,5,FALSE)","v":"NW3&4"},null,null,null,null,null,null,null,"F84031",null,11260,34,34,34,34,34,33,36,36,35,36,36,45,42,39,40,37,42]
["2016/17 Q1",{"$f":"VLOOKUP(J164,'Control Panel'!$O$3:$S$47,5,FALSE)","v":"NW5"},null,null,null,null,null,null,null,"F84044",null,5947,22,19,20,19,16,21,20,20,19,20,20,14,14,14,10,14,13]
["2016/17 Q1",{"$f":"VLOOKUP(J165,'Control Panel'!$O$3:$S$47,5,FALSE)","v":"NW7"},null,null,null,null,null,null,null,"F84054",null,10971,40,38,39,38,36,39,54,54,54,53,53,29,28,27,27,28,27]
["2016/17 Q1",{"$f":"VLOOKUP(J166,'Control Panel'!$O$3:$S$47,5,FALSE)","v":"NW7"},null,null,null,null,null,null,null,"F84062",null,14087,65,60,61,60,57,59,48,43,42,41,41,47,46,44,41,42,42]
["2016/17 Q1",{"$f":"VLOOKUP(J167,'Control Panel'!$O$3:$S$47,5,FALSE)","v":"NW5"},null,null,null,null,null,null,null,"F84034",null,12924,58,58,58,58,56,57,51,51,47,47,48,32,30,30,23,28,29]
["2016/17 Q1",{"$f":"VLOOKUP(J168,'Control Panel'!$O$3:$S$47,5,FALSE)","v":"NW1"},null,null,null,null,null,null,null,"F84016",null,11449,24,23,23,23,20,21,23,20,17,18,19,30,29,29,26,29,28]
["2016/17 Q1",{"$f":"VLOOKUP(J169,'Control Panel'!$O$3:$S$47,5,FALSE)","v":"NW3&4"},null,null,null,null,null,null,null,"F84731",null,1936,2,2,2,2,2,2,3,3,3,3,3,2,2,2,2,2,2]
["2016/17 Q1",{"$f":"VLOOKUP(J170,'Control Panel'!$O$3:$S$47,5,FALSE)","v":"NW6"},null,null,null,null,null,null,null,"F84676",null,4409,16,15,15,15,11,14,12,12,12,12,12,9,9,9,9,9,9]
["2016/17 Q1",{"$f":"VLOOKUP(J171,'Control Panel'!$O$3:$S$47,5,FALSE)","v":"NW8"},null,null,null,null,null,null,null,"F84656",null,7698,27,25,25,25,22,24,26,25,25,25,25,19,18,18,16,13,17]
["2016/17 Q1",{"$f":"VLOOKUP(J172,'Control Panel'!$O$3:$S$47,5,FALSE)","v":"NW8"},null,null,null,null,null,null,null,"F84647",null,6567,28,28,26,28,25,26,19,19,19,19,19,21,19,20,19,19,19]
["2016/17 Q1",{"$f":"VLOOKUP(J173,'Control Panel'!$O$3:$S$47,5,FALSE)","v":"NW3&4"},null,null,null,null,null,null,null,"F84682",null,10639,30,29,28,29,28,26,54,52,47,46,46,32,31,32,29,32,30]
["2016/17 Q1",{"$f":"VLOOKUP(J174,'Control Panel'!$O$3:$S$47,5,FALSE)","v":"NW5"},null,null,null,null,null,null,null,"F84030",null,2926,5,5,5,5,3,5,3,3,3,3,3,4,4,4,3,4,4]
["2016/17 Q1",{"$f":"VLOOKUP(J175,'Control Panel'!$O$3:$S$47,5,FALSE)","v":"NW6"},null,null,null,null,null,null,null,"Y03023",null,10561,40,38,38,38,35,38,35,33,32,33,33,37,34,35,26,32,29]
["2016/17 Q1",{"$f":"VLOOKUP(J176,'Control Panel'!$O$3:$S$47,5,FALSE)","v":"NW6"},null,null,null,null,null,null,null,"F84118",null,5219,17,17,17,17,12,16,9,9,9,8,9,8,8,8,8,7,8]
["2016/17 Q1",{"$f":"VLOOKUP(J177,'Control Panel'!$O$3:$S$47,5,FALSE)","v":"NW1"},null,null,null,null,null,null,null,"F84123",null,11762,22,21,21,21,19,22,25,24,24,24,24,29,28,28,24,28,26]
["2016/17 Q1",{"$f":"VLOOKUP(J178,'Control Panel'!$O$3:$S$47,5,FALSE)","v":"NW5"},null,null,null,null,null,null,null,"F84055",null,3644,10,10,10,10,10,10,9,8,7,7,7,4,4,4,3,4,4]
["2016/17 Q1",{"$f":"VLOOKUP(J179,'Control Panel'!$O$3:$S$47,5,FALSE)","v":"NW2"},null,null,null,null,null,null,null,"F84718",null,11649,33,31,31,31,27,32,33,33,31,32,31,30,27,30,28,28,29]
["2016/17 Q1",{"$f":"VLOOKUP(J180,'Control Panel'!$O$3:$S$47,5,FALSE)","v":"NW3&4"},null,null,null,null,null,null,null,"F84046",null,3416,11,11,11,11,10,11,6,6,6,6,6,10,10,10,7,10,10]
["2016/17 Q1",{"$f":"VLOOKUP(J181,'Control Panel'!$O$3:$S$47,5,FALSE)","v":"NW1"},null,null,null,null,null,null,null,"Y00212",null,4954,13,11,11,10,11,11,11,10,11,10,11,13,12,13,11,13,13]
["2016/17 Q1",{"$f":"VLOOKUP(J182,'Control Panel'!$O$3:$S$47,5,FALSE)","v":{"$error":"#N/A"}},null,null,null,null,null,null,null,"F841229B1F",null,8656,55,52,54,52,50,54,51,50,51,51,51,62,60,58,58,56,58]
["2016/17 Q1",{"$f":"VLOOKUP(J183,'Control Panel'!$O$3:$S$47,5,FALSE)","v":"NW1"},null,null,null,null,null,null,null,"F84051",null,3863,6,6,6,6,5,6,9,9,9,9,9,6,6,6,4,6,6]
["2016/17 Q1",{"$f":"VLOOKUP(J184,'Control Panel'!$O$3:$S$47,5,FALSE)","v":"NW7"},null,null,null,null,null,null,null,"F84698",null,6653,31,31,31,31,28,31,23,23,23,23,23,25,25,23,25,24,25]
["2016/17 Q1",{"$f":"VLOOKUP(J185,'Control Panel'!$O$3:$S$47,5,FALSE)","v":"NW3&4"},null,null,null,null,null,null,null,"F84039",null,9356,43,41,41,41,37,41,32,31,30,29,29,30,29,29,25,29,28]
["2016/17 Q1",{"$f":"VLOOKUP(J186,'Control Panel'!$O$3:$S$47,5,FALSE)","v":{"$error":"#N/A"}},null,null,null,null,null,null,null,"F84702",null,6337,19,19,19,19,18,17,35,32,31,31,32,33,30,29,27,30,28]
["2016/17 Q1",{"$f":"VLOOKUP(J187,'Control Panel'!$O$3:$S$47,5,FALSE)","v":"NW6"},null,null,null,null,null,null,null,"F84714",null,11028,41,38,37,36,31,35,42,41,39,40,40,39,37,35,35,36,35]
["2016/17 Q1",{"$f":"VLOOKUP(J188,'Control Panel'!$O$3:$S$47,5,FALSE)","v":"NW7"},null,null,null,null,null,null,null,"F84025",null,4909,19,17,17,18,17,17,22,22,21,22,22,18,18,16,15,15,15]
["2016/17 Q1",{"$f":"VLOOKUP(J189,'Control Panel'!$O$3:$S$47,5,FALSE)","v":"NW3&4"},null,null,null,null,null,null,null,"F84114",null,7301,25,18,22,18,10,21,16,15,15,15,15,26,26,25,21,23,24]
["2016/17 Q1",{"$f":"VLOOKUP(J190,'Control Panel'!$O$3:$S$47,5,FALSE)","v":"NW2"},null,null,null,null,null,null,null,"F84733",null,1236,0,0,0,0,0,0,0,0,0,0,0,0,0,0,0,0,0]
["2016/17 Q1",{"$f":"VLOOKUP(J191,'Control Panel'!$O$3:$S$47,5,FALSE)","v":"NW8"},null,null,null,null,null,null,null,"F84747",null,19231,80,73,71,73,70,69,91,85,83,84,84,68,65,61,52,56,51]
["2016/17 Q1",{"$f":"VLOOKUP(J192,'Control Panel'!$O$3:$S$47,5,FALSE)","v":"NW5"},null,null,null,null,null,null,null,"F84696",null,4793,26,24,24,24,24,24,14,14,14,14,14,5,5,5,5,5,5]
["2016/17 Q1",{"$f":"VLOOKUP(J193,'Control Panel'!$O$3:$S$47,5,FALSE)","v":"NW2"},null,null,null,null,null,null,null,"F84012",null,9022,36,35,35,35,30,33,32,29,26,27,27,18,18,18,15,17,18]
["2016/17 Q1",{"$f":"VLOOKUP(J194,'Control Panel'!$O$3:$S$47,5,FALSE)","v":{"$error":"#N/A"}},null,null,null,null,null,null,null,"F841229B1G",null,6477,24,24,24,24,23,24,26,26,26,26,26,25,24,24,24,56,58]
["2016/17 Q1",{"$f":"VLOOKUP(J195,'Control Panel'!$O$3:$S$47,5,FALSE)","v":0},null,null,null,null,null,null,null,"Total",null,304219,1087,1022,1029,1020,943,1005,1027,987,955,960,960,912,878,862,782,867,863]
["2016/17 Q2",{"$f":"VLOOKUP(J196,'Control Panel'!$O$3:$S$47,5,FALSE)","v":{"$error":"#N/A"}},"Childhood Immunisations Q2",null,"Last Run:",null,"Patient Count",323907,null,null,"Search","All Patients","(01) 12 MONTH COHORT","(01.01) DTaP/IPV/Hib","(01.02) Men B (1st and 2nd)","(01.03) PCV","(01.04) Rotavirus","(01.05) BCG","(02) 24 MONTH COHORT","(02.01) DTaP/IPV/Hib","(02.02) MMR","(02.03) HiB/Men C","(02.04) PCV (Booster)","(03) 5 YEAR COHORT","(03.01) DTaP/IPV/Hib","(03.02) MMR (Primary)","(03.03) DTaP/IPV (Booster)","(03.04) HiB/Men C","(03.05) MMR (Booster)"]
["2016/17 Q2",{"$f":"VLOOKUP(J197,'Control Panel'!$O$3:$S$47,5,FALSE)","v":{"$error":"#N/A"}},null,null,"2016-10-26T15:02:00",null,"Males",166139,null,"Organisation Code"]
["2016/17 Q2",{"$f":"VLOOKUP(J198,'Control Panel'!$O$3:$S$47,5,FALSE)","v":"NW2"},null,null,"Relative Date:",null,"Females",157768,null,"F84012",null,9064,25,25,25,24,24,25,33,33,33,33,33,27,27,27,26,27,27]
["2016/17 Q2",{"$f":"VLOOKUP(J199,'Control Panel'!$O$3:$S$47,5,FALSE)","v":"NW1"},null,null,"2016-10-01",null,null,null,null,"F84016",null,11613,30,29,28,29,26,27,23,23,22,21,22,46,46,45,44,45,43]
["2016/17 Q2",{"$f":"VLOOKUP(J200,'Control Panel'!$O$3:$S$47,5,FALSE)","v":"NW7"},null,null,null,null,null,null,null,"F84025",null,4965,19,18,18,19,12,13,18,17,16,16,16,25,25,23,24,22,24]
["2016/17 Q2",{"$f":"VLOOKUP(J201,'Control Panel'!$O$3:$S$47,5,FALSE)","v":"NW5"},null,null,null,null,null,null,null,"F84030",null,2939,7,6,6,6,4,7,10,10,10,10,10,4,4,4,4,4,4]
["2016/17 Q2",{"$f":"VLOOKUP(J202,'Control Panel'!$O$3:$S$47,5,FALSE)","v":"NW3&4"},null,null,null,null,null,null,null,"F84031",null,11287,43,42,42,42,40,42,35,33,32,32,33,31,31,31,29,30,30]
["2016/17 Q2",{"$f":"VLOOKUP(J203,'Control Panel'!$O$3:$S$47,5,FALSE)","v":"NW5"},null,null,null,null,null,null,null,"F84034",null,12900,51,50,49,50,49,46,38,38,36,36,36,33,33,32,32,30,32]
["2016/17 Q2",{"$f":"VLOOKUP(J204,'Control Panel'!$O$3:$S$47,5,FALSE)","v":"NW3&4"},null,null,null,null,null,null,null,"F84039",null,9709,45,40,40,41,37,40,38,37,37,37,36,40,40,37,35,37,37]
["2016/17 Q2",{"$f":"VLOOKUP(J205,'Control Panel'!$O$3:$S$47,5,FALSE)","v":"NW5"},null,null,null,null,null,null,null,"F84044",null,5955,14,14,14,14,13,14,25,24,24,24,24,22,22,21,19,21,21]
["2016/17 Q2",{"$f":"VLOOKUP(J206,'Control Panel'!$O$3:$S$47,5,FALSE)","v":"NW3&4"},null,null,null,null,null,null,null,"F84046",null,3455,9,9,9,9,8,9,8,8,8,8,8,11,10,11,11,11,11]
["2016/17 Q2",{"$f":"VLOOKUP(J207,'Control Panel'!$O$3:$S$47,5,FALSE)","v":"NW1"},null,null,null,null,null,null,null,"F84051",null,3913,12,11,10,11,11,10,11,11,11,11,11,14,14,14,11,13,13]
["2016/17 Q2",{"$f":"VLOOKUP(J208,'Control Panel'!$O$3:$S$47,5,FALSE)","v":"NW7"},null,null,null,null,null,null,null,"F84054",null,10954,42,42,41,42,40,40,37,36,34,34,34,39,38,39,36,38,37]
["2016/17 Q2",{"$f":"VLOOKUP(J209,'Control Panel'!$O$3:$S$47,5,FALSE)","v":"NW5"},null,null,null,null,null,null,null,"F84055",null,3585,13,11,11,11,11,12,11,11,11,11,11,9,9,7,7,7,8]
["2016/17 Q2",{"$f":"VLOOKUP(J210,'Control Panel'!$O$3:$S$47,5,FALSE)","v":"NW7"},null,null,null,null,null,null,null,"F84062",null,14083,52,48,49,48,48,51,49,47,47,47,47,70,69,66,59,66,61]
["2016/17 Q2",{"$f":"VLOOKUP(J211,'Control Panel'!$O$3:$S$47,5,FALSE)","v":"NW3&4"},null,null,null,null,null,null,null,"F84079",null,9966,43,41,42,41,41,40,38,37,35,35,35,25,25,25,21,24,24]
["2016/17 Q2",{"$f":"VLOOKUP(J212,'Control Panel'!$O$3:$S$47,5,FALSE)","v":"NW2"},null,null,null,null,null,null,null,"F84081",null,13200,37,35,36,35,29,35,31,31,30,30,30,31,30,29,30,29,30]
["2016/17 Q2",{"$f":"VLOOKUP(J213,'Control Panel'!$O$3:$S$47,5,FALSE)","v":"NW1"},null,null,null,null,null,null,null,"F84083",null,8323,37,35,36,34,34,34,29,27,26,26,26,22,22,20,13,19,17]
["2016/17 Q2",{"$f":"VLOOKUP(J214,'Control Panel'!$O$3:$S$47,5,FALSE)","v":"NW3&4"},null,null,null,null,null,null,null,"F84087",null,10232,39,37,38,37,32,38,41,38,38,38,38,46,44,45,40,45,42]
["2016/17 Q2",{"$f":"VLOOKUP(J215,'Control Panel'!$O$3:$S$47,5,FALSE)","v":"NW3&4"},null,null,null,null,null,null,null,"F84114",null,7020,24,24,24,24,17,23,23,23,23,22,23,15,15,15,14,14,15]
["2016/17 Q2",{"$f":"VLOOKUP(J216,'Control Panel'!$O$3:$S$47,5,FALSE)","v":"NW6"},null,null,null,null,null,null,null,"F84118",null,5272,16,16,16,16,13,15,17,17,17,16,16,13,13,13,13,12,13]
["2016/17 Q2",{"$f":"VLOOKUP(J217,'Control Panel'!$O$3:$S$47,5,FALSE)","v":{"$error":"#N/A"}},null,null,null,null,null,null,null,"F841229B1F",null,8669,24,23,22,23,20,23,31,29,28,28,28,27,27,25,25,22,24]
["2016/17 Q2",{"$f":"VLOOKUP(J218,'Control Panel'!$O$3:$S$47,5,FALSE)","v":"NW1"},null,null,null,null,null,null,null,"F84123",null,12560,32,29,30,29,26,30,21,20,19,19,19,36,36,36,35,34,36]
["2016/17 Q2",{"$f":"VLOOKUP(J219,'Control Panel'!$O$3:$S$47,5,FALSE)","v":"NW8"},null,null,null,null,null,null,null,"F84647",null,6778,19,17,17,17,16,17,23,23,19,21,17,19,19,18,19,18,19]
["2016/17 Q2",{"$f":"VLOOKUP(J220,'Control Panel'!$O$3:$S$47,5,FALSE)","v":"NW8"},null,null,null,null,null,null,null,"F84656",null,7891,27,27,26,27,25,27,29,29,26,26,26,21,20,21,19,18,19]
["2016/17 Q2",{"$f":"VLOOKUP(J221,'Control Panel'!$O$3:$S$47,5,FALSE)","v":"NW6"},null,null,null,null,null,null,null,"F84676",null,4403,22,22,22,22,21,22,18,17,16,17,17,13,13,12,9,12,10]
["2016/17 Q2",{"$f":"VLOOKUP(J222,'Control Panel'!$O$3:$S$47,5,FALSE)","v":"NW3&4"},null,null,null,null,null,null,null,"F84682",null,10184,36,32,33,32,31,29,51,47,45,44,45,39,38,37,30,36,33]
["2016/17 Q2",{"$f":"VLOOKUP(J223,'Control Panel'!$O$3:$S$47,5,FALSE)","v":"NW5"},null,null,null,null,null,null,null,"F84696",null,4883,15,15,15,15,14,13,22,20,19,18,18,15,15,14,10,14,10]
["2016/17 Q2",{"$f":"VLOOKUP(J224,'Control Panel'!$O$3:$S$47,5,FALSE)","v":"NW7"},null,null,null,null,null,null,null,"F84698",null,6805,34,34,34,34,28,32,34,34,32,30,31,27,27,24,24,23,26]
["2016/17 Q2",{"$f":"VLOOKUP(J225,'Control Panel'!$O$3:$S$47,5,FALSE)","v":{"$error":"#N/A"}},null,null,null,null,null,null,null,"F84702",null,6529,30,25,27,26,25,26,36,35,31,33,33,23,22,22,17,21,17]
["2016/17 Q2",{"$f":"VLOOKUP(J226,'Control Panel'!$O$3:$S$47,5,FALSE)","v":"NW8"},null,null,null,null,null,null,null,"F84710",null,12109,46,46,46,46,41,45,41,39,40,39,39,26,25,24,25,25,26]
["2016/17 Q2",{"$f":"VLOOKUP(J227,'Control Panel'!$O$3:$S$47,5,FALSE)","v":"NW6"},null,null,null,null,null,null,null,"F84714",null,11054,40,38,38,38,38,37,48,47,46,47,47,38,38,37,37,36,38]
["2016/17 Q2",{"$f":"VLOOKUP(J228,'Control Panel'!$O$3:$S$47,5,FALSE)","v":"NW2"},null,null,null,null,null,null,null,"F84718",null,11915,44,44,44,44,42,44,43,43,41,42,41,23,22,23,21,21,23]
["2016/17 Q2",{"$f":"VLOOKUP(J229,'Control Panel'!$O$3:$S$47,5,FALSE)","v":"NW3&4"},null,null,null,null,null,null,null,"F84731",null,1928,4,4,4,4,4,3,6,6,5,4,5,1,1,1,1,1,1]
["2016/17 Q2",{"$f":"VLOOKUP(J230,'Control Panel'!$O$3:$S$47,5,FALSE)","v":"NW2"},null,null,null,null,null,null,null,"F84733",null,1239,0,0,0,0,0,0,0,0,0,0,0,0,0,0,0,0,0]
["2016/17 Q2",{"$f":"VLOOKUP(J231,'Control Panel'!$O$3:$S$47,5,FALSE)","v":"NW8"},null,null,null,null,null,null,null,"F84747",null,19507,93,89,87,90,83,90,77,75,72,72,73,66,66,61,60,58,59]
["2016/17 Q2",{"$f":"VLOOKUP(J232,'Control Panel'!$O$3:$S$47,5,FALSE)","v":"NW1"},null,null,null,null,null,null,null,"Y00212",null,4941,19,16,18,16,16,18,14,13,9,11,11,15,14,14,10,13,14]
["2016/17 Q2",{"$f":"VLOOKUP(J233,'Control Panel'!$O$3:$S$47,5,FALSE)","v":"NW6"},null,null,null,null,null,null,null,"Y03023",null,10778,46,46,46,46,44,46,54,51,45,47,47,37,36,34,27,34,29]
["2016/17 Q2",{"$f":"VLOOKUP(J234,'Control Panel'!$O$3:$S$47,5,FALSE)","v":{"$error":"#N/A"}},null,null,null,null,null,null,null,"F841229B1G",null,6442,19,18,19,18,16,19,27,26,25,25,25,37,36,36,32,36,34]
["2016/17 Q2",{"$f":"VLOOKUP(J235,'Control Panel'!$O$3:$S$47,5,FALSE)","v":0},null,null,null,null,null,null,null,"Total",null,307050,1108,1058,1062,1060,979,1042,1090,1055,1008,1010,1011,986,972,943,869,916,907]
["2016/17 Q3",{"$f":"VLOOKUP(J236,'Control Panel'!$O$3:$S$47,5,FALSE)","v":{"$error":"#N/A"}},"Childhood Immunisations Q3",null,"Last Run:",null,"Patient Count",328347,null,null,"Search","All Patients","(01) 12 MONTH COHORT","(01.01) DTaP/IPV/Hib","(01.02) Men B (1st and 2nd)","(01.03) PCV","(01.04) Rotavirus","(01.05) BCG","(02) 24 MONTH COHORT","(02.01) DTaP/IPV/Hib","(02.02) MMR","(02.03) HiB/Men C","(02.04) PCV (Booster)","(03) 5 YEAR COHORT","(03.01) DTaP/IPV/Hib","(03.02) MMR (Primary)","(03.03) DTaP/IPV (Booster)","(03.04) HiB/Men C","(03.05) MMR (Booster)"]
["2016/17 Q3",{"$f":"VLOOKUP(J237,'Control Panel'!$O$3:$S$47,5,FALSE)","v":{"$error":"#N/A"}},null,null,"2017-01-03T10:49:00",null,"Males",168360,null,"Organisation Code"]
["2016/17 Q3",{"$f":"VLOOKUP(J238,'Control Panel'!$O$3:$S$47,5,FALSE)","v":"NW2"},null,null,"Relative Date:",null,"Females",159987,null,"F84012",null,9146,36,36,35,36,34,36,32,32,32,32,32,31,31,31,30,29,31]
["2016/17 Q3",{"$f":"VLOOKUP(J239,'Control Panel'!$O$3:$S$47,5,FALSE)","v":"NW1"},null,null,"2017-01-01",null,null,null,null,"F84016",null,11632,42,40,37,39,34,40,41,40,39,39,39,33,31,32,27,31,30]
["2016/17 Q3",{"$f":"VLOOKUP(J240,'Control Panel'!$O$3:$S$47,5,FALSE)","v":"NW7"},null,null,null,null,null,null,null,"F84025",null,5007,26,24,23,24,18,24,23,22,22,22,22,26,24,22,25,25,24]
["2016/17 Q3",{"$f":"VLOOKUP(J241,'Control Panel'!$O$3:$S$47,5,FALSE)","v":"NW5"},null,null,null,null,null,null,null,"F84030",null,2956,7,7,7,7,6,7,6,6,5,5,5,9,9,9,9,9,9]
["2016/17 Q3",{"$f":"VLOOKUP(J242,'Control Panel'!$O$3:$S$47,5,FALSE)","v":"NW3&4"},null,null,null,null,null,null,null,"F84031",null,11442,45,44,44,44,43,45,37,36,33,36,36,41,40,38,39,39,40]
["2016/17 Q3",{"$f":"VLOOKUP(J243,'Control Panel'!$O$3:$S$47,5,FALSE)","v":"NW5"},null,null,null,null,null,null,null,"F84034",null,13014,58,57,56,57,56,54,55,51,48,48,49,46,44,39,41,43,39]
["2016/17 Q3",{"$f":"VLOOKUP(J244,'Control Panel'!$O$3:$S$47,5,FALSE)","v":"NW3&4"},null,null,null,null,null,null,null,"F84039",null,10154,48,46,45,46,43,45,32,31,30,30,30,40,40,40,37,39,40]
["2016/17 Q3",{"$f":"VLOOKUP(J245,'Control Panel'!$O$3:$S$47,5,FALSE)","v":"NW5"},null,null,null,null,null,null,null,"F84044",null,6059,18,17,17,17,15,17,23,22,20,20,20,9,9,9,8,9,8]
["2016/17 Q3",{"$f":"VLOOKUP(J246,'Control Panel'!$O$3:$S$47,5,FALSE)","v":"NW3&4"},null,null,null,null,null,null,null,"F84046",null,3438,14,14,14,14,14,13,18,18,18,18,18,14,14,14,14,14,14]
["2016/17 Q3",{"$f":"VLOOKUP(J247,'Control Panel'!$O$3:$S$47,5,FALSE)","v":"NW1"},null,null,null,null,null,null,null,"F84051",null,3998,8,8,7,8,6,6,8,8,8,8,8,15,15,14,8,14,13]
["2016/17 Q3",{"$f":"VLOOKUP(J248,'Control Panel'!$O$3:$S$47,5,FALSE)","v":"NW7"},null,null,null,null,null,null,null,"F84054",null,11056,48,45,46,45,43,46,38,38,36,38,38,38,37,38,36,37,37]
["2016/17 Q3",{"$f":"VLOOKUP(J249,'Control Panel'!$O$3:$S$47,5,FALSE)","v":"NW5"},null,null,null,null,null,null,null,"F84055",null,3606,11,10,10,10,10,10,9,9,9,9,9,8,8,8,7,8,7]
["2016/17 Q3",{"$f":"VLOOKUP(J250,'Control Panel'!$O$3:$S$47,5,FALSE)","v":"NW7"},null,null,null,null,null,null,null,"F84062",null,14243,54,51,51,50,49,50,54,52,46,47,47,62,59,57,44,56,49]
["2016/17 Q3",{"$f":"VLOOKUP(J251,'Control Panel'!$O$3:$S$47,5,FALSE)","v":"NW3&4"},null,null,null,null,null,null,null,"F84079",null,9805,37,34,34,36,35,33,27,27,24,25,25,25,25,25,22,25,24]
["2016/17 Q3",{"$f":"VLOOKUP(J252,'Control Panel'!$O$3:$S$47,5,FALSE)","v":"NW2"},null,null,null,null,null,null,null,"F84081",null,13346,34,32,32,32,31,30,35,34,33,32,33,36,36,35,35,34,34]
["2016/17 Q3",{"$f":"VLOOKUP(J253,'Control Panel'!$O$3:$S$47,5,FALSE)","v":"NW1"},null,null,null,null,null,null,null,"F84083",null,8306,25,24,24,24,24,25,26,26,25,26,25,30,29,30,23,28,25]
["2016/17 Q3",{"$f":"VLOOKUP(J254,'Control Panel'!$O$3:$S$47,5,FALSE)","v":"NW3&4"},null,null,null,null,null,null,null,"F84087",null,10460,49,46,45,46,45,43,45,45,45,45,45,53,52,50,40,49,46]
["2016/17 Q3",{"$f":"VLOOKUP(J255,'Control Panel'!$O$3:$S$47,5,FALSE)","v":"NW3&4"},null,null,null,null,null,null,null,"F84114",null,6781,26,25,25,25,19,24,26,26,26,26,26,14,14,14,10,14,13]
["2016/17 Q3",{"$f":"VLOOKUP(J256,'Control Panel'!$O$3:$S$47,5,FALSE)","v":"NW6"},null,null,null,null,null,null,null,"F84118",null,5291,13,13,13,13,13,13,14,13,12,12,12,13,13,12,12,11,12]
["2016/17 Q3",{"$f":"VLOOKUP(J257,'Control Panel'!$O$3:$S$47,5,FALSE)","v":{"$error":"#N/A"}},null,null,null,null,null,null,null,"F841229B1F",null,8589,32,30,30,30,29,29,29,28,28,28,27,23,22,21,20,21,22]
["2016/17 Q3",{"$f":"VLOOKUP(J258,'Control Panel'!$O$3:$S$47,5,FALSE)","v":"NW1"},null,null,null,null,null,null,null,"F84123",null,13103,28,23,23,25,21,23,36,34,32,33,33,40,39,36,36,36,36]
["2016/17 Q3",{"$f":"VLOOKUP(J259,'Control Panel'!$O$3:$S$47,5,FALSE)","v":"NW8"},null,null,null,null,null,null,null,"F84647",null,7047,21,21,20,21,20,19,22,21,19,18,18,17,17,17,16,15,16]
["2016/17 Q3",{"$f":"VLOOKUP(J260,'Control Panel'!$O$3:$S$47,5,FALSE)","v":"NW8"},null,null,null,null,null,null,null,"F84656",null,8012,28,26,25,25,25,27,26,25,26,25,26,26,25,24,26,24,25]
["2016/17 Q3",{"$f":"VLOOKUP(J261,'Control Panel'!$O$3:$S$47,5,FALSE)","v":"NW6"},null,null,null,null,null,null,null,"F84676",null,4392,20,19,18,19,19,19,13,12,10,10,10,17,17,17,17,17,17]
["2016/17 Q3",{"$f":"VLOOKUP(J262,'Control Panel'!$O$3:$S$47,5,FALSE)","v":"NW3&4"},null,null,null,null,null,null,null,"F84682",null,10495,41,40,39,40,36,38,46,45,37,36,37,36,33,32,20,32,27]
["2016/17 Q3",{"$f":"VLOOKUP(J263,'Control Panel'!$O$3:$S$47,5,FALSE)","v":"NW5"},null,null,null,null,null,null,null,"F84696",null,4993,21,20,19,20,19,20,10,8,8,8,8,14,14,14,9,14,9]
["2016/17 Q3",{"$f":"VLOOKUP(J264,'Control Panel'!$O$3:$S$47,5,FALSE)","v":"NW7"},null,null,null,null,null,null,null,"F84698",null,7002,21,19,18,20,17,20,30,25,23,24,23,24,24,24,23,21,22]
["2016/17 Q3",{"$f":"VLOOKUP(J265,'Control Panel'!$O$3:$S$47,5,FALSE)","v":{"$error":"#N/A"}},null,null,null,null,null,null,null,"F84702",null,6632,22,20,18,20,15,20,20,18,16,16,16,27,27,25,24,24,23]
["2016/17 Q3",{"$f":"VLOOKUP(J266,'Control Panel'!$O$3:$S$47,5,FALSE)","v":"NW8"},null,null,null,null,null,null,null,"F84710",null,12200,45,44,42,44,43,40,36,36,34,34,34,31,30,29,29,26,29]
["2016/17 Q3",{"$f":"VLOOKUP(J267,'Control Panel'!$O$3:$S$47,5,FALSE)","v":"NW6"},null,null,null,null,null,null,null,"F84714",null,11176,48,46,45,46,45,46,44,42,42,42,41,47,46,45,44,45,44]
["2016/17 Q3",{"$f":"VLOOKUP(J268,'Control Panel'!$O$3:$S$47,5,FALSE)","v":"NW2"},null,null,null,null,null,null,null,"F84718",null,12267,31,30,31,30,31,29,39,35,34,34,33,35,31,31,28,30,30]
["2016/17 Q3",{"$f":"VLOOKUP(J269,'Control Panel'!$O$3:$S$47,5,FALSE)","v":"NW3&4"},null,null,null,null,null,null,null,"F84731",null,1960,13,12,13,13,12,11,2,2,2,2,2,3,3,3,1,3,2]
["2016/17 Q3",{"$f":"VLOOKUP(J270,'Control Panel'!$O$3:$S$47,5,FALSE)","v":"NW2"},null,null,null,null,null,null,null,"F84733",null,1232,0,0,0,0,0,0,0,0,0,0,0,0,0,0,0,0,0]
["2016/17 Q3",{"$f":"VLOOKUP(J271,'Control Panel'!$O$3:$S$47,5,FALSE)","v":"NW8"},null,null,null,null,null,null,null,"F84747",null,19888,86,84,81,84,78,80,86,80,74,77,77,55,52,49,50,45,49]
["2016/17 Q3",{"$f":"VLOOKUP(J272,'Control Panel'!$O$3:$S$47,5,FALSE)","v":"NW1"},null,null,null,null,null,null,null,"Y00212",null,4946,19,17,18,17,16,18,16,15,14,15,15,20,19,20,16,19,18]
["2016/17 Q3",{"$f":"VLOOKUP(J273,'Control Panel'!$O$3:$S$47,5,FALSE)","v":"NW6"},null,null,null,null,null,null,null,"Y03023",null,11072,42,39,39,40,37,40,29,29,28,28,28,40,37,36,34,36,34]
["2016/17 Q3",{"$f":"VLOOKUP(J274,'Control Panel'!$O$3:$S$47,5,FALSE)","v":{"$error":"#N/A"}},null,null,null,null,null,null,null,"F841229B1G",null,6385,27,26,26,26,21,26,24,24,23,24,24,30,28,28,28,27,28]
["2016/17 Q3",{"$f":"VLOOKUP(J275,'Control Panel'!$O$3:$S$47,5,FALSE)","v":0},null,null,null,null,null,null,null,"Total",null,311131,1144,1089,1070,1093,1022,1066,1057,1015,961,972,971,1028,994,968,888,949,926]
["2016/17 Q4",{"$f":"VLOOKUP(J276,'Control Panel'!$O$3:$S$47,5,FALSE)","v":{"$error":"#N/A"}},"Childhood Immunisations Q4",null,"Last Run:",null,"Patient Count",328986,null,null,"Search","All Patients","(01) 12 MONTH COHORT","(01.01) DTaP/IPV/Hib","(01.02) Men B (1st and 2nd)","(01.03) PCV","(01.04) Rotavirus","(01.05) BCG","(02) 24 MONTH COHORT","(02.01) DTaP/IPV/Hib","(02.02) MMR","(02.03) HiB/Men C","(02.04) PCV (Booster)","(03) 5 YEAR COHORT","(03.01) DTaP/IPV/Hib","(03.02) MMR (Primary)","(03.03) DTaP/IPV (Booster)","(03.04) HiB/Men C","(03.05) MMR (Booster)"]
["2016/17 Q4",{"$f":"VLOOKUP(J277,'Control Panel'!$O$3:$S$47,5,FALSE)","v":{"$error":"#N/A"}},null,null,"2017-04-04T11:24:00",null,"Males",168604,null,"Organisation Code"]
["2016/17 Q4",{"$f":"VLOOKUP(J278,'Control Panel'!$O$3:$S$47,5,FALSE)","v":"NW2"},null,null,"Relative Date:",null,"Females",160382,null,"F84012",null,9138,27,27,23,27,23,24,27,26,27,27,27,29,29,28,28,24,28]
["2016/17 Q4",{"$f":"VLOOKUP(J279,'Control Panel'!$O$3:$S$47,5,FALSE)","v":"NW1"},null,null,"2017-04-01",null,null,null,null,"F84016",null,11389,28,26,26,26,25,21,38,38,35,38,38,33,32,32,28,32,30]
["2016/17 Q4",{"$f":"VLOOKUP(J280,'Control Panel'!$O$3:$S$47,5,FALSE)","v":"NW7"},null,null,null,null,null,null,null,"F84025",null,5066,24,22,17,22,20,23,25,25,24,23,24,17,16,15,16,16,15]
["2016/17 Q4",{"$f":"VLOOKUP(J281,'Control Panel'!$O$3:$S$47,5,FALSE)","v":"NW5"},null,null,null,null,null,null,null,"F84030",null,2998,10,9,9,9,8,10,7,7,5,5,5,8,8,8,8,8,8]
["2016/17 Q4",{"$f":"VLOOKUP(J282,'Control Panel'!$O$3:$S$47,5,FALSE)","v":"NW3&4"},null,null,null,null,null,null,null,"F84031",null,11556,34,32,23,33,31,32,37,37,36,36,35,39,38,39,38,38,38]
["2016/17 Q4",{"$f":"VLOOKUP(J283,'Control Panel'!$O$3:$S$47,5,FALSE)","v":"NW5"},null,null,null,null,null,null,null,"F84034",null,13090,48,47,43,47,44,44,48,48,48,47,47,41,41,40,36,38,37]
["2016/17 Q4",{"$f":"VLOOKUP(J284,'Control Panel'!$O$3:$S$47,5,FALSE)","v":"NW3&4"},null,null,null,null,null,null,null,"F84039",null,10590,27,27,19,27,24,26,26,26,25,25,25,30,30,27,27,26,28]
["2016/17 Q4",{"$f":"VLOOKUP(J285,'Control Panel'!$O$3:$S$47,5,FALSE)","v":"NW5"},null,null,null,null,null,null,null,"F84044",null,6166,20,19,18,19,19,18,19,19,15,16,17,18,17,17,14,17,15]
["2016/17 Q4",{"$f":"VLOOKUP(J286,'Control Panel'!$O$3:$S$47,5,FALSE)","v":"NW3&4"},null,null,null,null,null,null,null,"F84046",null,3392,10,9,7,9,8,9,11,11,11,11,11,15,14,15,15,14,15]
["2016/17 Q4",{"$f":"VLOOKUP(J287,'Control Panel'!$O$3:$S$47,5,FALSE)","v":"NW1"},null,null,null,null,null,null,null,"F84051",null,4036,8,7,7,7,7,7,5,5,5,5,5,9,9,9,7,9,9]
["2016/17 Q4",{"$f":"VLOOKUP(J288,'Control Panel'!$O$3:$S$47,5,FALSE)","v":"NW7"},null,null,null,null,null,null,null,"F84054",null,11171,37,34,28,34,29,32,37,35,33,34,34,36,36,33,30,35,33]
["2016/17 Q4",{"$f":"VLOOKUP(J289,'Control Panel'!$O$3:$S$47,5,FALSE)","v":"NW5"},null,null,null,null,null,null,null,"F84055",null,3573,12,12,12,12,11,12,6,6,6,6,6,6,6,6,4,6,5]
["2016/17 Q4",{"$f":"VLOOKUP(J290,'Control Panel'!$O$3:$S$47,5,FALSE)","v":"NW7"},null,null,null,null,null,null,null,"F84062",null,14358,55,53,45,53,49,51,66,64,59,60,60,55,53,51,48,51,48]
["2016/17 Q4",{"$f":"VLOOKUP(J291,'Control Panel'!$O$3:$S$47,5,FALSE)","v":"NW3&4"},null,null,null,null,null,null,null,"F84079",null,9947,25,23,19,23,22,23,32,31,28,29,28,12,12,11,9,11,10]
["2016/17 Q4",{"$f":"VLOOKUP(J292,'Control Panel'!$O$3:$S$47,5,FALSE)","v":"NW2"},null,null,null,null,null,null,null,"F84081",null,13510,28,23,19,24,22,25,47,45,39,40,40,34,33,32,31,32,32]
["2016/17 Q4",{"$f":"VLOOKUP(J293,'Control Panel'!$O$3:$S$47,5,FALSE)","v":"NW1"},null,null,null,null,null,null,null,"F84083",null,8296,29,27,24,27,27,26,21,21,20,21,21,24,23,23,21,24,21]
["2016/17 Q4",{"$f":"VLOOKUP(J294,'Control Panel'!$O$3:$S$47,5,FALSE)","v":"NW3&4"},null,null,null,null,null,null,null,"F84087",null,10626,41,39,27,39,37,34,49,48,45,46,46,41,41,40,38,40,39]
["2016/17 Q4",{"$f":"VLOOKUP(J295,'Control Panel'!$O$3:$S$47,5,FALSE)","v":"NW3&4"},null,null,null,null,null,null,null,"F84114",null,6540,15,14,11,14,14,14,20,20,20,20,20,18,17,16,11,15,15]
["2016/17 Q4",{"$f":"VLOOKUP(J296,'Control Panel'!$O$3:$S$47,5,FALSE)","v":"NW6"},null,null,null,null,null,null,null,"F84118",null,5264,17,17,13,17,16,17,16,16,16,16,16,14,14,14,14,14,14]
["2016/17 Q4",{"$f":"VLOOKUP(J297,'Control Panel'!$O$3:$S$47,5,FALSE)","v":{"$error":"#N/A"}},null,null,null,null,null,null,null,"F841229B1F",null,8620,25,24,20,24,23,23,31,28,23,26,26,19,17,17,18,18,18]
["2016/17 Q4",{"$f":"VLOOKUP(J298,'Control Panel'!$O$3:$S$47,5,FALSE)","v":"NW1"},null,null,null,null,null,null,null,"F84123",null,13106,20,19,16,19,18,13,25,24,22,21,21,31,31,28,29,30,29]
["2016/17 Q4",{"$f":"VLOOKUP(J299,'Control Panel'!$O$3:$S$47,5,FALSE)","v":"NW8"},null,null,null,null,null,null,null,"F84647",null,7220,22,22,19,22,21,22,19,19,19,19,19,17,17,17,16,16,15]
["2016/17 Q4",{"$f":"VLOOKUP(J300,'Control Panel'!$O$3:$S$47,5,FALSE)","v":"NW8"},null,null,null,null,null,null,null,"F84656",null,8214,23,22,19,22,21,22,28,27,26,26,27,20,20,19,18,18,18]
["2016/17 Q4",{"$f":"VLOOKUP(J301,'Control Panel'!$O$3:$S$47,5,FALSE)","v":"NW6"},null,null,null,null,null,null,null,"F84676",null,4377,9,9,6,9,9,9,20,20,19,19,19,16,15,14,15,14,15]
["2016/17 Q4",{"$f":"VLOOKUP(J302,'Control Panel'!$O$3:$S$47,5,FALSE)","v":"NW3&4"},null,null,null,null,null,null,null,"F84682",null,10619,39,35,27,37,29,34,42,41,35,33,34,40,39,40,22,38,30]
["2016/17 Q4",{"$f":"VLOOKUP(J303,'Control Panel'!$O$3:$S$47,5,FALSE)","v":"NW5"},null,null,null,null,null,null,null,"F84696",null,5052,14,12,11,13,12,13,14,13,12,12,12,15,14,14,12,14,13]
["2016/17 Q4",{"$f":"VLOOKUP(J304,'Control Panel'!$O$3:$S$47,5,FALSE)","v":"NW7"},null,null,null,null,null,null,null,"F84698",null,7114,32,29,22,30,24,30,31,30,26,27,26,28,27,27,22,24,21]
["2016/17 Q4",{"$f":"VLOOKUP(J305,'Control Panel'!$O$3:$S$47,5,FALSE)","v":{"$error":"#N/A"}},null,null,null,null,null,null,null,"F84702",null,6677,29,26,23,26,25,24,24,23,21,22,23,26,25,24,26,23,26]
["2016/17 Q4",{"$f":"VLOOKUP(J306,'Control Panel'!$O$3:$S$47,5,FALSE)","v":"NW8"},null,null,null,null,null,null,null,"F84710",null,12148,54,50,41,50,48,48,32,30,28,30,30,30,30,30,30,28,30]
["2016/17 Q4",{"$f":"VLOOKUP(J307,'Control Panel'!$O$3:$S$47,5,FALSE)","v":"NW6"},null,null,null,null,null,null,null,"F84714",null,11431,46,44,30,44,42,44,43,42,41,41,41,43,43,41,43,40,42]
["2016/17 Q4",{"$f":"VLOOKUP(J308,'Control Panel'!$O$3:$S$47,5,FALSE)","v":"NW2"},null,null,null,null,null,null,null,"F84718",null,12578,45,43,41,43,41,40,28,27,27,27,26,28,28,28,27,27,27]
["2016/17 Q4",{"$f":"VLOOKUP(J309,'Control Panel'!$O$3:$S$47,5,FALSE)","v":"NW3&4"},null,null,null,null,null,null,null,"F84731",null,1977,2,2,2,2,2,2,4,4,4,4,4,3,3,3,3,3,3]
["2016/17 Q4",{"$f":"VLOOKUP(J310,'Control Panel'!$O$3:$S$47,5,FALSE)","v":"NW2"},null,null,null,null,null,null,null,"F84733",null,1240,0,0,0,0,0,0,0,0,0,0,0,0,0,0,0,0,0]
["2016/17 Q4",{"$f":"VLOOKUP(J311,'Control Panel'!$O$3:$S$47,5,FALSE)","v":"NW8"},null,null,null,null,null,null,null,"F84747",null,19616,76,73,61,75,67,67,72,71,69,69,69,75,74,71,73,68,71]
["2016/17 Q4",{"$f":"VLOOKUP(J312,'Control Panel'!$O$3:$S$47,5,FALSE)","v":"NW1"},null,null,null,null,null,null,null,"Y00212",null,4832,8,8,8,8,8,8,7,7,7,7,7,9,9,9,4,8,7]
["2016/17 Q4",{"$f":"VLOOKUP(J313,'Control Panel'!$O$3:$S$47,5,FALSE)","v":"NW6"},null,null,null,null,null,null,null,"Y03023",null,11313,42,40,36,40,38,39,41,41,39,38,37,38,38,35,32,35,35]
["2016/17 Q4",{"$f":"VLOOKUP(J314,'Control Panel'!$O$3:$S$47,5,FALSE)","v":0},null,null,null,null,null,null,null,"Total",null,313287,1008,951,797,959,890,912,1021,997,935,948,948,942,922,897,834,877,861]
["2016/17 Q4",{"$f":"VLOOKUP(J315,'Control Panel'!$O$3:$S$47,5,FALSE)","v":{"$error":"#N/A"}},null,null,null,null,null,null,null,"F841229B1G",null,6444,27,26,25,26,26,26,23,22,20,22,22,25,23,24,21,23,21]
["2017/18 Q1",{"$f":"VLOOKUP(J316,'Control Panel'!$O$3:$S$47,5,FALSE)","v":{"$error":"#N/A"}},"Childhood Immunisations Q1 NW2",null,"Last Run:",null,"Population Count",325724,null,null,"Search","All Patients","(01) 12 MONTH COHORT","(01.01) DTaP/IPV/Hib","(01.02) Men B (1st and 2nd)","(01.03) PCV","(01.04) Rotavirus","(01.05) BCG","(02) 24 MONTH COHORT","(02.01) DTaP/IPV/Hib","(02.02) MMR","(02.03) HiB/Men C","(02.04) PCV (Booster)","(03) 5 YEAR COHORT","(03.01) DTaP/IPV/Hib","(03.02) MMR (Primary)","(03.03) DTaP/IPV (Booster)","(03.04) HiB/Men C","(03.05) MMR (Booster)"]
["2017/18 Q1",{"$f":"VLOOKUP(J317,'Control Panel'!$O$3:$S$47,5,FALSE)","v":{"$error":"#N/A"}},null,null,"2017-08-02T10:34:00",null,"Males",167232,null,"Organisation Code"]
["2017/18 Q1",{"$f":"VLOOKUP(J318,'Control Panel'!$O$3:$S$47,5,FALSE)","v":"NW2"},null,null,"Relative Date:",null,"Females",158492,null,"F84012",null,9171,39,37,37,37,34,37,34,32,31,31,31,27,27,27,27,27,27]
["2017/18 Q1",{"$f":"VLOOKUP(J319,'Control Panel'!$O$3:$S$47,5,FALSE)","v":"NW1"},null,null,"2017-07-01",null,null,null,null,"F84016",null,11329,30,27,26,27,26,21,23,22,21,22,21,37,36,35,34,36,35]
["2017/18 Q1",{"$f":"VLOOKUP(J320,'Control Panel'!$O$3:$S$47,5,FALSE)","v":"NW7"},null,null,null,null,null,null,null,"F84025",null,5209,15,12,12,12,12,11,20,19,16,17,15,20,18,18,14,19,14]
["2017/18 Q1",{"$f":"VLOOKUP(J321,'Control Panel'!$O$3:$S$47,5,FALSE)","v":"NW5"},null,null,null,null,null,null,null,"F84030",null,3045,10,9,7,9,9,6,5,5,5,5,5,8,8,7,8,8,8]
["2017/18 Q1",{"$f":"VLOOKUP(J322,'Control Panel'!$O$3:$S$47,5,FALSE)","v":"NW3&4"},null,null,null,null,null,null,null,"F84031",null,11656,35,33,33,33,34,34,32,32,31,31,30,40,40,37,39,40,39]
["2017/18 Q1",{"$f":"VLOOKUP(J323,'Control Panel'!$O$3:$S$47,5,FALSE)","v":"NW5"},null,null,null,null,null,null,null,"F84034",null,13036,48,46,45,46,46,29,50,50,49,50,50,47,47,45,41,46,42]
["2017/18 Q1",{"$f":"VLOOKUP(J324,'Control Panel'!$O$3:$S$47,5,FALSE)","v":"NW3&4"},null,null,null,null,null,null,null,"F84039",null,10832,43,41,41,41,40,36,43,41,42,41,41,47,47,46,45,45,46]
["2017/18 Q1",{"$f":"VLOOKUP(J325,'Control Panel'!$O$3:$S$47,5,FALSE)","v":"NW5"},null,null,null,null,null,null,null,"F84044",null,6212,20,20,19,20,18,17,20,17,17,17,17,19,19,17,17,17,17]
["2017/18 Q1",{"$f":"VLOOKUP(J326,'Control Panel'!$O$3:$S$47,5,FALSE)","v":"NW3&4"},null,null,null,null,null,null,null,"F84046",null,3303,18,18,17,18,17,18,11,11,10,10,10,12,12,12,10,12,11]
["2017/18 Q1",{"$f":"VLOOKUP(J327,'Control Panel'!$O$3:$S$47,5,FALSE)","v":"NW1"},null,null,null,null,null,null,null,"F84051",null,4108,13,13,12,13,12,12,6,6,6,6,6,10,10,10,9,10,10]
["2017/18 Q1",{"$f":"VLOOKUP(J328,'Control Panel'!$O$3:$S$47,5,FALSE)","v":"NW7"},null,null,null,null,null,null,null,"F84054",null,11281,61,60,60,60,53,52,43,41,39,39,38,38,37,36,37,36,37]
["2017/18 Q1",{"$f":"VLOOKUP(J329,'Control Panel'!$O$3:$S$47,5,FALSE)","v":"NW5"},null,null,null,null,null,null,null,"F84055",null,3603,8,8,8,8,8,2,7,7,7,7,7,7,7,7,6,6,6]
["2017/18 Q1",{"$f":"VLOOKUP(J330,'Control Panel'!$O$3:$S$47,5,FALSE)","v":"NW7"},null,null,null,null,null,null,null,"F84062",null,14090,51,49,48,49,44,45,65,62,56,57,57,56,54,51,49,51,51]
["2017/18 Q1",{"$f":"VLOOKUP(J331,'Control Panel'!$O$3:$S$47,5,FALSE)","v":"NW3&4"},null,null,null,null,null,null,null,"F84079",null,10015,32,28,29,29,29,26,32,31,30,30,30,25,23,23,21,23,22]
["2017/18 Q1",{"$f":"VLOOKUP(J332,'Control Panel'!$O$3:$S$47,5,FALSE)","v":"NW2"},null,null,null,null,null,null,null,"F84081",null,13638,51,48,43,48,41,47,33,28,27,26,27,36,36,35,33,34,33]
["2017/18 Q1",{"$f":"VLOOKUP(J333,'Control Panel'!$O$3:$S$47,5,FALSE)","v":"NW1"},null,null,null,null,null,null,null,"F84083",null,8271,28,26,26,26,25,23,34,31,28,29,30,29,27,26,26,25,25]
["2017/18 Q1",{"$f":"VLOOKUP(J334,'Control Panel'!$O$3:$S$47,5,FALSE)","v":"NW3&4"},null,null,null,null,null,null,null,"F84087",null,10495,47,41,41,41,38,32,40,38,36,37,37,42,42,42,34,41,39]
["2017/18 Q1",{"$f":"VLOOKUP(J335,'Control Panel'!$O$3:$S$47,5,FALSE)","v":"NW3&4"},null,null,null,null,null,null,null,"F84114",null,6364,23,21,21,22,22,22,20,14,14,14,14,18,17,15,15,14,16]
["2017/18 Q1",{"$f":"VLOOKUP(J336,'Control Panel'!$O$3:$S$47,5,FALSE)","v":"NW6"},null,null,null,null,null,null,null,"F84118",null,5266,20,20,19,20,18,19,19,19,18,18,18,16,16,16,16,16,16]
["2017/18 Q1",{"$f":"VLOOKUP(J337,'Control Panel'!$O$3:$S$47,5,FALSE)","v":{"$error":"#N/A"}},null,null,null,null,null,null,null,"F841229B1F",null,8730,38,33,33,34,30,30,24,22,19,19,21,23,22,21,20,21,20]
["2017/18 Q1",{"$f":"VLOOKUP(J338,'Control Panel'!$O$3:$S$47,5,FALSE)","v":"NW1"},null,null,null,null,null,null,null,"F84123",null,13009,42,34,34,34,34,10,22,21,21,21,20,20,20,20,18,20,19]
["2017/18 Q1",{"$f":"VLOOKUP(J339,'Control Panel'!$O$3:$S$47,5,FALSE)","v":"NW8"},null,null,null,null,null,null,null,"F84647",null,7446,16,16,15,16,14,12,25,24,24,24,24,14,13,13,13,13,13]
["2017/18 Q1",{"$f":"VLOOKUP(J340,'Control Panel'!$O$3:$S$47,5,FALSE)","v":"NW8"},null,null,null,null,null,null,null,"F84656",null,8352,34,29,26,28,27,29,26,26,23,24,26,23,22,23,20,22,21]
["2017/18 Q1",{"$f":"VLOOKUP(J341,'Control Panel'!$O$3:$S$47,5,FALSE)","v":"NW6"},null,null,null,null,null,null,null,"F84676",null,4387,17,16,16,16,16,13,11,11,11,11,11,13,13,13,12,13,12]
["2017/18 Q1",{"$f":"VLOOKUP(J342,'Control Panel'!$O$3:$S$47,5,FALSE)","v":"NW3&4"},null,null,null,null,null,null,null,"F84682",null,10844,51,48,46,48,41,45,32,31,29,30,30,44,43,41,35,37,36]
["2017/18 Q1",{"$f":"VLOOKUP(J343,'Control Panel'!$O$3:$S$47,5,FALSE)","v":"NW5"},null,null,null,null,null,null,null,"F84696",null,5167,17,14,14,14,15,12,21,19,16,16,16,20,18,17,11,16,15]
["2017/18 Q1",{"$f":"VLOOKUP(J344,'Control Panel'!$O$3:$S$47,5,FALSE)","v":"NW7"},null,null,null,null,null,null,null,"F84698",null,7334,35,30,28,31,27,30,31,30,28,29,29,20,19,19,18,18,18]
["2017/18 Q1",{"$f":"VLOOKUP(J345,'Control Panel'!$O$3:$S$47,5,FALSE)","v":{"$error":"#N/A"}},null,null,null,null,null,null,null,"F84702",null,6743,35,33,32,33,32,28,21,20,19,18,18,22,21,20,17,21,18]
["2017/18 Q1",{"$f":"VLOOKUP(J346,'Control Panel'!$O$3:$S$47,5,FALSE)","v":"NW8"},null,null,null,null,null,null,null,"F84710",null,12226,38,34,34,34,30,17,32,31,26,27,27,47,43,42,33,41,33]
["2017/18 Q1",{"$f":"VLOOKUP(J347,'Control Panel'!$O$3:$S$47,5,FALSE)","v":"NW6"},null,null,null,null,null,null,null,"F84714",null,11629,42,42,41,42,36,40,41,40,37,37,37,38,38,35,34,35,35]
["2017/18 Q1",{"$f":"VLOOKUP(J348,'Control Panel'!$O$3:$S$47,5,FALSE)","v":"NW2"},null,null,null,null,null,null,null,"F84718",null,12913,46,43,42,43,42,40,35,30,29,30,30,38,36,36,34,34,35]
["2017/18 Q1",{"$f":"VLOOKUP(J349,'Control Panel'!$O$3:$S$47,5,FALSE)","v":"NW3&4"},null,null,null,null,null,null,null,"F84731",null,2020,11,11,11,11,11,9,1,1,1,1,1,7,6,6,6,6,6]
["2017/18 Q1",{"$f":"VLOOKUP(J350,'Control Panel'!$O$3:$S$47,5,FALSE)","v":"NW2"},null,null,null,null,null,null,null,"F84733",null,1201,0,0,0,0,0,0,0,0,0,0,0,0,0,0,0,0,0]
["2017/18 Q1",{"$f":"VLOOKUP(J351,'Control Panel'!$O$3:$S$47,5,FALSE)","v":"NW8"},null,null,null,null,null,null,null,"F84747",null,19952,100,98,91,97,91,85,75,72,69,70,70,48,48,47,46,45,48]
["2017/18 Q1",{"$f":"VLOOKUP(J352,'Control Panel'!$O$3:$S$47,5,FALSE)","v":"NW1"},null,null,null,null,null,null,null,"Y00212",null,4892,14,13,12,13,13,11,11,11,11,10,10,8,8,8,6,8,7]
["2017/18 Q1",{"$f":"VLOOKUP(J353,'Control Panel'!$O$3:$S$47,5,FALSE)","v":"NW6"},null,null,null,null,null,null,null,"Y03023",null,11550,54,50,50,50,46,37,43,40,39,40,41,39,38,37,32,37,34]
["2017/18 Q1",{"$f":"VLOOKUP(J354,'Control Panel'!$O$3:$S$47,5,FALSE)","v":0},null,null,null,null,null,null,null,"Total",null,307049,1172,1093,1061,1095,1026,933,989,938,891,900,899,961,935,906,839,896,867]
["2017/18 Q1",{"$f":"VLOOKUP(J355,'Control Panel'!$O$3:$S$47,5,FALSE)","v":{"$error":"#N/A"}},null,null,null,null,null,null,null,"F841229B1G",null,6460,28,25,25,26,25,26,25,25,25,25,25,26,26,24,23,24,23]
["2017/18 Q2",{"$f":"VLOOKUP(J356,'Control Panel'!$O$3:$S$47,5,FALSE)","v":{"$error":"#N/A"}},"Childhood Immunisations Q2 NW2",null,"Last Run:",null,"Population Count",330652,null,null,"Search","All Patients","(01) 12 MONTH COHORT","(01.01) DTaP/IPV/Hib","(01.02) Men B (1st and 2nd)","(01.03) PCV","(01.04) Rotavirus","(01.05) BCG","(02) 24 MONTH COHORT","(02.01) DTaP/IPV/Hib","(02.02) MMR","(02.03) HiB/Men C","(02.04) PCV (Booster)","(03) 5 YEAR COHORT","(03.01) DTaP/IPV/Hib","(03.02) MMR (Primary)","(03.03) DTaP/IPV (Booster)","(03.04) HiB/Men C","(03.05) MMR (Booster)"]
["2017/18 Q2",{"$f":"VLOOKUP(J357,'Control Panel'!$O$3:$S$47,5,FALSE)","v":{"$error":"#N/A"}},null,null,"2017-10-02T11:49:00",null,"Males",169439,null,"Organisation Code"]
["2017/18 Q2",{"$f":"VLOOKUP(J358,'Control Panel'!$O$3:$S$47,5,FALSE)","v":"NW2"},null,null,"Relative Date:",null,"Females",161213,null,"F84012",null,9196,36,34,36,35,32,35,24,23,22,22,22,40,40,38,37,38,38]
["2017/18 Q2",{"$f":"VLOOKUP(J359,'Control Panel'!$O$3:$S$47,5,FALSE)","v":"NW1"},null,null,"2017-10-01",null,null,null,null,"F84016",null,11595,32,28,28,29,27,8,32,29,25,28,28,38,36,36,35,35,35]
["2017/18 Q2",{"$f":"VLOOKUP(J360,'Control Panel'!$O$3:$S$47,5,FALSE)","v":"NW7"},null,null,null,null,null,null,null,"F84025",null,5359,22,21,21,21,18,14,19,19,19,19,19,23,22,23,20,21,20]
["2017/18 Q2",{"$f":"VLOOKUP(J361,'Control Panel'!$O$3:$S$47,5,FALSE)","v":"NW5"},null,null,null,null,null,null,null,"F84030",null,3097,12,12,12,12,12,6,4,4,4,4,4,8,8,8,8,8,8]
["2017/18 Q2",{"$f":"VLOOKUP(J362,'Control Panel'!$O$3:$S$47,5,FALSE)","v":"NW3&4"},null,null,null,null,null,null,null,"F84031",null,11810,45,44,44,44,42,39,42,42,37,40,40,34,34,34,31,34,31]
["2017/18 Q2",{"$f":"VLOOKUP(J363,'Control Panel'!$O$3:$S$47,5,FALSE)","v":"NW5"},null,null,null,null,null,null,null,"F84034",null,13094,44,44,44,44,42,11,47,46,44,45,45,60,58,55,55,55,55]
["2017/18 Q2",{"$f":"VLOOKUP(J364,'Control Panel'!$O$3:$S$47,5,FALSE)","v":"NW3&4"},null,null,null,null,null,null,null,"F84039",null,11111,42,41,40,41,39,19,38,35,35,35,35,41,39,39,38,38,39]
["2017/18 Q2",{"$f":"VLOOKUP(J365,'Control Panel'!$O$3:$S$47,5,FALSE)","v":"NW5"},null,null,null,null,null,null,null,"F84044",null,6247,19,17,16,17,16,4,15,15,15,15,15,26,26,25,24,25,24]
["2017/18 Q2",{"$f":"VLOOKUP(J366,'Control Panel'!$O$3:$S$47,5,FALSE)","v":"NW3&4"},null,null,null,null,null,null,null,"F84046",null,3282,11,11,11,11,11,10,7,7,7,7,7,11,11,11,10,11,11]
["2017/18 Q2",{"$f":"VLOOKUP(J367,'Control Panel'!$O$3:$S$47,5,FALSE)","v":"NW1"},null,null,null,null,null,null,null,"F84051",null,4211,11,9,9,9,8,10,13,12,10,11,12,14,14,14,11,14,13]
["2017/18 Q2",{"$f":"VLOOKUP(J368,'Control Panel'!$O$3:$S$47,5,FALSE)","v":"NW7"},null,null,null,null,null,null,null,"F84054",null,11352,49,47,46,47,44,33,47,46,46,45,45,47,40,40,41,39,43]
["2017/18 Q2",{"$f":"VLOOKUP(J369,'Control Panel'!$O$3:$S$47,5,FALSE)","v":"NW5"},null,null,null,null,null,null,null,"F84055",null,3618,9,8,8,8,8,0,11,9,8,8,9,8,8,8,5,7,7]
["2017/18 Q2",{"$f":"VLOOKUP(J370,'Control Panel'!$O$3:$S$47,5,FALSE)","v":"NW7"},null,null,null,null,null,null,null,"F84062",null,14173,49,47,47,47,47,18,53,51,46,47,47,49,47,48,42,48,42]
["2017/18 Q2",{"$f":"VLOOKUP(J371,'Control Panel'!$O$3:$S$47,5,FALSE)","v":"NW3&4"},null,null,null,null,null,null,null,"F84079",null,10143,46,43,43,43,42,32,36,34,33,33,33,34,34,34,28,34,28]
["2017/18 Q2",{"$f":"VLOOKUP(J372,'Control Panel'!$O$3:$S$47,5,FALSE)","v":"NW2"},null,null,null,null,null,null,null,"F84081",null,13750,39,35,35,35,31,30,37,37,35,33,32,33,33,32,32,32,32]
["2017/18 Q2",{"$f":"VLOOKUP(J373,'Control Panel'!$O$3:$S$47,5,FALSE)","v":"NW1"},null,null,null,null,null,null,null,"F84083",null,8361,25,23,22,23,22,11,30,30,29,28,28,32,31,28,27,30,27]
["2017/18 Q2",{"$f":"VLOOKUP(J374,'Control Panel'!$O$3:$S$47,5,FALSE)","v":"NW3&4"},null,null,null,null,null,null,null,"F84087",null,9907,35,34,34,34,27,13,36,32,33,33,33,32,30,30,26,30,30]
["2017/18 Q2",{"$f":"VLOOKUP(J375,'Control Panel'!$O$3:$S$47,5,FALSE)","v":"NW3&4"},null,null,null,null,null,null,null,"F84114",null,6172,28,26,25,26,26,13,23,23,22,22,22,17,17,17,16,16,16]
["2017/18 Q2",{"$f":"VLOOKUP(J376,'Control Panel'!$O$3:$S$47,5,FALSE)","v":"NW6"},null,null,null,null,null,null,null,"F84118",null,5225,13,13,13,13,12,11,13,13,13,13,13,11,11,10,9,10,10]
["2017/18 Q2",{"$f":"VLOOKUP(J377,'Control Panel'!$O$3:$S$47,5,FALSE)","v":{"$error":"#N/A"}},null,null,null,null,null,null,null,"F841229B1F",null,8779,33,30,31,32,25,14,18,16,14,15,15,28,26,25,18,25,20]
["2017/18 Q2",{"$f":"VLOOKUP(J378,'Control Panel'!$O$3:$S$47,5,FALSE)","v":"NW1"},null,null,null,null,null,null,null,"F84123",null,13759,29,28,28,28,24,7,29,27,25,25,26,24,23,21,22,21,21]
["2017/18 Q2",{"$f":"VLOOKUP(J379,'Control Panel'!$O$3:$S$47,5,FALSE)","v":"NW8"},null,null,null,null,null,null,null,"F84647",null,7649,27,24,24,24,23,12,21,20,19,19,18,23,22,22,22,22,22]
["2017/18 Q2",{"$f":"VLOOKUP(J380,'Control Panel'!$O$3:$S$47,5,FALSE)","v":"NW8"},null,null,null,null,null,null,null,"F84656",null,8565,38,36,35,36,33,31,25,24,24,24,24,27,26,26,24,23,25]
["2017/18 Q2",{"$f":"VLOOKUP(J381,'Control Panel'!$O$3:$S$47,5,FALSE)","v":"NW6"},null,null,null,null,null,null,null,"F84676",null,4356,13,12,12,12,12,11,20,20,20,20,20,10,10,10,9,10,10]
["2017/18 Q2",{"$f":"VLOOKUP(J382,'Control Panel'!$O$3:$S$47,5,FALSE)","v":"NW3&4"},null,null,null,null,null,null,null,"F84682",null,11144,26,23,24,24,19,23,30,28,28,27,28,44,43,42,41,42,42]
["2017/18 Q2",{"$f":"VLOOKUP(J383,'Control Panel'!$O$3:$S$47,5,FALSE)","v":"NW5"},null,null,null,null,null,null,null,"F84696",null,5303,29,29,29,29,28,7,14,14,13,13,13,14,14,14,10,14,10]
["2017/18 Q2",{"$f":"VLOOKUP(J384,'Control Panel'!$O$3:$S$47,5,FALSE)","v":"NW7"},null,null,null,null,null,null,null,"F84698",null,7569,46,41,42,42,42,27,33,33,27,28,27,38,35,30,33,30,34]
["2017/18 Q2",{"$f":"VLOOKUP(J385,'Control Panel'!$O$3:$S$47,5,FALSE)","v":{"$error":"#N/A"}},null,null,null,null,null,null,null,"F84702",null,6883,32,31,31,31,29,21,35,32,28,29,27,29,29,29,27,28,27]
["2017/18 Q2",{"$f":"VLOOKUP(J386,'Control Panel'!$O$3:$S$47,5,FALSE)","v":"NW8"},null,null,null,null,null,null,null,"F84710",null,12378,50,48,47,48,43,11,48,45,43,43,43,39,38,36,31,34,31]
["2017/18 Q2",{"$f":"VLOOKUP(J387,'Control Panel'!$O$3:$S$47,5,FALSE)","v":"NW6"},null,null,null,null,null,null,null,"F84714",null,12137,41,37,35,36,35,36,42,40,38,39,38,49,45,45,41,43,43]
["2017/18 Q2",{"$f":"VLOOKUP(J388,'Control Panel'!$O$3:$S$47,5,FALSE)","v":"NW2"},null,null,null,null,null,null,null,"F84718",null,13345,38,37,36,37,35,23,42,41,40,40,40,43,42,40,39,41,39]
["2017/18 Q2",{"$f":"VLOOKUP(J389,'Control Panel'!$O$3:$S$47,5,FALSE)","v":"NW3&4"},null,null,null,null,null,null,null,"F84731",null,2032,3,3,2,3,2,2,3,3,3,3,3,3,3,3,2,2,3]
["2017/18 Q2",{"$f":"VLOOKUP(J390,'Control Panel'!$O$3:$S$47,5,FALSE)","v":"NW2"},null,null,null,null,null,null,null,"F84733",null,1276,0,0,0,0,0,0,0,0,0,0,0,0,0,0,0,0,0]
["2017/18 Q2",{"$f":"VLOOKUP(J391,'Control Panel'!$O$3:$S$47,5,FALSE)","v":"NW8"},null,null,null,null,null,null,null,"F84747",null,20399,87,74,68,75,70,21,92,88,85,86,85,62,59,57,58,56,59]
["2017/18 Q2",{"$f":"VLOOKUP(J392,'Control Panel'!$O$3:$S$47,5,FALSE)","v":"NW1"},null,null,null,null,null,null,null,"Y00212",null,4929,10,8,7,9,7,3,18,15,16,16,16,9,9,9,5,9,7]
["2017/18 Q2",{"$f":"VLOOKUP(J393,'Control Panel'!$O$3:$S$47,5,FALSE)","v":"NW6"},null,null,null,null,null,null,null,"Y03023",null,11821,61,56,55,57,53,35,51,51,49,49,48,39,38,36,35,35,35]
["2017/18 Q2",{"$f":"VLOOKUP(J394,'Control Panel'!$O$3:$S$47,5,FALSE)","v":0},null,null,null,null,null,null,null,"Total",null,311746,1125,1050,1035,1056,981,612,1048,1006,956,965,961,1034,998,973,914,956,940]
["2017/18 Q2",{"$f":"VLOOKUP(J395,'Control Panel'!$O$3:$S$47,5,FALSE)","v":{"$error":"#N/A"}},null,null,null,null,null,null,null,"F841229B1G",null,6498,28,26,26,26,20,25,18,18,15,16,16,23,23,23,20,21,23]
["2017/18 Q3",{"$f":"VLOOKUP(J396,'Control Panel'!$O$3:$S$47,5,FALSE)","v":{"$error":"#N/A"}},"Childhood Immunisations Q3 NW2",null,"Last Run:",null,"Population Count",332580,null,null,"Search","All Patients","(01) 12 MONTH COHORT","(01.01) DTaP/IPV/Hib","(01.02) Men B (1st and 2nd)","(01.03) PCV","(01.04) Rotavirus","(01.05) BCG","(02) 24 MONTH COHORT","(02.01) DTaP/IPV/Hib","(02.02) MMR","(02.03) HiB/Men C","(02.04) PCV (Booster)","(03) 5 YEAR COHORT","(03.01) DTaP/IPV/Hib","(03.02) MMR (Primary)","(03.03) DTaP/IPV (Booster)","(03.04) HiB/Men C","(03.05) MMR (Booster)"]
["2017/18 Q3",{"$f":"VLOOKUP(J397,'Control Panel'!$O$3:$S$47,5,FALSE)","v":{"$error":"#N/A"}},null,null,"2018-01-02T10:09:00",null,"Males",170422,null,"Organisation Code"]
["2017/18 Q3",{"$f":"VLOOKUP(J398,'Control Panel'!$O$3:$S$47,5,FALSE)","v":"NW2"},null,null,"Relative Date:",null,"Females",162158,null,"F84012",null,9231,40,40,40,40,39,28,40,40,38,38,39,25,22,20,21,20,21]
["2017/18 Q3",{"$f":"VLOOKUP(J399,'Control Panel'!$O$3:$S$47,5,FALSE)","v":"NW1"},null,null,"2018-01-01",null,null,null,null,"F84016",null,11933,37,34,34,34,33,11,50,48,41,43,42,26,24,24,21,24,24]
["2017/18 Q3",{"$f":"VLOOKUP(J400,'Control Panel'!$O$3:$S$47,5,FALSE)","v":"NW7"},null,null,null,null,null,null,null,"F84025",null,5836,25,25,24,25,20,16,31,29,28,28,28,27,25,24,25,23,25]
["2017/18 Q3",{"$f":"VLOOKUP(J401,'Control Panel'!$O$3:$S$47,5,FALSE)","v":"NW5"},null,null,null,null,null,null,null,"F84030",null,3112,12,10,11,12,10,6,8,8,8,8,8,8,7,8,8,8,8]
["2017/18 Q3",{"$f":"VLOOKUP(J402,'Control Panel'!$O$3:$S$47,5,FALSE)","v":"NW3&4"},null,null,null,null,null,null,null,"F84031",null,11810,43,41,41,41,39,19,59,58,52,54,55,30,30,30,26,30,27]
["2017/18 Q3",{"$f":"VLOOKUP(J403,'Control Panel'!$O$3:$S$47,5,FALSE)","v":"NW5"},null,null,null,null,null,null,null,"F84034",null,13075,57,53,53,54,49,17,70,70,67,69,69,49,49,48,47,46,46]
["2017/18 Q3",{"$f":"VLOOKUP(J404,'Control Panel'!$O$3:$S$47,5,FALSE)","v":"NW3&4"},null,null,null,null,null,null,null,"F84039",null,11110,40,38,36,39,35,10,57,56,53,55,54,38,37,37,35,37,36]
["2017/18 Q3",{"$f":"VLOOKUP(J405,'Control Panel'!$O$3:$S$47,5,FALSE)","v":"NW5"},null,null,null,null,null,null,null,"F84044",null,6301,19,16,16,16,16,3,22,21,20,21,20,18,16,16,13,16,15]
["2017/18 Q3",{"$f":"VLOOKUP(J406,'Control Panel'!$O$3:$S$47,5,FALSE)","v":"NW3&4"},null,null,null,null,null,null,null,"F84046",null,3327,15,15,15,15,14,14,16,16,16,16,16,16,16,16,16,16,16]
["2017/18 Q3",{"$f":"VLOOKUP(J407,'Control Panel'!$O$3:$S$47,5,FALSE)","v":"NW1"},null,null,null,null,null,null,null,"F84051",null,4264,12,10,10,11,11,8,11,11,8,10,10,9,9,7,6,8,6]
["2017/18 Q3",{"$f":"VLOOKUP(J408,'Control Panel'!$O$3:$S$47,5,FALSE)","v":"NW7"},null,null,null,null,null,null,null,"F84054",null,11284,50,47,47,47,47,30,60,60,57,59,59,40,39,37,36,34,38]
["2017/18 Q3",{"$f":"VLOOKUP(J409,'Control Panel'!$O$3:$S$47,5,FALSE)","v":"NW5"},null,null,null,null,null,null,null,"F84055",null,3595,8,7,7,7,6,0,15,14,14,14,14,9,9,8,8,8,8]
["2017/18 Q3",{"$f":"VLOOKUP(J410,'Control Panel'!$O$3:$S$47,5,FALSE)","v":"NW7"},null,null,null,null,null,null,null,"F84062",null,14333,51,47,46,47,44,25,70,66,58,61,60,48,48,47,44,44,45]
["2017/18 Q3",{"$f":"VLOOKUP(J411,'Control Panel'!$O$3:$S$47,5,FALSE)","v":"NW3&4"},null,null,null,null,null,null,null,"F84079",null,10196,33,30,30,31,29,4,49,49,45,45,45,28,27,25,21,24,22]
["2017/18 Q3",{"$f":"VLOOKUP(J412,'Control Panel'!$O$3:$S$47,5,FALSE)","v":"NW2"},null,null,null,null,null,null,null,"F84081",null,13837,33,30,28,30,29,5,52,48,44,44,45,28,24,24,23,23,23]
["2017/18 Q3",{"$f":"VLOOKUP(J413,'Control Panel'!$O$3:$S$47,5,FALSE)","v":"NW1"},null,null,null,null,null,null,null,"F84083",null,8328,20,18,18,19,17,6,35,34,33,32,33,26,26,25,26,25,26]
["2017/18 Q3",{"$f":"VLOOKUP(J414,'Control Panel'!$O$3:$S$47,5,FALSE)","v":"NW3&4"},null,null,null,null,null,null,null,"F84087",null,9906,42,39,40,40,34,13,61,61,60,59,60,44,44,43,40,43,41]
["2017/18 Q3",{"$f":"VLOOKUP(J415,'Control Panel'!$O$3:$S$47,5,FALSE)","v":"NW3&4"},null,null,null,null,null,null,null,"F84114",null,6302,13,12,12,11,13,8,34,31,28,29,28,16,16,14,15,15,15]
["2017/18 Q3",{"$f":"VLOOKUP(J416,'Control Panel'!$O$3:$S$47,5,FALSE)","v":"NW6"},null,null,null,null,null,null,null,"F84118",null,5210,12,10,10,10,10,8,16,16,16,16,16,15,15,15,15,15,14]
["2017/18 Q3",{"$f":"VLOOKUP(J417,'Control Panel'!$O$3:$S$47,5,FALSE)","v":{"$error":"#N/A"}},null,null,null,null,null,null,null,"F841229B1F",null,8843,30,27,27,27,25,15,29,29,27,26,26,27,27,25,21,25,22]
["2017/18 Q3",{"$f":"VLOOKUP(J418,'Control Panel'!$O$3:$S$47,5,FALSE)","v":"NW1"},null,null,null,null,null,null,null,"F84123",null,14034,17,14,13,15,14,5,38,36,34,33,34,29,28,28,26,28,27]
["2017/18 Q3",{"$f":"VLOOKUP(J419,'Control Panel'!$O$3:$S$47,5,FALSE)","v":"NW8"},null,null,null,null,null,null,null,"F84647",null,7720,29,29,27,29,28,11,29,28,28,27,27,18,18,18,16,18,18]
["2017/18 Q3",{"$f":"VLOOKUP(J420,'Control Panel'!$O$3:$S$47,5,FALSE)","v":"NW8"},null,null,null,null,null,null,null,"F84656",null,8673,18,16,15,16,15,3,34,30,31,29,30,22,22,22,19,19,20]
["2017/18 Q3",{"$f":"VLOOKUP(J421,'Control Panel'!$O$3:$S$47,5,FALSE)","v":"NW6"},null,null,null,null,null,null,null,"F84676",null,4366,19,18,18,18,15,13,24,23,21,23,23,11,11,11,11,11,10]
["2017/18 Q3",{"$f":"VLOOKUP(J422,'Control Panel'!$O$3:$S$47,5,FALSE)","v":"NW3&4"},null,null,null,null,null,null,null,"F84682",null,11185,46,46,46,46,41,38,50,50,49,49,49,36,36,35,35,34,35]
["2017/18 Q3",{"$f":"VLOOKUP(J423,'Control Panel'!$O$3:$S$47,5,FALSE)","v":"NW5"},null,null,null,null,null,null,null,"F84696",null,5387,18,18,17,18,17,4,26,25,25,25,25,9,8,8,8,8,8]
["2017/18 Q3",{"$f":"VLOOKUP(J424,'Control Panel'!$O$3:$S$47,5,FALSE)","v":"NW7"},null,null,null,null,null,null,null,"F84698",null,7713,26,25,25,25,24,11,37,32,30,29,28,23,19,22,21,19,21]
["2017/18 Q3",{"$f":"VLOOKUP(J425,'Control Panel'!$O$3:$S$47,5,FALSE)","v":{"$error":"#N/A"}},null,null,null,null,null,null,null,"F84702",null,6557,22,20,20,20,15,12,34,31,28,30,29,26,23,22,20,18,19]
["2017/18 Q3",{"$f":"VLOOKUP(J426,'Control Panel'!$O$3:$S$47,5,FALSE)","v":"NW8"},null,null,null,null,null,null,null,"F84710",null,12301,43,42,41,41,38,24,60,60,58,58,57,40,38,38,35,38,35]
["2017/18 Q3",{"$f":"VLOOKUP(J427,'Control Panel'!$O$3:$S$47,5,FALSE)","v":"NW6"},null,null,null,null,null,null,null,"F84714",null,12172,43,42,42,42,34,21,61,57,55,56,58,35,33,31,30,32,30]
["2017/18 Q3",{"$f":"VLOOKUP(J428,'Control Panel'!$O$3:$S$47,5,FALSE)","v":"NW2"},null,null,null,null,null,null,null,"F84718",null,13719,47,45,44,45,39,20,52,50,46,47,46,29,27,26,26,26,25]
["2017/18 Q3",{"$f":"VLOOKUP(J429,'Control Panel'!$O$3:$S$47,5,FALSE)","v":"NW3&4"},null,null,null,null,null,null,null,"F84731",null,2064,4,4,3,4,4,0,15,15,15,15,14,3,3,3,2,2,3]
["2017/18 Q3",{"$f":"VLOOKUP(J430,'Control Panel'!$O$3:$S$47,5,FALSE)","v":"NW2"},null,null,null,null,null,null,null,"F84733",null,1295,0,0,0,0,0,0,0,0,0,0,0,0,0,0,0,0,0]
["2017/18 Q3",{"$f":"VLOOKUP(J431,'Control Panel'!$O$3:$S$47,5,FALSE)","v":"NW8"},null,null,null,null,null,null,null,"F84747",null,20768,91,84,81,84,80,7,111,107,103,102,102,63,59,55,55,54,56]
["2017/18 Q3",{"$f":"VLOOKUP(J432,'Control Panel'!$O$3:$S$47,5,FALSE)","v":"NW1"},null,null,null,null,null,null,null,"Y00212",null,4855,12,10,9,9,9,5,21,19,19,19,19,13,13,13,11,13,13]
["2017/18 Q3",{"$f":"VLOOKUP(J433,'Control Panel'!$O$3:$S$47,5,FALSE)","v":"NW6"},null,null,null,null,null,null,null,"Y03023",null,12251,57,51,51,51,46,29,58,56,54,53,54,29,27,26,25,28,24]
["2017/18 Q3",{"$f":"VLOOKUP(J434,'Control Panel'!$O$3:$S$47,5,FALSE)","v":0},null,null,null,null,null,null,null,"Total",null,323365,1115,1044,1027,1050,964,470,1464,1413,1336,1350,1350,934,896,871,825,852,842]
["2017/18 Q3",{"$f":"VLOOKUP(J435,'Control Panel'!$O$3:$S$47,5,FALSE)","v":{"$error":"#N/A"}},null,null,null,null,null,null,null,"F841229B1G",null,6472,31,31,30,31,25,21,29,29,27,28,28,21,21,20,18,20,20]
["2017/18 Q4",{"$f":"VLOOKUP(J436,'Control Panel'!$O$3:$S$47,5,FALSE)","v":{"$error":"#N/A"}},"Childhood Immunisations Q4 NW2",null,"Last Run:",null,"Population Count",333480,null,null,"Search","All Patients","(01) 12 MONTH COHORT","(01.01) DTaP/IPV/Hib","(01.02) Men B (1st and 2nd)","(01.03) PCV","(01.04) Rotavirus","(01.05) BCG","(02) 24 MONTH COHORT","(02.01) DTaP/IPV/Hib","(02.02) MMR","(02.03) HiB/Men C","(02.04) PCV (Booster)","(03) 5 YEAR COHORT","(03.01) DTaP/IPV/Hib","(03.02) MMR (Primary)","(03.03) DTaP/IPV (Booster)","(03.04) HiB/Men C","(03.05) MMR (Booster)"]
["2017/18 Q4",{"$f":"VLOOKUP(J437,'Control Panel'!$O$3:$S$47,5,FALSE)","v":{"$error":"#N/A"}},null,null,"2018-04-03T13:19:00",null,"Males",171005,null,"Organisation Code"]
["2017/18 Q4",{"$f":"VLOOKUP(J438,'Control Panel'!$O$3:$S$47,5,FALSE)","v":"NW2"},null,null,"Relative Date:",null,"Females",162475,null,"F84012",null,9158,33,31,32,32,31,14,25,25,25,25,25,24,24,24,24,24,24]
["2017/18 Q4",{"$f":"VLOOKUP(J439,'Control Panel'!$O$3:$S$47,5,FALSE)","v":"NW1"},null,null,"2018-04-01",null,null,null,null,"F84016",null,11873,30,28,27,28,26,8,32,28,24,25,23,38,33,32,30,35,32]
["2017/18 Q4",{"$f":"VLOOKUP(J440,'Control Panel'!$O$3:$S$47,5,FALSE)","v":"NW7"},null,null,null,null,null,null,null,"F84025",null,7735,28,24,23,24,21,16,38,38,38,38,37,35,34,34,31,35,32]
["2017/18 Q4",{"$f":"VLOOKUP(J441,'Control Panel'!$O$3:$S$47,5,FALSE)","v":"NW5"},null,null,null,null,null,null,null,"F84030",null,3190,7,6,6,6,6,0,11,11,9,9,9,5,5,5,5,5,5]
["2017/18 Q4",{"$f":"VLOOKUP(J442,'Control Panel'!$O$3:$S$47,5,FALSE)","v":"NW3&4"},null,null,null,null,null,null,null,"F84031",null,11878,39,36,37,37,35,31,33,32,27,30,30,40,38,36,36,35,36]
["2017/18 Q4",{"$f":"VLOOKUP(J443,'Control Panel'!$O$3:$S$47,5,FALSE)","v":"NW5"},null,null,null,null,null,null,null,"F84034",null,13072,49,48,48,48,47,19,44,43,40,41,41,46,46,43,43,44,42]
["2017/18 Q4",{"$f":"VLOOKUP(J444,'Control Panel'!$O$3:$S$47,5,FALSE)","v":"NW3&4"},null,null,null,null,null,null,null,"F84039",null,11223,41,41,41,41,39,8,26,25,25,25,24,27,26,27,26,27,27]
["2017/18 Q4",{"$f":"VLOOKUP(J445,'Control Panel'!$O$3:$S$47,5,FALSE)","v":"NW5"},null,null,null,null,null,null,null,"F84044",null,6309,19,16,16,16,16,6,19,18,15,18,16,15,13,11,8,12,11]
["2017/18 Q4",{"$f":"VLOOKUP(J446,'Control Panel'!$O$3:$S$47,5,FALSE)","v":"NW3&4"},null,null,null,null,null,null,null,"F84046",null,3378,12,12,12,12,8,10,10,9,9,9,9,8,8,8,7,8,7]
["2017/18 Q4",{"$f":"VLOOKUP(J447,'Control Panel'!$O$3:$S$47,5,FALSE)","v":"NW1"},null,null,null,null,null,null,null,"F84051",null,4298,9,9,9,9,9,5,8,7,7,7,7,8,7,6,4,6,4]
["2017/18 Q4",{"$f":"VLOOKUP(J448,'Control Panel'!$O$3:$S$47,5,FALSE)","v":"NW7"},null,null,null,null,null,null,null,"F84054",null,11319,46,43,42,43,38,26,32,30,30,31,31,33,32,32,33,31,33]
["2017/18 Q4",{"$f":"VLOOKUP(J449,'Control Panel'!$O$3:$S$47,5,FALSE)","v":"NW5"},null,null,null,null,null,null,null,"F84055",null,3573,7,7,7,7,7,0,12,12,12,12,12,10,9,9,8,9,8]
["2017/18 Q4",{"$f":"VLOOKUP(J450,'Control Panel'!$O$3:$S$47,5,FALSE)","v":"NW7"},null,null,null,null,null,null,null,"F84062",null,14813,41,36,37,40,34,8,55,52,49,50,50,54,52,51,45,50,50]
["2017/18 Q4",{"$f":"VLOOKUP(J451,'Control Panel'!$O$3:$S$47,5,FALSE)","v":"NW3&4"},null,null,null,null,null,null,null,"F84079",null,10304,34,33,32,33,32,5,23,20,20,20,20,18,18,17,17,17,16]
["2017/18 Q4",{"$f":"VLOOKUP(J452,'Control Panel'!$O$3:$S$47,5,FALSE)","v":"NW2"},null,null,null,null,null,null,null,"F84081",null,13812,39,36,37,37,30,14,30,27,25,25,26,35,32,31,28,30,27]
["2017/18 Q4",{"$f":"VLOOKUP(J453,'Control Panel'!$O$3:$S$47,5,FALSE)","v":"NW1"},null,null,null,null,null,null,null,"F84083",null,8314,27,22,21,23,23,7,20,20,18,20,20,20,20,19,17,20,17]
["2017/18 Q4",{"$f":"VLOOKUP(J454,'Control Panel'!$O$3:$S$47,5,FALSE)","v":"NW3&4"},null,null,null,null,null,null,null,"F84087",null,9803,36,35,35,35,34,20,38,36,36,34,34,33,32,31,28,31,28]
["2017/18 Q4",{"$f":"VLOOKUP(J455,'Control Panel'!$O$3:$S$47,5,FALSE)","v":"NW3&4"},null,null,null,null,null,null,null,"F84114",null,6422,17,15,15,15,16,11,15,14,14,14,14,15,15,15,11,15,14]
["2017/18 Q4",{"$f":"VLOOKUP(J456,'Control Panel'!$O$3:$S$47,5,FALSE)","v":"NW6"},null,null,null,null,null,null,null,"F84118",null,5205,10,10,10,10,10,5,14,14,14,14,14,15,15,14,15,14,15]
["2017/18 Q4",{"$f":"VLOOKUP(J457,'Control Panel'!$O$3:$S$47,5,FALSE)","v":{"$error":"#N/A"}},null,null,null,null,null,null,null,"F841229B1F",null,8819,25,24,24,24,24,18,27,24,23,24,24,33,33,33,27,32,27]
["2017/18 Q4",{"$f":"VLOOKUP(J458,'Control Panel'!$O$3:$S$47,5,FALSE)","v":"NW1"},null,null,null,null,null,null,null,"F84123",null,14115,32,29,29,29,28,11,21,20,18,19,19,23,23,22,23,20,23]
["2017/18 Q4",{"$f":"VLOOKUP(J459,'Control Panel'!$O$3:$S$47,5,FALSE)","v":"NW8"},null,null,null,null,null,null,null,"F84647",null,7930,15,14,13,15,12,6,19,19,19,19,19,17,17,17,17,17,17]
["2017/18 Q4",{"$f":"VLOOKUP(J460,'Control Panel'!$O$3:$S$47,5,FALSE)","v":"NW8"},null,null,null,null,null,null,null,"F84656",null,8776,26,23,22,24,24,8,25,24,23,23,23,26,24,23,24,24,24]
["2017/18 Q4",{"$f":"VLOOKUP(J461,'Control Panel'!$O$3:$S$47,5,FALSE)","v":"NW6"},null,null,null,null,null,null,null,"F84676",null,4297,17,14,14,14,14,10,7,7,7,7,7,20,20,20,19,20,19]
["2017/18 Q4",{"$f":"VLOOKUP(J462,'Control Panel'!$O$3:$S$47,5,FALSE)","v":"NW3&4"},null,null,null,null,null,null,null,"F84682",null,11309,49,47,48,48,41,44,34,33,32,33,33,45,45,45,43,45,45]
["2017/18 Q4",{"$f":"VLOOKUP(J463,'Control Panel'!$O$3:$S$47,5,FALSE)","v":"NW5"},null,null,null,null,null,null,null,"F84696",null,5495,22,21,21,21,22,4,12,11,12,12,12,12,11,12,11,12,11]
["2017/18 Q4",{"$f":"VLOOKUP(J464,'Control Panel'!$O$3:$S$47,5,FALSE)","v":"NW7"},null,null,null,null,null,null,null,"F84698",null,7964,28,26,26,27,26,16,44,43,35,35,35,25,23,22,21,21,21]
["2017/18 Q4",{"$f":"VLOOKUP(J465,'Control Panel'!$O$3:$S$47,5,FALSE)","v":{"$error":"#N/A"}},null,null,null,null,null,null,null,"F84702",null,3800,7,7,7,7,7,4,10,6,6,7,7,19,17,17,15,17,15]
["2017/18 Q4",{"$f":"VLOOKUP(J466,'Control Panel'!$O$3:$S$47,5,FALSE)","v":"NW8"},null,null,null,null,null,null,null,"F84710",null,12249,45,44,41,43,34,23,50,45,42,42,42,31,27,28,25,27,26]
["2017/18 Q4",{"$f":"VLOOKUP(J467,'Control Panel'!$O$3:$S$47,5,FALSE)","v":"NW6"},null,null,null,null,null,null,null,"F84714",null,12529,44,40,40,40,36,17,44,43,40,40,40,58,54,53,52,50,52]
["2017/18 Q4",{"$f":"VLOOKUP(J468,'Control Panel'!$O$3:$S$47,5,FALSE)","v":"NW2"},null,null,null,null,null,null,null,"F84718",null,14034,32,30,30,30,28,13,40,38,33,31,31,42,39,41,34,40,35]
["2017/18 Q4",{"$f":"VLOOKUP(J469,'Control Panel'!$O$3:$S$47,5,FALSE)","v":"NW3&4"},null,null,null,null,null,null,null,"F84731",null,2070,6,6,6,6,6,0,4,4,4,4,4,4,4,4,3,4,4]
["2017/18 Q4",{"$f":"VLOOKUP(J470,'Control Panel'!$O$3:$S$47,5,FALSE)","v":"NW2"},null,null,null,null,null,null,null,"F84733",null,1250,0,0,0,0,0,0,0,0,0,0,0,0,0,0,0,0,0]
["2017/18 Q4",{"$f":"VLOOKUP(J471,'Control Panel'!$O$3:$S$47,5,FALSE)","v":"NW8"},null,null,null,null,null,null,null,"F84747",null,20712,99,88,87,92,86,15,73,69,69,69,69,71,68,66,63,62,62]
["2017/18 Q4",{"$f":"VLOOKUP(J472,'Control Panel'!$O$3:$S$47,5,FALSE)","v":"NW1"},null,null,null,null,null,null,null,"Y00212",null,4801,13,11,11,11,10,7,9,9,7,7,7,13,13,13,13,12,13]
["2017/18 Q4",{"$f":"VLOOKUP(J473,'Control Panel'!$O$3:$S$47,5,FALSE)","v":"NW6"},null,null,null,null,null,null,null,"Y03023",null,12660,48,46,45,46,43,27,41,40,37,38,39,36,34,35,34,34,35]
["2017/18 Q4",{"$f":"VLOOKUP(J474,'Control Panel'!$O$3:$S$47,5,FALSE)","v":0},null,null,null,null,null,null,null,"Total",null,324966,1054,979,972,994,923,446,975,926,872,887,883,978,935,918,861,906,879]
["2017/18 Q4",{"$f":"VLOOKUP(J475,'Control Panel'!$O$3:$S$47,5,FALSE)","v":{"$error":"#N/A"}},null,null,null,null,null,null,null,"F841229B1G",null,6477,22,21,21,21,20,10,30,30,28,30,30,24,24,22,21,21,22]
["2018-04-01",{"$f":"VLOOKUP(J476,'Control Panel'!$O$3:$S$47,5,FALSE)","v":{"$error":"#N/A"}},"Childhood Immunisations Q1",null,"Last Run:",null,"Population Count",342885,null,null,"Search","All Patients","(01) 12 MONTH COHORT","(01.01) DTaP/IPV/Hib or DTaP/IPV/Hib/HepB","(01.02) Men B (1st and 2nd)","(01.03) PCV","(01.04) Rotavirus","(01.05) BCG","(02) 24 MONTH COHORT","(02.01) DTaP/IPV/Hib or DTaP/IPV/Hib/HepB","(02.02) MMR","(02.03) HiB/Men C","(02.04) PCV (Booster)","(03) 5 YEAR COHORT","(03.01) DTaP/IPV/Hib or DTaP/IPV/Hib/HepB","(03.02) MMR (Primary)","(03.03) DTaP/IPV (Booster)","(03.04) HiB/Men C","(03.05) MMR (Booster)","(02.05) Men B (Booster)"]
["2018-04-01",{"$f":"VLOOKUP(J477,'Control Panel'!$O$3:$S$47,5,FALSE)","v":{"$error":"#N/A"}},null,null,"2018-05-09T09:53:00",null,"Males",175745,null,"Organisation Code"]
["2018-04-01",{"$f":"VLOOKUP(J478,'Control Panel'!$O$3:$S$47,5,FALSE)","v":"NW2"},null,null,"Relative Date:",null,"Females",167140,null,"F84012",null,9094,31,29,28,29,28,24,36,34,32,32,32,31,31,31,31,31,31,32]
["2018-04-01",{"$f":"VLOOKUP(J479,'Control Panel'!$O$3:$S$47,5,FALSE)","v":"NW1"},null,null,"2018-05-01",null,null,null,null,"F84016",null,11759,27,26,26,25,23,2,29,26,24,24,24,30,27,25,20,26,24,23]
["2018-04-01",{"$f":"VLOOKUP(J480,'Control Panel'!$O$3:$S$47,5,FALSE)","v":"NW7"},null,null,null,null,null,null,null,"F84025",null,11611,47,43,44,44,38,19,44,43,39,39,38,45,43,42,39,38,39,38]
["2018-04-01",{"$f":"VLOOKUP(J481,'Control Panel'!$O$3:$S$47,5,FALSE)","v":"NW5"},null,null,null,null,null,null,null,"F84030",null,3181,9,9,8,9,7,1,11,10,10,11,10,7,7,6,6,7,6,10]
["2018-04-01",{"$f":"VLOOKUP(J482,'Control Panel'!$O$3:$S$47,5,FALSE)","v":"NW3&4"},null,null,null,null,null,null,null,"F84031",null,11868,46,43,43,43,42,38,36,33,30,30,30,37,36,35,35,35,35,31]
["2018-04-01",{"$f":"VLOOKUP(J483,'Control Panel'!$O$3:$S$47,5,FALSE)","v":"NW5"},null,null,null,null,null,null,null,"F84034",null,13087,65,63,62,63,62,13,42,40,35,37,37,47,47,47,41,46,40,37]
["2018-04-01",{"$f":"VLOOKUP(J484,'Control Panel'!$O$3:$S$47,5,FALSE)","v":"NW3&4"},null,null,null,null,null,null,null,"F84039",null,11267,35,34,34,34,33,5,43,43,40,39,39,37,36,36,33,35,32,39]
["2018-04-01",{"$f":"VLOOKUP(J485,'Control Panel'!$O$3:$S$47,5,FALSE)","v":"NW5"},null,null,null,null,null,null,null,"F84044",null,6332,25,21,21,22,22,7,18,18,17,17,17,18,17,17,15,17,15,17]
["2018-04-01",{"$f":"VLOOKUP(J486,'Control Panel'!$O$3:$S$47,5,FALSE)","v":"NW3&4"},null,null,null,null,null,null,null,"F84046",null,3403,15,13,13,13,13,13,15,15,15,15,15,11,11,10,9,11,9,15]
["2018-04-01",{"$f":"VLOOKUP(J487,'Control Panel'!$O$3:$S$47,5,FALSE)","v":"NW1"},null,null,null,null,null,null,null,"F84051",null,4305,10,8,8,8,8,6,12,12,12,12,12,5,5,5,5,5,5,12]
["2018-04-01",{"$f":"VLOOKUP(J488,'Control Panel'!$O$3:$S$47,5,FALSE)","v":"NW7"},null,null,null,null,null,null,null,"F84054",null,11294,35,34,34,34,30,26,56,56,52,54,54,49,49,48,44,47,46,54]
["2018-04-01",{"$f":"VLOOKUP(J489,'Control Panel'!$O$3:$S$47,5,FALSE)","v":"NW5"},null,null,null,null,null,null,null,"F84055",null,3564,9,9,9,9,9,3,8,8,8,8,8,4,4,4,3,4,4,8]
["2018-04-01",{"$f":"VLOOKUP(J490,'Control Panel'!$O$3:$S$47,5,FALSE)","v":"NW7"},null,null,null,null,null,null,null,"F84062",null,14667,52,49,49,50,50,19,58,55,52,53,52,60,59,56,46,57,49,51]
["2018-04-01",{"$f":"VLOOKUP(J491,'Control Panel'!$O$3:$S$47,5,FALSE)","v":"NW3&4"},null,null,null,null,null,null,null,"F84079",null,10357,44,40,40,40,38,10,27,25,21,21,21,29,28,26,23,26,22,21]
["2018-04-01",{"$f":"VLOOKUP(J492,'Control Panel'!$O$3:$S$47,5,FALSE)","v":"NW2"},null,null,null,null,null,null,null,"F84081",null,13767,38,33,33,34,29,14,51,51,44,46,46,30,30,29,22,29,21,45]
["2018-04-01",{"$f":"VLOOKUP(J493,'Control Panel'!$O$3:$S$47,5,FALSE)","v":"NW1"},null,null,null,null,null,null,null,"F84083",null,8316,30,29,26,29,27,7,27,25,25,26,26,13,13,13,12,12,12,24]
["2018-04-01",{"$f":"VLOOKUP(J494,'Control Panel'!$O$3:$S$47,5,FALSE)","v":"NW3&4"},null,null,null,null,null,null,null,"F84087",null,9740,41,39,39,39,34,27,41,36,35,35,36,38,38,38,33,38,35,36]
["2018-04-01",{"$f":"VLOOKUP(J495,'Control Panel'!$O$3:$S$47,5,FALSE)","v":"NW3&4"},null,null,null,null,null,null,null,"F84114",null,6456,21,20,21,20,18,12,21,20,19,19,19,17,16,16,13,16,12,19]
["2018-04-01",{"$f":"VLOOKUP(J496,'Control Panel'!$O$3:$S$47,5,FALSE)","v":"NW6"},null,null,null,null,null,null,null,"F84118",null,5239,17,16,16,16,15,7,21,19,19,19,19,15,14,14,14,14,14,19]
["2018-04-01",{"$f":"VLOOKUP(J497,'Control Panel'!$O$3:$S$47,5,FALSE)","v":"NW6"},null,null,null,null,null,null,null,"F84122",null,15237,52,46,48,48,41,29,65,59,53,53,53,47,44,45,40,45,40,52]
["2018-04-01",{"$f":"VLOOKUP(J498,'Control Panel'!$O$3:$S$47,5,FALSE)","v":"NW1"},null,null,null,null,null,null,null,"F84123",null,14045,23,15,15,15,17,9,39,33,29,28,29,33,32,30,32,29,32,29]
["2018-04-01",{"$f":"VLOOKUP(J499,'Control Panel'!$O$3:$S$47,5,FALSE)","v":"NW8"},null,null,null,null,null,null,null,"F84647",null,8050,24,23,23,23,22,3,18,18,17,18,17,17,17,17,15,17,14,17]
["2018-04-01",{"$f":"VLOOKUP(J500,'Control Panel'!$O$3:$S$47,5,FALSE)","v":"NW8"},null,null,null,null,null,null,null,"F84656",null,8787,28,27,27,27,26,9,33,30,29,29,29,17,15,15,13,14,13,29]
["2018-04-01",{"$f":"VLOOKUP(J501,'Control Panel'!$O$3:$S$47,5,FALSE)","v":"NW6"},null,null,null,null,null,null,null,"F84676",null,4296,8,8,8,8,6,6,19,18,18,18,18,8,8,8,8,8,8,18]
["2018-04-01",{"$f":"VLOOKUP(J502,'Control Panel'!$O$3:$S$47,5,FALSE)","v":"NW3&4"},null,null,null,null,null,null,null,"F84682",null,11317,55,53,53,53,53,52,50,49,48,49,50,33,33,33,33,33,33,49]
["2018-04-01",{"$f":"VLOOKUP(J503,'Control Panel'!$O$3:$S$47,5,FALSE)","v":"NW5"},null,null,null,null,null,null,null,"F84696",null,5520,18,17,17,17,17,1,18,17,15,15,15,7,6,6,6,6,6,16]
["2018-04-01",{"$f":"VLOOKUP(J504,'Control Panel'!$O$3:$S$47,5,FALSE)","v":"NW7"},null,null,null,null,null,null,null,"F84698",null,8008,29,27,26,28,24,13,37,33,33,32,32,22,22,22,19,22,19,31]
["2018-04-01",{"$f":"VLOOKUP(J505,'Control Panel'!$O$3:$S$47,5,FALSE)","v":"NW8"},null,null,null,null,null,null,null,"F84710",null,12283,51,49,49,49,48,21,41,37,32,32,32,44,41,44,32,43,35,33]
["2018-04-01",{"$f":"VLOOKUP(J506,'Control Panel'!$O$3:$S$47,5,FALSE)","v":"NW6"},null,null,null,null,null,null,null,"F84714",null,12621,53,50,50,50,38,18,51,50,46,48,47,46,44,43,40,43,40,47]
["2018-04-01",{"$f":"VLOOKUP(J507,'Control Panel'!$O$3:$S$47,5,FALSE)","v":"NW2"},null,null,null,null,null,null,null,"F84718",null,14142,46,44,42,43,40,18,39,35,32,32,33,35,34,30,30,31,32,33]
["2018-04-01",{"$f":"VLOOKUP(J508,'Control Panel'!$O$3:$S$47,5,FALSE)","v":"NW3&4"},null,null,null,null,null,null,null,"F84731",null,2070,5,5,5,5,5,4,11,11,10,11,11,3,3,3,3,3,3,11]
["2018-04-01",{"$f":"VLOOKUP(J509,'Control Panel'!$O$3:$S$47,5,FALSE)","v":"NW2"},null,null,null,null,null,null,null,"F84733",null,1240,0,0,0,0,0,0,0,0,0,0,0,0,0,0,0,0,0,0]
["2018-04-01",{"$f":"VLOOKUP(J510,'Control Panel'!$O$3:$S$47,5,FALSE)","v":"NW8"},null,null,null,null,null,null,null,"F84747",null,20876,84,77,77,77,77,14,97,93,79,81,81,52,50,49,47,47,48,81]
["2018-04-01",{"$f":"VLOOKUP(J511,'Control Panel'!$O$3:$S$47,5,FALSE)","v":"NW1"},null,null,null,null,null,null,null,"Y00212",null,4808,23,22,20,22,20,13,8,8,7,7,7,15,14,14,12,14,13,8]
["2018-04-01",{"$f":"VLOOKUP(J512,'Control Panel'!$O$3:$S$47,5,FALSE)","v":"NW6"},null,null,null,null,null,null,null,"Y03023",null,12793,38,35,34,35,33,25,53,48,43,46,46,47,45,43,39,44,39,46]
["2018-04-01",{"$f":"VLOOKUP(J513,'Control Panel'!$O$3:$S$47,5,FALSE)","v":0},null,null,null,null,null,null,null,"Total",null,325400,1134,1056,1048,1061,993,488,1175,1108,1020,1036,1035,949,919,900,813,893,826,1031]
["2018-05-01",{"$f":"VLOOKUP(J514,'Control Panel'!$O$3:$S$47,5,FALSE)","v":{"$error":"#N/A"}},"Childhood Immunisations Q1",null,"Last Run:",null,"Population Count",343777,null,null,"Search","All Patients","(01) 12 MONTH COHORT","(01.01) DTaP/IPV/Hib or DTaP/IPV/Hib/HepB","(01.02) Men B (1st and 2nd)","(01.03) PCV","(01.04) Rotavirus","(01.05) BCG","(02) 24 MONTH COHORT","(02.01) DTaP/IPV/Hib or DTaP/IPV/Hib/HepB","(02.02) MMR","(02.03) HiB/Men C","(02.04) PCV (Booster)","(03) 5 YEAR COHORT","(03.01) DTaP/IPV/Hib or DTaP/IPV/Hib/HepB","(03.02) MMR (Primary)","(03.03) DTaP/IPV (Booster)","(03.04) HiB/Men C","(03.05) MMR (Booster)","(02.05) Men B (Booster)"]
["2018-05-01",{"$f":"VLOOKUP(J515,'Control Panel'!$O$3:$S$47,5,FALSE)","v":{"$error":"#N/A"}},null,null,"2018-06-05T10:59:00",null,"Males",176237,null,"Organisation Code"]
["2018-05-01",{"$f":"VLOOKUP(J516,'Control Panel'!$O$3:$S$47,5,FALSE)","v":"NW2"},null,null,"Relative Date:",null,"Females",167540,null,"F84012",null,9088,27,26,25,26,25,21,36,34,33,33,33,31,31,31,31,31,31,33]
["2018-05-01",{"$f":"VLOOKUP(J517,'Control Panel'!$O$3:$S$47,5,FALSE)","v":"NW1"},null,null,"2018-06-01",null,null,null,null,"F84016",null,11780,29,28,28,27,25,3,30,27,25,24,24,30,27,25,20,26,24,23]
["2018-05-01",{"$f":"VLOOKUP(J518,'Control Panel'!$O$3:$S$47,5,FALSE)","v":"NW7"},null,null,null,null,null,null,null,"F84025",null,11656,48,46,46,47,41,24,44,43,39,39,38,46,45,45,40,41,40,38]
["2018-05-01",{"$f":"VLOOKUP(J519,'Control Panel'!$O$3:$S$47,5,FALSE)","v":"NW5"},null,null,null,null,null,null,null,"F84030",null,3212,9,9,8,9,7,1,11,10,10,11,10,7,7,6,6,7,6,10]
["2018-05-01",{"$f":"VLOOKUP(J520,'Control Panel'!$O$3:$S$47,5,FALSE)","v":"NW3&4"},null,null,null,null,null,null,null,"F84031",null,11915,45,42,42,42,42,38,36,33,30,30,30,37,36,35,35,35,35,31]
["2018-05-01",{"$f":"VLOOKUP(J521,'Control Panel'!$O$3:$S$47,5,FALSE)","v":"NW5"},null,null,null,null,null,null,null,"F84034",null,13066,63,61,60,61,60,14,41,39,35,37,37,46,46,46,41,45,40,37]
["2018-05-01",{"$f":"VLOOKUP(J522,'Control Panel'!$O$3:$S$47,5,FALSE)","v":"NW3&4"},null,null,null,null,null,null,null,"F84039",null,11283,35,34,34,34,33,6,44,44,41,40,40,36,35,35,32,34,31,40]
["2018-05-01",{"$f":"VLOOKUP(J523,'Control Panel'!$O$3:$S$47,5,FALSE)","v":"NW5"},null,null,null,null,null,null,null,"F84044",null,6362,24,20,20,21,21,6,17,17,16,16,16,18,17,17,15,17,15,16]
["2018-05-01",{"$f":"VLOOKUP(J524,'Control Panel'!$O$3:$S$47,5,FALSE)","v":"NW3&4"},null,null,null,null,null,null,null,"F84046",null,3386,15,13,13,13,13,13,16,15,16,16,16,10,10,9,8,10,8,15]
["2018-05-01",{"$f":"VLOOKUP(J525,'Control Panel'!$O$3:$S$47,5,FALSE)","v":"NW1"},null,null,null,null,null,null,null,"F84051",null,4318,10,8,8,8,8,6,12,12,12,12,12,5,5,5,5,5,5,12]
["2018-05-01",{"$f":"VLOOKUP(J526,'Control Panel'!$O$3:$S$47,5,FALSE)","v":"NW7"},null,null,null,null,null,null,null,"F84054",null,11214,35,34,34,34,30,27,56,56,53,55,55,49,49,48,44,47,46,55]
["2018-05-01",{"$f":"VLOOKUP(J527,'Control Panel'!$O$3:$S$47,5,FALSE)","v":"NW5"},null,null,null,null,null,null,null,"F84055",null,3529,9,9,9,9,9,3,8,8,8,8,8,4,4,4,3,4,4,8]
["2018-05-01",{"$f":"VLOOKUP(J528,'Control Panel'!$O$3:$S$47,5,FALSE)","v":"NW7"},null,null,null,null,null,null,null,"F84062",null,14753,52,49,49,50,50,20,57,53,51,52,51,60,59,56,48,57,51,51]
["2018-05-01",{"$f":"VLOOKUP(J529,'Control Panel'!$O$3:$S$47,5,FALSE)","v":"NW3&4"},null,null,null,null,null,null,null,"F84079",null,10371,44,39,39,39,37,11,28,26,22,22,22,29,28,26,23,26,22,22]
["2018-05-01",{"$f":"VLOOKUP(J530,'Control Panel'!$O$3:$S$47,5,FALSE)","v":"NW2"},null,null,null,null,null,null,null,"F84081",null,13718,37,34,33,34,28,14,50,50,44,46,45,30,30,29,23,29,22,44]
["2018-05-01",{"$f":"VLOOKUP(J531,'Control Panel'!$O$3:$S$47,5,FALSE)","v":"NW1"},null,null,null,null,null,null,null,"F84083",null,8330,29,28,25,28,27,7,27,25,25,26,26,13,13,13,12,12,12,25]
["2018-05-01",{"$f":"VLOOKUP(J532,'Control Panel'!$O$3:$S$47,5,FALSE)","v":"NW3&4"},null,null,null,null,null,null,null,"F84087",null,9741,41,40,40,40,34,26,41,37,35,35,36,39,39,39,34,39,36,37]
["2018-05-01",{"$f":"VLOOKUP(J533,'Control Panel'!$O$3:$S$47,5,FALSE)","v":"NW3&4"},null,null,null,null,null,null,null,"F84114",null,6456,20,19,20,19,17,11,21,21,19,19,19,17,16,16,13,16,12,20]
["2018-05-01",{"$f":"VLOOKUP(J534,'Control Panel'!$O$3:$S$47,5,FALSE)","v":"NW6"},null,null,null,null,null,null,null,"F84118",null,5256,17,16,16,16,15,7,21,19,19,19,19,15,14,14,14,14,14,19]
["2018-05-01",{"$f":"VLOOKUP(J535,'Control Panel'!$O$3:$S$47,5,FALSE)","v":"NW6"},null,null,null,null,null,null,null,"F84122",null,15255,52,47,48,48,41,29,64,58,53,53,53,47,44,45,40,45,40,52]
["2018-05-01",{"$f":"VLOOKUP(J536,'Control Panel'!$O$3:$S$47,5,FALSE)","v":"NW1"},null,null,null,null,null,null,null,"F84123",null,14084,23,15,15,15,17,9,39,33,29,28,29,33,32,30,32,29,32,29]
["2018-05-01",{"$f":"VLOOKUP(J537,'Control Panel'!$O$3:$S$47,5,FALSE)","v":"NW8"},null,null,null,null,null,null,null,"F84647",null,8160,24,23,23,23,22,6,18,18,17,18,17,17,17,17,15,17,14,17]
["2018-05-01",{"$f":"VLOOKUP(J538,'Control Panel'!$O$3:$S$47,5,FALSE)","v":"NW8"},null,null,null,null,null,null,null,"F84656",null,8818,27,26,26,26,25,8,33,30,29,29,29,17,15,15,13,14,13,29]
["2018-05-01",{"$f":"VLOOKUP(J539,'Control Panel'!$O$3:$S$47,5,FALSE)","v":"NW6"},null,null,null,null,null,null,null,"F84676",null,4300,9,9,9,9,7,7,19,18,18,18,18,9,9,9,9,9,9,18]
["2018-05-01",{"$f":"VLOOKUP(J540,'Control Panel'!$O$3:$S$47,5,FALSE)","v":"NW3&4"},null,null,null,null,null,null,null,"F84682",null,11347,51,49,49,49,49,48,50,49,48,49,50,32,32,32,32,32,32,49]
["2018-05-01",{"$f":"VLOOKUP(J541,'Control Panel'!$O$3:$S$47,5,FALSE)","v":"NW5"},null,null,null,null,null,null,null,"F84696",null,5568,17,16,16,16,16,1,18,18,16,15,16,7,6,6,6,6,6,17]
["2018-05-01",{"$f":"VLOOKUP(J542,'Control Panel'!$O$3:$S$47,5,FALSE)","v":"NW7"},null,null,null,null,null,null,null,"F84698",null,8054,29,27,26,28,24,13,36,33,32,32,32,22,22,22,19,22,19,31]
["2018-05-01",{"$f":"VLOOKUP(J543,'Control Panel'!$O$3:$S$47,5,FALSE)","v":"NW8"},null,null,null,null,null,null,null,"F84710",null,12263,51,49,49,49,48,21,39,37,34,33,34,44,41,44,32,43,35,34]
["2018-05-01",{"$f":"VLOOKUP(J544,'Control Panel'!$O$3:$S$47,5,FALSE)","v":"NW6"},null,null,null,null,null,null,null,"F84714",null,12700,51,49,49,49,37,18,48,47,43,45,44,48,45,44,41,44,41,44]
["2018-05-01",{"$f":"VLOOKUP(J545,'Control Panel'!$O$3:$S$47,5,FALSE)","v":"NW2"},null,null,null,null,null,null,null,"F84718",null,14241,44,42,41,41,39,18,38,34,31,31,32,34,33,29,30,30,31,32]
["2018-05-01",{"$f":"VLOOKUP(J546,'Control Panel'!$O$3:$S$47,5,FALSE)","v":"NW3&4"},null,null,null,null,null,null,null,"F84731",null,2072,4,4,4,4,4,3,11,11,10,11,11,3,3,3,3,3,3,11]
["2018-05-01",{"$f":"VLOOKUP(J547,'Control Panel'!$O$3:$S$47,5,FALSE)","v":"NW2"},null,null,null,null,null,null,null,"F84733",null,1230,0,0,0,0,0,0,0,0,0,0,0,0,0,0,0,0,0,0]
["2018-05-01",{"$f":"VLOOKUP(J548,'Control Panel'!$O$3:$S$47,5,FALSE)","v":"NW8"},null,null,null,null,null,null,null,"F84747",null,21157,85,79,79,79,78,15,100,93,79,81,81,52,50,49,47,47,48,81]
["2018-05-01",{"$f":"VLOOKUP(J549,'Control Panel'!$O$3:$S$47,5,FALSE)","v":"NW1"},null,null,null,null,null,null,null,"Y00212",null,4804,22,21,19,21,19,12,9,9,8,8,8,15,14,14,13,14,14,9]
["2018-05-01",{"$f":"VLOOKUP(J550,'Control Panel'!$O$3:$S$47,5,FALSE)","v":"NW6"},null,null,null,null,null,null,null,"Y03023",null,12866,40,37,35,37,32,24,51,46,41,45,45,45,43,41,38,42,38,45]
["2018-05-01",{"$f":"VLOOKUP(J551,'Control Panel'!$O$3:$S$47,5,FALSE)","v":0},null,null,null,null,null,null,null,"Total",null,326353,1118,1048,1037,1051,980,490,1169,1103,1021,1036,1036,947,917,899,817,892,829,1034]
["2018-06-01",{"$f":"VLOOKUP(J552,'Control Panel'!$O$3:$S$47,5,FALSE)","v":{"$error":"#N/A"}},"Childhood Immunisations Q1",null,"Last Run:",null,"Population Count",344524,null,null,"Search","All Patients","(01) 12 MONTH COHORT","(01.01) DTaP/IPV/Hib or DTaP/IPV/Hib/HepB","(01.02) Men B (1st and 2nd)","(01.03) PCV","(01.04) Rotavirus","(01.05) BCG","(02) 24 MONTH COHORT","(02.01) DTaP/IPV/Hib or DTaP/IPV/Hib/HepB","(02.02) MMR","(02.03) HiB/Men C","(02.04) PCV (Booster)","(03) 5 YEAR COHORT","(03.01) DTaP/IPV/Hib or DTaP/IPV/Hib/HepB","(03.02) MMR (Primary)","(03.03) DTaP/IPV (Booster)","(03.04) HiB/Men C","(03.05) MMR (Booster)","(02.05) Men B (Booster)"]
["2018-06-01",{"$f":"VLOOKUP(J553,'Control Panel'!$O$3:$S$47,5,FALSE)","v":{"$error":"#N/A"}},null,null,"2018-07-02T09:46:00",null,"Males",176735,null,"Organisation Code"]
["2018-06-01",{"$f":"VLOOKUP(J554,'Control Panel'!$O$3:$S$47,5,FALSE)","v":"NW2"},null,null,"Relative Date:",null,"Females",167789,null,"F84012",null,9092,27,26,25,26,25,21,36,34,33,33,33,31,31,31,31,31,31,33]
["2018-06-01",{"$f":"VLOOKUP(J555,'Control Panel'!$O$3:$S$47,5,FALSE)","v":"NW1"},null,null,"2018-07-01",null,null,null,null,"F84016",null,11794,28,28,28,27,25,3,30,27,25,24,24,30,27,25,20,26,24,23]
["2018-06-01",{"$f":"VLOOKUP(J556,'Control Panel'!$O$3:$S$47,5,FALSE)","v":"NW7"},null,null,null,null,null,null,null,"F84025",null,11771,48,47,47,48,42,24,41,40,39,38,38,46,45,45,40,41,40,37]
["2018-06-01",{"$f":"VLOOKUP(J557,'Control Panel'!$O$3:$S$47,5,FALSE)","v":"NW5"},null,null,null,null,null,null,null,"F84030",null,3212,9,9,8,9,7,2,11,10,10,11,10,7,7,6,6,7,6,10]
["2018-06-01",{"$f":"VLOOKUP(J558,'Control Panel'!$O$3:$S$47,5,FALSE)","v":"NW3&4"},null,null,null,null,null,null,null,"F84031",null,11923,45,42,42,42,42,38,37,35,32,31,31,37,36,35,35,35,35,32]
["2018-06-01",{"$f":"VLOOKUP(J559,'Control Panel'!$O$3:$S$47,5,FALSE)","v":"NW5"},null,null,null,null,null,null,null,"F84034",null,13070,64,61,60,62,60,15,40,39,34,36,36,45,45,45,40,44,39,36]
["2018-06-01",{"$f":"VLOOKUP(J560,'Control Panel'!$O$3:$S$47,5,FALSE)","v":"NW3&4"},null,null,null,null,null,null,null,"F84039",null,11324,36,34,34,34,33,6,43,43,40,39,39,36,35,35,32,34,31,39]
["2018-06-01",{"$f":"VLOOKUP(J561,'Control Panel'!$O$3:$S$47,5,FALSE)","v":"NW5"},null,null,null,null,null,null,null,"F84044",null,6313,24,20,20,21,22,6,17,17,16,16,16,18,17,17,15,17,15,16]
["2018-06-01",{"$f":"VLOOKUP(J562,'Control Panel'!$O$3:$S$47,5,FALSE)","v":"NW3&4"},null,null,null,null,null,null,null,"F84046",null,3399,15,13,13,13,13,13,15,14,15,15,15,10,10,9,8,10,8,14]
["2018-06-01",{"$f":"VLOOKUP(J563,'Control Panel'!$O$3:$S$47,5,FALSE)","v":"NW1"},null,null,null,null,null,null,null,"F84051",null,4343,11,9,9,9,9,7,11,11,11,11,11,5,5,5,5,5,5,11]
["2018-06-01",{"$f":"VLOOKUP(J564,'Control Panel'!$O$3:$S$47,5,FALSE)","v":"NW7"},null,null,null,null,null,null,null,"F84054",null,11218,35,34,34,34,30,27,57,56,54,56,56,49,48,47,43,46,45,55]
["2018-06-01",{"$f":"VLOOKUP(J565,'Control Panel'!$O$3:$S$47,5,FALSE)","v":"NW5"},null,null,null,null,null,null,null,"F84055",null,3544,9,9,9,9,9,3,8,8,8,8,8,4,4,4,3,4,4,8]
["2018-06-01",{"$f":"VLOOKUP(J566,'Control Panel'!$O$3:$S$47,5,FALSE)","v":"NW7"},null,null,null,null,null,null,null,"F84062",null,14734,51,49,49,50,50,21,57,53,51,52,51,60,59,56,48,57,51,51]
["2018-06-01",{"$f":"VLOOKUP(J567,'Control Panel'!$O$3:$S$47,5,FALSE)","v":"NW3&4"},null,null,null,null,null,null,null,"F84079",null,10403,44,39,40,40,37,12,28,26,22,22,22,29,28,26,23,26,22,22]
["2018-06-01",{"$f":"VLOOKUP(J568,'Control Panel'!$O$3:$S$47,5,FALSE)","v":"NW2"},null,null,null,null,null,null,null,"F84081",null,13669,37,34,33,34,28,14,49,49,44,46,45,29,29,28,23,28,22,44]
["2018-06-01",{"$f":"VLOOKUP(J569,'Control Panel'!$O$3:$S$47,5,FALSE)","v":"NW1"},null,null,null,null,null,null,null,"F84083",null,8339,28,27,24,27,26,6,28,26,26,27,27,13,13,13,12,12,12,26]
["2018-06-01",{"$f":"VLOOKUP(J570,'Control Panel'!$O$3:$S$47,5,FALSE)","v":"NW3&4"},null,null,null,null,null,null,null,"F84087",null,9740,41,40,40,40,34,25,41,37,35,35,36,39,39,39,34,39,36,37]
["2018-06-01",{"$f":"VLOOKUP(J571,'Control Panel'!$O$3:$S$47,5,FALSE)","v":"NW3&4"},null,null,null,null,null,null,null,"F84114",null,6480,20,19,20,19,17,11,22,22,20,20,20,18,17,17,13,17,12,21]
["2018-06-01",{"$f":"VLOOKUP(J572,'Control Panel'!$O$3:$S$47,5,FALSE)","v":"NW6"},null,null,null,null,null,null,null,"F84118",null,5303,18,16,16,16,15,7,21,19,19,19,19,15,14,14,14,14,14,19]
["2018-06-01",{"$f":"VLOOKUP(J573,'Control Panel'!$O$3:$S$47,5,FALSE)","v":"NW6"},null,null,null,null,null,null,null,"F84122",null,15265,51,47,49,48,41,29,64,58,53,53,53,45,42,43,38,43,38,52]
["2018-06-01",{"$f":"VLOOKUP(J574,'Control Panel'!$O$3:$S$47,5,FALSE)","v":"NW1"},null,null,null,null,null,null,null,"F84123",null,13898,23,15,15,15,17,8,38,32,28,27,28,33,32,30,32,29,32,28]
["2018-06-01",{"$f":"VLOOKUP(J575,'Control Panel'!$O$3:$S$47,5,FALSE)","v":"NW8"},null,null,null,null,null,null,null,"F84647",null,8247,24,23,23,23,22,6,18,18,17,18,17,17,17,17,15,17,14,17]
["2018-06-01",{"$f":"VLOOKUP(J576,'Control Panel'!$O$3:$S$47,5,FALSE)","v":"NW8"},null,null,null,null,null,null,null,"F84656",null,8750,26,25,25,25,24,8,31,29,29,29,29,18,15,15,13,14,13,29]
["2018-06-01",{"$f":"VLOOKUP(J577,'Control Panel'!$O$3:$S$47,5,FALSE)","v":"NW6"},null,null,null,null,null,null,null,"F84676",null,4320,9,9,9,9,7,7,19,18,18,18,18,9,9,9,9,9,9,18]
["2018-06-01",{"$f":"VLOOKUP(J578,'Control Panel'!$O$3:$S$47,5,FALSE)","v":"NW3&4"},null,null,null,null,null,null,null,"F84682",null,11443,51,49,49,49,49,48,50,49,48,49,50,33,33,33,33,33,33,49]
["2018-06-01",{"$f":"VLOOKUP(J579,'Control Panel'!$O$3:$S$47,5,FALSE)","v":"NW5"},null,null,null,null,null,null,null,"F84696",null,5591,16,15,15,15,15,1,18,18,16,15,16,7,6,6,6,6,6,17]
["2018-06-01",{"$f":"VLOOKUP(J580,'Control Panel'!$O$3:$S$47,5,FALSE)","v":"NW7"},null,null,null,null,null,null,null,"F84698",null,8127,31,29,28,30,25,14,35,32,31,31,31,23,23,23,20,23,20,30]
["2018-06-01",{"$f":"VLOOKUP(J581,'Control Panel'!$O$3:$S$47,5,FALSE)","v":"NW8"},null,null,null,null,null,null,null,"F84710",null,12284,52,49,49,49,48,21,39,37,34,33,34,44,41,44,32,43,35,34]
["2018-06-01",{"$f":"VLOOKUP(J582,'Control Panel'!$O$3:$S$47,5,FALSE)","v":"NW6"},null,null,null,null,null,null,null,"F84714",null,12831,52,50,50,50,38,20,48,47,43,45,44,48,45,44,41,44,41,44]
["2018-06-01",{"$f":"VLOOKUP(J583,'Control Panel'!$O$3:$S$47,5,FALSE)","v":"NW2"},null,null,null,null,null,null,null,"F84718",null,14339,42,40,39,39,37,17,37,32,30,30,31,34,33,29,30,30,31,31]
["2018-06-01",{"$f":"VLOOKUP(J584,'Control Panel'!$O$3:$S$47,5,FALSE)","v":"NW3&4"},null,null,null,null,null,null,null,"F84731",null,2082,4,4,4,4,4,3,11,11,10,11,11,3,3,3,3,3,3,11]
["2018-06-01",{"$f":"VLOOKUP(J585,'Control Panel'!$O$3:$S$47,5,FALSE)","v":"NW2"},null,null,null,null,null,null,null,"F84733",null,1216,0,0,0,0,0,0,0,0,0,0,0,0,0,0,0,0,0,0]
["2018-06-01",{"$f":"VLOOKUP(J586,'Control Panel'!$O$3:$S$47,5,FALSE)","v":"NW8"},null,null,null,null,null,null,null,"F84747",null,21304,88,79,78,79,77,15,100,91,78,81,81,52,50,49,47,47,48,81]
["2018-06-01",{"$f":"VLOOKUP(J587,'Control Panel'!$O$3:$S$47,5,FALSE)","v":"NW1"},null,null,null,null,null,null,null,"Y00212",null,4814,22,21,19,21,18,12,9,9,8,8,8,15,14,14,13,14,14,9]
["2018-06-01",{"$f":"VLOOKUP(J588,'Control Panel'!$O$3:$S$47,5,FALSE)","v":"NW6"},null,null,null,null,null,null,null,"Y03023",null,12943,40,37,35,37,32,24,53,48,42,47,47,45,43,41,38,42,38,47]
["2018-06-01",{"$f":"VLOOKUP(J589,'Control Panel'!$O$3:$S$47,5,FALSE)","v":0},null,null,null,null,null,null,null,"Total",null,327125,1121,1048,1038,1053,978,494,1162,1095,1019,1034,1035,947,915,897,815,890,827,1031]
["2018-07-01",{"$f":"VLOOKUP(J590,'Control Panel'!$O$3:$S$47,5,FALSE)","v":{"$error":"#N/A"}},"Childhood Immunisations Q2",null,"Last Run:",null,"Population Count",344745,null,null,"Search","All Patients","(01) 12 MONTH COHORT","(01.01) DTaP/IPV/Hib Combined","(01.02) Men B (1st and 2nd)","(01.03) PCV","(01.04) Rotavirus","(01.05) BCG","(02) 24 MONTH COHORT","(02.01) DTaP/IPV/Hib Combined","(02.02) MMR","(02.03) HiB/Men C","(02.04) PCV (Booster)","(03) 5 YEAR COHORT","(03.01) DTaP/IPV/Hib Combined","(03.02) MMR (Primary)","(03.03) DTaP/IPV (Booster)","(03.04) HiB/Men C","(03.05) MMR (Booster)","(02.05) Men B (Booster)"]
["2018-07-01",{"$f":"VLOOKUP(J591,'Control Panel'!$O$3:$S$47,5,FALSE)","v":{"$error":"#N/A"}},null,null,"2018-08-02T10:32:00",null,"Males",176892,null,"Organisation Code"]
["2018-07-01",{"$f":"VLOOKUP(J592,'Control Panel'!$O$3:$S$47,5,FALSE)","v":"NW2"},null,null,"Relative Date:",null,"Females",167853,null,"F84012",null,9083,31,31,31,31,29,29,32,32,31,31,31,28,27,25,26,24,25,31]
["2018-07-01",{"$f":"VLOOKUP(J593,'Control Panel'!$O$3:$S$47,5,FALSE)","v":"NW1"},null,null,"2018-08-01",null,null,null,null,"F84016",null,11825,35,30,32,33,32,5,34,31,26,26,26,53,52,52,46,52,46,25]
["2018-07-01",{"$f":"VLOOKUP(J594,'Control Panel'!$O$3:$S$47,5,FALSE)","v":"NW7"},null,null,null,null,null,null,null,"F84025",null,11339,62,57,57,57,50,31,54,50,46,47,47,35,34,33,33,33,31,46]
["2018-07-01",{"$f":"VLOOKUP(J595,'Control Panel'!$O$3:$S$47,5,FALSE)","v":"NW5"},null,null,null,null,null,null,null,"F84030",null,3225,10,10,10,10,10,2,12,12,12,12,12,8,6,6,5,6,5,12]
["2018-07-01",{"$f":"VLOOKUP(J596,'Control Panel'!$O$3:$S$47,5,FALSE)","v":"NW3&4"},null,null,null,null,null,null,null,"F84031",null,12002,49,44,44,44,42,40,39,38,36,36,36,43,41,41,37,41,37,36]
["2018-07-01",{"$f":"VLOOKUP(J597,'Control Panel'!$O$3:$S$47,5,FALSE)","v":"NW5"},null,null,null,null,null,null,null,"F84034",null,13082,49,48,48,48,47,10,41,41,36,39,39,50,50,48,48,49,47,39]
["2018-07-01",{"$f":"VLOOKUP(J598,'Control Panel'!$O$3:$S$47,5,FALSE)","v":"NW3&4"},null,null,null,null,null,null,null,"F84039",null,11337,44,43,42,43,42,2,41,40,40,40,39,36,35,34,32,33,33,39]
["2018-07-01",{"$f":"VLOOKUP(J599,'Control Panel'!$O$3:$S$47,5,FALSE)","v":"NW5"},null,null,null,null,null,null,null,"F84044",null,6322,27,23,22,23,23,6,20,19,18,19,19,15,15,15,14,15,14,19]
["2018-07-01",{"$f":"VLOOKUP(J600,'Control Panel'!$O$3:$S$47,5,FALSE)","v":"NW3&4"},null,null,null,null,null,null,null,"F84046",null,3392,12,12,12,12,11,10,11,11,11,11,11,12,12,11,11,11,12,11]
["2018-07-01",{"$f":"VLOOKUP(J601,'Control Panel'!$O$3:$S$47,5,FALSE)","v":"NW1"},null,null,null,null,null,null,null,"F84051",null,4347,9,8,8,8,7,5,10,9,9,9,9,10,10,10,9,10,9,9]
["2018-07-01",{"$f":"VLOOKUP(J602,'Control Panel'!$O$3:$S$47,5,FALSE)","v":"NW7"},null,null,null,null,null,null,null,"F84054",null,11165,38,34,33,34,32,22,46,45,45,45,45,24,24,24,24,24,24,44]
["2018-07-01",{"$f":"VLOOKUP(J603,'Control Panel'!$O$3:$S$47,5,FALSE)","v":"NW5"},null,null,null,null,null,null,null,"F84055",null,3513,5,4,5,5,4,0,7,7,6,6,6,7,7,7,6,7,6,6]
["2018-07-01",{"$f":"VLOOKUP(J604,'Control Panel'!$O$3:$S$47,5,FALSE)","v":"NW7"},null,null,null,null,null,null,null,"F84062",null,14815,65,61,60,61,59,22,49,48,47,48,48,55,54,53,50,51,51,47]
["2018-07-01",{"$f":"VLOOKUP(J605,'Control Panel'!$O$3:$S$47,5,FALSE)","v":"NW3&4"},null,null,null,null,null,null,null,"F84079",null,10417,38,36,36,36,36,6,38,37,30,30,30,25,23,23,20,23,21,29]
["2018-07-01",{"$f":"VLOOKUP(J606,'Control Panel'!$O$3:$S$47,5,FALSE)","v":"NW2"},null,null,null,null,null,null,null,"F84081",null,13628,36,31,31,31,25,12,37,33,31,31,32,21,19,20,13,19,14,32]
["2018-07-01",{"$f":"VLOOKUP(J607,'Control Panel'!$O$3:$S$47,5,FALSE)","v":"NW1"},null,null,null,null,null,null,null,"F84083",null,8340,41,37,37,37,37,7,25,24,22,23,21,19,19,19,17,18,18,23]
["2018-07-01",{"$f":"VLOOKUP(J608,'Control Panel'!$O$3:$S$47,5,FALSE)","v":"NW3&4"},null,null,null,null,null,null,null,"F84087",null,9768,42,38,38,38,35,32,30,30,28,28,28,40,38,38,38,37,39,27]
["2018-07-01",{"$f":"VLOOKUP(J609,'Control Panel'!$O$3:$S$47,5,FALSE)","v":"NW3&4"},null,null,null,null,null,null,null,"F84114",null,6541,17,16,17,17,17,4,29,28,25,25,26,12,11,11,11,11,11,26]
["2018-07-01",{"$f":"VLOOKUP(J610,'Control Panel'!$O$3:$S$47,5,FALSE)","v":"NW6"},null,null,null,null,null,null,null,"F84118",null,5313,9,9,9,9,9,5,12,12,12,12,12,8,8,8,8,8,8,12]
["2018-07-01",{"$f":"VLOOKUP(J611,'Control Panel'!$O$3:$S$47,5,FALSE)","v":"NW6"},null,null,null,null,null,null,null,"F84122",null,15257,54,47,49,51,45,17,55,53,47,48,48,55,54,52,51,53,50,47]
["2018-07-01",{"$f":"VLOOKUP(J612,'Control Panel'!$O$3:$S$47,5,FALSE)","v":"NW1"},null,null,null,null,null,null,null,"F84123",null,13774,31,27,28,28,25,9,27,25,22,22,22,25,24,24,23,24,23,22]
["2018-07-01",{"$f":"VLOOKUP(J613,'Control Panel'!$O$3:$S$47,5,FALSE)","v":"NW8"},null,null,null,null,null,null,null,"F84647",null,8371,33,33,30,33,29,14,26,25,24,24,25,16,16,16,16,16,16,25]
["2018-07-01",{"$f":"VLOOKUP(J614,'Control Panel'!$O$3:$S$47,5,FALSE)","v":"NW8"},null,null,null,null,null,null,null,"F84656",null,8676,26,25,25,25,21,10,38,37,35,36,36,28,25,24,24,22,24,35]
["2018-07-01",{"$f":"VLOOKUP(J615,'Control Panel'!$O$3:$S$47,5,FALSE)","v":"NW6"},null,null,null,null,null,null,null,"F84676",null,4312,15,13,14,14,12,2,15,14,14,14,14,18,18,18,18,18,18,14]
["2018-07-01",{"$f":"VLOOKUP(J616,'Control Panel'!$O$3:$S$47,5,FALSE)","v":"NW3&4"},null,null,null,null,null,null,null,"F84682",null,11417,38,37,37,37,34,36,24,23,22,23,23,39,36,35,35,35,36,23]
["2018-07-01",{"$f":"VLOOKUP(J617,'Control Panel'!$O$3:$S$47,5,FALSE)","v":"NW5"},null,null,null,null,null,null,null,"F84696",null,5638,13,12,12,12,11,1,29,28,27,29,29,9,9,8,6,8,7,27]
["2018-07-01",{"$f":"VLOOKUP(J618,'Control Panel'!$O$3:$S$47,5,FALSE)","v":"NW7"},null,null,null,null,null,null,null,"F84698",null,8198,42,34,35,37,35,24,46,41,35,36,36,38,34,33,31,33,32,37]
["2018-07-01",{"$f":"VLOOKUP(J619,'Control Panel'!$O$3:$S$47,5,FALSE)","v":"NW8"},null,null,null,null,null,null,null,"F84710",null,12247,29,26,26,27,25,8,52,48,46,46,46,44,44,42,37,41,39,44]
["2018-07-01",{"$f":"VLOOKUP(J620,'Control Panel'!$O$3:$S$47,5,FALSE)","v":"NW6"},null,null,null,null,null,null,null,"F84714",null,12842,51,39,39,41,39,7,40,37,33,35,34,36,34,33,34,34,34,32]
["2018-07-01",{"$f":"VLOOKUP(J621,'Control Panel'!$O$3:$S$47,5,FALSE)","v":"NW2"},null,null,null,null,null,null,null,"F84718",null,14478,37,35,34,35,34,16,41,39,38,38,38,32,32,28,26,28,26,36]
["2018-07-01",{"$f":"VLOOKUP(J622,'Control Panel'!$O$3:$S$47,5,FALSE)","v":"NW3&4"},null,null,null,null,null,null,null,"F84731",null,2080,7,6,7,7,7,5,3,3,3,3,3,2,2,2,2,2,2,3]
["2018-07-01",{"$f":"VLOOKUP(J623,'Control Panel'!$O$3:$S$47,5,FALSE)","v":"NW2"},null,null,null,null,null,null,null,"F84733",null,1224,0,0,0,0,0,0,0,0,0,0,0,0,0,0,0,0,0,0]
["2018-07-01",{"$f":"VLOOKUP(J624,'Control Panel'!$O$3:$S$47,5,FALSE)","v":"NW8"},null,null,null,null,null,null,null,"F84747",null,21579,99,88,89,89,83,8,86,76,68,70,68,57,55,54,49,50,52,67]
["2018-07-01",{"$f":"VLOOKUP(J625,'Control Panel'!$O$3:$S$47,5,FALSE)","v":"NW1"},null,null,null,null,null,null,null,"Y00212",null,4833,17,17,16,17,14,5,10,9,8,8,8,7,7,6,7,6,7,8]
["2018-07-01",{"$f":"VLOOKUP(J626,'Control Panel'!$O$3:$S$47,5,FALSE)","v":"NW6"},null,null,null,null,null,null,null,"Y03023",null,13013,50,46,46,46,45,27,66,60,55,55,55,50,47,47,44,46,45,56]
["2018-07-01",{"$f":"VLOOKUP(J627,'Control Panel'!$O$3:$S$47,5,FALSE)","v":0},null,null,null,null,null,null,null,"Total",null,327393,1161,1057,1059,1076,1006,439,1125,1065,988,1005,1002,957,922,900,851,888,862,989]
["2018-07-01",{"$f":"VLOOKUP(J628,'Control Panel'!$O$3:$S$47,5,FALSE)","v":{"$error":"#N/A"}}]
["2018-08-01",{"$f":"VLOOKUP(J629,'Control Panel'!$O$3:$S$47,5,FALSE)","v":{"$error":"#N/A"}},"Childhood Immunisations Q2",null,"Last Run:",null,"Population Count",345915,null,null,"Search","All Patients","(01) 12 MONTH COHORT","(01.01) DTaP/IPV/Hib Combined","(01.02) Men B (1st and 2nd)","(01.03) PCV","(01.04) Rotavirus","(01.05) BCG","(02) 24 MONTH COHORT","(02.01) DTaP/IPV/Hib Combined","(02.02) MMR","(02.03) HiB/Men C","(02.04) PCV (Booster)","(03) 5 YEAR COHORT","(03.01) DTaP/IPV/Hib Combined","(03.02) MMR (Primary)","(03.03) DTaP/IPV (Booster)","(03.04) HiB/Men C","(03.05) MMR (Booster)","(02.05) Men B (Booster)"]
["2018-08-01",{"$f":"VLOOKUP(J630,'Control Panel'!$O$3:$S$47,5,FALSE)","v":{"$error":"#N/A"}},null,null,"2018-09-03T11:04:00",null,"Males",177620,null,"Organisation Code"]
["2018-08-01",{"$f":"VLOOKUP(J631,'Control Panel'!$O$3:$S$47,5,FALSE)","v":"NW2"},null,null,"Relative Date:",null,"Females",168295,null,"F84012",null,9093,31,31,31,31,29,29,33,32,31,31,31,28,27,25,26,24,25,31]
["2018-08-01",{"$f":"VLOOKUP(J632,'Control Panel'!$O$3:$S$47,5,FALSE)","v":"NW1"},null,null,"2018-09-01",null,null,null,null,"F84016",null,11864,35,30,32,33,32,5,35,32,27,26,27,55,53,53,46,53,46,26]
["2018-08-01",{"$f":"VLOOKUP(J633,'Control Panel'!$O$3:$S$47,5,FALSE)","v":"NW7"},null,null,null,null,null,null,null,"F84025",null,11357,61,57,57,57,51,33,53,50,44,45,45,34,33,32,32,32,31,44]
["2018-08-01",{"$f":"VLOOKUP(J634,'Control Panel'!$O$3:$S$47,5,FALSE)","v":"NW5"},null,null,null,null,null,null,null,"F84030",null,3233,9,9,9,9,9,2,12,12,12,12,12,8,6,6,5,6,5,12]
["2018-08-01",{"$f":"VLOOKUP(J635,'Control Panel'!$O$3:$S$47,5,FALSE)","v":"NW3&4"},null,null,null,null,null,null,null,"F84031",null,12116,48,43,43,43,41,39,38,37,35,35,35,44,42,42,38,42,38,35]
["2018-08-01",{"$f":"VLOOKUP(J636,'Control Panel'!$O$3:$S$47,5,FALSE)","v":"NW5"},null,null,null,null,null,null,null,"F84034",null,13099,48,47,47,47,46,9,41,41,36,39,39,51,51,49,49,50,48,39]
["2018-08-01",{"$f":"VLOOKUP(J637,'Control Panel'!$O$3:$S$47,5,FALSE)","v":"NW3&4"},null,null,null,null,null,null,null,"F84039",null,11405,43,42,41,42,41,2,41,41,40,40,40,36,35,34,32,33,33,40]
["2018-08-01",{"$f":"VLOOKUP(J638,'Control Panel'!$O$3:$S$47,5,FALSE)","v":"NW5"},null,null,null,null,null,null,null,"F84044",null,6403,27,23,22,23,23,6,22,21,20,21,21,14,14,14,13,14,13,21]
["2018-08-01",{"$f":"VLOOKUP(J639,'Control Panel'!$O$3:$S$47,5,FALSE)","v":"NW3&4"},null,null,null,null,null,null,null,"F84046",null,3409,12,12,12,12,11,10,11,11,11,11,11,12,12,11,11,11,12,11]
["2018-08-01",{"$f":"VLOOKUP(J640,'Control Panel'!$O$3:$S$47,5,FALSE)","v":"NW1"},null,null,null,null,null,null,null,"F84051",null,4386,9,8,8,8,7,5,10,9,9,9,9,10,10,10,9,10,9,9]
["2018-08-01",{"$f":"VLOOKUP(J641,'Control Panel'!$O$3:$S$47,5,FALSE)","v":"NW7"},null,null,null,null,null,null,null,"F84054",null,11212,36,32,31,32,30,20,45,43,44,44,44,26,25,25,25,25,25,42]
["2018-08-01",{"$f":"VLOOKUP(J642,'Control Panel'!$O$3:$S$47,5,FALSE)","v":"NW5"},null,null,null,null,null,null,null,"F84055",null,3519,4,3,4,4,3,0,7,7,6,6,6,7,7,7,6,7,6,6]
["2018-08-01",{"$f":"VLOOKUP(J643,'Control Panel'!$O$3:$S$47,5,FALSE)","v":"NW7"},null,null,null,null,null,null,null,"F84062",null,14977,65,61,60,61,59,22,51,50,49,50,50,55,54,53,50,51,51,49]
["2018-08-01",{"$f":"VLOOKUP(J644,'Control Panel'!$O$3:$S$47,5,FALSE)","v":"NW3&4"},null,null,null,null,null,null,null,"F84079",null,10453,38,36,36,36,36,6,39,38,31,31,31,25,23,23,20,23,21,30]
["2018-08-01",{"$f":"VLOOKUP(J645,'Control Panel'!$O$3:$S$47,5,FALSE)","v":"NW2"},null,null,null,null,null,null,null,"F84081",null,13641,36,31,31,31,25,12,37,33,31,31,32,19,18,18,11,18,12,32]
["2018-08-01",{"$f":"VLOOKUP(J646,'Control Panel'!$O$3:$S$47,5,FALSE)","v":"NW1"},null,null,null,null,null,null,null,"F84083",null,8319,41,37,37,37,37,8,26,25,23,24,22,19,19,19,17,18,18,24]
["2018-08-01",{"$f":"VLOOKUP(J647,'Control Panel'!$O$3:$S$47,5,FALSE)","v":"NW3&4"},null,null,null,null,null,null,null,"F84087",null,9729,42,38,38,38,35,31,31,30,29,29,29,38,37,37,36,36,37,28]
["2018-08-01",{"$f":"VLOOKUP(J648,'Control Panel'!$O$3:$S$47,5,FALSE)","v":"NW3&4"},null,null,null,null,null,null,null,"F84114",null,6557,17,16,17,17,17,4,29,28,26,26,26,12,11,11,11,11,11,26]
["2018-08-01",{"$f":"VLOOKUP(J649,'Control Panel'!$O$3:$S$47,5,FALSE)","v":"NW6"},null,null,null,null,null,null,null,"F84118",null,5344,9,9,9,9,9,5,12,12,12,12,12,8,8,8,8,8,8,12]
["2018-08-01",{"$f":"VLOOKUP(J650,'Control Panel'!$O$3:$S$47,5,FALSE)","v":"NW6"},null,null,null,null,null,null,null,"F84122",null,15268,54,48,50,51,46,17,55,53,47,48,48,57,56,54,51,55,50,47]
["2018-08-01",{"$f":"VLOOKUP(J651,'Control Panel'!$O$3:$S$47,5,FALSE)","v":"NW1"},null,null,null,null,null,null,null,"F84123",null,13710,31,27,28,28,25,10,27,25,23,23,23,25,24,24,23,24,23,23]
["2018-08-01",{"$f":"VLOOKUP(J652,'Control Panel'!$O$3:$S$47,5,FALSE)","v":"NW8"},null,null,null,null,null,null,null,"F84647",null,8288,32,32,29,32,28,14,26,25,24,24,25,17,17,17,17,17,17,25]
["2018-08-01",{"$f":"VLOOKUP(J653,'Control Panel'!$O$3:$S$47,5,FALSE)","v":"NW8"},null,null,null,null,null,null,null,"F84656",null,8683,26,25,25,25,21,10,38,37,35,36,36,28,25,24,23,22,24,35]
["2018-08-01",{"$f":"VLOOKUP(J654,'Control Panel'!$O$3:$S$47,5,FALSE)","v":"NW6"},null,null,null,null,null,null,null,"F84676",null,4326,15,13,14,14,12,2,14,13,13,13,13,18,18,18,18,18,18,13]
["2018-08-01",{"$f":"VLOOKUP(J655,'Control Panel'!$O$3:$S$47,5,FALSE)","v":"NW3&4"},null,null,null,null,null,null,null,"F84682",null,11456,37,36,36,36,34,35,25,23,22,23,23,38,35,34,34,34,35,23]
["2018-08-01",{"$f":"VLOOKUP(J656,'Control Panel'!$O$3:$S$47,5,FALSE)","v":"NW5"},null,null,null,null,null,null,null,"F84696",null,5663,13,12,12,12,11,1,29,28,27,28,29,9,9,8,6,8,7,27]
["2018-08-01",{"$f":"VLOOKUP(J657,'Control Panel'!$O$3:$S$47,5,FALSE)","v":"NW7"},null,null,null,null,null,null,null,"F84698",null,8219,43,34,35,38,35,24,47,42,36,37,37,38,34,33,31,33,32,38]
["2018-08-01",{"$f":"VLOOKUP(J658,'Control Panel'!$O$3:$S$47,5,FALSE)","v":"NW8"},null,null,null,null,null,null,null,"F84710",null,12260,29,26,26,27,25,8,52,48,46,46,46,44,44,42,38,41,40,44]
["2018-08-01",{"$f":"VLOOKUP(J659,'Control Panel'!$O$3:$S$47,5,FALSE)","v":"NW6"},null,null,null,null,null,null,null,"F84714",null,12910,52,40,42,43,40,8,40,37,34,36,36,36,34,33,34,34,34,33]
["2018-08-01",{"$f":"VLOOKUP(J660,'Control Panel'!$O$3:$S$47,5,FALSE)","v":"NW2"},null,null,null,null,null,null,null,"F84718",null,14566,37,35,34,35,34,16,41,39,38,39,39,30,30,27,27,27,27,37]
["2018-08-01",{"$f":"VLOOKUP(J661,'Control Panel'!$O$3:$S$47,5,FALSE)","v":"NW3&4"},null,null,null,null,null,null,null,"F84731",null,2077,7,6,7,7,7,5,3,3,3,3,3,2,2,2,2,2,2,3]
["2018-08-01",{"$f":"VLOOKUP(J662,'Control Panel'!$O$3:$S$47,5,FALSE)","v":"NW2"},null,null,null,null,null,null,null,"F84733",null,1219,0,0,0,0,0,0,0,0,0,0,0,0,0,0,0,0,0,0]
["2018-08-01",{"$f":"VLOOKUP(J663,'Control Panel'!$O$3:$S$47,5,FALSE)","v":"NW8"},null,null,null,null,null,null,null,"F84747",null,21811,102,89,91,91,84,11,88,78,70,71,70,59,55,55,49,50,53,67]
["2018-08-01",{"$f":"VLOOKUP(J664,'Control Panel'!$O$3:$S$47,5,FALSE)","v":"NW1"},null,null,null,null,null,null,null,"Y00212",null,4872,17,17,16,17,14,5,10,10,8,8,8,7,7,6,7,6,7,8]
["2018-08-01",{"$f":"VLOOKUP(J665,'Control Panel'!$O$3:$S$47,5,FALSE)","v":"NW6"},null,null,null,null,null,null,null,"Y03023",null,13087,51,46,46,46,45,27,65,59,54,54,54,50,48,48,44,46,46,55]
["2018-08-01",{"$f":"VLOOKUP(J666,'Control Panel'!$O$3:$S$47,5,FALSE)","v":0},null,null,null,null,null,null,null,"Total",null,328531,1157,1051,1056,1072,1002,441,1133,1072,996,1011,1012,959,923,902,849,889,864,995]
["2018-09-01",{"$f":"VLOOKUP(J667,'Control Panel'!$O$3:$S$47,5,FALSE)","v":{"$error":"#N/A"}},"Childhood Immunisations Q2",null,"Last Run:",null,"Population Count",347695,null,null,"Search","All Patients","(01) 12 MONTH COHORT","(01.01) DTaP/IPV/Hib Combined","(01.02) Men B (1st and 2nd)","(01.03) PCV","(01.04) Rotavirus","(01.05) BCG","(02) 24 MONTH COHORT","(02.01) DTaP/IPV/Hib Combined","(02.02) MMR","(02.03) HiB/Men C","(02.04) PCV (Booster)","(03) 5 YEAR COHORT","(03.01) DTaP/IPV/Hib Combined","(03.02) MMR (Primary)","(03.03) DTaP/IPV (Booster)","(03.04) HiB/Men C","(03.05) MMR (Booster)","(02.05) Men B (Booster)"]
["2018-09-01",{"$f":"VLOOKUP(J668,'Control Panel'!$O$3:$S$47,5,FALSE)","v":{"$error":"#N/A"}},null,null,"2018-10-02T09:26:00",null,"Males",178394,null,"Organisation Code"]
["2018-09-01",{"$f":"VLOOKUP(J669,'Control Panel'!$O$3:$S$47,5,FALSE)","v":"NW2"},null,null,"Relative Date:",null,"Females",169301,null,"F84012",null,9047,30,30,30,30,28,28,33,32,31,31,31,27,26,24,25,23,24,31]
["2018-09-01",{"$f":"VLOOKUP(J670,'Control Panel'!$O$3:$S$47,5,FALSE)","v":"NW1"},null,null,"2018-10-01",null,null,null,null,"F84016",null,11784,35,30,32,33,32,5,34,31,26,25,26,55,53,53,46,53,46,25]
["2018-09-01",{"$f":"VLOOKUP(J671,'Control Panel'!$O$3:$S$47,5,FALSE)","v":"NW7"},null,null,null,null,null,null,null,"F84025",null,11387,60,56,55,56,49,34,52,47,45,46,46,34,33,32,32,32,31,44]
["2018-09-01",{"$f":"VLOOKUP(J672,'Control Panel'!$O$3:$S$47,5,FALSE)","v":"NW5"},null,null,null,null,null,null,null,"F84030",null,3242,9,9,9,9,9,2,12,12,12,12,12,8,6,6,5,6,5,12]
["2018-09-01",{"$f":"VLOOKUP(J673,'Control Panel'!$O$3:$S$47,5,FALSE)","v":"NW3&4"},null,null,null,null,null,null,null,"F84031",null,12220,48,43,43,43,41,40,39,37,35,35,35,44,42,42,38,42,38,35]
["2018-09-01",{"$f":"VLOOKUP(J674,'Control Panel'!$O$3:$S$47,5,FALSE)","v":"NW5"},null,null,null,null,null,null,null,"F84034",null,13078,49,47,47,47,46,9,41,41,36,39,39,51,51,49,49,50,48,39]
["2018-09-01",{"$f":"VLOOKUP(J675,'Control Panel'!$O$3:$S$47,5,FALSE)","v":"NW3&4"},null,null,null,null,null,null,null,"F84039",null,11550,43,42,41,42,41,3,41,41,40,40,40,36,35,34,32,33,33,40]
["2018-09-01",{"$f":"VLOOKUP(J676,'Control Panel'!$O$3:$S$47,5,FALSE)","v":"NW5"},null,null,null,null,null,null,null,"F84044",null,6483,27,23,22,23,23,6,22,21,20,21,21,15,15,15,14,15,14,21]
["2018-09-01",{"$f":"VLOOKUP(J677,'Control Panel'!$O$3:$S$47,5,FALSE)","v":"NW3&4"},null,null,null,null,null,null,null,"F84046",null,3406,12,12,12,12,11,10,11,11,11,11,11,12,12,11,11,11,12,11]
["2018-09-01",{"$f":"VLOOKUP(J678,'Control Panel'!$O$3:$S$47,5,FALSE)","v":"NW1"},null,null,null,null,null,null,null,"F84051",null,4385,9,8,8,8,7,5,10,9,9,9,9,10,10,10,9,10,9,9]
["2018-09-01",{"$f":"VLOOKUP(J679,'Control Panel'!$O$3:$S$47,5,FALSE)","v":"NW7"},null,null,null,null,null,null,null,"F84054",null,11234,37,33,32,33,31,20,44,43,43,43,43,25,25,25,24,24,24,42]
["2018-09-01",{"$f":"VLOOKUP(J680,'Control Panel'!$O$3:$S$47,5,FALSE)","v":"NW5"},null,null,null,null,null,null,null,"F84055",null,3538,4,3,4,4,3,0,7,7,6,6,6,7,7,7,6,7,6,6]
["2018-09-01",{"$f":"VLOOKUP(J681,'Control Panel'!$O$3:$S$47,5,FALSE)","v":"NW7"},null,null,null,null,null,null,null,"F84062",null,14797,61,58,57,58,57,22,51,50,49,50,50,54,53,52,49,50,50,49]
["2018-09-01",{"$f":"VLOOKUP(J682,'Control Panel'!$O$3:$S$47,5,FALSE)","v":"NW3&4"},null,null,null,null,null,null,null,"F84079",null,10484,38,36,36,36,36,6,39,38,31,31,31,25,23,23,21,23,21,30]
["2018-09-01",{"$f":"VLOOKUP(J683,'Control Panel'!$O$3:$S$47,5,FALSE)","v":"NW2"},null,null,null,null,null,null,null,"F84081",null,13690,36,31,31,31,25,12,37,33,31,31,32,19,18,18,11,18,12,32]
["2018-09-01",{"$f":"VLOOKUP(J684,'Control Panel'!$O$3:$S$47,5,FALSE)","v":"NW1"},null,null,null,null,null,null,null,"F84083",null,8307,37,33,33,33,33,8,26,25,23,24,22,19,19,19,18,18,19,24]
["2018-09-01",{"$f":"VLOOKUP(J685,'Control Panel'!$O$3:$S$47,5,FALSE)","v":"NW3&4"},null,null,null,null,null,null,null,"F84087",null,9770,45,40,39,40,36,31,31,30,29,29,29,37,36,36,35,35,36,28]
["2018-09-01",{"$f":"VLOOKUP(J686,'Control Panel'!$O$3:$S$47,5,FALSE)","v":"NW3&4"},null,null,null,null,null,null,null,"F84114",null,6541,17,17,17,17,17,6,28,27,26,26,26,12,11,11,11,11,11,26]
["2018-09-01",{"$f":"VLOOKUP(J687,'Control Panel'!$O$3:$S$47,5,FALSE)","v":"NW6"},null,null,null,null,null,null,null,"F84118",null,5405,9,9,9,9,9,5,11,11,11,11,11,8,8,8,8,8,8,11]
["2018-09-01",{"$f":"VLOOKUP(J688,'Control Panel'!$O$3:$S$47,5,FALSE)","v":"NW6"},null,null,null,null,null,null,null,"F84122",null,15237,52,47,48,49,45,15,55,53,47,48,48,58,57,55,54,56,53,47]
["2018-09-01",{"$f":"VLOOKUP(J689,'Control Panel'!$O$3:$S$47,5,FALSE)","v":"NW1"},null,null,null,null,null,null,null,"F84123",null,14560,31,27,28,28,25,10,27,25,23,23,23,26,25,25,24,25,24,23]
["2018-09-01",{"$f":"VLOOKUP(J690,'Control Panel'!$O$3:$S$47,5,FALSE)","v":"NW8"},null,null,null,null,null,null,null,"F84647",null,8406,32,32,29,32,28,14,27,26,25,25,26,17,17,17,17,17,17,26]
["2018-09-01",{"$f":"VLOOKUP(J691,'Control Panel'!$O$3:$S$47,5,FALSE)","v":"NW8"},null,null,null,null,null,null,null,"F84656",null,8695,26,25,25,25,21,15,38,38,36,37,37,28,25,24,23,22,24,36]
["2018-09-01",{"$f":"VLOOKUP(J692,'Control Panel'!$O$3:$S$47,5,FALSE)","v":"NW6"},null,null,null,null,null,null,null,"F84676",null,4346,15,13,14,14,12,2,14,13,13,13,13,17,17,17,17,17,17,13]
["2018-09-01",{"$f":"VLOOKUP(J693,'Control Panel'!$O$3:$S$47,5,FALSE)","v":"NW3&4"},null,null,null,null,null,null,null,"F84682",null,11486,36,35,35,35,33,34,26,23,22,23,23,38,35,34,34,34,35,23]
["2018-09-01",{"$f":"VLOOKUP(J694,'Control Panel'!$O$3:$S$47,5,FALSE)","v":"NW5"},null,null,null,null,null,null,null,"F84696",null,5694,13,12,12,12,11,1,29,28,27,28,29,9,9,8,6,8,7,27]
["2018-09-01",{"$f":"VLOOKUP(J695,'Control Panel'!$O$3:$S$47,5,FALSE)","v":"NW7"},null,null,null,null,null,null,null,"F84698",null,8313,42,33,34,37,34,23,47,42,37,38,38,38,34,33,31,33,32,39]
["2018-09-01",{"$f":"VLOOKUP(J696,'Control Panel'!$O$3:$S$47,5,FALSE)","v":"NW8"},null,null,null,null,null,null,null,"F84710",null,12237,28,25,25,26,24,7,51,48,45,45,45,43,43,41,37,40,39,44]
["2018-09-01",{"$f":"VLOOKUP(J697,'Control Panel'!$O$3:$S$47,5,FALSE)","v":"NW6"},null,null,null,null,null,null,null,"F84714",null,12994,51,40,40,42,39,8,40,37,34,36,36,36,34,33,34,34,34,34]
["2018-09-01",{"$f":"VLOOKUP(J698,'Control Panel'!$O$3:$S$47,5,FALSE)","v":"NW2"},null,null,null,null,null,null,null,"F84718",null,14596,38,35,34,35,34,16,40,39,37,38,38,30,30,27,27,27,27,37]
["2018-09-01",{"$f":"VLOOKUP(J699,'Control Panel'!$O$3:$S$47,5,FALSE)","v":"NW3&4"},null,null,null,null,null,null,null,"F84731",null,2084,6,5,6,6,6,4,3,3,3,3,3,3,3,3,2,3,3,3]
["2018-09-01",{"$f":"VLOOKUP(J700,'Control Panel'!$O$3:$S$47,5,FALSE)","v":"NW2"},null,null,null,null,null,null,null,"F84733",null,1227,0,0,0,0,0,0,0,0,0,0,0,0,0,0,0,0,0,0]
["2018-09-01",{"$f":"VLOOKUP(J701,'Control Panel'!$O$3:$S$47,5,FALSE)","v":"NW8"},null,null,null,null,null,null,null,"F84747",null,21968,103,92,92,94,86,16,88,79,70,71,70,57,53,53,47,48,51,67]
["2018-09-01",{"$f":"VLOOKUP(J702,'Control Panel'!$O$3:$S$47,5,FALSE)","v":"NW1"},null,null,null,null,null,null,null,"Y00212",null,4951,17,17,16,17,14,5,10,10,8,8,8,7,7,6,7,6,7,8]
["2018-09-01",{"$f":"VLOOKUP(J703,'Control Panel'!$O$3:$S$47,5,FALSE)","v":"NW6"},null,null,null,null,null,null,null,"Y03023",null,13227,50,46,46,46,45,28,67,60,55,54,55,51,49,49,45,47,47,55]
["2018-09-01",{"$f":"VLOOKUP(J704,'Control Panel'!$O$3:$S$47,5,FALSE)","v":0},null,null,null,null,null,null,null,"Total",null,330369,1146,1044,1041,1062,991,450,1131,1070,996,1010,1012,956,921,900,849,886,864,997]
["2018-10-01",{"$f":"VLOOKUP(J705,'Control Panel'!$O$3:$S$47,5,FALSE)","v":{"$error":"#N/A"}},"Childhood Immunisations Q3",null,"Last Run:",null,"Population Count",348472,null,null,"Search","All Patients","(01) 12 MONTH COHORT","(01.01) DTaP/IPV/Hib Combined","(01.02) Men B (1st and 2nd)","(01.03) PCV","(01.04) Rotavirus","(01.05) BCG","(02) 24 MONTH COHORT","(02.01) DTaP/IPV/Hib Combined","(02.02) MMR","(02.03) HiB/Men C","(02.04) PCV (Booster)","(03) 5 YEAR COHORT","(03.01) DTaP/IPV/Hib Combined","(03.02) MMR (Primary)","(03.03) DTaP/IPV (Booster)","(03.04) HiB/Men C","(03.05) MMR (Booster)","(02.05) Men B (Booster)"]
["2018-10-01",{"$f":"VLOOKUP(J706,'Control Panel'!$O$3:$S$47,5,FALSE)","v":{"$error":"#N/A"}},null,null,"2018-11-02T14:58:00",null,"Males",178946,null,"Organisation Code"]
["2018-10-01",{"$f":"VLOOKUP(J707,'Control Panel'!$O$3:$S$47,5,FALSE)","v":"NW2"},null,null,"Relative Date:",null,"Females",169526,null,"F84012",null,9004,28,28,28,28,23,26,37,37,36,36,36,38,36,36,34,36,34,36]
["2018-10-01",{"$f":"VLOOKUP(J708,'Control Panel'!$O$3:$S$47,5,FALSE)","v":"NW1"},null,null,"2018-11-01",null,null,null,null,"F84016",null,11783,33,30,30,30,29,11,35,32,29,29,30,32,31,30,23,31,25,30]
["2018-10-01",{"$f":"VLOOKUP(J709,'Control Panel'!$O$3:$S$47,5,FALSE)","v":"NW7"},null,null,null,null,null,null,null,"F84025",null,11203,38,31,31,31,32,24,37,37,35,35,35,32,29,28,29,27,27,34]
["2018-10-01",{"$f":"VLOOKUP(J710,'Control Panel'!$O$3:$S$47,5,FALSE)","v":"NW5"},null,null,null,null,null,null,null,"F84030",null,3247,10,10,10,10,10,3,10,10,9,9,8,5,5,5,5,5,5,8]
["2018-10-01",{"$f":"VLOOKUP(J711,'Control Panel'!$O$3:$S$47,5,FALSE)","v":"NW3&4"},null,null,null,null,null,null,null,"F84031",null,12244,38,35,34,36,34,27,46,44,45,44,44,38,38,38,36,37,37,44]
["2018-10-01",{"$f":"VLOOKUP(J712,'Control Panel'!$O$3:$S$47,5,FALSE)","v":"NW5"},null,null,null,null,null,null,null,"F84034",null,13052,51,50,50,50,47,8,51,48,43,45,45,48,46,43,43,44,43,45]
["2018-10-01",{"$f":"VLOOKUP(J713,'Control Panel'!$O$3:$S$47,5,FALSE)","v":"NW3&4"},null,null,null,null,null,null,null,"F84039",null,11668,34,30,29,29,28,2,45,41,38,37,37,48,46,46,44,43,42,37]
["2018-10-01",{"$f":"VLOOKUP(J714,'Control Panel'!$O$3:$S$47,5,FALSE)","v":"NW5"},null,null,null,null,null,null,null,"F84044",null,6534,22,21,21,21,19,2,21,18,12,12,12,26,25,23,20,25,21,12]
["2018-10-01",{"$f":"VLOOKUP(J715,'Control Panel'!$O$3:$S$47,5,FALSE)","v":"NW3&4"},null,null,null,null,null,null,null,"F84046",null,3388,8,7,7,7,7,5,14,14,13,12,13,5,5,4,4,4,4,13]
["2018-10-01",{"$f":"VLOOKUP(J716,'Control Panel'!$O$3:$S$47,5,FALSE)","v":"NW1"},null,null,null,null,null,null,null,"F84051",null,4414,12,11,11,11,11,11,11,11,11,11,10,11,10,10,9,10,10,10]
["2018-10-01",{"$f":"VLOOKUP(J717,'Control Panel'!$O$3:$S$47,5,FALSE)","v":"NW7"},null,null,null,null,null,null,null,"F84054",null,11193,49,47,47,48,43,33,53,51,47,48,48,38,36,36,37,35,37,49]
["2018-10-01",{"$f":"VLOOKUP(J718,'Control Panel'!$O$3:$S$47,5,FALSE)","v":"NW5"},null,null,null,null,null,null,null,"F84055",null,3536,8,8,8,8,8,1,6,5,5,5,5,5,5,5,4,4,5,5]
["2018-10-01",{"$f":"VLOOKUP(J719,'Control Panel'!$O$3:$S$47,5,FALSE)","v":"NW7"},null,null,null,null,null,null,null,"F84062",null,14815,57,55,56,56,53,23,52,50,41,44,44,59,58,56,53,57,51,43]
["2018-10-01",{"$f":"VLOOKUP(J720,'Control Panel'!$O$3:$S$47,5,FALSE)","v":"NW3&4"},null,null,null,null,null,null,null,"F84079",null,10531,37,34,34,34,34,14,29,25,25,25,25,20,20,20,16,20,16,25]
["2018-10-01",{"$f":"VLOOKUP(J721,'Control Panel'!$O$3:$S$47,5,FALSE)","v":"NW2"},null,null,null,null,null,null,null,"F84081",null,13786,32,30,28,30,25,16,33,29,27,26,25,34,32,31,29,30,29,26]
["2018-10-01",{"$f":"VLOOKUP(J722,'Control Panel'!$O$3:$S$47,5,FALSE)","v":"NW1"},null,null,null,null,null,null,null,"F84083",null,8282,21,19,19,19,19,5,21,20,17,19,21,24,24,24,19,24,20,20]
["2018-10-01",{"$f":"VLOOKUP(J723,'Control Panel'!$O$3:$S$47,5,FALSE)","v":"NW3&4"},null,null,null,null,null,null,null,"F84087",null,9727,29,28,28,29,26,23,41,38,37,37,38,41,39,39,38,38,38,38]
["2018-10-01",{"$f":"VLOOKUP(J724,'Control Panel'!$O$3:$S$47,5,FALSE)","v":"NW3&4"},null,null,null,null,null,null,null,"F84114",null,6544,15,13,13,13,13,9,13,12,12,12,12,14,14,13,13,13,13,12]
["2018-10-01",{"$f":"VLOOKUP(J725,'Control Panel'!$O$3:$S$47,5,FALSE)","v":"NW6"},null,null,null,null,null,null,null,"F84118",null,5478,17,15,16,16,14,8,12,10,11,10,9,9,8,8,7,7,7,10]
["2018-10-01",{"$f":"VLOOKUP(J726,'Control Panel'!$O$3:$S$47,5,FALSE)","v":"NW6"},null,null,null,null,null,null,null,"F84122",null,15273,49,46,46,46,44,14,56,53,49,49,49,51,50,47,49,48,45,49]
["2018-10-01",{"$f":"VLOOKUP(J727,'Control Panel'!$O$3:$S$47,5,FALSE)","v":"NW1"},null,null,null,null,null,null,null,"F84123",null,14977,24,21,21,21,22,8,13,12,10,10,10,28,27,26,26,26,26,9]
["2018-10-01",{"$f":"VLOOKUP(J728,'Control Panel'!$O$3:$S$47,5,FALSE)","v":"NW8"},null,null,null,null,null,null,null,"F84647",null,8454,29,29,27,29,27,10,27,27,21,24,23,22,22,22,22,21,21,24]
["2018-10-01",{"$f":"VLOOKUP(J729,'Control Panel'!$O$3:$S$47,5,FALSE)","v":"NW8"},null,null,null,null,null,null,null,"F84656",null,8765,24,23,23,23,21,14,19,19,17,17,18,24,23,22,18,22,20,18]
["2018-10-01",{"$f":"VLOOKUP(J730,'Control Panel'!$O$3:$S$47,5,FALSE)","v":"NW6"},null,null,null,null,null,null,null,"F84676",null,4319,12,10,10,10,10,1,16,15,15,15,15,8,7,7,7,7,7,15]
["2018-10-01",{"$f":"VLOOKUP(J731,'Control Panel'!$O$3:$S$47,5,FALSE)","v":"NW3&4"},null,null,null,null,null,null,null,"F84682",null,11355,36,33,33,33,30,33,45,45,44,45,45,38,38,37,36,33,37,45]
["2018-10-01",{"$f":"VLOOKUP(J732,'Control Panel'!$O$3:$S$47,5,FALSE)","v":"NW5"},null,null,null,null,null,null,null,"F84696",null,5735,23,23,23,23,22,2,17,17,16,16,16,8,8,8,6,8,7,16]
["2018-10-01",{"$f":"VLOOKUP(J733,'Control Panel'!$O$3:$S$47,5,FALSE)","v":"NW7"},null,null,null,null,null,null,null,"F84698",null,8347,46,41,42,42,39,24,31,30,24,27,27,21,20,20,19,21,20,27]
["2018-10-01",{"$f":"VLOOKUP(J734,'Control Panel'!$O$3:$S$47,5,FALSE)","v":"NW8"},null,null,null,null,null,null,null,"F84710",null,12221,48,42,40,42,40,13,38,35,33,33,33,26,25,25,20,25,20,34]
["2018-10-01",{"$f":"VLOOKUP(J735,'Control Panel'!$O$3:$S$47,5,FALSE)","v":"NW6"},null,null,null,null,null,null,null,"F84714",null,13124,55,50,51,51,49,19,46,45,44,45,45,41,38,37,35,38,35,43]
["2018-10-01",{"$f":"VLOOKUP(J736,'Control Panel'!$O$3:$S$47,5,FALSE)","v":"NW2"},null,null,null,null,null,null,null,"F84718",null,14683,46,42,41,42,41,12,51,51,48,49,48,28,28,27,25,28,26,48]
["2018-10-01",{"$f":"VLOOKUP(J737,'Control Panel'!$O$3:$S$47,5,FALSE)","v":"NW3&4"},null,null,null,null,null,null,null,"F84731",null,2089,7,7,7,7,6,5,3,3,2,3,3,4,4,4,3,3,4,2]
["2018-10-01",{"$f":"VLOOKUP(J738,'Control Panel'!$O$3:$S$47,5,FALSE)","v":"NW2"},null,null,null,null,null,null,null,"F84733",null,1219,0,0,0,0,0,0,0,0,0,0,0,0,0,0,0,0,0,0]
["2018-10-01",{"$f":"VLOOKUP(J739,'Control Panel'!$O$3:$S$47,5,FALSE)","v":"NW8"},null,null,null,null,null,null,null,"F84747",null,22166,93,80,77,80,74,12,90,84,78,76,77,63,60,60,58,55,58,77]
["2018-10-01",{"$f":"VLOOKUP(J740,'Control Panel'!$O$3:$S$47,5,FALSE)","v":"NW1"},null,null,null,null,null,null,null,"Y00212",null,4994,14,14,14,14,14,8,10,10,9,9,9,8,7,7,7,7,8,9]
["2018-10-01",{"$f":"VLOOKUP(J741,'Control Panel'!$O$3:$S$47,5,FALSE)","v":"NW6"},null,null,null,null,null,null,null,"Y03023",null,13425,58,51,51,52,52,30,61,56,48,49,49,62,60,58,52,54,52,49]
["2018-10-01",{"$f":"VLOOKUP(J742,'Control Panel'!$O$3:$S$47,5,FALSE)","v":0},null,null,null,null,null,null,null,"Total",null,331575,1103,1014,1006,1021,966,456,1090,1034,951,963,964,959,924,902,846,886,850,962]
["2018-11-01",{"$f":"VLOOKUP(J743,'Control Panel'!$O$3:$S$47,5,FALSE)","v":{"$error":"#N/A"}},"Childhood Immunisations Q3",null,"Last Run:",null,"Population Count",349322,null,null,"Search","All Patients","(01) 12 MONTH COHORT","(01.01) DTaP/IPV/Hib Combined","(01.02) Men B (1st and 2nd)","(01.03) PCV","(01.04) Rotavirus","(01.05) BCG","(02) 24 MONTH COHORT","(02.01) DTaP/IPV/Hib Combined","(02.02) MMR","(02.03) HiB/Men C","(02.04) PCV (Booster)","(03) 5 YEAR COHORT","(03.01) DTaP/IPV/Hib Combined","(03.02) MMR (Primary)","(03.03) DTaP/IPV (Booster)","(03.04) HiB/Men C","(03.05) MMR (Booster)","(02.05) Men B (Booster)"]
["2018-11-01",{"$f":"VLOOKUP(J744,'Control Panel'!$O$3:$S$47,5,FALSE)","v":{"$error":"#N/A"}},null,null,"2018-12-03T09:43:00",null,"Males",179510,null,"Organisation Code"]
["2018-11-01",{"$f":"VLOOKUP(J745,'Control Panel'!$O$3:$S$47,5,FALSE)","v":"NW2"},null,null,"Relative Date:",null,"Females",169812,null,"F84012",null,9027,28,28,28,28,23,26,37,37,36,36,36,37,36,36,34,36,34,36]
["2018-11-01",{"$f":"VLOOKUP(J746,'Control Panel'!$O$3:$S$47,5,FALSE)","v":"NW1"},null,null,"2018-12-01",null,null,null,null,"F84016",null,11664,34,30,30,30,29,11,33,31,27,28,29,31,30,29,23,30,25,28]
["2018-11-01",{"$f":"VLOOKUP(J747,'Control Panel'!$O$3:$S$47,5,FALSE)","v":"NW7"},null,null,null,null,null,null,null,"F84025",null,11197,35,30,30,30,29,24,37,37,35,35,35,33,30,29,30,28,28,34]
["2018-11-01",{"$f":"VLOOKUP(J748,'Control Panel'!$O$3:$S$47,5,FALSE)","v":"NW5"},null,null,null,null,null,null,null,"F84030",null,3259,10,10,10,10,10,3,10,10,9,9,8,5,5,5,5,5,5,8]
["2018-11-01",{"$f":"VLOOKUP(J749,'Control Panel'!$O$3:$S$47,5,FALSE)","v":"NW3&4"},null,null,null,null,null,null,null,"F84031",null,12322,38,34,33,35,33,26,46,44,45,44,44,39,38,38,36,37,37,44]
["2018-11-01",{"$f":"VLOOKUP(J750,'Control Panel'!$O$3:$S$47,5,FALSE)","v":"NW5"},null,null,null,null,null,null,null,"F84034",null,13065,50,49,49,49,47,8,53,50,45,47,47,47,47,44,44,45,44,47]
["2018-11-01",{"$f":"VLOOKUP(J751,'Control Panel'!$O$3:$S$47,5,FALSE)","v":"NW3&4"},null,null,null,null,null,null,null,"F84039",null,11766,34,31,29,30,28,3,44,39,36,35,35,46,44,44,42,41,40,35]
["2018-11-01",{"$f":"VLOOKUP(J752,'Control Panel'!$O$3:$S$47,5,FALSE)","v":"NW5"},null,null,null,null,null,null,null,"F84044",null,6525,22,21,21,21,19,2,21,18,12,12,12,25,24,22,19,24,20,12]
["2018-11-01",{"$f":"VLOOKUP(J753,'Control Panel'!$O$3:$S$47,5,FALSE)","v":"NW3&4"},null,null,null,null,null,null,null,"F84046",null,3398,8,7,7,7,7,5,14,14,13,12,13,6,5,4,4,4,4,13]
["2018-11-01",{"$f":"VLOOKUP(J754,'Control Panel'!$O$3:$S$47,5,FALSE)","v":"NW1"},null,null,null,null,null,null,null,"F84051",null,4485,12,11,11,11,11,11,11,11,11,11,10,11,10,10,9,10,10,10]
["2018-11-01",{"$f":"VLOOKUP(J755,'Control Panel'!$O$3:$S$47,5,FALSE)","v":"NW7"},null,null,null,null,null,null,null,"F84054",null,11212,49,47,47,48,43,34,53,51,47,48,48,38,36,36,37,35,37,49]
["2018-11-01",{"$f":"VLOOKUP(J756,'Control Panel'!$O$3:$S$47,5,FALSE)","v":"NW5"},null,null,null,null,null,null,null,"F84055",null,3563,8,8,8,8,8,1,6,5,5,5,5,5,5,5,4,4,5,5]
["2018-11-01",{"$f":"VLOOKUP(J757,'Control Panel'!$O$3:$S$47,5,FALSE)","v":"NW7"},null,null,null,null,null,null,null,"F84062",null,14883,57,55,56,56,53,23,52,50,41,44,44,60,58,56,53,57,51,43]
["2018-11-01",{"$f":"VLOOKUP(J758,'Control Panel'!$O$3:$S$47,5,FALSE)","v":"NW3&4"},null,null,null,null,null,null,null,"F84079",null,10663,37,34,34,34,34,15,27,23,24,24,24,20,20,20,16,20,16,24]
["2018-11-01",{"$f":"VLOOKUP(J759,'Control Panel'!$O$3:$S$47,5,FALSE)","v":"NW2"},null,null,null,null,null,null,null,"F84081",null,13865,32,30,29,31,25,16,33,29,28,27,26,34,32,31,29,30,29,27]
["2018-11-01",{"$f":"VLOOKUP(J760,'Control Panel'!$O$3:$S$47,5,FALSE)","v":"NW1"},null,null,null,null,null,null,null,"F84083",null,8253,20,18,18,18,18,5,21,20,17,19,21,23,23,23,19,23,20,20]
["2018-11-01",{"$f":"VLOOKUP(J761,'Control Panel'!$O$3:$S$47,5,FALSE)","v":"NW3&4"},null,null,null,null,null,null,null,"F84087",null,9640,28,27,27,28,25,23,40,38,37,37,38,42,40,40,39,39,39,38]
["2018-11-01",{"$f":"VLOOKUP(J762,'Control Panel'!$O$3:$S$47,5,FALSE)","v":"NW3&4"},null,null,null,null,null,null,null,"F84114",null,6566,13,12,12,12,12,9,13,12,12,12,12,14,14,13,13,13,13,12]
["2018-11-01",{"$f":"VLOOKUP(J763,'Control Panel'!$O$3:$S$47,5,FALSE)","v":"NW6"},null,null,null,null,null,null,null,"F84118",null,5519,17,15,16,16,14,8,12,10,11,10,9,9,8,8,7,7,7,10]
["2018-11-01",{"$f":"VLOOKUP(J764,'Control Panel'!$O$3:$S$47,5,FALSE)","v":"NW6"},null,null,null,null,null,null,null,"F84122",null,15266,47,44,44,44,42,13,56,53,48,48,48,51,50,47,49,48,45,48]
["2018-11-01",{"$f":"VLOOKUP(J765,'Control Panel'!$O$3:$S$47,5,FALSE)","v":"NW1"},null,null,null,null,null,null,null,"F84123",null,14857,24,22,22,22,22,8,14,13,11,12,12,28,28,27,27,27,27,11]
["2018-11-01",{"$f":"VLOOKUP(J766,'Control Panel'!$O$3:$S$47,5,FALSE)","v":"NW8"},null,null,null,null,null,null,null,"F84647",null,8571,29,29,27,29,27,10,27,27,21,24,23,23,22,22,22,21,21,24]
["2018-11-01",{"$f":"VLOOKUP(J767,'Control Panel'!$O$3:$S$47,5,FALSE)","v":"NW8"},null,null,null,null,null,null,null,"F84656",null,8832,25,24,24,24,22,14,19,19,17,17,18,24,23,22,18,22,20,18]
["2018-11-01",{"$f":"VLOOKUP(J768,'Control Panel'!$O$3:$S$47,5,FALSE)","v":"NW6"},null,null,null,null,null,null,null,"F84676",null,4357,12,10,10,10,10,1,16,15,15,15,15,9,7,7,7,7,7,15]
["2018-11-01",{"$f":"VLOOKUP(J769,'Control Panel'!$O$3:$S$47,5,FALSE)","v":"NW3&4"},null,null,null,null,null,null,null,"F84682",null,11323,38,36,35,35,32,34,45,45,45,45,45,39,39,38,37,34,38,45]
["2018-11-01",{"$f":"VLOOKUP(J770,'Control Panel'!$O$3:$S$47,5,FALSE)","v":"NW5"},null,null,null,null,null,null,null,"F84696",null,5779,23,23,23,23,22,2,17,17,16,16,16,8,8,8,6,8,7,16]
["2018-11-01",{"$f":"VLOOKUP(J771,'Control Panel'!$O$3:$S$47,5,FALSE)","v":"NW7"},null,null,null,null,null,null,null,"F84698",null,8432,47,41,44,44,39,24,30,29,23,26,26,22,21,20,19,21,21,26]
["2018-11-01",{"$f":"VLOOKUP(J772,'Control Panel'!$O$3:$S$47,5,FALSE)","v":"NW8"},null,null,null,null,null,null,null,"F84710",null,12245,48,42,43,44,40,13,38,36,33,33,33,26,25,25,23,25,23,34]
["2018-11-01",{"$f":"VLOOKUP(J773,'Control Panel'!$O$3:$S$47,5,FALSE)","v":"NW6"},null,null,null,null,null,null,null,"F84714",null,13140,53,48,50,50,47,19,47,46,45,46,46,42,38,38,35,38,35,44]
["2018-11-01",{"$f":"VLOOKUP(J774,'Control Panel'!$O$3:$S$47,5,FALSE)","v":"NW2"},null,null,null,null,null,null,null,"F84718",null,14708,46,42,41,42,41,12,51,49,46,47,46,28,28,27,25,28,26,47]
["2018-11-01",{"$f":"VLOOKUP(J775,'Control Panel'!$O$3:$S$47,5,FALSE)","v":"NW3&4"},null,null,null,null,null,null,null,"F84731",null,2088,7,7,7,7,6,5,3,3,2,3,3,4,4,4,3,3,4,2]
["2018-11-01",{"$f":"VLOOKUP(J776,'Control Panel'!$O$3:$S$47,5,FALSE)","v":"NW2"},null,null,null,null,null,null,null,"F84733",null,1225,0,0,0,0,0,0,0,0,0,0,0,0,0,0,0,0,0,0]
["2018-11-01",{"$f":"VLOOKUP(J777,'Control Panel'!$O$3:$S$47,5,FALSE)","v":"NW8"},null,null,null,null,null,null,null,"F84747",null,22387,92,81,76,81,76,13,90,84,78,76,77,62,58,58,56,53,56,78]
["2018-11-01",{"$f":"VLOOKUP(J778,'Control Panel'!$O$3:$S$47,5,FALSE)","v":"NW1"},null,null,null,null,null,null,null,"Y00212",null,4987,14,13,13,13,14,8,10,10,9,9,9,8,7,7,7,7,8,9]
["2018-11-01",{"$f":"VLOOKUP(J779,'Control Panel'!$O$3:$S$47,5,FALSE)","v":"NW6"},null,null,null,null,null,null,null,"Y03023",null,13400,58,52,52,53,52,30,59,54,47,47,47,60,58,56,50,52,50,47]
["2018-11-01",{"$f":"VLOOKUP(J780,'Control Panel'!$O$3:$S$47,5,FALSE)","v":0},null,null,null,null,null,null,null,"Total",null,332469,1095,1011,1006,1023,960,459,1085,1029,947,959,960,959,921,899,847,882,852,959]
["2018-12-01",{"$f":"VLOOKUP(J781,'Control Panel'!$O$3:$S$47,5,FALSE)","v":{"$error":"#N/A"}},"Childhood Immunisations Q3",null,"Last Run:",null,"Population Count",349213,null,null,"Search","All Patients","(01) 12 MONTH COHORT","(01.01) DTaP/IPV/Hib Combined","(01.02) Men B (1st and 2nd)","(01.03) PCV","(01.04) Rotavirus","(01.05) BCG","(02) 24 MONTH COHORT","(02.01) DTaP/IPV/Hib Combined","(02.02) MMR","(02.03) HiB/Men C","(02.04) PCV (Booster)","(03) 5 YEAR COHORT","(03.01) DTaP/IPV/Hib Combined","(03.02) MMR (Primary)","(03.03) DTaP/IPV (Booster)","(03.04) HiB/Men C","(03.05) MMR (Booster)","(02.05) Men B (Booster)"]
["2018-12-01",{"$f":"VLOOKUP(J782,'Control Panel'!$O$3:$S$47,5,FALSE)","v":{"$error":"#N/A"}},null,null,"2019-01-02T13:08:00",null,"Males",179571,null,"Organisation Code"]
["2018-12-01",{"$f":"VLOOKUP(J783,'Control Panel'!$O$3:$S$47,5,FALSE)","v":"NW2"},null,null,"Relative Date:",null,"Females",169642,null,"F84012",null,9045,29,28,29,29,24,26,37,37,36,36,36,37,36,36,34,36,34,36]
["2018-12-01",{"$f":"VLOOKUP(J784,'Control Panel'!$O$3:$S$47,5,FALSE)","v":"NW1"},null,null,"2019-01-01",null,null,null,null,"F84016",null,11748,34,31,31,31,30,11,33,31,27,29,30,31,29,28,22,29,24,29]
["2018-12-01",{"$f":"VLOOKUP(J785,'Control Panel'!$O$3:$S$47,5,FALSE)","v":"NW7"},null,null,null,null,null,null,null,"F84025",null,11156,33,30,30,30,28,24,37,37,35,35,35,33,30,29,30,28,28,34]
["2018-12-01",{"$f":"VLOOKUP(J786,'Control Panel'!$O$3:$S$47,5,FALSE)","v":"NW5"},null,null,null,null,null,null,null,"F84030",null,3235,10,10,10,10,10,3,10,10,9,9,8,5,5,5,5,5,5,8]
["2018-12-01",{"$f":"VLOOKUP(J787,'Control Panel'!$O$3:$S$47,5,FALSE)","v":"NW3&4"},null,null,null,null,null,null,null,"F84031",null,12411,37,33,32,34,32,26,45,43,44,43,43,39,38,38,36,37,37,43]
["2018-12-01",{"$f":"VLOOKUP(J788,'Control Panel'!$O$3:$S$47,5,FALSE)","v":"NW5"},null,null,null,null,null,null,null,"F84034",null,13092,49,49,48,49,47,9,53,50,45,47,47,47,47,44,44,45,44,47]
["2018-12-01",{"$f":"VLOOKUP(J789,'Control Panel'!$O$3:$S$47,5,FALSE)","v":"NW3&4"},null,null,null,null,null,null,null,"F84039",null,11769,34,31,29,30,28,5,44,39,36,35,35,47,45,45,43,42,41,35]
["2018-12-01",{"$f":"VLOOKUP(J790,'Control Panel'!$O$3:$S$47,5,FALSE)","v":"NW5"},null,null,null,null,null,null,null,"F84044",null,6533,21,20,20,20,18,2,21,18,12,12,12,25,24,22,19,24,20,12]
["2018-12-01",{"$f":"VLOOKUP(J791,'Control Panel'!$O$3:$S$47,5,FALSE)","v":"NW3&4"},null,null,null,null,null,null,null,"F84046",null,3385,8,7,7,7,7,5,14,14,13,13,13,6,5,4,4,4,4,13]
["2018-12-01",{"$f":"VLOOKUP(J792,'Control Panel'!$O$3:$S$47,5,FALSE)","v":"NW1"},null,null,null,null,null,null,null,"F84051",null,4516,12,11,11,11,11,11,11,11,11,11,10,11,10,10,9,10,10,10]
["2018-12-01",{"$f":"VLOOKUP(J793,'Control Panel'!$O$3:$S$47,5,FALSE)","v":"NW7"},null,null,null,null,null,null,null,"F84054",null,11174,48,46,46,47,42,33,51,49,46,47,47,37,35,35,36,34,36,47]
["2018-12-01",{"$f":"VLOOKUP(J794,'Control Panel'!$O$3:$S$47,5,FALSE)","v":"NW5"},null,null,null,null,null,null,null,"F84055",null,3569,7,7,7,7,7,1,6,5,5,5,5,6,6,5,4,4,5,5]
["2018-12-01",{"$f":"VLOOKUP(J795,'Control Panel'!$O$3:$S$47,5,FALSE)","v":"NW7"},null,null,null,null,null,null,null,"F84062",null,14872,58,56,57,57,54,24,52,50,41,44,44,60,58,56,53,57,51,43]
["2018-12-01",{"$f":"VLOOKUP(J796,'Control Panel'!$O$3:$S$47,5,FALSE)","v":"NW3&4"},null,null,null,null,null,null,null,"F84079",null,10656,37,34,34,34,34,15,27,24,25,25,25,20,20,20,16,20,16,25]
["2018-12-01",{"$f":"VLOOKUP(J797,'Control Panel'!$O$3:$S$47,5,FALSE)","v":"NW2"},null,null,null,null,null,null,null,"F84081",null,13843,31,30,28,30,24,16,33,29,28,27,26,35,33,32,30,31,30,27]
["2018-12-01",{"$f":"VLOOKUP(J798,'Control Panel'!$O$3:$S$47,5,FALSE)","v":"NW1"},null,null,null,null,null,null,null,"F84083",null,8247,20,18,18,18,18,5,21,20,17,19,21,24,23,23,19,23,20,20]
["2018-12-01",{"$f":"VLOOKUP(J799,'Control Panel'!$O$3:$S$47,5,FALSE)","v":"NW3&4"},null,null,null,null,null,null,null,"F84087",null,9584,29,28,28,29,26,24,40,38,37,37,38,43,41,41,40,40,40,38]
["2018-12-01",{"$f":"VLOOKUP(J800,'Control Panel'!$O$3:$S$47,5,FALSE)","v":"NW3&4"},null,null,null,null,null,null,null,"F84114",null,6560,13,13,13,13,12,10,14,13,13,12,12,14,14,13,13,13,13,12]
["2018-12-01",{"$f":"VLOOKUP(J801,'Control Panel'!$O$3:$S$47,5,FALSE)","v":"NW6"},null,null,null,null,null,null,null,"F84118",null,5522,17,15,16,16,14,7,12,10,11,10,9,9,8,8,7,7,7,10]
["2018-12-01",{"$f":"VLOOKUP(J802,'Control Panel'!$O$3:$S$47,5,FALSE)","v":"NW6"},null,null,null,null,null,null,null,"F84122",null,15265,47,44,44,44,42,13,55,52,47,47,47,49,48,45,47,46,43,47]
["2018-12-01",{"$f":"VLOOKUP(J803,'Control Panel'!$O$3:$S$47,5,FALSE)","v":"NW1"},null,null,null,null,null,null,null,"F84123",null,14827,24,22,22,22,22,8,14,13,11,12,12,28,28,27,27,27,27,11]
["2018-12-01",{"$f":"VLOOKUP(J804,'Control Panel'!$O$3:$S$47,5,FALSE)","v":"NW8"},null,null,null,null,null,null,null,"F84647",null,8421,29,29,27,29,27,10,25,25,20,22,21,21,21,21,20,20,20,22]
["2018-12-01",{"$f":"VLOOKUP(J805,'Control Panel'!$O$3:$S$47,5,FALSE)","v":"NW8"},null,null,null,null,null,null,null,"F84656",null,8867,25,24,24,24,22,14,18,18,17,17,18,24,23,22,18,22,20,18]
["2018-12-01",{"$f":"VLOOKUP(J806,'Control Panel'!$O$3:$S$47,5,FALSE)","v":"NW6"},null,null,null,null,null,null,null,"F84676",null,4376,12,10,10,10,10,1,16,15,15,15,15,9,7,7,7,7,7,15]
["2018-12-01",{"$f":"VLOOKUP(J807,'Control Panel'!$O$3:$S$47,5,FALSE)","v":"NW3&4"},null,null,null,null,null,null,null,"F84682",null,11352,37,35,34,34,31,34,46,45,45,45,45,37,37,36,35,32,36,45]
["2018-12-01",{"$f":"VLOOKUP(J808,'Control Panel'!$O$3:$S$47,5,FALSE)","v":"NW5"},null,null,null,null,null,null,null,"F84696",null,5778,24,24,24,24,23,3,17,17,16,16,16,8,8,8,6,8,7,16]
["2018-12-01",{"$f":"VLOOKUP(J809,'Control Panel'!$O$3:$S$47,5,FALSE)","v":"NW7"},null,null,null,null,null,null,null,"F84698",null,8440,48,43,44,45,40,25,29,28,22,25,25,22,21,20,19,21,21,25]
["2018-12-01",{"$f":"VLOOKUP(J810,'Control Panel'!$O$3:$S$47,5,FALSE)","v":"NW8"},null,null,null,null,null,null,null,"F84710",null,12243,48,43,43,44,40,13,37,36,33,33,33,26,25,25,23,25,23,34]
["2018-12-01",{"$f":"VLOOKUP(J811,'Control Panel'!$O$3:$S$47,5,FALSE)","v":"NW6"},null,null,null,null,null,null,null,"F84714",null,13258,53,50,50,51,47,19,48,47,46,47,47,42,38,38,35,38,35,45]
["2018-12-01",{"$f":"VLOOKUP(J812,'Control Panel'!$O$3:$S$47,5,FALSE)","v":"NW2"},null,null,null,null,null,null,null,"F84718",null,14716,46,43,42,43,41,13,50,48,45,46,45,28,28,27,25,28,26,46]
["2018-12-01",{"$f":"VLOOKUP(J813,'Control Panel'!$O$3:$S$47,5,FALSE)","v":"NW3&4"},null,null,null,null,null,null,null,"F84731",null,2088,7,7,7,7,6,5,3,3,2,3,3,4,4,4,3,3,4,2]
["2018-12-01",{"$f":"VLOOKUP(J814,'Control Panel'!$O$3:$S$47,5,FALSE)","v":"NW2"},null,null,null,null,null,null,null,"F84733",null,1211,0,0,0,0,0,0,0,0,0,0,0,0,0,0,0,0,0,0]
["2018-12-01",{"$f":"VLOOKUP(J815,'Control Panel'!$O$3:$S$47,5,FALSE)","v":"NW8"},null,null,null,null,null,null,null,"F84747",null,22228,83,78,74,78,72,13,87,81,78,76,77,59,57,57,56,53,56,78]
["2018-12-01",{"$f":"VLOOKUP(J816,'Control Panel'!$O$3:$S$47,5,FALSE)","v":"NW1"},null,null,null,null,null,null,null,"Y00212",null,4933,14,13,13,13,14,8,10,10,9,9,9,8,7,7,7,7,8,9]
["2018-12-01",{"$f":"VLOOKUP(J817,'Control Panel'!$O$3:$S$47,5,FALSE)","v":"NW6"},null,null,null,null,null,null,null,"Y03023",null,13506,58,52,52,53,52,30,61,55,49,49,49,59,57,55,49,51,49,49]
["2018-12-01",{"$f":"VLOOKUP(J818,'Control Panel'!$O$3:$S$47,5,FALSE)","v":0},null,null,null,null,null,null,null,"Total",null,332426,1082,1014,1004,1023,955,466,1077,1021,946,958,958,953,916,893,841,877,847,956]
["2019-01-01",{"$f":"VLOOKUP(J819,'Control Panel'!$O$3:$S$47,5,FALSE)","v":{"$error":"#N/A"}},"Childhood Immunisations Q4",null,"Last Run:",null,"Population Count",349270,null,null,"Search","All Patients","(01) 12 MONTH COHORT","(01.01) DTaP/IPV/Hib Combined","(01.02) Men B (1st and 2nd)","(01.03) PCV","(01.04) Rotavirus","(01.05) BCG","(02) 24 MONTH COHORT","(02.01) DTaP/IPV/Hib Combined","(02.02) MMR","(02.03) HiB/Men C","(02.04) PCV (Booster)","(03) 5 YEAR COHORT","(03.01) DTaP/IPV/Hib Combined","(03.02) MMR (Primary)","(03.03) DTaP/IPV (Booster)","(03.04) HiB/Men C","(03.05) MMR (Booster)","(02.05) Men B (Booster)"]
["2019-01-01",{"$f":"VLOOKUP(J820,'Control Panel'!$O$3:$S$47,5,FALSE)","v":{"$error":"#N/A"}},null,null,"2019-02-04T10:07:00",null,"Males",179338,null,"Organisation Code"]
["2019-01-01",{"$f":"VLOOKUP(J821,'Control Panel'!$O$3:$S$47,5,FALSE)","v":"NW2"},null,null,"Relative Date:",null,"Females",169932,null,"F84012",null,9071,29,27,27,27,27,25,29,28,26,27,27,28,28,27,23,27,24,27]
["2019-01-01",{"$f":"VLOOKUP(J822,'Control Panel'!$O$3:$S$47,5,FALSE)","v":"NW1"},null,null,"2019-02-01",null,null,null,null,"F84016",null,11681,28,27,26,27,26,3,32,31,28,28,28,29,27,26,23,27,23,28]
["2019-01-01",{"$f":"VLOOKUP(J823,'Control Panel'!$O$3:$S$47,5,FALSE)","v":"NW7"},null,null,null,null,null,null,null,"F84025",null,11088,30,29,29,29,29,21,43,40,38,37,37,49,48,46,42,47,41,36]
["2019-01-01",{"$f":"VLOOKUP(J824,'Control Panel'!$O$3:$S$47,5,FALSE)","v":"NW5"},null,null,null,null,null,null,null,"F84030",null,3306,3,3,3,3,3,1,8,8,6,6,6,12,12,12,10,11,11,6]
["2019-01-01",{"$f":"VLOOKUP(J825,'Control Panel'!$O$3:$S$47,5,FALSE)","v":"NW3&4"},null,null,null,null,null,null,null,"F84031",null,12443,38,35,34,35,32,28,40,37,36,36,37,29,29,29,26,29,26,38]
["2019-01-01",{"$f":"VLOOKUP(J826,'Control Panel'!$O$3:$S$47,5,FALSE)","v":"NW5"},null,null,null,null,null,null,null,"F84034",null,13040,42,39,39,39,38,13,45,44,40,43,43,41,40,38,38,38,37,43]
["2019-01-01",{"$f":"VLOOKUP(J827,'Control Panel'!$O$3:$S$47,5,FALSE)","v":"NW3&4"},null,null,null,null,null,null,null,"F84039",null,11893,38,37,33,35,32,4,43,40,39,39,39,29,27,27,27,25,27,39]
["2019-01-01",{"$f":"VLOOKUP(J828,'Control Panel'!$O$3:$S$47,5,FALSE)","v":"NW5"},null,null,null,null,null,null,null,"F84044",null,6578,23,21,22,22,21,4,20,17,14,14,14,20,20,19,16,19,16,14]
["2019-01-01",{"$f":"VLOOKUP(J829,'Control Panel'!$O$3:$S$47,5,FALSE)","v":"NW3&4"},null,null,null,null,null,null,null,"F84046",null,3376,8,8,8,7,6,6,11,11,11,11,11,12,12,12,11,12,11,11]
["2019-01-01",{"$f":"VLOOKUP(J830,'Control Panel'!$O$3:$S$47,5,FALSE)","v":"NW1"},null,null,null,null,null,null,null,"F84051",null,4613,9,8,8,8,8,8,10,9,9,9,9,5,5,5,5,5,5,9]
["2019-01-01",{"$f":"VLOOKUP(J831,'Control Panel'!$O$3:$S$47,5,FALSE)","v":"NW7"},null,null,null,null,null,null,null,"F84054",null,11137,35,33,33,33,33,27,43,42,39,39,38,41,41,38,40,38,38,39]
["2019-01-01",{"$f":"VLOOKUP(J832,'Control Panel'!$O$3:$S$47,5,FALSE)","v":"NW5"},null,null,null,null,null,null,null,"F84055",null,3568,9,9,9,9,9,1,9,9,8,8,8,9,9,9,9,9,9,8]
["2019-01-01",{"$f":"VLOOKUP(J833,'Control Panel'!$O$3:$S$47,5,FALSE)","v":"NW7"},null,null,null,null,null,null,null,"F84062",null,14945,56,52,50,52,52,20,47,45,44,43,43,60,55,53,44,52,47,43]
["2019-01-01",{"$f":"VLOOKUP(J834,'Control Panel'!$O$3:$S$47,5,FALSE)","v":"NW3&4"},null,null,null,null,null,null,null,"F84079",null,10690,31,30,30,30,29,14,31,30,30,29,29,21,19,18,16,17,16,29]
["2019-01-01",{"$f":"VLOOKUP(J835,'Control Panel'!$O$3:$S$47,5,FALSE)","v":"NW2"},null,null,null,null,null,null,null,"F84081",null,13869,30,27,27,27,24,12,34,32,30,30,29,37,35,35,31,35,31,29]
["2019-01-01",{"$f":"VLOOKUP(J836,'Control Panel'!$O$3:$S$47,5,FALSE)","v":"NW1"},null,null,null,null,null,null,null,"F84083",null,8284,26,24,24,24,23,5,25,24,21,23,23,30,29,27,26,25,26,23]
["2019-01-01",{"$f":"VLOOKUP(J837,'Control Panel'!$O$3:$S$47,5,FALSE)","v":"NW3&4"},null,null,null,null,null,null,null,"F84087",null,9535,24,21,21,20,20,16,35,34,32,32,32,28,28,28,27,27,27,32]
["2019-01-01",{"$f":"VLOOKUP(J838,'Control Panel'!$O$3:$S$47,5,FALSE)","v":"NW3&4"},null,null,null,null,null,null,null,"F84114",null,6567,22,22,22,22,21,11,15,14,13,13,12,18,18,18,14,18,15,13]
["2019-01-01",{"$f":"VLOOKUP(J839,'Control Panel'!$O$3:$S$47,5,FALSE)","v":"NW6"},null,null,null,null,null,null,null,"F84118",null,5581,8,6,4,6,4,1,9,9,9,9,9,8,8,8,8,8,8,9]
["2019-01-01",{"$f":"VLOOKUP(J840,'Control Panel'!$O$3:$S$47,5,FALSE)","v":"NW6"},null,null,null,null,null,null,null,"F84122",null,15278,35,33,33,33,30,14,46,43,41,44,44,57,54,50,50,52,49,43]
["2019-01-01",{"$f":"VLOOKUP(J841,'Control Panel'!$O$3:$S$47,5,FALSE)","v":"NW1"},null,null,null,null,null,null,null,"F84123",null,14801,21,20,20,20,19,4,28,28,28,28,27,27,25,26,24,25,25,27]
["2019-01-01",{"$f":"VLOOKUP(J842,'Control Panel'!$O$3:$S$47,5,FALSE)","v":"NW8"},null,null,null,null,null,null,null,"F84647",null,8525,25,22,22,24,22,10,17,17,16,15,15,16,16,16,15,15,16,15]
["2019-01-01",{"$f":"VLOOKUP(J843,'Control Panel'!$O$3:$S$47,5,FALSE)","v":"NW8"},null,null,null,null,null,null,null,"F84656",null,8925,22,18,18,19,19,7,25,24,24,24,24,25,25,24,22,23,23,24]
["2019-01-01",{"$f":"VLOOKUP(J844,'Control Panel'!$O$3:$S$47,5,FALSE)","v":"NW6"},null,null,null,null,null,null,null,"F84676",null,4390,10,10,10,10,10,2,17,15,15,15,15,19,18,18,19,18,18,15]
["2019-01-01",{"$f":"VLOOKUP(J845,'Control Panel'!$O$3:$S$47,5,FALSE)","v":"NW3&4"},null,null,null,null,null,null,null,"F84682",null,11376,39,38,38,38,36,19,49,46,42,43,43,31,28,26,28,27,28,43]
["2019-01-01",{"$f":"VLOOKUP(J846,'Control Panel'!$O$3:$S$47,5,FALSE)","v":"NW5"},null,null,null,null,null,null,null,"F84696",null,5849,12,12,12,12,12,3,20,20,19,19,19,16,13,14,11,13,12,19]
["2019-01-01",{"$f":"VLOOKUP(J847,'Control Panel'!$O$3:$S$47,5,FALSE)","v":"NW7"},null,null,null,null,null,null,null,"F84698",null,8484,36,35,34,35,33,18,25,24,24,24,24,19,19,17,17,18,17,24]
["2019-01-01",{"$f":"VLOOKUP(J848,'Control Panel'!$O$3:$S$47,5,FALSE)","v":"NW8"},null,null,null,null,null,null,null,"F84710",null,12231,32,30,29,30,27,12,42,40,37,36,37,28,25,25,20,25,22,37]
["2019-01-01",{"$f":"VLOOKUP(J849,'Control Panel'!$O$3:$S$47,5,FALSE)","v":"NW6"},null,null,null,null,null,null,null,"F84714",null,13364,49,44,44,44,40,18,47,43,41,41,42,53,53,52,49,51,50,42]
["2019-01-01",{"$f":"VLOOKUP(J850,'Control Panel'!$O$3:$S$47,5,FALSE)","v":"NW2"},null,null,null,null,null,null,null,"F84718",null,14754,45,42,41,42,41,11,30,28,26,26,27,27,25,25,26,26,26,27]
["2019-01-01",{"$f":"VLOOKUP(J851,'Control Panel'!$O$3:$S$47,5,FALSE)","v":"NW3&4"},null,null,null,null,null,null,null,"F84731",null,2099,5,5,5,5,5,2,4,4,4,4,4,2,2,2,2,2,2,4]
["2019-01-01",{"$f":"VLOOKUP(J852,'Control Panel'!$O$3:$S$47,5,FALSE)","v":"NW2"},null,null,null,null,null,null,null,"F84733",null,1207,0,0,0,0,0,0,0,0,0,0,0,0,0,0,0,0,0,0]
["2019-01-01",{"$f":"VLOOKUP(J853,'Control Panel'!$O$3:$S$47,5,FALSE)","v":"NW8"},null,null,null,null,null,null,null,"F84747",null,22230,83,78,78,78,76,9,85,82,81,79,80,69,66,65,64,65,65,80]
["2019-01-01",{"$f":"VLOOKUP(J854,'Control Panel'!$O$3:$S$47,5,FALSE)","v":"NW1"},null,null,null,null,null,null,null,"Y00212",null,4955,16,15,15,15,16,3,11,10,7,8,8,9,9,9,9,9,9,9]
["2019-01-01",{"$f":"VLOOKUP(J855,'Control Panel'!$O$3:$S$47,5,FALSE)","v":"NW6"},null,null,null,null,null,null,null,"Y03023",null,13591,46,44,44,44,42,27,48,47,41,43,43,55,53,51,43,50,44,42]
["2019-01-01",{"$f":"VLOOKUP(J856,'Control Panel'!$O$3:$S$47,5,FALSE)","v":0},null,null,null,null,null,null,null,"Total",null,333324,965,904,892,904,865,379,1023,975,919,925,926,959,921,895,835,888,844,927]
["2019-02-01",{"$f":"VLOOKUP(J857,'Control Panel'!$O$3:$S$47,5,FALSE)","v":{"$error":"#N/A"}},"Childhood Immunisations Q4",null,"Last Run:",null,"Population Count",350261,null,null,"Search","All Patients","(01) 12 MONTH COHORT","(01.01) DTaP/IPV/Hib Combined","(01.02) Men B (1st and 2nd)","(01.03) PCV","(01.04) Rotavirus","(01.05) BCG","(02) 24 MONTH COHORT","(02.01) DTaP/IPV/Hib Combined","(02.02) MMR","(02.03) HiB/Men C","(02.04) PCV (Booster)","(03) 5 YEAR COHORT","(03.01) DTaP/IPV/Hib Combined","(03.02) MMR (Primary)","(03.03) DTaP/IPV (Booster)","(03.04) HiB/Men C","(03.05) MMR (Booster)","(02.05) Men B (Booster)"]
["2019-02-01",{"$f":"VLOOKUP(J858,'Control Panel'!$O$3:$S$47,5,FALSE)","v":{"$error":"#N/A"}},null,null,"2019-03-04T10:14:00",null,"Males",179953,null,"Organisation Code"]
["2019-02-01",{"$f":"VLOOKUP(J859,'Control Panel'!$O$3:$S$47,5,FALSE)","v":"NW2"},null,null,"Relative Date:",null,"Females",170308,null,"F84012",null,9069,28,25,26,26,26,24,29,27,25,26,26,29,28,27,23,27,24,26]
["2019-02-01",{"$f":"VLOOKUP(J860,'Control Panel'!$O$3:$S$47,5,FALSE)","v":"NW1"},null,null,"2019-03-01",null,null,null,null,"F84016",null,11653,27,25,24,25,24,3,32,31,28,28,28,28,26,25,23,26,23,28]
["2019-02-01",{"$f":"VLOOKUP(J861,'Control Panel'!$O$3:$S$47,5,FALSE)","v":"NW7"},null,null,null,null,null,null,null,"F84025",null,11132,32,30,29,30,30,22,43,40,39,38,38,48,47,45,42,47,41,37]
["2019-02-01",{"$f":"VLOOKUP(J862,'Control Panel'!$O$3:$S$47,5,FALSE)","v":"NW5"},null,null,null,null,null,null,null,"F84030",null,3338,3,3,3,3,3,1,8,8,6,6,6,12,12,12,10,11,11,6]
["2019-02-01",{"$f":"VLOOKUP(J863,'Control Panel'!$O$3:$S$47,5,FALSE)","v":"NW3&4"},null,null,null,null,null,null,null,"F84031",null,12480,39,36,35,36,33,29,40,37,36,36,37,29,29,29,26,29,26,38]
["2019-02-01",{"$f":"VLOOKUP(J864,'Control Panel'!$O$3:$S$47,5,FALSE)","v":"NW5"},null,null,null,null,null,null,null,"F84034",null,13021,41,38,38,38,37,13,45,44,40,43,43,41,40,38,38,38,37,43]
["2019-02-01",{"$f":"VLOOKUP(J865,'Control Panel'!$O$3:$S$47,5,FALSE)","v":"NW3&4"},null,null,null,null,null,null,null,"F84039",null,11959,38,36,33,35,32,4,41,40,40,40,40,28,27,27,27,25,27,40]
["2019-02-01",{"$f":"VLOOKUP(J866,'Control Panel'!$O$3:$S$47,5,FALSE)","v":"NW5"},null,null,null,null,null,null,null,"F84044",null,6699,24,22,22,23,22,4,20,17,14,14,14,20,20,19,16,19,16,14]
["2019-02-01",{"$f":"VLOOKUP(J867,'Control Panel'!$O$3:$S$47,5,FALSE)","v":"NW3&4"},null,null,null,null,null,null,null,"F84046",null,3384,8,8,8,7,6,6,11,11,11,11,11,11,11,11,11,11,11,11]
["2019-02-01",{"$f":"VLOOKUP(J868,'Control Panel'!$O$3:$S$47,5,FALSE)","v":"NW1"},null,null,null,null,null,null,null,"F84051",null,4667,9,9,9,9,8,8,10,9,9,9,9,5,5,5,5,5,5,9]
["2019-02-01",{"$f":"VLOOKUP(J869,'Control Panel'!$O$3:$S$47,5,FALSE)","v":"NW7"},null,null,null,null,null,null,null,"F84054",null,11158,36,34,34,34,34,28,41,40,37,37,36,40,40,37,39,37,37,37]
["2019-02-01",{"$f":"VLOOKUP(J870,'Control Panel'!$O$3:$S$47,5,FALSE)","v":"NW5"},null,null,null,null,null,null,null,"F84055",null,3558,9,9,9,9,9,1,9,9,8,8,8,9,9,9,9,9,9,8]
["2019-02-01",{"$f":"VLOOKUP(J871,'Control Panel'!$O$3:$S$47,5,FALSE)","v":"NW7"},null,null,null,null,null,null,null,"F84062",null,15012,55,51,49,51,51,20,47,45,44,43,43,60,55,53,45,52,48,43]
["2019-02-01",{"$f":"VLOOKUP(J872,'Control Panel'!$O$3:$S$47,5,FALSE)","v":"NW3&4"},null,null,null,null,null,null,null,"F84079",null,10665,31,30,30,30,29,14,31,30,30,29,29,20,18,17,16,16,16,29]
["2019-02-01",{"$f":"VLOOKUP(J873,'Control Panel'!$O$3:$S$47,5,FALSE)","v":"NW2"},null,null,null,null,null,null,null,"F84081",null,13888,29,27,27,27,24,12,33,31,30,30,29,36,34,34,30,34,30,29]
["2019-02-01",{"$f":"VLOOKUP(J874,'Control Panel'!$O$3:$S$47,5,FALSE)","v":"NW1"},null,null,null,null,null,null,null,"F84083",null,8274,26,24,24,24,23,5,25,24,21,23,23,28,27,25,25,24,24,23]
["2019-02-01",{"$f":"VLOOKUP(J875,'Control Panel'!$O$3:$S$47,5,FALSE)","v":"NW3&4"},null,null,null,null,null,null,null,"F84087",null,9474,24,21,21,20,20,17,35,34,32,32,32,27,27,27,26,26,26,32]
["2019-02-01",{"$f":"VLOOKUP(J876,'Control Panel'!$O$3:$S$47,5,FALSE)","v":"NW3&4"},null,null,null,null,null,null,null,"F84114",null,6625,22,21,21,21,20,11,15,14,13,13,12,18,18,18,14,18,15,13]
["2019-02-01",{"$f":"VLOOKUP(J877,'Control Panel'!$O$3:$S$47,5,FALSE)","v":"NW6"},null,null,null,null,null,null,null,"F84118",null,5623,8,6,4,6,4,1,10,10,10,10,10,8,8,8,8,8,8,10]
["2019-02-01",{"$f":"VLOOKUP(J878,'Control Panel'!$O$3:$S$47,5,FALSE)","v":"NW6"},null,null,null,null,null,null,null,"F84122",null,15314,35,32,32,32,29,13,46,43,41,44,44,57,54,50,50,52,49,43]
["2019-02-01",{"$f":"VLOOKUP(J879,'Control Panel'!$O$3:$S$47,5,FALSE)","v":"NW1"},null,null,null,null,null,null,null,"F84123",null,14836,21,20,20,20,19,4,28,28,28,28,27,28,26,27,25,26,26,27]
["2019-02-01",{"$f":"VLOOKUP(J880,'Control Panel'!$O$3:$S$47,5,FALSE)","v":"NW8"},null,null,null,null,null,null,null,"F84647",null,8556,25,22,22,24,22,11,17,17,17,15,15,16,16,16,15,15,16,15]
["2019-02-01",{"$f":"VLOOKUP(J881,'Control Panel'!$O$3:$S$47,5,FALSE)","v":"NW8"},null,null,null,null,null,null,null,"F84656",null,8978,22,19,19,20,19,7,25,24,24,24,24,25,25,24,23,24,24,24]
["2019-02-01",{"$f":"VLOOKUP(J882,'Control Panel'!$O$3:$S$47,5,FALSE)","v":"NW6"},null,null,null,null,null,null,null,"F84676",null,4410,10,10,10,10,10,1,16,14,14,14,14,19,18,18,19,18,18,14]
["2019-02-01",{"$f":"VLOOKUP(J883,'Control Panel'!$O$3:$S$47,5,FALSE)","v":"NW3&4"},null,null,null,null,null,null,null,"F84682",null,11391,38,37,37,37,35,18,48,46,42,43,43,31,28,26,28,27,28,43]
["2019-02-01",{"$f":"VLOOKUP(J884,'Control Panel'!$O$3:$S$47,5,FALSE)","v":"NW5"},null,null,null,null,null,null,null,"F84696",null,5897,11,11,11,11,11,3,20,20,19,19,19,16,13,14,11,13,12,19]
["2019-02-01",{"$f":"VLOOKUP(J885,'Control Panel'!$O$3:$S$47,5,FALSE)","v":"NW7"},null,null,null,null,null,null,null,"F84698",null,8551,36,35,34,35,33,17,25,24,24,24,24,19,19,17,17,18,17,24]
["2019-02-01",{"$f":"VLOOKUP(J886,'Control Panel'!$O$3:$S$47,5,FALSE)","v":"NW8"},null,null,null,null,null,null,null,"F84710",null,12238,31,29,28,29,26,12,42,40,37,36,37,27,25,25,22,25,23,37]
["2019-02-01",{"$f":"VLOOKUP(J887,'Control Panel'!$O$3:$S$47,5,FALSE)","v":"NW6"},null,null,null,null,null,null,null,"F84714",null,13495,50,46,46,46,41,23,50,45,43,43,43,54,54,52,49,51,50,43]
["2019-02-01",{"$f":"VLOOKUP(J888,'Control Panel'!$O$3:$S$47,5,FALSE)","v":"NW2"},null,null,null,null,null,null,null,"F84718",null,14719,45,41,40,41,40,11,28,26,24,24,25,26,24,24,25,25,25,25]
["2019-02-01",{"$f":"VLOOKUP(J889,'Control Panel'!$O$3:$S$47,5,FALSE)","v":"NW3&4"},null,null,null,null,null,null,null,"F84731",null,2092,5,5,5,5,5,2,4,4,4,4,4,2,2,2,2,2,2,4]
["2019-02-01",{"$f":"VLOOKUP(J890,'Control Panel'!$O$3:$S$47,5,FALSE)","v":"NW2"},null,null,null,null,null,null,null,"F84733",null,1194,0,0,0,0,0,0,0,0,0,0,0,0,0,0,0,0,0,0]
["2019-02-01",{"$f":"VLOOKUP(J891,'Control Panel'!$O$3:$S$47,5,FALSE)","v":"NW8"},null,null,null,null,null,null,null,"F84747",null,22440,84,78,77,78,76,10,85,83,82,80,80,70,66,65,64,65,65,80]
["2019-02-01",{"$f":"VLOOKUP(J892,'Control Panel'!$O$3:$S$47,5,FALSE)","v":"NW1"},null,null,null,null,null,null,null,"Y00212",null,4936,16,15,15,15,16,3,11,10,7,8,8,9,9,9,9,9,9,9]
["2019-02-01",{"$f":"VLOOKUP(J893,'Control Panel'!$O$3:$S$47,5,FALSE)","v":"NW6"},null,null,null,null,null,null,null,"Y03023",null,13636,47,45,45,45,43,28,49,47,41,43,43,56,54,52,44,51,44,42]
["2019-02-01",{"$f":"VLOOKUP(J894,'Control Panel'!$O$3:$S$47,5,FALSE)","v":0},null,null,null,null,null,null,null,"Total",null,334362,965,900,887,902,860,386,1019,972,920,925,924,952,914,887,836,883,842,925]
["2019-03-01",{"$f":"VLOOKUP(J895,'Control Panel'!$O$3:$S$47,5,FALSE)","v":{"$error":"#N/A"}},"Childhood Immunisations Q4",null,"Last Run:",null,"Population Count",350695,null,null,"Search","All Patients","(01) 12 MONTH COHORT","(01.01) DTaP/IPV/Hib Combined","(01.02) Men B (1st and 2nd)","(01.03) PCV","(01.04) Rotavirus","(01.05) BCG","(02) 24 MONTH COHORT","(02.01) DTaP/IPV/Hib Combined","(02.02) MMR","(02.03) HiB/Men C","(02.04) PCV (Booster)","(03) 5 YEAR COHORT","(03.01) DTaP/IPV/Hib Combined","(03.02) MMR (Primary)","(03.03) DTaP/IPV (Booster)","(03.04) HiB/Men C","(03.05) MMR (Booster)","(02.05) Men B (Booster)"]
["2019-03-01",{"$f":"VLOOKUP(J896,'Control Panel'!$O$3:$S$47,5,FALSE)","v":{"$error":"#N/A"}},null,null,"2019-04-02T09:50:00",null,"Males",180372,null,"Organisation Code"]
["2019-03-01",{"$f":"VLOOKUP(J897,'Control Panel'!$O$3:$S$47,5,FALSE)","v":"NW2"},null,null,"Relative Date:",null,"Females",170323,null,"F84012",null,9108,28,26,27,27,27,24,29,27,25,26,26,30,29,28,24,28,25,26]
["2019-03-01",{"$f":"VLOOKUP(J898,'Control Panel'!$O$3:$S$47,5,FALSE)","v":"NW1"},null,null,"2019-04-01",null,null,null,null,"F84016",null,11671,28,26,25,26,25,3,32,31,28,28,28,28,26,25,23,26,23,28]
["2019-03-01",{"$f":"VLOOKUP(J899,'Control Panel'!$O$3:$S$47,5,FALSE)","v":"NW7"},null,null,null,null,null,null,null,"F84025",null,11226,32,30,29,30,30,21,43,40,39,38,38,48,47,45,42,47,41,37]
["2019-03-01",{"$f":"VLOOKUP(J900,'Control Panel'!$O$3:$S$47,5,FALSE)","v":"NW5"},null,null,null,null,null,null,null,"F84030",null,3374,4,4,4,4,4,1,8,8,6,6,6,12,12,12,10,11,11,6]
["2019-03-01",{"$f":"VLOOKUP(J901,'Control Panel'!$O$3:$S$47,5,FALSE)","v":"NW3&4"},null,null,null,null,null,null,null,"F84031",null,12550,39,36,35,36,33,29,41,38,37,36,37,30,29,29,26,29,26,38]
["2019-03-01",{"$f":"VLOOKUP(J902,'Control Panel'!$O$3:$S$47,5,FALSE)","v":"NW5"},null,null,null,null,null,null,null,"F84034",null,12992,41,39,38,39,38,13,44,43,39,42,42,42,41,40,39,39,38,42]
["2019-03-01",{"$f":"VLOOKUP(J903,'Control Panel'!$O$3:$S$47,5,FALSE)","v":"NW3&4"},null,null,null,null,null,null,null,"F84039",null,11995,37,35,32,34,31,4,41,41,41,40,41,28,27,27,27,25,27,40]
["2019-03-01",{"$f":"VLOOKUP(J904,'Control Panel'!$O$3:$S$47,5,FALSE)","v":"NW5"},null,null,null,null,null,null,null,"F84044",null,6737,24,22,22,23,22,5,20,18,14,14,14,20,20,19,16,19,16,14]
["2019-03-01",{"$f":"VLOOKUP(J905,'Control Panel'!$O$3:$S$47,5,FALSE)","v":"NW3&4"},null,null,null,null,null,null,null,"F84046",null,3415,8,8,8,7,6,6,11,11,11,11,11,11,11,11,11,11,11,11]
["2019-03-01",{"$f":"VLOOKUP(J906,'Control Panel'!$O$3:$S$47,5,FALSE)","v":"NW1"},null,null,null,null,null,null,null,"F84051",null,4782,9,9,9,9,8,8,10,9,9,9,9,5,5,5,5,5,5,9]
["2019-03-01",{"$f":"VLOOKUP(J907,'Control Panel'!$O$3:$S$47,5,FALSE)","v":"NW7"},null,null,null,null,null,null,null,"F84054",null,11109,34,32,32,33,32,26,38,37,34,34,33,39,39,36,38,36,36,34]
["2019-03-01",{"$f":"VLOOKUP(J908,'Control Panel'!$O$3:$S$47,5,FALSE)","v":"NW5"},null,null,null,null,null,null,null,"F84055",null,3540,9,9,9,9,9,1,9,9,8,8,8,9,9,9,9,9,9,8]
["2019-03-01",{"$f":"VLOOKUP(J909,'Control Panel'!$O$3:$S$47,5,FALSE)","v":"NW7"},null,null,null,null,null,null,null,"F84062",null,14973,54,51,49,51,51,20,46,44,43,42,42,60,55,53,45,52,48,42]
["2019-03-01",{"$f":"VLOOKUP(J910,'Control Panel'!$O$3:$S$47,5,FALSE)","v":"NW3&4"},null,null,null,null,null,null,null,"F84079",null,10688,31,30,30,30,29,14,31,30,30,29,29,19,17,16,16,16,16,29]
["2019-03-01",{"$f":"VLOOKUP(J911,'Control Panel'!$O$3:$S$47,5,FALSE)","v":"NW2"},null,null,null,null,null,null,null,"F84081",null,13878,30,27,27,27,24,12,33,31,30,30,29,34,32,32,29,32,29,29]
["2019-03-01",{"$f":"VLOOKUP(J912,'Control Panel'!$O$3:$S$47,5,FALSE)","v":"NW1"},null,null,null,null,null,null,null,"F84083",null,8305,26,24,24,24,23,5,24,23,21,22,22,29,27,25,25,24,24,22]
["2019-03-01",{"$f":"VLOOKUP(J913,'Control Panel'!$O$3:$S$47,5,FALSE)","v":"NW3&4"},null,null,null,null,null,null,null,"F84087",null,9520,26,22,22,21,21,17,36,35,33,33,33,27,27,27,26,26,26,33]
["2019-03-01",{"$f":"VLOOKUP(J914,'Control Panel'!$O$3:$S$47,5,FALSE)","v":"NW3&4"},null,null,null,null,null,null,null,"F84114",null,6633,22,22,22,22,21,11,15,14,13,13,12,17,17,17,13,17,14,13]
["2019-03-01",{"$f":"VLOOKUP(J915,'Control Panel'!$O$3:$S$47,5,FALSE)","v":"NW6"},null,null,null,null,null,null,null,"F84118",null,5644,7,5,4,5,3,1,10,10,10,10,10,8,8,8,8,8,8,10]
["2019-03-01",{"$f":"VLOOKUP(J916,'Control Panel'!$O$3:$S$47,5,FALSE)","v":"NW6"},null,null,null,null,null,null,null,"F84122",null,15318,36,34,33,34,30,14,46,43,40,43,43,58,55,51,52,53,50,42]
["2019-03-01",{"$f":"VLOOKUP(J917,'Control Panel'!$O$3:$S$47,5,FALSE)","v":"NW1"},null,null,null,null,null,null,null,"F84123",null,14723,21,20,20,20,19,4,27,27,27,27,26,28,26,27,25,26,26,26]
["2019-03-01",{"$f":"VLOOKUP(J918,'Control Panel'!$O$3:$S$47,5,FALSE)","v":"NW8"},null,null,null,null,null,null,null,"F84647",null,8546,24,23,23,24,23,11,17,17,17,15,15,16,16,16,15,15,16,15]
["2019-03-01",{"$f":"VLOOKUP(J919,'Control Panel'!$O$3:$S$47,5,FALSE)","v":"NW8"},null,null,null,null,null,null,null,"F84656",null,9094,23,20,19,20,20,8,25,24,24,24,24,25,25,24,23,24,24,24]
["2019-03-01",{"$f":"VLOOKUP(J920,'Control Panel'!$O$3:$S$47,5,FALSE)","v":"NW6"},null,null,null,null,null,null,null,"F84676",null,4395,10,10,10,10,10,1,16,14,14,14,14,19,18,18,19,18,18,14]
["2019-03-01",{"$f":"VLOOKUP(J921,'Control Panel'!$O$3:$S$47,5,FALSE)","v":"NW3&4"},null,null,null,null,null,null,null,"F84682",null,11176,33,33,32,33,31,16,43,43,42,42,42,28,26,26,28,26,28,42]
["2019-03-01",{"$f":"VLOOKUP(J922,'Control Panel'!$O$3:$S$47,5,FALSE)","v":"NW5"},null,null,null,null,null,null,null,"F84696",null,5942,11,11,11,11,11,3,20,20,19,19,19,16,13,14,11,13,12,19]
["2019-03-01",{"$f":"VLOOKUP(J923,'Control Panel'!$O$3:$S$47,5,FALSE)","v":"NW7"},null,null,null,null,null,null,null,"F84698",null,8600,36,35,34,35,33,17,25,24,24,24,24,20,20,18,18,19,18,24]
["2019-03-01",{"$f":"VLOOKUP(J924,'Control Panel'!$O$3:$S$47,5,FALSE)","v":"NW8"},null,null,null,null,null,null,null,"F84710",null,12216,31,29,28,29,26,12,43,41,39,37,38,28,25,25,22,25,23,38]
["2019-03-01",{"$f":"VLOOKUP(J925,'Control Panel'!$O$3:$S$47,5,FALSE)","v":"NW6"},null,null,null,null,null,null,null,"F84714",null,13523,50,46,46,46,41,23,52,47,46,45,46,54,54,52,49,51,50,46]
["2019-03-01",{"$f":"VLOOKUP(J926,'Control Panel'!$O$3:$S$47,5,FALSE)","v":"NW2"},null,null,null,null,null,null,null,"F84718",null,14752,45,41,40,41,40,11,27,25,24,24,25,25,23,23,24,24,24,25]
["2019-03-01",{"$f":"VLOOKUP(J927,'Control Panel'!$O$3:$S$47,5,FALSE)","v":"NW3&4"},null,null,null,null,null,null,null,"F84731",null,2099,5,5,5,5,5,2,4,4,4,4,4,2,2,2,2,2,2,4]
["2019-03-01",{"$f":"VLOOKUP(J928,'Control Panel'!$O$3:$S$47,5,FALSE)","v":"NW2"},null,null,null,null,null,null,null,"F84733",null,1173,0,0,0,0,0,0,0,0,0,0,0,0,0,0,0,0,0,0]
["2019-03-01",{"$f":"VLOOKUP(J929,'Control Panel'!$O$3:$S$47,5,FALSE)","v":"NW8"},null,null,null,null,null,null,null,"F84747",null,22498,81,78,77,78,76,10,87,84,84,82,82,69,66,65,64,65,65,81]
["2019-03-01",{"$f":"VLOOKUP(J930,'Control Panel'!$O$3:$S$47,5,FALSE)","v":"NW1"},null,null,null,null,null,null,null,"Y00212",null,5016,14,13,13,13,14,3,11,10,7,8,8,10,10,10,9,10,9,9]
["2019-03-01",{"$f":"VLOOKUP(J931,'Control Panel'!$O$3:$S$47,5,FALSE)","v":"NW6"},null,null,null,null,null,null,null,"Y03023",null,13625,47,45,45,45,43,28,49,47,41,43,43,55,53,51,43,50,43,42]
["2019-03-01",{"$f":"VLOOKUP(J932,'Control Panel'!$O$3:$S$47,5,FALSE)","v":0},null,null,null,null,null,null,null,"Total",null,334836,956,900,884,901,859,384,1013,969,923,922,923,949,910,886,836,881,841,922]
["2019-04-01",{"$f":"VLOOKUP(J933,'Control Panel'!$O$3:$S$47,5,FALSE)","v":{"$error":"#N/A"}},"Childhood Immunisations Q1",null,"Last Run:",null,"Population Count",351901,null,null,"Search","All Patients","(01) 12 MONTH COHORT","(01.01) DTaP/IPV/Hib 6in1","(01.02) Men B (1st and 2nd)","(01.03) PCV","(01.04) Rotavirus","(01.05) BCG","(02) 24 MONTH COHORT","(02.01) DTaP/IPV/Hib or DTaP/IPV/Hib/HepB","(02.02) MMR","(02.03) HiB/Men C","(02.04) PCV (Booster)","(03) 5 YEAR COHORT","(03.01) DTaP/IPV/Hib or DTaP/IPV/Hib/HepB","(03.02) MMR (Primary)","(03.03) DTaP/IPV (Booster)","(03.04) HiB/Men C","(03.05) MMR (Booster)","(02.05) Men B (Booster)"]
["2019-04-01",{"$f":"VLOOKUP(J934,'Control Panel'!$O$3:$S$47,5,FALSE)","v":{"$error":"#N/A"}},null,null,"2019-05-08T11:50:00",null,"Males",181547,null,"Organisation Code"]
["2019-04-01",{"$f":"VLOOKUP(J935,'Control Panel'!$O$3:$S$47,5,FALSE)","v":"NW2"},null,null,"Relative Date:",null,"Females",170354,null,"F84012",null,9137,31,30,30,30,30,25,30,29,26,28,28,29,29,29,26,28,26,27]
["2019-04-01",{"$f":"VLOOKUP(J936,'Control Panel'!$O$3:$S$47,5,FALSE)","v":"NW1"},null,null,"2019-05-01",null,null,null,null,"F84016",null,11676,35,33,30,33,32,13,26,26,24,24,24,24,23,21,20,21,18,24]
["2019-04-01",{"$f":"VLOOKUP(J937,'Control Panel'!$O$3:$S$47,5,FALSE)","v":"NW7"},null,null,null,null,null,null,null,"F84025",null,11357,37,37,37,37,32,29,45,45,42,42,42,54,53,51,47,51,47,41]
["2019-04-01",{"$f":"VLOOKUP(J938,'Control Panel'!$O$3:$S$47,5,FALSE)","v":"NW5"},null,null,null,null,null,null,null,"F84030",null,3381,10,8,8,8,8,4,8,8,8,8,8,3,3,3,3,3,3,8]
["2019-04-01",{"$f":"VLOOKUP(J939,'Control Panel'!$O$3:$S$47,5,FALSE)","v":"NW3&4"},null,null,null,null,null,null,null,"F84031",null,12585,47,43,43,44,41,36,48,45,43,43,43,46,44,43,42,41,42,43]
["2019-04-01",{"$f":"VLOOKUP(J940,'Control Panel'!$O$3:$S$47,5,FALSE)","v":"NW5"},null,null,null,null,null,null,null,"F84034",null,12986,36,33,33,33,33,14,59,56,53,56,55,50,48,46,41,47,42,56]
["2019-04-01",{"$f":"VLOOKUP(J941,'Control Panel'!$O$3:$S$47,5,FALSE)","v":"NW3&4"},null,null,null,null,null,null,null,"F84039",null,12075,44,41,41,41,41,12,34,33,31,32,33,28,28,27,27,27,27,33]
["2019-04-01",{"$f":"VLOOKUP(J942,'Control Panel'!$O$3:$S$47,5,FALSE)","v":"NW5"},null,null,null,null,null,null,null,"F84044",null,6764,25,23,23,23,21,7,26,23,23,23,23,16,16,15,14,16,15,23]
["2019-04-01",{"$f":"VLOOKUP(J943,'Control Panel'!$O$3:$S$47,5,FALSE)","v":"NW3&4"},null,null,null,null,null,null,null,"F84046",null,3431,11,11,11,11,11,9,13,12,12,12,12,6,6,6,6,6,6,12]
["2019-04-01",{"$f":"VLOOKUP(J944,'Control Panel'!$O$3:$S$47,5,FALSE)","v":"NW1"},null,null,null,null,null,null,null,"F84051",null,4845,7,7,7,7,7,2,10,8,8,8,8,9,7,7,8,7,8,8]
["2019-04-01",{"$f":"VLOOKUP(J945,'Control Panel'!$O$3:$S$47,5,FALSE)","v":"NW7"},null,null,null,null,null,null,null,"F84054",null,11117,51,46,45,46,45,26,35,33,32,32,32,45,45,45,42,44,44,32]
["2019-04-01",{"$f":"VLOOKUP(J946,'Control Panel'!$O$3:$S$47,5,FALSE)","v":"NW5"},null,null,null,null,null,null,null,"F84055",null,3553,6,6,6,6,6,3,8,8,8,8,8,8,8,8,8,8,8,8]
["2019-04-01",{"$f":"VLOOKUP(J947,'Control Panel'!$O$3:$S$47,5,FALSE)","v":"NW7"},null,null,null,null,null,null,null,"F84062",null,14912,54,52,52,52,50,17,54,52,52,51,51,45,41,41,35,41,36,52]
["2019-04-01",{"$f":"VLOOKUP(J948,'Control Panel'!$O$3:$S$47,5,FALSE)","v":"NW3&4"},null,null,null,null,null,null,null,"F84079",null,10708,36,36,35,36,35,21,41,41,41,41,41,20,20,18,17,20,17,41]
["2019-04-01",{"$f":"VLOOKUP(J949,'Control Panel'!$O$3:$S$47,5,FALSE)","v":"NW2"},null,null,null,null,null,null,null,"F84081",null,13827,42,38,38,38,31,13,36,35,33,33,32,24,22,22,18,22,19,34]
["2019-04-01",{"$f":"VLOOKUP(J950,'Control Panel'!$O$3:$S$47,5,FALSE)","v":"NW1"},null,null,null,null,null,null,null,"F84083",null,8280,28,26,27,27,24,6,24,23,21,20,20,16,15,16,12,14,15,20]
["2019-04-01",{"$f":"VLOOKUP(J951,'Control Panel'!$O$3:$S$47,5,FALSE)","v":"NW3&4"},null,null,null,null,null,null,null,"F84087",null,9492,42,41,41,41,37,39,42,41,37,38,37,36,36,35,31,35,31,37]
["2019-04-01",{"$f":"VLOOKUP(J952,'Control Panel'!$O$3:$S$47,5,FALSE)","v":"NW3&4"},null,null,null,null,null,null,null,"F84114",null,6619,31,25,24,25,23,20,20,20,18,18,18,13,13,13,11,13,11,18]
["2019-04-01",{"$f":"VLOOKUP(J953,'Control Panel'!$O$3:$S$47,5,FALSE)","v":"NW6"},null,null,null,null,null,null,null,"F84118",null,5676,11,11,11,11,11,6,16,15,15,15,15,8,8,8,8,8,8,15]
["2019-04-01",{"$f":"VLOOKUP(J954,'Control Panel'!$O$3:$S$47,5,FALSE)","v":"NW6"},null,null,null,null,null,null,null,"F84122",null,15286,45,43,43,43,41,29,49,49,46,46,46,38,38,38,34,38,37,46]
["2019-04-01",{"$f":"VLOOKUP(J955,'Control Panel'!$O$3:$S$47,5,FALSE)","v":"NW1"},null,null,null,null,null,null,null,"F84123",null,14588,25,22,21,22,21,3,21,20,18,18,19,22,22,22,21,21,21,19]
["2019-04-01",{"$f":"VLOOKUP(J956,'Control Panel'!$O$3:$S$47,5,FALSE)","v":"NW8"},null,null,null,null,null,null,null,"F84647",null,8606,20,17,18,18,18,6,24,24,24,24,23,21,20,20,20,20,20,23]
["2019-04-01",{"$f":"VLOOKUP(J957,'Control Panel'!$O$3:$S$47,5,FALSE)","v":"NW8"},null,null,null,null,null,null,null,"F84656",null,9107,32,32,32,32,30,13,25,24,22,23,22,18,18,18,18,18,17,23]
["2019-04-01",{"$f":"VLOOKUP(J958,'Control Panel'!$O$3:$S$47,5,FALSE)","v":"NW6"},null,null,null,null,null,null,null,"F84676",null,4401,12,12,11,12,12,7,12,11,10,10,10,12,10,10,9,10,9,10]
["2019-04-01",{"$f":"VLOOKUP(J959,'Control Panel'!$O$3:$S$47,5,FALSE)","v":"NW3&4"},null,null,null,null,null,null,null,"F84682",null,11032,37,36,36,36,35,25,47,46,42,42,42,56,54,51,48,51,49,42]
["2019-04-01",{"$f":"VLOOKUP(J960,'Control Panel'!$O$3:$S$47,5,FALSE)","v":"NW5"},null,null,null,null,null,null,null,"F84696",null,5883,20,17,17,17,18,4,15,14,12,12,12,10,10,10,7,10,8,12]
["2019-04-01",{"$f":"VLOOKUP(J961,'Control Panel'!$O$3:$S$47,5,FALSE)","v":"NW7"},null,null,null,null,null,null,null,"F84698",null,8587,28,27,27,27,27,19,27,25,20,23,23,23,21,21,22,21,22,23]
["2019-04-01",{"$f":"VLOOKUP(J962,'Control Panel'!$O$3:$S$47,5,FALSE)","v":"NW8"},null,null,null,null,null,null,null,"F84710",null,12216,41,37,36,37,36,13,50,47,42,44,44,27,24,24,18,24,18,44]
["2019-04-01",{"$f":"VLOOKUP(J963,'Control Panel'!$O$3:$S$47,5,FALSE)","v":"NW6"},null,null,null,null,null,null,null,"F84714",null,13566,49,46,46,46,45,14,55,53,49,50,50,55,53,52,52,53,51,50]
["2019-04-01",{"$f":"VLOOKUP(J964,'Control Panel'!$O$3:$S$47,5,FALSE)","v":"NW2"},null,null,null,null,null,null,null,"F84718",null,14759,32,29,27,29,27,10,43,41,34,37,37,34,32,31,29,32,31,37]
["2019-04-01",{"$f":"VLOOKUP(J965,'Control Panel'!$O$3:$S$47,5,FALSE)","v":"NW3&4"},null,null,null,null,null,null,null,"F84731",null,2092,5,4,4,4,5,4,3,3,3,3,3,3,3,3,2,2,2,3]
["2019-04-01",{"$f":"VLOOKUP(J966,'Control Panel'!$O$3:$S$47,5,FALSE)","v":"NW2"},null,null,null,null,null,null,null,"F84733",null,1164,0,0,0,0,0,0,0,0,0,0,0,0,0,0,0,0,0,0]
["2019-04-01",{"$f":"VLOOKUP(J967,'Control Panel'!$O$3:$S$47,5,FALSE)","v":"NW8"},null,null,null,null,null,null,null,"F84747",null,22658,105,100,102,102,97,21,83,74,73,74,74,63,60,59,58,57,54,75]
["2019-04-01",{"$f":"VLOOKUP(J968,'Control Panel'!$O$3:$S$47,5,FALSE)","v":"NW1"},null,null,null,null,null,null,null,"Y00212",null,4949,16,16,16,16,16,8,23,20,18,19,19,10,9,10,8,9,8,19]
["2019-04-01",{"$f":"VLOOKUP(J969,'Control Panel'!$O$3:$S$47,5,FALSE)","v":"NW6"},null,null,null,null,null,null,null,"Y03023",null,13702,60,52,51,52,50,28,42,36,35,36,35,38,34,33,28,34,29,34]
["2019-04-01",{"$f":"VLOOKUP(J970,'Control Panel'!$O$3:$S$47,5,FALSE)","v":0},null,null,null,null,null,null,null,"Total",null,335017,1111,1037,1029,1042,996,506,1094,1040,975,993,989,910,873,856,790,852,799,992]
["2019-05-01",{"$f":"VLOOKUP(J971,'Control Panel'!$O$3:$S$47,5,FALSE)","v":{"$error":"#N/A"}},"Childhood Immunisations Q1",null,"Last Run:",null,"Population Count",352748,null,null,"Search","All Patients","(01) 12 MONTH COHORT","(01.01) DTaP/IPV/Hib 6in1","(01.02) Men B (1st and 2nd)","(01.03) PCV","(01.04) Rotavirus","(01.05) BCG","(02) 24 MONTH COHORT","(02.01) DTaP/IPV/Hib or DTaP/IPV/Hib/HepB","(02.02) MMR","(02.03) HiB/Men C","(02.04) PCV (Booster)","(03) 5 YEAR COHORT","(03.01) DTaP/IPV/Hib or DTaP/IPV/Hib/HepB","(03.02) MMR (Primary)","(03.03) DTaP/IPV (Booster)","(03.04) HiB/Men C","(03.05) MMR (Booster)","(02.05) Men B (Booster)"]
["2019-05-01",{"$f":"VLOOKUP(J972,'Control Panel'!$O$3:$S$47,5,FALSE)","v":{"$error":"#N/A"}},null,null,"2019-06-03T10:35:00",null,"Males",182142,null,"Organisation Code"]
["2019-05-01",{"$f":"VLOOKUP(J973,'Control Panel'!$O$3:$S$47,5,FALSE)","v":"NW2"},null,null,"Relative Date:",null,"Females",170606,null,"F84012",null,9198,31,30,30,30,30,25,30,29,26,28,28,29,29,29,26,28,26,27]
["2019-05-01",{"$f":"VLOOKUP(J974,'Control Panel'!$O$3:$S$47,5,FALSE)","v":"NW1"},null,null,"2019-06-01",null,null,null,null,"F84016",null,11678,35,33,30,33,32,12,26,26,24,24,24,24,23,21,20,21,18,24]
["2019-05-01",{"$f":"VLOOKUP(J975,'Control Panel'!$O$3:$S$47,5,FALSE)","v":"NW7"},null,null,null,null,null,null,null,"F84025",null,11435,36,36,36,36,32,28,45,45,43,43,43,54,53,51,47,51,47,42]
["2019-05-01",{"$f":"VLOOKUP(J976,'Control Panel'!$O$3:$S$47,5,FALSE)","v":"NW5"},null,null,null,null,null,null,null,"F84030",null,3438,10,8,8,8,8,4,8,8,8,8,8,4,4,4,4,4,4,8]
["2019-05-01",{"$f":"VLOOKUP(J977,'Control Panel'!$O$3:$S$47,5,FALSE)","v":"NW3&4"},null,null,null,null,null,null,null,"F84031",null,12691,47,43,43,44,41,36,47,45,43,43,43,46,44,43,43,41,43,43]
["2019-05-01",{"$f":"VLOOKUP(J978,'Control Panel'!$O$3:$S$47,5,FALSE)","v":"NW5"},null,null,null,null,null,null,null,"F84034",null,12963,35,33,33,33,33,14,58,55,52,55,54,51,48,46,41,47,42,55]
["2019-05-01",{"$f":"VLOOKUP(J979,'Control Panel'!$O$3:$S$47,5,FALSE)","v":"NW3&4"},null,null,null,null,null,null,null,"F84039",null,12154,44,41,41,41,41,12,34,33,31,32,33,29,29,28,28,28,28,33]
["2019-05-01",{"$f":"VLOOKUP(J980,'Control Panel'!$O$3:$S$47,5,FALSE)","v":"NW5"},null,null,null,null,null,null,null,"F84044",null,6810,24,22,22,22,20,7,25,22,22,22,22,16,16,15,14,16,15,22]
["2019-05-01",{"$f":"VLOOKUP(J981,'Control Panel'!$O$3:$S$47,5,FALSE)","v":"NW3&4"},null,null,null,null,null,null,null,"F84046",null,3451,11,11,11,11,11,9,11,11,11,11,11,6,6,6,6,6,6,11]
["2019-05-01",{"$f":"VLOOKUP(J982,'Control Panel'!$O$3:$S$47,5,FALSE)","v":"NW1"},null,null,null,null,null,null,null,"F84051",null,4908,8,7,7,8,7,2,10,8,8,8,8,8,6,6,7,6,7,8]
["2019-05-01",{"$f":"VLOOKUP(J983,'Control Panel'!$O$3:$S$47,5,FALSE)","v":"NW7"},null,null,null,null,null,null,null,"F84054",null,11127,51,46,45,46,45,26,35,33,32,32,32,45,45,45,42,44,44,32]
["2019-05-01",{"$f":"VLOOKUP(J984,'Control Panel'!$O$3:$S$47,5,FALSE)","v":"NW5"},null,null,null,null,null,null,null,"F84055",null,3574,6,6,6,6,6,3,7,7,7,7,7,8,8,8,8,8,8,7]
["2019-05-01",{"$f":"VLOOKUP(J985,'Control Panel'!$O$3:$S$47,5,FALSE)","v":"NW7"},null,null,null,null,null,null,null,"F84062",null,14974,55,52,52,52,50,17,55,52,52,51,51,44,40,40,34,40,35,52]
["2019-05-01",{"$f":"VLOOKUP(J986,'Control Panel'!$O$3:$S$47,5,FALSE)","v":"NW3&4"},null,null,null,null,null,null,null,"F84079",null,10745,36,36,35,36,35,21,41,41,41,41,41,19,19,18,17,19,17,41]
["2019-05-01",{"$f":"VLOOKUP(J987,'Control Panel'!$O$3:$S$47,5,FALSE)","v":"NW2"},null,null,null,null,null,null,null,"F84081",null,13842,41,37,37,37,30,12,36,35,33,33,32,24,22,22,18,22,19,34]
["2019-05-01",{"$f":"VLOOKUP(J988,'Control Panel'!$O$3:$S$47,5,FALSE)","v":"NW1"},null,null,null,null,null,null,null,"F84083",null,8306,28,26,27,27,24,6,24,23,21,20,20,15,14,15,12,13,14,20]
["2019-05-01",{"$f":"VLOOKUP(J989,'Control Panel'!$O$3:$S$47,5,FALSE)","v":"NW3&4"},null,null,null,null,null,null,null,"F84087",null,9485,42,41,41,41,37,39,42,41,37,38,37,37,37,36,32,36,32,37]
["2019-05-01",{"$f":"VLOOKUP(J990,'Control Panel'!$O$3:$S$47,5,FALSE)","v":"NW3&4"},null,null,null,null,null,null,null,"F84114",null,6640,32,26,24,25,24,20,20,20,18,18,18,13,13,13,11,13,11,18]
["2019-05-01",{"$f":"VLOOKUP(J991,'Control Panel'!$O$3:$S$47,5,FALSE)","v":"NW6"},null,null,null,null,null,null,null,"F84118",null,5709,11,11,11,11,11,6,16,15,15,15,15,8,8,8,8,8,8,15]
["2019-05-01",{"$f":"VLOOKUP(J992,'Control Panel'!$O$3:$S$47,5,FALSE)","v":"NW6"},null,null,null,null,null,null,null,"F84122",null,15295,45,43,43,43,41,29,48,48,46,46,46,39,39,39,35,39,38,46]
["2019-05-01",{"$f":"VLOOKUP(J993,'Control Panel'!$O$3:$S$47,5,FALSE)","v":"NW1"},null,null,null,null,null,null,null,"F84123",null,14420,24,21,21,22,22,2,21,20,18,18,19,22,22,22,21,21,21,19]
["2019-05-01",{"$f":"VLOOKUP(J994,'Control Panel'!$O$3:$S$47,5,FALSE)","v":"NW8"},null,null,null,null,null,null,null,"F84647",null,8609,21,18,19,19,19,6,24,24,24,24,23,21,21,21,20,20,20,24]
["2019-05-01",{"$f":"VLOOKUP(J995,'Control Panel'!$O$3:$S$47,5,FALSE)","v":"NW8"},null,null,null,null,null,null,null,"F84656",null,9162,32,32,32,32,30,14,25,24,22,23,22,18,18,18,18,18,17,23]
["2019-05-01",{"$f":"VLOOKUP(J996,'Control Panel'!$O$3:$S$47,5,FALSE)","v":"NW6"},null,null,null,null,null,null,null,"F84676",null,4396,12,12,11,12,12,7,12,11,10,10,10,12,10,10,9,10,9,10]
["2019-05-01",{"$f":"VLOOKUP(J997,'Control Panel'!$O$3:$S$47,5,FALSE)","v":"NW3&4"},null,null,null,null,null,null,null,"F84682",null,11085,36,35,35,35,34,25,47,46,43,43,43,56,54,51,48,51,49,43]
["2019-05-01",{"$f":"VLOOKUP(J998,'Control Panel'!$O$3:$S$47,5,FALSE)","v":"NW5"},null,null,null,null,null,null,null,"F84696",null,5838,20,17,17,17,18,4,14,13,11,11,11,10,10,10,7,10,8,11]
["2019-05-01",{"$f":"VLOOKUP(J999,'Control Panel'!$O$3:$S$47,5,FALSE)","v":"NW7"},null,null,null,null,null,null,null,"F84698",null,8622,28,27,27,27,27,19,28,25,21,24,24,23,21,21,22,21,22,24]
["2019-05-01",{"$f":"VLOOKUP(J1000,'Control Panel'!$O$3:$S$47,5,FALSE)","v":"NW8"},null,null,null,null,null,null,null,"F84710",null,12262,41,36,35,37,36,13,50,47,42,44,44,28,25,25,19,24,20,44]
["2019-05-01",{"$f":"VLOOKUP(J1001,'Control Panel'!$O$3:$S$47,5,FALSE)","v":"NW6"},null,null,null,null,null,null,null,"F84714",null,13459,50,47,47,47,46,15,55,53,49,50,50,53,51,50,50,51,49,50]
["2019-05-01",{"$f":"VLOOKUP(J1002,'Control Panel'!$O$3:$S$47,5,FALSE)","v":"NW2"},null,null,null,null,null,null,null,"F84718",null,14805,32,29,29,29,27,10,43,41,34,37,37,34,32,31,29,32,31,37]
["2019-05-01",{"$f":"VLOOKUP(J1003,'Control Panel'!$O$3:$S$47,5,FALSE)","v":"NW3&4"},null,null,null,null,null,null,null,"F84731",null,2094,5,4,4,4,5,4,3,3,3,3,3,3,3,3,3,3,3,3]
["2019-05-01",{"$f":"VLOOKUP(J1004,'Control Panel'!$O$3:$S$47,5,FALSE)","v":"NW2"},null,null,null,null,null,null,null,"F84733",null,1170,0,0,0,0,0,0,0,0,0,0,0,0,0,0,0,0,0,0]
["2019-05-01",{"$f":"VLOOKUP(J1005,'Control Panel'!$O$3:$S$47,5,FALSE)","v":"NW8"},null,null,null,null,null,null,null,"F84747",null,22872,103,98,100,100,95,23,82,73,71,73,73,63,60,59,58,57,54,74]
["2019-05-01",{"$f":"VLOOKUP(J1006,'Control Panel'!$O$3:$S$47,5,FALSE)","v":"NW1"},null,null,null,null,null,null,null,"Y00212",null,4919,16,16,16,16,16,8,23,20,18,19,19,9,8,9,8,8,8,19]
["2019-05-01",{"$f":"VLOOKUP(J1007,'Control Panel'!$O$3:$S$47,5,FALSE)","v":"NW6"},null,null,null,null,null,null,null,"Y03023",null,13766,60,52,51,52,50,28,41,36,35,36,36,38,34,33,28,34,29,35]
["2019-05-01",{"$f":"VLOOKUP(J1008,'Control Panel'!$O$3:$S$47,5,FALSE)","v":0},null,null,null,null,null,null,null,"Total",null,335902,1108,1032,1026,1039,995,506,1086,1033,971,990,987,909,872,856,793,850,802,991]
["2019-06-01",{"$f":"VLOOKUP(J1009,'Control Panel'!$O$3:$S$47,5,FALSE)","v":{"$error":"#N/A"}},"Childhood Immunisations Q1",null,"Last Run:",null,"Population Count",353377,null,null,"Search","All Patients","(01) 12 MONTH COHORT","(01.01) DTaP/IPV/Hib/HepB","(01.02) Men B (1st and 2nd)","(01.03) PCV","(01.04) Rotavirus","(01.05) BCG","(02) 24 MONTH COHORT","(02.01) DTaP/IPV/Hib or DTaP/IPV/Hib/HepB","(02.02) MMR","(02.03) HiB/Men C","(02.04) PCV (Booster)","(03) 5 YEAR COHORT","(03.01) DTaP/IPV/Hib or DTaP/IPV/Hib/HepB","(03.02) MMR (Primary)","(03.03) DTaP/IPV (Booster)","(03.04) HiB/Men C","(03.05) MMR (Booster)","(02.05) Men B (Booster)"]
["2019-06-01",{"$f":"VLOOKUP(J1010,'Control Panel'!$O$3:$S$47,5,FALSE)","v":{"$error":"#N/A"}},null,null,"2019-07-02T09:57:00",null,"Males",182487,null,"Organisation Code"]
["2019-06-01",{"$f":"VLOOKUP(J1011,'Control Panel'!$O$3:$S$47,5,FALSE)","v":"NW2"},null,null,"Relative Date:",null,"Females",170890,null,"F84012",null,9166,31,30,30,30,30,27,30,29,26,28,28,28,28,28,25,27,25,27]
["2019-06-01",{"$f":"VLOOKUP(J1012,'Control Panel'!$O$3:$S$47,5,FALSE)","v":"NW1"},null,null,"2019-07-01",null,null,null,null,"F84016",null,11705,34,32,29,32,31,12,26,26,24,24,24,24,23,21,20,21,18,24]
["2019-06-01",{"$f":"VLOOKUP(J1013,'Control Panel'!$O$3:$S$47,5,FALSE)","v":"NW7"},null,null,null,null,null,null,null,"F84025",null,11554,36,35,35,36,31,28,46,46,44,44,44,51,50,48,47,48,46,42]
["2019-06-01",{"$f":"VLOOKUP(J1014,'Control Panel'!$O$3:$S$47,5,FALSE)","v":"NW5"},null,null,null,null,null,null,null,"F84030",null,3452,10,8,8,8,8,4,8,8,8,8,8,4,4,4,4,4,4,8]
["2019-06-01",{"$f":"VLOOKUP(J1015,'Control Panel'!$O$3:$S$47,5,FALSE)","v":"NW3&4"},null,null,null,null,null,null,null,"F84031",null,12755,46,42,42,43,40,35,47,45,43,43,43,46,44,43,43,41,43,43]
["2019-06-01",{"$f":"VLOOKUP(J1016,'Control Panel'!$O$3:$S$47,5,FALSE)","v":"NW5"},null,null,null,null,null,null,null,"F84034",null,13014,34,32,32,32,32,14,58,55,52,55,54,51,48,46,41,47,42,55]
["2019-06-01",{"$f":"VLOOKUP(J1017,'Control Panel'!$O$3:$S$47,5,FALSE)","v":"NW3&4"},null,null,null,null,null,null,null,"F84039",null,12206,44,41,41,41,41,12,34,33,31,32,33,29,29,28,28,28,28,33]
["2019-06-01",{"$f":"VLOOKUP(J1018,'Control Panel'!$O$3:$S$47,5,FALSE)","v":"NW5"},null,null,null,null,null,null,null,"F84044",null,6874,24,22,22,22,20,7,25,22,22,22,22,16,16,15,14,16,15,22]
["2019-06-01",{"$f":"VLOOKUP(J1019,'Control Panel'!$O$3:$S$47,5,FALSE)","v":"NW3&4"},null,null,null,null,null,null,null,"F84046",null,3463,11,11,11,11,11,9,11,11,11,11,11,6,6,6,6,6,6,11]
["2019-06-01",{"$f":"VLOOKUP(J1020,'Control Panel'!$O$3:$S$47,5,FALSE)","v":"NW1"},null,null,null,null,null,null,null,"F84051",null,4966,8,7,7,8,7,2,10,8,8,8,8,8,6,6,7,6,7,8]
["2019-06-01",{"$f":"VLOOKUP(J1021,'Control Panel'!$O$3:$S$47,5,FALSE)","v":"NW7"},null,null,null,null,null,null,null,"F84054",null,11107,51,46,45,46,44,25,35,33,32,32,32,45,45,45,42,44,44,32]
["2019-06-01",{"$f":"VLOOKUP(J1022,'Control Panel'!$O$3:$S$47,5,FALSE)","v":"NW5"},null,null,null,null,null,null,null,"F84055",null,3596,6,6,6,6,6,3,7,7,7,7,7,8,8,8,8,8,8,7]
["2019-06-01",{"$f":"VLOOKUP(J1023,'Control Panel'!$O$3:$S$47,5,FALSE)","v":"NW7"},null,null,null,null,null,null,null,"F84062",null,14949,55,52,52,52,50,17,55,51,51,50,50,44,40,40,34,40,35,51]
["2019-06-01",{"$f":"VLOOKUP(J1024,'Control Panel'!$O$3:$S$47,5,FALSE)","v":"NW3&4"},null,null,null,null,null,null,null,"F84079",null,10768,35,35,35,35,35,20,41,41,41,41,41,19,19,18,17,19,17,41]
["2019-06-01",{"$f":"VLOOKUP(J1025,'Control Panel'!$O$3:$S$47,5,FALSE)","v":"NW2"},null,null,null,null,null,null,null,"F84081",null,13832,41,37,37,37,30,12,36,35,33,33,32,23,21,21,18,21,19,34]
["2019-06-01",{"$f":"VLOOKUP(J1026,'Control Panel'!$O$3:$S$47,5,FALSE)","v":"NW1"},null,null,null,null,null,null,null,"F84083",null,8288,30,28,29,29,26,7,23,22,20,19,19,15,14,15,12,13,14,19]
["2019-06-01",{"$f":"VLOOKUP(J1027,'Control Panel'!$O$3:$S$47,5,FALSE)","v":"NW3&4"},null,null,null,null,null,null,null,"F84087",null,9344,42,41,41,41,37,39,41,40,36,37,36,37,37,36,32,36,32,36]
["2019-06-01",{"$f":"VLOOKUP(J1028,'Control Panel'!$O$3:$S$47,5,FALSE)","v":"NW3&4"},null,null,null,null,null,null,null,"F84114",null,6661,32,26,24,25,24,20,20,20,18,18,18,13,13,13,11,13,11,18]
["2019-06-01",{"$f":"VLOOKUP(J1029,'Control Panel'!$O$3:$S$47,5,FALSE)","v":"NW6"},null,null,null,null,null,null,null,"F84118",null,5743,11,11,11,11,11,6,16,15,15,15,15,8,8,8,8,8,8,15]
["2019-06-01",{"$f":"VLOOKUP(J1030,'Control Panel'!$O$3:$S$47,5,FALSE)","v":"NW6"},null,null,null,null,null,null,null,"F84122",null,15322,45,44,44,44,41,30,47,47,45,45,45,39,39,39,36,39,38,45]
["2019-06-01",{"$f":"VLOOKUP(J1031,'Control Panel'!$O$3:$S$47,5,FALSE)","v":"NW1"},null,null,null,null,null,null,null,"F84123",null,14340,24,21,21,22,22,2,21,19,18,18,18,22,22,22,21,21,21,18]
["2019-06-01",{"$f":"VLOOKUP(J1032,'Control Panel'!$O$3:$S$47,5,FALSE)","v":"NW8"},null,null,null,null,null,null,null,"F84647",null,8658,22,19,20,20,20,6,24,24,24,24,23,22,22,22,21,20,21,24]
["2019-06-01",{"$f":"VLOOKUP(J1033,'Control Panel'!$O$3:$S$47,5,FALSE)","v":"NW8"},null,null,null,null,null,null,null,"F84656",null,9208,34,33,33,33,31,14,25,24,22,23,22,18,18,18,18,18,17,23]
["2019-06-01",{"$f":"VLOOKUP(J1034,'Control Panel'!$O$3:$S$47,5,FALSE)","v":"NW6"},null,null,null,null,null,null,null,"F84676",null,4383,12,12,11,12,12,9,12,11,10,10,10,12,10,10,9,10,9,10]
["2019-06-01",{"$f":"VLOOKUP(J1035,'Control Panel'!$O$3:$S$47,5,FALSE)","v":"NW3&4"},null,null,null,null,null,null,null,"F84682",null,11130,36,35,35,35,34,25,47,46,43,43,43,56,54,51,48,51,49,43]
["2019-06-01",{"$f":"VLOOKUP(J1036,'Control Panel'!$O$3:$S$47,5,FALSE)","v":"NW5"},null,null,null,null,null,null,null,"F84696",null,5803,20,17,17,17,18,4,14,13,11,11,11,10,10,10,7,10,8,11]
["2019-06-01",{"$f":"VLOOKUP(J1037,'Control Panel'!$O$3:$S$47,5,FALSE)","v":"NW7"},null,null,null,null,null,null,null,"F84698",null,8677,28,27,27,27,27,19,29,26,22,25,25,23,21,21,22,21,22,25]
["2019-06-01",{"$f":"VLOOKUP(J1038,'Control Panel'!$O$3:$S$47,5,FALSE)","v":"NW8"},null,null,null,null,null,null,null,"F84710",null,12226,40,35,35,37,35,12,49,47,42,44,44,28,25,25,19,24,20,44]
["2019-06-01",{"$f":"VLOOKUP(J1039,'Control Panel'!$O$3:$S$47,5,FALSE)","v":"NW6"},null,null,null,null,null,null,null,"F84714",null,13531,50,47,47,47,46,15,56,54,50,51,51,53,51,49,49,51,48,51]
["2019-06-01",{"$f":"VLOOKUP(J1040,'Control Panel'!$O$3:$S$47,5,FALSE)","v":"NW2"},null,null,null,null,null,null,null,"F84718",null,14806,32,29,29,29,27,10,41,39,32,35,35,33,31,30,29,31,31,35]
["2019-06-01",{"$f":"VLOOKUP(J1041,'Control Panel'!$O$3:$S$47,5,FALSE)","v":"NW3&4"},null,null,null,null,null,null,null,"F84731",null,2098,4,4,4,4,4,3,3,3,3,3,3,3,3,3,3,3,3,3]
["2019-06-01",{"$f":"VLOOKUP(J1042,'Control Panel'!$O$3:$S$47,5,FALSE)","v":"NW2"},null,null,null,null,null,null,null,"F84733",null,1143,0,0,0,0,0,0,0,0,0,0,0,0,0,0,0,0,0,0]
["2019-06-01",{"$f":"VLOOKUP(J1043,'Control Panel'!$O$3:$S$47,5,FALSE)","v":"NW8"},null,null,null,null,null,null,null,"F84747",null,23102,103,98,100,100,95,23,85,75,72,74,74,63,60,59,58,57,54,74]
["2019-06-01",{"$f":"VLOOKUP(J1044,'Control Panel'!$O$3:$S$47,5,FALSE)","v":"NW1"},null,null,null,null,null,null,null,"Y00212",null,4920,15,15,15,15,15,7,22,20,18,19,19,9,8,9,8,8,8,19]
["2019-06-01",{"$f":"VLOOKUP(J1045,'Control Panel'!$O$3:$S$47,5,FALSE)","v":"NW6"},null,null,null,null,null,null,null,"Y03023",null,13791,59,51,50,51,49,28,41,36,35,36,37,38,34,33,28,34,29,36]
["2019-06-01",{"$f":"VLOOKUP(J1046,'Control Panel'!$O$3:$S$47,5,FALSE)","v":0},null,null,null,null,null,null,null,"Total",null,336581,1105,1029,1025,1038,990,506,1085,1031,969,988,985,904,867,850,793,844,800,987]
["2019-07-01",{"$f":"VLOOKUP(J1047,'Control Panel'!$O$3:$S$47,5,FALSE)","v":{"$error":"#N/A"}},"Childhood Immunisations Q2",null,"Last Run:",null,"Population Count",354218,null,null,"Search","All Patients","(01) 12 MONTH COHORT","(01.01) DTaP/IPV/Hib/HepB","(01.02) Men B (1st and 2nd)","(01.03) PCV","(01.04) Rotavirus","(01.05) BCG","(02) 24 MONTH COHORT","(02.01) DTaP/IPV/Hib or DTaP/IPV/Hib/HepB","(02.02) MMR","(02.03) HiB/Men C","(02.04) PCV (Booster)","(03) 5 YEAR COHORT","(03.01) DTaP/IPV/Hib or DTaP/IPV/Hib/HepB","(03.02) MMR (Primary)","(03.03) DTaP/IPV (Booster)","(03.04) HiB/Men C","(03.05) MMR (Booster)","(02.05) Men B (Booster)"]
["2019-07-01",{"$f":"VLOOKUP(J1048,'Control Panel'!$O$3:$S$47,5,FALSE)","v":{"$error":"#N/A"}},null,null,"2019-08-02T09:30:00",null,"Males",183127,null,"Organisation Code"]
["2019-07-01",{"$f":"VLOOKUP(J1049,'Control Panel'!$O$3:$S$47,5,FALSE)","v":"NW2"},null,null,"Relative Date:",null,"Females",171091,null,"F84012",null,9223,28,28,27,28,27,25,30,30,30,30,30,33,33,33,31,32,32,30]
["2019-07-01",{"$f":"VLOOKUP(J1050,'Control Panel'!$O$3:$S$47,5,FALSE)","v":"NW1"},null,null,"2019-08-01",null,null,null,null,"F84016",null,11697,37,29,29,31,28,2,43,40,35,37,37,15,15,15,14,14,14,37]
["2019-07-01",{"$f":"VLOOKUP(J1051,'Control Panel'!$O$3:$S$47,5,FALSE)","v":"NW7"},null,null,null,null,null,null,null,"F84025",null,11248,41,40,39,40,38,22,56,52,49,51,51,42,41,39,37,39,36,51]
["2019-07-01",{"$f":"VLOOKUP(J1052,'Control Panel'!$O$3:$S$47,5,FALSE)","v":"NW5"},null,null,null,null,null,null,null,"F84030",null,3470,11,9,9,9,9,5,9,9,9,9,9,13,12,12,9,12,9,9]
["2019-07-01",{"$f":"VLOOKUP(J1053,'Control Panel'!$O$3:$S$47,5,FALSE)","v":"NW3&4"},null,null,null,null,null,null,null,"F84031",null,12721,55,52,52,53,50,33,48,45,41,42,44,30,29,27,22,25,21,44]
["2019-07-01",{"$f":"VLOOKUP(J1054,'Control Panel'!$O$3:$S$47,5,FALSE)","v":"NW5"},null,null,null,null,null,null,null,"F84034",null,13077,46,42,42,42,40,17,45,45,43,43,43,37,37,37,27,36,27,43]
["2019-07-01",{"$f":"VLOOKUP(J1055,'Control Panel'!$O$3:$S$47,5,FALSE)","v":"NW3&4"},null,null,null,null,null,null,null,"F84039",null,12287,55,52,52,52,50,26,43,42,41,41,41,36,36,36,35,35,36,40]
["2019-07-01",{"$f":"VLOOKUP(J1056,'Control Panel'!$O$3:$S$47,5,FALSE)","v":"NW5"},null,null,null,null,null,null,null,"F84044",null,6960,13,12,12,12,12,3,31,26,25,26,26,24,22,21,18,21,19,26]
["2019-07-01",{"$f":"VLOOKUP(J1057,'Control Panel'!$O$3:$S$47,5,FALSE)","v":"NW3&4"},null,null,null,null,null,null,null,"F84046",null,3458,18,18,18,18,18,16,12,12,11,11,11,10,10,10,10,10,10,11]
["2019-07-01",{"$f":"VLOOKUP(J1058,'Control Panel'!$O$3:$S$47,5,FALSE)","v":"NW1"},null,null,null,null,null,null,null,"F84051",null,5075,7,6,6,6,6,0,9,8,8,8,8,14,13,14,14,14,14,8]
["2019-07-01",{"$f":"VLOOKUP(J1059,'Control Panel'!$O$3:$S$47,5,FALSE)","v":"NW7"},null,null,null,null,null,null,null,"F84054",null,11100,38,36,36,36,29,24,32,29,28,28,28,40,40,38,39,37,39,28]
["2019-07-01",{"$f":"VLOOKUP(J1060,'Control Panel'!$O$3:$S$47,5,FALSE)","v":"NW5"},null,null,null,null,null,null,null,"F84055",null,3613,11,9,9,9,9,1,5,4,5,4,5,12,12,12,11,12,12,5]
["2019-07-01",{"$f":"VLOOKUP(J1061,'Control Panel'!$O$3:$S$47,5,FALSE)","v":"NW7"},null,null,null,null,null,null,null,"F84062",null,14964,43,36,37,37,33,15,66,62,53,56,57,53,50,49,44,49,45,57]
["2019-07-01",{"$f":"VLOOKUP(J1062,'Control Panel'!$O$3:$S$47,5,FALSE)","v":"NW3&4"},null,null,null,null,null,null,null,"F84079",null,10798,27,26,26,26,26,14,34,33,30,31,31,31,31,30,29,28,29,31]
["2019-07-01",{"$f":"VLOOKUP(J1063,'Control Panel'!$O$3:$S$47,5,FALSE)","v":"NW2"},null,null,null,null,null,null,null,"F84081",null,13776,35,30,31,31,30,22,32,31,28,29,28,23,23,22,20,22,20,29]
["2019-07-01",{"$f":"VLOOKUP(J1064,'Control Panel'!$O$3:$S$47,5,FALSE)","v":"NW1"},null,null,null,null,null,null,null,"F84083",null,8309,23,20,20,20,19,4,35,32,32,32,32,29,28,27,26,27,27,32]
["2019-07-01",{"$f":"VLOOKUP(J1065,'Control Panel'!$O$3:$S$47,5,FALSE)","v":"NW3&4"},null,null,null,null,null,null,null,"F84087",null,9334,33,31,30,30,27,24,38,35,33,33,33,31,31,30,31,30,31,33]
["2019-07-01",{"$f":"VLOOKUP(J1066,'Control Panel'!$O$3:$S$47,5,FALSE)","v":"NW3&4"},null,null,null,null,null,null,null,"F84114",null,6610,13,12,12,12,12,7,15,15,15,15,15,18,17,16,17,16,16,15]
["2019-07-01",{"$f":"VLOOKUP(J1067,'Control Panel'!$O$3:$S$47,5,FALSE)","v":"NW6"},null,null,null,null,null,null,null,"F84118",null,5782,21,19,19,20,18,15,9,7,6,6,6,11,11,11,10,11,10,5]
["2019-07-01",{"$f":"VLOOKUP(J1068,'Control Panel'!$O$3:$S$47,5,FALSE)","v":"NW6"},null,null,null,null,null,null,null,"F84122",null,15350,49,46,46,46,44,29,52,50,48,48,49,48,46,45,41,45,42,48]
["2019-07-01",{"$f":"VLOOKUP(J1069,'Control Panel'!$O$3:$S$47,5,FALSE)","v":"NW1"},null,null,null,null,null,null,null,"F84123",null,14229,27,25,25,25,26,2,28,26,25,26,26,27,23,23,23,21,22,26]
["2019-07-01",{"$f":"VLOOKUP(J1070,'Control Panel'!$O$3:$S$47,5,FALSE)","v":"NW8"},null,null,null,null,null,null,null,"F84647",null,8617,28,25,25,25,24,9,33,33,30,31,28,19,19,18,18,16,18,32]
["2019-07-01",{"$f":"VLOOKUP(J1071,'Control Panel'!$O$3:$S$47,5,FALSE)","v":"NW8"},null,null,null,null,null,null,null,"F84656",null,9239,33,31,30,31,30,12,26,25,25,24,24,30,29,27,27,29,27,25]
["2019-07-01",{"$f":"VLOOKUP(J1072,'Control Panel'!$O$3:$S$47,5,FALSE)","v":"NW6"},null,null,null,null,null,null,null,"F84676",null,4382,12,11,11,11,11,9,14,13,12,12,12,14,13,12,8,13,8,12]
["2019-07-01",{"$f":"VLOOKUP(J1073,'Control Panel'!$O$3:$S$47,5,FALSE)","v":"NW3&4"},null,null,null,null,null,null,null,"F84682",null,11243,43,38,38,38,37,29,35,31,29,30,30,45,42,41,38,41,39,30]
["2019-07-01",{"$f":"VLOOKUP(J1074,'Control Panel'!$O$3:$S$47,5,FALSE)","v":"NW5"},null,null,null,null,null,null,null,"F84696",null,5724,17,13,14,14,14,5,13,12,11,11,11,20,20,19,16,19,17,11]
["2019-07-01",{"$f":"VLOOKUP(J1075,'Control Panel'!$O$3:$S$47,5,FALSE)","v":"NW7"},null,null,null,null,null,null,null,"F84698",null,8681,29,26,26,27,25,18,41,38,37,34,36,37,36,35,32,33,33,33]
["2019-07-01",{"$f":"VLOOKUP(J1076,'Control Panel'!$O$3:$S$47,5,FALSE)","v":"NW8"},null,null,null,null,null,null,null,"F84710",null,12250,38,32,29,31,30,10,27,24,23,23,23,35,31,31,23,32,22,23]
["2019-07-01",{"$f":"VLOOKUP(J1077,'Control Panel'!$O$3:$S$47,5,FALSE)","v":"NW6"},null,null,null,null,null,null,null,"F84714",null,13651,47,47,47,47,46,15,55,48,49,50,48,57,56,55,55,57,54,49]
["2019-07-01",{"$f":"VLOOKUP(J1078,'Control Panel'!$O$3:$S$47,5,FALSE)","v":"NW2"},null,null,null,null,null,null,null,"F84718",null,14826,44,40,41,40,39,19,35,32,32,32,31,44,41,39,39,40,39,32]
["2019-07-01",{"$f":"VLOOKUP(J1079,'Control Panel'!$O$3:$S$47,5,FALSE)","v":"NW3&4"},null,null,null,null,null,null,null,"F84731",null,2108,7,7,7,7,7,5,5,5,5,4,5,6,6,6,5,6,5,5]
["2019-07-01",{"$f":"VLOOKUP(J1080,'Control Panel'!$O$3:$S$47,5,FALSE)","v":"NW2"},null,null,null,null,null,null,null,"F84733",null,1147,0,0,0,0,0,0,0,0,0,0,0,0,0,0,0,0,0,0]
["2019-07-01",{"$f":"VLOOKUP(J1081,'Control Panel'!$O$3:$S$47,5,FALSE)","v":"NW8"},null,null,null,null,null,null,null,"F84747",null,23257,83,79,76,79,74,19,93,87,84,85,84,67,64,62,55,61,59,85]
["2019-07-01",{"$f":"VLOOKUP(J1082,'Control Panel'!$O$3:$S$47,5,FALSE)","v":"NW1"},null,null,null,null,null,null,null,"Y00212",null,4889,16,14,14,14,13,4,15,15,12,13,13,14,14,13,12,13,11,13]
["2019-07-01",{"$f":"VLOOKUP(J1083,'Control Panel'!$O$3:$S$47,5,FALSE)","v":"NW6"},null,null,null,null,null,null,null,"Y03023",null,13825,55,51,52,52,48,27,50,47,45,46,46,51,49,47,39,48,38,47]
["2019-07-01",{"$f":"VLOOKUP(J1084,'Control Panel'!$O$3:$S$47,5,FALSE)","v":0},null,null,null,null,null,null,null,"Total",null,336920,1083,992,987,999,949,487,1114,1043,989,1001,1001,1016,980,952,875,944,881,1005]
["2019-08-01",{"$f":"VLOOKUP(J1085,'Control Panel'!$O$3:$S$47,5,FALSE)","v":{"$error":"#N/A"}},"Childhood Immunisations Q2",null,"Last Run:",null,"Population Count",354696,null,null,"Search","All Patients","(01) 12 MONTH COHORT","(01.01) DTaP/IPV/Hib/HepB","(01.02) Men B (1st and 2nd)","(01.03) PCV","(01.04) Rotavirus","(01.05) BCG","(02) 24 MONTH COHORT","(02.01) DTaP/IPV/Hib or DTaP/IPV/Hib/HepB","(02.02) MMR","(02.03) HiB/Men C","(02.04) PCV (Booster)","(03) 5 YEAR COHORT","(03.01) DTaP/IPV/Hib or DTaP/IPV/Hib/HepB","(03.02) MMR (Primary)","(03.03) DTaP/IPV (Booster)","(03.04) HiB/Men C","(03.05) MMR (Booster)","(02.05) Men B (Booster)"]
["2019-08-01",{"$f":"VLOOKUP(J1086,'Control Panel'!$O$3:$S$47,5,FALSE)","v":{"$error":"#N/A"}},null,null,"2019-09-02T09:38:00",null,"Males",183574,null,"Organisation Code"]
["2019-08-01",{"$f":"VLOOKUP(J1087,'Control Panel'!$O$3:$S$47,5,FALSE)","v":"NW2"},null,null,"Relative Date:",null,"Females",171122,null,"F84012",null,9193,28,28,27,28,27,25,30,30,30,30,30,34,34,34,32,33,33,30]
["2019-08-01",{"$f":"VLOOKUP(J1088,'Control Panel'!$O$3:$S$47,5,FALSE)","v":"NW1"},null,null,"2019-09-01",null,null,null,null,"F84016",null,11741,37,30,30,32,28,2,44,40,35,37,37,16,15,15,14,14,14,37]
["2019-08-01",{"$f":"VLOOKUP(J1089,'Control Panel'!$O$3:$S$47,5,FALSE)","v":"NW7"},null,null,null,null,null,null,null,"F84025",null,11286,41,40,40,40,38,22,55,51,48,50,50,41,40,39,36,39,36,50]
["2019-08-01",{"$f":"VLOOKUP(J1090,'Control Panel'!$O$3:$S$47,5,FALSE)","v":"NW5"},null,null,null,null,null,null,null,"F84030",null,3494,11,9,9,10,10,6,9,9,9,9,9,13,12,12,9,12,9,9]
["2019-08-01",{"$f":"VLOOKUP(J1091,'Control Panel'!$O$3:$S$47,5,FALSE)","v":"NW3&4"},null,null,null,null,null,null,null,"F84031",null,12748,54,51,51,52,49,33,48,45,41,42,44,31,30,28,23,26,22,44]
["2019-08-01",{"$f":"VLOOKUP(J1092,'Control Panel'!$O$3:$S$47,5,FALSE)","v":"NW5"},null,null,null,null,null,null,null,"F84034",null,13091,46,42,42,42,40,17,46,46,45,45,45,37,37,37,27,36,27,45]
["2019-08-01",{"$f":"VLOOKUP(J1093,'Control Panel'!$O$3:$S$47,5,FALSE)","v":"NW3&4"},null,null,null,null,null,null,null,"F84039",null,12409,58,53,52,53,50,27,44,42,41,41,41,36,36,36,35,35,36,40]
["2019-08-01",{"$f":"VLOOKUP(J1094,'Control Panel'!$O$3:$S$47,5,FALSE)","v":"NW5"},null,null,null,null,null,null,null,"F84044",null,6967,14,13,13,13,13,4,30,25,24,25,25,24,22,21,18,21,19,25]
["2019-08-01",{"$f":"VLOOKUP(J1095,'Control Panel'!$O$3:$S$47,5,FALSE)","v":"NW3&4"},null,null,null,null,null,null,null,"F84046",null,3463,18,18,18,18,18,16,10,10,9,9,9,10,10,10,10,10,10,9]
["2019-08-01",{"$f":"VLOOKUP(J1096,'Control Panel'!$O$3:$S$47,5,FALSE)","v":"NW1"},null,null,null,null,null,null,null,"F84051",null,5148,7,6,6,6,6,0,9,8,8,8,8,14,13,14,14,14,14,8]
["2019-08-01",{"$f":"VLOOKUP(J1097,'Control Panel'!$O$3:$S$47,5,FALSE)","v":"NW7"},null,null,null,null,null,null,null,"F84054",null,11109,38,36,36,36,29,24,32,29,28,28,28,40,40,38,39,37,39,28]
["2019-08-01",{"$f":"VLOOKUP(J1098,'Control Panel'!$O$3:$S$47,5,FALSE)","v":"NW5"},null,null,null,null,null,null,null,"F84055",null,3637,11,9,9,9,9,1,5,4,5,4,5,12,12,12,11,12,12,5]
["2019-08-01",{"$f":"VLOOKUP(J1099,'Control Panel'!$O$3:$S$47,5,FALSE)","v":"NW7"},null,null,null,null,null,null,null,"F84062",null,14996,43,34,35,35,31,15,66,61,52,55,56,52,49,48,43,48,44,56]
["2019-08-01",{"$f":"VLOOKUP(J1100,'Control Panel'!$O$3:$S$47,5,FALSE)","v":"NW3&4"},null,null,null,null,null,null,null,"F84079",null,10804,27,26,26,26,26,13,34,33,30,31,31,31,31,30,29,28,29,31]
["2019-08-01",{"$f":"VLOOKUP(J1101,'Control Panel'!$O$3:$S$47,5,FALSE)","v":"NW2"},null,null,null,null,null,null,null,"F84081",null,13737,35,30,31,31,30,23,31,30,27,28,27,23,23,22,20,22,20,28]
["2019-08-01",{"$f":"VLOOKUP(J1102,'Control Panel'!$O$3:$S$47,5,FALSE)","v":"NW1"},null,null,null,null,null,null,null,"F84083",null,8334,23,20,20,20,19,4,34,31,31,31,31,29,28,27,26,27,27,31]
["2019-08-01",{"$f":"VLOOKUP(J1103,'Control Panel'!$O$3:$S$47,5,FALSE)","v":"NW3&4"},null,null,null,null,null,null,null,"F84087",null,9359,32,30,29,29,26,24,38,35,33,33,33,31,31,30,31,30,31,33]
["2019-08-01",{"$f":"VLOOKUP(J1104,'Control Panel'!$O$3:$S$47,5,FALSE)","v":"NW3&4"},null,null,null,null,null,null,null,"F84114",null,6638,13,12,12,12,12,7,15,15,15,15,15,18,17,16,17,16,16,15]
["2019-08-01",{"$f":"VLOOKUP(J1105,'Control Panel'!$O$3:$S$47,5,FALSE)","v":"NW6"},null,null,null,null,null,null,null,"F84118",null,5742,20,18,18,19,17,14,9,7,6,6,6,11,11,11,10,11,10,5]
["2019-08-01",{"$f":"VLOOKUP(J1106,'Control Panel'!$O$3:$S$47,5,FALSE)","v":"NW6"},null,null,null,null,null,null,null,"F84122",null,15421,48,45,45,45,43,29,52,50,49,48,49,48,46,45,41,45,42,48]
["2019-08-01",{"$f":"VLOOKUP(J1107,'Control Panel'!$O$3:$S$47,5,FALSE)","v":"NW1"},null,null,null,null,null,null,null,"F84123",null,14057,28,27,27,27,28,2,28,26,25,26,26,27,23,23,23,21,22,26]
["2019-08-01",{"$f":"VLOOKUP(J1108,'Control Panel'!$O$3:$S$47,5,FALSE)","v":"NW8"},null,null,null,null,null,null,null,"F84647",null,8715,29,25,25,25,24,10,34,34,31,32,29,20,20,19,18,17,19,33]
["2019-08-01",{"$f":"VLOOKUP(J1109,'Control Panel'!$O$3:$S$47,5,FALSE)","v":"NW8"},null,null,null,null,null,null,null,"F84656",null,9290,32,31,29,31,30,11,26,24,24,23,23,30,29,27,27,29,27,24]
["2019-08-01",{"$f":"VLOOKUP(J1110,'Control Panel'!$O$3:$S$47,5,FALSE)","v":"NW6"},null,null,null,null,null,null,null,"F84676",null,4378,12,11,11,11,11,9,13,12,12,12,12,14,13,12,8,13,8,12]
["2019-08-01",{"$f":"VLOOKUP(J1111,'Control Panel'!$O$3:$S$47,5,FALSE)","v":"NW3&4"},null,null,null,null,null,null,null,"F84682",null,11053,42,38,38,38,37,28,36,32,30,31,31,45,43,42,39,42,40,31]
["2019-08-01",{"$f":"VLOOKUP(J1112,'Control Panel'!$O$3:$S$47,5,FALSE)","v":"NW5"},null,null,null,null,null,null,null,"F84696",null,5693,17,13,14,14,14,5,13,12,11,11,11,20,20,19,16,19,17,11]
["2019-08-01",{"$f":"VLOOKUP(J1113,'Control Panel'!$O$3:$S$47,5,FALSE)","v":"NW7"},null,null,null,null,null,null,null,"F84698",null,8707,30,27,27,28,26,19,39,36,36,33,35,37,36,35,32,33,33,32]
["2019-08-01",{"$f":"VLOOKUP(J1114,'Control Panel'!$O$3:$S$47,5,FALSE)","v":"NW8"},null,null,null,null,null,null,null,"F84710",null,12205,37,32,28,32,30,9,26,24,23,23,23,35,31,31,23,32,23,23]
["2019-08-01",{"$f":"VLOOKUP(J1115,'Control Panel'!$O$3:$S$47,5,FALSE)","v":"NW6"},null,null,null,null,null,null,null,"F84714",null,13681,47,47,47,47,46,15,54,47,48,49,47,59,57,56,56,58,55,48]
["2019-08-01",{"$f":"VLOOKUP(J1116,'Control Panel'!$O$3:$S$47,5,FALSE)","v":"NW2"},null,null,null,null,null,null,null,"F84718",null,14762,45,40,41,41,39,19,35,32,31,31,30,43,40,38,38,39,38,31]
["2019-08-01",{"$f":"VLOOKUP(J1117,'Control Panel'!$O$3:$S$47,5,FALSE)","v":"NW3&4"},null,null,null,null,null,null,null,"F84731",null,2115,7,7,7,7,7,5,5,5,5,4,5,6,6,6,5,6,5,5]
["2019-08-01",{"$f":"VLOOKUP(J1118,'Control Panel'!$O$3:$S$47,5,FALSE)","v":"NW2"},null,null,null,null,null,null,null,"F84733",null,1116,0,0,0,0,0,0,0,0,0,0,0,0,0,0,0,0,0,0]
["2019-08-01",{"$f":"VLOOKUP(J1119,'Control Panel'!$O$3:$S$47,5,FALSE)","v":"NW8"},null,null,null,null,null,null,null,"F84747",null,23542,82,79,75,79,74,19,93,87,84,85,84,67,64,62,55,61,59,85]
["2019-08-01",{"$f":"VLOOKUP(J1120,'Control Panel'!$O$3:$S$47,5,FALSE)","v":"NW1"},null,null,null,null,null,null,null,"Y00212",null,4882,16,14,14,14,13,5,15,15,12,13,13,14,14,13,12,13,11,13]
["2019-08-01",{"$f":"VLOOKUP(J1121,'Control Panel'!$O$3:$S$47,5,FALSE)","v":"NW6"},null,null,null,null,null,null,null,"Y03023",null,13909,56,52,53,53,49,28,51,47,45,46,46,50,48,46,38,47,37,47]
["2019-08-01",{"$f":"VLOOKUP(J1122,'Control Panel'!$O$3:$S$47,5,FALSE)","v":0},null,null,null,null,null,null,null,"Total",null,337422,1084,993,985,1003,949,490,1109,1034,983,994,994,1018,981,954,875,946,884,998]
["2019-09-01",{"$f":"VLOOKUP(J1123,'Control Panel'!$O$3:$S$47,5,FALSE)","v":{"$error":"#N/A"}},"Childhood Immunisations Q2",null,"Last Run:",null,"Population Count",356216,null,null,"Search","All Patients","(01) 12 MONTH COHORT","(01.01) DTaP/IPV/Hib/HepB","(01.02) Men B (1st and 2nd)","(01.03) PCV","(01.04) Rotavirus","(01.05) BCG","(02) 24 MONTH COHORT","(02.01) DTaP/IPV/Hib or DTaP/IPV/Hib/HepB","(02.02) MMR","(02.03) HiB/Men C","(02.04) PCV (Booster)","(03) 5 YEAR COHORT","(03.01) DTaP/IPV/Hib or DTaP/IPV/Hib/HepB","(03.02) MMR (Primary)","(03.03) DTaP/IPV (Booster)","(03.04) HiB/Men C","(03.05) MMR (Booster)","(02.05) Men B (Booster)"]
["2019-09-01",{"$f":"VLOOKUP(J1124,'Control Panel'!$O$3:$S$47,5,FALSE)","v":{"$error":"#N/A"}},null,null,"2019-10-02T09:55:00",null,"Males",184191,null,"Organisation Code"]
["2019-09-01",{"$f":"VLOOKUP(J1125,'Control Panel'!$O$3:$S$47,5,FALSE)","v":"NW2"},null,null,"Relative Date:",null,"Females",172025,null,"F84012",null,9220,27,27,26,27,26,25,30,30,30,30,30,34,34,34,32,33,33,30]
["2019-09-01",{"$f":"VLOOKUP(J1126,'Control Panel'!$O$3:$S$47,5,FALSE)","v":"NW1"},null,null,"2019-10-01",null,null,null,null,"F84016",null,11751,36,32,29,33,29,3,44,40,35,37,37,17,16,16,15,15,15,37]
["2019-09-01",{"$f":"VLOOKUP(J1127,'Control Panel'!$O$3:$S$47,5,FALSE)","v":"NW7"},null,null,null,null,null,null,null,"F84025",null,11335,42,41,40,41,38,23,56,52,49,51,52,42,41,40,38,40,38,51]
["2019-09-01",{"$f":"VLOOKUP(J1128,'Control Panel'!$O$3:$S$47,5,FALSE)","v":"NW5"},null,null,null,null,null,null,null,"F84030",null,3544,11,9,9,10,10,6,9,9,9,9,9,13,12,12,9,12,9,9]
["2019-09-01",{"$f":"VLOOKUP(J1129,'Control Panel'!$O$3:$S$47,5,FALSE)","v":"NW3&4"},null,null,null,null,null,null,null,"F84031",null,12811,55,51,51,52,49,34,48,44,40,41,43,31,30,28,23,26,22,43]
["2019-09-01",{"$f":"VLOOKUP(J1130,'Control Panel'!$O$3:$S$47,5,FALSE)","v":"NW5"},null,null,null,null,null,null,null,"F84034",null,13080,44,40,40,40,38,16,45,45,44,44,44,37,37,37,27,36,27,44]
["2019-09-01",{"$f":"VLOOKUP(J1131,'Control Panel'!$O$3:$S$47,5,FALSE)","v":"NW3&4"},null,null,null,null,null,null,null,"F84039",null,12405,58,57,56,57,53,28,44,43,42,42,42,36,36,36,35,35,36,41]
["2019-09-01",{"$f":"VLOOKUP(J1132,'Control Panel'!$O$3:$S$47,5,FALSE)","v":"NW5"},null,null,null,null,null,null,null,"F84044",null,7090,14,13,13,13,13,5,30,25,24,25,25,25,23,22,19,22,20,25]
["2019-09-01",{"$f":"VLOOKUP(J1133,'Control Panel'!$O$3:$S$47,5,FALSE)","v":"NW3&4"},null,null,null,null,null,null,null,"F84046",null,3510,17,17,17,17,17,15,10,10,9,9,9,10,10,10,10,10,10,9]
["2019-09-01",{"$f":"VLOOKUP(J1134,'Control Panel'!$O$3:$S$47,5,FALSE)","v":"NW1"},null,null,null,null,null,null,null,"F84051",null,5217,7,6,6,6,6,0,9,8,8,8,8,14,13,14,14,14,14,8]
["2019-09-01",{"$f":"VLOOKUP(J1135,'Control Panel'!$O$3:$S$47,5,FALSE)","v":"NW7"},null,null,null,null,null,null,null,"F84054",null,11072,38,36,36,36,29,24,30,27,26,26,26,39,39,37,38,36,38,26]
["2019-09-01",{"$f":"VLOOKUP(J1136,'Control Panel'!$O$3:$S$47,5,FALSE)","v":"NW5"},null,null,null,null,null,null,null,"F84055",null,3669,10,9,9,9,10,1,3,3,3,3,3,12,12,12,11,12,12,3]
["2019-09-01",{"$f":"VLOOKUP(J1137,'Control Panel'!$O$3:$S$47,5,FALSE)","v":"NW7"},null,null,null,null,null,null,null,"F84062",null,14985,43,35,36,36,32,15,66,61,52,55,56,51,48,47,42,47,43,56]
["2019-09-01",{"$f":"VLOOKUP(J1138,'Control Panel'!$O$3:$S$47,5,FALSE)","v":"NW3&4"},null,null,null,null,null,null,null,"F84079",null,10806,28,27,27,27,27,14,34,33,30,31,31,31,31,30,29,27,29,31]
["2019-09-01",{"$f":"VLOOKUP(J1139,'Control Panel'!$O$3:$S$47,5,FALSE)","v":"NW2"},null,null,null,null,null,null,null,"F84081",null,13802,36,31,32,32,31,23,31,30,27,28,27,23,23,22,20,22,20,28]
["2019-09-01",{"$f":"VLOOKUP(J1140,'Control Panel'!$O$3:$S$47,5,FALSE)","v":"NW1"},null,null,null,null,null,null,null,"F84083",null,8368,23,20,20,20,19,4,34,31,31,31,31,29,28,27,26,27,27,31]
["2019-09-01",{"$f":"VLOOKUP(J1141,'Control Panel'!$O$3:$S$47,5,FALSE)","v":"NW3&4"},null,null,null,null,null,null,null,"F84087",null,9382,32,30,29,29,26,24,38,35,33,33,33,31,31,30,31,30,31,33]
["2019-09-01",{"$f":"VLOOKUP(J1142,'Control Panel'!$O$3:$S$47,5,FALSE)","v":"NW3&4"},null,null,null,null,null,null,null,"F84114",null,6646,15,13,13,13,13,8,15,15,15,15,15,18,16,15,16,15,16,15]
["2019-09-01",{"$f":"VLOOKUP(J1143,'Control Panel'!$O$3:$S$47,5,FALSE)","v":"NW6"},null,null,null,null,null,null,null,"F84118",null,5678,20,18,18,19,17,14,8,6,5,5,5,10,10,10,9,10,9,4]
["2019-09-01",{"$f":"VLOOKUP(J1144,'Control Panel'!$O$3:$S$47,5,FALSE)","v":"NW6"},null,null,null,null,null,null,null,"F84122",null,15491,46,43,43,43,41,28,51,50,48,47,49,49,47,46,42,46,43,47]
["2019-09-01",{"$f":"VLOOKUP(J1145,'Control Panel'!$O$3:$S$47,5,FALSE)","v":"NW1"},null,null,null,null,null,null,null,"F84123",null,14613,28,26,26,26,27,2,27,25,24,25,25,27,24,24,24,22,23,25]
["2019-09-01",{"$f":"VLOOKUP(J1146,'Control Panel'!$O$3:$S$47,5,FALSE)","v":"NW8"},null,null,null,null,null,null,null,"F84647",null,8809,30,27,27,27,26,11,35,34,31,32,29,20,20,19,18,17,19,33]
["2019-09-01",{"$f":"VLOOKUP(J1147,'Control Panel'!$O$3:$S$47,5,FALSE)","v":"NW8"},null,null,null,null,null,null,null,"F84656",null,9301,32,31,29,31,30,11,26,25,25,24,24,30,29,27,27,29,27,25]
["2019-09-01",{"$f":"VLOOKUP(J1148,'Control Panel'!$O$3:$S$47,5,FALSE)","v":"NW6"},null,null,null,null,null,null,null,"F84676",null,4377,12,11,11,11,11,9,13,12,12,12,12,14,13,12,8,13,8,12]
["2019-09-01",{"$f":"VLOOKUP(J1149,'Control Panel'!$O$3:$S$47,5,FALSE)","v":"NW3&4"},null,null,null,null,null,null,null,"F84682",null,11064,42,37,37,38,36,27,36,32,30,31,31,42,42,41,38,41,39,31]
["2019-09-01",{"$f":"VLOOKUP(J1150,'Control Panel'!$O$3:$S$47,5,FALSE)","v":"NW5"},null,null,null,null,null,null,null,"F84696",null,5627,17,13,14,14,14,5,14,13,12,12,12,20,20,19,16,19,17,12]
["2019-09-01",{"$f":"VLOOKUP(J1151,'Control Panel'!$O$3:$S$47,5,FALSE)","v":"NW7"},null,null,null,null,null,null,null,"F84698",null,8761,27,24,24,25,23,17,39,36,36,33,35,39,38,36,32,33,33,32]
["2019-09-01",{"$f":"VLOOKUP(J1152,'Control Panel'!$O$3:$S$47,5,FALSE)","v":"NW8"},null,null,null,null,null,null,null,"F84710",null,12192,38,33,29,33,31,10,27,24,23,23,23,35,31,31,23,32,23,23]
["2019-09-01",{"$f":"VLOOKUP(J1153,'Control Panel'!$O$3:$S$47,5,FALSE)","v":"NW6"},null,null,null,null,null,null,null,"F84714",null,13890,45,45,45,45,44,15,59,51,53,52,52,58,56,55,55,57,54,52]
["2019-09-01",{"$f":"VLOOKUP(J1154,'Control Panel'!$O$3:$S$47,5,FALSE)","v":"NW2"},null,null,null,null,null,null,null,"F84718",null,14797,45,41,42,42,40,19,34,32,31,31,30,44,41,39,39,40,39,31]
["2019-09-01",{"$f":"VLOOKUP(J1155,'Control Panel'!$O$3:$S$47,5,FALSE)","v":"NW3&4"},null,null,null,null,null,null,null,"F84731",null,2113,7,7,7,7,7,5,5,5,5,4,5,6,6,6,5,6,5,5]
["2019-09-01",{"$f":"VLOOKUP(J1156,'Control Panel'!$O$3:$S$47,5,FALSE)","v":"NW2"},null,null,null,null,null,null,null,"F84733",null,1105,0,0,0,0,0,0,0,0,0,0,0,0,0,0,0,0,0,0]
["2019-09-01",{"$f":"VLOOKUP(J1157,'Control Panel'!$O$3:$S$47,5,FALSE)","v":"NW8"},null,null,null,null,null,null,null,"F84747",null,23562,81,79,74,79,74,19,94,87,84,85,84,65,62,60,54,59,57,85]
["2019-09-01",{"$f":"VLOOKUP(J1158,'Control Panel'!$O$3:$S$47,5,FALSE)","v":"NW1"},null,null,null,null,null,null,null,"Y00212",null,4873,16,14,14,14,13,6,15,15,12,13,13,14,14,13,12,13,11,13]
["2019-09-01",{"$f":"VLOOKUP(J1159,'Control Panel'!$O$3:$S$47,5,FALSE)","v":"NW6"},null,null,null,null,null,null,null,"Y03023",null,14010,55,51,52,52,48,27,51,46,44,45,45,49,47,47,39,48,38,46]
["2019-09-01",{"$f":"VLOOKUP(J1160,'Control Panel'!$O$3:$S$47,5,FALSE)","v":0},null,null,null,null,null,null,null,"Total",null,338956,1077,994,981,1004,948,493,1110,1034,982,992,995,1015,980,954,876,944,885,996]
["2019-10-01",{"$f":"VLOOKUP(J1161,'Control Panel'!$O$3:$S$47,5,FALSE)","v":{"$error":"#N/A"}},"Childhood Immunisations Q3",null,"Last Run:",null,"Population Count",357190,null,null,"Search","All Patients","(01) 12 MONTH COHORT","(01.01) DTaP/IPV/Hib/HepB","(01.02) Men B (1st and 2nd)","(01.03) PCV","(01.04) Rotavirus","(01.05) BCG","(02) 24 MONTH COHORT","(02.01) DTaP/IPV/Hib or DTaP/IPV/Hib/HepB","(02.02) MMR","(02.03) HiB/Men C","(02.04) PCV (Booster)","(03) 5 YEAR COHORT","(03.01) DTaP/IPV/Hib or DTaP/IPV/Hib/HepB","(03.02) MMR (Primary)","(03.03) DTaP/IPV (Booster)","(03.04) HiB/Men C","(03.05) MMR (Booster)","(02.05) Men B (Booster)"]
["2019-10-01",{"$f":"VLOOKUP(J1162,'Control Panel'!$O$3:$S$47,5,FALSE)","v":{"$error":"#N/A"}},null,null,"2019-11-04T10:15:00",null,"Males",184529,null,"Organisation Code"]
["2019-10-01",{"$f":"VLOOKUP(J1163,'Control Panel'!$O$3:$S$47,5,FALSE)","v":"NW2"},null,null,"Relative Date:",null,"Females",172661,null,"F84012",null,9222,31,28,28,28,27,23,29,29,29,29,29,29,28,28,27,28,28,29]
["2019-10-01",{"$f":"VLOOKUP(J1164,'Control Panel'!$O$3:$S$47,5,FALSE)","v":"NW1"},null,null,"2019-11-01",null,null,null,null,"F84016",null,11809,38,34,33,34,34,7,28,27,26,25,24,37,35,35,33,35,32,24]
["2019-10-01",{"$f":"VLOOKUP(J1165,'Control Panel'!$O$3:$S$47,5,FALSE)","v":"NW7"},null,null,null,null,null,null,null,"F84025",null,11269,34,31,31,31,31,12,34,30,32,32,31,31,29,29,26,29,27,31]
["2019-10-01",{"$f":"VLOOKUP(J1166,'Control Panel'!$O$3:$S$47,5,FALSE)","v":"NW5"},null,null,null,null,null,null,null,"F84030",null,3564,6,5,5,5,5,4,9,9,6,7,7,7,7,7,5,7,5,7]
["2019-10-01",{"$f":"VLOOKUP(J1167,'Control Panel'!$O$3:$S$47,5,FALSE)","v":"NW3&4"},null,null,null,null,null,null,null,"F84031",null,12847,45,38,36,39,35,26,38,34,31,31,31,36,35,33,31,35,31,30]
["2019-10-01",{"$f":"VLOOKUP(J1168,'Control Panel'!$O$3:$S$47,5,FALSE)","v":"NW5"},null,null,null,null,null,null,null,"F84034",null,13096,49,45,46,46,45,23,44,43,40,42,42,40,39,36,34,36,34,42]
["2019-10-01",{"$f":"VLOOKUP(J1169,'Control Panel'!$O$3:$S$47,5,FALSE)","v":"NW3&4"},null,null,null,null,null,null,null,"F84039",null,12518,46,45,43,45,43,2,34,31,29,29,30,28,28,26,23,25,24,30]
["2019-10-01",{"$f":"VLOOKUP(J1170,'Control Panel'!$O$3:$S$47,5,FALSE)","v":"NW5"},null,null,null,null,null,null,null,"F84044",null,7192,32,31,31,31,31,18,21,21,20,20,20,21,20,19,14,19,16,18]
["2019-10-01",{"$f":"VLOOKUP(J1171,'Control Panel'!$O$3:$S$47,5,FALSE)","v":"NW3&4"},null,null,null,null,null,null,null,"F84046",null,3533,15,14,13,14,14,11,10,9,9,9,9,17,17,17,17,17,17,9]
["2019-10-01",{"$f":"VLOOKUP(J1172,'Control Panel'!$O$3:$S$47,5,FALSE)","v":"NW1"},null,null,null,null,null,null,null,"F84051",null,5290,12,11,11,11,11,2,13,12,11,12,12,9,9,9,8,9,8,11]
["2019-10-01",{"$f":"VLOOKUP(J1173,'Control Panel'!$O$3:$S$47,5,FALSE)","v":"NW7"},null,null,null,null,null,null,null,"F84054",null,11067,37,33,34,34,32,17,43,42,41,40,41,36,36,34,32,35,30,40]
["2019-10-01",{"$f":"VLOOKUP(J1174,'Control Panel'!$O$3:$S$47,5,FALSE)","v":"NW5"},null,null,null,null,null,null,null,"F84055",null,3709,9,9,9,9,9,6,7,7,7,7,7,9,9,9,9,9,9,7]
["2019-10-01",{"$f":"VLOOKUP(J1175,'Control Panel'!$O$3:$S$47,5,FALSE)","v":"NW7"},null,null,null,null,null,null,null,"F84062",null,14973,48,46,45,46,44,30,63,58,56,57,57,51,50,48,41,49,43,57]
["2019-10-01",{"$f":"VLOOKUP(J1176,'Control Panel'!$O$3:$S$47,5,FALSE)","v":"NW3&4"},null,null,null,null,null,null,null,"F84079",null,10812,39,38,37,38,36,20,33,30,29,30,30,18,18,17,17,17,17,30]
["2019-10-01",{"$f":"VLOOKUP(J1177,'Control Panel'!$O$3:$S$47,5,FALSE)","v":"NW2"},null,null,null,null,null,null,null,"F84081",null,13886,32,30,30,30,27,19,31,29,26,26,24,33,30,30,29,31,28,24]
["2019-10-01",{"$f":"VLOOKUP(J1178,'Control Panel'!$O$3:$S$47,5,FALSE)","v":"NW1"},null,null,null,null,null,null,null,"F84083",null,8307,25,24,25,25,22,10,22,20,19,19,19,25,24,25,23,25,23,19]
["2019-10-01",{"$f":"VLOOKUP(J1179,'Control Panel'!$O$3:$S$47,5,FALSE)","v":"NW3&4"},null,null,null,null,null,null,null,"F84087",null,9476,33,33,33,33,33,20,28,27,27,27,27,29,27,29,28,27,28,27]
["2019-10-01",{"$f":"VLOOKUP(J1180,'Control Panel'!$O$3:$S$47,5,FALSE)","v":"NW3&4"},null,null,null,null,null,null,null,"F84114",null,6614,17,16,16,16,15,12,13,12,10,10,9,23,22,22,20,21,21,10]
["2019-10-01",{"$f":"VLOOKUP(J1181,'Control Panel'!$O$3:$S$47,5,FALSE)","v":"NW6"},null,null,null,null,null,null,null,"F84118",null,5668,12,7,7,7,6,5,18,17,16,17,17,15,13,12,13,13,13,17]
["2019-10-01",{"$f":"VLOOKUP(J1182,'Control Panel'!$O$3:$S$47,5,FALSE)","v":"NW6"},null,null,null,null,null,null,null,"F84122",null,15544,38,36,35,36,36,26,44,42,39,39,39,54,53,53,54,52,54,39]
["2019-10-01",{"$f":"VLOOKUP(J1183,'Control Panel'!$O$3:$S$47,5,FALSE)","v":"NW1"},null,null,null,null,null,null,null,"F84123",null,15129,21,21,21,21,20,12,22,21,20,21,21,29,28,28,28,28,27,21]
["2019-10-01",{"$f":"VLOOKUP(J1184,'Control Panel'!$O$3:$S$47,5,FALSE)","v":"NW8"},null,null,null,null,null,null,null,"F84647",null,8823,25,24,23,23,23,11,28,28,28,28,28,23,23,23,20,23,22,28]
["2019-10-01",{"$f":"VLOOKUP(J1185,'Control Panel'!$O$3:$S$47,5,FALSE)","v":"NW8"},null,null,null,null,null,null,null,"F84656",null,9378,32,29,25,30,26,22,26,25,26,25,26,18,18,18,18,18,18,26]
["2019-10-01",{"$f":"VLOOKUP(J1186,'Control Panel'!$O$3:$S$47,5,FALSE)","v":"NW6"},null,null,null,null,null,null,null,"F84676",null,4375,12,11,11,11,11,7,11,9,9,9,9,12,11,10,10,10,10,9]
["2019-10-01",{"$f":"VLOOKUP(J1187,'Control Panel'!$O$3:$S$47,5,FALSE)","v":"NW3&4"},null,null,null,null,null,null,null,"F84682",null,10967,46,42,42,42,41,31,31,29,24,27,27,32,30,29,30,29,30,27]
["2019-10-01",{"$f":"VLOOKUP(J1188,'Control Panel'!$O$3:$S$47,5,FALSE)","v":"NW5"},null,null,null,null,null,null,null,"F84696",null,5557,29,28,29,29,26,10,22,22,19,19,19,11,9,10,8,9,7,19]
["2019-10-01",{"$f":"VLOOKUP(J1189,'Control Panel'!$O$3:$S$47,5,FALSE)","v":"NW7"},null,null,null,null,null,null,null,"F84698",null,8810,32,26,25,26,28,20,52,47,45,46,46,33,30,30,29,28,29,44]
["2019-10-01",{"$f":"VLOOKUP(J1190,'Control Panel'!$O$3:$S$47,5,FALSE)","v":"NW8"},null,null,null,null,null,null,null,"F84710",null,12221,40,39,38,39,34,18,39,37,34,33,35,37,35,34,28,33,29,34]
["2019-10-01",{"$f":"VLOOKUP(J1191,'Control Panel'!$O$3:$S$47,5,FALSE)","v":"NW6"},null,null,null,null,null,null,null,"F84714",null,14105,62,57,57,57,56,40,48,46,45,46,46,49,45,46,43,46,43,45]
["2019-10-01",{"$f":"VLOOKUP(J1192,'Control Panel'!$O$3:$S$47,5,FALSE)","v":"NW2"},null,null,null,null,null,null,null,"F84718",null,14831,36,33,33,33,32,19,47,44,42,42,41,35,34,33,31,33,31,42]
["2019-10-01",{"$f":"VLOOKUP(J1193,'Control Panel'!$O$3:$S$47,5,FALSE)","v":"NW3&4"},null,null,null,null,null,null,null,"F84731",null,2121,4,3,3,3,3,3,5,5,5,5,5,0,0,0,0,0,0,5]
["2019-10-01",{"$f":"VLOOKUP(J1194,'Control Panel'!$O$3:$S$47,5,FALSE)","v":"NW2"},null,null,null,null,null,null,null,"F84733",null,1115,0,0,0,0,0,0,0,0,0,0,0,0,0,0,0,0,0,0]
["2019-10-01",{"$f":"VLOOKUP(J1195,'Control Panel'!$O$3:$S$47,5,FALSE)","v":"NW8"},null,null,null,null,null,null,null,"F84747",null,23623,102,98,99,99,98,48,80,77,73,73,71,71,67,63,60,62,60,72]
["2019-10-01",{"$f":"VLOOKUP(J1196,'Control Panel'!$O$3:$S$47,5,FALSE)","v":"NW1"},null,null,null,null,null,null,null,"Y00212",null,4844,7,7,7,7,7,3,15,15,15,15,15,12,12,12,12,12,11,15]
["2019-10-01",{"$f":"VLOOKUP(J1197,'Control Panel'!$O$3:$S$47,5,FALSE)","v":"NW6"},null,null,null,null,null,null,null,"Y03023",null,14071,56,53,52,53,48,39,59,54,53,53,53,34,32,31,28,30,28,53]
["2019-10-01",{"$f":"VLOOKUP(J1198,'Control Panel'!$O$3:$S$47,5,FALSE)","v":0},null,null,null,null,null,null,null,"Total",null,340366,1102,1025,1013,1031,989,576,1047,988,941,950,947,944,903,885,829,880,833,941]
["2019-11-01",{"$f":"VLOOKUP(J1199,'Control Panel'!$O$3:$S$47,5,FALSE)","v":{"$error":"#N/A"}},"Childhood Immunisations Q3",null,"Last Run:",null,"Population Count",357701,null,null,"Search","All Patients","(01) 12 MONTH COHORT","(01.01) DTaP/IPV/Hib/HepB","(01.02) Men B (1st and 2nd)","(01.03) PCV","(01.04) Rotavirus","(01.05) BCG","(02) 24 MONTH COHORT","(02.01) DTaP/IPV/Hib or DTaP/IPV/Hib/HepB","(02.02) MMR","(02.03) HiB/Men C","(02.04) PCV (Booster)","(03) 5 YEAR COHORT","(03.01) DTaP/IPV/Hib or DTaP/IPV/Hib/HepB","(03.02) MMR (Primary)","(03.03) DTaP/IPV (Booster)","(03.04) HiB/Men C","(03.05) MMR (Booster)","(02.05) Men B (Booster)"]
["2019-11-01",{"$f":"VLOOKUP(J1200,'Control Panel'!$O$3:$S$47,5,FALSE)","v":{"$error":"#N/A"}},null,null,"2019-12-02T09:59:00",null,"Males",184873,null,"Organisation Code"]
["2019-11-01",{"$f":"VLOOKUP(J1201,'Control Panel'!$O$3:$S$47,5,FALSE)","v":"NW2"},null,null,"Relative Date:",null,"Females",172828,null,"F84012",null,9230,31,28,28,28,27,24,29,29,29,29,29,29,28,28,27,28,28,29]
["2019-11-01",{"$f":"VLOOKUP(J1202,'Control Panel'!$O$3:$S$47,5,FALSE)","v":"NW1"},null,null,"2019-12-01",null,null,null,null,"F84016",null,11894,39,35,34,35,34,7,28,27,26,25,24,37,35,35,33,35,32,24]
["2019-11-01",{"$f":"VLOOKUP(J1203,'Control Panel'!$O$3:$S$47,5,FALSE)","v":"NW7"},null,null,null,null,null,null,null,"F84025",null,11327,34,31,31,31,31,12,34,31,32,32,31,32,30,30,27,30,28,32]
["2019-11-01",{"$f":"VLOOKUP(J1204,'Control Panel'!$O$3:$S$47,5,FALSE)","v":"NW5"},null,null,null,null,null,null,null,"F84030",null,3581,6,5,5,5,5,4,9,9,6,7,7,6,6,6,4,6,4,7]
["2019-11-01",{"$f":"VLOOKUP(J1205,'Control Panel'!$O$3:$S$47,5,FALSE)","v":"NW3&4"},null,null,null,null,null,null,null,"F84031",null,12870,46,39,37,40,36,26,38,35,31,32,33,35,34,32,30,34,30,30]
["2019-11-01",{"$f":"VLOOKUP(J1206,'Control Panel'!$O$3:$S$47,5,FALSE)","v":"NW5"},null,null,null,null,null,null,null,"F84034",null,13156,48,45,45,45,44,24,44,43,40,42,42,40,39,36,34,36,34,42]
["2019-11-01",{"$f":"VLOOKUP(J1207,'Control Panel'!$O$3:$S$47,5,FALSE)","v":"NW3&4"},null,null,null,null,null,null,null,"F84039",null,12579,45,45,42,45,42,3,33,31,29,28,29,28,28,26,23,25,24,29]
["2019-11-01",{"$f":"VLOOKUP(J1208,'Control Panel'!$O$3:$S$47,5,FALSE)","v":"NW5"},null,null,null,null,null,null,null,"F84044",null,7273,33,32,32,32,32,19,21,21,20,20,20,21,20,19,14,19,16,18]
["2019-11-01",{"$f":"VLOOKUP(J1209,'Control Panel'!$O$3:$S$47,5,FALSE)","v":"NW3&4"},null,null,null,null,null,null,null,"F84046",null,3548,15,14,13,14,14,11,10,9,9,9,9,17,17,17,17,17,17,9]
["2019-11-01",{"$f":"VLOOKUP(J1210,'Control Panel'!$O$3:$S$47,5,FALSE)","v":"NW1"},null,null,null,null,null,null,null,"F84051",null,5356,13,11,12,12,12,2,14,13,12,13,13,10,9,9,8,9,8,12]
["2019-11-01",{"$f":"VLOOKUP(J1211,'Control Panel'!$O$3:$S$47,5,FALSE)","v":"NW7"},null,null,null,null,null,null,null,"F84054",null,11041,39,35,35,36,34,18,42,41,40,39,40,37,37,35,33,36,31,39]
["2019-11-01",{"$f":"VLOOKUP(J1212,'Control Panel'!$O$3:$S$47,5,FALSE)","v":"NW5"},null,null,null,null,null,null,null,"F84055",null,3719,9,9,9,9,9,7,7,7,7,7,7,9,9,9,9,9,9,7]
["2019-11-01",{"$f":"VLOOKUP(J1213,'Control Panel'!$O$3:$S$47,5,FALSE)","v":"NW7"},null,null,null,null,null,null,null,"F84062",null,14969,47,45,44,45,43,30,63,58,58,58,59,51,50,48,41,49,43,58]
["2019-11-01",{"$f":"VLOOKUP(J1214,'Control Panel'!$O$3:$S$47,5,FALSE)","v":"NW3&4"},null,null,null,null,null,null,null,"F84079",null,10865,38,37,36,37,35,20,32,30,29,29,29,18,18,17,17,17,17,29]
["2019-11-01",{"$f":"VLOOKUP(J1215,'Control Panel'!$O$3:$S$47,5,FALSE)","v":"NW2"},null,null,null,null,null,null,null,"F84081",null,13953,32,30,31,31,27,19,31,30,27,27,25,33,30,30,29,31,28,25]
["2019-11-01",{"$f":"VLOOKUP(J1216,'Control Panel'!$O$3:$S$47,5,FALSE)","v":"NW1"},null,null,null,null,null,null,null,"F84083",null,8244,25,23,24,24,21,10,22,20,19,19,19,25,24,25,23,25,23,19]
["2019-11-01",{"$f":"VLOOKUP(J1217,'Control Panel'!$O$3:$S$47,5,FALSE)","v":"NW3&4"},null,null,null,null,null,null,null,"F84087",null,9469,33,33,33,33,33,23,27,26,26,26,26,29,27,29,28,27,28,26]
["2019-11-01",{"$f":"VLOOKUP(J1218,'Control Panel'!$O$3:$S$47,5,FALSE)","v":"NW3&4"},null,null,null,null,null,null,null,"F84114",null,6617,17,17,16,17,16,12,13,12,11,11,10,23,22,22,21,21,22,11]
["2019-11-01",{"$f":"VLOOKUP(J1219,'Control Panel'!$O$3:$S$47,5,FALSE)","v":"NW6"},null,null,null,null,null,null,null,"F84118",null,5659,11,7,6,6,5,4,16,15,14,15,15,16,14,13,13,14,13,15]
["2019-11-01",{"$f":"VLOOKUP(J1220,'Control Panel'!$O$3:$S$47,5,FALSE)","v":"NW6"},null,null,null,null,null,null,null,"F84122",null,15566,38,36,35,36,36,26,44,42,39,39,39,55,54,54,55,53,55,39]
["2019-11-01",{"$f":"VLOOKUP(J1221,'Control Panel'!$O$3:$S$47,5,FALSE)","v":"NW1"},null,null,null,null,null,null,null,"F84123",null,15025,20,20,20,20,19,12,21,20,19,20,20,30,29,28,28,29,27,20]
["2019-11-01",{"$f":"VLOOKUP(J1222,'Control Panel'!$O$3:$S$47,5,FALSE)","v":"NW8"},null,null,null,null,null,null,null,"F84647",null,8805,26,25,24,24,23,11,28,28,28,28,28,23,23,23,21,23,22,28]
["2019-11-01",{"$f":"VLOOKUP(J1223,'Control Panel'!$O$3:$S$47,5,FALSE)","v":"NW8"},null,null,null,null,null,null,null,"F84656",null,9430,32,29,25,30,26,22,26,25,26,25,26,18,18,18,18,18,18,26]
["2019-11-01",{"$f":"VLOOKUP(J1224,'Control Panel'!$O$3:$S$47,5,FALSE)","v":"NW6"},null,null,null,null,null,null,null,"F84676",null,4379,12,11,11,11,11,7,11,9,9,9,9,12,11,10,10,10,10,9]
["2019-11-01",{"$f":"VLOOKUP(J1225,'Control Panel'!$O$3:$S$47,5,FALSE)","v":"NW3&4"},null,null,null,null,null,null,null,"F84682",null,10997,46,43,43,43,42,33,31,29,24,27,27,32,30,30,30,29,29,27]
["2019-11-01",{"$f":"VLOOKUP(J1226,'Control Panel'!$O$3:$S$47,5,FALSE)","v":"NW5"},null,null,null,null,null,null,null,"F84696",null,5485,27,26,27,27,24,8,21,21,18,18,18,11,9,10,8,9,7,18]
["2019-11-01",{"$f":"VLOOKUP(J1227,'Control Panel'!$O$3:$S$47,5,FALSE)","v":"NW7"},null,null,null,null,null,null,null,"F84698",null,8891,33,26,25,26,28,21,51,46,44,45,45,33,30,30,29,28,29,43]
["2019-11-01",{"$f":"VLOOKUP(J1228,'Control Panel'!$O$3:$S$47,5,FALSE)","v":"NW8"},null,null,null,null,null,null,null,"F84710",null,12187,38,37,36,37,33,17,38,36,35,34,36,37,35,34,28,33,29,35]
["2019-11-01",{"$f":"VLOOKUP(J1229,'Control Panel'!$O$3:$S$47,5,FALSE)","v":"NW6"},null,null,null,null,null,null,null,"F84714",null,14064,62,57,57,57,56,39,47,45,44,45,45,49,45,46,43,46,43,45]
["2019-11-01",{"$f":"VLOOKUP(J1230,'Control Panel'!$O$3:$S$47,5,FALSE)","v":"NW2"},null,null,null,null,null,null,null,"F84718",null,14848,35,32,32,32,31,20,46,43,41,41,40,35,34,33,31,33,31,41]
["2019-11-01",{"$f":"VLOOKUP(J1231,'Control Panel'!$O$3:$S$47,5,FALSE)","v":"NW3&4"},null,null,null,null,null,null,null,"F84731",null,2116,4,3,3,3,3,3,5,5,5,5,5,0,0,0,0,0,0,5]
["2019-11-01",{"$f":"VLOOKUP(J1232,'Control Panel'!$O$3:$S$47,5,FALSE)","v":"NW2"},null,null,null,null,null,null,null,"F84733",null,1093,0,0,0,0,0,0,0,0,0,0,0,0,0,0,0,0,0,0]
["2019-11-01",{"$f":"VLOOKUP(J1233,'Control Panel'!$O$3:$S$47,5,FALSE)","v":"NW8"},null,null,null,null,null,null,null,"F84747",null,23690,104,100,101,101,100,49,77,74,70,70,68,72,67,63,60,63,60,69]
["2019-11-01",{"$f":"VLOOKUP(J1234,'Control Panel'!$O$3:$S$47,5,FALSE)","v":"NW1"},null,null,null,null,null,null,null,"Y00212",null,4874,6,6,6,6,6,3,15,15,15,15,15,12,12,12,12,12,11,15]
["2019-11-01",{"$f":"VLOOKUP(J1235,'Control Panel'!$O$3:$S$47,5,FALSE)","v":"NW6"},null,null,null,null,null,null,null,"Y03023",null,14115,56,53,52,53,48,39,57,52,52,52,52,34,32,31,28,30,28,52]
["2019-11-01",{"$f":"VLOOKUP(J1236,'Control Panel'!$O$3:$S$47,5,FALSE)","v":0},null,null,null,null,null,null,null,"Total",null,340915,1100,1025,1010,1031,986,585,1031,977,934,941,940,949,906,888,832,884,834,933]
["2019-12-01",{"$f":"VLOOKUP(J1237,'Control Panel'!$O$3:$S$47,5,FALSE)","v":{"$error":"#N/A"}},"Childhood Immunisations Q3",null,"Last Run:",null,"Population Count",357592,null,null,"Search","All Patients","(01) 12 MONTH COHORT","(01.01) DTaP/IPV/Hib/HepB","(01.02) Men B (1st and 2nd)","(01.03) PCV","(01.04) Rotavirus","(01.05) BCG","(02) 24 MONTH COHORT","(02.01) DTaP/IPV/Hib or DTaP/IPV/Hib/HepB","(02.02) MMR","(02.03) HiB/Men C","(02.04) PCV (Booster)","(03) 5 YEAR COHORT","(03.01) DTaP/IPV/Hib or DTaP/IPV/Hib/HepB","(03.02) MMR (Primary)","(03.03) DTaP/IPV (Booster)","(03.04) HiB/Men C","(03.05) MMR (Booster)","(02.05) Men B (Booster)"]
["2019-12-01",{"$f":"VLOOKUP(J1238,'Control Panel'!$O$3:$S$47,5,FALSE)","v":{"$error":"#N/A"}},null,null,"2020-01-07T15:30:00",null,"Males",184992,null,"Organisation Code"]
["2019-12-01",{"$f":"VLOOKUP(J1239,'Control Panel'!$O$3:$S$47,5,FALSE)","v":"NW2"},null,null,"Relative Date:",null,"Females",172600,null,"F84012",null,9167,30,27,27,27,26,25,29,29,29,29,29,29,27,27,26,27,27,29]
["2019-12-01",{"$f":"VLOOKUP(J1240,'Control Panel'!$O$3:$S$47,5,FALSE)","v":"NW1"},null,null,"2020-01-01",null,null,null,null,"F84016",null,11940,38,35,34,35,33,8,28,27,26,25,24,37,35,35,33,35,32,24]
["2019-12-01",{"$f":"VLOOKUP(J1241,'Control Panel'!$O$3:$S$47,5,FALSE)","v":"NW7"},null,null,null,null,null,null,null,"F84025",null,11343,35,32,32,32,32,14,36,33,33,33,32,32,30,30,27,30,28,33]
["2019-12-01",{"$f":"VLOOKUP(J1242,'Control Panel'!$O$3:$S$47,5,FALSE)","v":"NW5"},null,null,null,null,null,null,null,"F84030",null,3598,5,4,4,4,4,3,9,9,6,7,7,6,6,6,4,6,4,7]
["2019-12-01",{"$f":"VLOOKUP(J1243,'Control Panel'!$O$3:$S$47,5,FALSE)","v":"NW3&4"},null,null,null,null,null,null,null,"F84031",null,12810,45,39,37,40,36,26,38,35,32,32,33,34,33,31,29,33,29,30]
["2019-12-01",{"$f":"VLOOKUP(J1244,'Control Panel'!$O$3:$S$47,5,FALSE)","v":"NW5"},null,null,null,null,null,null,null,"F84034",null,13215,48,45,45,45,44,24,45,44,41,43,43,40,39,36,34,36,34,43]
["2019-12-01",{"$f":"VLOOKUP(J1245,'Control Panel'!$O$3:$S$47,5,FALSE)","v":"NW3&4"},null,null,null,null,null,null,null,"F84039",null,12404,43,43,40,43,40,3,33,31,29,28,29,28,28,26,23,25,24,29]
["2019-12-01",{"$f":"VLOOKUP(J1246,'Control Panel'!$O$3:$S$47,5,FALSE)","v":"NW5"},null,null,null,null,null,null,null,"F84044",null,7301,33,32,32,32,32,19,21,21,20,20,20,21,20,19,14,19,16,18]
["2019-12-01",{"$f":"VLOOKUP(J1247,'Control Panel'!$O$3:$S$47,5,FALSE)","v":"NW3&4"},null,null,null,null,null,null,null,"F84046",null,3546,15,14,13,14,14,11,10,9,9,9,9,17,17,17,17,17,17,9]
["2019-12-01",{"$f":"VLOOKUP(J1248,'Control Panel'!$O$3:$S$47,5,FALSE)","v":"NW1"},null,null,null,null,null,null,null,"F84051",null,5391,13,11,12,12,12,2,14,13,12,13,13,10,9,9,8,9,8,12]
["2019-12-01",{"$f":"VLOOKUP(J1249,'Control Panel'!$O$3:$S$47,5,FALSE)","v":"NW7"},null,null,null,null,null,null,null,"F84054",null,10999,40,36,36,37,35,19,41,40,39,38,39,37,37,35,33,36,31,38]
["2019-12-01",{"$f":"VLOOKUP(J1250,'Control Panel'!$O$3:$S$47,5,FALSE)","v":"NW5"},null,null,null,null,null,null,null,"F84055",null,3728,9,9,9,9,9,7,7,7,7,7,7,9,9,9,9,9,9,7]
["2019-12-01",{"$f":"VLOOKUP(J1251,'Control Panel'!$O$3:$S$47,5,FALSE)","v":"NW7"},null,null,null,null,null,null,null,"F84062",null,15007,49,47,46,47,45,32,63,58,58,58,59,53,52,50,43,51,45,58]
["2019-12-01",{"$f":"VLOOKUP(J1252,'Control Panel'!$O$3:$S$47,5,FALSE)","v":"NW3&4"},null,null,null,null,null,null,null,"F84079",null,10886,37,36,35,36,34,19,32,30,29,29,29,18,18,17,17,17,17,29]
["2019-12-01",{"$f":"VLOOKUP(J1253,'Control Panel'!$O$3:$S$47,5,FALSE)","v":"NW2"},null,null,null,null,null,null,null,"F84081",null,13977,32,30,31,31,27,19,31,30,27,27,25,33,30,30,29,31,28,25]
["2019-12-01",{"$f":"VLOOKUP(J1254,'Control Panel'!$O$3:$S$47,5,FALSE)","v":"NW1"},null,null,null,null,null,null,null,"F84083",null,8242,25,23,24,24,21,10,23,21,20,20,20,25,24,25,23,25,23,20]
["2019-12-01",{"$f":"VLOOKUP(J1255,'Control Panel'!$O$3:$S$47,5,FALSE)","v":"NW3&4"},null,null,null,null,null,null,null,"F84087",null,9427,33,33,33,33,33,23,26,25,25,25,25,29,27,29,28,27,28,25]
["2019-12-01",{"$f":"VLOOKUP(J1256,'Control Panel'!$O$3:$S$47,5,FALSE)","v":"NW3&4"},null,null,null,null,null,null,null,"F84114",null,6582,17,17,16,17,16,12,13,12,11,11,10,22,21,21,21,20,21,11]
["2019-12-01",{"$f":"VLOOKUP(J1257,'Control Panel'!$O$3:$S$47,5,FALSE)","v":"NW6"},null,null,null,null,null,null,null,"F84118",null,5634,11,7,6,6,5,4,16,15,14,15,15,16,14,13,13,14,13,15]
["2019-12-01",{"$f":"VLOOKUP(J1258,'Control Panel'!$O$3:$S$47,5,FALSE)","v":"NW6"},null,null,null,null,null,null,null,"F84122",null,15586,38,36,35,36,36,26,45,43,40,40,40,56,55,55,56,54,56,40]
["2019-12-01",{"$f":"VLOOKUP(J1259,'Control Panel'!$O$3:$S$47,5,FALSE)","v":"NW1"},null,null,null,null,null,null,null,"F84123",null,14929,20,20,20,20,19,12,19,19,18,19,19,30,29,28,29,29,27,19]
["2019-12-01",{"$f":"VLOOKUP(J1260,'Control Panel'!$O$3:$S$47,5,FALSE)","v":"NW8"},null,null,null,null,null,null,null,"F84647",null,8856,27,25,24,24,23,11,28,28,28,28,28,23,23,23,21,23,22,28]
["2019-12-01",{"$f":"VLOOKUP(J1261,'Control Panel'!$O$3:$S$47,5,FALSE)","v":"NW8"},null,null,null,null,null,null,null,"F84656",null,9461,31,28,24,29,25,21,26,25,26,25,26,17,17,17,17,17,17,26]
["2019-12-01",{"$f":"VLOOKUP(J1262,'Control Panel'!$O$3:$S$47,5,FALSE)","v":"NW6"},null,null,null,null,null,null,null,"F84676",null,4365,11,10,10,10,10,6,11,9,9,9,9,10,9,8,8,8,8,9]
["2019-12-01",{"$f":"VLOOKUP(J1263,'Control Panel'!$O$3:$S$47,5,FALSE)","v":"NW3&4"},null,null,null,null,null,null,null,"F84682",null,10987,44,41,41,41,40,32,32,30,26,29,29,33,30,31,30,30,29,29]
["2019-12-01",{"$f":"VLOOKUP(J1264,'Control Panel'!$O$3:$S$47,5,FALSE)","v":"NW5"},null,null,null,null,null,null,null,"F84696",null,5426,27,26,27,27,24,8,20,20,18,18,18,11,9,10,8,9,7,18]
["2019-12-01",{"$f":"VLOOKUP(J1265,'Control Panel'!$O$3:$S$47,5,FALSE)","v":"NW7"},null,null,null,null,null,null,null,"F84698",null,8943,34,28,26,28,29,21,51,45,44,45,45,30,27,27,26,25,26,43]
["2019-12-01",{"$f":"VLOOKUP(J1266,'Control Panel'!$O$3:$S$47,5,FALSE)","v":"NW8"},null,null,null,null,null,null,null,"F84710",null,12147,38,37,36,37,33,17,37,35,34,33,35,37,35,34,28,33,29,34]
["2019-12-01",{"$f":"VLOOKUP(J1267,'Control Panel'!$O$3:$S$47,5,FALSE)","v":"NW6"},null,null,null,null,null,null,null,"F84714",null,14171,62,57,57,57,56,39,47,45,44,45,45,48,44,45,42,45,42,45]
["2019-12-01",{"$f":"VLOOKUP(J1268,'Control Panel'!$O$3:$S$47,5,FALSE)","v":"NW2"},null,null,null,null,null,null,null,"F84718",null,14822,35,32,32,32,31,20,46,43,41,41,40,35,34,33,31,33,31,41]
["2019-12-01",{"$f":"VLOOKUP(J1269,'Control Panel'!$O$3:$S$47,5,FALSE)","v":"NW3&4"},null,null,null,null,null,null,null,"F84731",null,2106,2,2,2,2,2,2,5,4,5,5,5,0,0,0,0,0,0,4]
["2019-12-01",{"$f":"VLOOKUP(J1270,'Control Panel'!$O$3:$S$47,5,FALSE)","v":"NW2"},null,null,null,null,null,null,null,"F84733",null,1084,0,0,0,0,0,0,0,0,0,0,0,0,0,0,0,0,0,0]
["2019-12-01",{"$f":"VLOOKUP(J1271,'Control Panel'!$O$3:$S$47,5,FALSE)","v":"NW8"},null,null,null,null,null,null,null,"F84747",null,23712,104,100,101,101,100,49,79,74,70,70,69,73,67,63,60,63,60,70]
["2019-12-01",{"$f":"VLOOKUP(J1272,'Control Panel'!$O$3:$S$47,5,FALSE)","v":"NW1"},null,null,null,null,null,null,null,"Y00212",null,4887,6,6,6,6,6,3,15,15,15,15,15,12,12,12,12,12,11,15]
["2019-12-01",{"$f":"VLOOKUP(J1273,'Control Panel'!$O$3:$S$47,5,FALSE)","v":"NW6"},null,null,null,null,null,null,null,"Y03023",null,14175,55,52,51,52,47,38,57,52,52,52,52,36,33,32,29,31,29,52]
["2019-12-01",{"$f":"VLOOKUP(J1274,'Control Panel'!$O$3:$S$47,5,FALSE)","v":0},null,null,null,null,null,null,null,"Total",null,340854,1092,1020,1004,1026,979,585,1033,976,937,943,943,947,900,883,828,879,828,935]
["2020-01-01",{"$f":"VLOOKUP(J1275,'Control Panel'!$O$3:$S$47,5,FALSE)","v":{"$error":"#N/A"}},"Childhood Immunisations Q4",null,"Last Run:",null,"Population Count",357297,null,null,"Search","All Patients","(01) 12 MONTH COHORT","(01.01) DTaP/IPV/Hib/HepB","(01.02) Men B (1st and 2nd)","(01.03) PCV","(01.04) Rotavirus","(01.05) BCG","(02) 24 MONTH COHORT","(02.01) DTaP/IPV/Hib or DTaP/IPV/Hib/HepB","(02.02) MMR","(02.03) HiB/Men C","(02.04) PCV (Booster)","(03) 5 YEAR COHORT","(03.01) DTaP/IPV/Hib or DTaP/IPV/Hib/HepB","(03.02) MMR (Primary)","(03.03) DTaP/IPV (Booster)","(03.04) HiB/Men C","(03.05) MMR (Booster)","(02.05) Men B (Booster)"]
["2020-01-01",{"$f":"VLOOKUP(J1276,'Control Panel'!$O$3:$S$47,5,FALSE)","v":{"$error":"#N/A"}},null,null,"2020-02-03T12:56:00",null,"Males",184854,null,"Organisation Code"]
["2020-01-01",{"$f":"VLOOKUP(J1277,'Control Panel'!$O$3:$S$47,5,FALSE)","v":"NW2"},null,null,"Relative Date:",null,"Females",172443,null,"F84012",null,9181,24,23,23,23,23,17,26,25,24,25,25,29,27,26,23,26,24,25]
["2020-01-01",{"$f":"VLOOKUP(J1278,'Control Panel'!$O$3:$S$47,5,FALSE)","v":"NW1"},null,null,"2020-02-01",null,null,null,null,"F84016",null,12052,24,24,24,24,24,8,29,25,23,24,23,32,30,27,26,29,26,24]
["2020-01-01",{"$f":"VLOOKUP(J1279,'Control Panel'!$O$3:$S$47,5,FALSE)","v":"NW7"},null,null,null,null,null,null,null,"F84025",null,11360,36,35,35,35,35,23,29,29,29,29,29,41,40,40,40,40,40,29]
["2020-01-01",{"$f":"VLOOKUP(J1280,'Control Panel'!$O$3:$S$47,5,FALSE)","v":"NW5"},null,null,null,null,null,null,null,"F84030",null,3647,16,14,14,14,14,7,4,3,3,3,3,9,8,7,6,7,6,2]
["2020-01-01",{"$f":"VLOOKUP(J1281,'Control Panel'!$O$3:$S$47,5,FALSE)","v":"NW3&4"},null,null,null,null,null,null,null,"F84031",null,12887,40,38,38,38,38,27,38,36,35,33,33,39,38,36,32,33,33,36]
["2020-01-01",{"$f":"VLOOKUP(J1282,'Control Panel'!$O$3:$S$47,5,FALSE)","v":"NW5"},null,null,null,null,null,null,null,"F84034",null,13185,44,42,42,42,39,19,48,45,43,44,43,38,37,37,36,36,36,44]
["2020-01-01",{"$f":"VLOOKUP(J1283,'Control Panel'!$O$3:$S$47,5,FALSE)","v":"NW3&4"},null,null,null,null,null,null,null,"F84039",null,12454,31,27,27,27,27,2,34,33,32,32,33,35,34,35,34,33,34,31]
["2020-01-01",{"$f":"VLOOKUP(J1284,'Control Panel'!$O$3:$S$47,5,FALSE)","v":"NW5"},null,null,null,null,null,null,null,"F84044",null,7411,13,13,13,13,13,7,26,24,24,24,24,20,20,15,12,16,12,23]
["2020-01-01",{"$f":"VLOOKUP(J1285,'Control Panel'!$O$3:$S$47,5,FALSE)","v":"NW3&4"},null,null,null,null,null,null,null,"F84046",null,3566,6,6,6,6,6,5,8,8,8,8,8,11,10,10,10,10,10,8]
["2020-01-01",{"$f":"VLOOKUP(J1286,'Control Panel'!$O$3:$S$47,5,FALSE)","v":"NW1"},null,null,null,null,null,null,null,"F84051",null,5420,4,4,3,4,3,0,10,10,9,9,9,7,4,4,4,4,4,9]
["2020-01-01",{"$f":"VLOOKUP(J1287,'Control Panel'!$O$3:$S$47,5,FALSE)","v":"NW7"},null,null,null,null,null,null,null,"F84054",null,11040,44,41,41,41,41,25,30,29,26,27,27,27,26,25,23,25,24,27]
["2020-01-01",{"$f":"VLOOKUP(J1288,'Control Panel'!$O$3:$S$47,5,FALSE)","v":"NW5"},null,null,null,null,null,null,null,"F84055",null,3744,12,12,12,12,12,10,9,9,9,9,9,4,4,4,4,4,4,9]
["2020-01-01",{"$f":"VLOOKUP(J1289,'Control Panel'!$O$3:$S$47,5,FALSE)","v":"NW7"},null,null,null,null,null,null,null,"F84062",null,15037,47,44,44,44,43,30,48,47,42,42,43,64,62,60,54,61,55,43]
["2020-01-01",{"$f":"VLOOKUP(J1290,'Control Panel'!$O$3:$S$47,5,FALSE)","v":"NW3&4"},null,null,null,null,null,null,null,"F84079",null,10905,27,27,26,26,25,14,23,22,21,22,22,25,23,22,21,22,22,22]
["2020-01-01",{"$f":"VLOOKUP(J1291,'Control Panel'!$O$3:$S$47,5,FALSE)","v":"NW2"},null,null,null,null,null,null,null,"F84081",null,14004,32,28,28,28,27,12,28,26,22,24,24,39,38,34,34,36,33,24]
["2020-01-01",{"$f":"VLOOKUP(J1292,'Control Panel'!$O$3:$S$47,5,FALSE)","v":"NW1"},null,null,null,null,null,null,null,"F84083",null,8292,20,19,19,19,18,7,27,24,24,24,24,17,17,16,17,17,16,24]
["2020-01-01",{"$f":"VLOOKUP(J1293,'Control Panel'!$O$3:$S$47,5,FALSE)","v":"NW3&4"},null,null,null,null,null,null,null,"F84087",null,9457,36,34,34,34,33,25,24,21,17,17,17,33,32,31,27,31,27,17]
["2020-01-01",{"$f":"VLOOKUP(J1294,'Control Panel'!$O$3:$S$47,5,FALSE)","v":"NW3&4"},null,null,null,null,null,null,null,"F84114",null,6628,15,15,15,15,15,8,19,19,18,19,19,18,18,18,17,18,17,19]
["2020-01-01",{"$f":"VLOOKUP(J1295,'Control Panel'!$O$3:$S$47,5,FALSE)","v":"NW6"},null,null,null,null,null,null,null,"F84118",null,5614,5,5,5,5,5,5,6,3,3,3,3,11,11,10,10,10,10,3]
["2020-01-01",{"$f":"VLOOKUP(J1296,'Control Panel'!$O$3:$S$47,5,FALSE)","v":"NW6"},null,null,null,null,null,null,null,"F84122",null,15619,48,47,47,47,47,36,38,35,33,34,34,48,43,41,38,42,37,34]
["2020-01-01",{"$f":"VLOOKUP(J1297,'Control Panel'!$O$3:$S$47,5,FALSE)","v":"NW1"},null,null,null,null,null,null,null,"F84123",null,14953,24,22,22,22,21,10,19,19,19,19,19,24,23,23,23,23,23,19]
["2020-01-01",{"$f":"VLOOKUP(J1298,'Control Panel'!$O$3:$S$47,5,FALSE)","v":"NW8"},null,null,null,null,null,null,null,"F84647",null,8836,23,22,20,23,21,11,23,21,22,22,22,24,23,23,22,22,23,21]
["2020-01-01",{"$f":"VLOOKUP(J1299,'Control Panel'!$O$3:$S$47,5,FALSE)","v":"NW8"},null,null,null,null,null,null,null,"F84656",null,9530,28,27,27,27,27,16,20,20,19,19,19,25,23,22,23,22,23,19]
["2020-01-01",{"$f":"VLOOKUP(J1300,'Control Panel'!$O$3:$S$47,5,FALSE)","v":"NW6"},null,null,null,null,null,null,null,"F84676",null,4369,10,10,10,10,10,7,10,10,9,10,10,20,19,19,17,19,18,10]
["2020-01-01",{"$f":"VLOOKUP(J1301,'Control Panel'!$O$3:$S$47,5,FALSE)","v":"NW3&4"},null,null,null,null,null,null,null,"F84682",null,10995,42,41,41,41,41,33,37,37,36,36,36,35,33,33,32,32,32,36]
["2020-01-01",{"$f":"VLOOKUP(J1302,'Control Panel'!$O$3:$S$47,5,FALSE)","v":"NW5"},null,null,null,null,null,null,null,"F84696",null,5363,23,20,20,20,21,9,11,11,11,11,11,14,14,12,9,12,11,11]
["2020-01-01",{"$f":"VLOOKUP(J1303,'Control Panel'!$O$3:$S$47,5,FALSE)","v":"NW7"},null,null,null,null,null,null,null,"F84698",null,9031,33,30,26,31,27,17,33,31,30,30,30,27,26,23,25,24,24,29]
["2020-01-01",{"$f":"VLOOKUP(J1304,'Control Panel'!$O$3:$S$47,5,FALSE)","v":"NW8"},null,null,null,null,null,null,null,"F84710",null,12128,50,42,42,43,42,29,30,28,28,28,28,30,28,25,21,27,22,29]
["2020-01-01",{"$f":"VLOOKUP(J1305,'Control Panel'!$O$3:$S$47,5,FALSE)","v":"NW6"},null,null,null,null,null,null,null,"F84714",null,14282,50,48,48,48,47,28,50,48,45,45,47,43,40,40,39,40,39,46]
["2020-01-01",{"$f":"VLOOKUP(J1306,'Control Panel'!$O$3:$S$47,5,FALSE)","v":"NW2"},null,null,null,null,null,null,null,"F84718",null,14860,38,34,34,34,34,17,40,36,34,35,35,26,26,26,25,26,25,35]
["2020-01-01",{"$f":"VLOOKUP(J1307,'Control Panel'!$O$3:$S$47,5,FALSE)","v":"NW3&4"},null,null,null,null,null,null,null,"F84731",null,2126,5,5,5,5,5,5,4,4,4,4,4,1,1,1,1,1,1,4]
["2020-01-01",{"$f":"VLOOKUP(J1308,'Control Panel'!$O$3:$S$47,5,FALSE)","v":"NW2"},null,null,null,null,null,null,null,"F84733",null,1080,0,0,0,0,0,0,0,0,0,0,0,0,0,0,0,0,0,0]
["2020-01-01",{"$f":"VLOOKUP(J1309,'Control Panel'!$O$3:$S$47,5,FALSE)","v":"NW8"},null,null,null,null,null,null,null,"F84747",null,23483,82,76,76,76,75,40,83,77,77,76,77,61,59,59,56,58,56,75]
["2020-01-01",{"$f":"VLOOKUP(J1310,'Control Panel'!$O$3:$S$47,5,FALSE)","v":"NW1"},null,null,null,null,null,null,null,"Y00212",null,4877,13,12,12,12,12,5,14,13,11,11,11,10,8,7,7,7,7,11]
["2020-01-01",{"$f":"VLOOKUP(J1311,'Control Panel'!$O$3:$S$47,5,FALSE)","v":"NW6"},null,null,null,null,null,null,null,"Y03023",null,14260,56,54,53,53,53,43,50,46,43,43,43,48,46,46,41,43,41,43]
["2020-01-01",{"$f":"VLOOKUP(J1312,'Control Panel'!$O$3:$S$47,5,FALSE)","v":0},null,null,null,null,null,null,null,"Total",null,341676,1001,941,932,942,924,557,928,874,833,841,844,935,891,857,809,856,815,841]
["2020-02-01",{"$f":"VLOOKUP(J1313,'Control Panel'!$O$3:$S$47,5,FALSE)","v":{"$error":"#N/A"}},"Childhood Immunisations Q4",null,"Last Run:",null,"Population Count",357894,null,null,"Search","All Patients","(01) 12 MONTH COHORT","(01.01) DTaP/IPV/Hib/HepB","(01.02) Men B (1st and 2nd)","(01.03) PCV","(01.04) Rotavirus","(01.05) BCG","(02) 24 MONTH COHORT","(02.01) DTaP/IPV/Hib or DTaP/IPV/Hib/HepB","(02.02) MMR","(02.03) HiB/Men C","(02.04) PCV (Booster)","(03) 5 YEAR COHORT","(03.01) DTaP/IPV/Hib or DTaP/IPV/Hib/HepB","(03.02) MMR (Primary)","(03.03) DTaP/IPV (Booster)","(03.04) HiB/Men C","(03.05) MMR (Booster)","(02.05) Men B (Booster)"]
["2020-02-01",{"$f":"VLOOKUP(J1314,'Control Panel'!$O$3:$S$47,5,FALSE)","v":{"$error":"#N/A"}},null,null,"2020-03-02T15:44:00",null,"Males",185338,null,"Organisation Code"]
["2020-02-01",{"$f":"VLOOKUP(J1315,'Control Panel'!$O$3:$S$47,5,FALSE)","v":"NW2"},null,null,"Relative Date:",null,"Females",172556,null,"F84012",null,9196,24,23,23,23,23,19,25,24,23,24,24,29,27,26,23,26,24,24]
["2020-02-01",{"$f":"VLOOKUP(J1316,'Control Panel'!$O$3:$S$47,5,FALSE)","v":"NW1"},null,null,"2020-03-01",null,null,null,null,"F84016",null,12133,24,23,24,23,23,7,29,25,24,24,24,32,30,27,26,29,26,24]
["2020-02-01",{"$f":"VLOOKUP(J1317,'Control Panel'!$O$3:$S$47,5,FALSE)","v":"NW7"},null,null,null,null,null,null,null,"F84025",null,11368,36,35,35,35,35,23,29,29,29,29,29,41,40,40,40,40,40,29]
["2020-02-01",{"$f":"VLOOKUP(J1318,'Control Panel'!$O$3:$S$47,5,FALSE)","v":"NW5"},null,null,null,null,null,null,null,"F84030",null,3672,16,14,14,14,14,7,4,3,4,4,3,9,8,7,6,7,6,3]
["2020-02-01",{"$f":"VLOOKUP(J1319,'Control Panel'!$O$3:$S$47,5,FALSE)","v":"NW3&4"},null,null,null,null,null,null,null,"F84031",null,12910,40,37,37,37,38,27,39,37,36,34,34,39,38,36,33,33,34,37]
["2020-02-01",{"$f":"VLOOKUP(J1320,'Control Panel'!$O$3:$S$47,5,FALSE)","v":"NW5"},null,null,null,null,null,null,null,"F84034",null,13294,43,41,41,41,38,19,48,45,43,44,43,38,37,37,37,36,37,44]
["2020-02-01",{"$f":"VLOOKUP(J1321,'Control Panel'!$O$3:$S$47,5,FALSE)","v":"NW3&4"},null,null,null,null,null,null,null,"F84039",null,12546,32,27,27,27,27,4,34,33,31,32,33,35,34,35,34,33,34,30]
["2020-02-01",{"$f":"VLOOKUP(J1322,'Control Panel'!$O$3:$S$47,5,FALSE)","v":"NW5"},null,null,null,null,null,null,null,"F84044",null,7303,13,13,13,13,13,7,26,24,24,24,24,20,20,15,13,16,12,23]
["2020-02-01",{"$f":"VLOOKUP(J1323,'Control Panel'!$O$3:$S$47,5,FALSE)","v":"NW3&4"},null,null,null,null,null,null,null,"F84046",null,3567,5,5,5,5,5,4,8,8,8,8,8,11,10,10,10,10,10,8]
["2020-02-01",{"$f":"VLOOKUP(J1324,'Control Panel'!$O$3:$S$47,5,FALSE)","v":"NW1"},null,null,null,null,null,null,null,"F84051",null,5457,4,4,3,4,3,0,10,10,9,9,9,7,4,4,4,4,4,9]
["2020-02-01",{"$f":"VLOOKUP(J1325,'Control Panel'!$O$3:$S$47,5,FALSE)","v":"NW7"},null,null,null,null,null,null,null,"F84054",null,11028,42,39,39,39,39,24,31,30,27,28,28,26,25,24,22,24,23,28]
["2020-02-01",{"$f":"VLOOKUP(J1326,'Control Panel'!$O$3:$S$47,5,FALSE)","v":"NW5"},null,null,null,null,null,null,null,"F84055",null,3744,12,12,12,12,12,10,9,9,9,9,9,4,4,4,4,4,4,9]
["2020-02-01",{"$f":"VLOOKUP(J1327,'Control Panel'!$O$3:$S$47,5,FALSE)","v":"NW7"},null,null,null,null,null,null,null,"F84062",null,15169,48,45,45,45,44,30,48,47,42,42,43,64,62,60,54,61,55,43]
["2020-02-01",{"$f":"VLOOKUP(J1328,'Control Panel'!$O$3:$S$47,5,FALSE)","v":"NW3&4"},null,null,null,null,null,null,null,"F84079",null,10952,28,28,28,28,26,15,23,22,21,22,22,25,23,22,21,22,22,22]
["2020-02-01",{"$f":"VLOOKUP(J1329,'Control Panel'!$O$3:$S$47,5,FALSE)","v":"NW2"},null,null,null,null,null,null,null,"F84081",null,14056,31,27,27,27,26,13,28,25,21,23,23,39,38,34,34,36,33,23]
["2020-02-01",{"$f":"VLOOKUP(J1330,'Control Panel'!$O$3:$S$47,5,FALSE)","v":"NW1"},null,null,null,null,null,null,null,"F84083",null,8267,19,18,18,18,17,7,26,23,24,24,24,18,16,16,17,17,16,24]
["2020-02-01",{"$f":"VLOOKUP(J1331,'Control Panel'!$O$3:$S$47,5,FALSE)","v":"NW3&4"},null,null,null,null,null,null,null,"F84087",null,9515,36,35,35,35,34,26,24,21,18,18,17,33,32,31,27,31,27,17]
["2020-02-01",{"$f":"VLOOKUP(J1332,'Control Panel'!$O$3:$S$47,5,FALSE)","v":"NW3&4"},null,null,null,null,null,null,null,"F84114",null,6649,14,14,14,14,14,7,20,19,18,19,19,19,18,18,17,18,17,19]
["2020-02-01",{"$f":"VLOOKUP(J1333,'Control Panel'!$O$3:$S$47,5,FALSE)","v":"NW6"},null,null,null,null,null,null,null,"F84118",null,5634,5,5,5,5,5,5,6,4,4,4,4,11,11,10,10,10,10,4]
["2020-02-01",{"$f":"VLOOKUP(J1334,'Control Panel'!$O$3:$S$47,5,FALSE)","v":"NW6"},null,null,null,null,null,null,null,"F84122",null,15665,48,47,47,47,47,36,38,36,34,35,35,48,43,41,38,42,37,35]
["2020-02-01",{"$f":"VLOOKUP(J1335,'Control Panel'!$O$3:$S$47,5,FALSE)","v":"NW1"},null,null,null,null,null,null,null,"F84123",null,14930,23,22,22,22,21,10,20,20,20,20,20,24,23,23,23,23,23,20]
["2020-02-01",{"$f":"VLOOKUP(J1336,'Control Panel'!$O$3:$S$47,5,FALSE)","v":"NW8"},null,null,null,null,null,null,null,"F84647",null,8787,23,22,21,23,21,11,23,21,22,22,22,24,24,24,23,23,24,21]
["2020-02-01",{"$f":"VLOOKUP(J1337,'Control Panel'!$O$3:$S$47,5,FALSE)","v":"NW8"},null,null,null,null,null,null,null,"F84656",null,9512,28,27,27,27,27,16,20,20,19,19,19,26,24,23,23,23,23,19]
["2020-02-01",{"$f":"VLOOKUP(J1338,'Control Panel'!$O$3:$S$47,5,FALSE)","v":"NW6"},null,null,null,null,null,null,null,"F84676",null,4261,9,9,9,9,9,7,8,8,7,8,8,20,19,19,17,19,18,8]
["2020-02-01",{"$f":"VLOOKUP(J1339,'Control Panel'!$O$3:$S$47,5,FALSE)","v":"NW3&4"},null,null,null,null,null,null,null,"F84682",null,10998,43,42,42,42,42,33,36,36,35,35,35,35,32,32,31,31,31,35]
["2020-02-01",{"$f":"VLOOKUP(J1340,'Control Panel'!$O$3:$S$47,5,FALSE)","v":"NW5"},null,null,null,null,null,null,null,"F84696",null,5327,23,20,20,20,21,9,11,11,11,11,11,14,14,12,9,12,11,11]
["2020-02-01",{"$f":"VLOOKUP(J1341,'Control Panel'!$O$3:$S$47,5,FALSE)","v":"NW7"},null,null,null,null,null,null,null,"F84698",null,9104,33,32,28,31,28,18,32,30,29,29,29,27,26,23,25,24,24,28]
["2020-02-01",{"$f":"VLOOKUP(J1342,'Control Panel'!$O$3:$S$47,5,FALSE)","v":"NW8"},null,null,null,null,null,null,null,"F84710",null,12080,50,43,42,44,42,30,31,29,29,29,29,30,28,25,21,27,22,30]
["2020-02-01",{"$f":"VLOOKUP(J1343,'Control Panel'!$O$3:$S$47,5,FALSE)","v":"NW6"},null,null,null,null,null,null,null,"F84714",null,14182,48,46,46,46,45,28,50,48,45,45,47,42,39,39,38,39,38,46]
["2020-02-01",{"$f":"VLOOKUP(J1344,'Control Panel'!$O$3:$S$47,5,FALSE)","v":"NW2"},null,null,null,null,null,null,null,"F84718",null,14887,36,32,32,32,32,16,40,36,34,35,35,26,26,26,25,26,25,35]
["2020-02-01",{"$f":"VLOOKUP(J1345,'Control Panel'!$O$3:$S$47,5,FALSE)","v":"NW3&4"},null,null,null,null,null,null,null,"F84731",null,2120,5,5,5,5,5,5,4,4,4,4,4,1,1,1,1,1,1,4]
["2020-02-01",{"$f":"VLOOKUP(J1346,'Control Panel'!$O$3:$S$47,5,FALSE)","v":"NW2"},null,null,null,null,null,null,null,"F84733",null,1064,0,0,0,0,0,0,0,0,0,0,0,0,0,0,0,0,0,0]
["2020-02-01",{"$f":"VLOOKUP(J1347,'Control Panel'!$O$3:$S$47,5,FALSE)","v":"NW8"},null,null,null,null,null,null,null,"F84747",null,23696,83,77,76,77,75,40,87,79,79,78,79,60,58,58,56,57,56,77]
["2020-02-01",{"$f":"VLOOKUP(J1348,'Control Panel'!$O$3:$S$47,5,FALSE)","v":"NW1"},null,null,null,null,null,null,null,"Y00212",null,4872,13,12,12,12,12,5,14,13,11,11,11,9,8,7,7,7,7,11]
["2020-02-01",{"$f":"VLOOKUP(J1349,'Control Panel'!$O$3:$S$47,5,FALSE)","v":"NW6"},null,null,null,null,null,null,null,"Y03023",null,14366,55,53,52,52,52,42,49,45,42,42,42,47,45,45,40,42,40,42]
["2020-02-01",{"$f":"VLOOKUP(J1350,'Control Panel'!$O$3:$S$47,5,FALSE)","v":0},null,null,null,null,null,null,null,"Total",null,342311,992,934,926,934,915,560,930,874,836,844,846,933,887,854,809,853,814,842]
["2020-03-01",{"$f":"VLOOKUP(J1351,'Control Panel'!$O$3:$S$47,5,FALSE)","v":{"$error":"#N/A"}},"Childhood Immunisations Q4",null,"Last Run:",null,"Population Count",358112,null,null,"Search","All Patients","(01) 12 MONTH COHORT","(01.01) DTaP/IPV/Hib/HepB","(01.02) Men B (1st and 2nd)","(01.03) PCV","(01.04) Rotavirus","(01.05) BCG","(02) 24 MONTH COHORT","(02.01) DTaP/IPV/Hib or DTaP/IPV/Hib/HepB","(02.02) MMR","(02.03) HiB/Men C","(02.04) PCV (Booster)","(03) 5 YEAR COHORT","(03.01) DTaP/IPV/Hib or DTaP/IPV/Hib/HepB","(03.02) MMR (Primary)","(03.03) DTaP/IPV (Booster)","(03.04) HiB/Men C","(03.05) MMR (Booster)","(02.05) Men B (Booster)"]
["2020-03-01",{"$f":"VLOOKUP(J1352,'Control Panel'!$O$3:$S$47,5,FALSE)","v":{"$error":"#N/A"}},null,null,"2020-04-02T09:32:00",null,"Males",185650,null,"Organisation Code"]
["2020-03-01",{"$f":"VLOOKUP(J1353,'Control Panel'!$O$3:$S$47,5,FALSE)","v":"NW2"},null,null,"Relative Date:",null,"Females",172462,null,"F84012",null,9205,24,23,23,23,23,19,25,24,23,24,24,30,28,27,24,27,25,24]
["2020-03-01",{"$f":"VLOOKUP(J1354,'Control Panel'!$O$3:$S$47,5,FALSE)","v":"NW1"},null,null,"2020-04-01",null,null,null,null,"F84016",null,12031,25,24,25,24,24,7,29,25,24,24,24,32,30,27,26,29,26,24]
["2020-03-01",{"$f":"VLOOKUP(J1355,'Control Panel'!$O$3:$S$47,5,FALSE)","v":"NW7"},null,null,null,null,null,null,null,"F84025",null,11401,35,34,34,34,34,22,29,29,29,29,29,41,40,40,40,40,40,29]
["2020-03-01",{"$f":"VLOOKUP(J1356,'Control Panel'!$O$3:$S$47,5,FALSE)","v":"NW5"},null,null,null,null,null,null,null,"F84030",null,3705,16,14,14,14,14,7,4,3,4,4,3,9,8,7,6,7,6,3]
["2020-03-01",{"$f":"VLOOKUP(J1357,'Control Panel'!$O$3:$S$47,5,FALSE)","v":"NW3&4"},null,null,null,null,null,null,null,"F84031",null,12915,40,37,37,37,39,27,38,36,35,33,33,39,37,35,33,32,34,36]
["2020-03-01",{"$f":"VLOOKUP(J1358,'Control Panel'!$O$3:$S$47,5,FALSE)","v":"NW5"},null,null,null,null,null,null,null,"F84034",null,13273,43,41,41,41,38,21,47,44,42,43,42,36,35,35,35,34,35,43]
["2020-03-01",{"$f":"VLOOKUP(J1359,'Control Panel'!$O$3:$S$47,5,FALSE)","v":"NW3&4"},null,null,null,null,null,null,null,"F84039",null,12640,32,28,27,28,28,6,34,33,31,32,33,35,34,35,34,33,34,30]
["2020-03-01",{"$f":"VLOOKUP(J1360,'Control Panel'!$O$3:$S$47,5,FALSE)","v":"NW5"},null,null,null,null,null,null,null,"F84044",null,7295,13,13,13,13,13,7,26,25,24,24,24,20,20,15,13,16,12,23]
["2020-03-01",{"$f":"VLOOKUP(J1361,'Control Panel'!$O$3:$S$47,5,FALSE)","v":"NW3&4"},null,null,null,null,null,null,null,"F84046",null,3599,5,5,5,5,5,4,8,8,8,8,8,11,10,10,10,10,10,8]
["2020-03-01",{"$f":"VLOOKUP(J1362,'Control Panel'!$O$3:$S$47,5,FALSE)","v":"NW1"},null,null,null,null,null,null,null,"F84051",null,5422,4,4,3,4,3,0,10,10,9,9,9,7,4,4,4,4,4,9]
["2020-03-01",{"$f":"VLOOKUP(J1363,'Control Panel'!$O$3:$S$47,5,FALSE)","v":"NW7"},null,null,null,null,null,null,null,"F84054",null,11071,43,39,39,39,39,24,31,30,27,28,28,26,25,24,22,24,23,28]
["2020-03-01",{"$f":"VLOOKUP(J1364,'Control Panel'!$O$3:$S$47,5,FALSE)","v":"NW5"},null,null,null,null,null,null,null,"F84055",null,3749,12,12,12,12,12,10,9,9,9,9,9,5,5,5,5,5,5,9]
["2020-03-01",{"$f":"VLOOKUP(J1365,'Control Panel'!$O$3:$S$47,5,FALSE)","v":"NW7"},null,null,null,null,null,null,null,"F84062",null,15207,48,45,45,45,44,30,48,47,42,42,43,64,62,60,54,61,55,43]
["2020-03-01",{"$f":"VLOOKUP(J1366,'Control Panel'!$O$3:$S$47,5,FALSE)","v":"NW3&4"},null,null,null,null,null,null,null,"F84079",null,10996,28,28,28,28,26,15,23,22,21,22,22,26,23,22,21,22,22,22]
["2020-03-01",{"$f":"VLOOKUP(J1367,'Control Panel'!$O$3:$S$47,5,FALSE)","v":"NW2"},null,null,null,null,null,null,null,"F84081",null,14117,31,27,27,27,26,14,27,26,21,23,23,40,37,33,33,35,32,23]
["2020-03-01",{"$f":"VLOOKUP(J1368,'Control Panel'!$O$3:$S$47,5,FALSE)","v":"NW1"},null,null,null,null,null,null,null,"F84083",null,8263,19,18,18,18,17,7,26,23,24,24,24,18,16,16,17,17,16,24]
["2020-03-01",{"$f":"VLOOKUP(J1369,'Control Panel'!$O$3:$S$47,5,FALSE)","v":"NW3&4"},null,null,null,null,null,null,null,"F84087",null,9475,35,34,34,34,33,25,23,20,17,17,16,33,32,31,27,31,27,16]
["2020-03-01",{"$f":"VLOOKUP(J1370,'Control Panel'!$O$3:$S$47,5,FALSE)","v":"NW3&4"},null,null,null,null,null,null,null,"F84114",null,6645,13,13,13,13,13,7,20,20,19,19,19,19,18,18,17,18,17,19]
["2020-03-01",{"$f":"VLOOKUP(J1371,'Control Panel'!$O$3:$S$47,5,FALSE)","v":"NW6"},null,null,null,null,null,null,null,"F84118",null,5649,5,5,5,5,5,5,6,4,4,4,5,11,11,10,10,10,10,4]
["2020-03-01",{"$f":"VLOOKUP(J1372,'Control Panel'!$O$3:$S$47,5,FALSE)","v":"NW6"},null,null,null,null,null,null,null,"F84122",null,15688,47,46,46,46,46,36,39,36,34,35,35,47,41,39,36,40,35,35]
["2020-03-01",{"$f":"VLOOKUP(J1373,'Control Panel'!$O$3:$S$47,5,FALSE)","v":"NW1"},null,null,null,null,null,null,null,"F84123",null,14937,23,22,22,22,21,10,19,19,19,19,19,24,23,23,23,23,23,19]
["2020-03-01",{"$f":"VLOOKUP(J1374,'Control Panel'!$O$3:$S$47,5,FALSE)","v":"NW8"},null,null,null,null,null,null,null,"F84647",null,8907,24,23,21,24,22,12,23,21,22,22,22,24,24,24,23,23,24,21]
["2020-03-01",{"$f":"VLOOKUP(J1375,'Control Panel'!$O$3:$S$47,5,FALSE)","v":"NW8"},null,null,null,null,null,null,null,"F84656",null,9584,28,27,27,27,27,16,21,21,20,20,20,24,23,22,22,22,22,20]
["2020-03-01",{"$f":"VLOOKUP(J1376,'Control Panel'!$O$3:$S$47,5,FALSE)","v":"NW6"},null,null,null,null,null,null,null,"F84676",null,4237,9,9,9,9,9,7,8,8,7,8,8,20,19,19,17,19,18,8]
["2020-03-01",{"$f":"VLOOKUP(J1377,'Control Panel'!$O$3:$S$47,5,FALSE)","v":"NW3&4"},null,null,null,null,null,null,null,"F84682",null,10976,43,42,42,42,42,33,36,36,35,35,35,34,32,32,31,31,31,35]
["2020-03-01",{"$f":"VLOOKUP(J1378,'Control Panel'!$O$3:$S$47,5,FALSE)","v":"NW5"},null,null,null,null,null,null,null,"F84696",null,5341,23,20,21,22,21,9,11,11,11,11,11,14,14,12,9,12,11,11]
["2020-03-01",{"$f":"VLOOKUP(J1379,'Control Panel'!$O$3:$S$47,5,FALSE)","v":"NW7"},null,null,null,null,null,null,null,"F84698",null,9174,33,32,28,31,28,18,32,30,30,30,30,29,28,25,27,26,26,29]
["2020-03-01",{"$f":"VLOOKUP(J1380,'Control Panel'!$O$3:$S$47,5,FALSE)","v":"NW8"},null,null,null,null,null,null,null,"F84710",null,11983,50,44,43,44,42,30,31,29,29,29,29,30,28,25,21,27,22,30]
["2020-03-01",{"$f":"VLOOKUP(J1381,'Control Panel'!$O$3:$S$47,5,FALSE)","v":"NW6"},null,null,null,null,null,null,null,"F84714",null,14147,48,46,46,46,45,28,50,48,45,45,47,42,39,39,38,39,38,46]
["2020-03-01",{"$f":"VLOOKUP(J1382,'Control Panel'!$O$3:$S$47,5,FALSE)","v":"NW2"},null,null,null,null,null,null,null,"F84718",null,14895,36,32,32,32,32,16,40,36,34,35,35,26,26,26,25,26,25,35]
["2020-03-01",{"$f":"VLOOKUP(J1383,'Control Panel'!$O$3:$S$47,5,FALSE)","v":"NW3&4"},null,null,null,null,null,null,null,"F84731",null,2125,5,5,5,5,5,5,4,4,4,4,4,1,1,1,1,1,1,4]
["2020-03-01",{"$f":"VLOOKUP(J1384,'Control Panel'!$O$3:$S$47,5,FALSE)","v":"NW2"},null,null,null,null,null,null,null,"F84733",null,1031,0,0,0,0,0,0,0,0,0,0,0,0,0,0,0,0,0,0]
["2020-03-01",{"$f":"VLOOKUP(J1385,'Control Panel'!$O$3:$S$47,5,FALSE)","v":"NW8"},null,null,null,null,null,null,null,"F84747",null,23648,79,74,73,74,72,38,87,80,80,79,80,62,59,60,57,59,58,78]
["2020-03-01",{"$f":"VLOOKUP(J1386,'Control Panel'!$O$3:$S$47,5,FALSE)","v":"NW1"},null,null,null,null,null,null,null,"Y00212",null,4821,13,12,12,12,12,5,14,13,11,11,11,9,8,7,7,7,7,11]
["2020-03-01",{"$f":"VLOOKUP(J1387,'Control Panel'!$O$3:$S$47,5,FALSE)","v":"NW6"},null,null,null,null,null,null,null,"Y03023",null,14404,55,53,52,52,52,42,48,44,41,41,41,48,45,45,40,42,40,41]
["2020-03-01",{"$f":"VLOOKUP(J1388,'Control Panel'!$O$3:$S$47,5,FALSE)","v":0},null,null,null,null,null,null,null,"Total",null,342556,987,931,922,932,912,562,926,874,835,842,845,936,885,853,808,852,814,840]
["2020-04-01",{"$f":"VLOOKUP(J1389,'Control Panel'!$O$3:$S$47,5,FALSE)","v":{"$error":"#N/A"}},"Childhood Immunisations Q1",null,"Last Run:",null,"Population Count",357826,null,null,"Search","All Patients","(01) 12 MONTH COHORT","(01.01) DTaP/IPV/Hib 6in1","(01.02) Men B (1st and 2nd)","(01.03) PCV","(01.04) Rotavirus","(01.05) BCG","(02) 24 MONTH COHORT","(02.01) DTaP/IPV/Hib Combined","(02.02) MMR","(02.03) HiB/Men C","(02.04) PCV (Booster)","(03) 5 YEAR COHORT","(03.01) DTaP/IPV/Hib Combined","(03.02) MMR (Primary)","(03.03) DTaP/IPV (Booster)","(03.04) HiB/Men C","(03.05) MMR (Booster)","(02.05) Men B (Booster)"]
["2020-04-01",{"$f":"VLOOKUP(J1390,'Control Panel'!$O$3:$S$47,5,FALSE)","v":{"$error":"#N/A"}},null,null,"2020-05-04T13:44:00",null,"Males",185857,null,"Organisation Code"]
["2020-04-01",{"$f":"VLOOKUP(J1391,'Control Panel'!$O$3:$S$47,5,FALSE)","v":"NW2"},null,null,"Relative Date:",null,"Females",171969,null,"F84012",null,9206,32,29,28,29,27,11,29,28,26,27,27,33,30,30,28,29,29,27]
["2020-04-01",{"$f":"VLOOKUP(J1392,'Control Panel'!$O$3:$S$47,5,FALSE)","v":"NW1"},null,null,"2020-05-01",null,null,null,null,"F84016",null,11826,22,21,21,21,19,5,28,28,26,27,27,29,27,28,23,27,25,27]
["2020-04-01",{"$f":"VLOOKUP(J1393,'Control Panel'!$O$3:$S$47,5,FALSE)","v":"NW7"},null,null,null,null,null,null,null,"F84025",null,11368,45,45,45,45,41,32,38,37,32,34,33,36,36,33,34,35,32,33]
["2020-04-01",{"$f":"VLOOKUP(J1394,'Control Panel'!$O$3:$S$47,5,FALSE)","v":"NW5"},null,null,null,null,null,null,null,"F84030",null,3715,10,9,9,9,9,5,12,8,8,6,7,7,6,5,6,5,7,6]
["2020-04-01",{"$f":"VLOOKUP(J1395,'Control Panel'!$O$3:$S$47,5,FALSE)","v":"NW3&4"},null,null,null,null,null,null,null,"F84031",null,12922,38,35,34,35,37,25,46,42,40,43,43,30,30,30,24,29,24,41]
["2020-04-01",{"$f":"VLOOKUP(J1396,'Control Panel'!$O$3:$S$47,5,FALSE)","v":"NW5"},null,null,null,null,null,null,null,"F84034",null,13264,39,38,38,39,36,22,35,32,30,32,32,43,43,42,39,43,39,31]
["2020-04-01",{"$f":"VLOOKUP(J1397,'Control Panel'!$O$3:$S$47,5,FALSE)","v":"NW3&4"},null,null,null,null,null,null,null,"F84039",null,12702,37,35,35,35,35,2,47,44,43,44,44,40,38,38,36,37,36,44]
["2020-04-01",{"$f":"VLOOKUP(J1398,'Control Panel'!$O$3:$S$47,5,FALSE)","v":"NW5"},null,null,null,null,null,null,null,"F84044",null,7282,26,24,22,24,23,13,23,21,20,20,20,28,24,23,22,24,23,20]
["2020-04-01",{"$f":"VLOOKUP(J1399,'Control Panel'!$O$3:$S$47,5,FALSE)","v":"NW3&4"},null,null,null,null,null,null,null,"F84046",null,3620,13,12,12,12,12,9,11,11,11,11,11,9,9,9,9,9,8,11]
["2020-04-01",{"$f":"VLOOKUP(J1400,'Control Panel'!$O$3:$S$47,5,FALSE)","v":"NW1"},null,null,null,null,null,null,null,"F84051",null,5426,11,9,9,9,10,0,9,8,9,9,9,11,11,11,10,11,10,9]
["2020-04-01",{"$f":"VLOOKUP(J1401,'Control Panel'!$O$3:$S$47,5,FALSE)","v":"NW7"},null,null,null,null,null,null,null,"F84054",null,11042,33,30,30,29,30,19,48,45,44,43,42,29,27,25,25,25,25,42]
["2020-04-01",{"$f":"VLOOKUP(J1402,'Control Panel'!$O$3:$S$47,5,FALSE)","v":"NW5"},null,null,null,null,null,null,null,"F84055",null,3738,7,7,7,7,7,2,7,7,7,7,7,7,7,7,7,7,7,7]
["2020-04-01",{"$f":"VLOOKUP(J1403,'Control Panel'!$O$3:$S$47,5,FALSE)","v":"NW7"},null,null,null,null,null,null,null,"F84062",null,15066,61,54,55,55,51,31,54,51,46,46,47,58,53,50,52,52,51,46]
["2020-04-01",{"$f":"VLOOKUP(J1404,'Control Panel'!$O$3:$S$47,5,FALSE)","v":"NW3&4"},null,null,null,null,null,null,null,"F84079",null,10985,34,32,32,32,32,13,36,36,35,35,35,23,23,22,21,22,21,35]
["2020-04-01",{"$f":"VLOOKUP(J1405,'Control Panel'!$O$3:$S$47,5,FALSE)","v":"NW2"},null,null,null,null,null,null,null,"F84081",null,14018,46,40,40,40,40,26,38,35,33,34,34,28,26,23,23,25,23,34]
["2020-04-01",{"$f":"VLOOKUP(J1406,'Control Panel'!$O$3:$S$47,5,FALSE)","v":"NW1"},null,null,null,null,null,null,null,"F84083",null,8259,21,18,18,18,18,13,27,25,23,23,23,29,28,27,26,27,26,23]
["2020-04-01",{"$f":"VLOOKUP(J1407,'Control Panel'!$O$3:$S$47,5,FALSE)","v":"NW3&4"},null,null,null,null,null,null,null,"F84087",null,9438,31,29,29,29,27,26,41,40,37,37,37,36,33,29,22,29,23,37]
["2020-04-01",{"$f":"VLOOKUP(J1408,'Control Panel'!$O$3:$S$47,5,FALSE)","v":"NW3&4"},null,null,null,null,null,null,null,"F84114",null,6598,24,23,23,23,21,13,25,21,21,19,21,14,13,12,12,12,12,23]
["2020-04-01",{"$f":"VLOOKUP(J1409,'Control Panel'!$O$3:$S$47,5,FALSE)","v":"NW6"},null,null,null,null,null,null,null,"F84118",null,5647,17,16,16,16,16,9,10,10,9,9,9,11,11,11,10,10,10,9]
["2020-04-01",{"$f":"VLOOKUP(J1410,'Control Panel'!$O$3:$S$47,5,FALSE)","v":"NW6"},null,null,null,null,null,null,null,"F84122",null,15665,41,35,37,37,36,26,45,44,43,43,43,47,47,46,40,45,41,43]
["2020-04-01",{"$f":"VLOOKUP(J1411,'Control Panel'!$O$3:$S$47,5,FALSE)","v":"NW1"},null,null,null,null,null,null,null,"F84123",null,14752,29,27,27,27,29,12,25,23,23,23,23,18,17,17,17,16,17,24]
["2020-04-01",{"$f":"VLOOKUP(J1412,'Control Panel'!$O$3:$S$47,5,FALSE)","v":"NW8"},null,null,null,null,null,null,null,"F84647",null,8836,25,23,23,23,24,12,21,21,20,21,17,22,20,19,20,19,20,20]
["2020-04-01",{"$f":"VLOOKUP(J1413,'Control Panel'!$O$3:$S$47,5,FALSE)","v":"NW8"},null,null,null,null,null,null,null,"F84656",null,9614,26,23,23,23,23,14,32,32,31,29,30,24,24,23,18,24,20,31]
["2020-04-01",{"$f":"VLOOKUP(J1414,'Control Panel'!$O$3:$S$47,5,FALSE)","v":"NW6"},null,null,null,null,null,null,null,"F84676",null,4226,6,6,6,6,6,4,10,10,9,9,9,7,5,5,5,5,5,9]
["2020-04-01",{"$f":"VLOOKUP(J1415,'Control Panel'!$O$3:$S$47,5,FALSE)","v":"NW3&4"},null,null,null,null,null,null,null,"F84682",null,10958,46,41,41,42,41,34,36,34,34,34,34,30,29,28,28,28,28,33]
["2020-04-01",{"$f":"VLOOKUP(J1416,'Control Panel'!$O$3:$S$47,5,FALSE)","v":"NW5"},null,null,null,null,null,null,null,"F84696",null,5329,16,16,16,16,16,7,14,12,11,11,11,13,12,11,9,11,9,11]
["2020-04-01",{"$f":"VLOOKUP(J1417,'Control Panel'!$O$3:$S$47,5,FALSE)","v":"NW7"},null,null,null,null,null,null,null,"F84698",null,9180,31,27,26,27,27,14,30,29,27,28,28,30,30,29,26,29,29,28]
["2020-04-01",{"$f":"VLOOKUP(J1418,'Control Panel'!$O$3:$S$47,5,FALSE)","v":"NW8"},null,null,null,null,null,null,null,"F84710",null,11890,28,22,23,23,23,16,38,35,31,30,30,25,23,22,22,24,21,31]
["2020-04-01",{"$f":"VLOOKUP(J1419,'Control Panel'!$O$3:$S$47,5,FALSE)","v":"NW6"},null,null,null,null,null,null,null,"F84714",null,14155,47,41,41,41,40,19,52,50,48,48,48,43,42,41,41,42,42,48]
["2020-04-01",{"$f":"VLOOKUP(J1420,'Control Panel'!$O$3:$S$47,5,FALSE)","v":"NW2"},null,null,null,null,null,null,null,"F84718",null,14855,30,30,30,30,28,9,31,26,23,24,24,34,29,30,27,31,26,24]
["2020-04-01",{"$f":"VLOOKUP(J1421,'Control Panel'!$O$3:$S$47,5,FALSE)","v":"NW3&4"},null,null,null,null,null,null,null,"F84731",null,2110,5,5,5,5,5,4,4,4,4,4,4,0,0,0,0,0,0,4]
["2020-04-01",{"$f":"VLOOKUP(J1422,'Control Panel'!$O$3:$S$47,5,FALSE)","v":"NW2"},null,null,null,null,null,null,null,"F84733",null,1021,0,0,0,0,0,0,0,0,0,0,0,0,0,0,0,0,0,0]
["2020-04-01",{"$f":"VLOOKUP(J1423,'Control Panel'!$O$3:$S$47,5,FALSE)","v":"NW8"},null,null,null,null,null,null,null,"F84747",null,23662,101,95,95,97,95,62,98,94,95,95,95,57,54,51,48,53,49,94]
["2020-04-01",{"$f":"VLOOKUP(J1424,'Control Panel'!$O$3:$S$47,5,FALSE)","v":"NW1"},null,null,null,null,null,null,null,"Y00212",null,4735,23,21,21,21,21,18,14,14,12,13,13,11,10,9,9,9,7,13]
["2020-04-01",{"$f":"VLOOKUP(J1425,'Control Panel'!$O$3:$S$47,5,FALSE)","v":"NW6"},null,null,null,null,null,null,null,"Y03023",null,14371,50,43,43,42,43,31,54,46,43,43,43,47,43,43,36,44,37,43]
["2020-04-01",{"$f":"VLOOKUP(J1426,'Control Panel'!$O$3:$S$47,5,FALSE)","v":0},null,null,null,null,null,null,null,"total",null,341481,1051,961,960,967,948,558,1068,1003,954,961,960,909,860,829,775,838,782,961]
["2020-05-01",{"$f":"VLOOKUP(J1427,'Control Panel'!$O$3:$S$47,5,FALSE)","v":{"$error":"#N/A"}},"Childhood Immunisations Q1",null,"Last Run:",null,"Population Count",357618,null,null,"Search","All Patients","(01) 12 MONTH COHORT","(01.01) DTaP/IPV/Hib 6in1","(01.02) Men B (1st and 2nd)","(01.03) PCV","(01.04) Rotavirus","(01.05) BCG","(02) 24 MONTH COHORT","(02.01) DTaP/IPV/Hib Combined","(02.02) MMR","(02.03) HiB/Men C","(02.04) PCV (Booster)","(03) 5 YEAR COHORT","(03.01) DTaP/IPV/Hib Combined","(03.02) MMR (Primary)","(03.03) DTaP/IPV (Booster)","(03.04) HiB/Men C","(03.05) MMR (Booster)","(02.05) Men B (Booster)"]
["2020-05-01",{"$f":"VLOOKUP(J1428,'Control Panel'!$O$3:$S$47,5,FALSE)","v":{"$error":"#N/A"}},null,null,"2020-06-02T09:50:00",null,"Males",185761,null,"Organisation Code"]
["2020-05-01",{"$f":"VLOOKUP(J1429,'Control Panel'!$O$3:$S$47,5,FALSE)","v":"NW2"},null,null,"Relative Date:",null,"Females",171857,null,"F84012",null,9216,32,29,28,29,27,12,29,28,26,27,27,33,30,30,28,29,29,27]
["2020-05-01",{"$f":"VLOOKUP(J1430,'Control Panel'!$O$3:$S$47,5,FALSE)","v":"NW1"},null,null,"2020-06-01",null,null,null,null,"F84016",null,11443,23,21,21,21,19,5,28,28,26,27,27,29,27,28,23,27,25,27]
["2020-05-01",{"$f":"VLOOKUP(J1431,'Control Panel'!$O$3:$S$47,5,FALSE)","v":"NW7"},null,null,null,null,null,null,null,"F84025",null,11382,45,45,45,45,41,32,37,36,31,33,32,36,36,33,34,35,32,33]
["2020-05-01",{"$f":"VLOOKUP(J1432,'Control Panel'!$O$3:$S$47,5,FALSE)","v":"NW5"},null,null,null,null,null,null,null,"F84030",null,3745,10,9,9,9,9,5,12,8,8,6,7,7,6,5,6,5,7,6]
["2020-05-01",{"$f":"VLOOKUP(J1433,'Control Panel'!$O$3:$S$47,5,FALSE)","v":"NW3&4"},null,null,null,null,null,null,null,"F84031",null,12946,38,35,34,36,37,25,46,43,40,43,43,29,29,29,24,28,24,41]
["2020-05-01",{"$f":"VLOOKUP(J1434,'Control Panel'!$O$3:$S$47,5,FALSE)","v":"NW5"},null,null,null,null,null,null,null,"F84034",null,13290,39,38,38,39,36,23,35,32,30,32,32,43,43,42,39,43,39,31]
["2020-05-01",{"$f":"VLOOKUP(J1435,'Control Panel'!$O$3:$S$47,5,FALSE)","v":"NW3&4"},null,null,null,null,null,null,null,"F84039",null,12774,38,35,35,36,35,4,47,44,43,44,44,40,38,38,36,38,36,44]
["2020-05-01",{"$f":"VLOOKUP(J1436,'Control Panel'!$O$3:$S$47,5,FALSE)","v":"NW5"},null,null,null,null,null,null,null,"F84044",null,7282,26,24,22,24,23,13,23,21,20,20,20,28,24,23,22,24,23,20]
["2020-05-01",{"$f":"VLOOKUP(J1437,'Control Panel'!$O$3:$S$47,5,FALSE)","v":"NW3&4"},null,null,null,null,null,null,null,"F84046",null,3599,13,12,12,12,12,9,11,11,11,11,11,9,9,9,9,9,8,11]
["2020-05-01",{"$f":"VLOOKUP(J1438,'Control Panel'!$O$3:$S$47,5,FALSE)","v":"NW1"},null,null,null,null,null,null,null,"F84051",null,5431,11,9,9,9,10,0,9,8,9,9,9,11,11,11,10,11,10,9]
["2020-05-01",{"$f":"VLOOKUP(J1439,'Control Panel'!$O$3:$S$47,5,FALSE)","v":"NW7"},null,null,null,null,null,null,null,"F84054",null,11071,33,30,30,29,30,19,48,45,44,43,42,29,27,25,25,25,25,42]
["2020-05-01",{"$f":"VLOOKUP(J1440,'Control Panel'!$O$3:$S$47,5,FALSE)","v":"NW5"},null,null,null,null,null,null,null,"F84055",null,3747,7,7,7,7,7,2,7,7,7,7,7,7,7,7,7,7,7,7]
["2020-05-01",{"$f":"VLOOKUP(J1441,'Control Panel'!$O$3:$S$47,5,FALSE)","v":"NW7"},null,null,null,null,null,null,null,"F84062",null,15104,61,54,55,55,51,31,55,51,46,46,47,58,53,50,52,52,51,46]
["2020-05-01",{"$f":"VLOOKUP(J1442,'Control Panel'!$O$3:$S$47,5,FALSE)","v":"NW3&4"},null,null,null,null,null,null,null,"F84079",null,11011,35,33,33,33,33,13,36,36,35,35,35,23,23,22,21,22,21,35]
["2020-05-01",{"$f":"VLOOKUP(J1443,'Control Panel'!$O$3:$S$47,5,FALSE)","v":"NW2"},null,null,null,null,null,null,null,"F84081",null,14009,46,40,40,40,40,28,38,35,33,34,34,28,26,23,23,25,23,34]
["2020-05-01",{"$f":"VLOOKUP(J1444,'Control Panel'!$O$3:$S$47,5,FALSE)","v":"NW1"},null,null,null,null,null,null,null,"F84083",null,8273,21,18,18,18,18,13,27,25,23,23,23,30,28,27,26,27,26,23]
["2020-05-01",{"$f":"VLOOKUP(J1445,'Control Panel'!$O$3:$S$47,5,FALSE)","v":"NW3&4"},null,null,null,null,null,null,null,"F84087",null,9425,31,29,29,29,27,26,42,40,37,37,37,36,33,29,24,29,25,37]
["2020-05-01",{"$f":"VLOOKUP(J1446,'Control Panel'!$O$3:$S$47,5,FALSE)","v":"NW3&4"},null,null,null,null,null,null,null,"F84114",null,6620,24,23,23,23,21,13,25,21,21,19,21,14,13,12,12,12,12,23]
["2020-05-01",{"$f":"VLOOKUP(J1447,'Control Panel'!$O$3:$S$47,5,FALSE)","v":"NW6"},null,null,null,null,null,null,null,"F84118",null,5645,17,16,16,16,16,9,10,10,9,9,9,11,11,11,10,10,10,9]
["2020-05-01",{"$f":"VLOOKUP(J1448,'Control Panel'!$O$3:$S$47,5,FALSE)","v":"NW6"},null,null,null,null,null,null,null,"F84122",null,15683,39,35,37,37,35,24,44,43,42,42,42,47,47,46,42,46,42,42]
["2020-05-01",{"$f":"VLOOKUP(J1449,'Control Panel'!$O$3:$S$47,5,FALSE)","v":"NW1"},null,null,null,null,null,null,null,"F84123",null,14717,28,27,27,27,28,12,26,24,24,24,24,18,17,17,17,16,17,25]
["2020-05-01",{"$f":"VLOOKUP(J1450,'Control Panel'!$O$3:$S$47,5,FALSE)","v":"NW8"},null,null,null,null,null,null,null,"F84647",null,8881,25,23,23,23,24,12,21,21,20,21,17,22,20,19,20,19,20,20]
["2020-05-01",{"$f":"VLOOKUP(J1451,'Control Panel'!$O$3:$S$47,5,FALSE)","v":"NW8"},null,null,null,null,null,null,null,"F84656",null,9640,24,22,22,22,22,13,32,32,31,29,30,22,22,21,18,22,19,31]
["2020-05-01",{"$f":"VLOOKUP(J1452,'Control Panel'!$O$3:$S$47,5,FALSE)","v":"NW6"},null,null,null,null,null,null,null,"F84676",null,4223,6,6,6,6,6,4,10,10,9,9,9,7,5,5,5,5,5,9]
["2020-05-01",{"$f":"VLOOKUP(J1453,'Control Panel'!$O$3:$S$47,5,FALSE)","v":"NW3&4"},null,null,null,null,null,null,null,"F84682",null,10950,46,41,41,42,41,35,36,34,34,34,34,30,29,28,28,28,28,33]
["2020-05-01",{"$f":"VLOOKUP(J1454,'Control Panel'!$O$3:$S$47,5,FALSE)","v":"NW5"},null,null,null,null,null,null,null,"F84696",null,5331,16,16,16,16,16,7,14,12,11,11,11,13,12,11,9,11,9,11]
["2020-05-01",{"$f":"VLOOKUP(J1455,'Control Panel'!$O$3:$S$47,5,FALSE)","v":"NW7"},null,null,null,null,null,null,null,"F84698",null,9218,32,28,27,28,28,14,29,28,26,27,27,30,30,29,26,29,29,27]
["2020-05-01",{"$f":"VLOOKUP(J1456,'Control Panel'!$O$3:$S$47,5,FALSE)","v":"NW8"},null,null,null,null,null,null,null,"F84710",null,11881,28,23,23,23,23,16,38,35,31,30,30,25,23,22,22,24,21,31]
["2020-05-01",{"$f":"VLOOKUP(J1457,'Control Panel'!$O$3:$S$47,5,FALSE)","v":"NW6"},null,null,null,null,null,null,null,"F84714",null,14199,48,42,42,42,41,20,52,50,48,48,48,42,41,40,40,41,41,48]
["2020-05-01",{"$f":"VLOOKUP(J1458,'Control Panel'!$O$3:$S$47,5,FALSE)","v":"NW2"},null,null,null,null,null,null,null,"F84718",null,14705,31,30,30,30,28,9,31,26,23,24,24,35,31,31,28,32,27,24]
["2020-05-01",{"$f":"VLOOKUP(J1459,'Control Panel'!$O$3:$S$47,5,FALSE)","v":"NW3&4"},null,null,null,null,null,null,null,"F84731",null,2103,5,5,5,5,5,4,4,4,4,4,4,0,0,0,0,0,0,4]
["2020-05-01",{"$f":"VLOOKUP(J1460,'Control Panel'!$O$3:$S$47,5,FALSE)","v":"NW2"},null,null,null,null,null,null,null,"F84733",null,1012,0,0,0,0,0,0,0,0,0,0,0,0,0,0,0,0,0,0]
["2020-05-01",{"$f":"VLOOKUP(J1461,'Control Panel'!$O$3:$S$47,5,FALSE)","v":"NW8"},null,null,null,null,null,null,null,"F84747",null,23718,100,94,94,96,94,61,98,94,95,95,95,57,54,51,48,53,49,94]
["2020-05-01",{"$f":"VLOOKUP(J1462,'Control Panel'!$O$3:$S$47,5,FALSE)","v":"NW1"},null,null,null,null,null,null,null,"Y00212",null,4689,22,20,20,20,20,18,14,14,12,13,13,11,10,9,9,9,7,13]
["2020-05-01",{"$f":"VLOOKUP(J1463,'Control Panel'!$O$3:$S$47,5,FALSE)","v":"NW6"},null,null,null,null,null,null,null,"Y03023",null,14316,52,44,44,43,45,32,52,44,42,42,42,46,42,42,38,43,39,42]
["2020-05-01",{"$f":"VLOOKUP(J1464,'Control Panel'!$O$3:$S$47,5,FALSE)","v":0},null,null,null,null,null,null,null,"total",null,341279,1052,963,961,970,948,563,1066,1000,951,958,957,906,857,825,781,836,786,959]
["2020-06-01",{"$f":"VLOOKUP(J1465,'Control Panel'!$O$3:$S$47,5,FALSE)","v":{"$error":"#N/A"}},"Childhood Immunisations Q1",null,"Last Run:",null,"Population Count",357414,null,null,"Search","All Patients","(01) 12 MONTH COHORT","(01.01) DTaP/IPV/Hib 6in1","(01.02) Men B (1st and 2nd)","(01.03) PCV","(01.04) Rotavirus","(01.05) BCG","(02) 24 MONTH COHORT","(02.01) DTaP/IPV/Hib Combined","(02.02) MMR","(02.03) HiB/Men C","(02.04) PCV (Booster)","(03) 5 YEAR COHORT","(03.01) DTaP/IPV/Hib Combined","(03.02) MMR (Primary)","(03.03) DTaP/IPV (Booster)","(03.04) HiB/Men C","(03.05) MMR (Booster)","(02.05) Men B (Booster)"]
["2020-06-01",{"$f":"VLOOKUP(J1466,'Control Panel'!$O$3:$S$47,5,FALSE)","v":{"$error":"#N/A"}},null,null,"2020-07-02T11:10:00",null,"Males",185464,null,"Organisation Code"]
["2020-06-01",{"$f":"VLOOKUP(J1467,'Control Panel'!$O$3:$S$47,5,FALSE)","v":"NW2"},null,null,"Relative Date:",null,"Females",171950,null,"F84012",null,9197,32,29,28,29,27,20,29,28,26,27,27,33,31,31,29,29,30,27]
["2020-06-01",{"$f":"VLOOKUP(J1468,'Control Panel'!$O$3:$S$47,5,FALSE)","v":"NW1"},null,null,"2020-07-01",null,null,null,null,"F84016",null,11449,24,22,22,22,20,5,28,28,26,27,27,29,27,28,24,27,26,27]
["2020-06-01",{"$f":"VLOOKUP(J1469,'Control Panel'!$O$3:$S$47,5,FALSE)","v":"NW7"},null,null,null,null,null,null,null,"F84025",null,11398,43,43,43,43,39,32,37,36,31,33,32,36,36,33,34,35,33,33]
["2020-06-01",{"$f":"VLOOKUP(J1470,'Control Panel'!$O$3:$S$47,5,FALSE)","v":"NW5"},null,null,null,null,null,null,null,"F84030",null,3701,10,9,9,9,9,5,12,8,8,6,7,8,6,5,6,5,7,6]
["2020-06-01",{"$f":"VLOOKUP(J1471,'Control Panel'!$O$3:$S$47,5,FALSE)","v":"NW3&4"},null,null,null,null,null,null,null,"F84031",null,12965,38,35,34,36,37,25,46,43,40,43,43,29,29,29,24,28,24,41]
["2020-06-01",{"$f":"VLOOKUP(J1472,'Control Panel'!$O$3:$S$47,5,FALSE)","v":"NW5"},null,null,null,null,null,null,null,"F84034",null,13253,38,37,37,38,36,23,34,32,31,32,32,43,43,42,40,43,39,31]
["2020-06-01",{"$f":"VLOOKUP(J1473,'Control Panel'!$O$3:$S$47,5,FALSE)","v":"NW3&4"},null,null,null,null,null,null,null,"F84039",null,12822,38,36,36,37,35,14,48,44,43,44,44,42,40,40,38,40,38,44]
["2020-06-01",{"$f":"VLOOKUP(J1474,'Control Panel'!$O$3:$S$47,5,FALSE)","v":"NW5"},null,null,null,null,null,null,null,"F84044",null,7218,24,22,20,22,21,12,23,21,20,20,20,28,24,23,22,24,23,20]
["2020-06-01",{"$f":"VLOOKUP(J1475,'Control Panel'!$O$3:$S$47,5,FALSE)","v":"NW3&4"},null,null,null,null,null,null,null,"F84046",null,3604,13,12,12,12,12,9,11,11,11,11,11,9,9,9,9,9,8,11]
["2020-06-01",{"$f":"VLOOKUP(J1476,'Control Panel'!$O$3:$S$47,5,FALSE)","v":"NW1"},null,null,null,null,null,null,null,"F84051",null,5449,10,8,8,8,9,0,9,8,9,9,9,11,11,11,10,11,10,9]
["2020-06-01",{"$f":"VLOOKUP(J1477,'Control Panel'!$O$3:$S$47,5,FALSE)","v":"NW7"},null,null,null,null,null,null,null,"F84054",null,11136,32,29,29,28,29,19,48,45,44,43,42,30,27,25,25,25,25,42]
["2020-06-01",{"$f":"VLOOKUP(J1478,'Control Panel'!$O$3:$S$47,5,FALSE)","v":"NW5"},null,null,null,null,null,null,null,"F84055",null,3759,7,7,7,7,7,2,7,7,7,7,7,7,7,7,7,7,7,7]
["2020-06-01",{"$f":"VLOOKUP(J1479,'Control Panel'!$O$3:$S$47,5,FALSE)","v":"NW7"},null,null,null,null,null,null,null,"F84062",null,15128,61,54,55,55,51,31,54,50,46,46,47,58,53,50,52,52,51,46]
["2020-06-01",{"$f":"VLOOKUP(J1480,'Control Panel'!$O$3:$S$47,5,FALSE)","v":"NW3&4"},null,null,null,null,null,null,null,"F84079",null,11058,35,33,33,33,33,13,35,35,34,34,34,23,23,22,21,22,21,34]
["2020-06-01",{"$f":"VLOOKUP(J1481,'Control Panel'!$O$3:$S$47,5,FALSE)","v":"NW2"},null,null,null,null,null,null,null,"F84081",null,13997,46,40,40,40,40,32,37,34,32,33,33,28,26,23,23,25,23,33]
["2020-06-01",{"$f":"VLOOKUP(J1482,'Control Panel'!$O$3:$S$47,5,FALSE)","v":"NW1"},null,null,null,null,null,null,null,"F84083",null,8289,21,18,18,18,18,13,27,25,23,23,23,30,28,27,26,27,26,23]
["2020-06-01",{"$f":"VLOOKUP(J1483,'Control Panel'!$O$3:$S$47,5,FALSE)","v":"NW3&4"},null,null,null,null,null,null,null,"F84087",null,9442,31,29,29,29,27,26,42,41,38,37,38,36,33,29,24,29,25,38]
["2020-06-01",{"$f":"VLOOKUP(J1484,'Control Panel'!$O$3:$S$47,5,FALSE)","v":"NW3&4"},null,null,null,null,null,null,null,"F84114",null,6637,24,23,23,23,21,13,25,21,21,19,21,14,13,12,12,12,12,23]
["2020-06-01",{"$f":"VLOOKUP(J1485,'Control Panel'!$O$3:$S$47,5,FALSE)","v":"NW6"},null,null,null,null,null,null,null,"F84118",null,5632,17,16,16,16,16,9,10,10,9,9,9,12,11,11,10,10,10,9]
["2020-06-01",{"$f":"VLOOKUP(J1486,'Control Panel'!$O$3:$S$47,5,FALSE)","v":"NW6"},null,null,null,null,null,null,null,"F84122",null,15681,40,35,37,37,35,24,43,42,41,41,41,47,47,46,42,46,42,41]
["2020-06-01",{"$f":"VLOOKUP(J1487,'Control Panel'!$O$3:$S$47,5,FALSE)","v":"NW1"},null,null,null,null,null,null,null,"F84123",null,14736,29,28,28,28,28,12,26,24,24,24,24,18,17,17,17,16,17,25]
["2020-06-01",{"$f":"VLOOKUP(J1488,'Control Panel'!$O$3:$S$47,5,FALSE)","v":"NW8"},null,null,null,null,null,null,null,"F84647",null,8850,25,23,23,23,24,12,21,21,20,21,17,22,20,19,20,19,20,20]
["2020-06-01",{"$f":"VLOOKUP(J1489,'Control Panel'!$O$3:$S$47,5,FALSE)","v":"NW8"},null,null,null,null,null,null,null,"F84656",null,9635,23,22,22,22,22,13,31,31,31,29,30,20,20,20,19,20,19,31]
["2020-06-01",{"$f":"VLOOKUP(J1490,'Control Panel'!$O$3:$S$47,5,FALSE)","v":"NW6"},null,null,null,null,null,null,null,"F84676",null,4215,6,6,6,6,6,4,10,10,9,9,9,7,5,5,5,5,5,9]
["2020-06-01",{"$f":"VLOOKUP(J1491,'Control Panel'!$O$3:$S$47,5,FALSE)","v":"NW3&4"},null,null,null,null,null,null,null,"F84682",null,10942,46,41,41,42,41,35,37,35,35,35,35,30,29,28,28,28,28,34]
["2020-06-01",{"$f":"VLOOKUP(J1492,'Control Panel'!$O$3:$S$47,5,FALSE)","v":"NW5"},null,null,null,null,null,null,null,"F84696",null,5379,16,16,16,16,16,7,13,11,10,10,10,13,12,11,9,11,9,10]
["2020-06-01",{"$f":"VLOOKUP(J1493,'Control Panel'!$O$3:$S$47,5,FALSE)","v":"NW7"},null,null,null,null,null,null,null,"F84698",null,9275,33,28,27,29,28,14,31,28,27,29,29,30,30,29,26,29,29,28]
["2020-06-01",{"$f":"VLOOKUP(J1494,'Control Panel'!$O$3:$S$47,5,FALSE)","v":"NW8"},null,null,null,null,null,null,null,"F84710",null,11881,28,23,23,23,23,16,38,35,31,30,30,25,23,22,22,24,21,31]
["2020-06-01",{"$f":"VLOOKUP(J1495,'Control Panel'!$O$3:$S$47,5,FALSE)","v":"NW6"},null,null,null,null,null,null,null,"F84714",null,14227,48,42,42,42,41,20,53,50,48,48,48,42,41,40,40,41,41,48]
["2020-06-01",{"$f":"VLOOKUP(J1496,'Control Panel'!$O$3:$S$47,5,FALSE)","v":"NW2"},null,null,null,null,null,null,null,"F84718",null,14701,30,29,29,29,27,10,31,26,23,24,24,35,31,31,28,32,28,24]
["2020-06-01",{"$f":"VLOOKUP(J1497,'Control Panel'!$O$3:$S$47,5,FALSE)","v":"NW3&4"},null,null,null,null,null,null,null,"F84731",null,2094,5,5,5,5,5,4,4,4,4,4,4,0,0,0,0,0,0,4]
["2020-06-01",{"$f":"VLOOKUP(J1498,'Control Panel'!$O$3:$S$47,5,FALSE)","v":"NW2"},null,null,null,null,null,null,null,"F84733",null,996,0,0,0,0,0,0,0,0,0,0,0,0,0,0,0,0,0,0]
["2020-06-01",{"$f":"VLOOKUP(J1499,'Control Panel'!$O$3:$S$47,5,FALSE)","v":"NW8"},null,null,null,null,null,null,null,"F84747",null,23342,100,94,94,96,94,61,97,93,94,94,94,57,54,51,48,53,49,93]
["2020-06-01",{"$f":"VLOOKUP(J1500,'Control Panel'!$O$3:$S$47,5,FALSE)","v":"NW1"},null,null,null,null,null,null,null,"Y00212",null,4664,22,20,20,20,20,18,14,14,12,13,13,11,10,9,9,9,7,13]
["2020-06-01",{"$f":"VLOOKUP(J1501,'Control Panel'!$O$3:$S$47,5,FALSE)","v":"NW6"},null,null,null,null,null,null,null,"Y03023",null,14323,52,44,44,43,44,31,53,44,42,42,42,46,42,42,38,43,39,42]
["2020-06-01",{"$f":"VLOOKUP(J1502,'Control Panel'!$O$3:$S$47,5,FALSE)","v":0},null,null,null,null,null,null,null,"total",null,341075,1047,958,956,966,941,584,1064,995,950,956,956,909,858,827,787,836,792,957]
["2020-07-01",{"$f":"VLOOKUP(J1503,'Control Panel'!$O$3:$S$47,5,FALSE)","v":{"$error":"#N/A"}},"Childhood Immunisations Q2",null,"Last Run:",null,"Population Count",358598,null,null,"Search","All Patients","(01) 12 MONTH COHORT","(01.01) DTaP/IPV/Hib 6in1","(01.02) Men B (1st and 2nd)","(01.03) PCV","(01.04) Rotavirus","(01.05) BCG","(02) 24 MONTH COHORT","(02.01) DTaP/IPV/Hib Combined","(02.02) MMR","(02.03) HiB/Men C","(02.04) PCV (Booster)","(03) 5 YEAR COHORT","(03.01) DTaP/IPV/Hib Combined","(03.02) MMR (Primary)","(03.03) DTaP/IPV (Booster)","(03.04) HiB/Men C","(03.05) MMR (Booster)","(02.05) Men B (Booster)"]
["2020-07-01",{"$f":"VLOOKUP(J1504,'Control Panel'!$O$3:$S$47,5,FALSE)","v":{"$error":"#N/A"}},null,null,"2020-08-03T10:49:00",null,"Males",186093,null,"Organisation Code"]
["2020-07-01",{"$f":"VLOOKUP(J1505,'Control Panel'!$O$3:$S$47,5,FALSE)","v":"NW2"},null,null,"Relative Date:",null,"Females",172505,null,"F84012",null,9210,27,24,24,24,25,23,27,27,26,27,26,21,20,19,18,19,18,26]
["2020-07-01",{"$f":"VLOOKUP(J1506,'Control Panel'!$O$3:$S$47,5,FALSE)","v":"NW1"},null,null,"2020-08-01",null,null,null,null,"F84016",null,11469,40,38,37,38,34,15,35,31,31,32,31,29,29,27,23,29,26,31]
["2020-07-01",{"$f":"VLOOKUP(J1507,'Control Panel'!$O$3:$S$47,5,FALSE)","v":"NW7"},null,null,null,null,null,null,null,"F84025",null,11407,41,35,36,37,31,21,42,41,39,40,39,35,34,33,31,33,32,39]
["2020-07-01",{"$f":"VLOOKUP(J1508,'Control Panel'!$O$3:$S$47,5,FALSE)","v":"NW5"},null,null,null,null,null,null,null,"F84030",null,3727,9,7,7,7,7,4,7,6,6,6,6,6,4,4,2,4,3,6]
["2020-07-01",{"$f":"VLOOKUP(J1509,'Control Panel'!$O$3:$S$47,5,FALSE)","v":"NW3&4"},null,null,null,null,null,null,null,"F84031",null,13114,46,42,42,42,41,26,52,50,46,46,47,38,38,36,34,38,32,47]
["2020-07-01",{"$f":"VLOOKUP(J1510,'Control Panel'!$O$3:$S$47,5,FALSE)","v":"NW5"},null,null,null,null,null,null,null,"F84034",null,13279,38,35,36,35,32,25,45,42,39,39,40,48,47,45,40,45,40,39]
["2020-07-01",{"$f":"VLOOKUP(J1511,'Control Panel'!$O$3:$S$47,5,FALSE)","v":"NW3&4"},null,null,null,null,null,null,null,"F84039",null,12923,47,43,43,43,42,21,53,52,51,51,51,41,40,40,39,40,39,51]
["2020-07-01",{"$f":"VLOOKUP(J1512,'Control Panel'!$O$3:$S$47,5,FALSE)","v":"NW5"},null,null,null,null,null,null,null,"F84044",null,7309,20,20,20,20,20,14,15,14,14,15,15,21,18,18,18,18,19,14]
["2020-07-01",{"$f":"VLOOKUP(J1513,'Control Panel'!$O$3:$S$47,5,FALSE)","v":"NW3&4"},null,null,null,null,null,null,null,"F84046",null,3566,10,9,9,9,9,6,17,17,17,17,17,7,7,7,7,7,7,17]
["2020-07-01",{"$f":"VLOOKUP(J1514,'Control Panel'!$O$3:$S$47,5,FALSE)","v":"NW1"},null,null,null,null,null,null,null,"F84051",null,5464,11,10,10,10,8,2,6,5,4,4,4,14,12,10,8,9,8,4]
["2020-07-01",{"$f":"VLOOKUP(J1515,'Control Panel'!$O$3:$S$47,5,FALSE)","v":"NW7"},null,null,null,null,null,null,null,"F84054",null,11201,37,32,32,32,34,17,38,36,32,32,32,38,37,36,33,36,33,32]
["2020-07-01",{"$f":"VLOOKUP(J1516,'Control Panel'!$O$3:$S$47,5,FALSE)","v":"NW5"},null,null,null,null,null,null,null,"F84055",null,3759,10,10,10,10,10,6,9,9,9,9,9,7,7,7,7,7,7,9]
["2020-07-01",{"$f":"VLOOKUP(J1517,'Control Panel'!$O$3:$S$47,5,FALSE)","v":"NW7"},null,null,null,null,null,null,null,"F84062",null,15103,39,36,35,35,34,20,40,34,29,30,31,48,47,44,37,45,39,30]
["2020-07-01",{"$f":"VLOOKUP(J1518,'Control Panel'!$O$3:$S$47,5,FALSE)","v":"NW3&4"},null,null,null,null,null,null,null,"F84079",null,11099,27,26,26,26,25,19,26,25,24,24,24,32,29,27,27,27,27,23]
["2020-07-01",{"$f":"VLOOKUP(J1519,'Control Panel'!$O$3:$S$47,5,FALSE)","v":"NW2"},null,null,null,null,null,null,null,"F84081",null,13971,48,42,42,42,38,30,34,30,29,28,28,33,32,32,30,31,30,29]
["2020-07-01",{"$f":"VLOOKUP(J1520,'Control Panel'!$O$3:$S$47,5,FALSE)","v":"NW1"},null,null,null,null,null,null,null,"F84083",null,8345,22,19,19,19,19,11,21,19,17,18,17,27,27,26,20,26,21,18]
["2020-07-01",{"$f":"VLOOKUP(J1521,'Control Panel'!$O$3:$S$47,5,FALSE)","v":"NW3&4"},null,null,null,null,null,null,null,"F84087",null,9445,42,38,38,38,37,29,29,28,25,25,26,33,30,30,25,29,25,26]
["2020-07-01",{"$f":"VLOOKUP(J1522,'Control Panel'!$O$3:$S$47,5,FALSE)","v":"NW3&4"},null,null,null,null,null,null,null,"F84114",null,6618,16,12,12,12,11,6,13,12,12,12,12,23,23,23,23,23,22,12]
["2020-07-01",{"$f":"VLOOKUP(J1523,'Control Panel'!$O$3:$S$47,5,FALSE)","v":"NW6"},null,null,null,null,null,null,null,"F84118",null,5583,19,18,18,18,18,14,20,20,20,20,20,11,11,10,8,10,8,20]
["2020-07-01",{"$f":"VLOOKUP(J1524,'Control Panel'!$O$3:$S$47,5,FALSE)","v":"NW6"},null,null,null,null,null,null,null,"F84122",null,15724,49,46,46,46,44,34,46,43,41,41,40,38,37,34,35,37,33,40]
["2020-07-01",{"$f":"VLOOKUP(J1525,'Control Panel'!$O$3:$S$47,5,FALSE)","v":"NW1"},null,null,null,null,null,null,null,"F84123",null,14696,20,16,16,16,19,10,27,26,26,26,26,37,35,32,33,32,33,26]
["2020-07-01",{"$f":"VLOOKUP(J1526,'Control Panel'!$O$3:$S$47,5,FALSE)","v":"NW8"},null,null,null,null,null,null,null,"F84647",null,8908,31,29,30,30,28,17,27,26,25,26,26,22,20,19,19,21,19,25]
["2020-07-01",{"$f":"VLOOKUP(J1527,'Control Panel'!$O$3:$S$47,5,FALSE)","v":"NW8"},null,null,null,null,null,null,null,"F84656",null,9602,29,28,28,28,28,18,31,30,29,30,30,27,25,24,20,23,20,30]
["2020-07-01",{"$f":"VLOOKUP(J1528,'Control Panel'!$O$3:$S$47,5,FALSE)","v":"NW6"},null,null,null,null,null,null,null,"F84676",null,4195,16,15,15,15,15,13,13,13,10,10,10,18,17,17,15,17,15,10]
["2020-07-01",{"$f":"VLOOKUP(J1529,'Control Panel'!$O$3:$S$47,5,FALSE)","v":"NW3&4"},null,null,null,null,null,null,null,"F84682",null,10905,36,35,34,35,35,28,36,34,31,33,33,40,35,35,31,35,32,33]
["2020-07-01",{"$f":"VLOOKUP(J1530,'Control Panel'!$O$3:$S$47,5,FALSE)","v":"NW5"},null,null,null,null,null,null,null,"F84696",null,5447,20,19,19,19,19,14,15,12,13,13,13,11,11,11,10,11,10,12]
["2020-07-01",{"$f":"VLOOKUP(J1531,'Control Panel'!$O$3:$S$47,5,FALSE)","v":"NW7"},null,null,null,null,null,null,null,"F84698",null,9343,40,38,38,38,35,22,26,24,21,22,22,34,32,30,31,31,29,22]
["2020-07-01",{"$f":"VLOOKUP(J1532,'Control Panel'!$O$3:$S$47,5,FALSE)","v":"NW8"},null,null,null,null,null,null,null,"F84710",null,11899,26,26,26,26,26,10,41,36,32,33,33,33,30,29,27,30,27,32]
["2020-07-01",{"$f":"VLOOKUP(J1533,'Control Panel'!$O$3:$S$47,5,FALSE)","v":"NW6"},null,null,null,null,null,null,null,"F84714",null,14242,43,43,42,43,41,22,47,43,42,43,43,49,49,46,48,48,47,43]
["2020-07-01",{"$f":"VLOOKUP(J1534,'Control Panel'!$O$3:$S$47,5,FALSE)","v":"NW2"},null,null,null,null,null,null,null,"F84718",null,14735,45,42,42,42,41,17,46,44,40,43,43,37,37,37,34,37,34,41]
["2020-07-01",{"$f":"VLOOKUP(J1535,'Control Panel'!$O$3:$S$47,5,FALSE)","v":"NW3&4"},null,null,null,null,null,null,null,"F84731",null,2090,8,8,8,8,7,7,7,7,7,7,7,1,1,1,1,1,1,7]
["2020-07-01",{"$f":"VLOOKUP(J1536,'Control Panel'!$O$3:$S$47,5,FALSE)","v":"NW2"},null,null,null,null,null,null,null,"F84733",null,978,0,0,0,0,0,0,0,0,0,0,0,0,0,0,0,0,0,0]
["2020-07-01",{"$f":"VLOOKUP(J1537,'Control Panel'!$O$3:$S$47,5,FALSE)","v":"NW8"},null,null,null,null,null,null,null,"F84747",null,23507,95,86,88,87,86,48,77,76,75,74,71,67,65,63,61,62,62,73]
["2020-07-01",{"$f":"VLOOKUP(J1538,'Control Panel'!$O$3:$S$47,5,FALSE)","v":"NW1"},null,null,null,null,null,null,null,"Y00212",null,4630,11,7,7,7,6,9,14,12,11,11,11,15,13,14,11,14,12,11]
["2020-07-01",{"$f":"VLOOKUP(J1539,'Control Panel'!$O$3:$S$47,5,FALSE)","v":"NW6"},null,null,null,null,null,null,null,"Y03023",null,14296,57,55,55,55,51,43,52,51,47,48,47,49,46,45,42,45,42,48]
["2020-07-01",{"$f":"VLOOKUP(J1540,'Control Panel'!$O$3:$S$47,5,FALSE)","v":0},null,null,null,null,null,null,null,"total",null,341789,1075,989,990,992,956,621,1034,975,920,935,930,990,945,911,848,920,852,926]
["2020-08-01",{"$f":"VLOOKUP(J1541,'Control Panel'!$O$3:$S$47,5,FALSE)","v":{"$error":"#N/A"}},"Childhood Immunisations Q2",null,"Last Run:",null,"Population Count",359103,null,null,"Search","All Patients","(01) 12 MONTH COHORT","(01.01) DTaP/IPV/Hib 6in1","(01.02) Men B (1st and 2nd)","(01.03) PCV","(01.04) Rotavirus","(01.05) BCG","(02) 24 MONTH COHORT","(02.01) DTaP/IPV/Hib Combined","(02.02) MMR","(02.03) HiB/Men C","(02.04) PCV (Booster)","(03) 5 YEAR COHORT","(03.01) DTaP/IPV/Hib Combined","(03.02) MMR (Primary)","(03.03) DTaP/IPV (Booster)","(03.04) HiB/Men C","(03.05) MMR (Booster)","(02.05) Men B (Booster)"]
["2020-08-01",{"$f":"VLOOKUP(J1542,'Control Panel'!$O$3:$S$47,5,FALSE)","v":{"$error":"#N/A"}},null,null,"2020-09-02T17:37:00",null,"Males",186399,null,"Organisation Code"]
["2020-08-01",{"$f":"VLOOKUP(J1543,'Control Panel'!$O$3:$S$47,5,FALSE)","v":"NW2"},null,null,"Relative Date:",null,"Females",172704,null,"F84012",null,9247,29,25,25,25,25,24,27,27,26,26,26,21,20,19,18,19,18,25]
["2020-08-01",{"$f":"VLOOKUP(J1544,'Control Panel'!$O$3:$S$47,5,FALSE)","v":"NW1"},null,null,"2020-09-01",null,null,null,null,"F84016",null,11499,40,38,38,38,35,17,35,31,31,32,31,28,28,26,23,28,25,31]
["2020-08-01",{"$f":"VLOOKUP(J1545,'Control Panel'!$O$3:$S$47,5,FALSE)","v":"NW7"},null,null,null,null,null,null,null,"F84025",null,11405,43,37,37,39,32,22,41,40,38,39,38,35,34,33,31,33,32,38]
["2020-08-01",{"$f":"VLOOKUP(J1546,'Control Panel'!$O$3:$S$47,5,FALSE)","v":"NW5"},null,null,null,null,null,null,null,"F84030",null,3711,9,7,7,7,7,4,7,6,6,6,6,6,4,4,2,4,3,6]
["2020-08-01",{"$f":"VLOOKUP(J1547,'Control Panel'!$O$3:$S$47,5,FALSE)","v":"NW3&4"},null,null,null,null,null,null,null,"F84031",null,13143,45,41,41,41,40,25,54,51,47,47,48,38,38,36,34,38,32,48]
["2020-08-01",{"$f":"VLOOKUP(J1548,'Control Panel'!$O$3:$S$47,5,FALSE)","v":"NW5"},null,null,null,null,null,null,null,"F84034",null,13328,39,36,37,36,33,25,45,42,39,39,40,48,47,45,40,45,40,39]
["2020-08-01",{"$f":"VLOOKUP(J1549,'Control Panel'!$O$3:$S$47,5,FALSE)","v":"NW3&4"},null,null,null,null,null,null,null,"F84039",null,12999,47,43,43,43,42,24,54,52,51,51,51,41,40,40,39,40,39,51]
["2020-08-01",{"$f":"VLOOKUP(J1550,'Control Panel'!$O$3:$S$47,5,FALSE)","v":"NW5"},null,null,null,null,null,null,null,"F84044",null,7392,20,20,20,20,20,14,15,14,14,15,15,21,18,18,18,18,19,14]
["2020-08-01",{"$f":"VLOOKUP(J1551,'Control Panel'!$O$3:$S$47,5,FALSE)","v":"NW3&4"},null,null,null,null,null,null,null,"F84046",null,3563,10,9,9,9,9,6,17,17,17,17,17,7,7,7,7,7,7,17]
["2020-08-01",{"$f":"VLOOKUP(J1552,'Control Panel'!$O$3:$S$47,5,FALSE)","v":"NW1"},null,null,null,null,null,null,null,"F84051",null,5459,11,10,10,10,8,2,6,5,4,4,4,14,12,10,8,9,8,4]
["2020-08-01",{"$f":"VLOOKUP(J1553,'Control Panel'!$O$3:$S$47,5,FALSE)","v":"NW7"},null,null,null,null,null,null,null,"F84054",null,11245,37,32,32,32,34,17,38,36,32,32,32,38,37,36,33,36,33,32]
["2020-08-01",{"$f":"VLOOKUP(J1554,'Control Panel'!$O$3:$S$47,5,FALSE)","v":"NW5"},null,null,null,null,null,null,null,"F84055",null,3780,10,10,10,10,10,6,10,10,10,10,10,7,7,7,7,7,7,10]
["2020-08-01",{"$f":"VLOOKUP(J1555,'Control Panel'!$O$3:$S$47,5,FALSE)","v":"NW7"},null,null,null,null,null,null,null,"F84062",null,15081,39,37,36,35,34,20,40,34,29,30,31,48,47,44,37,45,39,30]
["2020-08-01",{"$f":"VLOOKUP(J1556,'Control Panel'!$O$3:$S$47,5,FALSE)","v":"NW3&4"},null,null,null,null,null,null,null,"F84079",null,11133,26,25,25,25,24,18,26,25,24,24,24,32,29,27,27,27,27,23]
["2020-08-01",{"$f":"VLOOKUP(J1557,'Control Panel'!$O$3:$S$47,5,FALSE)","v":"NW2"},null,null,null,null,null,null,null,"F84081",null,13939,48,43,43,43,39,31,34,30,29,28,28,33,32,32,30,31,30,29]
["2020-08-01",{"$f":"VLOOKUP(J1558,'Control Panel'!$O$3:$S$47,5,FALSE)","v":"NW1"},null,null,null,null,null,null,null,"F84083",null,8374,22,19,19,19,19,11,21,19,17,18,17,28,27,26,21,26,22,18]
["2020-08-01",{"$f":"VLOOKUP(J1559,'Control Panel'!$O$3:$S$47,5,FALSE)","v":"NW3&4"},null,null,null,null,null,null,null,"F84087",null,9478,43,38,38,38,37,29,30,28,25,25,26,33,30,30,25,29,25,26]
["2020-08-01",{"$f":"VLOOKUP(J1560,'Control Panel'!$O$3:$S$47,5,FALSE)","v":"NW3&4"},null,null,null,null,null,null,null,"F84114",null,6626,15,12,12,12,11,6,13,12,12,12,12,23,23,23,23,23,22,12]
["2020-08-01",{"$f":"VLOOKUP(J1561,'Control Panel'!$O$3:$S$47,5,FALSE)","v":"NW6"},null,null,null,null,null,null,null,"F84118",null,5543,19,18,18,18,18,14,20,20,20,20,20,11,10,9,7,9,7,20]
["2020-08-01",{"$f":"VLOOKUP(J1562,'Control Panel'!$O$3:$S$47,5,FALSE)","v":"NW6"},null,null,null,null,null,null,null,"F84122",null,15768,49,47,47,47,45,34,46,43,41,41,40,38,37,34,35,37,33,40]
["2020-08-01",{"$f":"VLOOKUP(J1563,'Control Panel'!$O$3:$S$47,5,FALSE)","v":"NW1"},null,null,null,null,null,null,null,"F84123",null,14622,20,17,17,16,19,10,28,26,26,26,26,38,36,33,34,33,34,26]
["2020-08-01",{"$f":"VLOOKUP(J1564,'Control Panel'!$O$3:$S$47,5,FALSE)","v":"NW8"},null,null,null,null,null,null,null,"F84647",null,8892,33,29,30,30,28,17,27,26,25,26,26,22,20,19,19,21,19,25]
["2020-08-01",{"$f":"VLOOKUP(J1565,'Control Panel'!$O$3:$S$47,5,FALSE)","v":"NW8"},null,null,null,null,null,null,null,"F84656",null,9664,29,28,28,28,28,18,31,30,29,30,30,27,25,24,20,23,20,30]
["2020-08-01",{"$f":"VLOOKUP(J1566,'Control Panel'!$O$3:$S$47,5,FALSE)","v":"NW6"},null,null,null,null,null,null,null,"F84676",null,4169,16,15,15,15,15,13,13,13,10,10,10,18,17,17,15,17,15,10]
["2020-08-01",{"$f":"VLOOKUP(J1567,'Control Panel'!$O$3:$S$47,5,FALSE)","v":"NW3&4"},null,null,null,null,null,null,null,"F84682",null,10870,34,33,33,33,34,26,38,36,32,34,34,39,33,33,29,33,30,34]
["2020-08-01",{"$f":"VLOOKUP(J1568,'Control Panel'!$O$3:$S$47,5,FALSE)","v":"NW5"},null,null,null,null,null,null,null,"F84696",null,5471,20,19,19,19,19,14,15,12,13,13,13,11,11,11,10,11,10,12]
["2020-08-01",{"$f":"VLOOKUP(J1569,'Control Panel'!$O$3:$S$47,5,FALSE)","v":"NW7"},null,null,null,null,null,null,null,"F84698",null,9432,41,39,38,39,35,23,26,24,21,22,22,34,32,30,31,31,29,22]
["2020-08-01",{"$f":"VLOOKUP(J1570,'Control Panel'!$O$3:$S$47,5,FALSE)","v":"NW8"},null,null,null,null,null,null,null,"F84710",null,11918,27,27,27,27,27,11,41,36,32,33,33,32,30,29,27,30,27,33]
["2020-08-01",{"$f":"VLOOKUP(J1571,'Control Panel'!$O$3:$S$47,5,FALSE)","v":"NW6"},null,null,null,null,null,null,null,"F84714",null,14333,44,44,43,44,42,22,47,43,42,43,43,49,49,46,48,48,47,43]
["2020-08-01",{"$f":"VLOOKUP(J1572,'Control Panel'!$O$3:$S$47,5,FALSE)","v":"NW2"},null,null,null,null,null,null,null,"F84718",null,14633,46,43,43,43,42,17,45,43,39,42,42,37,37,37,34,37,34,40]
["2020-08-01",{"$f":"VLOOKUP(J1573,'Control Panel'!$O$3:$S$47,5,FALSE)","v":"NW3&4"},null,null,null,null,null,null,null,"F84731",null,2087,8,8,8,8,7,7,7,7,7,7,7,1,1,1,1,1,1,7]
["2020-08-01",{"$f":"VLOOKUP(J1574,'Control Panel'!$O$3:$S$47,5,FALSE)","v":"NW2"},null,null,null,null,null,null,null,"F84733",null,957,0,0,0,0,0,0,0,0,0,0,0,0,0,0,0,0,0,0]
["2020-08-01",{"$f":"VLOOKUP(J1575,'Control Panel'!$O$3:$S$47,5,FALSE)","v":"NW8"},null,null,null,null,null,null,null,"F84747",null,23567,93,85,87,86,85,47,76,75,74,73,71,67,65,63,61,62,62,73]
["2020-08-01",{"$f":"VLOOKUP(J1576,'Control Panel'!$O$3:$S$47,5,FALSE)","v":"NW1"},null,null,null,null,null,null,null,"Y00212",null,4430,11,7,7,7,6,9,14,12,11,11,11,15,13,14,11,14,12,11]
["2020-08-01",{"$f":"VLOOKUP(J1577,'Control Panel'!$O$3:$S$47,5,FALSE)","v":"NW6"},null,null,null,null,null,null,null,"Y03023",null,14503,58,56,56,56,52,44,52,51,47,48,47,49,46,45,42,45,42,48]
["2020-08-01",{"$f":"VLOOKUP(J1578,'Control Panel'!$O$3:$S$47,5,FALSE)","v":0},null,null,null,null,null,null,null,"total",null,342261,1081,997,998,998,961,627,1039,976,920,934,931,989,942,908,847,917,850,927]
["2020-09-01",{"$f":"VLOOKUP(J1579,'Control Panel'!$O$3:$S$47,5,FALSE)","v":{"$error":"#N/A"}},"Childhood Immunisations Q2",null,"Last Run:",null,"Population Count",360286,null,null,"Search","All Patients","(01) 12 MONTH COHORT","(01.01) DTaP/IPV/Hib 6in1","(01.02) Men B (1st and 2nd)","(01.03) PCV","(01.04) Rotavirus","(01.05) BCG","(02) 24 MONTH COHORT","(02.01) DTaP/IPV/Hib Combined","(02.02) MMR","(02.03) HiB/Men C","(02.04) PCV (Booster)","(03) 5 YEAR COHORT","(03.01) DTaP/IPV/Hib Combined","(03.02) MMR (Primary)","(03.03) DTaP/IPV (Booster)","(03.04) HiB/Men C","(03.05) MMR (Booster)","(02.05) Men B (Booster)"]
["2020-09-01",{"$f":"VLOOKUP(J1580,'Control Panel'!$O$3:$S$47,5,FALSE)","v":{"$error":"#N/A"}},null,null,"2020-10-02T11:15:00",null,"Males",186913,null,"Organisation Code"]
["2020-09-01",{"$f":"VLOOKUP(J1581,'Control Panel'!$O$3:$S$47,5,FALSE)","v":"NW2"},null,null,"Relative Date:",null,"Females",173373,null,"F84012",null,9258,29,26,26,27,25,27,27,27,26,26,26,21,20,19,18,19,18,25]
["2020-09-01",{"$f":"VLOOKUP(J1582,'Control Panel'!$O$3:$S$47,5,FALSE)","v":"NW1"},null,null,"2020-10-01",null,null,null,null,"F84016",null,11576,42,40,40,40,37,18,35,31,31,32,31,28,28,26,23,28,25,31]
["2020-09-01",{"$f":"VLOOKUP(J1583,'Control Panel'!$O$3:$S$47,5,FALSE)","v":"NW7"},null,null,null,null,null,null,null,"F84025",null,11434,41,36,35,37,30,20,41,40,38,39,38,36,35,34,32,34,33,38]
["2020-09-01",{"$f":"VLOOKUP(J1584,'Control Panel'!$O$3:$S$47,5,FALSE)","v":"NW5"},null,null,null,null,null,null,null,"F84030",null,3714,9,7,7,7,7,4,7,6,6,6,6,7,5,5,3,5,4,6]
["2020-09-01",{"$f":"VLOOKUP(J1585,'Control Panel'!$O$3:$S$47,5,FALSE)","v":"NW3&4"},null,null,null,null,null,null,null,"F84031",null,13251,43,40,40,40,39,25,55,52,47,48,48,39,38,36,34,38,32,49]
["2020-09-01",{"$f":"VLOOKUP(J1586,'Control Panel'!$O$3:$S$47,5,FALSE)","v":"NW5"},null,null,null,null,null,null,null,"F84034",null,13369,39,36,37,36,33,25,44,42,39,39,40,48,47,45,40,45,40,39]
["2020-09-01",{"$f":"VLOOKUP(J1587,'Control Panel'!$O$3:$S$47,5,FALSE)","v":"NW3&4"},null,null,null,null,null,null,null,"F84039",null,13183,46,42,42,42,41,24,53,52,51,51,51,41,39,39,38,39,38,51]
["2020-09-01",{"$f":"VLOOKUP(J1588,'Control Panel'!$O$3:$S$47,5,FALSE)","v":"NW5"},null,null,null,null,null,null,null,"F84044",null,7480,20,20,20,20,20,14,15,14,14,15,15,21,18,18,18,18,19,14]
["2020-09-01",{"$f":"VLOOKUP(J1589,'Control Panel'!$O$3:$S$47,5,FALSE)","v":"NW3&4"},null,null,null,null,null,null,null,"F84046",null,3514,10,9,9,9,9,6,17,17,17,17,17,7,7,7,7,7,7,17]
["2020-09-01",{"$f":"VLOOKUP(J1590,'Control Panel'!$O$3:$S$47,5,FALSE)","v":"NW1"},null,null,null,null,null,null,null,"F84051",null,5542,9,8,8,8,6,2,7,6,5,5,5,14,12,10,8,9,8,5]
["2020-09-01",{"$f":"VLOOKUP(J1591,'Control Panel'!$O$3:$S$47,5,FALSE)","v":"NW7"},null,null,null,null,null,null,null,"F84054",null,11273,36,31,31,31,33,17,39,37,33,33,33,39,38,36,34,36,34,33]
["2020-09-01",{"$f":"VLOOKUP(J1592,'Control Panel'!$O$3:$S$47,5,FALSE)","v":"NW5"},null,null,null,null,null,null,null,"F84055",null,3812,10,10,10,10,10,6,10,10,10,10,10,7,7,7,7,7,7,10]
["2020-09-01",{"$f":"VLOOKUP(J1593,'Control Panel'!$O$3:$S$47,5,FALSE)","v":"NW7"},null,null,null,null,null,null,null,"F84062",null,15005,39,37,36,35,34,20,41,35,30,31,32,49,48,45,38,46,40,31]
["2020-09-01",{"$f":"VLOOKUP(J1594,'Control Panel'!$O$3:$S$47,5,FALSE)","v":"NW3&4"},null,null,null,null,null,null,null,"F84079",null,11196,27,26,26,26,25,19,26,25,24,24,24,31,28,26,26,26,26,23]
["2020-09-01",{"$f":"VLOOKUP(J1595,'Control Panel'!$O$3:$S$47,5,FALSE)","v":"NW2"},null,null,null,null,null,null,null,"F84081",null,13917,48,43,43,43,39,31,33,29,28,27,27,34,33,33,31,32,31,28]
["2020-09-01",{"$f":"VLOOKUP(J1596,'Control Panel'!$O$3:$S$47,5,FALSE)","v":"NW1"},null,null,null,null,null,null,null,"F84083",null,8382,21,20,20,20,20,11,20,18,16,17,16,28,27,26,21,26,22,17]
["2020-09-01",{"$f":"VLOOKUP(J1597,'Control Panel'!$O$3:$S$47,5,FALSE)","v":"NW3&4"},null,null,null,null,null,null,null,"F84087",null,9505,43,38,38,38,37,29,30,28,25,25,26,33,30,30,25,29,25,26]
["2020-09-01",{"$f":"VLOOKUP(J1598,'Control Panel'!$O$3:$S$47,5,FALSE)","v":"NW3&4"},null,null,null,null,null,null,null,"F84114",null,6654,16,13,13,13,12,7,13,12,12,12,12,22,22,22,22,22,21,12]
["2020-09-01",{"$f":"VLOOKUP(J1599,'Control Panel'!$O$3:$S$47,5,FALSE)","v":"NW6"},null,null,null,null,null,null,null,"F84118",null,5568,20,19,19,19,19,14,21,21,21,21,21,11,10,9,7,9,7,21]
["2020-09-01",{"$f":"VLOOKUP(J1600,'Control Panel'!$O$3:$S$47,5,FALSE)","v":"NW6"},null,null,null,null,null,null,null,"F84122",null,15883,49,47,47,47,45,34,46,43,41,41,39,38,38,35,35,38,33,39]
["2020-09-01",{"$f":"VLOOKUP(J1601,'Control Panel'!$O$3:$S$47,5,FALSE)","v":"NW1"},null,null,null,null,null,null,null,"F84123",null,14989,21,17,17,17,19,10,27,26,26,25,26,41,39,36,35,36,35,25]
["2020-09-01",{"$f":"VLOOKUP(J1602,'Control Panel'!$O$3:$S$47,5,FALSE)","v":"NW8"},null,null,null,null,null,null,null,"F84647",null,8857,32,29,28,30,26,16,27,26,25,26,26,22,20,19,19,21,19,25]
["2020-09-01",{"$f":"VLOOKUP(J1603,'Control Panel'!$O$3:$S$47,5,FALSE)","v":"NW8"},null,null,null,null,null,null,null,"F84656",null,9665,28,27,27,27,27,17,31,30,29,30,30,27,25,24,20,23,20,30]
["2020-09-01",{"$f":"VLOOKUP(J1604,'Control Panel'!$O$3:$S$47,5,FALSE)","v":"NW6"},null,null,null,null,null,null,null,"F84676",null,4080,16,15,15,15,15,13,13,13,10,10,10,18,17,17,15,17,15,10]
["2020-09-01",{"$f":"VLOOKUP(J1605,'Control Panel'!$O$3:$S$47,5,FALSE)","v":"NW3&4"},null,null,null,null,null,null,null,"F84682",null,10855,35,33,33,33,34,26,39,37,33,34,34,38,34,33,29,32,31,34]
["2020-09-01",{"$f":"VLOOKUP(J1606,'Control Panel'!$O$3:$S$47,5,FALSE)","v":"NW5"},null,null,null,null,null,null,null,"F84696",null,5492,21,19,19,19,19,14,15,12,13,13,13,11,11,11,10,11,10,12]
["2020-09-01",{"$f":"VLOOKUP(J1607,'Control Panel'!$O$3:$S$47,5,FALSE)","v":"NW7"},null,null,null,null,null,null,null,"F84698",null,9541,41,39,38,39,35,23,26,24,21,22,22,34,32,30,31,31,29,22]
["2020-09-01",{"$f":"VLOOKUP(J1608,'Control Panel'!$O$3:$S$47,5,FALSE)","v":"NW8"},null,null,null,null,null,null,null,"F84710",null,11986,28,27,27,27,27,11,41,36,32,33,33,31,29,28,26,29,26,33]
["2020-09-01",{"$f":"VLOOKUP(J1609,'Control Panel'!$O$3:$S$47,5,FALSE)","v":"NW6"},null,null,null,null,null,null,null,"F84714",null,14425,46,46,45,46,44,22,47,43,42,43,43,48,48,46,47,48,46,43]
["2020-09-01",{"$f":"VLOOKUP(J1610,'Control Panel'!$O$3:$S$47,5,FALSE)","v":"NW2"},null,null,null,null,null,null,null,"F84718",null,14730,46,43,43,43,42,17,45,43,39,42,42,37,37,37,34,37,34,40]
["2020-09-01",{"$f":"VLOOKUP(J1611,'Control Panel'!$O$3:$S$47,5,FALSE)","v":"NW3&4"},null,null,null,null,null,null,null,"F84731",null,2087,8,8,8,8,7,7,7,7,7,7,7,1,1,1,1,1,1,7]
["2020-09-01",{"$f":"VLOOKUP(J1612,'Control Panel'!$O$3:$S$47,5,FALSE)","v":"NW2"},null,null,null,null,null,null,null,"F84733",null,954,0,0,0,0,0,0,0,0,0,0,0,0,0,0,0,0,0,0]
["2020-09-01",{"$f":"VLOOKUP(J1613,'Control Panel'!$O$3:$S$47,5,FALSE)","v":"NW8"},null,null,null,null,null,null,null,"F84747",null,23547,91,82,83,82,82,44,77,76,75,74,71,67,64,62,60,61,61,74]
["2020-09-01",{"$f":"VLOOKUP(J1614,'Control Panel'!$O$3:$S$47,5,FALSE)","v":"NW1"},null,null,null,null,null,null,null,"Y00212",null,4266,11,7,7,7,6,9,14,12,11,11,11,15,13,14,11,14,12,11]
["2020-09-01",{"$f":"VLOOKUP(J1615,'Control Panel'!$O$3:$S$47,5,FALSE)","v":"NW6"},null,null,null,null,null,null,null,"Y03023",null,14455,57,55,55,55,51,44,50,49,45,46,45,49,46,45,42,45,42,46]
["2020-09-01",{"$f":"VLOOKUP(J1616,'Control Panel'!$O$3:$S$47,5,FALSE)","v":0},null,null,null,null,null,null,null,"total",null,343445,1078,995,992,996,955,626,1039,979,922,935,930,993,946,911,847,919,851,927]
["2020-10-01",{"$f":"VLOOKUP(J1617,'Control Panel'!$O$3:$S$47,5,FALSE)","v":{"$error":"#N/A"}},"Childhood Immunisations Q3",null,"Last Run:",null,"Population Count",361496,null,null,"Search","All Patients","(01) 12 MONTH COHORT","(01.01) DTaP/IPV/Hib 6in1","(01.02) Men B (1st and 2nd)","(01.03) PCV","(01.04) Rotavirus","(01.05) BCG","(02) 24 MONTH COHORT","(02.01) DTaP/IPV/Hib Combined","(02.02) MMR","(02.03) HiB/Men C","(02.04) PCV (Booster)","(03) 5 YEAR COHORT","(03.01) DTaP/IPV/Hib Combined","(03.02) MMR (Primary)","(03.03) DTaP/IPV (Booster)","(03.04) HiB/Men C","(03.05) MMR (Booster)","(02.05) Men B (Booster)"]
["2020-10-01",{"$f":"VLOOKUP(J1618,'Control Panel'!$O$3:$S$47,5,FALSE)","v":{"$error":"#N/A"}},null,null,"2020-11-02T13:48:00",null,"Males",187288,null,"Organisation Code"]
["2020-10-01",{"$f":"VLOOKUP(J1619,'Control Panel'!$O$3:$S$47,5,FALSE)","v":"NW2"},null,null,"Relative Date:",null,"Females",174208,null,"F84012",null,9271,25,24,24,24,22,23,28,25,25,25,25,30,30,28,29,28,28,25]
["2020-10-01",{"$f":"VLOOKUP(J1620,'Control Panel'!$O$3:$S$47,5,FALSE)","v":"NW1"},null,null,"2020-11-01",null,null,null,null,"F84016",null,11564,28,26,25,25,25,12,34,32,29,30,30,33,32,31,27,31,29,30]
["2020-10-01",{"$f":"VLOOKUP(J1621,'Control Panel'!$O$3:$S$47,5,FALSE)","v":"NW7"},null,null,null,null,null,null,null,"F84025",null,11436,32,29,30,28,29,21,33,31,30,30,30,34,30,30,29,30,30,30]
["2020-10-01",{"$f":"VLOOKUP(J1622,'Control Panel'!$O$3:$S$47,5,FALSE)","v":"NW5"},null,null,null,null,null,null,null,"F84030",null,3729,13,12,12,12,11,10,5,4,4,4,4,6,6,6,5,6,5,4]
["2020-10-01",{"$f":"VLOOKUP(J1623,'Control Panel'!$O$3:$S$47,5,FALSE)","v":"NW3&4"},null,null,null,null,null,null,null,"F84031",null,13434,26,24,24,23,23,14,49,45,41,43,43,48,44,42,38,41,39,42]
["2020-10-01",{"$f":"VLOOKUP(J1624,'Control Panel'!$O$3:$S$47,5,FALSE)","v":"NW5"},null,null,null,null,null,null,null,"F84034",null,13380,46,40,38,40,41,35,45,42,39,39,37,51,51,49,46,49,46,39]
["2020-10-01",{"$f":"VLOOKUP(J1625,'Control Panel'!$O$3:$S$47,5,FALSE)","v":"NW3&4"},null,null,null,null,null,null,null,"F84039",null,13350,39,36,36,36,36,25,45,43,42,41,42,39,37,36,36,37,36,43]
["2020-10-01",{"$f":"VLOOKUP(J1626,'Control Panel'!$O$3:$S$47,5,FALSE)","v":"NW5"},null,null,null,null,null,null,null,"F84044",null,7573,15,12,12,13,12,11,31,30,30,30,30,20,17,15,14,17,14,30]
["2020-10-01",{"$f":"VLOOKUP(J1627,'Control Panel'!$O$3:$S$47,5,FALSE)","v":"NW3&4"},null,null,null,null,null,null,null,"F84046",null,3470,13,13,13,12,13,9,14,14,13,13,13,15,15,15,13,14,13,13]
["2020-10-01",{"$f":"VLOOKUP(J1628,'Control Panel'!$O$3:$S$47,5,FALSE)","v":"NW1"},null,null,null,null,null,null,null,"F84051",null,5665,20,17,17,17,14,1,14,12,12,13,13,7,7,6,6,7,6,13]
["2020-10-01",{"$f":"VLOOKUP(J1629,'Control Panel'!$O$3:$S$47,5,FALSE)","v":"NW7"},null,null,null,null,null,null,null,"F84054",null,11323,51,44,45,44,37,35,37,34,28,28,28,33,32,29,29,32,29,28]
["2020-10-01",{"$f":"VLOOKUP(J1630,'Control Panel'!$O$3:$S$47,5,FALSE)","v":"NW5"},null,null,null,null,null,null,null,"F84055",null,3868,11,10,10,10,9,8,9,9,9,9,9,10,10,10,10,10,10,9]
["2020-10-01",{"$f":"VLOOKUP(J1631,'Control Panel'!$O$3:$S$47,5,FALSE)","v":"NW7"},null,null,null,null,null,null,null,"F84062",null,15041,65,60,60,56,58,46,42,41,35,35,35,50,45,40,38,42,38,35]
["2020-10-01",{"$f":"VLOOKUP(J1632,'Control Panel'!$O$3:$S$47,5,FALSE)","v":"NW3&4"},null,null,null,null,null,null,null,"F84079",null,11190,33,24,25,25,31,16,32,30,29,28,28,26,26,26,24,25,25,28]
["2020-10-01",{"$f":"VLOOKUP(J1633,'Control Panel'!$O$3:$S$47,5,FALSE)","v":"NW2"},null,null,null,null,null,null,null,"F84081",null,13963,23,20,20,21,18,21,32,31,29,30,30,36,33,30,30,31,29,30]
["2020-10-01",{"$f":"VLOOKUP(J1634,'Control Panel'!$O$3:$S$47,5,FALSE)","v":"NW1"},null,null,null,null,null,null,null,"F84083",null,8390,21,17,17,17,17,15,24,24,20,19,20,22,20,20,19,19,20,20]
["2020-10-01",{"$f":"VLOOKUP(J1635,'Control Panel'!$O$3:$S$47,5,FALSE)","v":"NW3&4"},null,null,null,null,null,null,null,"F84087",null,9569,32,26,25,26,24,26,37,34,31,32,32,38,37,37,26,36,26,31]
["2020-10-01",{"$f":"VLOOKUP(J1636,'Control Panel'!$O$3:$S$47,5,FALSE)","v":"NW3&4"},null,null,null,null,null,null,null,"F84114",null,6648,19,17,17,17,17,16,15,15,15,15,15,23,21,21,19,19,19,15]
["2020-10-01",{"$f":"VLOOKUP(J1637,'Control Panel'!$O$3:$S$47,5,FALSE)","v":"NW6"},null,null,null,null,null,null,null,"F84118",null,5561,11,11,11,11,11,8,10,8,8,8,8,10,10,10,8,10,8,8]
["2020-10-01",{"$f":"VLOOKUP(J1638,'Control Panel'!$O$3:$S$47,5,FALSE)","v":"NW6"},null,null,null,null,null,null,null,"F84122",null,15907,56,51,52,50,50,32,37,34,32,32,31,48,46,47,38,47,39,32]
["2020-10-01",{"$f":"VLOOKUP(J1639,'Control Panel'!$O$3:$S$47,5,FALSE)","v":"NW1"},null,null,null,null,null,null,null,"F84123",null,15144,30,25,25,26,24,22,21,21,18,18,18,23,21,21,22,20,20,18]
["2020-10-01",{"$f":"VLOOKUP(J1640,'Control Panel'!$O$3:$S$47,5,FALSE)","v":"NW8"},null,null,null,null,null,null,null,"F84647",null,8888,33,29,29,29,29,29,26,25,22,23,21,28,28,26,23,25,24,22]
["2020-10-01",{"$f":"VLOOKUP(J1641,'Control Panel'!$O$3:$S$47,5,FALSE)","v":"NW8"},null,null,null,null,null,null,null,"F84656",null,9654,30,28,28,28,29,24,27,27,27,27,27,25,23,23,21,22,22,26]
["2020-10-01",{"$f":"VLOOKUP(J1642,'Control Panel'!$O$3:$S$47,5,FALSE)","v":"NW6"},null,null,null,null,null,null,null,"F84676",null,4095,13,11,11,10,12,12,8,7,7,7,7,14,13,12,11,13,10,7]
["2020-10-01",{"$f":"VLOOKUP(J1643,'Control Panel'!$O$3:$S$47,5,FALSE)","v":"NW3&4"},null,null,null,null,null,null,null,"F84682",null,10851,34,33,33,32,31,31,38,37,37,37,37,33,33,33,30,33,30,37]
["2020-10-01",{"$f":"VLOOKUP(J1644,'Control Panel'!$O$3:$S$47,5,FALSE)","v":"NW5"},null,null,null,null,null,null,null,"F84696",null,5502,16,14,14,14,15,7,25,25,25,25,25,16,15,15,14,15,15,25]
["2020-10-01",{"$f":"VLOOKUP(J1645,'Control Panel'!$O$3:$S$47,5,FALSE)","v":"NW7"},null,null,null,null,null,null,null,"F84698",null,9636,37,30,33,31,29,19,34,27,27,27,25,21,19,20,18,19,18,27]
["2020-10-01",{"$f":"VLOOKUP(J1646,'Control Panel'!$O$3:$S$47,5,FALSE)","v":"NW8"},null,null,null,null,null,null,null,"F84710",null,12087,31,26,26,25,25,17,37,36,33,33,32,28,27,27,21,27,23,33]
["2020-10-01",{"$f":"VLOOKUP(J1647,'Control Panel'!$O$3:$S$47,5,FALSE)","v":"NW6"},null,null,null,null,null,null,null,"F84714",null,14495,63,59,58,58,58,33,58,54,53,53,53,61,58,57,55,59,51,53]
["2020-10-01",{"$f":"VLOOKUP(J1648,'Control Panel'!$O$3:$S$47,5,FALSE)","v":"NW2"},null,null,null,null,null,null,null,"F84718",null,14618,41,37,37,36,36,24,35,32,32,33,33,32,30,29,28,29,27,32]
["2020-10-01",{"$f":"VLOOKUP(J1649,'Control Panel'!$O$3:$S$47,5,FALSE)","v":"NW3&4"},null,null,null,null,null,null,null,"F84731",null,2074,4,4,4,4,4,4,3,3,2,2,3,8,8,8,8,8,8,3]
["2020-10-01",{"$f":"VLOOKUP(J1650,'Control Panel'!$O$3:$S$47,5,FALSE)","v":"NW2"},null,null,null,null,null,null,null,"F84733",null,961,0,0,0,0,0,0,0,0,0,0,0,0,0,0,0,0,0,0]
["2020-10-01",{"$f":"VLOOKUP(J1651,'Control Panel'!$O$3:$S$47,5,FALSE)","v":"NW8"},null,null,null,null,null,null,null,"F84747",null,23762,90,78,78,75,79,52,95,91,87,88,88,70,65,64,61,63,62,88]
["2020-10-01",{"$f":"VLOOKUP(J1652,'Control Panel'!$O$3:$S$47,5,FALSE)","v":"NW1"},null,null,null,null,null,null,null,"Y00212",null,4304,11,9,10,10,10,5,6,6,6,6,6,11,11,10,8,10,9,6]
["2020-10-01",{"$f":"VLOOKUP(J1653,'Control Panel'!$O$3:$S$47,5,FALSE)","v":"NW6"},null,null,null,null,null,null,null,"Y03023",null,14402,51,42,43,42,37,38,57,52,50,50,50,49,43,43,38,42,37,50]
["2020-10-01",{"$f":"VLOOKUP(J1654,'Control Panel'!$O$3:$S$47,5,FALSE)","v":0},null,null,null,null,null,null,null,"total",null,{"$f":"SUM(L1619:L1653)","v":344805},{"$f":"SUM(M1619:M1653)","v":1063},938,942,927,916,701,1043,981,927,933,928,998,943,916,842,916,845,932]
["2020-11-01",{"$f":"VLOOKUP(J1655,'Control Panel'!$O$3:$S$47,5,FALSE)","v":{"$error":"#N/A"}},"Childhood Immunisations Q3",null,"Last Run:",null,"Population Count",362758,null,null,"Search","All Patients","(01) 12 MONTH COHORT","(01.01) DTaP/IPV/Hib 6in1","(01.02) Men B (1st and 2nd)","(01.03) PCV","(01.04) Rotavirus","(01.05) BCG","(02) 24 MONTH COHORT","(02.01) DTaP/IPV/Hib Combined","(02.02) MMR","(02.03) HiB/Men C","(02.04) PCV (Booster)","(03) 5 YEAR COHORT","(03.01) DTaP/IPV/Hib Combined","(03.02) MMR (Primary)","(03.03) DTaP/IPV (Booster)","(03.04) HiB/Men C","(03.05) MMR (Booster)","(02.05) Men B (Booster)"]
["2020-11-01",{"$f":"VLOOKUP(J1656,'Control Panel'!$O$3:$S$47,5,FALSE)","v":{"$error":"#N/A"}},null,null,"2020-12-02T14:06:00",null,"Males",187923,null,"Organisation Code"]
["2020-11-01",{"$f":"VLOOKUP(J1657,'Control Panel'!$O$3:$S$47,5,FALSE)","v":"NW2"},null,null,"Relative Date:",null,"Females",174835,null,"F84012",null,9292,25,24,24,24,22,23,28,25,25,25,25,30,30,28,29,28,28,25]
["2020-11-01",{"$f":"VLOOKUP(J1658,'Control Panel'!$O$3:$S$47,5,FALSE)","v":"NW1"},null,null,"2020-12-01",null,null,null,null,"F84016",null,11594,28,26,25,25,25,12,34,32,30,31,31,34,32,31,27,31,29,31]
["2020-11-01",{"$f":"VLOOKUP(J1659,'Control Panel'!$O$3:$S$47,5,FALSE)","v":"NW7"},null,null,null,null,null,null,null,"F84025",null,11472,32,30,30,29,29,21,33,31,30,30,30,33,29,29,28,29,29,30]
["2020-11-01",{"$f":"VLOOKUP(J1660,'Control Panel'!$O$3:$S$47,5,FALSE)","v":"NW5"},null,null,null,null,null,null,null,"F84030",null,3717,14,13,12,13,11,10,5,4,4,4,4,6,6,6,5,6,5,4]
["2020-11-01",{"$f":"VLOOKUP(J1661,'Control Panel'!$O$3:$S$47,5,FALSE)","v":"NW3&4"},null,null,null,null,null,null,null,"F84031",null,13480,26,24,24,23,23,14,47,43,40,41,42,47,43,41,37,40,38,41]
["2020-11-01",{"$f":"VLOOKUP(J1662,'Control Panel'!$O$3:$S$47,5,FALSE)","v":"NW5"},null,null,null,null,null,null,null,"F84034",null,13371,46,40,38,40,41,35,44,42,39,39,37,51,51,49,46,49,46,39]
["2020-11-01",{"$f":"VLOOKUP(J1663,'Control Panel'!$O$3:$S$47,5,FALSE)","v":"NW3&4"},null,null,null,null,null,null,null,"F84039",null,13589,41,36,36,37,36,25,46,45,43,42,43,39,37,36,37,37,36,44]
["2020-11-01",{"$f":"VLOOKUP(J1664,'Control Panel'!$O$3:$S$47,5,FALSE)","v":"NW5"},null,null,null,null,null,null,null,"F84044",null,7627,15,12,12,13,12,11,32,31,31,31,31,20,17,15,14,17,14,31]
["2020-11-01",{"$f":"VLOOKUP(J1665,'Control Panel'!$O$3:$S$47,5,FALSE)","v":"NW3&4"},null,null,null,null,null,null,null,"F84046",null,3484,13,13,13,12,13,9,14,14,13,13,13,15,15,15,13,14,13,13]
["2020-11-01",{"$f":"VLOOKUP(J1666,'Control Panel'!$O$3:$S$47,5,FALSE)","v":"NW1"},null,null,null,null,null,null,null,"F84051",null,5763,20,17,17,17,14,1,14,12,12,13,13,7,7,6,6,7,6,13]
["2020-11-01",{"$f":"VLOOKUP(J1667,'Control Panel'!$O$3:$S$47,5,FALSE)","v":"NW7"},null,null,null,null,null,null,null,"F84054",null,11345,51,44,45,44,37,35,38,34,30,30,30,34,32,29,29,32,29,30]
["2020-11-01",{"$f":"VLOOKUP(J1668,'Control Panel'!$O$3:$S$47,5,FALSE)","v":"NW5"},null,null,null,null,null,null,null,"F84055",null,3826,10,9,9,9,8,8,9,9,9,9,9,11,10,10,10,10,10,9]
["2020-11-01",{"$f":"VLOOKUP(J1669,'Control Panel'!$O$3:$S$47,5,FALSE)","v":"NW7"},null,null,null,null,null,null,null,"F84062",null,15181,65,62,62,56,60,46,42,41,35,35,35,52,47,42,40,44,40,35]
["2020-11-01",{"$f":"VLOOKUP(J1670,'Control Panel'!$O$3:$S$47,5,FALSE)","v":"NW3&4"},null,null,null,null,null,null,null,"F84079",null,11212,29,21,22,22,27,13,32,30,29,29,29,26,26,26,24,25,25,29]
["2020-11-01",{"$f":"VLOOKUP(J1671,'Control Panel'!$O$3:$S$47,5,FALSE)","v":"NW2"},null,null,null,null,null,null,null,"F84081",null,13994,23,20,20,21,18,21,31,30,28,29,29,36,33,30,30,31,29,29]
["2020-11-01",{"$f":"VLOOKUP(J1672,'Control Panel'!$O$3:$S$47,5,FALSE)","v":"NW1"},null,null,null,null,null,null,null,"F84083",null,8439,22,17,17,17,18,16,26,25,21,20,21,22,20,20,19,19,20,21]
["2020-11-01",{"$f":"VLOOKUP(J1673,'Control Panel'!$O$3:$S$47,5,FALSE)","v":"NW3&4"},null,null,null,null,null,null,null,"F84087",null,9494,31,25,24,25,23,26,38,34,31,32,32,38,37,37,26,36,26,31]
["2020-11-01",{"$f":"VLOOKUP(J1674,'Control Panel'!$O$3:$S$47,5,FALSE)","v":"NW3&4"},null,null,null,null,null,null,null,"F84114",null,6650,18,16,17,16,17,15,14,14,14,14,14,23,21,21,19,19,19,14]
["2020-11-01",{"$f":"VLOOKUP(J1675,'Control Panel'!$O$3:$S$47,5,FALSE)","v":"NW6"},null,null,null,null,null,null,null,"F84118",null,5585,11,11,11,11,11,8,10,8,8,8,8,10,10,10,8,10,8,8]
["2020-11-01",{"$f":"VLOOKUP(J1676,'Control Panel'!$O$3:$S$47,5,FALSE)","v":"NW6"},null,null,null,null,null,null,null,"F84122",null,15963,58,53,53,52,51,33,37,34,32,32,31,49,47,48,39,48,40,32]
["2020-11-01",{"$f":"VLOOKUP(J1677,'Control Panel'!$O$3:$S$47,5,FALSE)","v":"NW1"},null,null,null,null,null,null,null,"F84123",null,15168,29,24,24,24,23,21,21,21,18,18,18,24,21,21,22,20,21,18]
["2020-11-01",{"$f":"VLOOKUP(J1678,'Control Panel'!$O$3:$S$47,5,FALSE)","v":"NW8"},null,null,null,null,null,null,null,"F84647",null,8817,33,29,29,29,29,29,25,24,21,22,20,28,28,26,23,25,24,21]
["2020-11-01",{"$f":"VLOOKUP(J1679,'Control Panel'!$O$3:$S$47,5,FALSE)","v":"NW8"},null,null,null,null,null,null,null,"F84656",null,9684,30,28,28,28,29,24,27,27,27,27,27,25,23,23,21,22,22,26]
["2020-11-01",{"$f":"VLOOKUP(J1680,'Control Panel'!$O$3:$S$47,5,FALSE)","v":"NW6"},null,null,null,null,null,null,null,"F84676",null,4092,13,11,11,10,12,12,8,7,7,7,7,14,13,12,11,13,10,7]
["2020-11-01",{"$f":"VLOOKUP(J1681,'Control Panel'!$O$3:$S$47,5,FALSE)","v":"NW3&4"},null,null,null,null,null,null,null,"F84682",null,10884,32,31,32,31,29,29,37,36,36,36,36,33,33,33,30,33,30,36]
["2020-11-01",{"$f":"VLOOKUP(J1682,'Control Panel'!$O$3:$S$47,5,FALSE)","v":"NW5"},null,null,null,null,null,null,null,"F84696",null,5586,16,14,14,14,15,7,27,26,26,26,26,16,15,15,14,15,15,26]
["2020-11-01",{"$f":"VLOOKUP(J1683,'Control Panel'!$O$3:$S$47,5,FALSE)","v":"NW7"},null,null,null,null,null,null,null,"F84698",null,9674,37,29,32,30,28,19,33,27,27,27,25,21,19,20,18,19,18,27]
["2020-11-01",{"$f":"VLOOKUP(J1684,'Control Panel'!$O$3:$S$47,5,FALSE)","v":"NW8"},null,null,null,null,null,null,null,"F84710",null,12151,31,26,26,25,25,17,36,35,32,32,31,30,28,28,22,28,24,32]
["2020-11-01",{"$f":"VLOOKUP(J1685,'Control Panel'!$O$3:$S$47,5,FALSE)","v":"NW6"},null,null,null,null,null,null,null,"F84714",null,14624,61,57,56,56,56,33,58,54,53,53,53,61,58,57,55,59,51,53]
["2020-11-01",{"$f":"VLOOKUP(J1686,'Control Panel'!$O$3:$S$47,5,FALSE)","v":"NW2"},null,null,null,null,null,null,null,"F84718",null,14645,40,35,35,34,34,23,34,31,31,32,32,32,30,29,28,29,27,31]
["2020-11-01",{"$f":"VLOOKUP(J1687,'Control Panel'!$O$3:$S$47,5,FALSE)","v":"NW3&4"},null,null,null,null,null,null,null,"F84731",null,2086,5,5,5,5,5,4,3,3,2,2,3,8,8,8,8,8,8,3]
["2020-11-01",{"$f":"VLOOKUP(J1688,'Control Panel'!$O$3:$S$47,5,FALSE)","v":"NW2"},null,null,null,null,null,null,null,"F84733",null,961,0,0,0,0,0,0,0,0,0,0,0,0,0,0,0,0,0,0]
["2020-11-01",{"$f":"VLOOKUP(J1689,'Control Panel'!$O$3:$S$47,5,FALSE)","v":"NW8"},null,null,null,null,null,null,null,"F84747",null,23815,90,80,80,77,79,56,94,90,86,87,87,70,65,64,61,63,62,87]
["2020-11-01",{"$f":"VLOOKUP(J1690,'Control Panel'!$O$3:$S$47,5,FALSE)","v":"NW1"},null,null,null,null,null,null,null,"Y00212",null,4296,11,9,10,10,10,5,6,6,6,6,6,11,11,10,8,10,9,6]
["2020-11-01",{"$f":"VLOOKUP(J1691,'Control Panel'!$O$3:$S$47,5,FALSE)","v":"NW6"},null,null,null,null,null,null,null,"Y03023",null,14529,49,41,41,41,38,39,57,53,51,51,51,49,43,43,38,42,37,51]
["2020-11-01",{"$f":"VLOOKUP(J1692,'Control Panel'!$O$3:$S$47,5,FALSE)","v":0},null,null,null,null,null,null,null,"total",null,346090,1055,932,934,920,908,700,1040,978,927,933,929,1005,945,918,845,918,848,933]
["2020-12-01",{"$f":"VLOOKUP(J1693,'Control Panel'!$O$3:$S$47,5,FALSE)","v":{"$error":"#N/A"}},"Childhood Immunisations Q3",null,"Last Run:",null,"Population Count",363863,null,null,"Search","All Patients","(01) 12 MONTH COHORT","(01.01) DTaP/IPV/Hib 6in1","(01.02) Men B (1st and 2nd)","(01.03) PCV","(01.04) Rotavirus","(01.05) BCG","(02) 24 MONTH COHORT","(02.01) DTaP/IPV/Hib Combined","(02.02) MMR","(02.03) HiB/Men C","(02.04) PCV (Booster)","(03) 5 YEAR COHORT","(03.01) DTaP/IPV/Hib Combined","(03.02) MMR (Primary)","(03.03) DTaP/IPV (Booster)","(03.04) HiB/Men C","(03.05) MMR (Booster)","(02.05) Men B (Booster)"]
["2020-12-01",{"$f":"VLOOKUP(J1694,'Control Panel'!$O$3:$S$47,5,FALSE)","v":{"$error":"#N/A"}},null,null,"2021-01-06T09:54:00",null,"Males",188594,null,"Organisation Code"]
["2020-12-01",{"$f":"VLOOKUP(J1695,'Control Panel'!$O$3:$S$47,5,FALSE)","v":"NW2"},null,null,"Relative Date:",null,"Females",175269,null,"F84012",null,9330,25,24,24,24,22,23,29,25,25,25,25,30,30,28,29,28,28,25]
["2020-12-01",{"$f":"VLOOKUP(J1696,'Control Panel'!$O$3:$S$47,5,FALSE)","v":"NW1"},null,null,"2021-01-01",null,null,null,null,"F84016",null,11504,27,25,24,24,24,12,35,32,30,31,31,34,32,31,27,31,29,31]
["2020-12-01",{"$f":"VLOOKUP(J1697,'Control Panel'!$O$3:$S$47,5,FALSE)","v":"NW7"},null,null,null,null,null,null,null,"F84025",null,11469,32,30,30,29,29,21,33,31,30,30,30,31,29,29,28,29,29,30]
["2020-12-01",{"$f":"VLOOKUP(J1698,'Control Panel'!$O$3:$S$47,5,FALSE)","v":"NW5"},null,null,null,null,null,null,null,"F84030",null,3709,14,13,12,13,11,10,5,4,4,4,4,6,6,6,5,6,5,4]
["2020-12-01",{"$f":"VLOOKUP(J1699,'Control Panel'!$O$3:$S$47,5,FALSE)","v":"NW3&4"},null,null,null,null,null,null,null,"F84031",null,13591,27,24,24,23,23,14,47,44,40,41,42,47,43,41,37,40,38,41]
["2020-12-01",{"$f":"VLOOKUP(J1700,'Control Panel'!$O$3:$S$47,5,FALSE)","v":"NW5"},null,null,null,null,null,null,null,"F84034",null,13413,45,39,38,40,40,35,44,42,39,39,37,51,51,49,47,49,47,39]
["2020-12-01",{"$f":"VLOOKUP(J1701,'Control Panel'!$O$3:$S$47,5,FALSE)","v":"NW3&4"},null,null,null,null,null,null,null,"F84039",null,13770,40,37,35,38,35,27,46,45,43,42,43,41,37,37,38,38,37,44]
["2020-12-01",{"$f":"VLOOKUP(J1702,'Control Panel'!$O$3:$S$47,5,FALSE)","v":"NW5"},null,null,null,null,null,null,null,"F84044",null,7675,17,13,13,14,13,11,32,31,31,31,31,20,17,15,14,17,14,31]
["2020-12-01",{"$f":"VLOOKUP(J1703,'Control Panel'!$O$3:$S$47,5,FALSE)","v":"NW3&4"},null,null,null,null,null,null,null,"F84046",null,3489,13,13,13,12,13,9,14,14,13,13,13,15,15,15,13,14,13,13]
["2020-12-01",{"$f":"VLOOKUP(J1704,'Control Panel'!$O$3:$S$47,5,FALSE)","v":"NW1"},null,null,null,null,null,null,null,"F84051",null,5807,20,17,17,17,14,1,14,12,12,13,13,7,7,6,6,7,6,13]
["2020-12-01",{"$f":"VLOOKUP(J1705,'Control Panel'!$O$3:$S$47,5,FALSE)","v":"NW7"},null,null,null,null,null,null,null,"F84054",null,11357,50,43,44,43,36,34,40,35,31,31,31,35,32,29,29,32,29,31]
["2020-12-01",{"$f":"VLOOKUP(J1706,'Control Panel'!$O$3:$S$47,5,FALSE)","v":"NW5"},null,null,null,null,null,null,null,"F84055",null,3839,10,9,9,9,8,8,9,9,9,9,9,11,10,10,10,10,10,9]
["2020-12-01",{"$f":"VLOOKUP(J1707,'Control Panel'!$O$3:$S$47,5,FALSE)","v":"NW7"},null,null,null,null,null,null,null,"F84062",null,15196,65,62,62,56,60,46,43,42,36,36,36,52,47,42,39,43,39,36]
["2020-12-01",{"$f":"VLOOKUP(J1708,'Control Panel'!$O$3:$S$47,5,FALSE)","v":"NW3&4"},null,null,null,null,null,null,null,"F84079",null,11237,29,21,22,22,27,13,32,30,29,29,29,24,24,24,22,23,23,29]
["2020-12-01",{"$f":"VLOOKUP(J1709,'Control Panel'!$O$3:$S$47,5,FALSE)","v":"NW2"},null,null,null,null,null,null,null,"F84081",null,13963,23,20,20,21,18,21,31,30,28,29,29,36,33,30,30,31,29,29]
["2020-12-01",{"$f":"VLOOKUP(J1710,'Control Panel'!$O$3:$S$47,5,FALSE)","v":"NW1"},null,null,null,null,null,null,null,"F84083",null,8421,21,17,17,17,18,16,25,24,20,19,20,22,20,20,19,19,20,20]
["2020-12-01",{"$f":"VLOOKUP(J1711,'Control Panel'!$O$3:$S$47,5,FALSE)","v":"NW3&4"},null,null,null,null,null,null,null,"F84087",null,9498,31,25,24,25,23,26,38,34,31,32,32,39,37,37,26,36,26,31]
["2020-12-01",{"$f":"VLOOKUP(J1712,'Control Panel'!$O$3:$S$47,5,FALSE)","v":"NW3&4"},null,null,null,null,null,null,null,"F84114",null,6677,18,16,17,16,17,15,14,14,14,14,14,25,21,21,19,19,19,14]
["2020-12-01",{"$f":"VLOOKUP(J1713,'Control Panel'!$O$3:$S$47,5,FALSE)","v":"NW6"},null,null,null,null,null,null,null,"F84118",null,5578,11,11,11,11,11,8,10,8,8,8,8,9,9,9,8,9,8,8]
["2020-12-01",{"$f":"VLOOKUP(J1714,'Control Panel'!$O$3:$S$47,5,FALSE)","v":"NW6"},null,null,null,null,null,null,null,"F84122",null,16101,59,53,53,52,51,33,37,33,31,31,30,50,46,47,39,47,40,31]
["2020-12-01",{"$f":"VLOOKUP(J1715,'Control Panel'!$O$3:$S$47,5,FALSE)","v":"NW1"},null,null,null,null,null,null,null,"F84123",null,15136,29,23,24,23,23,20,21,21,18,18,18,24,21,21,22,20,21,18]
["2020-12-01",{"$f":"VLOOKUP(J1716,'Control Panel'!$O$3:$S$47,5,FALSE)","v":"NW8"},null,null,null,null,null,null,null,"F84647",null,8861,33,29,29,29,29,28,25,24,21,22,20,28,28,26,23,25,24,21]
["2020-12-01",{"$f":"VLOOKUP(J1717,'Control Panel'!$O$3:$S$47,5,FALSE)","v":"NW8"},null,null,null,null,null,null,null,"F84656",null,9696,29,28,28,28,28,24,27,27,27,27,27,25,23,23,21,22,22,26]
["2020-12-01",{"$f":"VLOOKUP(J1718,'Control Panel'!$O$3:$S$47,5,FALSE)","v":"NW6"},null,null,null,null,null,null,null,"F84676",null,4086,12,11,11,10,12,11,8,7,7,7,7,14,13,12,11,13,10,7]
["2020-12-01",{"$f":"VLOOKUP(J1719,'Control Panel'!$O$3:$S$47,5,FALSE)","v":"NW3&4"},null,null,null,null,null,null,null,"F84682",null,10959,33,31,32,31,29,29,37,36,36,36,36,33,33,33,30,33,30,36]
["2020-12-01",{"$f":"VLOOKUP(J1720,'Control Panel'!$O$3:$S$47,5,FALSE)","v":"NW5"},null,null,null,null,null,null,null,"F84696",null,5515,15,13,13,13,14,6,27,26,26,26,26,15,14,14,13,14,14,26]
["2020-12-01",{"$f":"VLOOKUP(J1721,'Control Panel'!$O$3:$S$47,5,FALSE)","v":"NW7"},null,null,null,null,null,null,null,"F84698",null,9831,37,29,32,30,28,19,35,28,28,28,26,21,19,20,18,19,18,28]
["2020-12-01",{"$f":"VLOOKUP(J1722,'Control Panel'!$O$3:$S$47,5,FALSE)","v":"NW8"},null,null,null,null,null,null,null,"F84710",null,12239,31,26,26,25,25,17,36,35,32,32,31,31,28,28,22,28,24,32]
["2020-12-01",{"$f":"VLOOKUP(J1723,'Control Panel'!$O$3:$S$47,5,FALSE)","v":"NW6"},null,null,null,null,null,null,null,"F84714",null,14725,62,57,56,56,56,32,58,54,53,53,53,62,58,57,55,59,51,53]
["2020-12-01",{"$f":"VLOOKUP(J1724,'Control Panel'!$O$3:$S$47,5,FALSE)","v":"NW2"},null,null,null,null,null,null,null,"F84718",null,14733,40,35,35,34,34,23,34,32,32,32,33,31,29,28,27,28,26,31]
["2020-12-01",{"$f":"VLOOKUP(J1725,'Control Panel'!$O$3:$S$47,5,FALSE)","v":"NW3&4"},null,null,null,null,null,null,null,"F84731",null,2086,5,5,5,5,5,4,3,3,2,2,3,8,8,8,8,8,8,3]
["2020-12-01",{"$f":"VLOOKUP(J1726,'Control Panel'!$O$3:$S$47,5,FALSE)","v":"NW2"},null,null,null,null,null,null,null,"F84733",null,953,0,0,0,0,0,0,0,0,0,0,0,0,0,0,0,0,0,0]
["2020-12-01",{"$f":"VLOOKUP(J1727,'Control Panel'!$O$3:$S$47,5,FALSE)","v":"NW8"},null,null,null,null,null,null,null,"F84747",null,24082,90,80,80,77,79,57,95,91,88,88,88,71,66,65,62,64,63,87]
["2020-12-01",{"$f":"VLOOKUP(J1728,'Control Panel'!$O$3:$S$47,5,FALSE)","v":"NW1"},null,null,null,null,null,null,null,"Y00212",null,4202,11,9,10,10,10,5,6,6,6,6,6,10,10,9,7,9,8,6]
["2020-12-01",{"$f":"VLOOKUP(J1729,'Control Panel'!$O$3:$S$47,5,FALSE)","v":"NW6"},null,null,null,null,null,null,null,"Y03023",null,14485,49,41,41,41,38,39,56,53,51,51,51,50,43,43,38,42,37,51]
["2020-12-01",{"$f":"VLOOKUP(J1730,'Control Panel'!$O$3:$S$47,5,FALSE)","v":0},null,null,null,null,null,null,null,"total",null,347213,1053,929,931,918,903,697,1046,982,931,935,932,1008,939,913,842,912,845,934]
["2021-01-01",{"$f":"VLOOKUP(J1731,'Control Panel'!$O$3:$S$47,5,FALSE)","v":{"$error":"#N/A"}},"Childhood Immunisations Q4",null,"Last Run:",null,"Population Count",363403,null,null,"Search","All Patients","(01) 12 MONTH COHORT","(01.01) DTaP/IPV/Hib 6in1","(01.02) Men B (1st and 2nd)","(01.03) PCV","(01.04) Rotavirus","(01.05) BCG","(02) 24 MONTH COHORT","(02.01) DTaP/IPV/Hib Combined","(02.02) MMR","(02.03) HiB/Men C","(02.04) PCV (Booster)","(03) 5 YEAR COHORT","(03.01) DTaP/IPV/Hib Combined","(03.02) MMR (Primary)","(03.03) DTaP/IPV (Booster)","(03.04) HiB/Men C","(03.05) MMR (Booster)","(02.05) Men B (Booster)"]
["2021-01-01",{"$f":"VLOOKUP(J1732,'Control Panel'!$O$3:$S$47,5,FALSE)","v":{"$error":"#N/A"}},null,null,"2021-02-02T11:06:00",null,"Males",188728,null,"Organisation Code"]
["2021-01-01",{"$f":"VLOOKUP(J1733,'Control Panel'!$O$3:$S$47,5,FALSE)","v":"NW2"},null,null,"Relative Date:",null,"Females",174675,null,"F84012",null,9345,30,25,25,26,21,25,24,23,23,23,23,25,22,22,22,21,22,23]
["2021-01-01",{"$f":"VLOOKUP(J1734,'Control Panel'!$O$3:$S$47,5,FALSE)","v":"NW1"},null,null,"2021-02-01",null,null,null,null,"F84016",null,11534,28,23,23,23,23,19,25,24,22,23,23,23,21,20,18,21,18,23]
["2021-01-01",{"$f":"VLOOKUP(J1735,'Control Panel'!$O$3:$S$47,5,FALSE)","v":"NW7"},null,null,null,null,null,null,null,"F84025",null,11472,36,28,28,29,28,28,38,34,30,32,32,42,41,40,38,41,41,32]
["2021-01-01",{"$f":"VLOOKUP(J1736,'Control Panel'!$O$3:$S$47,5,FALSE)","v":"NW5"},null,null,null,null,null,null,null,"F84030",null,3704,15,13,13,14,15,7,12,11,9,9,9,12,12,9,8,10,8,9]
["2021-01-01",{"$f":"VLOOKUP(J1737,'Control Panel'!$O$3:$S$47,5,FALSE)","v":"NW3&4"},null,null,null,null,null,null,null,"F84031",null,13754,41,38,37,38,36,20,44,41,38,39,39,35,33,29,25,31,25,39]
["2021-01-01",{"$f":"VLOOKUP(J1738,'Control Panel'!$O$3:$S$47,5,FALSE)","v":"NW5"},null,null,null,null,null,null,null,"F84034",null,13382,43,37,38,38,38,26,43,41,37,38,38,45,42,39,37,40,38,38]
["2021-01-01",{"$f":"VLOOKUP(J1739,'Control Panel'!$O$3:$S$47,5,FALSE)","v":"NW3&4"},null,null,null,null,null,null,null,"F84039",null,14015,46,41,41,42,42,31,33,30,28,27,28,30,28,28,27,27,28,27]
["2021-01-01",{"$f":"VLOOKUP(J1740,'Control Panel'!$O$3:$S$47,5,FALSE)","v":"NW5"},null,null,null,null,null,null,null,"F84044",null,7741,22,19,20,21,18,16,12,12,10,10,10,23,18,16,16,18,14,10]
["2021-01-01",{"$f":"VLOOKUP(J1741,'Control Panel'!$O$3:$S$47,5,FALSE)","v":"NW3&4"},null,null,null,null,null,null,null,"F84046",null,3468,8,7,7,7,6,4,8,8,8,8,7,9,8,8,8,8,8,7]
["2021-01-01",{"$f":"VLOOKUP(J1742,'Control Panel'!$O$3:$S$47,5,FALSE)","v":"NW1"},null,null,null,null,null,null,null,"F84051",null,5836,13,11,11,12,10,1,6,6,6,6,6,8,8,7,7,7,7,6]
["2021-01-01",{"$f":"VLOOKUP(J1743,'Control Panel'!$O$3:$S$47,5,FALSE)","v":"NW7"},null,null,null,null,null,null,null,"F84054",null,11356,33,29,28,30,24,22,41,35,29,29,29,29,28,26,20,26,20,29]
["2021-01-01",{"$f":"VLOOKUP(J1744,'Control Panel'!$O$3:$S$47,5,FALSE)","v":"NW5"},null,null,null,null,null,null,null,"F84055",null,3822,4,4,4,4,4,3,10,9,9,9,9,9,9,9,9,9,9,9]
["2021-01-01",{"$f":"VLOOKUP(J1745,'Control Panel'!$O$3:$S$47,5,FALSE)","v":"NW7"},null,null,null,null,null,null,null,"F84062",null,15124,46,40,41,40,39,25,48,46,37,39,40,53,48,47,43,47,42,41]
["2021-01-01",{"$f":"VLOOKUP(J1746,'Control Panel'!$O$3:$S$47,5,FALSE)","v":"NW3&4"},null,null,null,null,null,null,null,"F84079",null,11329,34,30,30,30,29,29,26,25,21,21,21,16,14,14,11,14,11,21]
["2021-01-01",{"$f":"VLOOKUP(J1747,'Control Panel'!$O$3:$S$47,5,FALSE)","v":"NW2"},null,null,null,null,null,null,null,"F84081",null,13912,28,25,25,25,25,24,33,29,25,25,25,22,21,20,19,20,18,25]
["2021-01-01",{"$f":"VLOOKUP(J1748,'Control Panel'!$O$3:$S$47,5,FALSE)","v":"NW1"},null,null,null,null,null,null,null,"F84083",null,8456,21,21,21,21,21,12,20,19,15,15,15,23,21,20,14,21,17,15]
["2021-01-01",{"$f":"VLOOKUP(J1749,'Control Panel'!$O$3:$S$47,5,FALSE)","v":"NW3&4"},null,null,null,null,null,null,null,"F84087",null,9570,29,26,26,26,25,24,34,33,31,31,31,33,32,31,24,29,27,31]
["2021-01-01",{"$f":"VLOOKUP(J1750,'Control Panel'!$O$3:$S$47,5,FALSE)","v":"NW3&4"},null,null,null,null,null,null,null,"F84114",null,6706,20,18,18,19,18,18,13,11,10,10,10,14,12,12,12,12,12,10]
["2021-01-01",{"$f":"VLOOKUP(J1751,'Control Panel'!$O$3:$S$47,5,FALSE)","v":"NW6"},null,null,null,null,null,null,null,"F84118",null,5605,5,5,5,5,5,4,5,5,4,5,5,11,11,11,10,11,10,5]
["2021-01-01",{"$f":"VLOOKUP(J1752,'Control Panel'!$O$3:$S$47,5,FALSE)","v":"NW6"},null,null,null,null,null,null,null,"F84122",null,16010,39,36,36,39,36,29,45,43,39,40,40,45,43,42,42,41,41,39]
["2021-01-01",{"$f":"VLOOKUP(J1753,'Control Panel'!$O$3:$S$47,5,FALSE)","v":"NW1"},null,null,null,null,null,null,null,"F84123",null,15306,30,25,26,27,23,18,25,22,21,22,22,20,19,19,18,19,18,22]
["2021-01-01",{"$f":"VLOOKUP(J1754,'Control Panel'!$O$3:$S$47,5,FALSE)","v":"NW8"},null,null,null,null,null,null,null,"F84647",null,8880,18,17,16,17,16,15,19,19,17,17,16,27,26,25,22,25,22,17]
["2021-01-01",{"$f":"VLOOKUP(J1755,'Control Panel'!$O$3:$S$47,5,FALSE)","v":"NW8"},null,null,null,null,null,null,null,"F84656",null,9621,24,22,22,23,22,22,27,25,23,23,23,22,21,21,17,21,17,23]
["2021-01-01",{"$f":"VLOOKUP(J1756,'Control Panel'!$O$3:$S$47,5,FALSE)","v":"NW6"},null,null,null,null,null,null,null,"F84676",null,4057,11,10,10,11,10,9,7,7,6,6,6,7,7,7,7,7,7,6]
["2021-01-01",{"$f":"VLOOKUP(J1757,'Control Panel'!$O$3:$S$47,5,FALSE)","v":"NW3&4"},null,null,null,null,null,null,null,"F84682",null,11023,42,41,41,41,38,33,40,39,33,33,33,34,34,34,27,33,29,34]
["2021-01-01",{"$f":"VLOOKUP(J1758,'Control Panel'!$O$3:$S$47,5,FALSE)","v":"NW5"},null,null,null,null,null,null,null,"F84696",null,5526,13,13,13,13,12,10,23,21,20,20,20,11,10,11,11,11,11,20]
["2021-01-01",{"$f":"VLOOKUP(J1759,'Control Panel'!$O$3:$S$47,5,FALSE)","v":"NW7"},null,null,null,null,null,null,null,"F84698",null,9929,40,36,36,36,36,22,32,31,28,30,30,46,41,36,32,36,32,30]
["2021-01-01",{"$f":"VLOOKUP(J1760,'Control Panel'!$O$3:$S$47,5,FALSE)","v":"NW8"},null,null,null,null,null,null,null,"F84710",null,12354,35,28,29,31,30,23,47,41,36,36,36,43,39,38,28,37,27,34]
["2021-01-01",{"$f":"VLOOKUP(J1761,'Control Panel'!$O$3:$S$47,5,FALSE)","v":"NW6"},null,null,null,null,null,null,null,"F84714",null,14836,48,43,43,46,45,34,47,44,40,41,41,48,45,45,44,45,44,40]
["2021-01-01",{"$f":"VLOOKUP(J1762,'Control Panel'!$O$3:$S$47,5,FALSE)","v":"NW2"},null,null,null,null,null,null,null,"F84718",null,14603,36,33,33,33,32,13,33,31,30,30,30,30,29,29,27,29,27,31]
["2021-01-01",{"$f":"VLOOKUP(J1763,'Control Panel'!$O$3:$S$47,5,FALSE)","v":"NW3&4"},null,null,null,null,null,null,null,"F84731",null,2077,4,4,4,4,4,4,5,5,5,5,5,2,2,2,2,2,2,5]
["2021-01-01",{"$f":"VLOOKUP(J1764,'Control Panel'!$O$3:$S$47,5,FALSE)","v":"NW2"},null,null,null,null,null,null,null,"F84733",null,940,0,0,0,0,0,0,0,0,0,0,0,0,0,0,0,0,0,0]
["2021-01-01",{"$f":"VLOOKUP(J1765,'Control Panel'!$O$3:$S$47,5,FALSE)","v":"NW8"},null,null,null,null,null,null,null,"F84747",null,24086,97,87,87,92,84,63,66,64,63,63,62,60,56,55,50,56,53,63]
["2021-01-01",{"$f":"VLOOKUP(J1766,'Control Panel'!$O$3:$S$47,5,FALSE)","v":"NW1"},null,null,null,null,null,null,null,"Y00212",null,4147,10,8,8,10,9,6,12,10,8,7,7,7,7,7,6,7,6,7]
["2021-01-01",{"$f":"VLOOKUP(J1767,'Control Panel'!$O$3:$S$47,5,FALSE)","v":"NW6"},null,null,null,null,null,null,null,"Y03023",null,14574,61,54,54,54,52,44,56,52,47,47,47,45,43,42,38,42,38,47]
["2021-01-01",{"$f":"VLOOKUP(J1768,'Control Panel'!$O$3:$S$47,5,FALSE)","v":0},null,null,null,null,null,null,null,"total",null,{"$f":"SUM(L1733:L1767)","v":348100},{"$f":"SUM(M1733:M1767)","v":1010},897,899,927,876,683,959,896,808,819,818,909,851,821,739,824,749,818]
["2021-02-01",{"$f":"VLOOKUP(J1769,'Control Panel'!$O$3:$S$47,5,FALSE)","v":{"$error":"#N/A"}},"Childhood Immunisations Q4",null,"Last Run:",null,"Population Count",365126,null,null,"Search","All Patients","(01) 12 MONTH COHORT","(01.01) DTaP/IPV/Hib 6in1","(01.02) Men B (1st and 2nd)","(01.03) PCV","(01.04) Rotavirus","(01.05) BCG","(02) 24 MONTH COHORT","(02.01) DTaP/IPV/Hib Combined","(02.02) MMR","(02.03) HiB/Men C","(02.04) PCV (Booster)","(03) 5 YEAR COHORT","(03.01) DTaP/IPV/Hib Combined","(03.02) MMR (Primary)","(03.03) DTaP/IPV (Booster)","(03.04) HiB/Men C","(03.05) MMR (Booster)","(02.05) Men B (Booster)"]
["2021-02-01",{"$f":"VLOOKUP(J1770,'Control Panel'!$O$3:$S$47,5,FALSE)","v":{"$error":"#N/A"}},null,null,"2021-03-02T13:42:00",null,"Males",189967,null,"Organisation Code"]
["2021-02-01",{"$f":"VLOOKUP(J1771,'Control Panel'!$O$3:$S$47,5,FALSE)","v":"NW2"},null,null,"Relative Date:",null,"Females",175159,null,"F84012",null,9342,30,25,25,26,21,26,23,22,22,22,22,25,22,22,22,21,22,22]
["2021-02-01",{"$f":"VLOOKUP(J1772,'Control Panel'!$O$3:$S$47,5,FALSE)","v":"NW1"},null,null,"2021-03-01",null,null,null,null,"F84016",null,11557,29,23,23,22,23,18,26,25,23,24,24,24,21,20,18,21,18,24]
["2021-02-01",{"$f":"VLOOKUP(J1773,'Control Panel'!$O$3:$S$47,5,FALSE)","v":"NW7"},null,null,null,null,null,null,null,"F84025",null,11500,36,28,28,30,28,28,38,35,31,33,32,43,43,41,39,42,42,33]
["2021-02-01",{"$f":"VLOOKUP(J1774,'Control Panel'!$O$3:$S$47,5,FALSE)","v":"NW5"},null,null,null,null,null,null,null,"F84030",null,3713,15,13,13,14,15,7,12,11,10,10,10,12,12,9,8,10,8,10]
["2021-02-01",{"$f":"VLOOKUP(J1775,'Control Panel'!$O$3:$S$47,5,FALSE)","v":"NW3&4"},null,null,null,null,null,null,null,"F84031",null,13866,40,37,36,37,35,20,43,40,37,38,38,31,30,26,23,27,23,38]
["2021-02-01",{"$f":"VLOOKUP(J1776,'Control Panel'!$O$3:$S$47,5,FALSE)","v":"NW5"},null,null,null,null,null,null,null,"F84034",null,13366,43,37,38,38,38,27,44,41,37,38,38,44,41,38,36,39,37,38]
["2021-02-01",{"$f":"VLOOKUP(J1777,'Control Panel'!$O$3:$S$47,5,FALSE)","v":"NW3&4"},null,null,null,null,null,null,null,"F84039",null,14363,46,41,41,42,42,32,33,30,28,27,28,31,28,28,27,27,28,27]
["2021-02-01",{"$f":"VLOOKUP(J1778,'Control Panel'!$O$3:$S$47,5,FALSE)","v":"NW5"},null,null,null,null,null,null,null,"F84044",null,7800,22,19,20,21,18,16,12,12,10,10,10,23,18,16,16,18,14,10]
["2021-02-01",{"$f":"VLOOKUP(J1779,'Control Panel'!$O$3:$S$47,5,FALSE)","v":"NW3&4"},null,null,null,null,null,null,null,"F84046",null,3468,8,7,7,7,6,4,8,8,8,8,7,9,8,8,8,8,8,7]
["2021-02-01",{"$f":"VLOOKUP(J1780,'Control Panel'!$O$3:$S$47,5,FALSE)","v":"NW1"},null,null,null,null,null,null,null,"F84051",null,6046,13,11,11,12,10,1,6,6,6,6,6,8,8,7,7,7,7,6]
["2021-02-01",{"$f":"VLOOKUP(J1781,'Control Panel'!$O$3:$S$47,5,FALSE)","v":"NW7"},null,null,null,null,null,null,null,"F84054",null,11383,33,29,28,30,24,22,39,34,28,28,28,29,28,26,20,26,20,28]
["2021-02-01",{"$f":"VLOOKUP(J1782,'Control Panel'!$O$3:$S$47,5,FALSE)","v":"NW5"},null,null,null,null,null,null,null,"F84055",null,3888,4,4,4,4,4,3,10,9,9,9,9,9,9,9,9,9,9,9]
["2021-02-01",{"$f":"VLOOKUP(J1783,'Control Panel'!$O$3:$S$47,5,FALSE)","v":"NW7"},null,null,null,null,null,null,null,"F84062",null,15111,48,42,42,42,39,27,49,47,38,40,41,54,49,48,44,48,43,42]
["2021-02-01",{"$f":"VLOOKUP(J1784,'Control Panel'!$O$3:$S$47,5,FALSE)","v":"NW3&4"},null,null,null,null,null,null,null,"F84079",null,11334,34,29,29,29,28,28,26,25,21,21,21,16,14,14,11,14,11,21]
["2021-02-01",{"$f":"VLOOKUP(J1785,'Control Panel'!$O$3:$S$47,5,FALSE)","v":"NW2"},null,null,null,null,null,null,null,"F84081",null,13848,28,25,25,25,25,24,33,29,25,25,25,22,20,19,19,19,18,25]
["2021-02-01",{"$f":"VLOOKUP(J1786,'Control Panel'!$O$3:$S$47,5,FALSE)","v":"NW1"},null,null,null,null,null,null,null,"F84083",null,8446,21,21,21,21,21,12,20,19,15,15,15,23,21,20,14,21,17,15]
["2021-02-01",{"$f":"VLOOKUP(J1787,'Control Panel'!$O$3:$S$47,5,FALSE)","v":"NW3&4"},null,null,null,null,null,null,null,"F84087",null,9583,29,26,26,26,25,24,32,31,30,30,30,33,32,31,25,29,28,30]
["2021-02-01",{"$f":"VLOOKUP(J1788,'Control Panel'!$O$3:$S$47,5,FALSE)","v":"NW3&4"},null,null,null,null,null,null,null,"F84114",null,6694,20,18,18,19,18,18,13,11,10,10,10,14,12,12,12,12,12,10]
["2021-02-01",{"$f":"VLOOKUP(J1789,'Control Panel'!$O$3:$S$47,5,FALSE)","v":"NW6"},null,null,null,null,null,null,null,"F84118",null,5593,5,5,5,5,5,4,6,6,5,6,6,11,11,11,10,11,10,6]
["2021-02-01",{"$f":"VLOOKUP(J1790,'Control Panel'!$O$3:$S$47,5,FALSE)","v":"NW6"},null,null,null,null,null,null,null,"F84122",null,15933,40,38,38,40,36,30,45,43,39,40,40,45,43,42,42,41,41,39]
["2021-02-01",{"$f":"VLOOKUP(J1791,'Control Panel'!$O$3:$S$47,5,FALSE)","v":"NW1"},null,null,null,null,null,null,null,"F84123",null,15245,28,23,24,26,21,18,24,22,21,22,22,20,19,19,19,19,19,22]
["2021-02-01",{"$f":"VLOOKUP(J1792,'Control Panel'!$O$3:$S$47,5,FALSE)","v":"NW8"},null,null,null,null,null,null,null,"F84647",null,8896,18,17,16,17,16,15,20,20,18,18,17,27,26,25,22,25,22,18]
["2021-02-01",{"$f":"VLOOKUP(J1793,'Control Panel'!$O$3:$S$47,5,FALSE)","v":"NW8"},null,null,null,null,null,null,null,"F84656",null,9644,24,22,22,23,22,22,27,26,24,23,24,23,21,21,17,21,17,24]
["2021-02-01",{"$f":"VLOOKUP(J1794,'Control Panel'!$O$3:$S$47,5,FALSE)","v":"NW6"},null,null,null,null,null,null,null,"F84676",null,4047,11,10,10,11,10,9,7,7,6,6,6,7,7,7,7,7,7,6]
["2021-02-01",{"$f":"VLOOKUP(J1795,'Control Panel'!$O$3:$S$47,5,FALSE)","v":"NW3&4"},null,null,null,null,null,null,null,"F84682",null,11215,43,41,41,41,38,33,42,40,33,33,33,34,34,34,27,33,29,34]
["2021-02-01",{"$f":"VLOOKUP(J1796,'Control Panel'!$O$3:$S$47,5,FALSE)","v":"NW5"},null,null,null,null,null,null,null,"F84696",null,5629,13,12,12,12,12,9,23,21,20,20,20,11,10,11,11,11,11,20]
["2021-02-01",{"$f":"VLOOKUP(J1797,'Control Panel'!$O$3:$S$47,5,FALSE)","v":"NW7"},null,null,null,null,null,null,null,"F84698",null,10079,40,36,36,36,36,21,32,31,28,30,30,45,41,36,32,36,32,30]
["2021-02-01",{"$f":"VLOOKUP(J1798,'Control Panel'!$O$3:$S$47,5,FALSE)","v":"NW8"},null,null,null,null,null,null,null,"F84710",null,12400,33,26,27,29,28,21,47,41,36,36,36,43,39,38,28,37,27,34]
["2021-02-01",{"$f":"VLOOKUP(J1799,'Control Panel'!$O$3:$S$47,5,FALSE)","v":"NW6"},null,null,null,null,null,null,null,"F84714",null,14948,49,43,43,46,45,34,49,45,41,42,42,45,42,42,41,42,41,41]
["2021-02-01",{"$f":"VLOOKUP(J1800,'Control Panel'!$O$3:$S$47,5,FALSE)","v":"NW2"},null,null,null,null,null,null,null,"F84718",null,14679,37,34,35,35,33,14,32,30,29,29,29,30,29,29,27,29,27,30]
["2021-02-01",{"$f":"VLOOKUP(J1801,'Control Panel'!$O$3:$S$47,5,FALSE)","v":"NW3&4"},null,null,null,null,null,null,null,"F84731",null,2073,4,4,4,4,4,4,5,5,5,5,5,2,2,2,2,2,2,5]
["2021-02-01",{"$f":"VLOOKUP(J1802,'Control Panel'!$O$3:$S$47,5,FALSE)","v":"NW2"},null,null,null,null,null,null,null,"F84733",null,905,0,0,0,0,0,0,0,0,0,0,0,0,0,0,0,0,0,0]
["2021-02-01",{"$f":"VLOOKUP(J1803,'Control Panel'!$O$3:$S$47,5,FALSE)","v":"NW8"},null,null,null,null,null,null,null,"F84747",null,24593,98,89,88,93,85,63,67,65,64,64,63,61,57,56,51,57,55,64]
["2021-02-01",{"$f":"VLOOKUP(J1804,'Control Panel'!$O$3:$S$47,5,FALSE)","v":"NW1"},null,null,null,null,null,null,null,"Y00212",null,4087,9,7,7,9,8,5,12,10,8,7,7,7,7,7,6,7,6,7]
["2021-02-01",{"$f":"VLOOKUP(J1805,'Control Panel'!$O$3:$S$47,5,FALSE)","v":"NW6"},null,null,null,null,null,null,null,"Y03023",null,14553,63,56,56,56,54,44,54,50,45,45,45,45,44,43,39,43,39,45]
["2021-02-01",{"$f":"VLOOKUP(J1806,'Control Panel'!$O$3:$S$47,5,FALSE)","v":0},null,null,null,null,null,null,null,"total",null,349827,1014,898,899,928,873,683,959,897,810,820,819,906,848,817,739,819,750,820]
["2021-03-01",{"$f":"VLOOKUP(J1807,'Control Panel'!$O$3:$S$47,5,FALSE)","v":{"$error":"#N/A"}},"Childhood Immunisations Q4",null,"Last Run:",null,"Population Count",368291,null,null,"Search","All Patients","(01) 12 MONTH COHORT","(01.01) DTaP/IPV/Hib 6in1","(01.02) Men B (1st and 2nd)","(01.03) PCV","(01.04) Rotavirus","(01.05) BCG","(02) 24 MONTH COHORT","(02.01) DTaP/IPV/Hib Combined","(02.02) MMR","(02.03) HiB/Men C","(02.04) PCV (Booster)","(03) 5 YEAR COHORT","(03.01) DTaP/IPV/Hib Combined","(03.02) MMR (Primary)","(03.03) DTaP/IPV (Booster)","(03.04) HiB/Men C","(03.05) MMR (Booster)","(02.05) Men B (Booster)"]
["2021-03-01",{"$f":"VLOOKUP(J1808,'Control Panel'!$O$3:$S$47,5,FALSE)","v":{"$error":"#N/A"}},null,null,"2021-04-06T09:58:00",null,"Males",192046,null,"Organisation Code"]
["2021-03-01",{"$f":"VLOOKUP(J1809,'Control Panel'!$O$3:$S$47,5,FALSE)","v":"NW2"},null,null,"Relative Date:",null,"Females",176245,null,"F84012",null,9313,30,25,25,26,21,26,23,22,22,22,22,26,23,24,24,22,24,22]
["2021-03-01",{"$f":"VLOOKUP(J1810,'Control Panel'!$O$3:$S$47,5,FALSE)","v":"NW1"},null,null,"2021-04-01",null,null,null,null,"F84016",null,11737,30,24,23,23,24,20,27,25,23,24,24,24,21,20,18,21,18,24]
["2021-03-01",{"$f":"VLOOKUP(J1811,'Control Panel'!$O$3:$S$47,5,FALSE)","v":"NW7"},null,null,null,null,null,null,null,"F84025",null,11558,34,27,27,29,27,27,39,36,31,33,32,43,43,41,40,42,42,33]
["2021-03-01",{"$f":"VLOOKUP(J1812,'Control Panel'!$O$3:$S$47,5,FALSE)","v":"NW5"},null,null,null,null,null,null,null,"F84030",null,3721,15,13,13,14,15,7,13,11,10,10,10,13,13,10,8,11,8,10]
["2021-03-01",{"$f":"VLOOKUP(J1813,'Control Panel'!$O$3:$S$47,5,FALSE)","v":"NW3&4"},null,null,null,null,null,null,null,"F84031",null,14007,39,36,35,36,34,19,43,40,37,38,38,31,29,25,22,26,22,38]
["2021-03-01",{"$f":"VLOOKUP(J1814,'Control Panel'!$O$3:$S$47,5,FALSE)","v":"NW5"},null,null,null,null,null,null,null,"F84034",null,13357,43,37,38,38,38,27,40,39,35,36,36,41,38,36,35,37,35,36]
["2021-03-01",{"$f":"VLOOKUP(J1815,'Control Panel'!$O$3:$S$47,5,FALSE)","v":"NW3&4"},null,null,null,null,null,null,null,"F84039",null,14654,48,43,43,43,43,33,32,29,27,26,27,32,29,29,28,28,29,26]
["2021-03-01",{"$f":"VLOOKUP(J1816,'Control Panel'!$O$3:$S$47,5,FALSE)","v":"NW5"},null,null,null,null,null,null,null,"F84044",null,7660,21,18,19,20,17,15,13,13,11,11,11,23,18,16,16,18,14,11]
["2021-03-01",{"$f":"VLOOKUP(J1817,'Control Panel'!$O$3:$S$47,5,FALSE)","v":"NW3&4"},null,null,null,null,null,null,null,"F84046",null,3466,8,7,7,7,6,4,8,8,8,8,7,9,8,8,8,8,8,7]
["2021-03-01",{"$f":"VLOOKUP(J1818,'Control Panel'!$O$3:$S$47,5,FALSE)","v":"NW1"},null,null,null,null,null,null,null,"F84051",null,6258,14,12,12,13,11,1,6,6,6,6,6,8,8,7,7,7,7,6]
["2021-03-01",{"$f":"VLOOKUP(J1819,'Control Panel'!$O$3:$S$47,5,FALSE)","v":"NW7"},null,null,null,null,null,null,null,"F84054",null,11445,34,29,28,31,24,23,38,33,28,28,28,29,28,26,20,26,20,27]
["2021-03-01",{"$f":"VLOOKUP(J1820,'Control Panel'!$O$3:$S$47,5,FALSE)","v":"NW5"},null,null,null,null,null,null,null,"F84055",null,3964,4,4,4,4,4,3,10,9,9,9,9,9,9,9,9,9,9,9]
["2021-03-01",{"$f":"VLOOKUP(J1821,'Control Panel'!$O$3:$S$47,5,FALSE)","v":"NW7"},null,null,null,null,null,null,null,"F84062",null,15309,47,41,41,41,38,27,49,47,38,40,41,54,49,48,44,48,43,42]
["2021-03-01",{"$f":"VLOOKUP(J1822,'Control Panel'!$O$3:$S$47,5,FALSE)","v":"NW3&4"},null,null,null,null,null,null,null,"F84079",null,11480,33,28,28,28,27,27,27,26,22,22,22,16,14,14,11,14,11,22]
["2021-03-01",{"$f":"VLOOKUP(J1823,'Control Panel'!$O$3:$S$47,5,FALSE)","v":"NW2"},null,null,null,null,null,null,null,"F84081",null,13914,29,25,26,26,26,24,32,27,23,23,23,20,19,18,17,17,16,23]
["2021-03-01",{"$f":"VLOOKUP(J1824,'Control Panel'!$O$3:$S$47,5,FALSE)","v":"NW1"},null,null,null,null,null,null,null,"F84083",null,8555,21,21,21,21,21,12,21,20,16,16,16,22,20,19,13,20,16,16]
["2021-03-01",{"$f":"VLOOKUP(J1825,'Control Panel'!$O$3:$S$47,5,FALSE)","v":"NW3&4"},null,null,null,null,null,null,null,"F84087",null,9554,29,26,26,26,25,24,32,31,30,30,30,32,31,30,25,28,28,30]
["2021-03-01",{"$f":"VLOOKUP(J1826,'Control Panel'!$O$3:$S$47,5,FALSE)","v":"NW3&4"},null,null,null,null,null,null,null,"F84114",null,6703,21,19,19,20,19,18,12,10,9,9,9,14,12,12,12,12,12,9]
["2021-03-01",{"$f":"VLOOKUP(J1827,'Control Panel'!$O$3:$S$47,5,FALSE)","v":"NW6"},null,null,null,null,null,null,null,"F84118",null,5581,6,5,5,6,5,4,6,6,5,6,6,11,11,11,10,11,10,6]
["2021-03-01",{"$f":"VLOOKUP(J1828,'Control Panel'!$O$3:$S$47,5,FALSE)","v":"NW6"},null,null,null,null,null,null,null,"F84122",null,16018,43,40,39,43,37,32,44,43,38,39,39,45,43,42,42,41,41,39]
["2021-03-01",{"$f":"VLOOKUP(J1829,'Control Panel'!$O$3:$S$47,5,FALSE)","v":"NW1"},null,null,null,null,null,null,null,"F84123",null,15477,28,23,24,26,21,18,24,22,21,22,22,20,19,19,19,19,19,22]
["2021-03-01",{"$f":"VLOOKUP(J1830,'Control Panel'!$O$3:$S$47,5,FALSE)","v":"NW8"},null,null,null,null,null,null,null,"F84647",null,8868,17,16,16,16,15,14,20,20,18,18,17,28,27,26,23,26,23,18]
["2021-03-01",{"$f":"VLOOKUP(J1831,'Control Panel'!$O$3:$S$47,5,FALSE)","v":"NW8"},null,null,null,null,null,null,null,"F84656",null,9690,25,23,23,24,23,22,26,25,23,22,23,24,23,22,18,22,18,23]
["2021-03-01",{"$f":"VLOOKUP(J1832,'Control Panel'!$O$3:$S$47,5,FALSE)","v":"NW6"},null,null,null,null,null,null,null,"F84676",null,4038,10,9,9,10,9,8,7,7,6,6,6,7,7,7,7,7,7,6]
["2021-03-01",{"$f":"VLOOKUP(J1833,'Control Panel'!$O$3:$S$47,5,FALSE)","v":"NW3&4"},null,null,null,null,null,null,null,"F84682",null,11438,43,41,41,41,38,34,42,40,34,33,33,33,33,33,27,32,29,34]
["2021-03-01",{"$f":"VLOOKUP(J1834,'Control Panel'!$O$3:$S$47,5,FALSE)","v":"NW5"},null,null,null,null,null,null,null,"F84696",null,5632,14,13,13,13,13,9,22,20,19,19,19,11,10,11,11,11,11,19]
["2021-03-01",{"$f":"VLOOKUP(J1835,'Control Panel'!$O$3:$S$47,5,FALSE)","v":"NW7"},null,null,null,null,null,null,null,"F84698",null,10268,40,36,36,36,36,21,32,31,28,30,30,45,41,36,32,36,32,30]
["2021-03-01",{"$f":"VLOOKUP(J1836,'Control Panel'!$O$3:$S$47,5,FALSE)","v":"NW8"},null,null,null,null,null,null,null,"F84710",null,12719,31,24,25,28,26,22,47,41,36,36,36,42,38,37,28,36,27,34]
["2021-03-01",{"$f":"VLOOKUP(J1837,'Control Panel'!$O$3:$S$47,5,FALSE)","v":"NW6"},null,null,null,null,null,null,null,"F84714",null,15135,49,43,44,47,46,34,49,45,41,42,42,45,42,42,41,42,41,41]
["2021-03-01",{"$f":"VLOOKUP(J1838,'Control Panel'!$O$3:$S$47,5,FALSE)","v":"NW2"},null,null,null,null,null,null,null,"F84718",null,14676,37,34,35,35,33,14,32,30,29,29,29,31,30,30,28,30,28,30]
["2021-03-01",{"$f":"VLOOKUP(J1839,'Control Panel'!$O$3:$S$47,5,FALSE)","v":"NW3&4"},null,null,null,null,null,null,null,"F84731",null,2093,4,4,4,4,4,4,5,5,5,5,5,2,2,2,2,2,2,5]
["2021-03-01",{"$f":"VLOOKUP(J1840,'Control Panel'!$O$3:$S$47,5,FALSE)","v":"NW2"},null,null,null,null,null,null,null,"F84733",null,999,0,0,0,0,0,0,0,0,0,0,0,0,0,0,0,0,0,0]
["2021-03-01",{"$f":"VLOOKUP(J1841,'Control Panel'!$O$3:$S$47,5,FALSE)","v":"NW8"},null,null,null,null,null,null,null,"F84747",null,25050,97,87,86,91,83,62,67,65,64,64,63,61,57,56,51,57,55,64]
["2021-03-01",{"$f":"VLOOKUP(J1842,'Control Panel'!$O$3:$S$47,5,FALSE)","v":"NW1"},null,null,null,null,null,null,null,"Y00212",null,4019,9,7,7,9,8,6,12,10,8,7,7,7,7,7,6,7,6,7]
["2021-03-01",{"$f":"VLOOKUP(J1843,'Control Panel'!$O$3:$S$47,5,FALSE)","v":"NW6"},null,null,null,null,null,null,null,"Y03023",null,14670,63,55,55,55,54,45,55,51,46,46,46,45,44,43,39,43,39,46]
["2021-03-01",{"$f":"VLOOKUP(J1844,'Control Panel'!$O$3:$S$47,5,FALSE)","v":0},null,null,null,null,null,null,null,"total",null,353026,1016,895,897,930,871,686,955,893,806,815,814,903,846,816,741,816,750,815]
["2021-04-01",{"$f":"VLOOKUP(J1845,'Control Panel'!$O$3:$S$47,5,FALSE)","v":{"$error":"#N/A"}},"Childhood Immunisations Q1",null,"Last Run:",null,"Population Count",370247,null,null,"Search","All Patients","(01) 12 MONTH COHORT","(01.01) DTaP/IPV/Hib/HepB","(01.02) Men B (1st and 2nd)","(01.03) PCV","(01.04) Rotavirus","(01.05) BCG","(02) 24 MONTH COHORT","(02.01) DTaP/IPV/Hib or DTaP/IPV/Hib/HepB","(02.02) MMR","(02.03) HiB/Men C","(02.04) PCV (Booster)","(03) 5 YEAR COHORT","(03.01) DTaP/IPV/Hib or DTaP/IPV/Hib/HepB","(03.02) MMR (Primary)","(03.03) DTaP/IPV (Booster)","(03.04) HiB/Men C","(03.05) MMR (Booster)","(02.05) Men B (Booster)"]
["2021-04-01",{"$f":"VLOOKUP(J1846,'Control Panel'!$O$3:$S$47,5,FALSE)","v":{"$error":"#N/A"}},null,null,"2021-05-10T16:06:00",null,"Males",192882,null,"Organisation Code"]
["2021-04-01",{"$f":"VLOOKUP(J1847,'Control Panel'!$O$3:$S$47,5,FALSE)","v":"NW2"},null,null,"Relative Date:",null,"Females",177365,null,"F84012",null,9304,31,26,26,28,25,27,34,32,30,30,31,32,30,28,29,30,28,30]
["2021-04-01",{"$f":"VLOOKUP(J1848,'Control Panel'!$O$3:$S$47,5,FALSE)","v":"NW1"},null,null,"2021-05-01",null,null,null,null,"F84016",null,11625,20,20,20,20,20,13,27,26,25,24,22,29,24,26,22,24,23,24]
["2021-04-01",{"$f":"VLOOKUP(J1849,'Control Panel'!$O$3:$S$47,5,FALSE)","v":"NW7"},null,null,null,null,null,null,null,"F84025",null,11536,41,37,36,36,34,33,39,39,36,36,36,45,43,43,38,41,39,36]
["2021-04-01",{"$f":"VLOOKUP(J1850,'Control Panel'!$O$3:$S$47,5,FALSE)","v":"NW5"},null,null,null,null,null,null,null,"F84030",null,3710,5,5,5,5,5,2,7,7,7,7,7,11,10,10,9,11,10,7]
["2021-04-01",{"$f":"VLOOKUP(J1851,'Control Panel'!$O$3:$S$47,5,FALSE)","v":"NW3&4"},null,null,null,null,null,null,null,"F84031",null,14071,36,32,33,33,32,14,38,33,28,30,30,40,38,36,33,34,32,30]
["2021-04-01",{"$f":"VLOOKUP(J1852,'Control Panel'!$O$3:$S$47,5,FALSE)","v":"NW5"},null,null,null,null,null,null,null,"F84034",null,13345,31,26,26,26,25,27,29,28,27,27,27,37,36,33,29,34,29,27]
["2021-04-01",{"$f":"VLOOKUP(J1853,'Control Panel'!$O$3:$S$47,5,FALSE)","v":"NW3&4"},null,null,null,null,null,null,null,"F84039",null,15010,48,39,39,40,37,34,40,36,34,35,35,44,43,42,39,41,40,35]
["2021-04-01",{"$f":"VLOOKUP(J1854,'Control Panel'!$O$3:$S$47,5,FALSE)","v":"NW5"},null,null,null,null,null,null,null,"F84044",null,7695,29,26,25,27,26,13,23,21,16,17,17,14,14,13,13,13,13,17]
["2021-04-01",{"$f":"VLOOKUP(J1855,'Control Panel'!$O$3:$S$47,5,FALSE)","v":"NW3&4"},null,null,null,null,null,null,null,"F84046",null,3475,10,10,10,10,10,5,13,12,12,12,12,14,14,14,14,14,14,12]
["2021-04-01",{"$f":"VLOOKUP(J1856,'Control Panel'!$O$3:$S$47,5,FALSE)","v":"NW1"},null,null,null,null,null,null,null,"F84051",null,6428,10,7,7,8,7,2,8,7,6,6,6,8,8,8,6,8,6,6]
["2021-04-01",{"$f":"VLOOKUP(J1857,'Control Panel'!$O$3:$S$47,5,FALSE)","v":"NW7"},null,null,null,null,null,null,null,"F84054",null,11407,44,41,41,42,41,30,33,28,25,26,25,47,45,44,32,46,32,25]
["2021-04-01",{"$f":"VLOOKUP(J1858,'Control Panel'!$O$3:$S$47,5,FALSE)","v":"NW5"},null,null,null,null,null,null,null,"F84055",null,3933,14,13,13,14,13,9,7,6,7,7,7,7,7,7,7,7,7,7]
["2021-04-01",{"$f":"VLOOKUP(J1859,'Control Panel'!$O$3:$S$47,5,FALSE)","v":"NW7"},null,null,null,null,null,null,null,"F84062",null,15071,44,39,39,41,39,33,54,48,44,43,43,47,45,45,37,46,37,45]
["2021-04-01",{"$f":"VLOOKUP(J1860,'Control Panel'!$O$3:$S$47,5,FALSE)","v":"NW3&4"},null,null,null,null,null,null,null,"F84079",null,11551,35,29,31,31,31,18,31,28,26,26,26,22,19,19,15,18,16,25]
["2021-04-01",{"$f":"VLOOKUP(J1861,'Control Panel'!$O$3:$S$47,5,FALSE)","v":"NW2"},null,null,null,null,null,null,null,"F84081",null,13968,28,25,25,26,21,23,45,38,34,34,34,39,37,38,35,38,33,34]
["2021-04-01",{"$f":"VLOOKUP(J1862,'Control Panel'!$O$3:$S$47,5,FALSE)","v":"NW1"},null,null,null,null,null,null,null,"F84083",null,8623,25,19,18,22,21,13,24,20,17,18,18,23,23,21,20,22,21,17]
["2021-04-01",{"$f":"VLOOKUP(J1863,'Control Panel'!$O$3:$S$47,5,FALSE)","v":"NW3&4"},null,null,null,null,null,null,null,"F84087",null,9581,30,25,25,28,23,23,30,29,23,23,22,41,34,33,28,34,28,23]
["2021-04-01",{"$f":"VLOOKUP(J1864,'Control Panel'!$O$3:$S$47,5,FALSE)","v":"NW3&4"},null,null,null,null,null,null,null,"F84114",null,6685,23,20,20,22,21,20,23,21,20,20,20,27,25,23,22,23,22,20]
["2021-04-01",{"$f":"VLOOKUP(J1865,'Control Panel'!$O$3:$S$47,5,FALSE)","v":"NW6"},null,null,null,null,null,null,null,"F84118",null,5570,14,13,13,13,13,8,17,16,13,15,15,16,15,14,14,15,14,15]
["2021-04-01",{"$f":"VLOOKUP(J1866,'Control Panel'!$O$3:$S$47,5,FALSE)","v":"NW6"},null,null,null,null,null,null,null,"F84122",null,16100,40,29,29,33,31,28,40,35,33,34,34,61,57,52,40,53,41,33]
["2021-04-01",{"$f":"VLOOKUP(J1867,'Control Panel'!$O$3:$S$47,5,FALSE)","v":"NW1"},null,null,null,null,null,null,null,"F84123",null,15566,30,24,25,26,25,15,31,29,26,26,26,40,34,33,31,33,30,27]
["2021-04-01",{"$f":"VLOOKUP(J1868,'Control Panel'!$O$3:$S$47,5,FALSE)","v":"NW8"},null,null,null,null,null,null,null,"F84647",null,8857,20,19,19,19,19,13,24,22,14,16,16,20,19,19,13,19,14,16]
["2021-04-01",{"$f":"VLOOKUP(J1869,'Control Panel'!$O$3:$S$47,5,FALSE)","v":"NW8"},null,null,null,null,null,null,null,"F84656",null,9686,24,24,23,24,24,22,17,17,14,15,15,32,28,27,20,28,20,15]
["2021-04-01",{"$f":"VLOOKUP(J1870,'Control Panel'!$O$3:$S$47,5,FALSE)","v":"NW6"},null,null,null,null,null,null,null,"F84676",null,4054,15,14,14,14,12,7,5,5,2,2,2,15,14,14,14,14,14,2]
["2021-04-01",{"$f":"VLOOKUP(J1871,'Control Panel'!$O$3:$S$47,5,FALSE)","v":"NW3&4"},null,null,null,null,null,null,null,"F84682",null,11618,38,32,33,35,32,26,48,39,37,37,37,48,45,45,39,44,40,37]
["2021-04-01",{"$f":"VLOOKUP(J1872,'Control Panel'!$O$3:$S$47,5,FALSE)","v":"NW5"},null,null,null,null,null,null,null,"F84696",null,5675,14,11,11,13,12,3,12,12,11,11,11,17,16,16,11,15,11,11]
["2021-04-01",{"$f":"VLOOKUP(J1873,'Control Panel'!$O$3:$S$47,5,FALSE)","v":"NW7"},null,null,null,null,null,null,null,"F84698",null,10360,42,40,39,40,38,20,37,32,26,27,27,33,30,31,26,30,28,28]
["2021-04-01",{"$f":"VLOOKUP(J1874,'Control Panel'!$O$3:$S$47,5,FALSE)","v":"NW8"},null,null,null,null,null,null,null,"F84710",null,12972,29,22,23,25,22,20,29,21,19,19,19,35,33,34,29,32,29,19]
["2021-04-01",{"$f":"VLOOKUP(J1875,'Control Panel'!$O$3:$S$47,5,FALSE)","v":"NW6"},null,null,null,null,null,null,null,"F84714",null,15285,49,45,45,46,43,16,48,41,41,40,40,52,50,46,44,46,45,40]
["2021-04-01",{"$f":"VLOOKUP(J1876,'Control Panel'!$O$3:$S$47,5,FALSE)","v":"NW2"},null,null,null,null,null,null,null,"F84718",null,14657,35,33,33,33,32,13,29,28,29,28,29,35,31,29,28,29,28,28]
["2021-04-01",{"$f":"VLOOKUP(J1877,'Control Panel'!$O$3:$S$47,5,FALSE)","v":"NW3&4"},null,null,null,null,null,null,null,"F84731",null,2086,2,2,2,2,2,2,5,5,5,5,5,7,7,7,7,7,7,5]
["2021-04-01",{"$f":"VLOOKUP(J1878,'Control Panel'!$O$3:$S$47,5,FALSE)","v":"NW2"},null,null,null,null,null,null,null,"F84733",null,986,0,0,0,0,0,0,0,0,0,0,0,0,0,0,0,0,0,0]
["2021-04-01",{"$f":"VLOOKUP(J1879,'Control Panel'!$O$3:$S$47,5,FALSE)","v":"NW8"},null,null,null,null,null,null,null,"F84747",null,24932,109,100,99,104,96,63,86,83,79,82,78,80,72,66,65,67,67,81]
["2021-04-01",{"$f":"VLOOKUP(J1880,'Control Panel'!$O$3:$S$47,5,FALSE)","v":"NW1"},null,null,null,null,null,null,null,"Y00212",null,3864,6,5,5,6,5,4,22,21,18,19,19,7,6,5,6,5,5,18]
["2021-04-01",{"$f":"VLOOKUP(J1881,'Control Panel'!$O$3:$S$47,5,FALSE)","v":"NW6"},null,null,null,null,null,null,null,"Y03023",null,14663,60,56,56,56,54,48,50,43,41,41,41,51,46,45,38,47,37,41]
["2021-04-01",{"$f":"VLOOKUP(J1882,'Control Panel'!$O$3:$S$47,5,FALSE)","v":0},null,null,null,null,null,null,null,"Total",null,353949,1031,908,908,948,891,647,1005,908,825,838,832,1076,998,966,853,968,860,836]
["2021-05-01",{"$f":"VLOOKUP(J1883,'Control Panel'!$O$3:$S$47,5,FALSE)","v":{"$error":"#N/A"}},"Childhood Immunisations Q1",null,"Last Run:",null,"Population Count",373600,null,null,"Search","All Patients","(01) 12 MONTH COHORT","(01.01) DTaP/IPV/Hib/HepB","(01.02) Men B (1st and 2nd)","(01.03) PCV","(01.04) Rotavirus","(01.05) BCG","(02) 24 MONTH COHORT","(02.01) DTaP/IPV/Hib or DTaP/IPV/Hib/HepB","(02.02) MMR","(02.03) HiB/Men C","(02.04) PCV (Booster)","(03) 5 YEAR COHORT","(03.01) DTaP/IPV/Hib or DTaP/IPV/Hib/HepB","(03.02) MMR (Primary)","(03.03) DTaP/IPV (Booster)","(03.04) HiB/Men C","(03.05) MMR (Booster)","(02.05) Men B (Booster)"]
["2021-05-01",{"$f":"VLOOKUP(J1884,'Control Panel'!$O$3:$S$47,5,FALSE)","v":{"$error":"#N/A"}},null,null,"2021-06-02T09:37:00",null,"Males",194904,null,"Organisation Code"]
["2021-05-01",{"$f":"VLOOKUP(J1885,'Control Panel'!$O$3:$S$47,5,FALSE)","v":"NW2"},null,null,"Relative Date:",null,"Females",178696,null,"F84012",null,9366,31,26,26,29,25,28,35,33,31,31,32,32,30,28,29,30,28,31]
["2021-05-01",{"$f":"VLOOKUP(J1886,'Control Panel'!$O$3:$S$47,5,FALSE)","v":"NW1"},null,null,"2021-06-01",null,null,null,null,"F84016",null,11718,20,19,19,19,19,12,27,26,25,25,23,29,24,26,22,24,23,25]
["2021-05-01",{"$f":"VLOOKUP(J1887,'Control Panel'!$O$3:$S$47,5,FALSE)","v":"NW7"},null,null,null,null,null,null,null,"F84025",null,11601,40,36,35,35,33,32,40,39,36,36,36,44,42,42,37,40,38,36]
["2021-05-01",{"$f":"VLOOKUP(J1888,'Control Panel'!$O$3:$S$47,5,FALSE)","v":"NW5"},null,null,null,null,null,null,null,"F84030",null,3730,5,5,5,5,5,2,7,7,7,7,7,12,10,10,9,11,10,7]
["2021-05-01",{"$f":"VLOOKUP(J1889,'Control Panel'!$O$3:$S$47,5,FALSE)","v":"NW3&4"},null,null,null,null,null,null,null,"F84031",null,14184,36,32,33,33,32,14,39,33,28,30,30,39,37,35,32,33,31,30]
["2021-05-01",{"$f":"VLOOKUP(J1890,'Control Panel'!$O$3:$S$47,5,FALSE)","v":"NW5"},null,null,null,null,null,null,null,"F84034",null,13350,31,26,26,26,25,27,29,29,27,27,27,37,36,33,29,34,29,27]
["2021-05-01",{"$f":"VLOOKUP(J1891,'Control Panel'!$O$3:$S$47,5,FALSE)","v":"NW3&4"},null,null,null,null,null,null,null,"F84039",null,15284,46,38,38,39,36,33,41,36,34,35,35,44,43,42,39,41,40,35]
["2021-05-01",{"$f":"VLOOKUP(J1892,'Control Panel'!$O$3:$S$47,5,FALSE)","v":"NW5"},null,null,null,null,null,null,null,"F84044",null,7606,28,25,25,26,25,13,23,21,16,17,17,14,14,13,13,13,13,17]
["2021-05-01",{"$f":"VLOOKUP(J1893,'Control Panel'!$O$3:$S$47,5,FALSE)","v":"NW3&4"},null,null,null,null,null,null,null,"F84046",null,3406,10,10,10,10,10,5,13,12,12,12,12,14,14,14,14,14,14,12]
["2021-05-01",{"$f":"VLOOKUP(J1894,'Control Panel'!$O$3:$S$47,5,FALSE)","v":"NW1"},null,null,null,null,null,null,null,"F84051",null,6672,10,7,7,8,7,2,8,7,6,6,6,9,9,9,7,9,7,6]
["2021-05-01",{"$f":"VLOOKUP(J1895,'Control Panel'!$O$3:$S$47,5,FALSE)","v":"NW7"},null,null,null,null,null,null,null,"F84054",null,11497,43,42,41,41,40,30,33,29,26,26,25,48,46,45,32,47,32,25]
["2021-05-01",{"$f":"VLOOKUP(J1896,'Control Panel'!$O$3:$S$47,5,FALSE)","v":"NW5"},null,null,null,null,null,null,null,"F84055",null,4018,14,14,14,14,13,9,7,7,7,7,7,7,7,7,7,7,7,7]
["2021-05-01",{"$f":"VLOOKUP(J1897,'Control Panel'!$O$3:$S$47,5,FALSE)","v":"NW7"},null,null,null,null,null,null,null,"F84062",null,15138,44,39,39,41,39,33,55,49,45,44,44,47,45,45,37,46,37,46]
["2021-05-01",{"$f":"VLOOKUP(J1898,'Control Panel'!$O$3:$S$47,5,FALSE)","v":"NW3&4"},null,null,null,null,null,null,null,"F84079",null,11649,35,29,31,31,31,18,31,27,25,25,25,21,18,18,15,18,16,24]
["2021-05-01",{"$f":"VLOOKUP(J1899,'Control Panel'!$O$3:$S$47,5,FALSE)","v":"NW2"},null,null,null,null,null,null,null,"F84081",null,14063,30,27,27,28,23,25,45,38,34,34,34,38,36,37,34,37,32,34]
["2021-05-01",{"$f":"VLOOKUP(J1900,'Control Panel'!$O$3:$S$47,5,FALSE)","v":"NW1"},null,null,null,null,null,null,null,"F84083",null,8758,27,22,21,25,24,16,24,21,18,19,19,23,23,21,20,22,21,18]
["2021-05-01",{"$f":"VLOOKUP(J1901,'Control Panel'!$O$3:$S$47,5,FALSE)","v":"NW3&4"},null,null,null,null,null,null,null,"F84087",null,9656,30,25,25,28,23,23,30,29,23,23,22,41,34,33,28,34,28,23]
["2021-05-01",{"$f":"VLOOKUP(J1902,'Control Panel'!$O$3:$S$47,5,FALSE)","v":"NW3&4"},null,null,null,null,null,null,null,"F84114",null,6744,23,20,20,22,21,20,22,20,19,19,19,27,25,23,22,23,22,19]
["2021-05-01",{"$f":"VLOOKUP(J1903,'Control Panel'!$O$3:$S$47,5,FALSE)","v":"NW6"},null,null,null,null,null,null,null,"F84118",null,5595,14,13,13,13,13,8,17,16,13,15,15,16,15,14,14,15,14,15]
["2021-05-01",{"$f":"VLOOKUP(J1904,'Control Panel'!$O$3:$S$47,5,FALSE)","v":"NW6"},null,null,null,null,null,null,null,"F84122",null,16192,40,29,29,33,31,28,39,34,34,35,35,62,58,53,41,54,42,33]
["2021-05-01",{"$f":"VLOOKUP(J1905,'Control Panel'!$O$3:$S$47,5,FALSE)","v":"NW1"},null,null,null,null,null,null,null,"F84123",null,15710,30,26,26,26,25,15,33,30,27,27,27,42,35,34,32,34,31,28]
["2021-05-01",{"$f":"VLOOKUP(J1906,'Control Panel'!$O$3:$S$47,5,FALSE)","v":"NW8"},null,null,null,null,null,null,null,"F84647",null,8961,20,19,19,19,19,13,24,22,14,16,16,20,19,19,13,19,14,16]
["2021-05-01",{"$f":"VLOOKUP(J1907,'Control Panel'!$O$3:$S$47,5,FALSE)","v":"NW8"},null,null,null,null,null,null,null,"F84656",null,9708,24,24,23,24,24,22,17,17,15,16,16,32,28,27,21,28,21,16]
["2021-05-01",{"$f":"VLOOKUP(J1908,'Control Panel'!$O$3:$S$47,5,FALSE)","v":"NW6"},null,null,null,null,null,null,null,"F84676",null,4071,15,14,14,14,12,7,6,6,3,3,3,15,14,14,14,14,14,3]
["2021-05-01",{"$f":"VLOOKUP(J1909,'Control Panel'!$O$3:$S$47,5,FALSE)","v":"NW3&4"},null,null,null,null,null,null,null,"F84682",null,11930,38,32,32,35,32,25,48,39,37,37,37,49,46,46,40,45,41,36]
["2021-05-01",{"$f":"VLOOKUP(J1910,'Control Panel'!$O$3:$S$47,5,FALSE)","v":"NW5"},null,null,null,null,null,null,null,"F84696",null,5775,14,11,11,13,12,3,12,12,11,11,11,17,16,16,11,15,11,11]
["2021-05-01",{"$f":"VLOOKUP(J1911,'Control Panel'!$O$3:$S$47,5,FALSE)","v":"NW7"},null,null,null,null,null,null,null,"F84698",null,10499,38,36,36,37,34,19,37,32,26,27,27,33,30,31,27,31,29,28]
["2021-05-01",{"$f":"VLOOKUP(J1912,'Control Panel'!$O$3:$S$47,5,FALSE)","v":"NW8"},null,null,null,null,null,null,null,"F84710",null,13437,29,23,23,25,22,20,29,21,19,19,19,34,32,33,28,31,28,19]
["2021-05-01",{"$f":"VLOOKUP(J1913,'Control Panel'!$O$3:$S$47,5,FALSE)","v":"NW6"},null,null,null,null,null,null,null,"F84714",null,15389,50,46,46,48,44,17,49,43,44,42,42,52,50,46,44,46,45,42]
["2021-05-01",{"$f":"VLOOKUP(J1914,'Control Panel'!$O$3:$S$47,5,FALSE)","v":"NW2"},null,null,null,null,null,null,null,"F84718",null,14724,35,33,33,33,32,13,29,28,29,28,29,33,29,27,26,27,26,28]
["2021-05-01",{"$f":"VLOOKUP(J1915,'Control Panel'!$O$3:$S$47,5,FALSE)","v":"NW3&4"},null,null,null,null,null,null,null,"F84731",null,2093,2,2,2,2,2,2,5,5,5,5,5,7,7,7,7,7,7,5]
["2021-05-01",{"$f":"VLOOKUP(J1916,'Control Panel'!$O$3:$S$47,5,FALSE)","v":"NW2"},null,null,null,null,null,null,null,"F84733",null,958,0,0,0,0,0,0,0,0,0,0,0,0,0,0,0,0,0,0]
["2021-05-01",{"$f":"VLOOKUP(J1917,'Control Panel'!$O$3:$S$47,5,FALSE)","v":"NW8"},null,null,null,null,null,null,null,"F84747",null,25346,108,100,99,103,95,63,86,83,79,82,79,82,74,68,66,69,68,81]
["2021-05-01",{"$f":"VLOOKUP(J1918,'Control Panel'!$O$3:$S$47,5,FALSE)","v":"NW1"},null,null,null,null,null,null,null,"Y00212",null,3562,6,5,5,6,5,4,20,20,17,18,18,6,5,5,5,5,4,17]
["2021-05-01",{"$f":"VLOOKUP(J1919,'Control Panel'!$O$3:$S$47,5,FALSE)","v":"NW6"},null,null,null,null,null,null,null,"Y03023",null,14875,59,56,56,56,54,49,50,43,41,41,41,51,46,45,38,47,37,41]
["2021-05-01",{"$f":"VLOOKUP(J1920,'Control Panel'!$O$3:$S$47,5,FALSE)","v":0},null,null,null,null,null,null,null,"Total",null,357265,1025,911,909,947,887,650,1010,914,833,845,840,1077,997,966,853,970,860,841]
["2021-06-01",{"$f":"VLOOKUP(J1921,'Control Panel'!$O$3:$S$47,5,FALSE)","v":{"$error":"#N/A"}},"Childhood Immunisations Q1",null,"Last Run:",null,"Population Count",380427,null,null,"Search","All Patients","(01) 12 MONTH COHORT","(01.01) DTaP/IPV/Hib/HepB","(01.02) Men B (1st and 2nd)","(01.03) PCV","(01.04) Rotavirus","(01.05) BCG","(02) 24 MONTH COHORT","(02.01) DTaP/IPV/Hib or DTaP/IPV/Hib/HepB","(02.02) MMR","(02.03) HiB/Men C","(02.04) PCV (Booster)","(03) 5 YEAR COHORT","(03.01) DTaP/IPV/Hib or DTaP/IPV/Hib/HepB","(03.02) MMR (Primary)","(03.03) DTaP/IPV (Booster)","(03.04) HiB/Men C","(03.05) MMR (Booster)","(02.05) Men B (Booster)"]
["2021-06-01",{"$f":"VLOOKUP(J1922,'Control Panel'!$O$3:$S$47,5,FALSE)","v":{"$error":"#N/A"}},null,null,"2021-07-02T09:40:00",null,"Males",198880,null,"Organisation Code"]
["2021-06-01",{"$f":"VLOOKUP(J1923,'Control Panel'!$O$3:$S$47,5,FALSE)","v":"NW2"},null,null,"Relative Date:",null,"Females",181547,null,"F84012",null,9408,30,26,26,28,25,28,35,33,31,31,32,32,30,28,29,30,28,31]
["2021-06-01",{"$f":"VLOOKUP(J1924,'Control Panel'!$O$3:$S$47,5,FALSE)","v":"NW1"},null,null,"2021-07-01",null,null,null,null,"F84016",null,12515,24,22,22,23,21,16,29,28,26,26,24,31,25,27,23,25,24,26]
["2021-06-01",{"$f":"VLOOKUP(J1925,'Control Panel'!$O$3:$S$47,5,FALSE)","v":"NW7"},null,null,null,null,null,null,null,"F84025",null,11653,40,36,35,35,33,32,40,39,36,36,36,43,41,41,36,39,37,36]
["2021-06-01",{"$f":"VLOOKUP(J1926,'Control Panel'!$O$3:$S$47,5,FALSE)","v":"NW5"},null,null,null,null,null,null,null,"F84030",null,3752,5,5,5,5,5,2,7,7,7,7,7,12,10,10,9,11,10,7]
["2021-06-01",{"$f":"VLOOKUP(J1927,'Control Panel'!$O$3:$S$47,5,FALSE)","v":"NW3&4"},null,null,null,null,null,null,null,"F84031",null,14306,35,31,32,32,31,14,39,33,29,31,31,40,37,35,32,33,31,31]
["2021-06-01",{"$f":"VLOOKUP(J1928,'Control Panel'!$O$3:$S$47,5,FALSE)","v":"NW5"},null,null,null,null,null,null,null,"F84034",null,13454,32,27,27,27,26,27,28,28,26,26,26,37,36,33,29,34,29,26]
["2021-06-01",{"$f":"VLOOKUP(J1929,'Control Panel'!$O$3:$S$47,5,FALSE)","v":"NW3&4"},null,null,null,null,null,null,null,"F84039",null,15680,47,41,41,42,39,34,42,37,34,35,35,44,42,41,38,40,39,35]
["2021-06-01",{"$f":"VLOOKUP(J1930,'Control Panel'!$O$3:$S$47,5,FALSE)","v":"NW5"},null,null,null,null,null,null,null,"F84044",null,7728,27,24,24,25,24,13,24,22,17,18,18,14,14,13,13,13,13,18]
["2021-06-01",{"$f":"VLOOKUP(J1931,'Control Panel'!$O$3:$S$47,5,FALSE)","v":"NW3&4"},null,null,null,null,null,null,null,"F84046",null,3361,9,9,9,9,9,5,13,12,12,12,12,14,14,14,14,14,14,12]
["2021-06-01",{"$f":"VLOOKUP(J1932,'Control Panel'!$O$3:$S$47,5,FALSE)","v":"NW1"},null,null,null,null,null,null,null,"F84051",null,7758,11,8,8,9,8,2,11,10,9,9,9,12,12,12,10,12,10,9]
["2021-06-01",{"$f":"VLOOKUP(J1933,'Control Panel'!$O$3:$S$47,5,FALSE)","v":"NW7"},null,null,null,null,null,null,null,"F84054",null,11606,43,42,41,41,40,30,34,30,28,28,27,48,46,45,33,47,33,27]
["2021-06-01",{"$f":"VLOOKUP(J1934,'Control Panel'!$O$3:$S$47,5,FALSE)","v":"NW5"},null,null,null,null,null,null,null,"F84055",null,4148,14,14,14,14,13,9,7,7,7,7,7,7,7,7,7,7,7,7]
["2021-06-01",{"$f":"VLOOKUP(J1935,'Control Panel'!$O$3:$S$47,5,FALSE)","v":"NW7"},null,null,null,null,null,null,null,"F84062",null,15372,45,41,41,43,41,34,57,49,45,44,44,47,45,45,37,46,37,46]
["2021-06-01",{"$f":"VLOOKUP(J1936,'Control Panel'!$O$3:$S$47,5,FALSE)","v":"NW3&4"},null,null,null,null,null,null,null,"F84079",null,11737,36,30,32,32,32,18,29,26,24,24,24,20,17,17,14,17,15,23]
["2021-06-01",{"$f":"VLOOKUP(J1937,'Control Panel'!$O$3:$S$47,5,FALSE)","v":"NW2"},null,null,null,null,null,null,null,"F84081",null,14260,30,27,27,28,23,25,44,37,33,33,33,38,36,37,34,37,32,33]
["2021-06-01",{"$f":"VLOOKUP(J1938,'Control Panel'!$O$3:$S$47,5,FALSE)","v":"NW1"},null,null,null,null,null,null,null,"F84083",null,9516,27,22,21,25,24,16,32,28,24,26,26,24,24,22,21,23,22,24]
["2021-06-01",{"$f":"VLOOKUP(J1939,'Control Panel'!$O$3:$S$47,5,FALSE)","v":"NW3&4"},null,null,null,null,null,null,null,"F84087",null,9668,30,25,25,28,23,23,31,28,22,22,21,40,33,32,27,33,27,22]
["2021-06-01",{"$f":"VLOOKUP(J1940,'Control Panel'!$O$3:$S$47,5,FALSE)","v":"NW3&4"},null,null,null,null,null,null,null,"F84114",null,10210,32,29,29,31,30,25,35,32,31,31,31,42,40,38,37,38,37,31]
["2021-06-01",{"$f":"VLOOKUP(J1941,'Control Panel'!$O$3:$S$47,5,FALSE)","v":"NW6"},null,null,null,null,null,null,null,"F84118",null,5612,13,12,12,12,12,7,16,15,12,14,14,16,15,14,14,15,14,14]
["2021-06-01",{"$f":"VLOOKUP(J1942,'Control Panel'!$O$3:$S$47,5,FALSE)","v":"NW6"},null,null,null,null,null,null,null,"F84122",null,16325,41,31,31,34,32,28,38,33,34,35,35,62,58,53,41,54,42,33]
["2021-06-01",{"$f":"VLOOKUP(J1943,'Control Panel'!$O$3:$S$47,5,FALSE)","v":"NW1"},null,null,null,null,null,null,null,"F84123",null,16261,31,27,27,27,26,16,36,33,30,30,30,43,36,35,33,35,31,31]
["2021-06-01",{"$f":"VLOOKUP(J1944,'Control Panel'!$O$3:$S$47,5,FALSE)","v":"NW8"},null,null,null,null,null,null,null,"F84647",null,8942,19,18,18,18,18,12,24,22,14,16,16,20,19,19,13,19,14,16]
["2021-06-01",{"$f":"VLOOKUP(J1945,'Control Panel'!$O$3:$S$47,5,FALSE)","v":"NW8"},null,null,null,null,null,null,null,"F84656",null,9766,24,24,24,24,24,22,16,16,15,16,16,24,22,21,20,22,20,16]
["2021-06-01",{"$f":"VLOOKUP(J1946,'Control Panel'!$O$3:$S$47,5,FALSE)","v":"NW6"},null,null,null,null,null,null,null,"F84676",null,4109,15,14,14,14,12,7,5,5,3,3,3,15,14,14,14,14,14,3]
["2021-06-01",{"$f":"VLOOKUP(J1947,'Control Panel'!$O$3:$S$47,5,FALSE)","v":"NW3&4"},null,null,null,null,null,null,null,"F84682",null,11937,37,31,32,35,32,26,44,38,37,37,36,47,45,44,39,43,40,35]
["2021-06-01",{"$f":"VLOOKUP(J1948,'Control Panel'!$O$3:$S$47,5,FALSE)","v":"NW5"},null,null,null,null,null,null,null,"F84696",null,5802,14,11,11,13,12,3,12,12,11,11,11,17,16,16,11,15,11,11]
["2021-06-01",{"$f":"VLOOKUP(J1949,'Control Panel'!$O$3:$S$47,5,FALSE)","v":"NW7"},null,null,null,null,null,null,null,"F84698",null,10663,36,34,34,35,32,18,36,31,26,27,27,32,29,30,26,30,28,28]
["2021-06-01",{"$f":"VLOOKUP(J1950,'Control Panel'!$O$3:$S$47,5,FALSE)","v":"NW8"},null,null,null,null,null,null,null,"F84710",null,13931,29,23,23,25,22,20,30,21,19,19,19,34,32,33,28,31,28,19]
["2021-06-01",{"$f":"VLOOKUP(J1951,'Control Panel'!$O$3:$S$47,5,FALSE)","v":"NW6"},null,null,null,null,null,null,null,"F84714",null,15642,51,47,47,49,45,18,48,41,42,41,40,50,49,45,43,45,44,41]
["2021-06-01",{"$f":"VLOOKUP(J1952,'Control Panel'!$O$3:$S$47,5,FALSE)","v":"NW2"},null,null,null,null,null,null,null,"F84718",null,14858,37,34,34,35,33,14,27,26,27,26,27,34,30,28,28,28,28,26]
["2021-06-01",{"$f":"VLOOKUP(J1953,'Control Panel'!$O$3:$S$47,5,FALSE)","v":"NW3&4"},null,null,null,null,null,null,null,"F84731",null,2092,2,2,2,2,2,2,5,5,5,5,5,7,7,7,7,7,7,5]
["2021-06-01",{"$f":"VLOOKUP(J1954,'Control Panel'!$O$3:$S$47,5,FALSE)","v":"NW2"},null,null,null,null,null,null,null,"F84733",null,945,0,0,0,0,0,0,0,0,0,0,0,0,0,0,0,0,0,0]
["2021-06-01",{"$f":"VLOOKUP(J1955,'Control Panel'!$O$3:$S$47,5,FALSE)","v":"NW8"},null,null,null,null,null,null,null,"F84747",null,25858,108,100,99,102,94,64,86,84,79,82,79,82,74,68,66,69,68,81]
["2021-06-01",{"$f":"VLOOKUP(J1956,'Control Panel'!$O$3:$S$47,5,FALSE)","v":"NW1"},null,null,null,null,null,null,null,"Y00212",null,127,0,0,0,0,0,0,0,0,0,0,0,0,0,0,0,0,0,0]
["2021-06-01",{"$f":"VLOOKUP(J1957,'Control Panel'!$O$3:$S$47,5,FALSE)","v":"NW6"},null,null,null,null,null,null,null,"Y03023",null,14988,59,56,56,56,54,49,49,42,40,40,40,52,46,45,38,47,37,40]
["2021-06-01",{"$f":"VLOOKUP(J1958,'Control Panel'!$O$3:$S$47,5,FALSE)","v":0},null,null,null,null,null,null,null,"Total",null,363990,1033,923,923,958,897,659,1009,910,835,848,841,1080,1001,969,864,973,871,843]
["2021-07-01",{"$f":"VLOOKUP(J1959,'Control Panel'!$O$3:$S$47,5,FALSE)","v":{"$error":"#N/A"}},"Childhood Immunisations Q2",null,"Last Run:",null,"Population Count",395332,null,null,"Search","All Patients","(01) 12 MONTH COHORT","(01.01) DTaP/IPV/Hib 6in1","(01.02) Men B (1st and 2nd)","(01.03) PCV","(01.04) Rotavirus","(01.05) BCG","(02) 24 MONTH COHORT","(02.01) DTaP/IPV/Hib Combined","(02.02) MMR","(02.03) HiB/Men C","(02.04) PCV (Booster)","(03) 5 YEAR COHORT","(03.01) DTaP/IPV/Hib Combined","(03.02) MMR (Primary)","(03.03) DTaP/IPV (Booster)","(03.04) HiB/Men C","(03.05) MMR (Booster)","(02.05) Men B (Booster)"]
["2021-07-01",{"$f":"VLOOKUP(J1960,'Control Panel'!$O$3:$S$47,5,FALSE)","v":{"$error":"#N/A"}},null,null,"2021-08-02T09:47:00",null,"Males",207103,null,"Organisation Code"]
["2021-07-01",{"$f":"VLOOKUP(J1961,'Control Panel'!$O$3:$S$47,5,FALSE)","v":"NW2"},null,null,"Relative Date:",null,"Females",188229,null,"F84012",null,9456,26,26,26,26,24,21,28,24,26,25,26,32,30,31,28,30,29,26]
["2021-07-01",{"$f":"VLOOKUP(J1962,'Control Panel'!$O$3:$S$47,5,FALSE)","v":"NW1"},null,null,"2021-08-01",null,null,null,null,"F84016",null,12522,19,17,17,18,17,5,36,35,35,35,35,32,27,28,26,28,26,35]
["2021-07-01",{"$f":"VLOOKUP(J1963,'Control Panel'!$O$3:$S$47,5,FALSE)","v":"NW7"},null,null,null,null,null,null,null,"F84025",null,11673,36,32,32,32,28,25,43,39,34,35,34,43,41,40,33,39,34,35]
["2021-07-01",{"$f":"VLOOKUP(J1964,'Control Panel'!$O$3:$S$47,5,FALSE)","v":"NW5"},null,null,null,null,null,null,null,"F84030",null,3793,13,11,11,11,11,6,9,7,6,6,6,13,11,11,7,11,7,6]
["2021-07-01",{"$f":"VLOOKUP(J1965,'Control Panel'!$O$3:$S$47,5,FALSE)","v":"NW3&4"},null,null,null,null,null,null,null,"F84031",null,14474,57,50,50,51,46,20,42,40,38,38,39,41,38,38,37,37,37,39]
["2021-07-01",{"$f":"VLOOKUP(J1966,'Control Panel'!$O$3:$S$47,5,FALSE)","v":"NW5"},null,null,null,null,null,null,null,"F84034",null,13440,52,43,42,45,45,29,44,42,36,36,36,37,37,34,30,35,29,35]
["2021-07-01",{"$f":"VLOOKUP(J1967,'Control Panel'!$O$3:$S$47,5,FALSE)","v":"NW3&4"},null,null,null,null,null,null,null,"F84039",null,28025,91,77,79,84,82,51,78,72,69,67,68,69,61,60,56,61,57,68]
["2021-07-01",{"$f":"VLOOKUP(J1968,'Control Panel'!$O$3:$S$47,5,FALSE)","v":"NW5"},null,null,null,null,null,null,null,"F84044",null,7788,23,22,21,22,21,10,22,22,19,20,20,20,18,17,17,18,16,20]
["2021-07-01",{"$f":"VLOOKUP(J1969,'Control Panel'!$O$3:$S$47,5,FALSE)","v":"NW3&4"},null,null,null,null,null,null,null,"F84046",null,3361,14,14,14,14,12,8,10,9,9,9,9,13,13,13,13,13,13,9]
["2021-07-01",{"$f":"VLOOKUP(J1970,'Control Panel'!$O$3:$S$47,5,FALSE)","v":"NW1"},null,null,null,null,null,null,null,"F84051",null,7912,18,15,15,15,14,1,14,11,10,10,10,10,8,8,5,8,5,10]
["2021-07-01",{"$f":"VLOOKUP(J1971,'Control Panel'!$O$3:$S$47,5,FALSE)","v":"NW7"},null,null,null,null,null,null,null,"F84054",null,11686,35,31,31,32,29,20,39,32,30,31,31,39,36,36,26,36,25,31]
["2021-07-01",{"$f":"VLOOKUP(J1972,'Control Panel'!$O$3:$S$47,5,FALSE)","v":"NW5"},null,null,null,null,null,null,null,"F84055",null,4112,11,11,11,11,8,6,9,9,9,9,9,10,10,10,9,9,10,9]
["2021-07-01",{"$f":"VLOOKUP(J1973,'Control Panel'!$O$3:$S$47,5,FALSE)","v":"NW7"},null,null,null,null,null,null,null,"F84062",null,15480,56,48,48,48,46,33,36,34,28,31,29,54,50,50,40,50,39,29]
["2021-07-01",{"$f":"VLOOKUP(J1974,'Control Panel'!$O$3:$S$47,5,FALSE)","v":"NW3&4"},null,null,null,null,null,null,null,"F84079",null,11768,31,27,27,27,27,14,26,25,23,23,24,28,26,25,26,24,25,23]
["2021-07-01",{"$f":"VLOOKUP(J1975,'Control Panel'!$O$3:$S$47,5,FALSE)","v":"NW2"},null,null,null,null,null,null,null,"F84081",null,14256,31,24,25,26,22,24,43,37,33,33,33,38,35,33,30,33,30,33]
["2021-07-01",{"$f":"VLOOKUP(J1976,'Control Panel'!$O$3:$S$47,5,FALSE)","v":"NW1"},null,null,null,null,null,null,null,"F84083",null,9562,24,19,20,23,18,11,23,20,20,19,19,31,29,29,23,30,23,20]
["2021-07-01",{"$f":"VLOOKUP(J1977,'Control Panel'!$O$3:$S$47,5,FALSE)","v":"NW3&4"},null,null,null,null,null,null,null,"F84087",null,9708,37,31,31,32,31,17,45,40,34,35,36,27,25,24,19,24,19,36]
["2021-07-01",{"$f":"VLOOKUP(J1978,'Control Panel'!$O$3:$S$47,5,FALSE)","v":"NW3&4"},null,null,null,null,null,null,null,"F84114",null,10115,41,37,36,37,35,29,26,25,23,23,23,37,36,36,33,36,33,23]
["2021-07-01",{"$f":"VLOOKUP(J1979,'Control Panel'!$O$3:$S$47,5,FALSE)","v":"NW6"},null,null,null,null,null,null,null,"F84118",null,5676,11,9,10,11,10,6,22,22,21,21,21,10,10,10,8,9,8,21]
["2021-07-01",{"$f":"VLOOKUP(J1980,'Control Panel'!$O$3:$S$47,5,FALSE)","v":"NW6"},null,null,null,null,null,null,null,"F84122",null,16345,45,38,37,41,37,28,49,44,41,41,41,46,46,45,40,44,42,40]
["2021-07-01",{"$f":"VLOOKUP(J1981,'Control Panel'!$O$3:$S$47,5,FALSE)","v":"NW1"},null,null,null,null,null,null,null,"F84123",null,16336,27,24,25,25,24,14,24,20,20,21,21,35,31,31,30,33,31,20]
["2021-07-01",{"$f":"VLOOKUP(J1982,'Control Panel'!$O$3:$S$47,5,FALSE)","v":"NW8"},null,null,null,null,null,null,null,"F84647",null,8867,21,18,18,19,18,13,33,30,26,25,25,29,27,26,17,27,17,25]
["2021-07-01",{"$f":"VLOOKUP(J1983,'Control Panel'!$O$3:$S$47,5,FALSE)","v":"NW8"},null,null,null,null,null,null,null,"F84656",null,9807,27,24,24,25,25,16,28,27,23,24,24,33,32,32,28,32,27,24]
["2021-07-01",{"$f":"VLOOKUP(J1984,'Control Panel'!$O$3:$S$47,5,FALSE)","v":"NW6"},null,null,null,null,null,null,null,"F84676",null,4123,9,6,6,7,5,3,17,15,12,12,12,9,9,9,8,9,8,12]
["2021-07-01",{"$f":"VLOOKUP(J1985,'Control Panel'!$O$3:$S$47,5,FALSE)","v":"NW3&4"},null,null,null,null,null,null,null,"F84682",null,11990,38,31,32,34,33,22,33,32,31,30,31,25,20,20,17,20,18,31]
["2021-07-01",{"$f":"VLOOKUP(J1986,'Control Panel'!$O$3:$S$47,5,FALSE)","v":"NW5"},null,null,null,null,null,null,null,"F84696",null,5766,23,22,22,23,22,8,19,17,17,17,17,25,24,23,17,25,16,17]
["2021-07-01",{"$f":"VLOOKUP(J1987,'Control Panel'!$O$3:$S$47,5,FALSE)","v":"NW7"},null,null,null,null,null,null,null,"F84698",null,10803,36,36,35,36,32,13,38,35,32,33,33,42,40,38,37,38,37,33]
["2021-07-01",{"$f":"VLOOKUP(J1988,'Control Panel'!$O$3:$S$47,5,FALSE)","v":"NW8"},null,null,null,null,null,null,null,"F84710",null,14137,37,31,30,33,31,27,34,30,26,26,25,47,40,38,33,39,33,26]
["2021-07-01",{"$f":"VLOOKUP(J1989,'Control Panel'!$O$3:$S$47,5,FALSE)","v":"NW6"},null,null,null,null,null,null,null,"F84714",null,15768,55,52,53,54,53,17,49,48,40,42,40,43,40,38,38,40,36,41]
["2021-07-01",{"$f":"VLOOKUP(J1990,'Control Panel'!$O$3:$S$47,5,FALSE)","v":"NW2"},null,null,null,null,null,null,null,"F84718",null,14910,53,50,49,50,46,24,39,37,32,32,33,32,32,31,31,29,30,33]
["2021-07-01",{"$f":"VLOOKUP(J1991,'Control Panel'!$O$3:$S$47,5,FALSE)","v":"NW3&4"},null,null,null,null,null,null,null,"F84731",null,2088,5,4,4,5,5,5,7,7,7,7,7,3,3,3,3,3,3,7]
["2021-07-01",{"$f":"VLOOKUP(J1992,'Control Panel'!$O$3:$S$47,5,FALSE)","v":"NW2"},null,null,null,null,null,null,null,"F84733",null,925,0,0,0,0,0,0,0,0,0,0,0,0,0,0,0,0,0,0]
["2021-07-01",{"$f":"VLOOKUP(J1993,'Control Panel'!$O$3:$S$47,5,FALSE)","v":"NW8"},null,null,null,null,null,null,null,"F84747",null,25963,88,84,85,85,83,46,89,81,80,83,80,65,60,55,55,57,57,81]
["2021-07-01",{"$f":"VLOOKUP(J1994,'Control Panel'!$O$3:$S$47,5,FALSE)","v":"NW1"},null,null,null,null,null,null,null,"Y00212",null,65,0,0,0,0,0,0,0,0,0,0,0,0,0,0,0,0,0,0]
["2021-07-01",{"$f":"VLOOKUP(J1995,'Control Panel'!$O$3:$S$47,5,FALSE)","v":"NW6"},null,null,null,null,null,null,null,"Y03023",null,15058,69,63,63,64,64,45,58,54,51,52,52,57,51,49,43,49,46,52]
["2021-07-01",{"$f":"VLOOKUP(J1996,'Control Panel'!$O$3:$S$47,5,FALSE)","v":0},null,null,null,null,null,null,null,"Total",null,377758,1159,1027,1029,1066,1004,617,1112,1022,941,951,949,1075,996,971,863,976,866,950]
["2021-08-01",{"$f":"VLOOKUP(J1997,'Control Panel'!$O$3:$S$47,5,FALSE)","v":{"$error":"#N/A"}},"Childhood Immunisations Q2",null,"Last Run:",null,"Population Count",396385,null,null,"Search","All Patients","(01) 12 MONTH COHORT","(01.01) DTaP/IPV/Hib 6in1","(01.02) Men B (1st and 2nd)","(01.03) PCV","(01.04) Rotavirus","(01.05) BCG","(02) 24 MONTH COHORT","(02.01) DTaP/IPV/Hib Combined","(02.02) MMR","(02.03) HiB/Men C","(02.04) PCV (Booster)","(03) 5 YEAR COHORT","(03.01) DTaP/IPV/Hib Combined","(03.02) MMR (Primary)","(03.03) DTaP/IPV (Booster)","(03.04) HiB/Men C","(03.05) MMR (Booster)","(02.05) Men B (Booster)"]
["2021-08-01",{"$f":"VLOOKUP(J1998,'Control Panel'!$O$3:$S$47,5,FALSE)","v":{"$error":"#N/A"}},null,null,"2021-09-06T09:42:00",null,"Males",207786,null,"Organisation Code"]
["2021-08-01",{"$f":"VLOOKUP(J1999,'Control Panel'!$O$3:$S$47,5,FALSE)","v":"NW2"},null,null,"Relative Date:",null,"Females",188599,null,"F84012",null,9454,26,26,26,26,24,21,28,24,26,25,26,33,31,32,28,30,30,26]
["2021-08-01",{"$f":"VLOOKUP(J2000,'Control Panel'!$O$3:$S$47,5,FALSE)","v":"NW1"},null,null,"2021-09-01",null,null,null,null,"F84016",null,12554,19,17,17,18,17,5,37,36,36,36,36,32,27,28,26,28,26,36]
["2021-08-01",{"$f":"VLOOKUP(J2001,'Control Panel'!$O$3:$S$47,5,FALSE)","v":"NW7"},null,null,null,null,null,null,null,"F84025",null,11678,36,33,33,33,29,26,43,39,34,35,34,43,41,40,33,39,34,35]
["2021-08-01",{"$f":"VLOOKUP(J2002,'Control Panel'!$O$3:$S$47,5,FALSE)","v":"NW5"},null,null,null,null,null,null,null,"F84030",null,3756,13,11,11,11,11,6,8,6,5,5,5,12,11,11,7,11,7,5]
["2021-08-01",{"$f":"VLOOKUP(J2003,'Control Panel'!$O$3:$S$47,5,FALSE)","v":"NW3&4"},null,null,null,null,null,null,null,"F84031",null,14503,56,49,49,50,45,19,42,40,38,38,39,41,38,38,37,37,37,39]
["2021-08-01",{"$f":"VLOOKUP(J2004,'Control Panel'!$O$3:$S$47,5,FALSE)","v":"NW5"},null,null,null,null,null,null,null,"F84034",null,13357,50,41,40,43,43,28,42,41,35,35,35,37,37,34,30,35,29,35]
["2021-08-01",{"$f":"VLOOKUP(J2005,'Control Panel'!$O$3:$S$47,5,FALSE)","v":"NW3&4"},null,null,null,null,null,null,null,"F84039",null,28158,90,75,77,82,80,51,79,72,69,67,68,67,59,58,54,59,55,68]
["2021-08-01",{"$f":"VLOOKUP(J2006,'Control Panel'!$O$3:$S$47,5,FALSE)","v":"NW5"},null,null,null,null,null,null,null,"F84044",null,7865,23,22,21,22,21,9,22,22,19,20,20,21,19,18,18,19,17,20]
["2021-08-01",{"$f":"VLOOKUP(J2007,'Control Panel'!$O$3:$S$47,5,FALSE)","v":"NW3&4"},null,null,null,null,null,null,null,"F84046",null,3361,14,14,14,14,12,8,10,9,9,9,9,13,13,13,13,13,13,9]
["2021-08-01",{"$f":"VLOOKUP(J2008,'Control Panel'!$O$3:$S$47,5,FALSE)","v":"NW1"},null,null,null,null,null,null,null,"F84051",null,7980,18,15,15,15,14,1,14,11,10,10,10,10,8,8,5,8,5,10]
["2021-08-01",{"$f":"VLOOKUP(J2009,'Control Panel'!$O$3:$S$47,5,FALSE)","v":"NW7"},null,null,null,null,null,null,null,"F84054",null,11669,34,30,30,31,28,19,39,32,30,31,31,39,36,36,26,36,25,31]
["2021-08-01",{"$f":"VLOOKUP(J2010,'Control Panel'!$O$3:$S$47,5,FALSE)","v":"NW5"},null,null,null,null,null,null,null,"F84055",null,4086,9,9,9,9,6,5,8,8,8,8,8,11,11,11,10,10,11,8]
["2021-08-01",{"$f":"VLOOKUP(J2011,'Control Panel'!$O$3:$S$47,5,FALSE)","v":"NW7"},null,null,null,null,null,null,null,"F84062",null,15449,55,47,47,47,45,35,34,31,25,28,26,54,50,50,40,50,39,27]
["2021-08-01",{"$f":"VLOOKUP(J2012,'Control Panel'!$O$3:$S$47,5,FALSE)","v":"NW3&4"},null,null,null,null,null,null,null,"F84079",null,11768,30,27,27,26,27,13,25,24,22,22,23,29,26,25,26,24,25,22]
["2021-08-01",{"$f":"VLOOKUP(J2013,'Control Panel'!$O$3:$S$47,5,FALSE)","v":"NW2"},null,null,null,null,null,null,null,"F84081",null,14379,32,25,26,27,23,25,43,37,33,33,33,38,35,33,30,33,30,33]
["2021-08-01",{"$f":"VLOOKUP(J2014,'Control Panel'!$O$3:$S$47,5,FALSE)","v":"NW1"},null,null,null,null,null,null,null,"F84083",null,9588,24,19,20,23,18,11,23,20,20,19,19,31,29,29,23,30,23,20]
["2021-08-01",{"$f":"VLOOKUP(J2015,'Control Panel'!$O$3:$S$47,5,FALSE)","v":"NW3&4"},null,null,null,null,null,null,null,"F84087",null,9718,35,31,31,31,30,16,45,40,34,35,36,26,24,23,18,23,18,36]
["2021-08-01",{"$f":"VLOOKUP(J2016,'Control Panel'!$O$3:$S$47,5,FALSE)","v":"NW3&4"},null,null,null,null,null,null,null,"F84114",null,10155,42,38,37,38,36,29,26,25,23,23,23,37,36,36,33,36,33,23]
["2021-08-01",{"$f":"VLOOKUP(J2017,'Control Panel'!$O$3:$S$47,5,FALSE)","v":"NW6"},null,null,null,null,null,null,null,"F84118",null,5746,11,9,10,11,10,6,22,22,21,21,21,10,10,10,8,9,8,21]
["2021-08-01",{"$f":"VLOOKUP(J2018,'Control Panel'!$O$3:$S$47,5,FALSE)","v":"NW6"},null,null,null,null,null,null,null,"F84122",null,16438,46,40,40,43,38,31,48,44,40,40,40,46,46,45,40,44,42,40]
["2021-08-01",{"$f":"VLOOKUP(J2019,'Control Panel'!$O$3:$S$47,5,FALSE)","v":"NW1"},null,null,null,null,null,null,null,"F84123",null,16259,26,23,24,24,23,13,24,20,20,21,21,35,31,31,30,33,31,20]
["2021-08-01",{"$f":"VLOOKUP(J2020,'Control Panel'!$O$3:$S$47,5,FALSE)","v":"NW8"},null,null,null,null,null,null,null,"F84647",null,8980,21,18,18,19,18,13,34,30,26,25,25,29,27,26,17,27,17,25]
["2021-08-01",{"$f":"VLOOKUP(J2021,'Control Panel'!$O$3:$S$47,5,FALSE)","v":"NW8"},null,null,null,null,null,null,null,"F84656",null,9785,26,23,23,24,24,15,28,28,24,25,25,32,31,30,27,30,26,25]
["2021-08-01",{"$f":"VLOOKUP(J2022,'Control Panel'!$O$3:$S$47,5,FALSE)","v":"NW6"},null,null,null,null,null,null,null,"F84676",null,4133,8,6,6,6,4,2,16,14,11,11,11,9,9,9,8,9,8,11]
["2021-08-01",{"$f":"VLOOKUP(J2023,'Control Panel'!$O$3:$S$47,5,FALSE)","v":"NW3&4"},null,null,null,null,null,null,null,"F84682",null,11990,38,31,32,34,33,22,33,32,31,30,31,25,20,20,17,20,18,31]
["2021-08-01",{"$f":"VLOOKUP(J2024,'Control Panel'!$O$3:$S$47,5,FALSE)","v":"NW5"},null,null,null,null,null,null,null,"F84696",null,5855,23,21,21,22,21,8,19,17,17,17,17,25,24,23,17,25,16,17]
["2021-08-01",{"$f":"VLOOKUP(J2025,'Control Panel'!$O$3:$S$47,5,FALSE)","v":"NW7"},null,null,null,null,null,null,null,"F84698",null,10804,38,36,37,37,33,12,39,35,32,33,33,42,40,38,37,38,37,33]
["2021-08-01",{"$f":"VLOOKUP(J2026,'Control Panel'!$O$3:$S$47,5,FALSE)","v":"NW8"},null,null,null,null,null,null,null,"F84710",null,14349,37,32,30,33,31,28,34,30,26,26,25,47,40,38,33,39,33,26]
["2021-08-01",{"$f":"VLOOKUP(J2027,'Control Panel'!$O$3:$S$47,5,FALSE)","v":"NW6"},null,null,null,null,null,null,null,"F84714",null,15868,55,51,53,54,53,16,49,48,40,42,40,43,41,39,38,41,36,42]
["2021-08-01",{"$f":"VLOOKUP(J2028,'Control Panel'!$O$3:$S$47,5,FALSE)","v":"NW2"},null,null,null,null,null,null,null,"F84718",null,14832,54,51,50,51,47,24,40,38,32,32,33,31,31,30,30,28,29,33]
["2021-08-01",{"$f":"VLOOKUP(J2029,'Control Panel'!$O$3:$S$47,5,FALSE)","v":"NW3&4"},null,null,null,null,null,null,null,"F84731",null,2085,5,4,4,5,5,5,7,7,7,7,7,3,3,3,3,3,3,7]
["2021-08-01",{"$f":"VLOOKUP(J2030,'Control Panel'!$O$3:$S$47,5,FALSE)","v":"NW2"},null,null,null,null,null,null,null,"F84733",null,901,0,0,0,0,0,0,0,0,0,0,0,0,0,0,0,0,0,0]
["2021-08-01",{"$f":"VLOOKUP(J2031,'Control Panel'!$O$3:$S$47,5,FALSE)","v":"NW8"},null,null,null,null,null,null,null,"F84747",null,26224,88,84,85,85,83,46,90,82,81,84,81,65,60,55,55,57,57,82]
["2021-08-01",{"$f":"VLOOKUP(J2032,'Control Panel'!$O$3:$S$47,5,FALSE)","v":"NW1"},null,null,null,null,null,null,null,"Y00212",null,61,0,0,0,0,0,0,0,0,0,0,0,0,0,0,0,0,0,0]
["2021-08-01",{"$f":"VLOOKUP(J2033,'Control Panel'!$O$3:$S$47,5,FALSE)","v":"NW6"},null,null,null,null,null,null,null,"Y03023",null,15095,68,62,62,63,63,44,60,55,52,53,53,57,52,50,44,49,47,53]
["2021-08-01",{"$f":"VLOOKUP(J2034,'Control Panel'!$O$3:$S$47,5,FALSE)","v":0},null,null,null,null,null,null,null,"Total",null,378883,1150,1020,1025,1057,995,612,1111,1019,936,946,944,1073,996,970,861,973,865,949]
["2021-09-01",{"$f":"VLOOKUP(J2035,'Control Panel'!$O$3:$S$47,5,FALSE)","v":{"$error":"#N/A"}},"Childhood Immunisations Q2",null,"Last Run:",null,"Population Count",399662,null,null,"Search","All Patients","(01) 12 MONTH COHORT","(01.01) DTaP/IPV/Hib 6in1","(01.02) Men B (1st and 2nd)","(01.03) PCV","(01.04) Rotavirus","(01.05) BCG","(02) 24 MONTH COHORT","(02.01) DTaP/IPV/Hib Combined","(02.02) MMR","(02.03) HiB/Men C","(02.04) PCV (Booster)","(03) 5 YEAR COHORT","(03.01) DTaP/IPV/Hib Combined","(03.02) MMR (Primary)","(03.03) DTaP/IPV (Booster)","(03.04) HiB/Men C","(03.05) MMR (Booster)","(02.05) Men B (Booster)"]
["2021-09-01",{"$f":"VLOOKUP(J2036,'Control Panel'!$O$3:$S$47,5,FALSE)","v":{"$error":"#N/A"}},null,null,"2021-10-04T11:36:00",null,"Males",209319,null,"Organisation Code"]
["2021-09-01",{"$f":"VLOOKUP(J2037,'Control Panel'!$O$3:$S$47,5,FALSE)","v":"NW2"},null,null,"Relative Date:",null,"Females",190343,null,"F84012",null,9524,25,25,25,25,23,20,29,25,27,26,27,32,30,31,27,29,29,27]
["2021-09-01",{"$f":"VLOOKUP(J2038,'Control Panel'!$O$3:$S$47,5,FALSE)","v":"NW1"},null,null,"2021-10-01",null,null,null,null,"F84016",null,12530,19,16,16,18,16,5,35,34,34,34,34,32,27,28,26,28,26,34]
["2021-09-01",{"$f":"VLOOKUP(J2039,'Control Panel'!$O$3:$S$47,5,FALSE)","v":"NW7"},null,null,null,null,null,null,null,"F84025",null,11731,35,32,32,32,28,26,43,39,34,35,34,43,41,40,33,39,34,35]
["2021-09-01",{"$f":"VLOOKUP(J2040,'Control Panel'!$O$3:$S$47,5,FALSE)","v":"NW5"},null,null,null,null,null,null,null,"F84030",null,3767,13,12,12,12,11,7,8,6,5,5,5,12,11,11,7,11,7,5]
["2021-09-01",{"$f":"VLOOKUP(J2041,'Control Panel'!$O$3:$S$47,5,FALSE)","v":"NW3&4"},null,null,null,null,null,null,null,"F84031",null,14610,55,48,49,51,44,18,42,40,38,38,39,41,38,38,37,37,37,39]
["2021-09-01",{"$f":"VLOOKUP(J2042,'Control Panel'!$O$3:$S$47,5,FALSE)","v":"NW5"},null,null,null,null,null,null,null,"F84034",null,13413,48,42,40,42,42,28,42,41,37,36,37,36,36,33,29,34,28,36]
["2021-09-01",{"$f":"VLOOKUP(J2043,'Control Panel'!$O$3:$S$47,5,FALSE)","v":"NW3&4"},null,null,null,null,null,null,null,"F84039",null,28361,90,77,77,82,80,53,79,74,70,68,69,64,56,55,52,56,53,69]
["2021-09-01",{"$f":"VLOOKUP(J2044,'Control Panel'!$O$3:$S$47,5,FALSE)","v":"NW5"},null,null,null,null,null,null,null,"F84044",null,7904,22,21,20,21,20,9,22,22,19,20,20,21,19,18,18,19,17,20]
["2021-09-01",{"$f":"VLOOKUP(J2045,'Control Panel'!$O$3:$S$47,5,FALSE)","v":"NW3&4"},null,null,null,null,null,null,null,"F84046",null,3361,14,14,14,14,12,8,10,9,9,9,9,13,13,13,13,13,13,9]
["2021-09-01",{"$f":"VLOOKUP(J2046,'Control Panel'!$O$3:$S$47,5,FALSE)","v":"NW1"},null,null,null,null,null,null,null,"F84051",null,8087,18,15,15,15,14,1,14,11,10,10,10,10,8,8,5,8,5,10]
["2021-09-01",{"$f":"VLOOKUP(J2047,'Control Panel'!$O$3:$S$47,5,FALSE)","v":"NW7"},null,null,null,null,null,null,null,"F84054",null,11737,36,30,32,35,30,20,38,31,28,29,29,39,37,37,26,36,25,29]
["2021-09-01",{"$f":"VLOOKUP(J2048,'Control Panel'!$O$3:$S$47,5,FALSE)","v":"NW5"},null,null,null,null,null,null,null,"F84055",null,4178,9,9,9,9,6,5,8,8,8,8,8,12,12,12,11,11,12,8]
["2021-09-01",{"$f":"VLOOKUP(J2049,'Control Panel'!$O$3:$S$47,5,FALSE)","v":"NW7"},null,null,null,null,null,null,null,"F84062",null,15508,54,46,46,46,44,35,34,31,26,29,27,55,50,50,40,50,39,28]
["2021-09-01",{"$f":"VLOOKUP(J2050,'Control Panel'!$O$3:$S$47,5,FALSE)","v":"NW3&4"},null,null,null,null,null,null,null,"F84079",null,11843,29,26,26,25,26,13,24,23,21,21,22,30,27,26,27,25,26,21]
["2021-09-01",{"$f":"VLOOKUP(J2051,'Control Panel'!$O$3:$S$47,5,FALSE)","v":"NW2"},null,null,null,null,null,null,null,"F84081",null,14621,32,25,26,27,23,25,41,34,32,32,32,37,34,32,29,32,29,31]
["2021-09-01",{"$f":"VLOOKUP(J2052,'Control Panel'!$O$3:$S$47,5,FALSE)","v":"NW1"},null,null,null,null,null,null,null,"F84083",null,9675,24,19,20,23,18,12,23,20,21,19,20,31,29,29,23,30,23,21]
["2021-09-01",{"$f":"VLOOKUP(J2053,'Control Panel'!$O$3:$S$47,5,FALSE)","v":"NW3&4"},null,null,null,null,null,null,null,"F84087",null,9733,37,33,33,33,32,18,45,41,34,35,36,26,24,23,18,23,18,36]
["2021-09-01",{"$f":"VLOOKUP(J2054,'Control Panel'!$O$3:$S$47,5,FALSE)","v":"NW3&4"},null,null,null,null,null,null,null,"F84114",null,10517,43,40,40,40,38,30,28,26,25,25,25,42,41,41,37,41,37,24]
["2021-09-01",{"$f":"VLOOKUP(J2055,'Control Panel'!$O$3:$S$47,5,FALSE)","v":"NW6"},null,null,null,null,null,null,null,"F84118",null,5781,11,9,10,11,10,6,22,22,21,21,21,10,10,10,8,9,8,21]
["2021-09-01",{"$f":"VLOOKUP(J2056,'Control Panel'!$O$3:$S$47,5,FALSE)","v":"NW6"},null,null,null,null,null,null,null,"F84122",null,16511,45,39,39,42,37,30,50,46,42,41,41,46,46,45,40,44,42,41]
["2021-09-01",{"$f":"VLOOKUP(J2057,'Control Panel'!$O$3:$S$47,5,FALSE)","v":"NW1"},null,null,null,null,null,null,null,"F84123",null,16650,27,24,25,25,24,13,23,19,19,20,20,34,30,30,29,32,30,19]
["2021-09-01",{"$f":"VLOOKUP(J2058,'Control Panel'!$O$3:$S$47,5,FALSE)","v":"NW8"},null,null,null,null,null,null,null,"F84647",null,9140,21,18,18,19,18,13,34,30,26,25,25,29,27,26,17,27,17,26]
["2021-09-01",{"$f":"VLOOKUP(J2059,'Control Panel'!$O$3:$S$47,5,FALSE)","v":"NW8"},null,null,null,null,null,null,null,"F84656",null,9793,26,23,23,24,24,15,29,28,24,25,25,31,30,30,26,30,25,25]
["2021-09-01",{"$f":"VLOOKUP(J2060,'Control Panel'!$O$3:$S$47,5,FALSE)","v":"NW6"},null,null,null,null,null,null,null,"F84676",null,4135,8,6,6,6,4,2,16,14,11,11,11,9,9,9,8,9,8,11]
["2021-09-01",{"$f":"VLOOKUP(J2061,'Control Panel'!$O$3:$S$47,5,FALSE)","v":"NW3&4"},null,null,null,null,null,null,null,"F84682",null,11990,38,31,32,34,33,22,33,32,31,30,31,25,20,20,17,20,18,31]
["2021-09-01",{"$f":"VLOOKUP(J2062,'Control Panel'!$O$3:$S$47,5,FALSE)","v":"NW5"},null,null,null,null,null,null,null,"F84696",null,5967,23,21,21,22,21,8,19,17,17,17,17,25,24,23,17,25,16,17]
["2021-09-01",{"$f":"VLOOKUP(J2063,'Control Panel'!$O$3:$S$47,5,FALSE)","v":"NW7"},null,null,null,null,null,null,null,"F84698",null,10924,38,36,36,36,32,13,39,35,32,32,33,42,40,38,37,38,37,33]
["2021-09-01",{"$f":"VLOOKUP(J2064,'Control Panel'!$O$3:$S$47,5,FALSE)","v":"NW8"},null,null,null,null,null,null,null,"F84710",null,14664,37,33,30,34,31,28,35,30,26,26,25,46,39,37,32,38,32,26]
["2021-09-01",{"$f":"VLOOKUP(J2065,'Control Panel'!$O$3:$S$47,5,FALSE)","v":"NW6"},null,null,null,null,null,null,null,"F84714",null,15980,56,52,54,55,54,17,48,47,39,41,39,43,41,39,38,41,36,41]
["2021-09-01",{"$f":"VLOOKUP(J2066,'Control Panel'!$O$3:$S$47,5,FALSE)","v":"NW2"},null,null,null,null,null,null,null,"F84718",null,15035,54,51,50,51,47,25,42,39,33,33,34,33,31,30,30,28,29,34]
["2021-09-01",{"$f":"VLOOKUP(J2067,'Control Panel'!$O$3:$S$47,5,FALSE)","v":"NW3&4"},null,null,null,null,null,null,null,"F84731",null,2081,5,4,4,5,5,5,7,7,7,7,7,3,3,3,3,3,3,7]
["2021-09-01",{"$f":"VLOOKUP(J2068,'Control Panel'!$O$3:$S$47,5,FALSE)","v":"NW2"},null,null,null,null,null,null,null,"F84733",null,957,0,0,0,0,0,0,0,0,0,0,0,0,0,0,0,0,0,0]
["2021-09-01",{"$f":"VLOOKUP(J2069,'Control Panel'!$O$3:$S$47,5,FALSE)","v":"NW8"},null,null,null,null,null,null,null,"F84747",null,26383,88,84,85,85,83,46,90,82,81,84,81,65,60,55,55,57,57,82]
["2021-09-01",{"$f":"VLOOKUP(J2070,'Control Panel'!$O$3:$S$47,5,FALSE)","v":"NW1"},null,null,null,null,null,null,null,"Y00212",null,18,0,0,0,0,0,0,0,0,0,0,0,0,0,0,0,0,0,0]
["2021-09-01",{"$f":"VLOOKUP(J2071,'Control Panel'!$O$3:$S$47,5,FALSE)","v":"NW6"},null,null,null,null,null,null,null,"Y03023",null,15066,67,60,60,61,61,43,60,55,52,53,53,54,49,47,41,46,44,53]
["2021-09-01",{"$f":"VLOOKUP(J2072,'Control Panel'!$O$3:$S$47,5,FALSE)","v":0},null,null,null,null,null,null,null,"Total",null,382175,1147,1021,1025,1060,991,619,1112,1018,939,945,946,1071,992,967,856,969,860,949]
["2021-10-01",{"$f":"VLOOKUP(J2073,'Control Panel'!$O$3:$S$47,5,FALSE)","v":{"$error":"#N/A"}},"Childhood Immunisations Q3",null,"Last Run:",null,"Population Count",385690,null,null,"Search","All Patients","(01) 12 MONTH COHORT","(01.01) DTaP/IPV/Hib 6in1","(01.02) Men B (1st and 2nd)","(01.03) PCV","(01.04) Rotavirus","(01.05) BCG","(02) 24 MONTH COHORT","(02.01) DTaP/IPV/Hib Combined","(02.02) MMR","(02.03) HiB/Men C","(02.04) PCV (Booster)","(03) 5 YEAR COHORT","(03.01) DTaP/IPV/Hib Combined","(03.02) MMR (Primary)","(03.03) DTaP/IPV (Booster)","(03.04) HiB/Men C","(03.05) MMR (Booster)","(02.05) Men B (Booster)"]
["2021-10-01",{"$f":"VLOOKUP(J2074,'Control Panel'!$O$3:$S$47,5,FALSE)","v":{"$error":"#N/A"}},null,null,"2021-11-02T09:28:00",null,"Males",201647,null,"Organisation Code"]
["2021-10-01",{"$f":"VLOOKUP(J2075,'Control Panel'!$O$3:$S$47,5,FALSE)","v":"NW2"},null,null,"Relative Date:",null,"Females",184043,null,"F84012",null,9603,41,39,39,40,39,24,29,28,27,27,27,33,31,31,30,29,31,27]
["2021-10-01",{"$f":"VLOOKUP(J2076,'Control Panel'!$O$3:$S$47,5,FALSE)","v":"NW1"},null,null,"2021-11-01",null,null,null,null,"F84016",null,12568,30,27,27,28,26,8,31,27,28,28,28,31,28,26,23,27,23,27]
["2021-10-01",{"$f":"VLOOKUP(J2077,'Control Panel'!$O$3:$S$47,5,FALSE)","v":"NW7"},null,null,null,null,null,null,null,"F84025",null,11747,36,34,35,35,33,27,34,30,29,29,29,40,37,36,27,37,29,29]
["2021-10-01",{"$f":"VLOOKUP(J2078,'Control Panel'!$O$3:$S$47,5,FALSE)","v":"NW5"},null,null,null,null,null,null,null,"F84030",null,3764,12,10,10,11,11,4,15,14,13,13,13,8,8,8,5,8,5,13]
["2021-10-01",{"$f":"VLOOKUP(J2079,'Control Panel'!$O$3:$S$47,5,FALSE)","v":"NW3&4"},null,null,null,null,null,null,null,"F84031",null,14580,43,41,41,41,39,14,27,25,27,26,27,50,45,45,43,44,43,27]
["2021-10-01",{"$f":"VLOOKUP(J2080,'Control Panel'!$O$3:$S$47,5,FALSE)","v":"NW5"},null,null,null,null,null,null,null,"F84034",null,13443,33,31,31,31,29,15,42,39,38,39,40,44,42,39,35,40,33,39]
["2021-10-01",{"$f":"VLOOKUP(J2081,'Control Panel'!$O$3:$S$47,5,FALSE)","v":"NW3&4"},null,null,null,null,null,null,null,"F84039",null,28485,81,74,74,76,69,33,80,74,69,69,69,81,76,77,67,74,67,69]
["2021-10-01",{"$f":"VLOOKUP(J2082,'Control Panel'!$O$3:$S$47,5,FALSE)","v":"NW5"},null,null,null,null,null,null,null,"F84044",null,7997,19,15,15,15,15,10,19,16,17,17,16,22,20,16,15,17,15,17]
["2021-10-01",{"$f":"VLOOKUP(J2083,'Control Panel'!$O$3:$S$47,5,FALSE)","v":"NW1"},null,null,null,null,null,null,null,"F84051",null,8241,23,18,18,20,18,2,22,19,18,19,18,13,13,13,9,13,9,18]
["2021-10-01",{"$f":"VLOOKUP(J2084,'Control Panel'!$O$3:$S$47,5,FALSE)","v":"NW7"},null,null,null,null,null,null,null,"F84054",null,11776,33,28,29,28,25,12,46,43,43,42,42,46,42,41,28,43,27,41]
["2021-10-01",{"$f":"VLOOKUP(J2085,'Control Panel'!$O$3:$S$47,5,FALSE)","v":"NW5"},null,null,null,null,null,null,null,"F84055",null,4236,13,10,10,10,9,2,10,10,10,10,10,7,6,5,5,6,5,10]
["2021-10-01",{"$f":"VLOOKUP(J2086,'Control Panel'!$O$3:$S$47,5,FALSE)","v":"NW7"},null,null,null,null,null,null,null,"F84062",null,15591,45,37,37,38,37,25,60,57,52,53,53,48,43,38,33,41,32,53]
["2021-10-01",{"$f":"VLOOKUP(J2087,'Control Panel'!$O$3:$S$47,5,FALSE)","v":"NW3&4"},null,null,null,null,null,null,null,"F84079",null,11906,31,30,30,30,25,11,31,27,24,24,26,26,22,23,17,23,18,25]
["2021-10-01",{"$f":"VLOOKUP(J2088,'Control Panel'!$O$3:$S$47,5,FALSE)","v":"NW2"},null,null,null,null,null,null,null,"F84081",null,14679,31,27,26,28,24,20,21,18,16,16,16,24,20,20,20,21,20,16]
["2021-10-01",{"$f":"VLOOKUP(J2089,'Control Panel'!$O$3:$S$47,5,FALSE)","v":"NW1"},null,null,null,null,null,null,null,"F84083",null,9731,24,20,19,21,20,4,22,16,15,15,15,21,20,16,13,18,13,15]
["2021-10-01",{"$f":"VLOOKUP(J2090,'Control Panel'!$O$3:$S$47,5,FALSE)","v":"NW3&4"},null,null,null,null,null,null,null,"F84087",null,9703,23,17,18,18,18,9,27,21,19,20,20,39,37,38,31,38,31,20]
["2021-10-01",{"$f":"VLOOKUP(J2091,'Control Panel'!$O$3:$S$47,5,FALSE)","v":"NW3&4"},null,null,null,null,null,null,null,"F84114",null,10947,31,30,30,30,30,13,32,30,28,28,28,32,27,27,26,26,26,28]
["2021-10-01",{"$f":"VLOOKUP(J2092,'Control Panel'!$O$3:$S$47,5,FALSE)","v":"NW6"},null,null,null,null,null,null,null,"F84118",null,5871,12,9,10,10,9,5,14,13,14,14,14,6,6,6,5,6,6,13]
["2021-10-01",{"$f":"VLOOKUP(J2093,'Control Panel'!$O$3:$S$47,5,FALSE)","v":"NW6"},null,null,null,null,null,null,null,"F84122",null,16816,46,40,41,42,39,24,56,51,52,53,53,48,46,43,40,44,41,52]
["2021-10-01",{"$f":"VLOOKUP(J2094,'Control Panel'!$O$3:$S$47,5,FALSE)","v":"NW1"},null,null,null,null,null,null,null,"F84123",null,17159,25,24,24,24,21,10,31,26,27,27,27,22,21,18,18,20,17,27]
["2021-10-01",{"$f":"VLOOKUP(J2095,'Control Panel'!$O$3:$S$47,5,FALSE)","v":"NW8"},null,null,null,null,null,null,null,"F84647",null,9147,24,23,23,24,23,10,37,32,31,31,30,19,17,18,11,17,12,31]
["2021-10-01",{"$f":"VLOOKUP(J2096,'Control Panel'!$O$3:$S$47,5,FALSE)","v":"NW8"},null,null,null,null,null,null,null,"F84656",null,9848,19,19,19,19,19,10,25,25,24,23,24,15,15,14,11,14,11,23]
["2021-10-01",{"$f":"VLOOKUP(J2097,'Control Panel'!$O$3:$S$47,5,FALSE)","v":"NW6"},null,null,null,null,null,null,null,"F84676",null,4156,8,7,7,7,7,5,9,8,7,7,7,16,14,14,13,14,13,7]
["2021-10-01",{"$f":"VLOOKUP(J2098,'Control Panel'!$O$3:$S$47,5,FALSE)","v":"NW5"},null,null,null,null,null,null,null,"F84696",null,5942,16,15,15,16,15,2,15,14,12,12,12,12,11,11,10,11,10,12]
["2021-10-01",{"$f":"VLOOKUP(J2099,'Control Panel'!$O$3:$S$47,5,FALSE)","v":"NW7"},null,null,null,null,null,null,null,"F84698",null,11047,28,24,24,25,24,5,29,25,24,25,25,28,28,28,27,28,27,25]
["2021-10-01",{"$f":"VLOOKUP(J2100,'Control Panel'!$O$3:$S$47,5,FALSE)","v":"NW8"},null,null,null,null,null,null,null,"F84710",null,14950,37,32,32,32,32,23,29,26,24,24,24,37,31,29,24,30,25,23]
["2021-10-01",{"$f":"VLOOKUP(J2101,'Control Panel'!$O$3:$S$47,5,FALSE)","v":"NW6"},null,null,null,null,null,null,null,"F84714",null,16068,46,44,44,45,44,11,62,55,53,54,53,54,50,49,44,50,42,53]
["2021-10-01",{"$f":"VLOOKUP(J2102,'Control Panel'!$O$3:$S$47,5,FALSE)","v":"NW2"},null,null,null,null,null,null,null,"F84718",null,15106,34,31,31,31,29,15,36,30,29,28,28,41,40,40,35,38,37,29]
["2021-10-01",{"$f":"VLOOKUP(J2103,'Control Panel'!$O$3:$S$47,5,FALSE)","v":"NW3&4"},null,null,null,null,null,null,null,"F84731",null,2081,5,5,4,5,3,3,5,5,5,5,5,4,4,4,4,4,4,5]
["2021-10-01",{"$f":"VLOOKUP(J2104,'Control Panel'!$O$3:$S$47,5,FALSE)","v":"NW2"},null,null,null,null,null,null,null,"F84733",null,1009,0,0,0,0,0,0,0,0,0,0,0,0,0,0,0,0,0,0]
["2021-10-01",{"$f":"VLOOKUP(J2105,'Control Panel'!$O$3:$S$47,5,FALSE)","v":"NW8"},null,null,null,null,null,null,null,"F84747",null,26602,88,80,77,83,79,41,88,77,70,73,74,77,70,67,61,68,62,74]
["2021-10-01",{"$f":"VLOOKUP(J2106,'Control Panel'!$O$3:$S$47,5,FALSE)","v":"NW1"},null,null,null,null,null,null,null,"Y00212",null,1,0,0,0,0,0,0,0,0,0,0,0,0,0,0,0,0,0,0]
["2021-10-01",{"$f":"VLOOKUP(J2107,'Control Panel'!$O$3:$S$47,5,FALSE)","v":"NW6"},null,null,null,null,null,null,null,"Y03023",null,15199,42,37,38,39,38,21,49,43,42,42,40,59,54,50,43,51,43,42]
["2021-10-01",{"$f":"VLOOKUP(J2108,'Control Panel'!$O$3:$S$47,5,FALSE)","v":0},null,null,null,null,null,null,null,"Total",null,369999,979,878,878,902,849,418,1033,924,887,893,893,1003,924,890,773,900,777,890]
["2021-11-01",{"$f":"VLOOKUP(J2109,'Control Panel'!$O$3:$S$47,5,FALSE)","v":{"$error":"#N/A"}},"Childhood Immunisations Q3",null,"Last Run:",null,"Population Count",387982,null,null,"Search","All Patients","(01) 12 MONTH COHORT","(01.01) DTaP/IPV/Hib 6in1","(01.02) Men B (1st and 2nd)","(01.03) PCV","(01.04) Rotavirus","(01.05) BCG","(02) 24 MONTH COHORT","(02.01) DTaP/IPV/Hib Combined","(02.02) MMR","(02.03) HiB/Men C","(02.04) PCV (Booster)","(03) 5 YEAR COHORT","(03.01) DTaP/IPV/Hib Combined","(03.02) MMR (Primary)","(03.03) DTaP/IPV (Booster)","(03.04) HiB/Men C","(03.05) MMR (Booster)","(02.05) Men B (Booster)"]
["2021-11-01",{"$f":"VLOOKUP(J2110,'Control Panel'!$O$3:$S$47,5,FALSE)","v":{"$error":"#N/A"}},null,null,"2021-12-03T14:58:00",null,"Males",202915,null,"Organisation Code"]
["2021-11-01",{"$f":"VLOOKUP(J2111,'Control Panel'!$O$3:$S$47,5,FALSE)","v":"NW2"},null,null,"Relative Date:",null,"Females",185067,null,"F84012",null,9618,41,40,40,40,40,25,29,28,27,27,27,33,31,32,30,29,31,27]
["2021-11-01",{"$f":"VLOOKUP(J2112,'Control Panel'!$O$3:$S$47,5,FALSE)","v":"NW1"},null,null,"2021-12-01",null,null,null,null,"F84016",null,12583,30,28,28,28,26,8,32,29,29,29,28,31,27,25,22,26,22,28]
["2021-11-01",{"$f":"VLOOKUP(J2113,'Control Panel'!$O$3:$S$47,5,FALSE)","v":"NW7"},null,null,null,null,null,null,null,"F84025",null,11795,36,34,35,35,33,27,34,29,28,28,28,42,38,37,27,38,29,28]
["2021-11-01",{"$f":"VLOOKUP(J2114,'Control Panel'!$O$3:$S$47,5,FALSE)","v":"NW5"},null,null,null,null,null,null,null,"F84030",null,3785,11,9,9,10,10,4,14,13,12,12,12,7,7,7,4,7,4,12]
["2021-11-01",{"$f":"VLOOKUP(J2115,'Control Panel'!$O$3:$S$47,5,FALSE)","v":"NW3&4"},null,null,null,null,null,null,null,"F84031",null,14493,41,39,39,39,37,14,27,25,27,26,27,49,44,44,42,43,42,27]
["2021-11-01",{"$f":"VLOOKUP(J2116,'Control Panel'!$O$3:$S$47,5,FALSE)","v":"NW5"},null,null,null,null,null,null,null,"F84034",null,13427,33,30,31,31,29,15,43,39,38,39,40,45,42,39,35,40,33,39]
["2021-11-01",{"$f":"VLOOKUP(J2117,'Control Panel'!$O$3:$S$47,5,FALSE)","v":"NW3&4"},null,null,null,null,null,null,null,"F84039",null,28498,78,70,70,72,66,32,76,69,64,64,64,81,76,77,68,74,68,64]
["2021-11-01",{"$f":"VLOOKUP(J2118,'Control Panel'!$O$3:$S$47,5,FALSE)","v":"NW5"},null,null,null,null,null,null,null,"F84044",null,8070,19,15,15,15,15,10,19,16,17,17,16,22,20,16,15,17,15,17]
["2021-11-01",{"$f":"VLOOKUP(J2119,'Control Panel'!$O$3:$S$47,5,FALSE)","v":"NW1"},null,null,null,null,null,null,null,"F84051",null,8293,23,19,19,20,18,2,21,19,18,19,18,12,12,12,9,12,9,18]
["2021-11-01",{"$f":"VLOOKUP(J2120,'Control Panel'!$O$3:$S$47,5,FALSE)","v":"NW7"},null,null,null,null,null,null,null,"F84054",null,11834,31,26,27,26,23,12,48,44,43,42,42,46,42,41,28,43,27,42]
["2021-11-01",{"$f":"VLOOKUP(J2121,'Control Panel'!$O$3:$S$47,5,FALSE)","v":"NW5"},null,null,null,null,null,null,null,"F84055",null,4317,13,10,10,10,9,2,12,12,12,12,12,7,6,5,5,6,5,12]
["2021-11-01",{"$f":"VLOOKUP(J2122,'Control Panel'!$O$3:$S$47,5,FALSE)","v":"NW7"},null,null,null,null,null,null,null,"F84062",null,15674,45,39,39,40,39,25,61,58,53,54,54,48,43,39,33,41,32,54]
["2021-11-01",{"$f":"VLOOKUP(J2123,'Control Panel'!$O$3:$S$47,5,FALSE)","v":"NW3&4"},null,null,null,null,null,null,null,"F84079",null,11839,31,30,30,30,25,11,30,26,23,23,25,24,20,21,16,21,17,24]
["2021-11-01",{"$f":"VLOOKUP(J2124,'Control Panel'!$O$3:$S$47,5,FALSE)","v":"NW2"},null,null,null,null,null,null,null,"F84081",null,14719,30,27,26,28,24,20,22,19,16,16,16,24,20,20,20,21,20,16]
["2021-11-01",{"$f":"VLOOKUP(J2125,'Control Panel'!$O$3:$S$47,5,FALSE)","v":"NW1"},null,null,null,null,null,null,null,"F84083",null,9726,24,20,19,21,20,4,21,17,15,15,15,21,20,16,13,18,13,15]
["2021-11-01",{"$f":"VLOOKUP(J2126,'Control Panel'!$O$3:$S$47,5,FALSE)","v":"NW3&4"},null,null,null,null,null,null,null,"F84087",null,9679,24,18,19,19,19,9,27,21,19,20,20,39,37,38,32,38,32,20]
["2021-11-01",{"$f":"VLOOKUP(J2127,'Control Panel'!$O$3:$S$47,5,FALSE)","v":"NW3&4"},null,null,null,null,null,null,null,"F84114",null,11448,35,34,34,34,33,15,33,31,29,29,29,33,28,28,27,27,27,29]
["2021-11-01",{"$f":"VLOOKUP(J2128,'Control Panel'!$O$3:$S$47,5,FALSE)","v":"NW6"},null,null,null,null,null,null,null,"F84118",null,5890,10,9,9,9,9,4,14,13,14,14,14,6,6,6,5,6,6,13]
["2021-11-01",{"$f":"VLOOKUP(J2129,'Control Panel'!$O$3:$S$47,5,FALSE)","v":"NW6"},null,null,null,null,null,null,null,"F84122",null,16948,44,39,40,42,38,24,55,50,51,52,52,47,45,42,40,43,42,51]
["2021-11-01",{"$f":"VLOOKUP(J2130,'Control Panel'!$O$3:$S$47,5,FALSE)","v":"NW1"},null,null,null,null,null,null,null,"F84123",null,17524,24,23,23,23,20,10,30,25,26,26,26,23,22,19,19,21,18,26]
["2021-11-01",{"$f":"VLOOKUP(J2131,'Control Panel'!$O$3:$S$47,5,FALSE)","v":"NW8"},null,null,null,null,null,null,null,"F84647",null,9248,26,23,24,25,24,11,37,32,31,31,30,19,17,18,11,17,12,31]
["2021-11-01",{"$f":"VLOOKUP(J2132,'Control Panel'!$O$3:$S$47,5,FALSE)","v":"NW8"},null,null,null,null,null,null,null,"F84656",null,9920,19,19,19,19,19,10,23,23,22,22,22,14,14,13,10,13,10,22]
["2021-11-01",{"$f":"VLOOKUP(J2133,'Control Panel'!$O$3:$S$47,5,FALSE)","v":"NW6"},null,null,null,null,null,null,null,"F84676",null,4177,8,7,7,7,7,5,9,8,7,7,7,16,14,14,13,14,13,7]
["2021-11-01",{"$f":"VLOOKUP(J2134,'Control Panel'!$O$3:$S$47,5,FALSE)","v":"NW5"},null,null,null,null,null,null,null,"F84696",null,6067,16,15,15,16,15,2,15,14,12,12,12,12,11,11,10,11,10,12]
["2021-11-01",{"$f":"VLOOKUP(J2135,'Control Panel'!$O$3:$S$47,5,FALSE)","v":"NW7"},null,null,null,null,null,null,null,"F84698",null,11192,28,24,24,25,24,6,29,25,24,25,25,28,28,28,26,28,26,25]
["2021-11-01",{"$f":"VLOOKUP(J2136,'Control Panel'!$O$3:$S$47,5,FALSE)","v":"NW8"},null,null,null,null,null,null,null,"F84710",null,15049,34,31,31,31,31,23,30,26,24,24,24,38,32,30,24,30,25,23]
["2021-11-01",{"$f":"VLOOKUP(J2137,'Control Panel'!$O$3:$S$47,5,FALSE)","v":"NW6"},null,null,null,null,null,null,null,"F84714",null,16151,48,46,46,47,46,11,65,59,55,56,55,55,50,49,44,50,42,56]
["2021-11-01",{"$f":"VLOOKUP(J2138,'Control Panel'!$O$3:$S$47,5,FALSE)","v":"NW2"},null,null,null,null,null,null,null,"F84718",null,14979,33,30,30,30,28,15,36,30,29,28,28,39,38,38,33,36,35,29]
["2021-11-01",{"$f":"VLOOKUP(J2139,'Control Panel'!$O$3:$S$47,5,FALSE)","v":"NW3&4"},null,null,null,null,null,null,null,"F84731",null,2068,4,4,4,4,3,2,5,5,5,5,5,4,4,4,4,4,4,5]
["2021-11-01",{"$f":"VLOOKUP(J2140,'Control Panel'!$O$3:$S$47,5,FALSE)","v":"NW2"},null,null,null,null,null,null,null,"F84733",null,1076,0,0,0,0,0,0,0,0,0,0,0,0,0,0,0,0,0,0]
["2021-11-01",{"$f":"VLOOKUP(J2141,'Control Panel'!$O$3:$S$47,5,FALSE)","v":"NW8"},null,null,null,null,null,null,null,"F84747",null,26962,88,80,77,82,78,40,89,78,71,74,75,77,70,67,61,68,62,75]
["2021-11-01",{"$f":"VLOOKUP(J2142,'Control Panel'!$O$3:$S$47,5,FALSE)","v":"NW1"},null,null,null,null,null,null,null,"Y00212",null,1,0,0,0,0,0,0,0,0,0,0,0,0,0,0,0,0,0,0]
["2021-11-01",{"$f":"VLOOKUP(J2143,'Control Panel'!$O$3:$S$47,5,FALSE)","v":"NW6"},null,null,null,null,null,null,null,"Y03023",null,15291,42,37,38,39,38,21,49,43,42,42,40,60,55,51,44,52,44,42]
["2021-11-01",{"$f":"VLOOKUP(J2144,'Control Panel'!$O$3:$S$47,5,FALSE)","v":0},null,null,null,null,null,null,null,"Total",null,372341,969,875,877,897,846,419,1035,926,883,890,888,1002,919,887,770,894,775,889]
["2021-12-01",{"$f":"VLOOKUP(J2145,'Control Panel'!$O$3:$S$47,5,FALSE)","v":{"$error":"#N/A"}},"Childhood Immunisations Q3",null,"Last Run:",null,"Population Count",389797,null,null,"Search","All Patients","(01) 12 MONTH COHORT","(01.01) DTaP/IPV/Hib 6in1","(01.02) Men B (1st and 2nd)","(01.03) PCV","(01.04) Rotavirus","(01.05) BCG","(02) 24 MONTH COHORT","(02.01) DTaP/IPV/Hib Combined","(02.02) MMR","(02.03) HiB/Men C","(02.04) PCV (Booster)","(03) 5 YEAR COHORT","(03.01) DTaP/IPV/Hib Combined","(03.02) MMR (Primary)","(03.03) DTaP/IPV (Booster)","(03.04) HiB/Men C","(03.05) MMR (Booster)","(02.05) Men B (Booster)"]
["2021-12-01",{"$f":"VLOOKUP(J2146,'Control Panel'!$O$3:$S$47,5,FALSE)","v":{"$error":"#N/A"}},null,null,"2022-01-04T20:25:00",null,"Males",203920,null,"Organisation Code"]
["2021-12-01",{"$f":"VLOOKUP(J2147,'Control Panel'!$O$3:$S$47,5,FALSE)","v":"NW2"},null,null,"Relative Date:",null,"Females",185877,null,"F84012",null,9621,40,39,39,39,39,25,29,28,27,27,27,34,33,34,31,30,32,27]
["2021-12-01",{"$f":"VLOOKUP(J2148,'Control Panel'!$O$3:$S$47,5,FALSE)","v":"NW1"},null,null,"2022-01-01",null,null,null,null,"F84016",null,12671,31,30,30,30,28,9,32,29,29,29,28,31,26,24,21,25,21,28]
["2021-12-01",{"$f":"VLOOKUP(J2149,'Control Panel'!$O$3:$S$47,5,FALSE)","v":"NW7"},null,null,null,null,null,null,null,"F84025",null,11843,36,34,35,35,33,27,34,29,28,28,28,41,38,37,27,38,29,28]
["2021-12-01",{"$f":"VLOOKUP(J2150,'Control Panel'!$O$3:$S$47,5,FALSE)","v":"NW5"},null,null,null,null,null,null,null,"F84030",null,3810,11,9,9,10,10,4,14,13,12,12,12,7,7,7,4,7,4,12]
["2021-12-01",{"$f":"VLOOKUP(J2151,'Control Panel'!$O$3:$S$47,5,FALSE)","v":"NW3&4"},null,null,null,null,null,null,null,"F84031",null,14394,40,38,38,38,36,14,27,25,27,26,27,49,44,44,42,43,42,27]
["2021-12-01",{"$f":"VLOOKUP(J2152,'Control Panel'!$O$3:$S$47,5,FALSE)","v":"NW5"},null,null,null,null,null,null,null,"F84034",null,13435,33,30,31,31,29,15,43,40,39,40,41,45,42,39,35,40,33,40]
["2021-12-01",{"$f":"VLOOKUP(J2153,'Control Panel'!$O$3:$S$47,5,FALSE)","v":"NW3&4"},null,null,null,null,null,null,null,"F84039",null,28633,75,67,67,68,63,32,76,69,64,64,64,75,70,71,62,68,62,65]
["2021-12-01",{"$f":"VLOOKUP(J2154,'Control Panel'!$O$3:$S$47,5,FALSE)","v":"NW5"},null,null,null,null,null,null,null,"F84044",null,8126,21,16,16,16,16,11,19,16,17,17,16,22,20,16,15,17,15,17]
["2021-12-01",{"$f":"VLOOKUP(J2155,'Control Panel'!$O$3:$S$47,5,FALSE)","v":"NW1"},null,null,null,null,null,null,null,"F84051",null,8332,22,19,19,19,18,2,21,19,18,19,18,12,12,12,9,12,9,18]
["2021-12-01",{"$f":"VLOOKUP(J2156,'Control Panel'!$O$3:$S$47,5,FALSE)","v":"NW7"},null,null,null,null,null,null,null,"F84054",null,11875,34,28,29,29,25,14,48,44,43,42,42,46,43,42,28,43,27,42]
["2021-12-01",{"$f":"VLOOKUP(J2157,'Control Panel'!$O$3:$S$47,5,FALSE)","v":"NW5"},null,null,null,null,null,null,null,"F84055",null,4369,13,10,10,10,9,2,12,12,12,12,12,7,6,5,5,6,5,12]
["2021-12-01",{"$f":"VLOOKUP(J2158,'Control Panel'!$O$3:$S$47,5,FALSE)","v":"NW7"},null,null,null,null,null,null,null,"F84062",null,15581,46,39,39,40,39,24,57,54,49,50,50,48,43,39,33,41,32,50]
["2021-12-01",{"$f":"VLOOKUP(J2159,'Control Panel'!$O$3:$S$47,5,FALSE)","v":"NW3&4"},null,null,null,null,null,null,null,"F84079",null,11853,31,31,31,31,26,12,29,25,23,23,25,23,20,21,16,21,17,24]
["2021-12-01",{"$f":"VLOOKUP(J2160,'Control Panel'!$O$3:$S$47,5,FALSE)","v":"NW2"},null,null,null,null,null,null,null,"F84081",null,14795,30,27,26,28,24,20,21,19,16,15,16,24,20,20,20,21,20,15]
["2021-12-01",{"$f":"VLOOKUP(J2161,'Control Panel'!$O$3:$S$47,5,FALSE)","v":"NW1"},null,null,null,null,null,null,null,"F84083",null,9728,25,20,19,22,20,4,19,15,13,13,13,21,20,16,13,18,13,13]
["2021-12-01",{"$f":"VLOOKUP(J2162,'Control Panel'!$O$3:$S$47,5,FALSE)","v":"NW3&4"},null,null,null,null,null,null,null,"F84087",null,9726,25,18,19,19,19,9,27,21,19,20,20,39,37,38,32,38,32,20]
["2021-12-01",{"$f":"VLOOKUP(J2163,'Control Panel'!$O$3:$S$47,5,FALSE)","v":"NW3&4"},null,null,null,null,null,null,null,"F84114",null,11708,38,36,36,37,35,16,33,31,29,29,29,39,34,34,33,33,33,29]
["2021-12-01",{"$f":"VLOOKUP(J2164,'Control Panel'!$O$3:$S$47,5,FALSE)","v":"NW6"},null,null,null,null,null,null,null,"F84118",null,5920,10,9,9,9,9,4,14,13,14,14,14,6,6,6,5,6,6,13]
["2021-12-01",{"$f":"VLOOKUP(J2165,'Control Panel'!$O$3:$S$47,5,FALSE)","v":"NW6"},null,null,null,null,null,null,null,"F84122",null,17130,44,40,40,42,38,24,57,51,52,53,53,47,45,42,40,43,42,52]
["2021-12-01",{"$f":"VLOOKUP(J2166,'Control Panel'!$O$3:$S$47,5,FALSE)","v":"NW1"},null,null,null,null,null,null,null,"F84123",null,17580,25,24,24,24,21,10,31,25,26,26,26,23,22,19,19,21,18,26]
["2021-12-01",{"$f":"VLOOKUP(J2167,'Control Panel'!$O$3:$S$47,5,FALSE)","v":"NW8"},null,null,null,null,null,null,null,"F84647",null,9349,26,23,24,25,24,11,39,36,35,35,32,16,15,16,10,15,11,33]
["2021-12-01",{"$f":"VLOOKUP(J2168,'Control Panel'!$O$3:$S$47,5,FALSE)","v":"NW8"},null,null,null,null,null,null,null,"F84656",null,9963,19,19,19,19,19,10,23,23,23,23,23,12,12,11,10,11,10,22]
["2021-12-01",{"$f":"VLOOKUP(J2169,'Control Panel'!$O$3:$S$47,5,FALSE)","v":"NW6"},null,null,null,null,null,null,null,"F84676",null,4196,9,8,8,8,8,5,9,8,7,7,7,16,14,14,13,14,13,7]
["2021-12-01",{"$f":"VLOOKUP(J2170,'Control Panel'!$O$3:$S$47,5,FALSE)","v":"NW5"},null,null,null,null,null,null,null,"F84696",null,6141,16,16,16,16,15,2,15,14,12,12,12,13,12,12,11,12,11,12]
["2021-12-01",{"$f":"VLOOKUP(J2171,'Control Panel'!$O$3:$S$47,5,FALSE)","v":"NW7"},null,null,null,null,null,null,null,"F84698",null,11333,28,24,24,25,24,6,29,25,24,25,25,28,28,28,26,28,26,25]
["2021-12-01",{"$f":"VLOOKUP(J2172,'Control Panel'!$O$3:$S$47,5,FALSE)","v":"NW8"},null,null,null,null,null,null,null,"F84710",null,15181,34,31,31,31,31,23,29,25,23,23,23,38,32,30,24,30,25,23]
["2021-12-01",{"$f":"VLOOKUP(J2173,'Control Panel'!$O$3:$S$47,5,FALSE)","v":"NW6"},null,null,null,null,null,null,null,"F84714",null,16233,47,45,45,46,45,11,66,59,55,56,55,56,52,51,45,51,44,56]
["2021-12-01",{"$f":"VLOOKUP(J2174,'Control Panel'!$O$3:$S$47,5,FALSE)","v":"NW2"},null,null,null,null,null,null,null,"F84718",null,15002,34,30,30,30,28,15,37,31,30,29,29,38,37,37,32,35,34,30]
["2021-12-01",{"$f":"VLOOKUP(J2175,'Control Panel'!$O$3:$S$47,5,FALSE)","v":"NW3&4"},null,null,null,null,null,null,null,"F84731",null,2070,4,4,4,4,3,2,5,5,5,5,5,4,4,4,4,4,4,5]
["2021-12-01",{"$f":"VLOOKUP(J2176,'Control Panel'!$O$3:$S$47,5,FALSE)","v":"NW2"},null,null,null,null,null,null,null,"F84733",null,1107,0,0,0,0,0,0,0,0,0,0,0,0,0,0,0,0,0,0]
["2021-12-01",{"$f":"VLOOKUP(J2177,'Control Panel'!$O$3:$S$47,5,FALSE)","v":"NW8"},null,null,null,null,null,null,null,"F84747",null,27156,90,81,78,83,78,41,88,77,70,73,74,76,69,66,61,67,62,74]
["2021-12-01",{"$f":"VLOOKUP(J2178,'Control Panel'!$O$3:$S$47,5,FALSE)","v":"NW1"},null,null,null,null,null,null,null,"Y00212",null,1,0,0,0,0,0,0,0,0,0,0,0,0,0,0,0,0,0,0]
["2021-12-01",{"$f":"VLOOKUP(J2179,'Control Panel'!$O$3:$S$47,5,FALSE)","v":"NW6"},null,null,null,null,null,null,null,"Y03023",null,15270,43,37,39,40,39,22,49,43,42,42,40,61,55,51,44,52,44,42]
["2021-12-01",{"$f":"VLOOKUP(J2180,'Control Panel'!$O$3:$S$47,5,FALSE)","v":0},null,null,null,null,null,null,null,"Total",null,374132,980,882,884,904,851,426,1032,924,883,889,886,997,918,886,770,890,776,887]
["2022-01-01",{"$f":"VLOOKUP(J2181,'Control Panel'!$O$3:$S$47,5,FALSE)","v":{"$error":"#N/A"}},"Childhood Immunisations Q3",null,"Last Run:",null,"Population Count",390432,null,null,"Search","All Patients","(01) 12 MONTH COHORT","(01.01) DTaP/IPV/Hib 6in1","(01.02) Men B (1st and 2nd)","(01.03) PCV","(01.04) Rotavirus","(01.05) BCG","(02) 24 MONTH COHORT","(02.01) DTaP/IPV/Hib Combined","(02.02) MMR","(02.03) HiB/Men C","(02.04) PCV (Booster)","(03) 5 YEAR COHORT","(03.01) DTaP/IPV/Hib Combined","(03.02) MMR (Primary)","(03.03) DTaP/IPV (Booster)","(03.04) HiB/Men C","(03.05) MMR (Booster)","(02.05) Men B (Booster)"]
["2022-01-01",{"$f":"VLOOKUP(J2182,'Control Panel'!$O$3:$S$47,5,FALSE)","v":{"$error":"#N/A"}},null,null,"2022-02-23T18:16:00",null,"Males",204432,null,"Organisation Code"]
["2022-01-01",{"$f":"VLOOKUP(J2183,'Control Panel'!$O$3:$S$47,5,FALSE)","v":"NW2"},null,null,"Relative Date:",null,"Females",186000,null,"F84012",null,9638,39,38,38,38,38,26,29,29,27,27,27,33,31,32,29,28,30,27]
["2022-01-01",{"$f":"VLOOKUP(J2184,'Control Panel'!$O$3:$S$47,5,FALSE)","v":"NW1"},null,null,"2022-02-01",null,null,null,null,"F84016",null,12643,32,31,31,31,29,10,33,29,29,29,28,32,27,25,22,26,22,28]
["2022-01-01",{"$f":"VLOOKUP(J2185,'Control Panel'!$O$3:$S$47,5,FALSE)","v":"NW7"},null,null,null,null,null,null,null,"F84025",null,11799,33,31,32,32,30,25,34,29,28,28,28,41,38,37,27,38,29,28]
["2022-01-01",{"$f":"VLOOKUP(J2186,'Control Panel'!$O$3:$S$47,5,FALSE)","v":"NW5"},null,null,null,null,null,null,null,"F84030",null,3783,11,9,9,10,10,4,14,13,12,12,12,7,7,7,4,7,4,12]
["2022-01-01",{"$f":"VLOOKUP(J2187,'Control Panel'!$O$3:$S$47,5,FALSE)","v":"NW3&4"},null,null,null,null,null,null,null,"F84031",null,14308,40,38,38,38,36,14,27,25,27,26,27,49,44,44,42,43,42,27]
["2022-01-01",{"$f":"VLOOKUP(J2188,'Control Panel'!$O$3:$S$47,5,FALSE)","v":"NW5"},null,null,null,null,null,null,null,"F84034",null,13425,33,30,31,31,29,15,44,40,39,40,41,42,39,36,33,37,31,40]
["2022-01-01",{"$f":"VLOOKUP(J2189,'Control Panel'!$O$3:$S$47,5,FALSE)","v":"NW3&4"},null,null,null,null,null,null,null,"F84039",null,28921,71,64,64,65,61,30,75,68,63,63,63,75,69,70,61,67,61,64]
["2022-01-01",{"$f":"VLOOKUP(J2190,'Control Panel'!$O$3:$S$47,5,FALSE)","v":"NW5"},null,null,null,null,null,null,null,"F84044",null,8051,22,19,18,19,18,12,18,15,16,16,15,22,20,16,15,17,15,16]
["2022-01-01",{"$f":"VLOOKUP(J2191,'Control Panel'!$O$3:$S$47,5,FALSE)","v":"NW1"},null,null,null,null,null,null,null,"F84051",null,8405,22,19,19,19,18,2,21,19,18,19,18,12,12,12,9,12,9,18]
["2022-01-01",{"$f":"VLOOKUP(J2192,'Control Panel'!$O$3:$S$47,5,FALSE)","v":"NW7"},null,null,null,null,null,null,null,"F84054",null,11908,35,31,32,32,29,14,48,44,43,42,42,46,43,42,28,43,27,42]
["2022-01-01",{"$f":"VLOOKUP(J2193,'Control Panel'!$O$3:$S$47,5,FALSE)","v":"NW5"},null,null,null,null,null,null,null,"F84055",null,4420,13,11,11,11,10,2,12,12,12,12,12,7,6,5,5,6,5,12]
["2022-01-01",{"$f":"VLOOKUP(J2194,'Control Panel'!$O$3:$S$47,5,FALSE)","v":"NW7"},null,null,null,null,null,null,null,"F84062",null,15481,45,39,39,40,40,23,56,53,48,49,49,51,45,41,35,43,34,49]
["2022-01-01",{"$f":"VLOOKUP(J2195,'Control Panel'!$O$3:$S$47,5,FALSE)","v":"NW3&4"},null,null,null,null,null,null,null,"F84079",null,11862,31,31,31,31,26,12,28,24,22,22,24,22,20,21,16,21,17,23]
["2022-01-01",{"$f":"VLOOKUP(J2196,'Control Panel'!$O$3:$S$47,5,FALSE)","v":"NW2"},null,null,null,null,null,null,null,"F84081",null,14838,30,27,26,28,24,20,21,19,16,15,16,25,21,21,21,22,21,15]
["2022-01-01",{"$f":"VLOOKUP(J2197,'Control Panel'!$O$3:$S$47,5,FALSE)","v":"NW1"},null,null,null,null,null,null,null,"F84083",null,9781,26,21,20,23,21,5,19,15,13,13,13,21,20,16,13,18,13,13]
["2022-01-01",{"$f":"VLOOKUP(J2198,'Control Panel'!$O$3:$S$47,5,FALSE)","v":"NW3&4"},null,null,null,null,null,null,null,"F84087",null,9677,23,18,20,20,20,10,26,20,18,19,19,38,36,37,31,37,31,19]
["2022-01-01",{"$f":"VLOOKUP(J2199,'Control Panel'!$O$3:$S$47,5,FALSE)","v":"NW3&4"},null,null,null,null,null,null,null,"F84114",null,11775,40,37,37,38,36,17,35,32,31,31,31,40,35,35,34,34,34,30]
["2022-01-01",{"$f":"VLOOKUP(J2200,'Control Panel'!$O$3:$S$47,5,FALSE)","v":"NW6"},null,null,null,null,null,null,null,"F84118",null,5996,11,10,10,10,10,4,14,13,14,14,14,6,6,6,5,6,6,13]
["2022-01-01",{"$f":"VLOOKUP(J2201,'Control Panel'!$O$3:$S$47,5,FALSE)","v":"NW6"},null,null,null,null,null,null,null,"F84122",null,17147,43,39,39,41,37,23,60,54,56,57,57,47,45,42,40,43,42,55]
["2022-01-01",{"$f":"VLOOKUP(J2202,'Control Panel'!$O$3:$S$47,5,FALSE)","v":"NW1"},null,null,null,null,null,null,null,"F84123",null,17700,25,23,23,23,20,10,30,24,25,25,25,24,23,20,20,22,19,25]
["2022-01-01",{"$f":"VLOOKUP(J2203,'Control Panel'!$O$3:$S$47,5,FALSE)","v":"NW8"},null,null,null,null,null,null,null,"F84647",null,9357,25,23,24,25,24,10,38,35,34,34,31,16,15,16,10,15,11,32]
["2022-01-01",{"$f":"VLOOKUP(J2204,'Control Panel'!$O$3:$S$47,5,FALSE)","v":"NW8"},null,null,null,null,null,null,null,"F84656",null,9962,19,19,19,19,19,9,23,23,23,23,23,12,12,11,10,11,10,22]
["2022-01-01",{"$f":"VLOOKUP(J2205,'Control Panel'!$O$3:$S$47,5,FALSE)","v":"NW6"},null,null,null,null,null,null,null,"F84676",null,4199,9,8,8,8,8,5,9,8,7,7,7,16,14,14,13,14,13,7]
["2022-01-01",{"$f":"VLOOKUP(J2206,'Control Panel'!$O$3:$S$47,5,FALSE)","v":"NW5"},null,null,null,null,null,null,null,"F84696",null,6159,16,16,16,16,15,2,16,15,13,13,13,12,11,11,10,11,10,13]
["2022-01-01",{"$f":"VLOOKUP(J2207,'Control Panel'!$O$3:$S$47,5,FALSE)","v":"NW7"},null,null,null,null,null,null,null,"F84698",null,11321,30,27,27,27,26,6,29,26,24,25,25,28,28,28,26,28,26,25]
["2022-01-01",{"$f":"VLOOKUP(J2208,'Control Panel'!$O$3:$S$47,5,FALSE)","v":"NW8"},null,null,null,null,null,null,null,"F84710",null,15179,31,28,28,28,28,21,29,26,23,23,23,39,32,30,24,30,25,23]
["2022-01-01",{"$f":"VLOOKUP(J2209,'Control Panel'!$O$3:$S$47,5,FALSE)","v":"NW6"},null,null,null,null,null,null,null,"F84714",null,16291,47,47,46,46,47,12,67,60,56,56,56,57,53,51,45,51,44,56]
["2022-01-01",{"$f":"VLOOKUP(J2210,'Control Panel'!$O$3:$S$47,5,FALSE)","v":"NW2"},null,null,null,null,null,null,null,"F84718",null,14937,33,31,30,31,28,15,37,31,30,29,29,38,37,37,32,35,34,30]
["2022-01-01",{"$f":"VLOOKUP(J2211,'Control Panel'!$O$3:$S$47,5,FALSE)","v":"NW3&4"},null,null,null,null,null,null,null,"F84731",null,2062,1,1,1,1,0,1,5,5,5,5,5,4,4,4,4,4,4,5]
["2022-01-01",{"$f":"VLOOKUP(J2212,'Control Panel'!$O$3:$S$47,5,FALSE)","v":"NW2"},null,null,null,null,null,null,null,"F84733",null,1114,0,0,0,0,0,0,0,0,0,0,0,0,0,0,0,0,0,0]
["2022-01-01",{"$f":"VLOOKUP(J2213,'Control Panel'!$O$3:$S$47,5,FALSE)","v":"NW8"},null,null,null,null,null,null,null,"F84747",null,27339,90,81,78,82,78,40,89,78,70,73,74,77,70,67,61,68,62,74]
["2022-01-01",{"$f":"VLOOKUP(J2214,'Control Panel'!$O$3:$S$47,5,FALSE)","v":"NW1"},null,null,null,null,null,null,null,"Y00212",null,1,0,0,0,0,0,0,0,0,0,0,0,0,0,0,0,0,0,0]
["2022-01-01",{"$f":"VLOOKUP(J2215,'Control Panel'!$O$3:$S$47,5,FALSE)","v":"NW6"},null,null,null,null,null,null,null,"Y03023",null,15292,44,38,40,41,40,23,49,43,42,42,40,59,54,50,45,51,45,42]
["2022-01-01",{"$f":"VLOOKUP(J2216,'Control Panel'!$O$3:$S$47,5,FALSE)","v":0},null,null,null,null,null,null,null,"Total",null,374771,970,885,885,904,855,422,1035,927,884,889,887,998,917,884,770,888,776,885]
["2022-02-01",{"$f":"VLOOKUP(J2217,'Control Panel'!$O$3:$S$47,5,FALSE)","v":{"$error":"#N/A"}},"Childhood Immunisations Q4",null,"Last Run:",null,"Population Count",391348,null,null,"Search","All Patients","(01) 12 MONTH COHORT","(01.01) DTaP/IPV/Hib 6in1","(01.02) Men B (1st and 2nd)","(01.03) PCV","(01.04) Rotavirus","(01.05) BCG","(02) 24 MONTH COHORT","(02.01) DTaP/IPV/Hib Combined","(02.02) MMR","(02.03) HiB/Men C","(02.04) PCV (Booster)","(03) 5 YEAR COHORT","(03.01) DTaP/IPV/Hib Combined","(03.02) MMR (Primary)","(03.03) DTaP/IPV (Booster)","(03.04) HiB/Men C","(03.05) MMR (Booster)","(02.05) Men B (Booster)"]
["2022-02-01",{"$f":"VLOOKUP(J2218,'Control Panel'!$O$3:$S$47,5,FALSE)","v":{"$error":"#N/A"}},null,null,"2022-03-10T21:18:00",null,"Males",205318,null,"Organisation Code"]
["2022-02-01",{"$f":"VLOOKUP(J2219,'Control Panel'!$O$3:$S$47,5,FALSE)","v":"NW2"},null,null,"Relative Date:",null,"Females",186030,null,"F84012",null,9637,29,27,27,27,25,21,31,27,27,28,29,30,30,29,26,28,26,28]
["2022-02-01",{"$f":"VLOOKUP(J2220,'Control Panel'!$O$3:$S$47,5,FALSE)","v":"NW1"},null,null,"2022-03-01",null,null,null,null,"F84016",null,12631,27,24,24,25,25,10,29,25,27,28,28,35,32,30,30,31,29,28]
["2022-02-01",{"$f":"VLOOKUP(J2221,'Control Panel'!$O$3:$S$47,5,FALSE)","v":"NW7"},null,null,null,null,null,null,null,"F84025",null,11793,31,25,25,27,25,24,39,31,32,31,30,36,31,32,22,31,22,30]
["2022-02-01",{"$f":"VLOOKUP(J2222,'Control Panel'!$O$3:$S$47,5,FALSE)","v":"NW5"},null,null,null,null,null,null,null,"F84030",null,3791,13,11,12,12,12,4,10,9,8,8,8,6,6,6,5,6,5,8]
["2022-02-01",{"$f":"VLOOKUP(J2223,'Control Panel'!$O$3:$S$47,5,FALSE)","v":"NW3&4"},null,null,null,null,null,null,null,"F84031",null,14220,39,36,36,36,36,24,44,40,35,36,36,42,40,38,34,38,34,36]
["2022-02-01",{"$f":"VLOOKUP(J2224,'Control Panel'!$O$3:$S$47,5,FALSE)","v":"NW5"},null,null,null,null,null,null,null,"F84034",null,13447,42,39,39,39,37,16,40,37,33,34,34,37,37,33,35,36,33,34]
["2022-02-01",{"$f":"VLOOKUP(J2225,'Control Panel'!$O$3:$S$47,5,FALSE)","v":"NW3&4"},null,null,null,null,null,null,null,"F84039",null,29064,104,84,83,88,84,19,78,71,64,65,62,72,66,65,57,65,60,63]
["2022-02-01",{"$f":"VLOOKUP(J2226,'Control Panel'!$O$3:$S$47,5,FALSE)","v":"NW5"},null,null,null,null,null,null,null,"F84044",null,8083,23,21,21,21,21,3,18,17,16,17,17,23,18,18,16,18,16,17]
["2022-02-01",{"$f":"VLOOKUP(J2227,'Control Panel'!$O$3:$S$47,5,FALSE)","v":"NW1"},null,null,null,null,null,null,null,"F84051",null,8489,18,16,16,17,14,1,15,14,12,12,13,11,11,11,10,11,10,13]
["2022-02-01",{"$f":"VLOOKUP(J2228,'Control Panel'!$O$3:$S$47,5,FALSE)","v":"NW7"},null,null,null,null,null,null,null,"F84054",null,11948,24,21,21,22,16,11,34,30,28,29,28,28,27,25,18,23,18,29]
["2022-02-01",{"$f":"VLOOKUP(J2229,'Control Panel'!$O$3:$S$47,5,FALSE)","v":"NW5"},null,null,null,null,null,null,null,"F84055",null,4203,8,7,7,7,7,3,4,3,3,3,3,10,9,9,7,8,9,3]
["2022-02-01",{"$f":"VLOOKUP(J2230,'Control Panel'!$O$3:$S$47,5,FALSE)","v":"NW7"},null,null,null,null,null,null,null,"F84062",null,15596,49,42,42,44,41,23,42,38,38,38,38,43,39,37,30,38,30,38]
["2022-02-01",{"$f":"VLOOKUP(J2231,'Control Panel'!$O$3:$S$47,5,FALSE)","v":"NW3&4"},null,null,null,null,null,null,null,"F84079",null,11861,19,19,19,19,19,7,25,22,23,23,23,19,19,19,16,18,16,22]
["2022-02-01",{"$f":"VLOOKUP(J2232,'Control Panel'!$O$3:$S$47,5,FALSE)","v":"NW2"},null,null,null,null,null,null,null,"F84081",null,14879,25,22,23,22,21,19,27,25,23,23,22,28,27,27,26,27,26,23]
["2022-02-01",{"$f":"VLOOKUP(J2233,'Control Panel'!$O$3:$S$47,5,FALSE)","v":"NW1"},null,null,null,null,null,null,null,"F84083",null,9753,20,17,17,17,17,2,20,19,16,16,16,28,27,25,24,26,25,16]
["2022-02-01",{"$f":"VLOOKUP(J2234,'Control Panel'!$O$3:$S$47,5,FALSE)","v":"NW3&4"},null,null,null,null,null,null,null,"F84087",null,9717,33,31,31,32,31,16,32,27,26,27,30,35,32,31,27,31,27,27]
["2022-02-01",{"$f":"VLOOKUP(J2235,'Control Panel'!$O$3:$S$47,5,FALSE)","v":"NW3&4"},null,null,null,null,null,null,null,"F84114",null,12030,33,28,26,30,30,18,36,33,32,31,31,23,22,22,15,22,16,31]
["2022-02-01",{"$f":"VLOOKUP(J2236,'Control Panel'!$O$3:$S$47,5,FALSE)","v":"NW6"},null,null,null,null,null,null,null,"F84118",null,6050,13,12,12,12,12,11,7,6,6,6,6,10,10,10,10,10,10,6]
["2022-02-01",{"$f":"VLOOKUP(J2237,'Control Panel'!$O$3:$S$47,5,FALSE)","v":"NW6"},null,null,null,null,null,null,null,"F84122",null,17200,39,37,37,38,37,24,43,39,38,39,40,43,42,38,35,41,34,40]
["2022-02-01",{"$f":"VLOOKUP(J2238,'Control Panel'!$O$3:$S$47,5,FALSE)","v":"NW1"},null,null,null,null,null,null,null,"F84123",null,17833,33,27,28,29,27,17,29,26,25,25,25,33,31,30,30,29,30,25]
["2022-02-01",{"$f":"VLOOKUP(J2239,'Control Panel'!$O$3:$S$47,5,FALSE)","v":"NW8"},null,null,null,null,null,null,null,"F84647",null,9361,25,24,23,24,24,9,19,18,16,16,16,18,17,17,17,17,17,16]
["2022-02-01",{"$f":"VLOOKUP(J2240,'Control Panel'!$O$3:$S$47,5,FALSE)","v":"NW8"},null,null,null,null,null,null,null,"F84656",null,9946,21,21,21,21,21,10,21,20,17,17,17,24,22,21,21,22,21,17]
["2022-02-01",{"$f":"VLOOKUP(J2241,'Control Panel'!$O$3:$S$47,5,FALSE)","v":"NW6"},null,null,null,null,null,null,null,"F84676",null,4215,11,10,10,11,9,8,7,7,7,7,7,17,14,13,14,14,14,7]
["2022-02-01",{"$f":"VLOOKUP(J2242,'Control Panel'!$O$3:$S$47,5,FALSE)","v":"NW5"},null,null,null,null,null,null,null,"F84696",null,6135,18,18,18,18,18,8,12,12,12,12,12,15,13,13,13,13,13,12]
["2022-02-01",{"$f":"VLOOKUP(J2243,'Control Panel'!$O$3:$S$47,5,FALSE)","v":"NW7"},null,null,null,null,null,null,null,"F84698",null,11397,32,27,27,28,27,11,35,31,29,28,28,27,23,23,23,23,23,28]
["2022-02-01",{"$f":"VLOOKUP(J2244,'Control Panel'!$O$3:$S$47,5,FALSE)","v":"NW8"},null,null,null,null,null,null,null,"F84710",null,15266,35,34,34,34,33,22,33,30,27,28,28,36,34,33,26,34,26,29]
["2022-02-01",{"$f":"VLOOKUP(J2245,'Control Panel'!$O$3:$S$47,5,FALSE)","v":"NW6"},null,null,null,null,null,null,null,"F84714",null,16349,55,49,48,50,47,24,47,43,44,44,43,56,51,47,46,49,45,43]
["2022-02-01",{"$f":"VLOOKUP(J2246,'Control Panel'!$O$3:$S$47,5,FALSE)","v":"NW2"},null,null,null,null,null,null,null,"F84718",null,14901,35,34,34,35,34,23,34,33,33,33,33,21,20,21,18,20,18,33]
["2022-02-01",{"$f":"VLOOKUP(J2247,'Control Panel'!$O$3:$S$47,5,FALSE)","v":"NW3&4"},null,null,null,null,null,null,null,"F84731",null,2047,3,2,2,3,3,1,3,3,3,3,3,1,1,1,1,1,1,3]
["2022-02-01",{"$f":"VLOOKUP(J2248,'Control Panel'!$O$3:$S$47,5,FALSE)","v":"NW2"},null,null,null,null,null,null,null,"F84733",null,1130,0,0,0,0,0,0,0,0,0,0,0,0,0,0,0,0,0,0]
["2022-02-01",{"$f":"VLOOKUP(J2249,'Control Panel'!$O$3:$S$47,5,FALSE)","v":"NW8"},null,null,null,null,null,null,null,"F84747",null,27747,91,79,76,81,77,49,100,86,82,82,82,78,75,73,70,73,71,82]
["2022-02-01",{"$f":"VLOOKUP(J2250,'Control Panel'!$O$3:$S$47,5,FALSE)","v":"NW1"},null,null,null,null,null,null,null,"Y00212",null,1,0,0,0,0,0,0,0,0,0,0,0,0,0,0,0,0,0,0]
["2022-02-01",{"$f":"VLOOKUP(J2251,'Control Panel'!$O$3:$S$47,5,FALSE)","v":"NW6"},null,null,null,null,null,null,null,"Y03023",null,15347,50,44,44,44,43,25,65,62,59,58,58,48,46,45,39,46,40,57]
["2022-02-01",{"$f":"VLOOKUP(J2252,'Control Panel'!$O$3:$S$47,5,FALSE)","v":0},null,null,null,null,null,null,null,"Total",null,376067,998,888,883,913,873,463,979,884,841,847,846,933,872,842,761,849,765,844]
["2022-03-01",{"$f":"VLOOKUP(J2253,'Control Panel'!$O$3:$S$47,5,FALSE)","v":{"$error":"#N/A"}},"Childhood Immunisations Q4",null,"Last Run:",null,"Population Count",392711,null,null,"Search","All Patients","(01) 12 MONTH COHORT","(01.01) DTaP/IPV/Hib 6in1","(01.02) Men B (1st and 2nd)","(01.03) PCV","(01.04) Rotavirus","(01.05) BCG","(02) 24 MONTH COHORT","(02.01) DTaP/IPV/Hib Combined","(02.02) MMR","(02.03) HiB/Men C","(02.04) PCV (Booster)","(03) 5 YEAR COHORT","(03.01) DTaP/IPV/Hib Combined","(03.02) MMR (Primary)","(03.03) DTaP/IPV (Booster)","(03.04) HiB/Men C","(03.05) MMR (Booster)","(02.05) Men B (Booster)"]
["2022-03-01",{"$f":"VLOOKUP(J2254,'Control Panel'!$O$3:$S$47,5,FALSE)","v":{"$error":"#N/A"}},null,null,"2022-04-04T10:59:00",null,"Males",206109,null,"Organisation Code"]
["2022-03-01",{"$f":"VLOOKUP(J2255,'Control Panel'!$O$3:$S$47,5,FALSE)","v":"NW2"},null,null,"Relative Date:",null,"Females",186602,null,"F84012",null,9699,29,28,28,27,26,22,31,27,27,28,29,31,30,29,26,28,26,28]
["2022-03-01",{"$f":"VLOOKUP(J2256,'Control Panel'!$O$3:$S$47,5,FALSE)","v":"NW1"},null,null,"2022-04-01",null,null,null,null,"F84016",null,12618,25,22,22,23,23,9,29,25,27,28,28,35,32,30,30,31,29,28]
["2022-03-01",{"$f":"VLOOKUP(J2257,'Control Panel'!$O$3:$S$47,5,FALSE)","v":"NW7"},null,null,null,null,null,null,null,"F84025",null,11853,29,25,25,26,24,23,39,31,32,31,30,36,31,32,22,31,22,30]
["2022-03-01",{"$f":"VLOOKUP(J2258,'Control Panel'!$O$3:$S$47,5,FALSE)","v":"NW5"},null,null,null,null,null,null,null,"F84030",null,3818,13,11,12,12,12,5,10,9,8,8,8,6,6,6,5,6,5,8]
["2022-03-01",{"$f":"VLOOKUP(J2259,'Control Panel'!$O$3:$S$47,5,FALSE)","v":"NW3&4"},null,null,null,null,null,null,null,"F84031",null,14178,39,36,36,36,36,24,44,41,35,36,36,44,42,40,35,40,35,36]
["2022-03-01",{"$f":"VLOOKUP(J2260,'Control Panel'!$O$3:$S$47,5,FALSE)","v":"NW5"},null,null,null,null,null,null,null,"F84034",null,13458,43,40,40,40,38,16,40,37,33,34,34,37,37,33,35,36,33,34]
["2022-03-01",{"$f":"VLOOKUP(J2261,'Control Panel'!$O$3:$S$47,5,FALSE)","v":"NW3&4"},null,null,null,null,null,null,null,"F84039",null,29370,103,85,83,88,84,20,76,69,62,63,60,73,66,65,56,65,60,62]
["2022-03-01",{"$f":"VLOOKUP(J2262,'Control Panel'!$O$3:$S$47,5,FALSE)","v":"NW5"},null,null,null,null,null,null,null,"F84044",null,8063,23,21,21,21,21,3,18,17,16,17,17,23,18,18,16,18,16,17]
["2022-03-01",{"$f":"VLOOKUP(J2263,'Control Panel'!$O$3:$S$47,5,FALSE)","v":"NW1"},null,null,null,null,null,null,null,"F84051",null,8593,18,16,16,17,14,1,15,14,12,12,13,11,11,11,10,11,10,13]
["2022-03-01",{"$f":"VLOOKUP(J2264,'Control Panel'!$O$3:$S$47,5,FALSE)","v":"NW7"},null,null,null,null,null,null,null,"F84054",null,11987,24,21,21,22,16,11,32,28,26,27,26,28,27,25,20,23,20,27]
["2022-03-01",{"$f":"VLOOKUP(J2265,'Control Panel'!$O$3:$S$47,5,FALSE)","v":"NW5"},null,null,null,null,null,null,null,"F84055",null,4204,8,7,7,7,7,3,4,3,3,3,3,10,9,9,7,8,9,3]
["2022-03-01",{"$f":"VLOOKUP(J2266,'Control Panel'!$O$3:$S$47,5,FALSE)","v":"NW7"},null,null,null,null,null,null,null,"F84062",null,15612,47,40,40,43,39,23,41,37,37,37,37,43,39,37,31,38,31,37]
["2022-03-01",{"$f":"VLOOKUP(J2267,'Control Panel'!$O$3:$S$47,5,FALSE)","v":"NW3&4"},null,null,null,null,null,null,null,"F84079",null,11843,19,19,19,19,19,7,25,22,23,23,23,19,19,19,16,18,16,22]
["2022-03-01",{"$f":"VLOOKUP(J2268,'Control Panel'!$O$3:$S$47,5,FALSE)","v":"NW2"},null,null,null,null,null,null,null,"F84081",null,14828,25,22,23,22,21,19,27,25,23,23,22,29,27,27,26,27,26,23]
["2022-03-01",{"$f":"VLOOKUP(J2269,'Control Panel'!$O$3:$S$47,5,FALSE)","v":"NW1"},null,null,null,null,null,null,null,"F84083",null,9766,20,17,17,18,17,2,21,20,17,17,17,28,27,25,24,26,25,17]
["2022-03-01",{"$f":"VLOOKUP(J2270,'Control Panel'!$O$3:$S$47,5,FALSE)","v":"NW3&4"},null,null,null,null,null,null,null,"F84087",null,9781,33,31,31,32,31,16,33,28,27,28,31,35,32,31,27,31,27,28]
["2022-03-01",{"$f":"VLOOKUP(J2271,'Control Panel'!$O$3:$S$47,5,FALSE)","v":"NW3&4"},null,null,null,null,null,null,null,"F84114",null,12178,32,28,27,29,29,18,37,34,33,32,32,25,22,22,15,22,16,32]
["2022-03-01",{"$f":"VLOOKUP(J2272,'Control Panel'!$O$3:$S$47,5,FALSE)","v":"NW6"},null,null,null,null,null,null,null,"F84118",null,6097,13,12,12,13,12,12,7,6,6,6,6,10,10,10,10,10,10,6]
["2022-03-01",{"$f":"VLOOKUP(J2273,'Control Panel'!$O$3:$S$47,5,FALSE)","v":"NW6"},null,null,null,null,null,null,null,"F84122",null,17204,39,37,37,38,36,25,42,38,37,38,39,42,41,37,35,40,34,39]
["2022-03-01",{"$f":"VLOOKUP(J2274,'Control Panel'!$O$3:$S$47,5,FALSE)","v":"NW1"},null,null,null,null,null,null,null,"F84123",null,18056,33,27,28,29,27,17,29,26,25,25,25,33,31,30,30,29,30,25]
["2022-03-01",{"$f":"VLOOKUP(J2275,'Control Panel'!$O$3:$S$47,5,FALSE)","v":"NW8"},null,null,null,null,null,null,null,"F84647",null,9506,25,24,23,24,24,9,20,18,16,16,16,18,17,17,17,17,17,16]
["2022-03-01",{"$f":"VLOOKUP(J2276,'Control Panel'!$O$3:$S$47,5,FALSE)","v":"NW8"},null,null,null,null,null,null,null,"F84656",null,9970,21,21,21,21,21,10,21,20,17,17,17,25,22,21,21,22,21,17]
["2022-03-01",{"$f":"VLOOKUP(J2277,'Control Panel'!$O$3:$S$47,5,FALSE)","v":"NW6"},null,null,null,null,null,null,null,"F84676",null,4223,11,10,10,11,9,8,7,7,7,7,7,17,14,13,14,14,14,7]
["2022-03-01",{"$f":"VLOOKUP(J2278,'Control Panel'!$O$3:$S$47,5,FALSE)","v":"NW5"},null,null,null,null,null,null,null,"F84696",null,6187,18,18,18,18,18,8,12,12,12,12,12,15,13,13,13,13,13,12]
["2022-03-01",{"$f":"VLOOKUP(J2279,'Control Panel'!$O$3:$S$47,5,FALSE)","v":"NW7"},null,null,null,null,null,null,null,"F84698",null,11510,33,27,27,28,27,11,35,31,29,28,28,26,24,24,23,23,23,28]
["2022-03-01",{"$f":"VLOOKUP(J2280,'Control Panel'!$O$3:$S$47,5,FALSE)","v":"NW8"},null,null,null,null,null,null,null,"F84710",null,15259,35,34,34,34,33,22,34,30,27,28,28,37,35,34,26,35,26,29]
["2022-03-01",{"$f":"VLOOKUP(J2281,'Control Panel'!$O$3:$S$47,5,FALSE)","v":"NW6"},null,null,null,null,null,null,null,"F84714",null,16336,54,49,48,50,48,25,46,43,44,44,43,54,49,45,45,47,44,43]
["2022-03-01",{"$f":"VLOOKUP(J2282,'Control Panel'!$O$3:$S$47,5,FALSE)","v":"NW2"},null,null,null,null,null,null,null,"F84718",null,14732,36,35,35,36,35,24,32,31,31,31,31,21,20,21,18,20,18,31]
["2022-03-01",{"$f":"VLOOKUP(J2283,'Control Panel'!$O$3:$S$47,5,FALSE)","v":"NW3&4"},null,null,null,null,null,null,null,"F84731",null,2019,3,3,3,3,3,1,3,3,3,3,3,1,1,1,1,1,1,3]
["2022-03-01",{"$f":"VLOOKUP(J2284,'Control Panel'!$O$3:$S$47,5,FALSE)","v":"NW2"},null,null,null,null,null,null,null,"F84733",null,1109,0,0,0,0,0,0,0,0,0,0,0,0,0,0,0,0,0,0]
["2022-03-01",{"$f":"VLOOKUP(J2285,'Control Panel'!$O$3:$S$47,5,FALSE)","v":"NW8"},null,null,null,null,null,null,null,"F84747",null,27922,91,81,78,83,79,49,99,87,82,82,82,78,73,73,70,73,71,81]
["2022-03-01",{"$f":"VLOOKUP(J2286,'Control Panel'!$O$3:$S$47,5,FALSE)","v":"NW1"},null,null,null,null,null,null,null,"Y00212",null,1,0,0,0,0,0,0,0,0,0,0,0,0,0,0,0,0,0,0]
["2022-03-01",{"$f":"VLOOKUP(J2287,'Control Panel'!$O$3:$S$47,5,FALSE)","v":"NW6"},null,null,null,null,null,null,null,"Y03023",null,15467,50,43,43,44,43,26,65,62,59,58,58,46,45,44,40,45,41,57]
["2022-03-01",{"$f":"VLOOKUP(J2288,'Control Panel'!$O$3:$S$47,5,FALSE)","v":0},null,null,null,null,null,null,null,"Total",null,377447,992,890,885,914,872,469,974,881,836,842,841,936,870,842,764,848,769,839]