{"text_format":"1","workbook":"xlsx","n_sheets":10,"sheets":["Cover Sheet","Cluster Summary","Patients becoming 12m","Patients becoming 24m","Patients becoming 5y","Trending","Rows","Control Panel","Data","Total (Without NE)"],"not_rendered":{"charts":1,"images":7,"macros":1,"external_links":0,"defined_names":4,"comments":0,"pivot_tables":0},"unopened":[],"bounds":{"document_bytes":16777216,"sheet_cells":100000,"rows_first":2000,"rows_last":500,"rows_between":2000,"halvings":0,"cell_chars":16384,"cell_head_chars":4096},"cells_cut":0,"cells_raw":0,"read":"whole","date_system":"1900"}

{"sheet":"Cover Sheet","index":0,"n_rows":54,"n_cols":13,"rows_kept":54,"cut":false,"hidden":false,"merged":[]}
[]
[]
[]
[null,null,null,null,null,"City and Hackney Childhood Immunisations Dashboard"]
[]
[null,null,null,null,null,"Report designed following the parameters of the Public Health England COVER programme"]
[]
[null,null,null,null,null,"Contains data on immunisation uptake for children becoming 12m, 24m and 5yrs in the quarter"]
[]
[]
[]
[null,null,null,null,null,"Patients becoming 12m"]
[]
[null,null,null,null,null,"DTaP/IPV/Hib/HepB"]
[null,null,null,null,null,"Men B"]
[null,null,null,null,null,"PCV"]
[null,null,null,null,null,"Rotavirus"]
[null,null,null,null,null,"BCG"]
[]
[null,null,null,null,null,"Patients becoming 24m"]
[]
[null,null,null,null,null,"DTaP/IPV/Hib/HepB"]
[null,null,null,null,null,"MMR"]
[null,null,null,null,null,"HiB/Men C"]
[null,null,null,null,null,"PCV (Booster)"]
[null,null,null,null,null,"Men B (Booster)"]
[null,null,null,null,null,"Patients becoming 5y"]
[]
[null,null,null,null,null,"DTaP/IPV/Hib"]
[null,null,null,null,null,"MMR (Primary)"]
[null,null,null,null,null,"DTaP/IPV (Booster)"]
[null,null,null,null,null,"MMR (Booster)"]
[null,null,null,null,null,"HiB/Men C"]
[]
[null,null,null,null,null,"N.B. Rotavirus not included in performance target"]
[]
[null,null,null,null,null,"Version tracking"]
[null,null,null,null,null,"Version 2.8","- PCV Schedule updated",null,null,null,null,null,"December 2020"]
[]
[null,null,null,null,null,"Version 2.7","- Removed the 5in1 from Patients becoming 12m, now only 6in1",null,null,null,null,null,"April 2019"]
[]
[null,null,null,null,null,"Version 2.6","- Men B (Booster) included and 5in1 to have to become 6in1 for patients born after 01/08/2017",null,null,null,null,null,"April 2018"]
[]
[null,null,null,null,null,"Version 2.5","- Men C removed Men B included",null,null,null,null,null,"May 2017"]
[]
[null,null,null,null,null,"Version 2.4","- DTaP/IPV (Booster) (NO LOWER AGE LIMIT) Removed",null,null,null,null,null,"May 2016"]
[]
[null,null,null,null,null,"Version 2.3","- Lower age limit for MMR, HiB/Men C and PCV adjusted to 1 year in line with NHSE guidance",null,null,null,null,null,"May 2015"]
[]
[null,null,null,null,null,"Version 2.2","- Cluster configuration and practice names updated",null,null,null,null,null,"April 2015"]
[]
[null,null,null,null,null,"Version 2.1","- DTaP/IPV/Hib (No lower age limit) added to 5yr cohort",null,null,null,null,null,"October 2014"]
[]
[null,null,null,null,null,"Version 2.0","- Specification and presentation used from CEG report for Tower Hamlets",null,null,null,null,null,"September 2014"]

{"sheet":"Cluster Summary","index":1,"n_rows":37,"n_cols":46,"rows_kept":37,"cut":false,"hidden":false,"merged":[[11,27,11,29],[11,31,11,33],[11,35,11,37],[11,39,11,41],[11,43,11,45],[11,8,11,9],[11,11,11,13],[11,15,11,17],[11,19,11,21],[11,23,11,25]]}
[]
[null,null,null,null,null,null,null,null,null,null,null,null,"March 2022"]
[null,null,null,null,null,null,null,null,"City and Hackney Childhood Immunisations Dashboard: Metric Details"]
[]
[]
[null,null,null,null,null,null,null,null,"Neighbourhood Summary",null,null,null,null,null,null,null,null,null,null,null,0.96,"95% and over",null,null,"100% of quarterly performance payment"]
[]
[null,null,null,null,null,null,"Coverage",null,null,"Percentage of target population immunised",null,null,null,null,null,null,null,null,null,null,0.94,0.94,null,null,"80% of quarterly performance payment"]
[null,null,null,null,null,null,"Activty",null,null,"Number of patients immunised",null,null,null,null,null,null,null,null,null,null,0.92,"92% or 93%",null,null,"40% of quarterly performance payment"]
[null,null,null,null,null,null,"Required",null,null,"Number of patients requiring immunisation for network to attain 95% coverage",null,null,null,null,null,null,null,null,null,null,0.1,"Less than 92%"]
[null,null,null,null,null,null,null,null,null,null,null,null,"NW1",null,null,null,"NW2",null,null,null,"NE1",null,null,null,"NE2",null,null,null,"sE1",null,null,null,"se2",null,null,null,"SW1",null,null,null,"sw2",null,null,null,"city"]
[null,null,null,null,null,null,null,null,"City and Hackney Total (Not including North East)",null,null,"Woodberry Wetlands (NW1)",null,null,null,"Clissold Park (NW2)",null,null,null,"Springfield Park (NE1)",null,null,null,"Hackney Downs (NE2)",null,null,null,"Hackney Marshes (SE1)",null,null,null,"Well Street Common (SE2)",null,null,null,"London Fields (SW1)",null,null,null,"Shoreditch Park & City (SW2)",null,null,null,"City"]
[]
[]
[null,"(01) 12 MONTH COHORT",null,{"$f":"\"Patients becoming 12m within \"&'Control Panel'!$B$1","v":"Patients becoming 12m within Q4"},null,null,null,null,null,{"$f":"M15+Q15+AC15+AG15+AK15+AO15+AS15","v":609},null,null,{"$f":"SUMIFS(OFFSET(REL_D,,MATCH(B15,IND,0)-1),REL_D,$M$2,IF(LEFT($M$11,1)=\"N\",NwID,OrgID),$M$11)","v":136},null,null,null,{"$f":"SUMIFS(OFFSET(REL_D,,MATCH(B15,IND,0)-1),REL_D,$M$2,IF(LEFT($Q$11,1)=\"N\",NwID,OrgID),$Q$11)","v":79},null,null,null,{"$f":"SUMIFS(OFFSET(REL_D,,MATCH(B15,IND,0)-1),REL_D,$M$2,IF(LEFT($U$11,1)=\"N\",NwID,OrgID),$U$11)","v":290},null,null,null,{"$f":"SUMIFS(OFFSET(REL_D,,MATCH(B15,IND,0)-1),REL_D,$M$2,IF(LEFT($Y$11,1)=\"N\",NwID,OrgID),$Y$11)","v":138},null,null,null,{"$f":"SUMIFS(OFFSET(REL_D,,MATCH(B15,IND,0)-1),REL_D,$M$2,IF(LEFT($AC$11,1)=\"S\",NwID,OrgID),$AC$11)","v":99},null,null,null,{"$f":"SUMIFS(OFFSET(REL_D,,MATCH(B15,IND,0)-1),REL_D,$M$2,IF(LEFT($AG$11,1)=\"s\",NwID,OrgID),$AG$11)","v":81},null,null,null,{"$f":"SUMIFS(OFFSET(REL_D,,MATCH(B15,IND,0)-1),REL_D,$M$2,IF(LEFT($AK$11,1)=\"s\",NwID,OrgID),$AK$11)","v":100},null,null,null,{"$f":"SUMIFS(OFFSET(REL_D,,MATCH(B15,IND,0)-1),REL_D,$M$2,IF(LEFT($AO$11,1)=\"s\",NwID,OrgID),$AO$11)","v":100},null,null,null,{"$f":"SUMIFS(OFFSET(REL_D,,MATCH(B15,IND,0)-1),REL_D,$M$2,IF(LEFT($AS$11,1)=\"c\",NwID,OrgID),$AS$11)","v":14}]
[null,null,null,null,null,null,null,null,"Coverage","Activty",null,"Coverage","Activty","Required",null,"Coverage","Activty","Required",null,"Coverage","Activty","Required",null,"Coverage","Activty","Required",null,"Coverage","Activty","Required",null,"Coverage","Activty","Required",null,"Coverage","Activty","Required",null,"Coverage","Activty","Required",null,"Coverage","Activty","Required"]
[null,"(01.01) DTaP/IPV/Hib",null,null,null,"DTaP/IPV/Hib/HepB",null,null,{"$f":"IFERROR(ROUND(J17/J$15,3),\"\")","v":0.83299999999999996},{"$f":"M17+Q17+AC17+AG17+AK17+AO17+AS17","v":507},null,{"$f":"IFERROR(ROUND(M17/M$15,3),\"\")","v":0.77200000000000002},{"$f":"SUMIFS(OFFSET(REL_D,,MATCH(B17,IND,0)-1),REL_D,$M$2,IF(LEFT($M$11,1)=\"N\",NwID,OrgID),$M$11)","v":105},{"$f":"IF(AND(M$15*0.95-M17<1,(M$15*0.95-M17>0)),1,IF(M$15*0.95-M17<=0,\"\",M$15*0.95-M17))","v":24.199999999999989},null,{"$f":"IFERROR(ROUND(Q17/Q$15,3),\"\")","v":0.88600000000000001},{"$f":"SUMIFS(OFFSET(REL_D,,MATCH(B17,IND,0)-1),REL_D,$M$2,IF(LEFT($Q$11,1)=\"N\",NwID,OrgID),$Q$11)","v":70},{"$f":"IF(AND(Q$15*0.95-Q17<1,(Q$15*0.95-Q17>0)),1,IF(Q$15*0.95-Q17<=0,\"\",Q$15*0.95-Q17))","v":5.0499999999999972},null,{"$f":"IFERROR(ROUND(U17/U$15,3),\"\")","v":0.248},{"$f":"SUMIFS(OFFSET(REL_D,,MATCH(B17,IND,0)-1),REL_D,$M$2,IF(LEFT($U$11,1)=\"N\",NwID,OrgID),$U$11)","v":72},{"$f":"IF(AND(U$15*0.95-U17<1,(U$15*0.95-U17>0)),1,IF(U$15*0.95-U17<=0,\"\",U$15*0.95-U17))","v":203.5},null,{"$f":"IFERROR(ROUND(Y17/Y$15,3),\"\")","v":0.56499999999999995},{"$f":"SUMIFS(OFFSET(REL_D,,MATCH(B17,IND,0)-1),REL_D,$M$2,IF(LEFT($Y$11,1)=\"N\",NwID,OrgID),$Y$11)","v":78},{"$f":"IF(AND(Y$15*0.95-Y17<1,(Y$15*0.95-Y17>0)),1,IF(Y$15*0.95-Y17<=0,\"\",Y$15*0.95-Y17))","v":53.099999999999994},null,{"$f":"IFERROR(ROUND(AC17/AC$15,3),\"\")","v":0.84799999999999998},{"$f":"SUMIFS(OFFSET(REL_D,,MATCH(B17,IND,0)-1),REL_D,$M$2,IF(LEFT($AC$11,1)=\"S\",NwID,OrgID),$AC$11)","v":84},{"$f":"IF(AND(AC$15*0.95-AC17<1,(AC$15*0.95-AC17>0)),1,IF(AC$15*0.95-AC17<=0,\"\",AC$15*0.95-AC17))","v":10.049999999999997},null,{"$f":"IFERROR(ROUND(AG17/AG$15,3),\"\")","v":0.76500000000000001},{"$f":"SUMIFS(OFFSET(REL_D,,MATCH(B17,IND,0)-1),REL_D,$M$2,IF(LEFT($AG$11,1)=\"s\",NwID,OrgID),$AG$11)","v":62},{"$f":"IF(AND(AG$15*0.95-AG17<1,(AG$15*0.95-AG17>0)),1,IF(AG$15*0.95-AG17<=0,\"\",AG$15*0.95-AG17))","v":14.950000000000003},null,{"$f":"IFERROR(ROUND(AK17/AK$15,3),\"\")","v":0.87},{"$f":"SUMIFS(OFFSET(REL_D,,MATCH(B17,IND,0)-1),REL_D,$M$2,IF(LEFT($AK$11,1)=\"s\",NwID,OrgID),$AK$11)","v":87},{"$f":"IF(AND(AK$15*0.95-AK17<1,(AK$15*0.95-AK17>0)),1,IF(AK$15*0.95-AK17<=0,\"\",AK$15*0.95-AK17))","v":8},null,{"$f":"IFERROR(ROUND(AO17/AO$15,3),\"\")","v":0.85},{"$f":"SUMIFS(OFFSET(REL_D,,MATCH(B17,IND,0)-1),REL_D,$M$2,IF(LEFT($AO$11,1)=\"s\",NwID,OrgID),$AO$11)","v":85},{"$f":"IF(AND(AO$15*0.95-AO17<1,(AO$15*0.95-AO17>0)),1,IF(AO$15*0.95-AO17<=0,\"\",AO$15*0.95-AO17))","v":10},null,{"$f":"IFERROR(ROUND(AS17/AS$15,3),\"\")","v":1},{"$f":"SUMIFS(OFFSET(REL_D,,MATCH(B17,IND,0)-1),REL_D,$M$2,IF(LEFT($AS$11,1)=\"c\",NwID,OrgID),$AS$11)","v":14},{"$f":"IF(AND(AS$15*0.95-AS17<1,(AS$15*0.95-AS17>0)),1,IF(AS$15*0.95-AS17<=0,\"\",AS$15*0.95-AS17))","v":""}]
[null,"(01.02) Men B (1st and 2nd)",null,null,null,"Men B",null,null,{"$f":"IFERROR(ROUND(J18/J$15,3),\"\")","v":0.82799999999999996},{"$f":"M18+Q18+AC18+AG18+AK18+AO18+AS18","v":504},null,{"$f":"IFERROR(ROUND(M18/M$15,3),\"\")","v":0.76500000000000001},{"$f":"SUMIFS(OFFSET(REL_D,,MATCH(B18,IND,0)-1),REL_D,$M$2,IF(LEFT($M$11,1)=\"N\",NwID,OrgID),$M$11)","v":104},{"$f":"IF(AND(M$15*0.95-M18<1,(M$15*0.95-M18>0)),1,IF(M$15*0.95-M18<=0,\"\",M$15*0.95-M18))","v":25.199999999999989},null,{"$f":"IFERROR(ROUND(Q18/Q$15,3),\"\")","v":0.873},{"$f":"SUMIFS(OFFSET(REL_D,,MATCH(B18,IND,0)-1),REL_D,$M$2,IF(LEFT($Q$11,1)=\"N\",NwID,OrgID),$Q$11)","v":69},{"$f":"IF(AND(Q$15*0.95-Q18<1,(Q$15*0.95-Q18>0)),1,IF(Q$15*0.95-Q18<=0,\"\",Q$15*0.95-Q18))","v":6.0499999999999972},null,0.252,{"$f":"SUMIFS(OFFSET(REL_D,,MATCH(B18,IND,0)-1),REL_D,$M$2,IF(LEFT($U$11,1)=\"N\",NwID,OrgID),$U$11)","v":73},{"$f":"IF(AND(U$15*0.95-U18<1,(U$15*0.95-U18>0)),1,IF(U$15*0.95-U18<=0,\"\",U$15*0.95-U18))","v":202.5},null,0.57199999999999995,{"$f":"SUMIFS(OFFSET(REL_D,,MATCH(B18,IND,0)-1),REL_D,$M$2,IF(LEFT($Y$11,1)=\"N\",NwID,OrgID),$Y$11)","v":79},{"$f":"IF(AND(Y$15*0.95-Y18<1,(Y$15*0.95-Y18>0)),1,IF(Y$15*0.95-Y18<=0,\"\",Y$15*0.95-Y18))","v":52.099999999999994},null,0.83799999999999997,{"$f":"SUMIFS(OFFSET(REL_D,,MATCH(B18,IND,0)-1),REL_D,$M$2,IF(LEFT($AC$11,1)=\"S\",NwID,OrgID),$AC$11)","v":83},{"$f":"IF(AND(AC$15*0.95-AC18<1,(AC$15*0.95-AC18>0)),1,IF(AC$15*0.95-AC18<=0,\"\",AC$15*0.95-AC18))","v":11.049999999999997},null,0.77800000000000002,{"$f":"SUMIFS(OFFSET(REL_D,,MATCH(B18,IND,0)-1),REL_D,$M$2,IF(LEFT($AG$11,1)=\"s\",NwID,OrgID),$AG$11)","v":63},{"$f":"IF(AND(AG$15*0.95-AG18<1,(AG$15*0.95-AG18>0)),1,IF(AG$15*0.95-AG18<=0,\"\",AG$15*0.95-AG18))","v":13.950000000000003},null,0.85,{"$f":"SUMIFS(OFFSET(REL_D,,MATCH(B18,IND,0)-1),REL_D,$M$2,IF(LEFT($AK$11,1)=\"s\",NwID,OrgID),$AK$11)","v":85},{"$f":"IF(AND(AK$15*0.95-AK18<1,(AK$15*0.95-AK18>0)),1,IF(AK$15*0.95-AK18<=0,\"\",AK$15*0.95-AK18))","v":10},null,0.86,{"$f":"SUMIFS(OFFSET(REL_D,,MATCH(B18,IND,0)-1),REL_D,$M$2,IF(LEFT($AO$11,1)=\"s\",NwID,OrgID),$AO$11)","v":86},{"$f":"IF(AND(AO$15*0.95-AO18<1,(AO$15*0.95-AO18>0)),1,IF(AO$15*0.95-AO18<=0,\"\",AO$15*0.95-AO18))","v":9},null,1,{"$f":"SUMIFS(OFFSET(REL_D,,MATCH(B18,IND,0)-1),REL_D,$M$2,IF(LEFT($AS$11,1)=\"c\",NwID,OrgID),$AS$11)","v":14},{"$f":"IF(AND(AS$15*0.95-AS18<1,(AS$15*0.95-AS18>0)),1,IF(AS$15*0.95-AS18<=0,\"\",AS$15*0.95-AS18))","v":""}]
[null,"(01.03) PCV",null,null,null,"PCV",null,null,0.874,{"$f":"M19+Q19+AC19+AG19+AK19+AO19+AS19","v":532},null,0.83799999999999997,{"$f":"SUMIFS(OFFSET(REL_D,,MATCH(B19,IND,0)-1),REL_D,$M$2,IF(LEFT($M$11,1)=\"N\",NwID,OrgID),$M$11)","v":114},15.199999999999989,null,0.89900000000000002,{"$f":"SUMIFS(OFFSET(REL_D,,MATCH(B19,IND,0)-1),REL_D,$M$2,IF(LEFT($Q$11,1)=\"N\",NwID,OrgID),$Q$11)","v":71},4.0499999999999972,null,0.379,{"$f":"SUMIFS(OFFSET(REL_D,,MATCH(B19,IND,0)-1),REL_D,$M$2,IF(LEFT($U$11,1)=\"N\",NwID,OrgID),$U$11)","v":110},165.5,null,0.65900000000000003,{"$f":"SUMIFS(OFFSET(REL_D,,MATCH(B19,IND,0)-1),REL_D,$M$2,IF(LEFT($Y$11,1)=\"N\",NwID,OrgID),$Y$11)","v":91},40.099999999999994,null,0.85899999999999999,{"$f":"SUMIFS(OFFSET(REL_D,,MATCH(B19,IND,0)-1),REL_D,$M$2,IF(LEFT($AC$11,1)=\"S\",NwID,OrgID),$AC$11)","v":85},9.0499999999999972,null,0.84,{"$f":"SUMIFS(OFFSET(REL_D,,MATCH(B19,IND,0)-1),REL_D,$M$2,IF(LEFT($AG$11,1)=\"s\",NwID,OrgID),$AG$11)","v":68},8.9500000000000028,null,0.92,{"$f":"SUMIFS(OFFSET(REL_D,,MATCH(B19,IND,0)-1),REL_D,$M$2,IF(LEFT($AK$11,1)=\"s\",NwID,OrgID),$AK$11)","v":92},3,null,0.88,{"$f":"SUMIFS(OFFSET(REL_D,,MATCH(B19,IND,0)-1),REL_D,$M$2,IF(LEFT($AO$11,1)=\"s\",NwID,OrgID),$AO$11)","v":88},7,null,1,{"$f":"SUMIFS(OFFSET(REL_D,,MATCH(B19,IND,0)-1),REL_D,$M$2,IF(LEFT($AS$11,1)=\"c\",NwID,OrgID),$AS$11)","v":14},""]
[null,"(01.04) Rotavirus",null,null,null,"Rotavirus",null,null,0.82799999999999996,{"$f":"M20+Q20+AC20+AG20+AK20+AO20+AS20","v":504},null,0.77200000000000002,{"$f":"SUMIFS(OFFSET(REL_D,,MATCH(B20,IND,0)-1),REL_D,$M$2,IF(LEFT($M$11,1)=\"N\",NwID,OrgID),$M$11)","v":105},24.199999999999989,null,0.873,{"$f":"SUMIFS(OFFSET(REL_D,,MATCH(B20,IND,0)-1),REL_D,$M$2,IF(LEFT($Q$11,1)=\"N\",NwID,OrgID),$Q$11)","v":69},6.0499999999999972,null,0.217,{"$f":"SUMIFS(OFFSET(REL_D,,MATCH(B20,IND,0)-1),REL_D,$M$2,IF(LEFT($U$11,1)=\"N\",NwID,OrgID),$U$11)","v":63},212.5,null,0.55800000000000005,{"$f":"SUMIFS(OFFSET(REL_D,,MATCH(B20,IND,0)-1),REL_D,$M$2,IF(LEFT($Y$11,1)=\"N\",NwID,OrgID),$Y$11)","v":77},54.099999999999994,null,0.78800000000000003,{"$f":"SUMIFS(OFFSET(REL_D,,MATCH(B20,IND,0)-1),REL_D,$M$2,IF(LEFT($AC$11,1)=\"S\",NwID,OrgID),$AC$11)","v":78},16.049999999999997,null,0.80200000000000005,{"$f":"SUMIFS(OFFSET(REL_D,,MATCH(B20,IND,0)-1),REL_D,$M$2,IF(LEFT($AG$11,1)=\"s\",NwID,OrgID),$AG$11)","v":65},11.950000000000003,null,0.89,{"$f":"SUMIFS(OFFSET(REL_D,,MATCH(B20,IND,0)-1),REL_D,$M$2,IF(LEFT($AK$11,1)=\"s\",NwID,OrgID),$AK$11)","v":89},6,null,0.85,{"$f":"SUMIFS(OFFSET(REL_D,,MATCH(B20,IND,0)-1),REL_D,$M$2,IF(LEFT($AO$11,1)=\"s\",NwID,OrgID),$AO$11)","v":85},10,null,0.92900000000000005,{"$f":"SUMIFS(OFFSET(REL_D,,MATCH(B20,IND,0)-1),REL_D,$M$2,IF(LEFT($AS$11,1)=\"c\",NwID,OrgID),$AS$11)","v":13},1]
[null,"(01.05) BCG",null,null,null,"BCG",null,null,0.22500000000000001,{"$f":"M21+Q21+U21+Y21+AC21+AG21+AK21+AO21+AS21","v":137},null,0.21299999999999999,{"$f":"SUMIFS(OFFSET(REL_D,,MATCH(B21,IND,0)-1),REL_D,$M$2,IF(LEFT($M$11,1)=\"N\",NwID,OrgID),$M$11)","v":29},100.19999999999999,null,0.19,{"$f":"SUMIFS(OFFSET(REL_D,,MATCH(B21,IND,0)-1),REL_D,$M$2,IF(LEFT($Q$11,1)=\"N\",NwID,OrgID),$Q$11)","v":15},60.05,null,5.1999999999999998E-2,{"$f":"SUMIFS(OFFSET(REL_D,,MATCH(B21,IND,0)-1),REL_D,$M$2,IF(LEFT($U$11,1)=\"N\",NwID,OrgID),$U$11)","v":15},260.5,null,7.1999999999999995E-2,{"$f":"SUMIFS(OFFSET(REL_D,,MATCH(B21,IND,0)-1),REL_D,$M$2,IF(LEFT($Y$11,1)=\"N\",NwID,OrgID),$Y$11)","v":10},121.1,null,0.182,{"$f":"SUMIFS(OFFSET(REL_D,,MATCH(B21,IND,0)-1),REL_D,$M$2,IF(LEFT($AC$11,1)=\"S\",NwID,OrgID),$AC$11)","v":18},76.05,null,0.21,{"$f":"SUMIFS(OFFSET(REL_D,,MATCH(B21,IND,0)-1),REL_D,$M$2,IF(LEFT($AG$11,1)=\"s\",NwID,OrgID),$AG$11)","v":17},59.95,null,0.12,{"$f":"SUMIFS(OFFSET(REL_D,,MATCH(B21,IND,0)-1),REL_D,$M$2,IF(LEFT($AK$11,1)=\"s\",NwID,OrgID),$AK$11)","v":12},83,null,0.19,{"$f":"SUMIFS(OFFSET(REL_D,,MATCH(B21,IND,0)-1),REL_D,$M$2,IF(LEFT($AO$11,1)=\"s\",NwID,OrgID),$AO$11)","v":19},76,null,0.14299999999999999,{"$f":"SUMIFS(OFFSET(REL_D,,MATCH(B21,IND,0)-1),REL_D,$M$2,IF(LEFT($AS$11,1)=\"c\",NwID,OrgID),$AS$11)","v":2},11.299999999999999]
[]
[null,"(02) 24 MONTH COHORT",null,{"$f":"\"Patients becoming 24m within \"&'Control Panel'!$B$1","v":"Patients becoming 24m within Q4"},null,null,null,null,null,{"$f":"M23+Q23+AC23+AG23+AK23+AO23+AS23","v":568},null,null,{"$f":"SUMIFS(OFFSET(REL_D,,MATCH(B23,IND,0)-1),REL_D,$M$2,IF(LEFT($M$11,1)=\"N\",NwID,OrgID),$M$11)","v":110},null,null,null,{"$f":"SUMIFS(OFFSET(REL_D,,MATCH(B23,IND,0)-1),REL_D,$M$2,IF(LEFT($Q$11,1)=\"N\",NwID,OrgID),$Q$11)","v":67},null,null,null,{"$f":"SUMIFS(OFFSET(REL_D,,MATCH(B23,IND,0)-1),REL_D,$M$2,IF(LEFT($U$11,1)=\"N\",NwID,OrgID),$U$11)","v":241},null,null,null,{"$f":"SUMIFS(OFFSET(REL_D,,MATCH(B23,IND,0)-1),REL_D,$M$2,IF(LEFT($Y$11,1)=\"N\",NwID,OrgID),$Y$11)","v":117},null,null,null,{"$f":"SUMIFS(OFFSET(REL_D,,MATCH(B23,IND,0)-1),REL_D,$M$2,IF(LEFT($AC$11,1)=\"S\",NwID,OrgID),$AC$11)","v":89},null,null,null,{"$f":"SUMIFS(OFFSET(REL_D,,MATCH(B23,IND,0)-1),REL_D,$M$2,IF(LEFT($AG$11,1)=\"s\",NwID,OrgID),$AG$11)","v":79},null,null,null,{"$f":"SUMIFS(OFFSET(REL_D,,MATCH(B23,IND,0)-1),REL_D,$M$2,IF(LEFT($AK$11,1)=\"s\",NwID,OrgID),$AK$11)","v":120},null,null,null,{"$f":"SUMIFS(OFFSET(REL_D,,MATCH(B23,IND,0)-1),REL_D,$M$2,IF(LEFT($AO$11,1)=\"s\",NwID,OrgID),$AO$11)","v":89},null,null,null,{"$f":"SUMIFS(OFFSET(REL_D,,MATCH(B23,IND,0)-1),REL_D,$M$2,IF(LEFT($AS$11,1)=\"c\",NwID,OrgID),$AS$11)","v":14}]
[null,null,null,null,null,null,null,null,"Coverage","Activty",null,"Coverage","Activty","Required",null,"Coverage","Activty","Required",null,"Coverage","Activty","Required",null,"Coverage","Activty","Required",null,"Coverage","Activty","Required",null,"Coverage","Activty","Required",null,"Coverage","Activty","Required",null,"Coverage","Activty","Required",null,"Coverage","Activty","Required"]
[null,"(02.01) DTaP/IPV/Hib",null,null,null,"DTaP/IPV/Hib/HepB",null,null,{"$f":"IFERROR(ROUND(J25/J$23,3),\"\")","v":0.877},{"$f":"M25+Q25+AC25+AG25+AK25+AO25+AS25","v":498},null,{"$f":"IFERROR(ROUND(M25/M$23,3),\"\")","v":0.755},{"$f":"SUMIFS(OFFSET(REL_D,,MATCH(B25,IND,0)-1),REL_D,$M$2,IF(LEFT($M$11,1)=\"N\",NwID,OrgID),$M$11)","v":83},{"$f":"IF(AND(M$23*0.95-M25<1,(M$23*0.95-M25>0)),1,IF(M$23*0.95-M25<=0,\"\",M$23*0.95-M25))","v":21.5},null,{"$f":"IFERROR(ROUND(Q25/Q$23,3),\"\")","v":0.91},{"$f":"SUMIFS(OFFSET(REL_D,,MATCH(B25,IND,0)-1),REL_D,$M$2,IF(LEFT($Q$11,1)=\"N\",NwID,OrgID),$Q$11)","v":61},{"$f":"IF(AND(Q$23*0.95-Q25<1,(Q$23*0.95-Q25>0)),1,IF(Q$23*0.95-Q25<=0,\"\",Q$23*0.95-Q25))","v":2.6499999999999986},null,{"$f":"IFERROR(ROUND(U25/U$23,3),\"\")","v":0.41499999999999998},{"$f":"SUMIFS(OFFSET(REL_D,,MATCH(B25,IND,0)-1),REL_D,$M$2,IF(LEFT($U$11,1)=\"N\",NwID,OrgID),$U$11)","v":100},{"$f":"IF(AND(U$23*0.95-U25<1,(U$23*0.95-U25>0)),1,IF(U$23*0.95-U25<=0,\"\",U$23*0.95-U25))","v":128.94999999999999},null,{"$f":"IFERROR(ROUND(Y25/Y$23,3),\"\")","v":0.53},{"$f":"SUMIFS(OFFSET(REL_D,,MATCH(B25,IND,0)-1),REL_D,$M$2,IF(LEFT($Y$11,1)=\"N\",NwID,OrgID),$Y$11)","v":62},{"$f":"IF(AND(Y$23*0.95-Y25<1,(Y$23*0.95-Y25>0)),1,IF(Y$23*0.95-Y25<=0,\"\",Y$23*0.95-Y25))","v":49.149999999999991},null,{"$f":"IFERROR(ROUND(AC25/AC$23,3),\"\")","v":0.85399999999999998},{"$f":"SUMIFS(OFFSET(REL_D,,MATCH(B25,IND,0)-1),REL_D,$M$2,IF(LEFT($AC$11,1)=\"S\",NwID,OrgID),$AC$11)","v":76},{"$f":"IF(AND(AC$23*0.95-AC25<1,(AC$23*0.95-AC25>0)),1,IF(AC$23*0.95-AC25<=0,\"\",AC$23*0.95-AC25))","v":8.5499999999999972},null,{"$f":"IFERROR(ROUND(AG25/AG$23,3),\"\")","v":0.873},{"$f":"SUMIFS(OFFSET(REL_D,,MATCH(B25,IND,0)-1),REL_D,$M$2,IF(LEFT($AG$11,1)=\"s\",NwID,OrgID),$AG$11)","v":69},{"$f":"IF(AND(AG$23*0.95-AG25<1,(AG$23*0.95-AG25>0)),1,IF(AG$23*0.95-AG25<=0,\"\",AG$23*0.95-AG25))","v":6.0499999999999972},null,{"$f":"IFERROR(ROUND(AK25/AK$23,3),\"\")","v":0.95},{"$f":"SUMIFS(OFFSET(REL_D,,MATCH(B25,IND,0)-1),REL_D,$M$2,IF(LEFT($AK$11,1)=\"s\",NwID,OrgID),$AK$11)","v":114},{"$f":"IF(AND(AK$23*0.95-AK25<1,(AK$23*0.95-AK25>0)),1,IF(AK$23*0.95-AK25<=0,\"\",AK$23*0.95-AK25))","v":""},null,{"$f":"IFERROR(ROUND(AO25/AO$23,3),\"\")","v":0.94399999999999995},{"$f":"SUMIFS(OFFSET(REL_D,,MATCH(B25,IND,0)-1),REL_D,$M$2,IF(LEFT($AO$11,1)=\"s\",NwID,OrgID),$AO$11)","v":84},{"$f":"IF(AND(AO$23*0.95-AO25<1,(AO$23*0.95-AO25>0)),1,IF(AO$23*0.95-AO25<=0,\"\",AO$23*0.95-AO25))","v":1},null,{"$f":"IFERROR(ROUND(AS25/AS$23,3),\"\")","v":0.78600000000000003},{"$f":"SUMIFS(OFFSET(REL_D,,MATCH(B25,IND,0)-1),REL_D,$M$2,IF(LEFT($AS$11,1)=\"c\",NwID,OrgID),$AS$11)","v":11},{"$f":"IF(AND(AS$23*0.95-AS25<1,(AS$23*0.95-AS25>0)),1,IF(AS$23*0.95-AS25<=0,\"\",AS$23*0.95-AS25))","v":2.2999999999999989}]
[null,"(02.02) MMR",null,null,null,"MMR",null,null,{"$f":"IFERROR(ROUND(J26/J$23,3),\"\")","v":0.83499999999999996},{"$f":"M26+Q26+AC26+AG26+AK26+AO26+AS26","v":474},null,{"$f":"IFERROR(ROUND(M26/M$23,3),\"\")","v":0.67300000000000004},{"$f":"SUMIFS(OFFSET(REL_D,,MATCH(B26,IND,0)-1),REL_D,$M$2,IF(LEFT($M$11,1)=\"N\",NwID,OrgID),$M$11)","v":74},{"$f":"IF(AND(M$23*0.95-M26<1,(M$23*0.95-M26>0)),1,IF(M$23*0.95-M26<=0,\"\",M$23*0.95-M26))","v":30.5},null,{"$f":"IFERROR(ROUND(Q26/Q$23,3),\"\")","v":0.91},{"$f":"SUMIFS(OFFSET(REL_D,,MATCH(B26,IND,0)-1),REL_D,$M$2,IF(LEFT($Q$11,1)=\"N\",NwID,OrgID),$Q$11)","v":61},{"$f":"IF(AND(Q$23*0.95-Q26<1,(Q$23*0.95-Q26>0)),1,IF(Q$23*0.95-Q26<=0,\"\",Q$23*0.95-Q26))","v":2.6499999999999986},null,{"$f":"IFERROR(ROUND(U26/U$23,3),\"\")","v":0.41899999999999998},{"$f":"SUMIFS(OFFSET(REL_D,,MATCH(B26,IND,0)-1),REL_D,$M$2,IF(LEFT($U$11,1)=\"N\",NwID,OrgID),$U$11)","v":101},{"$f":"IF(AND(U$23*0.95-U26<1,(U$23*0.95-U26>0)),1,IF(U$23*0.95-U26<=0,\"\",U$23*0.95-U26))","v":127.94999999999999},null,{"$f":"IFERROR(ROUND(Y26/Y$23,3),\"\")","v":0.56399999999999995},{"$f":"SUMIFS(OFFSET(REL_D,,MATCH(B26,IND,0)-1),REL_D,$M$2,IF(LEFT($Y$11,1)=\"N\",NwID,OrgID),$Y$11)","v":66},{"$f":"IF(AND(Y$23*0.95-Y26<1,(Y$23*0.95-Y26>0)),1,IF(Y$23*0.95-Y26<=0,\"\",Y$23*0.95-Y26))","v":45.149999999999991},null,{"$f":"IFERROR(ROUND(AC26/AC$23,3),\"\")","v":0.876},{"$f":"SUMIFS(OFFSET(REL_D,,MATCH(B26,IND,0)-1),REL_D,$M$2,IF(LEFT($AC$11,1)=\"S\",NwID,OrgID),$AC$11)","v":78},{"$f":"IF(AND(AC$23*0.95-AC26<1,(AC$23*0.95-AC26>0)),1,IF(AC$23*0.95-AC26<=0,\"\",AC$23*0.95-AC26))","v":6.5499999999999972},null,{"$f":"IFERROR(ROUND(AG26/AG$23,3),\"\")","v":0.84799999999999998},{"$f":"SUMIFS(OFFSET(REL_D,,MATCH(B26,IND,0)-1),REL_D,$M$2,IF(LEFT($AG$11,1)=\"s\",NwID,OrgID),$AG$11)","v":67},{"$f":"IF(AND(AG$23*0.95-AG26<1,(AG$23*0.95-AG26>0)),1,IF(AG$23*0.95-AG26<=0,\"\",AG$23*0.95-AG26))","v":8.0499999999999972},null,{"$f":"IFERROR(ROUND(AK26/AK$23,3),\"\")","v":0.875},{"$f":"SUMIFS(OFFSET(REL_D,,MATCH(B26,IND,0)-1),REL_D,$M$2,IF(LEFT($AK$11,1)=\"s\",NwID,OrgID),$AK$11)","v":105},{"$f":"IF(AND(AK$23*0.95-AK26<1,(AK$23*0.95-AK26>0)),1,IF(AK$23*0.95-AK26<=0,\"\",AK$23*0.95-AK26))","v":9},null,{"$f":"IFERROR(ROUND(AO26/AO$23,3),\"\")","v":0.876},{"$f":"SUMIFS(OFFSET(REL_D,,MATCH(B26,IND,0)-1),REL_D,$M$2,IF(LEFT($AO$11,1)=\"s\",NwID,OrgID),$AO$11)","v":78},{"$f":"IF(AND(AO$23*0.95-AO26<1,(AO$23*0.95-AO26>0)),1,IF(AO$23*0.95-AO26<=0,\"\",AO$23*0.95-AO26))","v":6.5499999999999972},null,{"$f":"IFERROR(ROUND(AS26/AS$23,3),\"\")","v":0.78600000000000003},{"$f":"SUMIFS(OFFSET(REL_D,,MATCH(B26,IND,0)-1),REL_D,$M$2,IF(LEFT($AS$11,1)=\"c\",NwID,OrgID),$AS$11)","v":11},{"$f":"IF(AND(AS$23*0.95-AS26<1,(AS$23*0.95-AS26>0)),1,IF(AS$23*0.95-AS26<=0,\"\",AS$23*0.95-AS26))","v":2.2999999999999989}]
[null,"(02.03) HiB/Men C",null,null,null,"HiB/Men C",null,null,0.83299999999999996,{"$f":"M27+Q27+AC27+AG27+AK27+AO27+AS27","v":473},null,0.64500000000000002,{"$f":"SUMIFS(OFFSET(REL_D,,MATCH(B27,IND,0)-1),REL_D,$M$2,IF(LEFT($M$11,1)=\"N\",NwID,OrgID),$M$11)","v":71},33.5,null,0.94,{"$f":"SUMIFS(OFFSET(REL_D,,MATCH(B27,IND,0)-1),REL_D,$M$2,IF(LEFT($Q$11,1)=\"N\",NwID,OrgID),$Q$11)","v":63},1,null,0.32800000000000001,{"$f":"SUMIFS(OFFSET(REL_D,,MATCH(B27,IND,0)-1),REL_D,$M$2,IF(LEFT($U$11,1)=\"N\",NwID,OrgID),$U$11)","v":79},149.94999999999999,null,0.52100000000000002,{"$f":"SUMIFS(OFFSET(REL_D,,MATCH(B27,IND,0)-1),REL_D,$M$2,IF(LEFT($Y$11,1)=\"N\",NwID,OrgID),$Y$11)","v":61},50.149999999999991,null,0.876,{"$f":"SUMIFS(OFFSET(REL_D,,MATCH(B27,IND,0)-1),REL_D,$M$2,IF(LEFT($AC$11,1)=\"S\",NwID,OrgID),$AC$11)","v":78},6.5499999999999972,null,0.83499999999999996,{"$f":"SUMIFS(OFFSET(REL_D,,MATCH(B27,IND,0)-1),REL_D,$M$2,IF(LEFT($AG$11,1)=\"s\",NwID,OrgID),$AG$11)","v":66},9.0499999999999972,null,0.875,{"$f":"SUMIFS(OFFSET(REL_D,,MATCH(B27,IND,0)-1),REL_D,$M$2,IF(LEFT($AK$11,1)=\"s\",NwID,OrgID),$AK$11)","v":105},9,null,0.88800000000000001,{"$f":"SUMIFS(OFFSET(REL_D,,MATCH(B27,IND,0)-1),REL_D,$M$2,IF(LEFT($AO$11,1)=\"s\",NwID,OrgID),$AO$11)","v":79},5.5499999999999972,null,0.78600000000000003,{"$f":"SUMIFS(OFFSET(REL_D,,MATCH(B27,IND,0)-1),REL_D,$M$2,IF(LEFT($AS$11,1)=\"c\",NwID,OrgID),$AS$11)","v":11},2.2999999999999989]
[null,"(02.04) PCV (Booster)",null,null,null,"PCV (Booster)",null,null,0.82399999999999995,{"$f":"M28+Q28+AC28+AG28+AK28+AO28+AS28","v":468},null,0.66400000000000003,{"$f":"SUMIFS(OFFSET(REL_D,,MATCH(B28,IND,0)-1),REL_D,$M$2,IF(LEFT($M$11,1)=\"N\",NwID,OrgID),$M$11)","v":73},31.5,null,0.91,{"$f":"SUMIFS(OFFSET(REL_D,,MATCH(B28,IND,0)-1),REL_D,$M$2,IF(LEFT($Q$11,1)=\"N\",NwID,OrgID),$Q$11)","v":61},2.6499999999999986,null,0.41899999999999998,{"$f":"SUMIFS(OFFSET(REL_D,,MATCH(B28,IND,0)-1),REL_D,$M$2,IF(LEFT($U$11,1)=\"N\",NwID,OrgID),$U$11)","v":101},127.94999999999999,null,0.52100000000000002,{"$f":"SUMIFS(OFFSET(REL_D,,MATCH(B28,IND,0)-1),REL_D,$M$2,IF(LEFT($Y$11,1)=\"N\",NwID,OrgID),$Y$11)","v":61},50.149999999999991,null,0.86499999999999999,{"$f":"SUMIFS(OFFSET(REL_D,,MATCH(B28,IND,0)-1),REL_D,$M$2,IF(LEFT($AC$11,1)=\"S\",NwID,OrgID),$AC$11)","v":77},7.5499999999999972,null,0.82299999999999995,{"$f":"SUMIFS(OFFSET(REL_D,,MATCH(B28,IND,0)-1),REL_D,$M$2,IF(LEFT($AG$11,1)=\"s\",NwID,OrgID),$AG$11)","v":65},10.049999999999997,null,0.86699999999999999,{"$f":"SUMIFS(OFFSET(REL_D,,MATCH(B28,IND,0)-1),REL_D,$M$2,IF(LEFT($AK$11,1)=\"s\",NwID,OrgID),$AK$11)","v":104},10,null,0.86499999999999999,{"$f":"SUMIFS(OFFSET(REL_D,,MATCH(B28,IND,0)-1),REL_D,$M$2,IF(LEFT($AO$11,1)=\"s\",NwID,OrgID),$AO$11)","v":77},7.5499999999999972,null,0.78600000000000003,{"$f":"SUMIFS(OFFSET(REL_D,,MATCH(B28,IND,0)-1),REL_D,$M$2,IF(LEFT($AS$11,1)=\"c\",NwID,OrgID),$AS$11)","v":11},2.2999999999999989]
[null,"(02.05) Men B (Booster)",null,null,null,"Men B (Booster)",null,null,0.82699999999999996,{"$f":"M29+Q29+AC29+AG29+AK29+AO29+AS29","v":470},null,0.65500000000000003,{"$f":"SUMIFS(OFFSET(REL_D,,MATCH(B29,IND,0)-1),REL_D,$M$2,IF(LEFT($M$11,1)=\"N\",NwID,OrgID),$M$11)","v":72},{"$f":"IF(AND(M$23*0.95-M29<1,(M$23*0.95-M29>0)),1,IF(M$23*0.95-M29<=0,\"\",M$23*0.95-M29))","v":32.5},null,0.92500000000000004,{"$f":"SUMIFS(OFFSET(REL_D,,MATCH(B29,IND,0)-1),REL_D,$M$2,IF(LEFT($Q$11,1)=\"N\",NwID,OrgID),$Q$11)","v":62},{"$f":"IF(AND(Q$23*0.95-Q29<1,(Q$23*0.95-Q29>0)),1,IF(Q$23*0.95-Q29<=0,\"\",Q$23*0.95-Q29))","v":1.6499999999999986},null,0.38200000000000001,{"$f":"SUMIFS(OFFSET(REL_D,,MATCH(B29,IND,0)-1),REL_D,$M$2,IF(LEFT($U$11,1)=\"N\",NwID,OrgID),$U$11)","v":92},{"$f":"IF(AND(U$23*0.95-U29<1,(U$23*0.95-U29>0)),1,IF(U$23*0.95-U29<=0,\"\",U$23*0.95-U29))","v":136.94999999999999},null,0.496,{"$f":"SUMIFS(OFFSET(REL_D,,MATCH(B29,IND,0)-1),REL_D,$M$2,IF(LEFT($Y$11,1)=\"N\",NwID,OrgID),$Y$11)","v":58},{"$f":"IF(AND(Y$23*0.95-Y29<1,(Y$23*0.95-Y29>0)),1,IF(Y$23*0.95-Y29<=0,\"\",Y$23*0.95-Y29))","v":53.149999999999991},null,0.86499999999999999,{"$f":"SUMIFS(OFFSET(REL_D,,MATCH(B29,IND,0)-1),REL_D,$M$2,IF(LEFT($AC$11,1)=\"S\",NwID,OrgID),$AC$11)","v":77},{"$f":"IF(AND(AC$23*0.95-AC29<1,(AC$23*0.95-AC29>0)),1,IF(AC$23*0.95-AC29<=0,\"\",AC$23*0.95-AC29))","v":7.5499999999999972},null,0.82299999999999995,{"$f":"SUMIFS(OFFSET(REL_D,,MATCH(B29,IND,0)-1),REL_D,$M$2,IF(LEFT($AG$11,1)=\"s\",NwID,OrgID),$AG$11)","v":65},{"$f":"IF(AND(AG$23*0.95-AG29<1,(AG$23*0.95-AG29>0)),1,IF(AG$23*0.95-AG29<=0,\"\",AG$23*0.95-AG29))","v":10.049999999999997},null,0.88300000000000001,{"$f":"SUMIFS(OFFSET(REL_D,,MATCH(B29,IND,0)-1),REL_D,$M$2,IF(LEFT($AK$11,1)=\"s\",NwID,OrgID),$AK$11)","v":106},{"$f":"IF(AND(AK$23*0.95-AK29<1,(AK$23*0.95-AK29>0)),1,IF(AK$23*0.95-AK29<=0,\"\",AK$23*0.95-AK29))","v":8},null,0.86499999999999999,{"$f":"SUMIFS(OFFSET(REL_D,,MATCH(B29,IND,0)-1),REL_D,$M$2,IF(LEFT($AO$11,1)=\"s\",NwID,OrgID),$AO$11)","v":77},{"$f":"IF(AND(AO$23*0.95-AO29<1,(AO$23*0.95-AO29>0)),1,IF(AO$23*0.95-AO29<=0,\"\",AO$23*0.95-AO29))","v":7.5499999999999972},null,0.78600000000000003,{"$f":"SUMIFS(OFFSET(REL_D,,MATCH(B29,IND,0)-1),REL_D,$M$2,IF(LEFT($AS$11,1)=\"c\",NwID,OrgID),$AS$11)","v":11},{"$f":"IF(AND(AS$23*0.95-AS29<1,(AS$23*0.95-AS29>0)),1,IF(AS$23*0.95-AS29<=0,\"\",AS$23*0.95-AS29))","v":2.2999999999999989}]
[]
[null,"(03) 5 YEAR COHORT",null,{"$f":"\"Patients becoming 5y within \"&'Control Panel'!$B$1","v":"Patients becoming 5y within Q4"},null,null,null,null,null,{"$f":"M31+Q31+AC31+AG31+AK31+AO31+AS31","v":578},null,null,{"$f":"SUMIFS(OFFSET(REL_D,,MATCH(B31,IND,0)-1),REL_D,$M$2,IF(LEFT($M$11,1)=\"N\",NwID,OrgID),$M$11)","v":77},null,null,null,{"$f":"SUMIFS(OFFSET(REL_D,,MATCH(B31,IND,0)-1),REL_D,$M$2,IF(LEFT($Q$11,1)=\"N\",NwID,OrgID),$Q$11)","v":84},null,null,null,{"$f":"SUMIFS(OFFSET(REL_D,,MATCH(B31,IND,0)-1),REL_D,$M$2,IF(LEFT($U$11,1)=\"N\",NwID,OrgID),$U$11)","v":249},null,null,null,{"$f":"SUMIFS(OFFSET(REL_D,,MATCH(B31,IND,0)-1),REL_D,$M$2,IF(LEFT($Y$11,1)=\"N\",NwID,OrgID),$Y$11)","v":137},null,null,null,{"$f":"SUMIFS(OFFSET(REL_D,,MATCH(B31,IND,0)-1),REL_D,$M$2,IF(LEFT($AC$11,1)=\"S\",NwID,OrgID),$AC$11)","v":117},null,null,null,{"$f":"SUMIFS(OFFSET(REL_D,,MATCH(B31,IND,0)-1),REL_D,$M$2,IF(LEFT($AG$11,1)=\"s\",NwID,OrgID),$AG$11)","v":96},null,null,null,{"$f":"SUMIFS(OFFSET(REL_D,,MATCH(B31,IND,0)-1),REL_D,$M$2,IF(LEFT($AK$11,1)=\"s\",NwID,OrgID),$AK$11)","v":92},null,null,null,{"$f":"SUMIFS(OFFSET(REL_D,,MATCH(B31,IND,0)-1),REL_D,$M$2,IF(LEFT($AO$11,1)=\"s\",NwID,OrgID),$AO$11)","v":99},null,null,null,{"$f":"SUMIFS(OFFSET(REL_D,,MATCH(B31,IND,0)-1),REL_D,$M$2,IF(LEFT($AS$11,1)=\"c\",NwID,OrgID),$AS$11)","v":13}]
[null,null,null,null,null,null,null,null,"Coverage","Activty",null,"Coverage","Activty","Required",null,"Coverage","Activty","Required",null,"Coverage","Activty","Required",null,"Coverage","Activty","Required",null,"Coverage","Activty","Required",null,"Coverage","Activty","Required",null,"Coverage","Activty","Required",null,"Coverage","Activty","Required",null,"Coverage","Activty","Required"]
[null,"(03.01) DTaP/IPV/Hib",null,null,null,"DTaP/IPV (Booster)",null,null,{"$f":"IFERROR(ROUND(J33/J$31,3),\"\")","v":0.93600000000000005},{"$f":"M33+Q33+AC33+AG33+AK33+AO33+AS33","v":541},null,{"$f":"IFERROR(ROUND(M33/M$31,3),\"\")","v":0.89600000000000002},{"$f":"SUMIFS(OFFSET(REL_D,,MATCH(B33,IND,0)-1),REL_D,$M$2,IF(LEFT($M$11,1)=\"N\",NwID,OrgID),$M$11)","v":69},{"$f":"IF(AND(M$31*0.95-M33<1,(M$31*0.95-M33>0)),1,IF(M$31*0.95-M33<=0,\"\",M$31*0.95-M33))","v":4.1499999999999915},null,{"$f":"IFERROR(ROUND(Q33/Q$31,3),\"\")","v":0.95199999999999996},{"$f":"SUMIFS(OFFSET(REL_D,,MATCH(B33,IND,0)-1),REL_D,$M$2,IF(LEFT($Q$11,1)=\"N\",NwID,OrgID),$Q$11)","v":80},{"$f":"IF(AND(Q$31*0.95-Q33<1,(Q$31*0.95-Q33>0)),1,IF(Q$31*0.95-Q33<=0,\"\",Q$31*0.95-Q33))","v":""},null,{"$f":"IFERROR(ROUND(U33/U$31,3),\"\")","v":0.59799999999999998},{"$f":"SUMIFS(OFFSET(REL_D,,MATCH(B33,IND,0)-1),REL_D,$M$2,IF(LEFT($U$11,1)=\"N\",NwID,OrgID),$U$11)","v":149},{"$f":"IF(AND(U$31*0.95-U33<1,(U$31*0.95-U33>0)),1,IF(U$31*0.95-U33<=0,\"\",U$31*0.95-U33))","v":87.549999999999983},null,{"$f":"IFERROR(ROUND(Y33/Y$31,3),\"\")","v":0.69299999999999995},{"$f":"SUMIFS(OFFSET(REL_D,,MATCH(B33,IND,0)-1),REL_D,$M$2,IF(LEFT($Y$11,1)=\"N\",NwID,OrgID),$Y$11)","v":95},{"$f":"IF(AND(Y$31*0.95-Y33<1,(Y$31*0.95-Y33>0)),1,IF(Y$31*0.95-Y33<=0,\"\",Y$31*0.95-Y33))","v":35.150000000000006},null,{"$f":"IFERROR(ROUND(AC33/AC$31,3),\"\")","v":0.94},{"$f":"SUMIFS(OFFSET(REL_D,,MATCH(B33,IND,0)-1),REL_D,$M$2,IF(LEFT($AC$11,1)=\"S\",NwID,OrgID),$AC$11)","v":110},{"$f":"IF(AND(AC$31*0.95-AC33<1,(AC$31*0.95-AC33>0)),1,IF(AC$31*0.95-AC33<=0,\"\",AC$31*0.95-AC33))","v":1.1499999999999915},null,{"$f":"IFERROR(ROUND(AG33/AG$31,3),\"\")","v":0.95799999999999996},{"$f":"SUMIFS(OFFSET(REL_D,,MATCH(B33,IND,0)-1),REL_D,$M$2,IF(LEFT($AG$11,1)=\"s\",NwID,OrgID),$AG$11)","v":92},{"$f":"IF(AND(AG$31*0.95-AG33<1,(AG$31*0.95-AG33>0)),1,IF(AG$31*0.95-AG33<=0,\"\",AG$31*0.95-AG33))","v":""},null,{"$f":"IFERROR(ROUND(AK33/AK$31,3),\"\")","v":0.94599999999999995},{"$f":"SUMIFS(OFFSET(REL_D,,MATCH(B33,IND,0)-1),REL_D,$M$2,IF(LEFT($AK$11,1)=\"s\",NwID,OrgID),$AK$11)","v":87},{"$f":"IF(AND(AK$31*0.95-AK33<1,(AK$31*0.95-AK33>0)),1,IF(AK$31*0.95-AK33<=0,\"\",AK$31*0.95-AK33))","v":1},null,{"$f":"IFERROR(ROUND(AO33/AO$31,3),\"\")","v":0.93899999999999995},{"$f":"SUMIFS(OFFSET(REL_D,,MATCH(B33,IND,0)-1),REL_D,$M$2,IF(LEFT($AO$11,1)=\"s\",NwID,OrgID),$AO$11)","v":93},{"$f":"IF(AND(AO$31*0.95-AO33<1,(AO$31*0.95-AO33>0)),1,IF(AO$31*0.95-AO33<=0,\"\",AO$31*0.95-AO33))","v":1.0499999999999972},null,{"$f":"IFERROR(ROUND(AS33/AS$31,3),\"\")","v":0.76900000000000002},{"$f":"SUMIFS(OFFSET(REL_D,,MATCH(B33,IND,0)-1),REL_D,$M$2,IF(LEFT($AS$11,1)=\"c\",NwID,OrgID),$AS$11)","v":10},{"$f":"IF(AND(AS$31*0.95-AS33<1,(AS$31*0.95-AS33>0)),1,IF(AS$31*0.95-AS33<=0,\"\",AS$31*0.95-AS33))","v":2.3499999999999996}]
[null,"(03.02) MMR (Primary)",null,null,null,"MMR (Primary)",null,null,{"$f":"IFERROR(ROUND(J34/J$31,3),\"\")","v":0.88900000000000001},{"$f":"M34+Q34+AC34+AG34+AK34+AO34+AS34","v":514},null,{"$f":"IFERROR(ROUND(M34/M$31,3),\"\")","v":0.84399999999999997},{"$f":"SUMIFS(OFFSET(REL_D,,MATCH(B34,IND,0)-1),REL_D,$M$2,IF(LEFT($M$11,1)=\"N\",NwID,OrgID),$M$11)","v":65},{"$f":"IF(AND(M$31*0.95-M34<1,(M$31*0.95-M34>0)),1,IF(M$31*0.95-M34<=0,\"\",M$31*0.95-M34))","v":8.1499999999999915},null,{"$f":"IFERROR(ROUND(Q34/Q$31,3),\"\")","v":0.90500000000000003},{"$f":"SUMIFS(OFFSET(REL_D,,MATCH(B34,IND,0)-1),REL_D,$M$2,IF(LEFT($Q$11,1)=\"N\",NwID,OrgID),$Q$11)","v":76},{"$f":"IF(AND(Q$31*0.95-Q34<1,(Q$31*0.95-Q34>0)),1,IF(Q$31*0.95-Q34<=0,\"\",Q$31*0.95-Q34))","v":3.7999999999999972},null,{"$f":"IFERROR(ROUND(U34/U$31,3),\"\")","v":0.69899999999999995},{"$f":"SUMIFS(OFFSET(REL_D,,MATCH(B34,IND,0)-1),REL_D,$M$2,IF(LEFT($U$11,1)=\"N\",NwID,OrgID),$U$11)","v":174},{"$f":"IF(AND(U$31*0.95-U34<1,(U$31*0.95-U34>0)),1,IF(U$31*0.95-U34<=0,\"\",U$31*0.95-U34))","v":62.549999999999983},null,{"$f":"IFERROR(ROUND(Y34/Y$31,3),\"\")","v":0.73699999999999999},{"$f":"SUMIFS(OFFSET(REL_D,,MATCH(B34,IND,0)-1),REL_D,$M$2,IF(LEFT($Y$11,1)=\"N\",NwID,OrgID),$Y$11)","v":101},{"$f":"IF(AND(Y$31*0.95-Y34<1,(Y$31*0.95-Y34>0)),1,IF(Y$31*0.95-Y34<=0,\"\",Y$31*0.95-Y34))","v":29.150000000000006},null,{"$f":"IFERROR(ROUND(AC34/AC$31,3),\"\")","v":0.90600000000000003},{"$f":"SUMIFS(OFFSET(REL_D,,MATCH(B34,IND,0)-1),REL_D,$M$2,IF(LEFT($AC$11,1)=\"S\",NwID,OrgID),$AC$11)","v":106},{"$f":"IF(AND(AC$31*0.95-AC34<1,(AC$31*0.95-AC34>0)),1,IF(AC$31*0.95-AC34<=0,\"\",AC$31*0.95-AC34))","v":5.1499999999999915},null,{"$f":"IFERROR(ROUND(AG34/AG$31,3),\"\")","v":0.86499999999999999},{"$f":"SUMIFS(OFFSET(REL_D,,MATCH(B34,IND,0)-1),REL_D,$M$2,IF(LEFT($AG$11,1)=\"s\",NwID,OrgID),$AG$11)","v":83},{"$f":"IF(AND(AG$31*0.95-AG34<1,(AG$31*0.95-AG34>0)),1,IF(AG$31*0.95-AG34<=0,\"\",AG$31*0.95-AG34))","v":8.1999999999999886},null,{"$f":"IFERROR(ROUND(AK34/AK$31,3),\"\")","v":0.92400000000000004},{"$f":"SUMIFS(OFFSET(REL_D,,MATCH(B34,IND,0)-1),REL_D,$M$2,IF(LEFT($AK$11,1)=\"s\",NwID,OrgID),$AK$11)","v":85},{"$f":"IF(AND(AK$31*0.95-AK34<1,(AK$31*0.95-AK34>0)),1,IF(AK$31*0.95-AK34<=0,\"\",AK$31*0.95-AK34))","v":2.3999999999999915},null,{"$f":"IFERROR(ROUND(AO34/AO$31,3),\"\")","v":0.89900000000000002},{"$f":"SUMIFS(OFFSET(REL_D,,MATCH(B34,IND,0)-1),REL_D,$M$2,IF(LEFT($AO$11,1)=\"s\",NwID,OrgID),$AO$11)","v":89},{"$f":"IF(AND(AO$31*0.95-AO34<1,(AO$31*0.95-AO34>0)),1,IF(AO$31*0.95-AO34<=0,\"\",AO$31*0.95-AO34))","v":5.0499999999999972},null,{"$f":"IFERROR(ROUND(AS34/AS$31,3),\"\")","v":0.76900000000000002},{"$f":"SUMIFS(OFFSET(REL_D,,MATCH(B34,IND,0)-1),REL_D,$M$2,IF(LEFT($AS$11,1)=\"c\",NwID,OrgID),$AS$11)","v":10},{"$f":"IF(AND(AS$31*0.95-AS34<1,(AS$31*0.95-AS34>0)),1,IF(AS$31*0.95-AS34<=0,\"\",AS$31*0.95-AS34))","v":2.3499999999999996}]
[null,"(03.03) DTaP/IPV (Booster)",null,null,null,"DTaP/IPV/Hib",null,null,0.76600000000000001,{"$f":"M35+Q35+AC35+AG35+AK35+AO35+AS35","v":443},null,0.67500000000000004,{"$f":"SUMIFS(OFFSET(REL_D,,MATCH(B35,IND,0)-1),REL_D,$M$2,IF(LEFT($M$11,1)=\"N\",NwID,OrgID),$M$11)","v":52},21.149999999999991,null,{"$f":"IFERROR(ROUND(Q35/Q$31,3),\"\")","v":0.83299999999999996},{"$f":"SUMIFS(OFFSET(REL_D,,MATCH(B35,IND,0)-1),REL_D,$M$2,IF(LEFT($Q$11,1)=\"N\",NwID,OrgID),$Q$11)","v":70},9.7999999999999972,null,0.28899999999999998,{"$f":"SUMIFS(OFFSET(REL_D,,MATCH(B35,IND,0)-1),REL_D,$M$2,IF(LEFT($U$11,1)=\"N\",NwID,OrgID),$U$11)","v":72},164.54999999999998,null,0.46,{"$f":"SUMIFS(OFFSET(REL_D,,MATCH(B35,IND,0)-1),REL_D,$M$2,IF(LEFT($Y$11,1)=\"N\",NwID,OrgID),$Y$11)","v":63},67.150000000000006,null,0.80300000000000005,{"$f":"SUMIFS(OFFSET(REL_D,,MATCH(B35,IND,0)-1),REL_D,$M$2,IF(LEFT($AC$11,1)=\"S\",NwID,OrgID),$AC$11)","v":94},17.149999999999991,null,0.72899999999999998,{"$f":"SUMIFS(OFFSET(REL_D,,MATCH(B35,IND,0)-1),REL_D,$M$2,IF(LEFT($AG$11,1)=\"s\",NwID,OrgID),$AG$11)","v":70},21.199999999999989,null,0.82599999999999996,{"$f":"SUMIFS(OFFSET(REL_D,,MATCH(B35,IND,0)-1),REL_D,$M$2,IF(LEFT($AK$11,1)=\"s\",NwID,OrgID),$AK$11)","v":76},11.399999999999991,null,0.72699999999999998,{"$f":"SUMIFS(OFFSET(REL_D,,MATCH(B35,IND,0)-1),REL_D,$M$2,IF(LEFT($AO$11,1)=\"s\",NwID,OrgID),$AO$11)","v":72},22.049999999999997,null,0.69199999999999995,{"$f":"SUMIFS(OFFSET(REL_D,,MATCH(B35,IND,0)-1),REL_D,$M$2,IF(LEFT($AS$11,1)=\"c\",NwID,OrgID),$AS$11)","v":9},3.3499999999999996]
[null,"(03.05) MMR (Booster)",null,null,null,"MMR (Booster)",null,null,0.77700000000000002,{"$f":"M36+Q36+AC36+AG36+AK36+AO36+AS36","v":449},null,0.66200000000000003,{"$f":"SUMIFS(OFFSET(REL_D,,MATCH(B36,IND,0)-1),REL_D,$M$2,IF(LEFT($M$11,1)=\"N\",NwID,OrgID),$M$11)","v":51},22.149999999999991,null,{"$f":"IFERROR(ROUND(Q36/Q$31,3),\"\")","v":0.84499999999999997},{"$f":"SUMIFS(OFFSET(REL_D,,MATCH(B36,IND,0)-1),REL_D,$M$2,IF(LEFT($Q$11,1)=\"N\",NwID,OrgID),$Q$11)","v":71},8.7999999999999972,null,0.313,{"$f":"SUMIFS(OFFSET(REL_D,,MATCH(B36,IND,0)-1),REL_D,$M$2,IF(LEFT($U$11,1)=\"N\",NwID,OrgID),$U$11)","v":78},158.54999999999998,null,0.496,{"$f":"SUMIFS(OFFSET(REL_D,,MATCH(B36,IND,0)-1),REL_D,$M$2,IF(LEFT($Y$11,1)=\"N\",NwID,OrgID),$Y$11)","v":68},62.150000000000006,null,0.79500000000000004,{"$f":"SUMIFS(OFFSET(REL_D,,MATCH(B36,IND,0)-1),REL_D,$M$2,IF(LEFT($AC$11,1)=\"S\",NwID,OrgID),$AC$11)","v":93},18.149999999999991,null,0.77100000000000002,{"$f":"SUMIFS(OFFSET(REL_D,,MATCH(B36,IND,0)-1),REL_D,$M$2,IF(LEFT($AG$11,1)=\"s\",NwID,OrgID),$AG$11)","v":74},17.199999999999989,null,0.84799999999999998,{"$f":"SUMIFS(OFFSET(REL_D,,MATCH(B36,IND,0)-1),REL_D,$M$2,IF(LEFT($AK$11,1)=\"s\",NwID,OrgID),$AK$11)","v":78},9.3999999999999915,null,0.73699999999999999,{"$f":"SUMIFS(OFFSET(REL_D,,MATCH(B36,IND,0)-1),REL_D,$M$2,IF(LEFT($AO$11,1)=\"s\",NwID,OrgID),$AO$11)","v":73},21.049999999999997,null,0.69199999999999995,{"$f":"SUMIFS(OFFSET(REL_D,,MATCH(B36,IND,0)-1),REL_D,$M$2,IF(LEFT($AS$11,1)=\"c\",NwID,OrgID),$AS$11)","v":9},3.3499999999999996]
[null,"(03.04) HiB/Men C",null,null,null,"HiB/Men C",null,null,0.88400000000000001,{"$f":"M37+Q37+AC37+AG37+AK37+AO37+AS37","v":511},null,0.85699999999999998,{"$f":"SUMIFS(OFFSET(REL_D,,MATCH(B37,IND,0)-1),REL_D,$M$2,IF(LEFT($M$11,1)=\"N\",NwID,OrgID),$M$11)","v":66},7.1499999999999915,null,{"$f":"IFERROR(ROUND(Q37/Q$31,3),\"\")","v":0.86899999999999999},{"$f":"SUMIFS(OFFSET(REL_D,,MATCH(B37,IND,0)-1),REL_D,$M$2,IF(LEFT($Q$11,1)=\"N\",NwID,OrgID),$Q$11)","v":73},6.7999999999999972,null,0.57799999999999996,{"$f":"SUMIFS(OFFSET(REL_D,,MATCH(B37,IND,0)-1),REL_D,$M$2,IF(LEFT($U$11,1)=\"N\",NwID,OrgID),$U$11)","v":144},92.549999999999983,null,0.66400000000000003,{"$f":"SUMIFS(OFFSET(REL_D,,MATCH(B37,IND,0)-1),REL_D,$M$2,IF(LEFT($Y$11,1)=\"N\",NwID,OrgID),$Y$11)","v":91},39.150000000000006,null,0.88900000000000001,{"$f":"SUMIFS(OFFSET(REL_D,,MATCH(B37,IND,0)-1),REL_D,$M$2,IF(LEFT($AC$11,1)=\"S\",NwID,OrgID),$AC$11)","v":104},7.1499999999999915,null,0.88500000000000001,{"$f":"SUMIFS(OFFSET(REL_D,,MATCH(B37,IND,0)-1),REL_D,$M$2,IF(LEFT($AG$11,1)=\"s\",NwID,OrgID),$AG$11)","v":85},6.1999999999999886,null,0.92400000000000004,{"$f":"SUMIFS(OFFSET(REL_D,,MATCH(B37,IND,0)-1),REL_D,$M$2,IF(LEFT($AK$11,1)=\"s\",NwID,OrgID),$AK$11)","v":85},2.3999999999999915,null,0.88900000000000001,{"$f":"SUMIFS(OFFSET(REL_D,,MATCH(B37,IND,0)-1),REL_D,$M$2,IF(LEFT($AO$11,1)=\"s\",NwID,OrgID),$AO$11)","v":88},6.0499999999999972,null,0.76900000000000002,{"$f":"SUMIFS(OFFSET(REL_D,,MATCH(B37,IND,0)-1),REL_D,$M$2,IF(LEFT($AS$11,1)=\"c\",NwID,OrgID),$AS$11)","v":10},2.3499999999999996]

{"sheet":"Patients becoming 12m","index":2,"n_rows":61,"n_cols":16,"rows_kept":61,"cut":false,"hidden":false,"merged":[[18,0,19,2],[18,4,19,4]]}
[]
[null,null,null,"City and Hackney Childhood Immunisations Dashboard: Metric Details"]
[null,null,null,"Patients becoming 12m",null,{"$f":"E15","v":609}]
[null,null,"2019-07-01"]
[null,null,"2019-10-01"]
[null,null,"March 2022","All Patients","(01) 12 MONTH COHORT","(01.01) DTaP/IPV/Hib","DTaP/IPV/Hib(%)","Patients required to achieve CCG Target (95%)","(01.02) Men B (1st and 2nd)","Men B(%)","Patients required to achieve CCG Target (95%)","(01.03) PCV","PCV(%)","Patients required to achieve CCG Target (95%)","(01.04) Rotavirus","Rotavirus(%)"]
[null,"Home",{"$f":"VLOOKUP(C6,'Control Panel'!I2:J13,2,FALSE)","v":"2022-03-01"},"Listsize ","Patients becoming 12m within Q1","DTaP/IPV/Hib/HepB","DTaP/IPV/Hib/HepB(%)","Patients required to achieve CCG Target (95%)","Men C / Men B","Men C / Men B(%)","Patients required to achieve CCG Target (95%)","PCV","PCV(%)","Patients required to achieve CCG Target (95%)","Rotavirus","Rotavirus(%)"]
["Cluster"]
[{"$f":"'Control Panel'!B3","v":"NW1"},{"$f":"'Control Panel'!C3","v":"Woodberry Wetlands (NW1)"},null,{"$f":"SUM(IF($A9=$A$22:$A$61,D$22:D$61))","v":34217},{"$f":"SUM(IF($A9=$A$22:$A$61,E$22:E$61))","v":136},{"$f":"SUM(IF($A9=$A$22:$A$61,F$22:F$61))","v":105},{"$f":"IF(OR(ISTEXT($E9),$E9=0),\"N/A\",F9/$E9)","v":0.7720588235294118},null,{"$f":"SUM(IF($A9=$A$22:$A$61,I$22:I$61))","v":104},{"$f":"IF(OR(ISTEXT($E9),$E9=0),\"N/A\",I9/$E9)","v":0.76470588235294112},null,{"$f":"SUM(IF($A9=$A$22:$A$61,L$22:L$61))","v":114},{"$f":"IF(OR(ISTEXT($E9),$E9=0),\"N/A\",L9/$E9)","v":0.83823529411764708},null,{"$f":"SUM(IF($A9=$A$22:$A$61,O$22:O$61))","v":105},{"$f":"IF(OR(ISTEXT($E9),$E9=0),\"N/A\",O9/$E9)","v":0.7720588235294118}]
[{"$f":"'Control Panel'!B4","v":"NW2"},{"$f":"'Control Panel'!C4","v":"Clissold Park (NW2)"},null,{"$f":"SUM(IF($A10=$A$22:$A$61,D$22:D$61))","v":35379},{"$f":"SUM(IF($A10=$A$22:$A$61,E$22:E$61))","v":79},{"$f":"SUM(IF($A10=$A$22:$A$61,F$22:F$61))","v":70},{"$f":"IF(OR(ISTEXT($E10),$E10=0),\"N/A\",F10/$E10)","v":0.88607594936708856},null,{"$f":"SUM(IF($A10=$A$22:$A$61,I$22:I$61))","v":69},{"$f":"IF(OR(ISTEXT($E10),$E10=0),\"N/A\",I10/$E10)","v":0.87341772151898733},null,{"$f":"SUM(IF($A10=$A$22:$A$61,L$22:L$61))","v":71},{"$f":"IF(OR(ISTEXT($E10),$E10=0),\"N/A\",L10/$E10)","v":0.89873417721518989},null,{"$f":"SUM(IF($A10=$A$22:$A$61,O$22:O$61))","v":69},{"$f":"IF(OR(ISTEXT($E10),$E10=0),\"N/A\",O10/$E10)","v":0.87341772151898733}]
[{"$f":"'Control Panel'!B7","v":"SE1"},{"$f":"'Control Panel'!C7","v":"Hackney Marshes (SE1)"},null,{"$f":"SUM(IF($A11=$A$22:$A$61,D$22:D$61))","v":42589},{"$f":"SUM(IF($A11=$A$22:$A$61,E$22:E$61))","v":99},{"$f":"SUM(IF($A11=$A$22:$A$61,F$22:F$61))","v":84},{"$f":"IF(OR(ISTEXT($E11),$E11=0),\"N/A\",F11/$E11)","v":0.84848484848484851},null,{"$f":"SUM(IF($A11=$A$22:$A$61,I$22:I$61))","v":83},{"$f":"IF(OR(ISTEXT($E11),$E11=0),\"N/A\",I11/$E11)","v":0.83838383838383834},null,{"$f":"SUM(IF($A11=$A$22:$A$61,L$22:L$61))","v":85},{"$f":"IF(OR(ISTEXT($E11),$E11=0),\"N/A\",L11/$E11)","v":0.85858585858585856},null,{"$f":"SUM(IF($A11=$A$22:$A$61,O$22:O$61))","v":78},{"$f":"IF(OR(ISTEXT($E11),$E11=0),\"N/A\",O11/$E11)","v":0.78787878787878785}]
[{"$f":"'Control Panel'!B8","v":"SE2"},{"$f":"'Control Panel'!C8","v":"Well Street Common (SE2)"},null,{"$f":"SUM(IF($A12=$A$22:$A$61,D$22:D$61))","v":38319},{"$f":"SUM(IF($A12=$A$22:$A$61,E$22:E$61))","v":81},{"$f":"SUM(IF($A12=$A$22:$A$61,F$22:F$61))","v":62},0.76543209876543206,null,{"$f":"SUM(IF($A12=$A$22:$A$61,I$22:I$61))","v":63},0.77777777777777779,null,{"$f":"SUM(IF($A12=$A$22:$A$61,L$22:L$61))","v":68},0.83950617283950613,null,{"$f":"SUM(IF($A12=$A$22:$A$61,O$22:O$61))","v":65},0.80246913580246915]
[{"$f":"'Control Panel'!B9","v":"SW1"},{"$f":"'Control Panel'!C9","v":"London Fields (SW1)"},null,{"$f":"SUM(IF($A13=$A$22:$A$61,D$22:D$61))","v":51272},{"$f":"SUM(IF($A13=$A$22:$A$61,E$22:E$61))","v":100},{"$f":"SUM(IF($A13=$A$22:$A$61,F$22:F$61))","v":87},0.87,null,{"$f":"SUM(IF($A13=$A$22:$A$61,I$22:I$61))","v":85},0.85,null,{"$f":"SUM(IF($A13=$A$22:$A$61,L$22:L$61))","v":92},0.92,null,{"$f":"SUM(IF($A13=$A$22:$A$61,O$22:O$61))","v":89},0.89]
[{"$f":"'Control Panel'!B10","v":"SW2"},{"$f":"'Control Panel'!C10","v":"Shoreditch Park & City (SW2)"},null,{"$f":"SUM(IF($A14=$A$22:$A$61,D$22:D$61))","v":57131},{"$f":"SUM(IF($A14=$A$22:$A$61,E$22:E$61))","v":114},{"$f":"SUM(IF($A14=$A$22:$A$61,F$22:F$61))","v":99},0.86842105263157898,null,{"$f":"SUM(IF($A14=$A$22:$A$61,I$22:I$61))","v":100},0.8771929824561403,null,{"$f":"SUM(IF($A14=$A$22:$A$61,L$22:L$61))","v":102},0.89473684210526316,null,{"$f":"SUM(IF($A14=$A$22:$A$61,O$22:O$61))","v":98},0.85964912280701755]
["Total (Not including North East)",null,null,{"$f":"SUM(D9:D14)","v":258907},{"$f":"SUM(E9:E14)","v":609},{"$f":"SUM(F9:F14)","v":507},{"$f":"IF(OR(ISTEXT($E15),$E15=0),\"N/A\",F15/$E15)","v":0.83251231527093594},null,{"$f":"SUM(I9:I14)","v":504},{"$f":"IF(OR(ISTEXT($E15),$E15=0),\"N/A\",I15/$E15)","v":0.82758620689655171},null,{"$f":"SUM(L9:L14)","v":532},{"$f":"IF(OR(ISTEXT($E15),$E15=0),\"N/A\",L15/$E15)","v":0.87356321839080464},null,{"$f":"SUM(O9:O14)","v":504},{"$f":"IF(OR(ISTEXT($E15),$E15=0),\"N/A\",O15/$E15)","v":0.82758620689655171}]
[{"$f":"'Control Panel'!B5","v":"NE1"},{"$f":"'Control Panel'!C5","v":"Springfield Park (NE1)"},null,{"$f":"SUM(IF($A16=$A$22:$A$61,D$22:D$61))","v":39842},{"$f":"SUM(IF($A16=$A$22:$A$61,E$22:E$61))","v":290},{"$f":"SUM(IF($A16=$A$22:$A$61,F$22:F$61))","v":72},{"$f":"IF(OR(ISTEXT($E16),$E16=0),\"N/A\",F16/$E16)","v":0.24827586206896551},null,{"$f":"SUM(IF($A16=$A$22:$A$61,I$22:I$61))","v":73},{"$f":"IF(OR(ISTEXT($E16),$E16=0),\"N/A\",I16/$E16)","v":0.25172413793103449},null,{"$f":"SUM(IF($A16=$A$22:$A$61,L$22:L$61))","v":110},{"$f":"IF(OR(ISTEXT($E16),$E16=0),\"N/A\",L16/$E16)","v":0.37931034482758619},null,{"$f":"SUM(IF($A16=$A$22:$A$61,O$22:O$61))","v":63},{"$f":"IF(OR(ISTEXT($E16),$E16=0),\"N/A\",O16/$E16)","v":0.21724137931034482}]
[{"$f":"'Control Panel'!B6","v":"NE2"},{"$f":"'Control Panel'!C6","v":"Hackney Downs (NE2)"},null,{"$f":"SUM(IF($A17=$A$22:$A$61,D$22:D$61))","v":39040},{"$f":"SUM(IF($A17=$A$22:$A$61,E$22:E$61))","v":138},{"$f":"SUM(IF($A17=$A$22:$A$61,F$22:F$61))","v":78},{"$f":"IF(OR(ISTEXT($E17),$E17=0),\"N/A\",F17/$E17)","v":0.56521739130434778},null,{"$f":"SUM(IF($A17=$A$22:$A$61,I$22:I$61))","v":79},{"$f":"IF(OR(ISTEXT($E17),$E17=0),\"N/A\",I17/$E17)","v":0.57246376811594202},null,{"$f":"SUM(IF($A17=$A$22:$A$61,L$22:L$61))","v":91},{"$f":"IF(OR(ISTEXT($E17),$E17=0),\"N/A\",L17/$E17)","v":0.65942028985507251},null,{"$f":"SUM(IF($A17=$A$22:$A$61,O$22:O$61))","v":77},{"$f":"IF(OR(ISTEXT($E17),$E17=0),\"N/A\",O17/$E17)","v":0.55797101449275366}]
["Total",null,null,{"$f":"SUM(D9:D14,D16:D17)","v":337789},{"$f":"SUM(E9:E14,E16:E17)","v":1037},{"$f":"SUM(F9:F14,F16:F17)","v":657},{"$f":"IF(OR(ISTEXT($E18),$E18=0),\"N/A\",F18/$E18)","v":0.63355834136933464},null,{"$f":"SUM(I9:I14,I16:I17)","v":656},{"$f":"IF(OR(ISTEXT($E18),$E18=0),\"N/A\",I18/$E18)","v":0.63259402121504338},null,{"$f":"SUM(L9:L14,L16:L17)","v":733},{"$f":"IF(OR(ISTEXT($E18),$E18=0),\"N/A\",L18/$E18)","v":0.70684667309546767},null,{"$f":"SUM(O9:O14,O16:O17)","v":644},{"$f":"IF(OR(ISTEXT($E18),$E18=0),\"N/A\",O18/$E18)","v":0.62102217936354864}]
["Minimum and Maximum %",null,null,null,null,"Min","Max",null,"Min","Max",null,"Min","Max",null,"Min","Max"]
[null,null,null,null,null,{"$f":"SMALL(G22:G59,COUNTIF(G22:G59,0)+1)","v":0.16483516483516483},{"$f":"MAX(G22:G59)","v":0.9642857142857143},null,{"$f":"SMALL(J22:J59,COUNTIF(J22:J59,0)+1)","v":0.17582417582417584},{"$f":"MAX(J22:J59)","v":0.94444444444444442},null,{"$f":"SMALL(M22:M59,COUNTIF(M22:M59,0)+1)","v":0.29921259842519687},{"$f":"MAX(M22:M59)","v":1},null,{"$f":"SMALL(P22:P59,COUNTIF(P22:P59,0)+1)","v":0.10236220472440945},{"$f":"MAX(P22:P59)","v":1}]
["Practices"]
[{"$f":"'Control Panel'!A14","v":"NW1"},{"$f":"'Control Panel'!B14","v":"Allerton Road Surgery"},{"$f":"'Control Panel'!C14","v":"F84716"},{"$f":"SUMIFS(OFFSET(REL_D,,MATCH(D$6,IND,0)-1),REL_D,$C$7,OrgID,$C22)","v":5829},34,19,{"$f":"IF(OR(ISTEXT($E22),$E22=0),\"N/A\",F22/$E22)","v":0.55882352941176472},{"$f":"IFERROR(ROUNDUP(IF($E22*0.95-F22>=0,$E22*0.95-F22,\"\"),0),\"\")","v":14},{"$f":"SUMIFS(OFFSET(REL_D,,MATCH(I$6,IND,0)-1),REL_D,$C$7,OrgID,$C22)","v":19},{"$f":"IF(OR(ISTEXT($E22),$E22=0),\"N/A\",I22/$E22)","v":0.55882352941176472},{"$f":"IFERROR(ROUNDUP(IF($E22*0.95-I22>=0,$E22*0.95-I22,\"\"),0),\"\")","v":14},{"$f":"SUMIFS(OFFSET(REL_D,,MATCH(L$6,IND,0)-1),REL_D,$C$7,OrgID,$C22)","v":24},{"$f":"IF(OR(ISTEXT($E22),$E22=0),\"N/A\",L22/$E22)","v":0.70588235294117652},{"$f":"IFERROR(ROUNDUP(IF($E22*0.95-L22>=0,$E22*0.95-L22,\"\"),0),\"\")","v":9},{"$f":"SUMIFS(OFFSET(REL_D,,MATCH(O$6,IND,0)-1),REL_D,$C$7,OrgID,$C22)","v":20},{"$f":"IF(OR(ISTEXT($E22),$E22=0),\"N/A\",O22/$E22)","v":0.58823529411764708}]
[{"$f":"'Control Panel'!A15","v":"NW1"},{"$f":"'Control Panel'!B15","v":"Cedar Practice "},{"$f":"'Control Panel'!C15","v":"F84036"},7779,15,14,{"$f":"IF(OR(ISTEXT($E23),$E23=0),\"N/A\",F23/$E23)","v":0.93333333333333335},1,14,{"$f":"IF(OR(ISTEXT($E23),$E23=0),\"N/A\",I23/$E23)","v":0.93333333333333335},1,13,{"$f":"IF(OR(ISTEXT($E23),$E23=0),\"N/A\",L23/$E23)","v":0.8666666666666667},2,14,{"$f":"IF(OR(ISTEXT($E23),$E23=0),\"N/A\",O23/$E23)","v":0.93333333333333335}]
[{"$f":"'Control Panel'!A16","v":"NW1"},{"$f":"'Control Panel'!B16","v":"Heron Practice"},{"$f":"'Control Panel'!C16","v":"F84119"},12175,62,51,0.82258064516129037,8,51,0.82258064516129037,8,54,0.87096774193548387,5,50,0.80645161290322576]
[{"$f":"'Control Panel'!A17","v":"NW1"},{"$f":"'Control Panel'!B17","v":"Statham Grove Surgery"},{"$f":"'Control Panel'!C17","v":"F84115"},8434,25,21,0.84,3,20,0.8,4,23,0.92,1,21,0.84]
[{"$f":"'Control Panel'!A18","v":"NW2"},{"$f":"'Control Panel'!B18","v":"Barretts Grove Surgery"},{"$f":"'Control Panel'!C18","v":"F84636"},6610,20,18,0.9,1,18,0.9,1,18,0.9,1,18,0.9]
[{"$f":"'Control Panel'!A19","v":"NW2"},{"$f":"'Control Panel'!B19","v":"Barton House Health Centre"},{"$f":"'Control Panel'!C19","v":"F84008"},12199,28,27,0.9642857142857143,"",26,0.9285714285714286,1,27,0.9642857142857143,"",27,0.9642857142857143]
[{"$f":"'Control Panel'!A20","v":"NW2"},{"$f":"'Control Panel'!B20","v":"Brooke Road Surgery"},{"$f":"'Control Panel'!C20","v":"F84694"},4620,5,4,{"$f":"IF(OR(ISTEXT($E28),$E28=0),\"N/A\",F28/$E28)","v":0.8},1,4,{"$f":"IF(OR(ISTEXT($E28),$E28=0),\"N/A\",I28/$E28)","v":0.8},1,5,{"$f":"IF(OR(ISTEXT($E28),$E28=0),\"N/A\",L28/$E28)","v":1},"",4,{"$f":"IF(OR(ISTEXT($E28),$E28=0),\"N/A\",O28/$E28)","v":0.8}]
[{"$f":"'Control Panel'!A21","v":"NW2"},{"$f":"'Control Panel'!B21","v":"Somerford Grove Health Centre"},{"$f":"'Control Panel'!C21","v":"F84033"},11950,26,21,0.80769230769230771,4,21,0.80769230769230771,4,21,0.80769230769230771,4,20,0.76923076923076927]
[{"$f":"'Control Panel'!A22","v":"NE1"},{"$f":"'Control Panel'!B22","v":"Cranwich Road Surgery "},{"$f":"'Control Panel'!C22","v":"F84686"},8438,91,15,0.16483516483516483,72,16,0.17582417582417584,71,31,0.34065934065934067,56,19,0.2087912087912088]
[{"$f":"'Control Panel'!A23","v":"NE1"},{"$f":"'Control Panel'!B23","v":"Spring Hill Practice"},{"$f":"'Control Panel'!C23","v":"Y03049"},14787,72,31,0.43055555555555558,38,32,0.44444444444444442,37,41,0.56944444444444442,28,31,0.43055555555555558]
[{"$f":"'Control Panel'!A24","v":"NE1"},{"$f":"'Control Panel'!B24","v":"Stamford Hill Group Practice"},{"$f":"'Control Panel'!C24","v":"F84013"},16617,127,26,0.20472440944881889,95,25,0.19685039370078741,96,38,0.29921259842519687,83,13,0.10236220472440945]
[{"$f":"'Control Panel'!A25","v":"NE2"},{"$f":"'Control Panel'!B25","v":"Clapton Surgery"},{"$f":"'Control Panel'!C25","v":"F84668"},6384,37,10,0.27027027027027029,26,11,0.29729729729729731,25,15,0.40540540540540543,21,8,0.21621621621621623]
[{"$f":"'Control Panel'!A26","v":"NE2"},{"$f":"'Control Panel'!B26","v":"Elm Practice"},{"$f":"'Control Panel'!C26","v":"F84685"},3054,8,5,0.625,3,5,0.625,3,5,0.625,3,5,0.625]
[{"$f":"'Control Panel'!A27","v":"NE2"},{"$f":"'Control Panel'!B27","v":"Gadvhi Practice"},{"$f":"'Control Panel'!C27","v":"F84080"},5173,17,7,0.41176470588235292,10,7,0.41176470588235292,10,9,0.52941176470588236,8,8,0.47058823529411764]
[{"$f":"'Control Panel'!A28","v":"NE2"},{"$f":"'Control Panel'!B28","v":"Healy Medical Centre"},{"$f":"'Control Panel'!C28","v":"F84720"},5695,14,6,0.42857142857142855,8,6,0.42857142857142855,8,8,0.5714285714285714,6,7,0.5]
[{"$f":"'Control Panel'!A29","v":"NE2"},{"$f":"'Control Panel'!B29","v":"Nightingale Practice"},{"$f":"'Control Panel'!C29","v":"F84018"},12007,41,33,0.80487804878048785,6,33,0.80487804878048785,6,37,0.90243902439024393,2,32,0.78048780487804881]
[{"$f":"'Control Panel'!A30","v":"NE2"},{"$f":"'Control Panel'!B30","v":"Riverside Practice"},{"$f":"'Control Panel'!C30","v":"F84619"},4871,19,16,0.84210526315789469,3,16,0.84210526315789469,3,16,0.84210526315789469,3,16,0.84210526315789469]
[{"$f":"'Control Panel'!A31","v":"NE2"},{"$f":"'Control Panel'!B31","v":"Rosewood Practice"},{"$f":"'Control Panel'!C31","v":"F84711"},1856,2,1,0.5,1,1,0.5,1,1,0.5,1,1,0.5]
[{"$f":"'Control Panel'!A32","v":"SE1"},{"$f":"'Control Panel'!B32","v":"Athena Medical Centre"},{"$f":"'Control Panel'!C32","v":"F84060"},4858,11,9,0.81818181818181823,2,8,0.72727272727272729,3,8,0.72727272727272729,3,7,0.63636363636363635]
[{"$f":"'Control Panel'!A33","v":"SE1"},{"$f":"'Control Panel'!B33","v":"Latimer Health Centre"},{"$f":"'Control Panel'!C33","v":"F84719"},5324,14,9,0.6428571428571429,5,9,0.6428571428571429,5,11,0.7857142857142857,3,10,0.7142857142857143]
[{"$f":"'Control Panel'!A34","v":"SE1"},{"$f":"'Control Panel'!B34","v":"Lea Surgery"},{"$f":"'Control Panel'!C34","v":"F84105"},11954,28,25,0.8928571428571429,2,25,0.8928571428571429,2,25,0.8928571428571429,2,25,0.8928571428571429]
[{"$f":"'Control Panel'!A35","v":"SE1"},{"$f":"'Control Panel'!B35","v":"Lower Clapton Health Centre"},{"$f":"'Control Panel'!C35","v":"F84003"},15043,36,34,0.94444444444444442,1,34,0.94444444444444442,1,34,0.94444444444444442,1,30,0.83333333333333337]
[{"$f":"'Control Panel'!A36","v":"SE1"},{"$f":"'Control Panel'!B36","v":"Kingsmead Healthcare"},{"$f":"'Control Panel'!C36","v":"F84015"},{"$f":"SUMIFS(OFFSET(REL_D,,MATCH(D$6,IND,0)-1),REL_D,$C$7,OrgID,$C44)","v":5410},10,7,0.7,3,{"$f":"SUMIFS(OFFSET(REL_D,,MATCH(I$6,IND,0)-1),REL_D,$C$7,OrgID,$C44)","v":7},0.7,3,{"$f":"SUMIFS(OFFSET(REL_D,,MATCH(L$6,IND,0)-1),REL_D,$C$7,OrgID,$C44)","v":7},0.7,3,{"$f":"SUMIFS(OFFSET(REL_D,,MATCH(O$6,IND,0)-1),REL_D,$C$7,OrgID,$C44)","v":6},0.6]
[{"$f":"'Control Panel'!A37","v":"SE2"},{"$f":"'Control Panel'!B37","v":"Elsdale Street Surgery "},{"$f":"'Control Panel'!C37","v":"F84601"},7478,19,9,0.47368421052631576,10,10,0.52631578947368418,9,14,0.73684210526315785,5,13,0.68421052631578949]
[{"$f":"'Control Panel'!A38","v":"SE2"},{"$f":"'Control Panel'!B38","v":"Greenhouse Health Centre"},{"$f":"'Control Panel'!C38","v":"F84632"},1269,0,0,"N/A",0,0,"N/A",0,0,"N/A",0,0,"N/A"]
[{"$f":"'Control Panel'!A39","v":"SE2"},{"$f":"'Control Panel'!B39","v":"Trowbridge Practice"},{"$f":"'Control Panel'!C39","v":"Y00403"},7655,26,22,0.84615384615384615,3,22,0.84615384615384615,3,23,0.88461538461538458,2,22,0.84615384615384615]
[{"$f":"'Control Panel'!A40","v":"SE2"},{"$f":"'Control Panel'!B40","v":"Well Street Surgery"},{"$f":"'Control Panel'!C40","v":"F84069"},14343,26,22,0.84615384615384615,3,22,0.84615384615384615,3,22,0.84615384615384615,3,21,0.80769230769230771]
[{"$f":"'Control Panel'!A41","v":"SE2"},{"$f":"'Control Panel'!B41","v":"Wick Health Centre"},{"$f":"'Control Panel'!C41","v":"F84620"},7574,10,9,0.9,1,9,0.9,1,9,0.9,1,9,0.9]
[{"$f":"'Control Panel'!A42","v":"SW1"},{"$f":"'Control Panel'!B42","v":"Beechwood Medical Centre"},{"$f":"'Control Panel'!C42","v":"F84038"},3961,8,6,0.75,2,6,0.75,2,8,1,"",8,1]
[{"$f":"'Control Panel'!A43","v":"SW1"},{"$f":"'Control Panel'!B43","v":"Dalston Practice"},{"$f":"'Control Panel'!C43","v":"F84063"},6026,4,3,0.75,1,3,0.75,1,4,1,"",4,1]
[{"$f":"'Control Panel'!A44","v":"SW1"},{"$f":"'Control Panel'!B44","v":"London Fields Medical Centre"},{"$f":"'Control Panel'!C44","v":"F84021"},10825,22,20,0.90909090909090906,1,19,0.86363636363636365,2,20,0.90909090909090906,1,19,0.86363636363636365]
[{"$f":"'Control Panel'!A45","v":"SW1"},{"$f":"'Control Panel'!B45","v":"Queensbridge Group Practice"},{"$f":"'Control Panel'!C45","v":"F84117"},10509,18,17,0.94444444444444442,1,16,0.88888888888888884,2,18,1,"",17,0.94444444444444442]
[{"$f":"'Control Panel'!A46","v":"SW1"},{"$f":"'Control Panel'!B46","v":"Richmond Road Medical Center"},{"$f":"'Control Panel'!C46","v":"F84035"},15601,39,34,0.87179487179487181,4,34,0.87179487179487181,4,35,0.89743589743589747,3,34,0.87179487179487181]
[{"$f":"'Control Panel'!A47","v":"SW1"},{"$f":"'Control Panel'!B47","v":"Sandringham Road Practice"},{"$f":"'Control Panel'!C47","v":"F84621"},4350,9,7,0.77777777777777779,2,7,0.77777777777777779,2,7,0.77777777777777779,2,7,0.77777777777777779]
[{"$f":"'Control Panel'!A48","v":"SW2"},{"$f":"'Control Panel'!B48","v":"De Beauvoir Surgery"},{"$f":"'Control Panel'!C48","v":"F84072"},12136,40,34,0.85,4,35,0.875,3,36,0.9,2,34,0.85]
[{"$f":"'Control Panel'!A49","v":"SW2"},{"$f":"'Control Panel'!B49","v":"Hoxton Surgery"},{"$f":"'Control Panel'!C49","v":"F84692"},7886,12,9,0.75,3,9,0.75,3,9,0.75,3,9,0.75]
[{"$f":"'Control Panel'!A50","v":"SW2"},{"$f":"'Control Panel'!B50","v":"Lawson Practice"},{"$f":"'Control Panel'!C50","v":"F84096"},15081,29,26,0.89655172413793105,2,26,0.89655172413793105,2,26,0.89655172413793105,2,27,0.93103448275862066]
[{"$f":"'Control Panel'!A51","v":"SW2"},{"$f":"'Control Panel'!B51","v":"Shoreditch Park Surgery"},{"$f":"'Control Panel'!C51","v":"F84635"},10071,19,16,0.84210526315789469,3,16,0.84210526315789469,3,17,0.89473684210526316,2,15,0.78947368421052633]
[{"$f":"'Control Panel'!A52","v":"SW2"},{"$f":"'Control Panel'!B52","v":"Southgate Rd MC & Whiston Rd Surgery"},{"$f":"'Control Panel'!C52","v":"F84041"},1986,0,0,{"$f":"IF(OR(ISTEXT($E60),$E60=0),\"N/A\",F60/$E60)","v":"N/A"},0,0,{"$f":"IF(OR(ISTEXT($E60),$E60=0),\"N/A\",I60/$E60)","v":"N/A"},0,0,{"$f":"IF(OR(ISTEXT($E60),$E60=0),\"N/A\",L60/$E60)","v":"N/A"},0,0,{"$f":"IF(OR(ISTEXT($E60),$E60=0),\"N/A\",O60/$E60)","v":"N/A"}]
[{"$f":"'Control Panel'!A53","v":"SW2"},{"$f":"'Control Panel'!B53","v":"Neaman Practice"},{"$f":"'Control Panel'!C53","v":"F84640"},{"$f":"SUMIFS(OFFSET(REL_D,,MATCH(D$6,IND,0)-1),REL_D,$C$7,OrgID,$C61)","v":9971},14,14,1,"",14,1,"",14,1,"",13,0.9285714285714286]

{"sheet":"Patients becoming 24m","index":3,"n_rows":61,"n_cols":18,"rows_kept":61,"cut":false,"hidden":false,"merged":[[18,0,19,2]]}
[]
[null,null,null,"City and Hackney Childhood Immunisations Dashboard: Metric Details"]
[null,null,null,"Patients becoming 24m",null,{"$f":"E15","v":568}]
[null,null,"2019-07-01"]
[null,null,"2019-10-01"]
[null,null,"March 2022","All Patients","(02) 24 MONTH COHORT","(02.01) DTaP/IPV/Hib","DTaP/IPV/Hib(%)","(02.02) MMR","MMR(%)","Patients required to achieve CCG Target (95%)","(02.03) HiB/Men C","HiB/Men C (%)","Patients required to achieve CCG Target (95%)","(02.04) PCV (Booster)","PCV (Booster)(%)","Patients required to achieve CCG Target (95%)","(02.05) Men B (Booster)","Men B (Booster)(%)"]
[null,"Home",{"$f":"VLOOKUP(C6,'Control Panel'!I2:J13,2,FALSE)","v":"2022-03-01"},"Listsize ","Patients becoming 24m within Q1","DTaP/IPV/Hib/HepB","DTaP/IPV/Hib/HepB (%)","MMR","MMR(%)","Patients required to achieve CCG Target (95%)","HiB/Men C","HiB/Men C (%)","Patients required to achieve CCG Target (95%)","PCV (Booster)","PCV (Booster)(%)","Patients required to achieve CCG Target (95%)","Men B (Booster)","Men B (Booster)(%)"]
["Cluster"]
[{"$f":"'Control Panel'!B3","v":"NW1"},"Woodberry Wetlands (NW1)",null,{"$f":"SUM(IF($A9=$A$22:$A$61,D$22:D$61))","v":34217},{"$f":"SUM(IF($A9=$A$22:$A$61,E$22:E$61))","v":110},{"$f":"SUM(IF($A9=$A$22:$A$61,F$22:F$61))","v":83},{"$f":"IF(OR(ISTEXT($E9),$E9=0),\"N/A\",F9/$E9)","v":0.75454545454545452},{"$f":"SUM(IF($A9=$A$22:$A$61,H$22:H$61))","v":74},{"$f":"IF(OR(ISTEXT($E9),$E9=0),\"N/A\",H9/$E9)","v":0.67272727272727273},null,{"$f":"SUM(IF($A9=$A$22:$A$61,K$22:K$61))","v":71},{"$f":"IF(OR(ISTEXT($E9),$E9=0),\"N/A\",K9/$E9)","v":0.6454545454545455},null,{"$f":"SUM(IF($A9=$A$22:$A$61,N$22:N$61))","v":73},{"$f":"IF(OR(ISTEXT($E9),$E9=0),\"N/A\",N9/$E9)","v":0.66363636363636369},null,{"$f":"SUM(IF($A9=$A$22:$A$61,Q$22:Q$61))","v":72},{"$f":"IF(OR(ISTEXT($E9),$E9=0),\"N/A\",Q9/$E9)","v":0.65454545454545454}]
[{"$f":"'Control Panel'!B4","v":"NW2"},"Clissold Park (NW2)",null,{"$f":"SUM(IF($A10=$A$22:$A$61,D$22:D$61))","v":35379},{"$f":"SUM(IF($A10=$A$22:$A$61,E$22:E$61))","v":67},{"$f":"SUM(IF($A10=$A$22:$A$61,F$22:F$61))","v":61},{"$f":"IF(OR(ISTEXT($E10),$E10=0),\"N/A\",F10/$E10)","v":0.91044776119402981},{"$f":"SUM(IF($A10=$A$22:$A$61,H$22:H$61))","v":61},0.91044776119402981,null,{"$f":"SUM(IF($A10=$A$22:$A$61,K$22:K$61))","v":63},0.94029850746268662,null,{"$f":"SUM(IF($A10=$A$22:$A$61,N$22:N$61))","v":61},0.91044776119402981,null,{"$f":"SUM(IF($A10=$A$22:$A$61,Q$22:Q$61))","v":62},0.92537313432835822]
[{"$f":"'Control Panel'!B7","v":"SE1"},"Hackney Marshes (SE1)",null,{"$f":"SUM(IF($A11=$A$22:$A$61,D$22:D$61))","v":42589},{"$f":"SUM(IF($A11=$A$22:$A$61,E$22:E$61))","v":89},{"$f":"SUM(IF($A11=$A$22:$A$61,F$22:F$61))","v":76},{"$f":"IF(OR(ISTEXT($E11),$E11=0),\"N/A\",F11/$E11)","v":0.8539325842696629},{"$f":"SUM(IF($A11=$A$22:$A$61,H$22:H$61))","v":78},0.8764044943820225,null,{"$f":"SUM(IF($A11=$A$22:$A$61,K$22:K$61))","v":78},0.8764044943820225,null,{"$f":"SUM(IF($A11=$A$22:$A$61,N$22:N$61))","v":77},0.8651685393258427,null,{"$f":"SUM(IF($A11=$A$22:$A$61,Q$22:Q$61))","v":77},0.8651685393258427]
[{"$f":"'Control Panel'!B8","v":"SE2"},"Well Street Common (SE2)",null,{"$f":"SUM(IF($A12=$A$22:$A$61,D$22:D$61))","v":38319},{"$f":"SUM(IF($A12=$A$22:$A$61,E$22:E$61))","v":79},{"$f":"SUM(IF($A12=$A$22:$A$61,F$22:F$61))","v":69},0.87341772151898733,{"$f":"SUM(IF($A12=$A$22:$A$61,H$22:H$61))","v":67},0.84810126582278478,null,{"$f":"SUM(IF($A12=$A$22:$A$61,K$22:K$61))","v":66},0.83544303797468356,null,{"$f":"SUM(IF($A12=$A$22:$A$61,N$22:N$61))","v":65},0.82278481012658233,null,{"$f":"SUM(IF($A12=$A$22:$A$61,Q$22:Q$61))","v":65},0.82278481012658233]
[{"$f":"'Control Panel'!B9","v":"SW1"},"London Fields (SW1)",null,{"$f":"SUM(IF($A13=$A$22:$A$61,D$22:D$61))","v":51272},{"$f":"SUM(IF($A13=$A$22:$A$61,E$22:E$61))","v":120},{"$f":"SUM(IF($A13=$A$22:$A$61,F$22:F$61))","v":114},0.95,{"$f":"SUM(IF($A13=$A$22:$A$61,H$22:H$61))","v":105},0.875,null,{"$f":"SUM(IF($A13=$A$22:$A$61,K$22:K$61))","v":105},0.875,null,{"$f":"SUM(IF($A13=$A$22:$A$61,N$22:N$61))","v":104},0.8666666666666667,null,{"$f":"SUM(IF($A13=$A$22:$A$61,Q$22:Q$61))","v":106},0.8833333333333333]
[{"$f":"'Control Panel'!B10","v":"SW2"},"Shoreditch Park & City (SW2)",null,{"$f":"SUM(IF($A14=$A$22:$A$61,D$22:D$61))","v":57131},{"$f":"SUM(IF($A14=$A$22:$A$61,E$22:E$61))","v":103},{"$f":"SUM(IF($A14=$A$22:$A$61,F$22:F$61))","v":95},0.92233009708737868,{"$f":"SUM(IF($A14=$A$22:$A$61,H$22:H$61))","v":89},0.86407766990291257,null,{"$f":"SUM(IF($A14=$A$22:$A$61,K$22:K$61))","v":90},0.87378640776699024,null,{"$f":"SUM(IF($A14=$A$22:$A$61,N$22:N$61))","v":88},0.85436893203883491,null,{"$f":"SUM(IF($A14=$A$22:$A$61,Q$22:Q$61))","v":88},0.85436893203883491]
["Total (Not including North East)",null,null,{"$f":"SUM(D9:D14)","v":258907},{"$f":"SUM(E9:E14)","v":568},{"$f":"SUM(F9:F14)","v":498},0.87676056338028174,{"$f":"SUM(H9:H14)","v":474},0.83450704225352113,null,{"$f":"SUM(K9:K14)","v":473},0.83274647887323938,null,{"$f":"SUM(N9:N14)","v":468},0.823943661971831,null,{"$f":"SUM(Q9:Q14)","v":470},0.82746478873239437]
[{"$f":"'Control Panel'!B5","v":"NE1"},"Springfield Park (NE1)",null,{"$f":"SUM(IF($A16=$A$22:$A$61,D$22:D$61))","v":39842},{"$f":"SUM(IF($A16=$A$22:$A$61,E$22:E$61))","v":241},{"$f":"SUM(IF($A16=$A$22:$A$61,F$22:F$61))","v":100},{"$f":"IF(OR(ISTEXT($E16),$E16=0),\"N/A\",F16/$E16)","v":0.41493775933609961},{"$f":"SUM(IF($A16=$A$22:$A$61,H$22:H$61))","v":101},{"$f":"IF(OR(ISTEXT($E16),$E16=0),\"N/A\",H16/$E16)","v":0.41908713692946059},null,{"$f":"SUM(IF($A16=$A$22:$A$61,K$22:K$61))","v":79},{"$f":"IF(OR(ISTEXT($E16),$E16=0),\"N/A\",K16/$E16)","v":0.32780082987551867},null,{"$f":"SUM(IF($A16=$A$22:$A$61,N$22:N$61))","v":101},{"$f":"IF(OR(ISTEXT($E16),$E16=0),\"N/A\",N16/$E16)","v":0.41908713692946059},null,{"$f":"SUM(IF($A16=$A$22:$A$61,Q$22:Q$61))","v":92},{"$f":"IF(OR(ISTEXT($E16),$E16=0),\"N/A\",Q16/$E16)","v":0.38174273858921159}]
[{"$f":"'Control Panel'!B6","v":"NE2"},"Hackney Downs (NE2)",null,{"$f":"SUM(IF($A17=$A$22:$A$61,D$22:D$61))","v":39040},{"$f":"SUM(IF($A17=$A$22:$A$61,E$22:E$61))","v":117},{"$f":"SUM(IF($A17=$A$22:$A$61,F$22:F$61))","v":62},0.52991452991452992,{"$f":"SUM(IF($A17=$A$22:$A$61,H$22:H$61))","v":66},0.5641025641025641,null,{"$f":"SUM(IF($A17=$A$22:$A$61,K$22:K$61))","v":61},0.5213675213675214,null,{"$f":"SUM(IF($A17=$A$22:$A$61,N$22:N$61))","v":61},0.5213675213675214,null,{"$f":"SUM(IF($A17=$A$22:$A$61,Q$22:Q$61))","v":58},0.49572649572649574]
["Total",null,null,{"$f":"SUM(D9:D14,D16:D17)","v":337789},{"$f":"SUM(E9:E14,E16:E17)","v":926},{"$f":"SUM(F9:F14,F16:F17)","v":660},0.71274298056155505,{"$f":"SUM(H9:H14,H16:H17)","v":641},0.6922246220302376,null,{"$f":"SUM(K9:K14,K16:K17)","v":613},0.66198704103671702,null,{"$f":"SUM(N9:N14,N16:N17)","v":630},0.68034557235421167,null,{"$f":"SUM(Q9:Q14,Q16:Q17)","v":620},0.66954643628509725]
["Minimum and Maximum %",null,null,null,null,"Min","Max","Min","Max",null,"Min","Max",null,"Min","Max",null,"Min","Max"]
[null,null,null,null,null,{"$f":"SMALL(G22:G61,COUNTIF(G22:G61,0)+1)","v":0.2857142857142857},{"$f":"MAX(G22:G61)","v":1},{"$f":"SMALL(I22:I61,COUNTIF(I22:I61,0)+1)","v":0.27586206896551724},{"$f":"MAX(I22:I61)","v":1},null,{"$f":"SMALL(L22:L61,COUNTIF(L22:L61,0)+1)","v":0.17241379310344829},{"$f":"MAX(L22:L61)","v":1},null,{"$f":"SMALL(O22:O61,COUNTIF(O22:O61,0)+1)","v":0.27586206896551724},{"$f":"MAX(O22:O61)","v":1},null,{"$f":"SMALL(R22:R61,COUNTIF(R22:R61,0)+1)","v":0.25},{"$f":"MAX(R22:R61)","v":1}]
["Practices"]
[{"$f":"'Control Panel'!A14","v":"NW1"},{"$f":"'Control Panel'!B14","v":"Allerton Road Surgery"},{"$f":"'Control Panel'!C14","v":"F84716"},{"$f":"SUMIFS(OFFSET(REL_D,,MATCH($D$6,IND,0)-1),REL_D,$C$6,OrgID,$C22)","v":5829},{"$f":"SUMIFS(OFFSET(REL_D,,MATCH($E$6,IND,0)-1),REL_D,$C$6,IF(LEFT($C22,1)=\"N\",NwID,OrgID),$C22)","v":30},{"$f":"SUMIFS(OFFSET(REL_D,,MATCH($F$6,IND,0)-1),REL_D,$C$6,IF(LEFT($C22,1)=\"N\",NwID,OrgID),$C22)","v":13},{"$f":"IF(OR(ISTEXT($E22),$E22=0),\"N/A\",F22/$E22)","v":0.43333333333333335},{"$f":"SUMIFS(OFFSET(REL_D,,MATCH($H$6,IND,0)-1),REL_D,$C$6,OrgID,$C22)","v":10},{"$f":"IF(OR(ISTEXT($E22),$E22=0),\"N/A\",H22/$E22)","v":0.33333333333333331},{"$f":"IFERROR(ROUNDUP(IF($E22*0.95-H22>=0,$E22*0.95-H22,\"\"),0),\"\")","v":19},{"$f":"SUMIFS(OFFSET(REL_D,,MATCH($K$6,IND,0)-1),REL_D,$C$6,OrgID,$C22)","v":9},{"$f":"IF(OR(ISTEXT($E22),$E22=0),\"N/A\",K22/$E22)","v":0.3},{"$f":"IFERROR(ROUNDUP(IF($E22*0.95-K22>=0,$E22*0.95-K22,\"\"),0),\"\")","v":20},{"$f":"SUMIFS(OFFSET(REL_D,,MATCH($N$6,IND,0)-1),REL_D,$C$6,OrgID,$C22)","v":10},{"$f":"IF(OR(ISTEXT($E22),$E22=0),\"N/A\",N22/$E22)","v":0.33333333333333331},{"$f":"IFERROR(ROUNDUP(IF($E22*0.95-N22>=0,$E22*0.95-N22,\"\"),0),\"\")","v":19},{"$f":"SUMIFS(OFFSET(REL_D,,MATCH($Q$6,IND,0)-1),REL_D,$C$6,OrgID,$C22)","v":11},{"$f":"IF(OR(ISTEXT($E22),$E22=0),\"N/A\",Q22/$E22)","v":0.36666666666666664}]
[{"$f":"'Control Panel'!A15","v":"NW1"},{"$f":"'Control Panel'!B15","v":"Cedar Practice "},{"$f":"'Control Panel'!C15","v":"F84036"},7779,15,13,{"$f":"IF(OR(ISTEXT($E23),$E23=0),\"N/A\",F23/$E23)","v":0.8666666666666667},11,{"$f":"IF(OR(ISTEXT($E23),$E23=0),\"N/A\",H23/$E23)","v":0.73333333333333328},4,10,{"$f":"IF(OR(ISTEXT($E23),$E23=0),\"N/A\",K23/$E23)","v":0.66666666666666663},5,11,{"$f":"IF(OR(ISTEXT($E23),$E23=0),\"N/A\",N23/$E23)","v":0.73333333333333328},4,10,{"$f":"IF(OR(ISTEXT($E23),$E23=0),\"N/A\",Q23/$E23)","v":0.66666666666666663}]
[{"$f":"'Control Panel'!A16","v":"NW1"},{"$f":"'Control Panel'!B16","v":"Heron Practice"},{"$f":"'Control Panel'!C16","v":"F84119"},12175,43,35,0.81395348837209303,33,0.76744186046511631,8,32,0.7441860465116279,9,32,0.7441860465116279,9,31,0.72093023255813948]
[{"$f":"'Control Panel'!A17","v":"NW1"},{"$f":"'Control Panel'!B17","v":"Statham Grove Surgery"},{"$f":"'Control Panel'!C17","v":"F84115"},8434,22,22,1,20,0.90909090909090906,1,20,0.90909090909090906,1,20,0.90909090909090906,1,20,0.90909090909090906]
[{"$f":"'Control Panel'!A18","v":"NW2"},{"$f":"'Control Panel'!B18","v":"Barretts Grove Surgery"},{"$f":"'Control Panel'!C18","v":"F84636"},6610,12,12,1,11,0.91666666666666663,1,12,1,"",12,1,"",12,1]
[{"$f":"'Control Panel'!A19","v":"NW2"},{"$f":"'Control Panel'!B19","v":"Barton House Health Centre"},{"$f":"'Control Panel'!C19","v":"F84008"},12199,23,22,0.95652173913043481,21,0.91304347826086951,1,22,0.95652173913043481,"",20,0.86956521739130432,2,22,0.95652173913043481]
[{"$f":"'Control Panel'!A20","v":"NW2"},{"$f":"'Control Panel'!B20","v":"Brooke Road Surgery"},{"$f":"'Control Panel'!C20","v":"F84694"},4620,13,12,{"$f":"IF(OR(ISTEXT($E28),$E28=0),\"N/A\",F28/$E28)","v":0.92307692307692313},13,1,"",13,1,"",13,1,"",12,0.92307692307692313]
[{"$f":"'Control Panel'!A21","v":"NW2"},{"$f":"'Control Panel'!B21","v":"Somerford Grove Health Centre"},{"$f":"'Control Panel'!C21","v":"F84033"},11950,19,15,0.78947368421052633,16,0.84210526315789469,3,16,0.84210526315789469,3,16,0.84210526315789469,3,16,0.84210526315789469]
[{"$f":"'Control Panel'!A22","v":"NE1"},{"$f":"'Control Panel'!B22","v":"Cranwich Road Surgery "},{"$f":"'Control Panel'!C22","v":"F84686"},8438,58,19,{"$f":"IF(OR(ISTEXT($E30),$E30=0),\"N/A\",F30/$E30)","v":0.32758620689655171},16,0.27586206896551724,40,10,0.17241379310344829,46,16,0.27586206896551724,40,15,0.25862068965517243]
[{"$f":"'Control Panel'!A23","v":"NE1"},{"$f":"'Control Panel'!B23","v":"Spring Hill Practice"},{"$f":"'Control Panel'!C23","v":"Y03049"},14787,63,35,0.55555555555555558,39,0.61904761904761907,21,33,0.52380952380952384,27,34,0.53968253968253965,26,30,0.47619047619047616]
[{"$f":"'Control Panel'!A24","v":"NE1"},{"$f":"'Control Panel'!B24","v":"Stamford Hill Group Practice"},{"$f":"'Control Panel'!C24","v":"F84013"},16617,120,46,0.38333333333333336,46,0.38333333333333336,68,36,0.3,78,51,0.42499999999999999,63,47,0.39166666666666666]
[{"$f":"'Control Panel'!A25","v":"NE2"},{"$f":"'Control Panel'!B25","v":"Clapton Surgery"},{"$f":"'Control Panel'!C25","v":"F84668"},6384,29,13,{"$f":"IF(OR(ISTEXT($E33),$E33=0),\"N/A\",F33/$E33)","v":0.44827586206896552},15,0.51724137931034486,13,13,0.44827586206896552,15,13,0.44827586206896552,15,13,0.44827586206896552]
[{"$f":"'Control Panel'!A26","v":"NE2"},{"$f":"'Control Panel'!B26","v":"Elm Practice"},{"$f":"'Control Panel'!C26","v":"F84685"},3054,12,6,0.5,7,0.58333333333333337,5,3,0.25,9,4,0.33333333333333331,8,3,0.25]
[{"$f":"'Control Panel'!A27","v":"NE2"},{"$f":"'Control Panel'!B27","v":"Gadvhi Practice"},{"$f":"'Control Panel'!C27","v":"F84080"},5173,17,8,0.47058823529411764,8,0.47058823529411764,9,8,0.47058823529411764,9,9,0.52941176470588236,8,7,0.41176470588235292]
[{"$f":"'Control Panel'!A28","v":"NE2"},{"$f":"'Control Panel'!B28","v":"Healy Medical Centre"},{"$f":"'Control Panel'!C28","v":"F84720"},5695,16,5,0.3125,5,0.3125,11,5,0.3125,11,5,0.3125,11,5,0.3125]
[{"$f":"'Control Panel'!A29","v":"NE2"},{"$f":"'Control Panel'!B29","v":"Nightingale Practice"},{"$f":"'Control Panel'!C29","v":"F84018"},12007,31,22,0.70967741935483875,23,0.74193548387096775,7,24,0.77419354838709675,6,22,0.70967741935483875,8,22,0.70967741935483875]
[{"$f":"'Control Panel'!A30","v":"NE2"},{"$f":"'Control Panel'!B30","v":"Riverside Practice"},{"$f":"'Control Panel'!C30","v":"F84619"},4871,9,6,0.66666666666666663,6,0.66666666666666663,3,6,0.66666666666666663,3,6,0.66666666666666663,3,6,0.66666666666666663]
[{"$f":"'Control Panel'!A31","v":"NE2"},{"$f":"'Control Panel'!B31","v":"Rosewood Practice"},{"$f":"'Control Panel'!C31","v":"F84711"},1856,3,2,0.66666666666666663,2,0.66666666666666663,1,2,0.66666666666666663,1,2,0.66666666666666663,1,2,0.66666666666666663]
[{"$f":"'Control Panel'!A32","v":"SE1"},{"$f":"'Control Panel'!B32","v":"Athena Medical Centre"},{"$f":"'Control Panel'!C32","v":"F84060"},4858,7,2,0.2857142857142857,4,0.5714285714285714,3,4,0.5714285714285714,3,4,0.5714285714285714,3,4,0.5714285714285714]
[{"$f":"'Control Panel'!A33","v":"SE1"},{"$f":"'Control Panel'!B33","v":"Latimer Health Centre"},{"$f":"'Control Panel'!C33","v":"F84719"},5324,9,7,0.77777777777777779,8,0.88888888888888884,1,8,0.88888888888888884,1,8,0.88888888888888884,1,8,0.88888888888888884]
[{"$f":"'Control Panel'!A34","v":"SE1"},{"$f":"'Control Panel'!B34","v":"Lea Surgery"},{"$f":"'Control Panel'!C34","v":"F84105"},11954,31,30,0.967741935483871,30,0.967741935483871,"",30,0.967741935483871,"",30,0.967741935483871,"",29,0.93548387096774188]
[{"$f":"'Control Panel'!A35","v":"SE1"},{"$f":"'Control Panel'!B35","v":"Lower Clapton Health Centre"},{"$f":"'Control Panel'!C35","v":"F84003"},15043,27,25,0.92592592592592593,24,0.88888888888888884,2,24,0.88888888888888884,2,23,0.85185185185185186,3,24,0.88888888888888884]
[{"$f":"'Control Panel'!A36","v":"SE1"},{"$f":"'Control Panel'!B36","v":"Kingsmead Healthcare"},{"$f":"'Control Panel'!C36","v":"F84015"},5410,15,12,0.8,12,0.8,3,12,0.8,3,12,0.8,3,12,0.8]
[{"$f":"'Control Panel'!A37","v":"SE2"},{"$f":"'Control Panel'!B37","v":"Elsdale Street Surgery "},{"$f":"'Control Panel'!C37","v":"F84601"},7478,19,16,0.84210526315789469,17,0.89473684210526316,2,17,0.89473684210526316,2,17,0.89473684210526316,2,16,0.84210526315789469]
[{"$f":"'Control Panel'!A38","v":"SE2"},{"$f":"'Control Panel'!B38","v":"Greenhouse Health Centre"},{"$f":"'Control Panel'!C38","v":"F84632"},1269,0,0,"N/A",0,"N/A",0,0,"N/A",0,0,"N/A",0,0,"N/A"]
[{"$f":"'Control Panel'!A39","v":"SE2"},{"$f":"'Control Panel'!B39","v":"Trowbridge Practice"},{"$f":"'Control Panel'!C39","v":"Y00403"},7655,17,14,0.82352941176470584,13,0.76470588235294112,4,13,0.76470588235294112,4,12,0.70588235294117652,5,12,0.70588235294117652]
[{"$f":"'Control Panel'!A40","v":"SE2"},{"$f":"'Control Panel'!B40","v":"Well Street Surgery"},{"$f":"'Control Panel'!C40","v":"F84069"},14343,27,25,0.92592592592592593,24,0.88888888888888884,2,24,0.88888888888888884,2,24,0.88888888888888884,2,24,0.88888888888888884]
[{"$f":"'Control Panel'!A41","v":"SE2"},{"$f":"'Control Panel'!B41","v":"Wick Health Centre"},{"$f":"'Control Panel'!C41","v":"F84620"},7574,16,14,0.875,13,0.8125,3,12,0.75,4,12,0.75,4,13,0.8125]
[{"$f":"'Control Panel'!A42","v":"SW1"},{"$f":"'Control Panel'!B42","v":"Beechwood Medical Centre"},{"$f":"'Control Panel'!C42","v":"F84038"},3961,5,5,1,5,1,"",5,1,"",5,1,"",5,1]
[{"$f":"'Control Panel'!A43","v":"SW1"},{"$f":"'Control Panel'!B43","v":"Dalston Practice"},{"$f":"'Control Panel'!C43","v":"F84063"},6026,17,16,0.94117647058823528,13,0.76470588235294112,4,13,0.76470588235294112,4,13,0.76470588235294112,4,13,0.76470588235294112]
[{"$f":"'Control Panel'!A44","v":"SW1"},{"$f":"'Control Panel'!B44","v":"London Fields Medical Centre"},{"$f":"'Control Panel'!C44","v":"F84021"},10825,29,26,0.89655172413793105,22,0.75862068965517238,6,22,0.75862068965517238,6,22,0.75862068965517238,6,22,0.75862068965517238]
[{"$f":"'Control Panel'!A45","v":"SW1"},{"$f":"'Control Panel'!B45","v":"Queensbridge Group Practice"},{"$f":"'Control Panel'!C45","v":"F84117"},10509,27,27,1,27,1,"",27,1,"",26,0.96296296296296291,"",27,1]
[{"$f":"'Control Panel'!A46","v":"SW1"},{"$f":"'Control Panel'!B46","v":"Richmond Road Medical Center"},{"$f":"'Control Panel'!C46","v":"F84035"},15601,32,30,0.9375,30,0.9375,1,29,0.90625,2,29,0.90625,{"$f":"IFERROR(ROUNDUP(IF($E54*0.95-N54>=0,$E54*0.95-N54,\"\"),0),\"\")","v":2},30,0.9375]
[{"$f":"'Control Panel'!A47","v":"SW1"},{"$f":"'Control Panel'!B47","v":"Sandringham Road Practice"},{"$f":"'Control Panel'!C47","v":"F84621"},4350,10,10,1,8,0.8,2,9,0.9,1,9,0.9,1,9,0.9]
[{"$f":"'Control Panel'!A48","v":"SW2"},{"$f":"'Control Panel'!B48","v":"De Beauvoir Surgery"},{"$f":"'Control Panel'!C48","v":"F84072"},12136,27,25,0.92592592592592593,24,0.88888888888888884,2,24,0.88888888888888884,2,25,0.92592592592592593,1,25,0.92592592592592593]
[{"$f":"'Control Panel'!A49","v":"SW2"},{"$f":"'Control Panel'!B49","v":"Hoxton Surgery"},{"$f":"'Control Panel'!C49","v":"F84692"},7886,11,11,1,9,0.81818181818181823,2,11,1,"",10,0.90909090909090906,1,11,1]
[{"$f":"'Control Panel'!A50","v":"SW2"},{"$f":"'Control Panel'!B50","v":"Lawson Practice"},{"$f":"'Control Panel'!C50","v":"F84096"},15081,32,31,0.96875,31,0.96875,"",30,0.9375,1,30,0.9375,1,29,0.90625]
[{"$f":"'Control Panel'!A51","v":"SW2"},{"$f":"'Control Panel'!B51","v":"Shoreditch Park Surgery"},{"$f":"'Control Panel'!C51","v":"F84635"},10071,16,14,0.875,12,0.75,4,12,0.75,4,10,0.625,6,10,0.625]
[{"$f":"'Control Panel'!A52","v":"SW2"},{"$f":"'Control Panel'!B52","v":"Southgate Rd MC & Whiston Rd Surgery"},{"$f":"'Control Panel'!C52","v":"F84041"},1986,3,3,1,2,0.66666666666666663,1,2,0.66666666666666663,1,2,0.66666666666666663,1,2,0.66666666666666663]
[{"$f":"'Control Panel'!A53","v":"SW2"},{"$f":"'Control Panel'!B53","v":"Neaman Practice"},{"$f":"'Control Panel'!C53","v":"F84640"},9971,14,11,0.7857142857142857,11,0.7857142857142857,3,11,0.7857142857142857,3,11,0.7857142857142857,3,11,0.7857142857142857]

{"sheet":"Patients becoming 5y","index":4,"n_rows":61,"n_cols":29,"rows_kept":61,"cut":false,"hidden":false,"merged":[[18,0,19,2],[18,4,19,4]]}
[null,null,null,null,null,null,null,null,null,null,null,null,null,null,null,null,null,null,null,null,null,null,null,null,null,null,null,null,"`"]
[null,null,null,"City and Hackney Childhood Immunisations Dashboard: Metric Details"]
[null,null,null,"Patients becoming 5y",null,{"$f":"E15","v":578}]
[null,null,"2019-07-01"]
[null,null,"2019-10-01"]
[null,null,"March 2022","All Patients","(03) 5 YEAR COHORT","(03.01) DTaP/IPV/Hib","DTaP/IPV/Hib(%)","(03.02) MMR (Primary)","MMR (Primary)(%)","(03.03) DTaP/IPV (Booster)","DTaP/IPV (Booster)(%)","Patients required to achieve CCG Target (95%)","(03.05) MMR (Booster)","MMR (Booster)(%)","Patients required to achieve CCG Target (95%)","(03.04) HiB/Men C","HiB/Men C(%)"]
[null,"Home",{"$f":"VLOOKUP(C6,'Control Panel'!I2:J13,2,FALSE)","v":"2022-03-01"},"Listsize ","Patients becoming 5y within Q1","DTaP/IPV/Hib","DTaP/IPV/Hib(%)","MMR (Primary)","MMR (Primary)(%)","DTaP/IPV (Booster)","DTaP/IPV (Booster)(%)","Patients required to achieve CCG Target (95%)","MMR (Booster)","MMR (Booster)(%)","Patients required to achieve CCG Target (95%)","HiB/Men C","HiB/Men C(%)"]
["Cluster"]
[{"$f":"'Control Panel'!B3","v":"NW1"},"Woodberry Wetlands (NW1)",null,{"$f":"SUM(IF($A9=$A$22:$A$61,D$22:D$61))","v":34217},{"$f":"SUM(IF($A9=$A$22:$A$61,E$22:E$61))","v":77},{"$f":"SUM(IF($A9=$A$22:$A$61,F$22:F$61))","v":69},{"$f":"IF(OR(ISTEXT($E9),$E9=0),\"N/A\",F9/$E9)","v":0.89610389610389607},{"$f":"SUM(IF($A9=$A$22:$A$61,H$22:H$61))","v":65},{"$f":"IF(OR(ISTEXT($E9),$E9=0),\"N/A\",H9/$E9)","v":0.8441558441558441},{"$f":"SUM(IF($A9=$A$22:$A$61,J$22:J$61))","v":52},{"$f":"IF(OR(ISTEXT($E9),$E9=0),\"N/A\",J9/$E9)","v":0.67532467532467533},null,{"$f":"SUM(IF($A9=$A$22:$A$61,M$22:M$61))","v":51},{"$f":"IF(OR(ISTEXT($E9),$E9=0),\"N/A\",M9/$E9)","v":0.66233766233766234},null,{"$f":"SUM(IF($A9=$A$22:$A$61,P$22:P$61))","v":66},{"$f":"IF(OR(ISTEXT($E9),$E9=0),\"N/A\",P9/$E9)","v":0.8571428571428571}]
[{"$f":"'Control Panel'!B4","v":"NW2"},"Clissold Park (NW2)",null,{"$f":"SUM(IF($A10=$A$22:$A$61,D$22:D$61))","v":35379},{"$f":"SUM(IF($A10=$A$22:$A$61,E$22:E$61))","v":84},{"$f":"SUM(IF($A10=$A$22:$A$61,F$22:F$61))","v":80},{"$f":"IF(OR(ISTEXT($E10),$E10=0),\"N/A\",F10/$E10)","v":0.95238095238095233},{"$f":"SUM(IF($A10=$A$22:$A$61,H$22:H$61))","v":76},{"$f":"IF(OR(ISTEXT($E10),$E10=0),\"N/A\",H10/$E10)","v":0.90476190476190477},{"$f":"SUM(IF($A10=$A$22:$A$61,J$22:J$61))","v":70},{"$f":"IF(OR(ISTEXT($E10),$E10=0),\"N/A\",J10/$E10)","v":0.83333333333333337},null,{"$f":"SUM(IF($A10=$A$22:$A$61,M$22:M$61))","v":71},{"$f":"IF(OR(ISTEXT($E10),$E10=0),\"N/A\",M10/$E10)","v":0.84523809523809523},null,{"$f":"SUM(IF($A10=$A$22:$A$61,P$22:P$61))","v":73},{"$f":"IF(OR(ISTEXT($E10),$E10=0),\"N/A\",P10/$E10)","v":0.86904761904761907}]
[{"$f":"'Control Panel'!B7","v":"SE1"},"Hackney Marshes (SE1)",null,{"$f":"SUM(IF($A11=$A$22:$A$61,D$22:D$61))","v":42589},{"$f":"SUM(IF($A11=$A$22:$A$61,E$22:E$61))","v":117},{"$f":"SUM(IF($A11=$A$22:$A$61,F$22:F$61))","v":110},{"$f":"IF(OR(ISTEXT($E11),$E11=0),\"N/A\",F11/$E11)","v":0.94017094017094016},{"$f":"SUM(IF($A11=$A$22:$A$61,H$22:H$61))","v":106},{"$f":"IF(OR(ISTEXT($E11),$E11=0),\"N/A\",H11/$E11)","v":0.90598290598290598},{"$f":"SUM(IF($A11=$A$22:$A$61,J$22:J$61))","v":94},{"$f":"IF(OR(ISTEXT($E11),$E11=0),\"N/A\",J11/$E11)","v":0.80341880341880345},null,{"$f":"SUM(IF($A11=$A$22:$A$61,M$22:M$61))","v":93},{"$f":"IF(OR(ISTEXT($E11),$E11=0),\"N/A\",M11/$E11)","v":0.79487179487179482},null,{"$f":"SUM(IF($A11=$A$22:$A$61,P$22:P$61))","v":104},{"$f":"IF(OR(ISTEXT($E11),$E11=0),\"N/A\",P11/$E11)","v":0.88888888888888884}]
[{"$f":"'Control Panel'!B8","v":"SE2"},"Well Street Common (SE2)",null,{"$f":"SUM(IF($A12=$A$22:$A$61,D$22:D$61))","v":38319},{"$f":"SUM(IF($A12=$A$22:$A$61,E$22:E$61))","v":96},{"$f":"SUM(IF($A12=$A$22:$A$61,F$22:F$61))","v":92},0.95833333333333337,{"$f":"SUM(IF($A12=$A$22:$A$61,H$22:H$61))","v":83},0.86458333333333337,{"$f":"SUM(IF($A12=$A$22:$A$61,J$22:J$61))","v":70},0.72916666666666663,null,{"$f":"SUM(IF($A12=$A$22:$A$61,M$22:M$61))","v":74},0.77083333333333337,null,{"$f":"SUM(IF($A12=$A$22:$A$61,P$22:P$61))","v":85},0.88541666666666663]
[{"$f":"'Control Panel'!B9","v":"SW1"},"London Fields (SW1)",null,{"$f":"SUM(IF($A13=$A$22:$A$61,D$22:D$61))","v":51272},{"$f":"SUM(IF($A13=$A$22:$A$61,E$22:E$61))","v":92},{"$f":"SUM(IF($A13=$A$22:$A$61,F$22:F$61))","v":87},0.94565217391304346,{"$f":"SUM(IF($A13=$A$22:$A$61,H$22:H$61))","v":85},0.92391304347826086,{"$f":"SUM(IF($A13=$A$22:$A$61,J$22:J$61))","v":76},0.82608695652173914,null,{"$f":"SUM(IF($A13=$A$22:$A$61,M$22:M$61))","v":78},0.84782608695652173,null,{"$f":"SUM(IF($A13=$A$22:$A$61,P$22:P$61))","v":85},0.92391304347826086]
[{"$f":"'Control Panel'!B10","v":"SW2"},"Shoreditch Park & City (SW2)",null,{"$f":"SUM(IF($A14=$A$22:$A$61,D$22:D$61))","v":57131},{"$f":"SUM(IF($A14=$A$22:$A$61,E$22:E$61))","v":112},{"$f":"SUM(IF($A14=$A$22:$A$61,F$22:F$61))","v":103},0.9196428571428571,{"$f":"SUM(IF($A14=$A$22:$A$61,H$22:H$61))","v":99},0.8839285714285714,{"$f":"SUM(IF($A14=$A$22:$A$61,J$22:J$61))","v":81},0.7232142857142857,null,{"$f":"SUM(IF($A14=$A$22:$A$61,M$22:M$61))","v":82},0.7321428571428571,null,{"$f":"SUM(IF($A14=$A$22:$A$61,P$22:P$61))","v":98},0.875]
["Total (Not including North East)",null,null,{"$f":"SUM(D9:D14)","v":258907},{"$f":"SUM(E9:E14)","v":578},{"$f":"SUM(F9:F14)","v":541},0.93598615916955019,{"$f":"SUM(H9:H14)","v":514},0.88927335640138405,{"$f":"SUM(J9:J14)","v":443},0.76643598615916952,null,{"$f":"SUM(M9:M14)","v":449},0.77681660899653981,null,{"$f":"SUM(P9:P14)","v":511},0.88408304498269896]
[{"$f":"'Control Panel'!B5","v":"NE1"},"Springfield Park (NE1)",null,{"$f":"SUM(IF($A16=$A$22:$A$61,D$22:D$61))","v":39842},{"$f":"SUM(IF($A16=$A$22:$A$61,E$22:E$61))","v":249},{"$f":"SUM(IF($A16=$A$22:$A$61,F$22:F$61))","v":149},{"$f":"IF(OR(ISTEXT($E16),$E16=0),\"N/A\",F16/$E16)","v":0.59839357429718876},{"$f":"SUM(IF($A16=$A$22:$A$61,H$22:H$61))","v":174},{"$f":"IF(OR(ISTEXT($E16),$E16=0),\"N/A\",H16/$E16)","v":0.6987951807228916},{"$f":"SUM(IF($A16=$A$22:$A$61,J$22:J$61))","v":72},{"$f":"IF(OR(ISTEXT($E16),$E16=0),\"N/A\",J16/$E16)","v":0.28915662650602408},null,{"$f":"SUM(IF($A16=$A$22:$A$61,M$22:M$61))","v":78},{"$f":"IF(OR(ISTEXT($E16),$E16=0),\"N/A\",M16/$E16)","v":0.31325301204819278},null,{"$f":"SUM(IF($A16=$A$22:$A$61,P$22:P$61))","v":144},{"$f":"IF(OR(ISTEXT($E16),$E16=0),\"N/A\",P16/$E16)","v":0.57831325301204817}]
[{"$f":"'Control Panel'!B6","v":"NE2"},"Hackney Downs (NE2)",null,{"$f":"SUM(IF($A17=$A$22:$A$61,D$22:D$61))","v":39040},{"$f":"SUM(IF($A17=$A$22:$A$61,E$22:E$61))","v":137},{"$f":"SUM(IF($A17=$A$22:$A$61,F$22:F$61))","v":95},0.69343065693430661,{"$f":"SUM(IF($A17=$A$22:$A$61,H$22:H$61))","v":101},0.73722627737226276,{"$f":"SUM(IF($A17=$A$22:$A$61,J$22:J$61))","v":63},0.45985401459854014,null,{"$f":"SUM(IF($A17=$A$22:$A$61,M$22:M$61))","v":68},0.49635036496350365,null,{"$f":"SUM(IF($A17=$A$22:$A$61,P$22:P$61))","v":91},0.66423357664233573]
["Total",null,null,{"$f":"SUM(D9:D14,D16:D17)","v":337789},{"$f":"SUM(E9:E14,E16:E17)","v":964},{"$f":"SUM(F9:F14,F16:F17)","v":785},0.81431535269709543,{"$f":"SUM(H9:H14,H16:H17)","v":789},0.81846473029045641,{"$f":"SUM(J9:J14,J16:J17)","v":578},0.59958506224066388,null,{"$f":"SUM(M9:M14,M16:M17)","v":595},0.61721991701244816,null,{"$f":"SUM(P9:P14,P16:P17)","v":746},0.77385892116182575]
["Minimum and Maximum %",null,null,null,null,"Min","Max","Min","Max","Min","Max",null,"Min","Max",null,"Min","Max"]
[null,null,null,null,null,{"$f":"SMALL(G22:G61,COUNTIF(G22:G61,0)+1)","v":0.56521739130434778},{"$f":"MAX(G22:G61)","v":1},{"$f":"SMALL(I22:I61,COUNTIF(I22:I61,0)+1)","v":0.5},{"$f":"MAX(I22:I61)","v":1},{"$f":"SMALL(K22:K61,COUNTIF(K22:K61,0)+1)","v":0.13750000000000001},{"$f":"MAX(K22:K61)","v":1},null,{"$f":"SMALL(N22:N61,COUNTIF(N22:N61,0)+1)","v":0.1875},{"$f":"MAX(N22:N61)","v":1},null,{"$f":"SMALL(Q22:Q61,COUNTIF(Q22:Q61,0)+1)","v":0.41666666666666669},{"$f":"MAX(Q22:Q61)","v":1}]
["Practices"]
[{"$f":"'Control Panel'!A14","v":"NW1"},{"$f":"'Control Panel'!B14","v":"Allerton Road Surgery"},{"$f":"'Control Panel'!C14","v":"F84716"},{"$f":"SUMIFS(OFFSET(REL_D,,MATCH($D$6,IND,0)-1),REL_D,$C$6,OrgID,$C22)","v":5829},{"$f":"SUMIFS(OFFSET(REL_D,,MATCH($E$6,IND,0)-1),REL_D,$C$6,OrgID,$C22)","v":15},{"$f":"SUMIFS(OFFSET(REL_D,,MATCH($F$6,IND,0)-1),REL_D,$C$6,OrgID,$C22)","v":12},{"$f":"IF(OR(ISTEXT($E22),$E22=0),\"N/A\",F22/$E22)","v":0.8},{"$f":"SUMIFS(OFFSET(REL_D,,MATCH($H$6,IND,0)-1),REL_D,$C$6,OrgID,$C22)","v":12},{"$f":"IF(OR(ISTEXT($E22),$E22=0),\"N/A\",H22/$E22)","v":0.8},{"$f":"SUMIFS(OFFSET(REL_D,,MATCH($J$6,IND,0)-1),REL_D,$C$6,OrgID,$C22)","v":8},{"$f":"IF(OR(ISTEXT($E22),$E22=0),\"N/A\",J22/$E22)","v":0.53333333333333333},{"$f":"IFERROR(ROUNDUP(IF($E22*0.95-J22>=0,$E22*0.95-J22,\"\"),0),\"\")","v":7},{"$f":"SUMIFS(OFFSET(REL_D,,MATCH($M$6,IND,0)-1),REL_D,$C$6,OrgID,$C22)","v":8},{"$f":"IF(OR(ISTEXT($E22),$E22=0),\"N/A\",M22/$E22)","v":0.53333333333333333},{"$f":"IFERROR(ROUNDUP(IF($E22*0.95-M22>=0,$E22*0.95-M22,\"\"),0),\"\")","v":7},{"$f":"SUMIFS(OFFSET(REL_D,,MATCH($P$6,IND,0)-1),REL_D,$C$6,OrgID,$C22)","v":12},{"$f":"IF(OR(ISTEXT($E22),$E22=0),\"N/A\",P22/$E22)","v":0.8}]
[{"$f":"'Control Panel'!A15","v":"NW1"},{"$f":"'Control Panel'!B15","v":"Cedar Practice "},{"$f":"'Control Panel'!C15","v":"F84036"},7779,15,14,{"$f":"IF(OR(ISTEXT($E23),$E23=0),\"N/A\",F23/$E23)","v":0.93333333333333335},13,{"$f":"IF(OR(ISTEXT($E23),$E23=0),\"N/A\",H23/$E23)","v":0.8666666666666667},12,{"$f":"IF(OR(ISTEXT($E23),$E23=0),\"N/A\",J23/$E23)","v":0.8},3,11,{"$f":"IF(OR(ISTEXT($E23),$E23=0),\"N/A\",M23/$E23)","v":0.73333333333333328},4,15,{"$f":"IF(OR(ISTEXT($E23),$E23=0),\"N/A\",P23/$E23)","v":1}]
[{"$f":"'Control Panel'!A16","v":"NW1"},{"$f":"'Control Panel'!B16","v":"Heron Practice"},{"$f":"'Control Panel'!C16","v":"F84119"},12175,34,31,0.91176470588235292,28,0.82352941176470584,20,0.58823529411764708,13,20,0.58823529411764708,13,27,0.79411764705882348]
[{"$f":"'Control Panel'!A17","v":"NW1"},{"$f":"'Control Panel'!B17","v":"Statham Grove Surgery"},{"$f":"'Control Panel'!C17","v":"F84115"},8434,13,12,0.92307692307692313,12,0.92307692307692313,12,0.92307692307692313,1,12,0.92307692307692313,1,12,0.92307692307692313]
[{"$f":"'Control Panel'!A18","v":"NW2"},{"$f":"'Control Panel'!B18","v":"Barretts Grove Surgery"},{"$f":"'Control Panel'!C18","v":"F84636"},6610,11,11,1,11,1,10,0.90909090909090906,1,11,1,"",11,1]
[{"$f":"'Control Panel'!A19","v":"NW2"},{"$f":"'Control Panel'!B19","v":"Barton House Health Centre"},{"$f":"'Control Panel'!C19","v":"F84008"},12199,29,28,0.96551724137931039,27,0.93103448275862066,27,0.93103448275862066,1,27,0.93103448275862066,1,26,0.89655172413793105]
[{"$f":"'Control Panel'!A20","v":"NW2"},{"$f":"'Control Panel'!B20","v":"Brooke Road Surgery"},{"$f":"'Control Panel'!C20","v":"F84694"},4620,9,9,{"$f":"IF(OR(ISTEXT($E28),$E28=0),\"N/A\",F28/$E28)","v":1},8,{"$f":"IF(OR(ISTEXT($E28),$E28=0),\"N/A\",H28/$E28)","v":0.88888888888888884},8,{"$f":"IF(OR(ISTEXT($E28),$E28=0),\"N/A\",J28/$E28)","v":0.88888888888888884},1,8,{"$f":"IF(OR(ISTEXT($E28),$E28=0),\"N/A\",M28/$E28)","v":0.88888888888888884},1,8,{"$f":"IF(OR(ISTEXT($E28),$E28=0),\"N/A\",P28/$E28)","v":0.88888888888888884}]
[{"$f":"'Control Panel'!A21","v":"NW2"},{"$f":"'Control Panel'!B21","v":"Somerford Grove Health Centre"},{"$f":"'Control Panel'!C21","v":"F84033"},11950,35,32,0.91428571428571426,30,0.8571428571428571,25,0.7142857142857143,9,25,0.7142857142857143,9,28,0.8]
[{"$f":"'Control Panel'!A22","v":"NE1"},{"$f":"'Control Panel'!B22","v":"Cranwich Road Surgery "},{"$f":"'Control Panel'!C22","v":"F84686"},8438,80,49,0.61250000000000004,60,0.75,11,0.13750000000000001,65,15,0.1875,61,51,0.63749999999999996]
[{"$f":"'Control Panel'!A23","v":"NE1"},{"$f":"'Control Panel'!B23","v":"Spring Hill Practice"},{"$f":"'Control Panel'!C23","v":"Y03049"},14787,65,38,0.58461538461538465,43,0.66153846153846152,34,0.52307692307692311,28,35,0.53846153846153844,27,37,0.56923076923076921]
[{"$f":"'Control Panel'!A24","v":"NE1"},{"$f":"'Control Panel'!B24","v":"Stamford Hill Group Practice"},{"$f":"'Control Panel'!C24","v":"F84013"},16617,104,62,0.59615384615384615,71,0.68269230769230771,27,0.25961538461538464,72,28,0.26923076923076922,71,56,0.53846153846153844]
[{"$f":"'Control Panel'!A25","v":"NE2"},{"$f":"'Control Panel'!B25","v":"Clapton Surgery"},{"$f":"'Control Panel'!C25","v":"F84668"},6384,42,28,0.66666666666666663,34,0.80952380952380953,13,0.30952380952380953,27,15,0.35714285714285715,25,30,0.7142857142857143]
[{"$f":"'Control Panel'!A26","v":"NE2"},{"$f":"'Control Panel'!B26","v":"Elm Practice"},{"$f":"'Control Panel'!C26","v":"F84685"},3054,15,10,0.66666666666666663,10,0.66666666666666663,7,0.46666666666666667,8,7,0.46666666666666667,8,9,0.6]
[{"$f":"'Control Panel'!A27","v":"NE2"},{"$f":"'Control Panel'!B27","v":"Gadvhi Practice"},{"$f":"'Control Panel'!C27","v":"F84080"},5173,23,13,0.56521739130434778,15,0.65217391304347827,9,0.39130434782608697,13,10,0.43478260869565216,12,11,0.47826086956521741]
[{"$f":"'Control Panel'!A28","v":"NE2"},{"$f":"'Control Panel'!B28","v":"Healy Medical Centre"},{"$f":"'Control Panel'!C28","v":"F84720"},5695,12,7,0.58333333333333337,6,0.5,3,0.25,9,4,0.33333333333333331,8,5,0.41666666666666669]
[{"$f":"'Control Panel'!A29","v":"NE2"},{"$f":"'Control Panel'!B29","v":"Nightingale Practice"},{"$f":"'Control Panel'!C29","v":"F84018"},12007,32,26,0.8125,26,0.8125,21,0.65625,10,22,0.6875,9,26,0.8125]
[{"$f":"'Control Panel'!A30","v":"NE2"},{"$f":"'Control Panel'!B30","v":"Riverside Practice"},{"$f":"'Control Panel'!C30","v":"F84619"},4871,9,8,0.88888888888888884,7,0.77777777777777779,7,0.77777777777777779,2,7,0.77777777777777779,2,8,0.88888888888888884]
[{"$f":"'Control Panel'!A31","v":"NE2"},{"$f":"'Control Panel'!B31","v":"Rosewood Practice"},{"$f":"'Control Panel'!C31","v":"F84711"},1856,4,3,0.75,3,0.75,3,0.75,1,3,0.75,1,2,0.5]
[{"$f":"'Control Panel'!A32","v":"SE1"},{"$f":"'Control Panel'!B32","v":"Athena Medical Centre"},{"$f":"'Control Panel'!C32","v":"F84060"},4858,8,6,0.75,6,0.75,3,0.375,5,3,0.375,5,6,0.75]
[{"$f":"'Control Panel'!A33","v":"SE1"},{"$f":"'Control Panel'!B33","v":"Latimer Health Centre"},{"$f":"'Control Panel'!C33","v":"F84719"},5324,10,10,1,10,1,6,0.6,4,6,0.6,4,8,0.8]
[{"$f":"'Control Panel'!A34","v":"SE1"},{"$f":"'Control Panel'!B34","v":"Lea Surgery"},{"$f":"'Control Panel'!C34","v":"F84105"},11954,35,34,0.97142857142857142,33,0.94285714285714284,33,0.94285714285714284,1,33,0.94285714285714284,1,34,0.97142857142857142]
[{"$f":"'Control Panel'!A35","v":"SE1"},{"$f":"'Control Panel'!B35","v":"Lower Clapton Health Centre"},{"$f":"'Control Panel'!C35","v":"F84003"},15043,49,48,0.97959183673469385,46,0.93877551020408168,44,0.89795918367346939,3,43,0.87755102040816324,4,45,0.91836734693877553]
[{"$f":"'Control Panel'!A36","v":"SE1"},{"$f":"'Control Panel'!B36","v":"Kingsmead Healthcare"},{"$f":"'Control Panel'!C36","v":"F84015"},5410,15,12,0.8,11,0.73333333333333328,8,0.53333333333333333,7,8,0.53333333333333333,7,11,0.73333333333333328]
[{"$f":"'Control Panel'!A37","v":"SE2"},{"$f":"'Control Panel'!B37","v":"Elsdale Street Surgery "},{"$f":"'Control Panel'!C37","v":"F84601"},7478,18,17,0.94444444444444442,14,0.77777777777777779,10,0.55555555555555558,8,11,0.61111111111111116,7,16,0.88888888888888884]
[{"$f":"'Control Panel'!A38","v":"SE2"},{"$f":"'Control Panel'!B38","v":"Greenhouse Health Centre"},{"$f":"'Control Panel'!C38","v":"F84632"},1269,0,0,"N/A",0,"N/A",0,"N/A",0,0,"N/A",0,0,"N/A"]
[{"$f":"'Control Panel'!A39","v":"SE2"},{"$f":"'Control Panel'!B39","v":"Trowbridge Practice"},{"$f":"'Control Panel'!C39","v":"Y00403"},7655,11,10,0.90909090909090906,8,0.72727272727272729,9,0.81818181818181823,2,9,0.81818181818181823,2,10,0.90909090909090906]
[{"$f":"'Control Panel'!A40","v":"SE2"},{"$f":"'Control Panel'!B40","v":"Well Street Surgery"},{"$f":"'Control Panel'!C40","v":"F84069"},14343,51,50,0.98039215686274506,47,0.92156862745098034,38,0.74509803921568629,11,41,0.80392156862745101,8,45,0.88235294117647056]
[{"$f":"'Control Panel'!A41","v":"SE2"},{"$f":"'Control Panel'!B41","v":"Wick Health Centre"},{"$f":"'Control Panel'!C41","v":"F84620"},7574,16,15,0.9375,14,0.875,13,0.8125,3,13,0.8125,3,14,0.875]
[{"$f":"'Control Panel'!A42","v":"SW1"},{"$f":"'Control Panel'!B42","v":"Beechwood Medical Centre"},{"$f":"'Control Panel'!C42","v":"F84038"},3961,10,10,1,9,0.9,8,0.8,2,9,0.9,1,8,0.8]
[{"$f":"'Control Panel'!A43","v":"SW1"},{"$f":"'Control Panel'!B43","v":"Dalston Practice"},{"$f":"'Control Panel'!C43","v":"F84063"},6026,11,11,1,9,0.81818181818181823,6,0.54545454545454541,5,8,0.72727272727272729,3,9,0.81818181818181823]
[{"$f":"'Control Panel'!A44","v":"SW1"},{"$f":"'Control Panel'!B44","v":"London Fields Medical Centre"},{"$f":"'Control Panel'!C44","v":"F84021"},10825,19,19,1,19,1,19,1,"",18,0.94736842105263153,1,19,1]
[{"$f":"'Control Panel'!A45","v":"SW1"},{"$f":"'Control Panel'!B45","v":"Queensbridge Group Practice"},{"$f":"'Control Panel'!C45","v":"F84117"},10509,29,28,0.96551724137931039,28,0.96551724137931039,27,0.93103448275862066,1,26,0.89655172413793105,2,29,1]
[{"$f":"'Control Panel'!A46","v":"SW1"},{"$f":"'Control Panel'!B46","v":"Richmond Road Medical Center"},{"$f":"'Control Panel'!C46","v":"F84035"},15601,15,14,0.93333333333333335,14,0.93333333333333335,11,0.73333333333333328,4,12,0.8,{"$f":"IFERROR(ROUNDUP(IF($E54*0.95-M54>=0,$E54*0.95-M54,\"\"),0),\"\")","v":3},14,0.93333333333333335]
[{"$f":"'Control Panel'!A47","v":"SW1"},{"$f":"'Control Panel'!B47","v":"Sandringham Road Practice"},{"$f":"'Control Panel'!C47","v":"F84621"},4350,8,5,0.625,6,0.75,5,0.625,3,5,0.625,3,6,0.75]
[{"$f":"'Control Panel'!A48","v":"SW2"},{"$f":"'Control Panel'!B48","v":"De Beauvoir Surgery"},{"$f":"'Control Panel'!C48","v":"F84072"},12136,28,28,1,27,0.9642857142857143,24,0.8571428571428571,3,25,0.8928571428571429,2,26,0.9285714285714286]
[{"$f":"'Control Panel'!A49","v":"SW2"},{"$f":"'Control Panel'!B49","v":"Hoxton Surgery"},{"$f":"'Control Panel'!C49","v":"F84692"},7886,15,13,0.8666666666666667,12,0.8,13,0.8666666666666667,2,12,0.8,3,11,0.73333333333333328]
[{"$f":"'Control Panel'!A50","v":"SW2"},{"$f":"'Control Panel'!B50","v":"Lawson Practice"},{"$f":"'Control Panel'!C50","v":"F84096"},15081,26,26,1,25,0.96153846153846156,23,0.88461538461538458,2,23,0.88461538461538458,2,25,0.96153846153846156]
[{"$f":"'Control Panel'!A51","v":"SW2"},{"$f":"'Control Panel'!B51","v":"Shoreditch Park Surgery"},{"$f":"'Control Panel'!C51","v":"F84635"},10071,23,20,0.86956521739130432,18,0.78260869565217395,10,0.43478260869565216,12,10,0.43478260869565216,12,19,0.82608695652173914]
[{"$f":"'Control Panel'!A52","v":"SW2"},{"$f":"'Control Panel'!B52","v":"Southgate Rd MC & Whiston Rd Surgery"},{"$f":"'Control Panel'!C52","v":"F84041"},1986,7,6,0.8571428571428571,7,1,2,0.2857142857142857,5,3,0.42857142857142855,4,7,1]
[{"$f":"'Control Panel'!A53","v":"SW2"},{"$f":"'Control Panel'!B53","v":"Neaman Practice"},{"$f":"'Control Panel'!C53","v":"F84640"},9971,13,10,0.76923076923076927,10,0.76923076923076927,9,0.69230769230769229,4,9,0.69230769230769229,4,10,0.76923076923076927]

{"sheet":"Trending","index":5,"n_rows":63,"n_cols":13,"rows_kept":63,"cut":false,"hidden":false,"merged":[[1,3,1,4]]}
[null,null,null,"City and Hackney - Childhood Immunisations",null,null,null,null,null,null,null,null,{"$f":"\"'\"&K3&\"'!$C$9:$AT$71\"","v":"'1st April 2016'!$C$9:$AT$71"}]
[null,null,null,null,null,null,"City and Hackney (Without NE)"]
[null,"2015/16 Q1",null,{"$f":"VLOOKUP(G2,'Control Panel'!B12:C55,2,0)","v":"Total (without NE)"},null,null,"FHV",null,null,null,"1st April 2016"]
[null,null,null,null,null,null,"Patient becoming 12m","Control Panel'!J34:J36"]
[]
[null,{"$f":"INDEX(INDIRECT(VLOOKUP($G$4,'Control Panel'!$E$78:$F$80,2,FALSE)),COLUMN(Rows!A1))","v":"(01) 12 MONTH COHORT"},{"$f":"INDEX(INDIRECT(VLOOKUP($G$4,'Control Panel'!$E$78:$F$80,2,FALSE)),COLUMN(Rows!B1))","v":"(01.01) DTaP/IPV/Hib"},{"$f":"INDEX(INDIRECT(VLOOKUP($G$4,'Control Panel'!$E$78:$F$80,2,FALSE)),COLUMN(Rows!C1))","v":"(01.02) Men B (1st and 2nd)"},{"$f":"INDEX(INDIRECT(VLOOKUP($G$4,'Control Panel'!$E$78:$F$80,2,FALSE)),COLUMN(Rows!D1))","v":"(01.03) PCV"}]
["Time Stamp",{"$f":"IFERROR(INDEX(INDIRECT(VLOOKUP($G$4,'Control Panel'!$E$73:$G$75,3,FALSE)),COLUMN(Rows!A17)),\"\")","v":"DTaP/IPV/Hib %"},{"$f":"IFERROR(INDEX(INDIRECT(VLOOKUP($G$4,'Control Panel'!$E$73:$G$75,3,FALSE)),COLUMN(Rows!B17)),\"\")","v":"Men C / Men B %"},{"$f":"IFERROR(INDEX(INDIRECT(VLOOKUP($G$4,'Control Panel'!$E$73:$G$75,3,FALSE)),COLUMN(Rows!C17)),\"\")","v":"PCV %"},""]
["2015/16 Q1",{"$f":"IFERROR(C36/B36,\"\")","v":0.84069611780455156},{"$f":"IFERROR(D36/B36,\"\")","v":0.87951807228915657},{"$f":"IFERROR(E36/B36,NA())","v":0.85676037483266398}]
["2015/16 Q2",0.83243243243243248,0.87432432432432428,{"$f":"IFERROR(E37/B37,NA())","v":0.83783783783783783}]
["2015/16 Q3",0.79325513196480935,0.84164222873900296,0.8079178885630498]
["2015/16 Q4",0.81438848920863305,0.86906474820143886,0.82589928057553952]
["2016/17 Q1",0.81311018131101809,0.85913528591352861,0.82287308228730827]
["2016/17 Q2",0.86807387862796836,0.88522427440633245,0.86807387862796836]
["2016/17 Q3",0.89703989703989706,0.87001287001286998,0.90218790218790224]
["2016/17 Q4",0.88326300984528827,0.88466947960618847,0.90717299578059074]
["2017/18 Q1",0.86711409395973149,0.84966442953020138,0.86979865771812082]
["2017/18 Q2",0.87418086500655312,0.85976408912188729,0.87418086500655312]
["2017/18 Q3",0.86554621848739499,0.85854341736694673,0.87815126050420167]
["2017/18 Q4",0.88326300984528827,0.88466947960618847,0.90717299578059074]
["2018/19 Q1",0.86857142857142855,0.85142857142857142,0.8828571428571429]
["2018/19 Q2",0.85611510791366907,0.86330935251798557,0.87194244604316551]
["2018/19 Q3",0.85547445255474452,0.85255474452554747,0.87007299270072991]
["2018/19 Q4",0.86222222222222222,0.8607407407407407,0.87259259259259259]
["2019/20 Q1",{"$f":"IFERROR(C52/B52,\"\")","v":0.87323943661971826},0.86338028169014081,0.87746478873239442]
["2019/20 Q2",{"$f":"IFERROR(C53/B53,\"\")","v":0.8862359550561798},0.8848314606741573,0.9030898876404494]
["2019/20 Q3",0.87039563437926326,0.85948158253751705,0.8840381991814461]
["2019/20 Q4",0.8761329305135952,0.8821752265861027,0.88821752265861031]
["2020/21 Q1",{"$f":"IFERROR(C56/B56,\"\")","v":0.87072808320950967},{"$f":"IFERROR(D56/B56,\"\")","v":0.86924219910846956},{"$f":"IFERROR(E56/B56,NA())","v":0.88261515601783058}]
["2020/21 Q2",{"$f":"IFERROR(C57/B57,\"\")","v":0.86363636363636365},{"$f":"IFERROR(D57/B57,\"\")","v":0.85777126099706746},{"$f":"IFERROR(E57/B57,NA())","v":0.85923753665689151},"PCV"]
["2020/21 Q3",{"$f":"IFERROR(C58/B58,\"\")","v":0.83438485804416407},{"$f":"IFERROR(D58/B58,\"\")","v":0.82649842271293372},{"$f":"IFERROR(E58/B58,NA())","v":0.805993690851735}]
["2020/21 Q4",{"$f":"IFERROR(C59/B59,\"\")","v":0.84166666666666667},{"$f":"IFERROR(D59/B59,\"\")","v":0.83833333333333337},{"$f":"IFERROR(E59/B59,NA())","v":0.88500000000000001}]
["2021/22 Q1",{"$f":"IFERROR(C60/B60,\"\")","v":0.84772370486656201},{"$f":"IFERROR(D60/B60,\"\")","v":0.84144427001569855},{"$f":"IFERROR(E60/B60,NA())","v":0.87441130298273151}]
["2021/22 Q2",{"$f":"IFERROR(C61/B61,\"\")","v":0.82428115015974446},{"$f":"IFERROR(D61/B61,\"\")","v":0.82268370607028751},{"$f":"IFERROR(E61/B61,NA())","v":0.86741214057507987}]
["2021/22 Q3",{"$f":"IFERROR(C62/B62,\"\")","v":0.85641025641025637},{"$f":"IFERROR(D62/B62,\"\")","v":0.85299145299145296},{"$f":"IFERROR(E62/B62,NA())","v":0.88717948717948714}]
["2021/22 Q4",{"$f":"IFERROR(C63/B63,\"\")","v":0.83251231527093594},{"$f":"IFERROR(D63/B63,\"\")","v":0.82758620689655171},{"$f":"IFERROR(E63/B63,NA())","v":0.87356321839080464}]
["2015/16 Q1",{"$f":"IF($D$3=\"Total (without NE)\",VLOOKUP($A$36,'Total (Without NE)'!$B$1:$W$17,MATCH(B6,'Total (Without NE)'!$B$1:$W$1,0),FALSE),SUMIFS(OFFSET(REL_D,,MATCH($B$6,IND,0)-1),REL_D,$A36,OrgID,$D$3))","v":747},{"$f":"IF($D$3=\"Total (without NE)\",VLOOKUP($A$36,'Total (Without NE)'!$B$1:$W$17,MATCH(C6,'Total (Without NE)'!$B$1:$W$1,0),FALSE),SUMIFS(OFFSET(REL_D,,MATCH($C$6,IND,0)-1),REL_D,$A36,OrgID,$D$3))","v":628},{"$f":"IF($D$3=\"Total (without NE)\",VLOOKUP($A36,'Total (Without NE)'!$B$1:$W$17,MATCH($D$6,'Total (Without NE)'!$B$1:$W$1,0),FALSE),SUMIFS(OFFSET(REL_D,,MATCH($D$6,IND,0)-1),REL_D,$A36,OrgID,$D$3))","v":657},{"$f":"IF($D$3=\"Total (without NE)\",VLOOKUP($A36,'Total (Without NE)'!$B$1:$W$17,MATCH($E$6,'Total (Without NE)'!$B$1:$W$1,0),FALSE),SUMIFS(OFFSET(REL_D,,MATCH($E$6,IND,0)-1),REL_D,$A36,OrgID,$D$3))","v":640}]
["2015/16 Q2",{"$f":"IF($D$3=\"Total (without NE)\",VLOOKUP($A37,'Total (Without NE)'!$B$1:$W$17,MATCH(B6,'Total (Without NE)'!$B$1:$W$1,0),FALSE),SUMIFS(OFFSET(REL_D,,MATCH($B$6,IND,0)-1),REL_D,$A37,OrgID,$D$3))","v":740},{"$f":"IF($D$3=\"Total (without NE)\",VLOOKUP($A37,'Total (Without NE)'!$B$1:$W$17,MATCH($C$6,'Total (Without NE)'!$B$1:$W$1,0),FALSE),SUMIFS(OFFSET(REL_D,,MATCH($C$6,IND,0)-1),REL_D,$A37,OrgID,$D$3))","v":616},{"$f":"IF($D$3=\"Total (without NE)\",VLOOKUP($A37,'Total (Without NE)'!$B$1:$W$17,MATCH($D$6,'Total (Without NE)'!$B$1:$W$1,0),FALSE),SUMIFS(OFFSET(REL_D,,MATCH($D$6,IND,0)-1),REL_D,$A37,OrgID,$D$3))","v":647},{"$f":"IF($D$3=\"Total (without NE)\",VLOOKUP($A37,'Total (Without NE)'!$B$1:$W$17,MATCH($E$6,'Total (Without NE)'!$B$1:$W$1,0),FALSE),SUMIFS(OFFSET(REL_D,,MATCH($E$6,IND,0)-1),REL_D,$A37,OrgID,$D$3))","v":620}]
["2015/16 Q3",{"$f":"IF($D$3=\"Total (without NE)\",VLOOKUP($A38,'Total (Without NE)'!$B$1:$W$17,MATCH($B$6,'Total (Without NE)'!$B$1:$W$1,0),FALSE),SUMIFS(OFFSET(REL_D,,MATCH($B$6,IND,0)-1),REL_D,$A38,OrgID,$D$3))","v":682},{"$f":"IF($D$3=\"Total (without NE)\",VLOOKUP($A38,'Total (Without NE)'!$B$1:$W$17,MATCH($C$6,'Total (Without NE)'!$B$1:$W$1,0),FALSE),SUMIFS(OFFSET(REL_D,,MATCH($C$6,IND,0)-1),REL_D,$A38,OrgID,$D$3))","v":541},{"$f":"IF($D$3=\"Total (without NE)\",VLOOKUP($A38,'Total (Without NE)'!$B$1:$W$17,MATCH($D$6,'Total (Without NE)'!$B$1:$W$1,0),FALSE),SUMIFS(OFFSET(REL_D,,MATCH($D$6,IND,0)-1),REL_D,$A38,OrgID,$D$3))","v":574},{"$f":"IF($D$3=\"Total (without NE)\",VLOOKUP($A38,'Total (Without NE)'!$B$1:$W$17,MATCH($E$6,'Total (Without NE)'!$B$1:$W$1,0),FALSE),SUMIFS(OFFSET(REL_D,,MATCH($E$6,IND,0)-1),REL_D,$A38,OrgID,$D$3))","v":551}]
["2015/16 Q4",{"$f":"IF($D$3=\"Total (without NE)\",VLOOKUP($A39,'Total (Without NE)'!$B$1:$W$17,MATCH($B$6,'Total (Without NE)'!$B$1:$W$1,0),FALSE),SUMIFS(OFFSET(REL_D,,MATCH($B$6,IND,0)-1),REL_D,$A39,OrgID,$D$3))","v":695},{"$f":"IF($D$3=\"Total (without NE)\",VLOOKUP($A39,'Total (Without NE)'!$B$1:$W$17,MATCH($C$6,'Total (Without NE)'!$B$1:$W$1,0),FALSE),SUMIFS(OFFSET(REL_D,,MATCH($C$6,IND,0)-1),REL_D,$A39,OrgID,$D$3))","v":566},{"$f":"IF($D$3=\"Total (without NE)\",VLOOKUP($A39,'Total (Without NE)'!$B$1:$W$17,MATCH($D$6,'Total (Without NE)'!$B$1:$W$1,0),FALSE),SUMIFS(OFFSET(REL_D,,MATCH($D$6,IND,0)-1),REL_D,$A39,OrgID,$D$3))","v":604},{"$f":"IF($D$3=\"Total (without NE)\",VLOOKUP($A39,'Total (Without NE)'!$B$1:$W$17,MATCH($E$6,'Total (Without NE)'!$B$1:$W$1,0),FALSE),SUMIFS(OFFSET(REL_D,,MATCH($E$6,IND,0)-1),REL_D,$A39,OrgID,$D$3))","v":574}]
["2016/17 Q1",{"$f":"IF($D$3=\"Total (without NE)\",VLOOKUP($A40,'Total (Without NE)'!$B$1:$W$17,MATCH($B$6,'Total (Without NE)'!$B$1:$W$1,0),FALSE),SUMIFS(OFFSET(REL_D,,MATCH($B$6,IND,0)-1),REL_D,$A40,OrgID,$D$3))","v":717},{"$f":"IF($D$3=\"Total (without NE)\",VLOOKUP($A40,'Total (Without NE)'!$B$1:$W$17,MATCH($C$6,'Total (Without NE)'!$B$1:$W$1,0),FALSE),SUMIFS(OFFSET(REL_D,,MATCH($C$6,IND,0)-1),REL_D,$A40,OrgID,$D$3))","v":583},{"$f":"IF($D$3=\"Total (without NE)\",VLOOKUP($A40,'Total (Without NE)'!$B$1:$W$17,MATCH($D$6,'Total (Without NE)'!$B$1:$W$1,0),FALSE),SUMIFS(OFFSET(REL_D,,MATCH($D$6,IND,0)-1),REL_D,$A40,OrgID,$D$3))","v":616},{"$f":"IF($D$3=\"Total (without NE)\",VLOOKUP($A40,'Total (Without NE)'!$B$1:$W$17,MATCH($E$6,'Total (Without NE)'!$B$1:$W$1,0),FALSE),SUMIFS(OFFSET(REL_D,,MATCH($E$6,IND,0)-1),REL_D,$A40,OrgID,$D$3))","v":590}]
["2016/17 Q2",{"$f":"IF($D$3=\"Total (without NE)\",VLOOKUP($A41,'Total (Without NE)'!$B$1:$W$17,MATCH($B$6,'Total (Without NE)'!$B$1:$W$1,0),FALSE),SUMIFS(OFFSET(REL_D,,MATCH($B$6,IND,0)-1),REL_D,$A41,OrgID,$D$3))","v":758},{"$f":"IF($D$3=\"Total (without NE)\",VLOOKUP($A41,'Total (Without NE)'!$B$1:$W$17,MATCH($C$6,'Total (Without NE)'!$B$1:$W$1,0),FALSE),SUMIFS(OFFSET(REL_D,,MATCH($C$6,IND,0)-1),REL_D,$A41,OrgID,$D$3))","v":658},{"$f":"IF($D$3=\"Total (without NE)\",VLOOKUP($A41,'Total (Without NE)'!$B$1:$W$17,MATCH($D$6,'Total (Without NE)'!$B$1:$W$1,0),FALSE),SUMIFS(OFFSET(REL_D,,MATCH($D$6,IND,0)-1),REL_D,$A41,OrgID,$D$3))","v":671},{"$f":"IF($D$3=\"Total (without NE)\",VLOOKUP($A41,'Total (Without NE)'!$B$1:$W$17,MATCH($E$6,'Total (Without NE)'!$B$1:$W$1,0),FALSE),SUMIFS(OFFSET(REL_D,,MATCH($E$6,IND,0)-1),REL_D,$A41,OrgID,$D$3))","v":658}]
["2016/17 Q3",{"$f":"IF($D$3=\"Total (without NE)\",VLOOKUP($A42,'Total (Without NE)'!$B$1:$W$17,MATCH($B$6,'Total (Without NE)'!$B$1:$W$1,0),FALSE),SUMIFS(OFFSET(REL_D,,MATCH($B$6,IND,0)-1),REL_D,$A42,OrgID,$D$3))","v":777},{"$f":"IF($D$3=\"Total (without NE)\",VLOOKUP($A42,'Total (Without NE)'!$B$1:$W$17,MATCH($C$6,'Total (Without NE)'!$B$1:$W$1,0),FALSE),SUMIFS(OFFSET(REL_D,,MATCH($C$6,IND,0)-1),REL_D,$A42,OrgID,$D$3))","v":697},{"$f":"IF($D$3=\"Total (without NE)\",VLOOKUP($A42,'Total (Without NE)'!$B$1:$W$17,MATCH($D$6,'Total (Without NE)'!$B$1:$W$1,0),FALSE),SUMIFS(OFFSET(REL_D,,MATCH($D$6,IND,0)-1),REL_D,$A42,OrgID,$D$3))","v":676},{"$f":"IF($D$3=\"Total (without NE)\",VLOOKUP($A42,'Total (Without NE)'!$B$1:$W$17,MATCH($E$6,'Total (Without NE)'!$B$1:$W$1,0),FALSE),SUMIFS(OFFSET(REL_D,,MATCH($E$6,IND,0)-1),REL_D,$A42,OrgID,$D$3))","v":701}]
["2016/17 Q4",{"$f":"IF($D$3=\"Total (without NE)\",VLOOKUP($A43,'Total (Without NE)'!$B$1:$W$17,MATCH($B$6,'Total (Without NE)'!$B$1:$W$1,0),FALSE),SUMIFS(OFFSET(REL_D,,MATCH($B$6,IND,0)-1),REL_D,$A43,OrgID,$D$3))","v":711},{"$f":"IF($D$3=\"Total (without NE)\",VLOOKUP($A43,'Total (Without NE)'!$B$1:$W$17,MATCH($C$6,'Total (Without NE)'!$B$1:$W$1,0),FALSE),SUMIFS(OFFSET(REL_D,,MATCH($C$6,IND,0)-1),REL_D,$A43,OrgID,$D$3))","v":628},{"$f":"IF($D$3=\"Total (without NE)\",VLOOKUP($A43,'Total (Without NE)'!$B$1:$W$17,MATCH($D$6,'Total (Without NE)'!$B$1:$W$1,0),FALSE),SUMIFS(OFFSET(REL_D,,MATCH($D$6,IND,0)-1),REL_D,$A43,OrgID,$D$3))","v":629},{"$f":"IF($D$3=\"Total (without NE)\",VLOOKUP($A43,'Total (Without NE)'!$B$1:$W$17,MATCH($E$6,'Total (Without NE)'!$B$1:$W$1,0),FALSE),SUMIFS(OFFSET(REL_D,,MATCH($E$6,IND,0)-1),REL_D,$A43,OrgID,$D$3))","v":645}]
["2017/18 Q1",{"$f":"IF($D$3=\"Total (without NE)\",VLOOKUP($A44,'Total (Without NE)'!$B$1:$W$17,MATCH($B$6,'Total (Without NE)'!$B$1:$W$1,0),FALSE),SUMIFS(OFFSET(REL_D,,MATCH($B$6,IND,0)-1),REL_D,$A44,OrgID,$D$3))","v":745},{"$f":"IF($D$3=\"Total (without NE)\",VLOOKUP($A44,'Total (Without NE)'!$B$1:$W$17,MATCH($C$6,'Total (Without NE)'!$B$1:$W$1,0),FALSE),SUMIFS(OFFSET(REL_D,,MATCH($C$6,IND,0)-1),REL_D,$A44,OrgID,$D$3))","v":646},{"$f":"IF($D$3=\"Total (without NE)\",VLOOKUP($A44,'Total (Without NE)'!$B$1:$W$17,MATCH($D$6,'Total (Without NE)'!$B$1:$W$1,0),FALSE),SUMIFS(OFFSET(REL_D,,MATCH($D$6,IND,0)-1),REL_D,$A44,OrgID,$D$3))","v":633},{"$f":"IF($D$3=\"Total (without NE)\",VLOOKUP($A44,'Total (Without NE)'!$B$1:$W$17,MATCH($E$6,'Total (Without NE)'!$B$1:$W$1,0),FALSE),SUMIFS(OFFSET(REL_D,,MATCH($E$6,IND,0)-1),REL_D,$A44,OrgID,$D$3))","v":648}]
["2017/18 Q2",{"$f":"IF($D$3=\"Total (without NE)\",VLOOKUP($A45,'Total (Without NE)'!$B$1:$W$17,MATCH($B$6,'Total (Without NE)'!$B$1:$W$1,0),FALSE),SUMIFS(OFFSET(REL_D,,MATCH($B$6,IND,0)-1),REL_D,$A45,OrgID,$D$3))","v":763},{"$f":"IF($D$3=\"Total (without NE)\",VLOOKUP($A45,'Total (Without NE)'!$B$1:$W$17,MATCH($C$6,'Total (Without NE)'!$B$1:$W$1,0),FALSE),SUMIFS(OFFSET(REL_D,,MATCH($C$6,IND,0)-1),REL_D,$A45,OrgID,$D$3))","v":667},{"$f":"IF($D$3=\"Total (without NE)\",VLOOKUP($A45,'Total (Without NE)'!$B$1:$W$17,MATCH($D$6,'Total (Without NE)'!$B$1:$W$1,0),FALSE),SUMIFS(OFFSET(REL_D,,MATCH($D$6,IND,0)-1),REL_D,$A45,OrgID,$D$3))","v":656},{"$f":"IF($D$3=\"Total (without NE)\",VLOOKUP($A45,'Total (Without NE)'!$B$1:$W$17,MATCH($E$6,'Total (Without NE)'!$B$1:$W$1,0),FALSE),SUMIFS(OFFSET(REL_D,,MATCH($E$6,IND,0)-1),REL_D,$A45,OrgID,$D$3))","v":667}]
["2017/18 Q3",{"$f":"IF($D$3=\"Total (without NE)\",VLOOKUP($A46,'Total (Without NE)'!$B$1:$W$17,MATCH($B$6,'Total (Without NE)'!$B$1:$W$1,0),FALSE),SUMIFS(OFFSET(REL_D,,MATCH($B$6,IND,0)-1),REL_D,$A46,OrgID,$D$3))","v":714},{"$f":"IF($D$3=\"Total (without NE)\",VLOOKUP($A46,'Total (Without NE)'!$B$1:$W$17,MATCH($C$6,'Total (Without NE)'!$B$1:$W$1,0),FALSE),SUMIFS(OFFSET(REL_D,,MATCH($C$6,IND,0)-1),REL_D,$A46,OrgID,$D$3))","v":618},{"$f":"IF($D$3=\"Total (without NE)\",VLOOKUP($A46,'Total (Without NE)'!$B$1:$W$17,MATCH($D$6,'Total (Without NE)'!$B$1:$W$1,0),FALSE),SUMIFS(OFFSET(REL_D,,MATCH($D$6,IND,0)-1),REL_D,$A46,OrgID,$D$3))","v":613},{"$f":"IF($D$3=\"Total (without NE)\",VLOOKUP($A46,'Total (Without NE)'!$B$1:$W$17,MATCH($E$6,'Total (Without NE)'!$B$1:$W$1,0),FALSE),SUMIFS(OFFSET(REL_D,,MATCH($E$6,IND,0)-1),REL_D,$A46,OrgID,$D$3))","v":627}]
["2017/18 Q4",{"$f":"IF($D$3=\"Total (without NE)\",VLOOKUP($A47,'Total (Without NE)'!$B$1:$W$17,MATCH($B$6,'Total (Without NE)'!$B$1:$W$1,0),FALSE),SUMIFS(OFFSET(REL_D,,MATCH($B$6,IND,0)-1),REL_D,$A47,OrgID,$D$3))","v":711},{"$f":"IF($D$3=\"Total (without NE)\",VLOOKUP($A47,'Total (Without NE)'!$B$1:$W$17,MATCH($C$6,'Total (Without NE)'!$B$1:$W$1,0),FALSE),SUMIFS(OFFSET(REL_D,,MATCH($C$6,IND,0)-1),REL_D,$A47,OrgID,$D$3))","v":628},{"$f":"IF($D$3=\"Total (without NE)\",VLOOKUP($A47,'Total (Without NE)'!$B$1:$W$17,MATCH($D$6,'Total (Without NE)'!$B$1:$W$1,0),FALSE),SUMIFS(OFFSET(REL_D,,MATCH($D$6,IND,0)-1),REL_D,$A47,OrgID,$D$3))","v":629},{"$f":"IF($D$3=\"Total (without NE)\",VLOOKUP($A47,'Total (Without NE)'!$B$1:$W$17,MATCH($E$6,'Total (Without NE)'!$B$1:$W$1,0),FALSE),SUMIFS(OFFSET(REL_D,,MATCH($E$6,IND,0)-1),REL_D,$A47,OrgID,$D$3))","v":645}]
["2018-06-01",{"$f":"IF($D$3=\"Total (without NE)\",VLOOKUP($A48,'Total (Without NE)'!$B$1:$W$17,MATCH($B$6,'Total (Without NE)'!$B$1:$W$1,0),FALSE),SUMIFS(OFFSET(REL_D,,MATCH($B$6,IND,0)-1),REL_D,$A48,OrgID,$D$3))","v":700},{"$f":"IF($D$3=\"Total (without NE)\",VLOOKUP($A48,'Total (Without NE)'!$B$1:$W$17,MATCH($C$6,'Total (Without NE)'!$B$1:$W$1,0),FALSE),SUMIFS(OFFSET(REL_D,,MATCH($C$6,IND,0)-1),REL_D,$A48,OrgID,$D$3))","v":608},{"$f":"IF($D$3=\"Total (without NE)\",VLOOKUP($A48,'Total (Without NE)'!$B$1:$W$17,MATCH($D$6,'Total (Without NE)'!$B$1:$W$1,0),FALSE),SUMIFS(OFFSET(REL_D,,MATCH($D$6,IND,0)-1),REL_D,$A48,OrgID,$D$3))","v":596},{"$f":"IF($D$3=\"Total (without NE)\",VLOOKUP($A48,'Total (Without NE)'!$B$1:$W$17,MATCH($E$6,'Total (Without NE)'!$B$1:$W$1,0),FALSE),SUMIFS(OFFSET(REL_D,,MATCH($E$6,IND,0)-1),REL_D,$A48,OrgID,$D$3))","v":618}]
["2018-09-01",{"$f":"IF($D$3=\"Total (without NE)\",VLOOKUP($A49,'Total (Without NE)'!$B$1:$W$17,MATCH($B$6,'Total (Without NE)'!$B$1:$W$1,0),FALSE),SUMIFS(OFFSET(REL_D,,MATCH($B$6,IND,0)-1),REL_D,$A49,OrgID,$D$3))","v":695},{"$f":"IF($D$3=\"Total (without NE)\",VLOOKUP($A49,'Total (Without NE)'!$B$1:$W$17,MATCH($C$6,'Total (Without NE)'!$B$1:$W$1,0),FALSE),SUMIFS(OFFSET(REL_D,,MATCH($C$6,IND,0)-1),REL_D,$A49,OrgID,$D$3))","v":595},{"$f":"IF($D$3=\"Total (without NE)\",VLOOKUP($A49,'Total (Without NE)'!$B$1:$W$17,MATCH($D$6,'Total (Without NE)'!$B$1:$W$1,0),FALSE),SUMIFS(OFFSET(REL_D,,MATCH($D$6,IND,0)-1),REL_D,$A49,OrgID,$D$3))","v":600},{"$f":"IF($D$3=\"Total (without NE)\",VLOOKUP($A49,'Total (Without NE)'!$B$1:$W$17,MATCH($E$6,'Total (Without NE)'!$B$1:$W$1,0),FALSE),SUMIFS(OFFSET(REL_D,,MATCH($E$6,IND,0)-1),REL_D,$A49,OrgID,$D$3))","v":606}]
["2018-12-01",{"$f":"IF($D$3=\"Total (without NE)\",VLOOKUP($A50,'Total (Without NE)'!$B$1:$W$17,MATCH($B$6,'Total (Without NE)'!$B$1:$W$1,0),FALSE),SUMIFS(OFFSET(REL_D,,MATCH($B$6,IND,0)-1),REL_D,$A50,OrgID,$D$3))","v":685},{"$f":"IF($D$3=\"Total (without NE)\",VLOOKUP($A50,'Total (Without NE)'!$B$1:$W$17,MATCH($C$6,'Total (Without NE)'!$B$1:$W$1,0),FALSE),SUMIFS(OFFSET(REL_D,,MATCH($C$6,IND,0)-1),REL_D,$A50,OrgID,$D$3))","v":586},{"$f":"IF($D$3=\"Total (without NE)\",VLOOKUP($A50,'Total (Without NE)'!$B$1:$W$17,MATCH($D$6,'Total (Without NE)'!$B$1:$W$1,0),FALSE),SUMIFS(OFFSET(REL_D,,MATCH($D$6,IND,0)-1),REL_D,$A50,OrgID,$D$3))","v":584},{"$f":"IF($D$3=\"Total (without NE)\",VLOOKUP($A50,'Total (Without NE)'!$B$1:$W$17,MATCH($E$6,'Total (Without NE)'!$B$1:$W$1,0),FALSE),SUMIFS(OFFSET(REL_D,,MATCH($E$6,IND,0)-1),REL_D,$A50,OrgID,$D$3))","v":596}]
["2019-03-01",{"$f":"IF($D$3=\"Total (without NE)\",VLOOKUP($A51,'Total (Without NE)'!$B$1:$W$17,MATCH($B$6,'Total (Without NE)'!$B$1:$W$1,0),FALSE),SUMIFS(OFFSET(REL_D,,MATCH($B$6,IND,0)-1),REL_D,$A51,OrgID,$D$3))","v":675},{"$f":"IF($D$3=\"Total (without NE)\",VLOOKUP($A51,'Total (Without NE)'!$B$1:$W$17,MATCH($C$6,'Total (Without NE)'!$B$1:$W$1,0),FALSE),SUMIFS(OFFSET(REL_D,,MATCH($C$6,IND,0)-1),REL_D,$A51,OrgID,$D$3))","v":582},{"$f":"IF($D$3=\"Total (without NE)\",VLOOKUP($A51,'Total (Without NE)'!$B$1:$W$17,MATCH($D$6,'Total (Without NE)'!$B$1:$W$1,0),FALSE),SUMIFS(OFFSET(REL_D,,MATCH($D$6,IND,0)-1),REL_D,$A51,OrgID,$D$3))","v":581},{"$f":"IF($D$3=\"Total (without NE)\",VLOOKUP($A51,'Total (Without NE)'!$B$1:$W$17,MATCH($E$6,'Total (Without NE)'!$B$1:$W$1,0),FALSE),SUMIFS(OFFSET(REL_D,,MATCH($E$6,IND,0)-1),REL_D,$A51,OrgID,$D$3))","v":589}]
["2019-06-01",{"$f":"IF($D$3=\"Total (without NE)\",VLOOKUP($A52,'Total (Without NE)'!$B$1:$W$20,MATCH($B$6,'Total (Without NE)'!$B$1:$W$1,0),FALSE),SUMIFS(OFFSET(REL_D,,MATCH($B$6,IND,0)-1),REL_D,$A52,OrgID,$D$3))","v":710},{"$f":"IF($D$3=\"Total (without NE)\",VLOOKUP($A52,'Total (Without NE)'!$B$1:$W$20,MATCH($C$6,'Total (Without NE)'!$B$1:$W$1,0),FALSE),SUMIFS(OFFSET(REL_D,,MATCH($C$6,IND,0)-1),REL_D,$A52,OrgID,$D$3))","v":620},{"$f":"IF($D$3=\"Total (without NE)\",VLOOKUP($A52,'Total (Without NE)'!$B$1:$W$20,MATCH($D$6,'Total (Without NE)'!$B$1:$W$1,0),FALSE),SUMIFS(OFFSET(REL_D,,MATCH($D$6,IND,0)-1),REL_D,$A52,OrgID,$D$3))","v":613},{"$f":"IF($D$3=\"Total (without NE)\",VLOOKUP($A52,'Total (Without NE)'!$B$1:$W$20,MATCH($E$6,'Total (Without NE)'!$B$1:$W$1,0),FALSE),SUMIFS(OFFSET(REL_D,,MATCH($E$6,IND,0)-1),REL_D,$A52,OrgID,$D$3))","v":623}]
["2019-09-01",{"$f":"IF($D$3=\"Total (without NE)\",VLOOKUP($A53,'Total (Without NE)'!$B$1:$W$19,MATCH($B$6,'Total (Without NE)'!$B$1:$W$1,0),FALSE),SUMIFS(OFFSET(REL_D,,MATCH($B$6,IND,0)-1),REL_D,$A53,OrgID,$D$3))","v":712},{"$f":"IF($D$3=\"Total (without NE)\",VLOOKUP($A53,'Total (Without NE)'!$B$1:$W$19,MATCH($C$6,'Total (Without NE)'!$B$1:$W$1,0),FALSE),SUMIFS(OFFSET(REL_D,,MATCH($C$6,IND,0)-1),REL_D,$A53,OrgID,$D$3))","v":631},{"$f":"IF($D$3=\"Total (without NE)\",VLOOKUP($A53,'Total (Without NE)'!$B$1:$W$19,MATCH($D$6,'Total (Without NE)'!$B$1:$W$1,0),FALSE),SUMIFS(OFFSET(REL_D,,MATCH($D$6,IND,0)-1),REL_D,$A53,OrgID,$D$3))","v":630},{"$f":"IF($D$3=\"Total (without NE)\",VLOOKUP($A53,'Total (Without NE)'!$B$1:$W$19,MATCH($E$6,'Total (Without NE)'!$B$1:$W$1,0),FALSE),SUMIFS(OFFSET(REL_D,,MATCH($E$6,IND,0)-1),REL_D,$A53,OrgID,$D$3))","v":643}]
["2019-12-01",{"$f":"IF($D$3=\"Total (without NE)\",VLOOKUP($A54,'Total (Without NE)'!$B$1:$W$21,MATCH($B$6,'Total (Without NE)'!$B$1:$W$1,0),FALSE),SUMIFS(OFFSET(REL_D,,MATCH($B$6,IND,0)-1),REL_D,$A54,OrgID,$D$3))","v":733},{"$f":"IF($D$3=\"Total (without NE)\",VLOOKUP($A54,'Total (Without NE)'!$B$1:$W$21,MATCH($C$6,'Total (Without NE)'!$B$1:$W$1,0),FALSE),SUMIFS(OFFSET(REL_D,,MATCH($C$6,IND,0)-1),REL_D,$A54,OrgID,$D$3))","v":638},{"$f":"IF($D$3=\"Total (without NE)\",VLOOKUP($A54,'Total (Without NE)'!$B$1:$W$21,MATCH($D$6,'Total (Without NE)'!$B$1:$W$1,0),FALSE),SUMIFS(OFFSET(REL_D,,MATCH($D$6,IND,0)-1),REL_D,$A54,OrgID,$D$3))","v":630},{"$f":"IF($D$3=\"Total (without NE)\",VLOOKUP($A54,'Total (Without NE)'!$B$1:$W$21,MATCH($E$6,'Total (Without NE)'!$B$1:$W$1,0),FALSE),SUMIFS(OFFSET(REL_D,,MATCH($E$6,IND,0)-1),REL_D,$A54,OrgID,$D$3))","v":648}]
["2020-03-01",{"$f":"IF($D$3=\"Total (without NE)\",VLOOKUP($A55,'Total (Without NE)'!$B$1:$W$21,MATCH($B$6,'Total (Without NE)'!$B$1:$W$1,0),FALSE),SUMIFS(OFFSET(REL_D,,MATCH($B$6,IND,0)-1),REL_D,$A55,OrgID,$D$3))","v":662},{"$f":"IF($D$3=\"Total (without NE)\",VLOOKUP($A55,'Total (Without NE)'!$B$1:$W$21,MATCH($C$6,'Total (Without NE)'!$B$1:$W$1,0),FALSE),SUMIFS(OFFSET(REL_D,,MATCH($C$6,IND,0)-1),REL_D,$A55,OrgID,$D$3))","v":580},{"$f":"IF($D$3=\"Total (without NE)\",VLOOKUP($A55,'Total (Without NE)'!$B$1:$W$21,MATCH($D$6,'Total (Without NE)'!$B$1:$W$1,0),FALSE),SUMIFS(OFFSET(REL_D,,MATCH($D$6,IND,0)-1),REL_D,$A55,OrgID,$D$3))","v":584},{"$f":"IF($D$3=\"Total (without NE)\",VLOOKUP($A55,'Total (Without NE)'!$B$1:$W$21,MATCH($E$6,'Total (Without NE)'!$B$1:$W$1,0),FALSE),SUMIFS(OFFSET(REL_D,,MATCH($E$6,IND,0)-1),REL_D,$A55,OrgID,$D$3))","v":588}]
["2020-06-01",{"$f":"_xlfn.SINGLE(IF($D$3=\"Total (without NE)\",VLOOKUP($A56,'Total (Without NE)'!$B$1:$W$22,MATCH($B$6,'Total (Without NE)'!$B$1:$W$1,0),FALSE),SUMIFS(OFFSET(REL_D,,MATCH($B$6,IND,0)-1),REL_D,$A56,OrgID,$D$3)))","v":673},{"$f":"_xlfn.SINGLE(IF($D$3=\"Total (without NE)\",VLOOKUP($A56,'Total (Without NE)'!$B$1:$W$22,MATCH($C$6,'Total (Without NE)'!$B$1:$W$1,0),FALSE),SUMIFS(OFFSET(REL_D,,MATCH($C$6,IND,0)-1),REL_D,$A56,OrgID,$D$3)))","v":586},{"$f":"_xlfn.SINGLE(IF($D$3=\"Total (without NE)\",VLOOKUP($A56,'Total (Without NE)'!$B$1:$W$22,MATCH($D$6,'Total (Without NE)'!$B$1:$W$1,0),FALSE),SUMIFS(OFFSET(REL_D,,MATCH($D$6,IND,0)-1),REL_D,$A56,OrgID,$D$3)))","v":585},{"$f":"_xlfn.SINGLE(IF($D$3=\"Total (without NE)\",VLOOKUP($A56,'Total (Without NE)'!$B$1:$W$22,MATCH($E$6,'Total (Without NE)'!$B$1:$W$1,0),FALSE),SUMIFS(OFFSET(REL_D,,MATCH($E$6,IND,0)-1),REL_D,$A56,OrgID,$D$3)))","v":594}]
["2020-09-01",{"$f":"_xlfn.SINGLE(IF($D$3=\"Total (without NE)\",VLOOKUP($A57,'Total (Without NE)'!$B$1:$W$23,MATCH($B$6,'Total (Without NE)'!$B$1:$W$1,0),FALSE),SUMIFS(OFFSET(REL_D,,MATCH($B$6,IND,0)-1),REL_D,$A57,OrgID,$D$3)))","v":682},{"$f":"_xlfn.SINGLE(IF($D$3=\"Total (without NE)\",VLOOKUP($A57,'Total (Without NE)'!$B$1:$W$23,MATCH($C$6,'Total (Without NE)'!$B$1:$W$1,0),FALSE),SUMIFS(OFFSET(REL_D,,MATCH($C$6,IND,0)-1),REL_D,$A57,OrgID,$D$3)))","v":589},{"$f":"_xlfn.SINGLE(IF($D$3=\"Total (without NE)\",VLOOKUP($A57,'Total (Without NE)'!$B$1:$W$23,MATCH($D$6,'Total (Without NE)'!$B$1:$W$1,0),FALSE),SUMIFS(OFFSET(REL_D,,MATCH($D$6,IND,0)-1),REL_D,$A57,OrgID,$D$3)))","v":585},{"$f":"_xlfn.SINGLE(IF($D$3=\"Total (without NE)\",VLOOKUP($A57,'Total (Without NE)'!$B$1:$W$23,MATCH($E$6,'Total (Without NE)'!$B$1:$W$1,0),FALSE),SUMIFS(OFFSET(REL_D,,MATCH($E$6,IND,0)-1),REL_D,$A57,OrgID,$D$3)))","v":586}]
["2020-12-01",{"$f":"_xlfn.SINGLE(IF($D$3=\"Total (without NE)\",VLOOKUP($A58,'Total (Without NE)'!$B$1:$W$24,MATCH($B$6,'Total (Without NE)'!$B$1:$W$1,0),FALSE),SUMIFS(OFFSET(REL_D,,MATCH($B$6,IND,0)-1),REL_D,$A58,OrgID,$D$3)))","v":634},{"$f":"_xlfn.SINGLE(IF($D$3=\"Total (without NE)\",VLOOKUP($A58,'Total (Without NE)'!$B$1:$W$24,MATCH($C$6,'Total (Without NE)'!$B$1:$W$1,0),FALSE),SUMIFS(OFFSET(REL_D,,MATCH($C$6,IND,0)-1),REL_D,$A58,OrgID,$D$3)))","v":529},{"$f":"_xlfn.SINGLE(IF($D$3=\"Total (without NE)\",VLOOKUP($A58,'Total (Without NE)'!$B$1:$W$24,MATCH($D$6,'Total (Without NE)'!$B$1:$W$1,0),FALSE),SUMIFS(OFFSET(REL_D,,MATCH($D$6,IND,0)-1),REL_D,$A58,OrgID,$D$3)))","v":524},{"$f":"_xlfn.SINGLE(IF($D$3=\"Total (without NE)\",VLOOKUP($A58,'Total (Without NE)'!$B$1:$W$24,MATCH($E$6,'Total (Without NE)'!$B$1:$W$1,0),FALSE),SUMIFS(OFFSET(REL_D,,MATCH($E$6,IND,0)-1),REL_D,$A58,OrgID,$D$3)))","v":511}]
["2021-03-01",{"$f":"_xlfn.SINGLE(IF($D$3=\"Total (without NE)\",VLOOKUP($A59,'Total (Without NE)'!$B$1:$W$30,MATCH($B$6,'Total (Without NE)'!$B$1:$W$1,0),FALSE),SUMIFS(OFFSET(REL_D,,MATCH($B$6,IND,0)-1),REL_D,$A59,OrgID,$D$3)))","v":600},{"$f":"_xlfn.SINGLE(IF($D$3=\"Total (without NE)\",VLOOKUP($A59,'Total (Without NE)'!$B$1:$W$30,MATCH($C$6,'Total (Without NE)'!$B$1:$W$1,0),FALSE),SUMIFS(OFFSET(REL_D,,MATCH($C$6,IND,0)-1),REL_D,$A59,OrgID,$D$3)))","v":505},{"$f":"_xlfn.SINGLE(IF($D$3=\"Total (without NE)\",VLOOKUP($A59,'Total (Without NE)'!$B$1:$W$30,MATCH($D$6,'Total (Without NE)'!$B$1:$W$1,0),FALSE),SUMIFS(OFFSET(REL_D,,MATCH($D$6,IND,0)-1),REL_D,$A59,OrgID,$D$3)))","v":503},{"$f":"_xlfn.SINGLE(IF($D$3=\"Total (without NE)\",VLOOKUP($A59,'Total (Without NE)'!$B$1:$W$30,MATCH($E$6,'Total (Without NE)'!$B$1:$W$1,0),FALSE),SUMIFS(OFFSET(REL_D,,MATCH($E$6,IND,0)-1),REL_D,$A59,OrgID,$D$3)))","v":531}]
["2021-06-01",{"$f":"_xlfn.SINGLE(IF($D$3=\"Total (without NE)\",VLOOKUP($A60,'Total (Without NE)'!$B$1:$W$30,MATCH($B$6,'Total (Without NE)'!$B$1:$W$1,0),FALSE),SUMIFS(OFFSET(REL_D,,MATCH($B$6,IND,0)-1),REL_D,$A60,OrgID,$D$3)))","v":637},{"$f":"_xlfn.SINGLE(IF($D$3=\"Total (without NE)\",VLOOKUP($A60,'Total (Without NE)'!$B$1:$W$30,MATCH($C$6,'Total (Without NE)'!$B$1:$W$1,0),FALSE),SUMIFS(OFFSET(REL_D,,MATCH($C$6,IND,0)-1),REL_D,$A60,OrgID,$D$3)))","v":540},{"$f":"_xlfn.SINGLE(IF($D$3=\"Total (without NE)\",VLOOKUP($A60,'Total (Without NE)'!$B$1:$W$30,MATCH($D$6,'Total (Without NE)'!$B$1:$W$1,0),FALSE),SUMIFS(OFFSET(REL_D,,MATCH($D$6,IND,0)-1),REL_D,$A60,OrgID,$D$3)))","v":536},{"$f":"_xlfn.SINGLE(IF($D$3=\"Total (without NE)\",VLOOKUP($A60,'Total (Without NE)'!$B$1:$W$30,MATCH($E$6,'Total (Without NE)'!$B$1:$W$1,0),FALSE),SUMIFS(OFFSET(REL_D,,MATCH($E$6,IND,0)-1),REL_D,$A60,OrgID,$D$3)))","v":557}]
["2021-09-01",{"$f":"_xlfn.SINGLE(IF($D$3=\"Total (without NE)\",VLOOKUP($A61,'Total (Without NE)'!$B$1:$W$30,MATCH($B$6,'Total (Without NE)'!$B$1:$W$1,0),FALSE),SUMIFS(OFFSET(REL_D,,MATCH($B$6,IND,0)-1),REL_D,$A61,OrgID,$D$3)))","v":626},{"$f":"_xlfn.SINGLE(IF($D$3=\"Total (without NE)\",VLOOKUP($A61,'Total (Without NE)'!$B$1:$W$30,MATCH($C$6,'Total (Without NE)'!$B$1:$W$1,0),FALSE),SUMIFS(OFFSET(REL_D,,MATCH($C$6,IND,0)-1),REL_D,$A61,OrgID,$D$3)))","v":516},{"$f":"_xlfn.SINGLE(IF($D$3=\"Total (without NE)\",VLOOKUP($A61,'Total (Without NE)'!$B$1:$W$30,MATCH($D$6,'Total (Without NE)'!$B$1:$W$1,0),FALSE),SUMIFS(OFFSET(REL_D,,MATCH($D$6,IND,0)-1),REL_D,$A61,OrgID,$D$3)))","v":515},{"$f":"_xlfn.SINGLE(IF($D$3=\"Total (without NE)\",VLOOKUP($A61,'Total (Without NE)'!$B$1:$W$30,MATCH($E$6,'Total (Without NE)'!$B$1:$W$1,0),FALSE),SUMIFS(OFFSET(REL_D,,MATCH($E$6,IND,0)-1),REL_D,$A61,OrgID,$D$3)))","v":543}]
["2021-12-01",{"$f":"_xlfn.SINGLE(IF($D$3=\"Total (without NE)\",VLOOKUP($A62,'Total (Without NE)'!$B$1:$W$30,MATCH($B$6,'Total (Without NE)'!$B$1:$W$1,0),FALSE),SUMIFS(OFFSET(REL_D,,MATCH($B$6,IND,0)-1),REL_D,$A62,OrgID,$D$3)))","v":585},{"$f":"_xlfn.SINGLE(IF($D$3=\"Total (without NE)\",VLOOKUP($A62,'Total (Without NE)'!$B$1:$W$30,MATCH($C$6,'Total (Without NE)'!$B$1:$W$1,0),FALSE),SUMIFS(OFFSET(REL_D,,MATCH($C$6,IND,0)-1),REL_D,$A62,OrgID,$D$3)))","v":501},{"$f":"_xlfn.SINGLE(IF($D$3=\"Total (without NE)\",VLOOKUP($A62,'Total (Without NE)'!$B$1:$W$30,MATCH($D$6,'Total (Without NE)'!$B$1:$W$1,0),FALSE),SUMIFS(OFFSET(REL_D,,MATCH($D$6,IND,0)-1),REL_D,$A62,OrgID,$D$3)))","v":499},{"$f":"_xlfn.SINGLE(IF($D$3=\"Total (without NE)\",VLOOKUP($A62,'Total (Without NE)'!$B$1:$W$30,MATCH($E$6,'Total (Without NE)'!$B$1:$W$1,0),FALSE),SUMIFS(OFFSET(REL_D,,MATCH($E$6,IND,0)-1),REL_D,$A62,OrgID,$D$3)))","v":519}]
["2022-03-01",{"$f":"_xlfn.SINGLE(IF($D$3=\"Total (without NE)\",VLOOKUP($A63,'Total (Without NE)'!$B$1:$W$30,MATCH($B$6,'Total (Without NE)'!$B$1:$W$1,0),FALSE),SUMIFS(OFFSET(REL_D,,MATCH($B$6,IND,0)-1),REL_D,$A63,OrgID,$D$3)))","v":609},{"$f":"_xlfn.SINGLE(IF($D$3=\"Total (without NE)\",VLOOKUP($A63,'Total (Without NE)'!$B$1:$W$30,MATCH($C$6,'Total (Without NE)'!$B$1:$W$1,0),FALSE),SUMIFS(OFFSET(REL_D,,MATCH($C$6,IND,0)-1),REL_D,$A63,OrgID,$D$3)))","v":507},{"$f":"_xlfn.SINGLE(IF($D$3=\"Total (without NE)\",VLOOKUP($A63,'Total (Without NE)'!$B$1:$W$30,MATCH($D$6,'Total (Without NE)'!$B$1:$W$1,0),FALSE),SUMIFS(OFFSET(REL_D,,MATCH($D$6,IND,0)-1),REL_D,$A63,OrgID,$D$3)))","v":504},{"$f":"_xlfn.SINGLE(IF($D$3=\"Total (without NE)\",VLOOKUP($A63,'Total (Without NE)'!$B$1:$W$30,MATCH($E$6,'Total (Without NE)'!$B$1:$W$1,0),FALSE),SUMIFS(OFFSET(REL_D,,MATCH($E$6,IND,0)-1),REL_D,$A63,OrgID,$D$3)))","v":532}]

{"sheet":"Rows","index":6,"n_rows":0,"n_cols":0,"rows_kept":0,"cut":false,"hidden":true,"merged":[]}

{"sheet":"Control Panel","index":7,"n_rows":99,"n_cols":16,"rows_kept":99,"cut":false,"hidden":true,"merged":[[65,12,69,12],[35,12,35,13],[46,12,46,13],[58,12,58,13],[26,12,29,12],[30,12,34,12],[36,12,38,12],[39,12,45,12],[47,12,51,12],[52,12,57,12],[59,12,64,12]]}
["2018-11-30","Q4",null,null,"Search Title","Report Title"]
[null,null,null,null,"All Patients","Listsize ",null,null,"April 2021","2021-04-01","Q1: April 2017 - June 2017",null,null,"OrgID",10,{"$f":"$O$6&ADDRESS(1,O2)&\":\"&ADDRESS($O$7,O2)","v":"'Data'!$J$1:$J$3000"}]
[1,"NW1","Woodberry Wetlands (NW1)",null,"(01) 12 MONTH COHORT","Patients becoming 12m within Q1",null,null,"May 2021","2021-05-01","Q1: April 2017 - June 2017",null,null,"REL_D",1,{"$f":"$O$6&ADDRESS(1,O3)&\":\"&ADDRESS($O$7,O3)","v":"'Data'!$A$1:$A$3000"}]
[2,"NW2","Clissold Park (NW2)",null,"(01.01) DTaP/IPV/Hib","DTaP/IPV/Hib/HepB",null,null,"June 2021","2021-06-01","Q1: April 2017 - June 2017",null,null,"IND"," -",{"$f":"$O$6&ADDRESS(O11,1)&\":\"&ADDRESS(O11,O8)","v":"'Data'!$A$1:$AD$1"}]
[3,"NE1","Springfield Park (NE1)",null,"DTaP/IPV/Hib(%)","DTaP/IPV/Hib/HepB(%)",null,null,"July 2021","2021-07-01","Q2: July 2017 - September 2017",null,null,"NwID",2,{"$f":"$O$6&ADDRESS(1,O5)&\":\"&ADDRESS($O$7,O5)","v":"'Data'!$B$1:$B$3000"}]
[4,"NE2","Hackney Downs (NE2)",null,"Patients required to achieve NHSE Target (90%)","Patients required to achieve NHSE Target (90%)",null,null,"August 2021","2021-08-01","Q2: July 2017 - September 2017",null,null,"Data",{"$f":"IF(O9=\"N\",\"BLANK!\",\"'\"&O10&\"'!\")","v":"'Data'!"}]
[5,"SE1","Hackney Marshes (SE1)",null,"Patients required to achieve CCG Target (95%)","Patients required to achieve CCG Target (95%)",null,null,"September 2021","2021-09-01","Q2: July 2017 - September 2017",null,null,"Rows",3000]
[6,"SE2","Well Street Common (SE2)",null,"(01.02) Men B (1st and 2nd)","Men C / Men B",null,null,"October 2021","2021-10-01","Q3: October 2017 - December 2017",null,null,"Columns",30]
[7,"SW1","London Fields (SW1)",null,"Men B(%)","Men C / Men B(%)",null,null,"November 2021","2021-11-01","Q3: October 2017 - December 2017",null,null,"Data (Y/N)","Y"]
[8,"SW2","Shoreditch Park & City (SW2)",null,"Patients required to achieve NHSE Target (90%)","Patients required to achieve NHSE Target (90%)",null,null,"December 2021","2021-12-01","Q3: October 2017 - December 2017",null,null,"Q Work Sheet","Data",{"$f":"$O$6&ADDRESS(1,1)&\":\"&ADDRESS(O7,O8)","v":"'Data'!$A$1:$AD$3000"}]
[9,"City",null,null,"Patients required to achieve CCG Target (95%)","Patients required to achieve CCG Target (95%)",null,null,"January 2022","2022-01-01","Q4: January 2018 - March 2018",null,null,"Header Row",1]
[null,"City and Hackney (Without NE)","Total (without NE)",null,"(01.03) PCV","PCV",null,null,"February 2022","2022-02-01","Q4: January 2018 - March 2018",null,null,"Header Row 2",3]
[null,"City and Hackney","Total",null,"PCV(%)","PCV(%)",null,null,"March 2022","2022-03-01","Q4: January 2018 - March 2018"]
["NW1","Allerton Road Surgery","F84716",null,"Patients required to achieve NHSE Target (90%)","Patients required to achieve NHSE Target (90%)"]
["NW1","Cedar Practice ","F84036",null,"Patients required to achieve CCG Target (95%)","Patients required to achieve CCG Target (95%)"]
["NW1","Heron Practice","F84119",null,"(01.04) Rotavirus","Rotavirus"]
["NW1","Statham Grove Surgery","F84115",null,"Rotavirus(%)","Rotavirus(%)"]
["NW2","Barretts Grove Surgery","F84636",null,"Patients required to achieve NHSE Target (90%)","Patients required to achieve NHSE Target (90%)"]
["NW2","Barton House Health Centre","F84008",null,"Patients required to achieve CCG Target (95%)","Patients required to achieve CCG Target (95%)"]
["NW2","Brooke Road Surgery","F84694",null,"(01.05) BCG","BCG"]
["NW2","Somerford Grove Health Centre","F84033",null,"BCG(%)","BCG(%)"]
["NE1","Cranwich Road Surgery ","F84686",null,"Patients required to achieve NHSE Target (90%)","Patients required to achieve NHSE Target (90%)"]
["NE1","Spring Hill Practice","Y03049",null,"Patients required to achieve CCG Target (95%)","Patients required to achieve CCG Target (95%)"]
["NE1","Stamford Hill Group Practice","F84013"]
["NE2","Clapton Surgery","F84668",null,"All Patients","Listsize ",null,null,"Neighbourhood","2020-04-01","Practice",null,"Neighbourhood","Practice",null,"2015/16 Q1"]
["NE2","Elm Practice","F84685",null,"(02) 24 MONTH COHORT","Patients becoming 24m within Q1",null,null,null,null,null,null,"NORTH WEST",null,null,"2015/16 Q2"]
["NE2","Gadvhi Practice","F84080",null,"(02.01) DTaP/IPV/Hib","DTaP/IPV/Hib",null,null,"F84716","NW1","Allerton Road Surgery",null,"NW1","Allerton Road Surgery",null,"2015/16 Q3"]
["NE2","Healy Medical Centre","F84720",null,"DTaP/IPV/Hib(%)","DTaP/IPV/Hib(%)",null,null,"F84036","NW1","Cedar Practice ",null,null,"Cedar Practice ",null,"2015/16 Q4"]
["NE2","Nightingale Practice","F84018",null,"(02.02) MMR","MMR",null,null,"F84119","NW1","Heron Practice",null,null,"Heron Practice",null,"2016/17 Q1"]
["NE2","Riverside Practice","F84619",null,"MMR(%)","MMR(%)",null,null,"F84115","NW1","Statham Grove Surgery",null,null,"Statham Grove Surgery",null,"2016/17 Q2"]
["NE2","Rosewood Practice","F84711",null,"Patients required to achieve NHSE Target (90%)","Patients required to achieve NHSE Target (90%)",null,null,"F84624","NW2","Abney House Medical Centre",null,"NW2","Abney House Medical Centre",null,"2016/17 Q3"]
["SE1","Athena Medical Centre","F84060",null,"Patients required to achieve CCG Target (95%)","Patients required to achieve CCG Target (95%)",null,null,"F84636","NW2","Barretts Grove Surgery",null,null,"Barretts Grove Surgery",null,"2016/17 Q4"]
["SE1","Latimer Health Centre","F84719",null,"(02.03) HiB/Men C","HiB/Men C",null,null,"F84008","NW2","Barton House Health Centre",null,null,"Barton House Health Centre",null,"2017/18 Q1"]
["SE1","Lea Surgery","F84105",null,"HiB/Men C (%)","HiB/Men C (%)",null,null,"F84694","NW2","Brooke Road Surgery",null,null,"Brooke Road Surgery",null,"2017/18 Q2"]
["SE1","Lower Clapton Health Centre","F84003",null,"Patients required to achieve NHSE Target (90%)","Patients required to achieve NHSE Target (90%)",null,null,"F84033","NW2","Somerford Grove Health Centre",null,null,"Somerford Grove Health Centre",null,"2017/18 Q3"]
["SE1","Kingsmead Healthcare","F84015",null,"Patients required to achieve CCG Target (95%)","Patients required to achieve CCG Target (95%)",null,null,"F84686","NE1","Cranwich Road Surgery ",null,"NORTH EAST",null,null,"2017/18 Q4"]
["SE2","Elsdale Street Surgery ","F84601",null,"(02.04) PCV (Booster)","PCV (Booster)",null,null,"Y03049","NE1","Springfield Tollgate Practice",null,"NE1","Cranwich Road Surgery ",null,"2018/19 Q1"]
["SE2","Greenhouse Health Centre","F84632",null,"PCV (Booster)(%)","PCV (Booster)(%)",null,null,"F84013","NE1","Stamford Hill Group Practice",null,null,"Springfield Tollgate Practice",null,"2018/19 Q2"]
["SE2","Trowbridge Practice","Y00403",null,"Patients required to achieve NHSE Target (90%)","Patients required to achieve NHSE Target (90%)",null,null,"F84668","NE2","Clapton Surgery",null,null,"Stamford Hill Group Practice",null,"2018/19 Q3"]
["SE2","Well Street Surgery","F84069",null,"Patients required to achieve CCG Target (95%)","Patients required to achieve CCG Target (95%)",null,null,"F84685","NE2","Elm Practice",null,"NE2","Clapton Surgery",null,"2018/19 Q4"]
["SE2","Wick Health Centre","F84620",null,"(02.05) Men B (Booster)","Men B (Booster)",null,null,"F84080","NE2","Gadvhi Practice",null,null,"Elm Practice"]
["SW1","Beechwood Medical Centre","F84038",null,"Men B (Booster)(%)","Men B (Booster)(%)",null,null,"F84720","NE2","Healy Medical Centre",null,null,"Gadvhi Practice"]
["SW1","Dalston Practice","F84063",null,null,null,null,null,"F84018","NE2","Nightingale Practice",null,null,"Healy Medical Centre"]
["SW1","London Fields Medical Centre","F84021",null,"All Patients","Listsize ",null,null,"F84619","NE2","Riverside Practice",null,null,"Nightingale Practice"]
["SW1","Queensbridge Group Practice","F84117",null,"(03) 5 YEAR COHORT","Patients becoming 5y within Q1",null,null,"F84711","NE2","Rosewood Practice",null,null,"Riverside Practice"]
["SW1","Richmond Road Medical Center","F84035",null,"(03.01) DTaP/IPV/Hib","DTaP/IPV/Hib",null,null,"F84060","SE1","Athena Medical Centre",null,null,"Rosewood Practice"]
["SW1","Sandringham Road Practice","F84621",null,"DTaP/IPV/Hib(%)","DTaP/IPV/Hib(%)",null,null,"F84719","SE1","Latimer Health Centre",null,"SOUTH EAST"]
["SW2","De Beauvoir Surgery","F84072",null,"(03.02) MMR (Primary)","MMR (Primary)",null,null,"F84105","SE1","Lea Surgery",null,"SE1","Athena Medical Centre"]
["SW2","Hoxton Surgery","F84692",null,"MMR (Primary)(%)","MMR (Primary)(%)",null,null,"F84003","SE1","Lower Clapton Health Centre",null,null,"Latimer Health Centre"]
["SW2","Lawson Practice","F84096",null,"(03.03) DTaP/IPV (Booster)","DTaP/IPV (Booster)",null,null,"F84043","SE1","Sorsby Health Centre",null,null,"Lea Surgery"]
["SW2","Shoreditch Park Surgery","F84635",null,"DTaP/IPV (Booster)(%)","DTaP/IPV (Booster)(%)",null,null,"F84601","SE2","Elsdale Street Surgery ",null,null,"Lower Clapton Health Centre"]
["SW2","Southgate Rd MC & Whiston Rd Surgery","F84041",null,"Patients required to achieve NHSE Target (90%)","Patients required to achieve NHSE Target (90%)",null,null,"F84632","SE2","Greenhouse Health Centre",null,null,"Sorsby Health Centre"]
["SW2","Neaman Practice","F84640",null,"Patients required to achieve CCG Target (95%)","Patients required to achieve CCG Target (95%)",null,null,"F84015","SE1","Kingsmead Healthcare",null,"SE2","Elsdale Street Surgery "]
[null,null,null,null,"(03.05) MMR (Booster)","MMR (Booster)",null,null,"Y00403","SE2","Trowbridge Practice",null,null,"Greenhouse Health Centre"]
[null,null,null,null,"MMR (Booster)(%)","MMR (Booster)(%)",null,null,"F84069","SE2","Well Street Surgery",null,null,"Kingsmead Healthcare"]
[null,null,null,null,"Patients required to achieve NHSE Target (90%)","Patients required to achieve NHSE Target (90%)",null,null,"F84620","SE2","Wick Health Centre",null,null,"Trowbridge Practice"]
[null,null,null,null,"Patients required to achieve CCG Target (95%)","Patients required to achieve CCG Target (95%)",null,null,"F84038","SW1","Beechwood Medical Centre",null,null,"Well Street Surgery"]
[null,null,null,null,"(03.04) HiB/Men C","HiB/Men C",null,null,"F84063","SW1","Dalston Practice",null,null,"Wick Health Centre"]
[null,null,null,null,"HiB/Men C(%)","HiB/Men C(%)",null,null,"F84021","SW1","London Fields Medical Centre",null,"SOUTH WEST AND CITY"]
[null,null,null,null,null,null,null,null,"F84117","SW1","Queensbridge Group Practice",null,"SW1","Beechwood Medical Centre"]
[null,null,null,null,null,null,null,null,"F84035","SW1","Richmond Road Medical Center",null,null,"Dalston Practice"]
[null,null,null,null,null,null,null,null,"F84621","SW1","Sandringham Road Practice",null,null,"London Fields Medical Centre"]
[null,null,null,null,null,null,null,null,"F84072","SW2","De Beauvoir Surgery",null,null,"Queensbridge Group Practice"]
[null,null,null,null,null,null,null,null,"F84692","SW2","Hoxton Surgery",null,null,"Richmond Road Medical Centre"]
[null,null,null,null,null,null,null,null,"F84096","SW2","Lawson Practice",null,null,"Sandringham Road Practice"]
[null,null,null,null,null,null,null,null,"F84635","SW2","Shoreditch Park Surgery",null,"SW2","De Beauvoir Surgery"]
[null,null,null,null,null,null,null,null,"F84041","SW2","Southgate Rd MC & Whiston Rd Surgery",null,null,"Hoxton Surgery"]
[null,null,null,null,null,null,null,null,"F84640","City","Neaman Practice",null,null,"Lawson Practice"]
[null,null,null,null,null,null,null,null,null,null,null,null,null,"Shoreditch Park Surgery"]
[null,null,null,null,null,null,null,null,null,null,null,null,null,"Southgate Rd MC & Whiston Rd Surgery"]
[null,null,null,null,null,null,null,null,null,null,null,null,"City","Neaman Practice"]
[]
[null,null,null,null,"Patient becoming 12m","'Control Panel'!$i$73:$i$76","'Control Panel'!$k$74:$k$76",null,"Patients becoming 12m",null,"Patients becoming 12m"]
[null,null,null,null,"Patient becoming 24m","'Control Panel'!$i$78:$i$81","'Control Panel'!$k$79:$k$81",null,"DTaP/IPV/Hib",null,"DTaP/IPV/Hib %"]
[null,null,null,null,"Patient becoming 5y","'Control Panel'!$i$83:$i$85","'Control Panel'!$k$84:$k$85",null,"Men C / Men B",null,"Men C / Men B %"]
[null,null,null,null,null,null,null,null,"PCV",null,"PCV %"]
[]
[null,null,null,null,"Patient becoming 12m","'Control Panel'!$i$87:$i$90",null,null,"Patients becoming 24m",null,"Patients becoming 24m"]
[null,null,null,null,"Patient becoming 24m","'Control Panel'!$i$92:$i$95",null,null,"MMR",null,"MMR %"]
[null,null,null,null,"Patient becoming 5y","'Control Panel'!$i$97:$i$99",null,null,"HiB/Men C",null,"HiB/Men C %"]
[null,null,null,null,null,null,null,null,"PCV (Booster)",null,"PCV (Booster) %"]
[]
[null,null,null,null,null,null,null,null,"Patients becoming 5y",null,"Patients becoming 5y"]
[null,null,null,null,null,null,null,null,"DTaP/IPV (Booster)(%)",null,"DTaP/IPV (Booster)(%)"]
[null,null,null,null,null,null,null,null,"MMR (Booster)(%)",null,"MMR (Booster)(%)"]
[]
[null,null,null,null,null,null,null,null,"(01) 12 MONTH COHORT"]
[null,null,null,null,null,null,null,null,"(01.01) DTaP/IPV/Hib"]
[null,null,null,null,null,null,null,null,"(01.02) Men B (1st and 2nd)"]
[null,null,null,null,null,null,null,null,"(01.03) PCV"]
[]
[null,null,null,null,null,null,null,null,"(02) 24 MONTH COHORT"]
[null,null,null,null,null,null,null,null,"(02.02) MMR"]
[null,null,null,null,null,null,null,null,"(02.03) HiB/Men C"]
[null,null,null,null,null,null,null,null,"(02.04) PCV (Booster)"]
[]
[null,null,null,null,null,null,null,null,"(03) 5 YEAR COHORT"]
[null,null,null,null,null,null,null,null,"(03.03) DTaP/IPV (Booster)"]
[null,null,null,null,null,null,null,null,"(03.05) MMR (Booster)"]

{"sheet":"Data","index":8,"n_rows":2642,"n_cols":30,"rows_kept":2642,"cut":false,"hidden":true,"merged":[]}
["2015/16 Q1",{"$f":"VLOOKUP(J1,'Control Panel'!$I$27:$K$68,2,FALSE)","v":{"$error":"#N/A"}},{"$f":"IF(LEFT(B1,2)=\"NE\",0,1)","v":{"$error":"#N/A"}},null,"Parent Population","Author","Last Run",null,null,null,"Search","All Patients","(01) 12 MONTH COHORT","(01.01) DTaP/IPV/Hib","(01.02) Men B (1st and 2nd)","(01.03) PCV","(01.04) Rotavirus","(01.05) BCG","(02) 24 MONTH COHORT","(02.01) DTaP/IPV/Hib","(02.02) MMR","(02.03) HiB/Men C","(02.04) PCV (Booster)","(03) 5 YEAR COHORT","(03.01) DTaP/IPV/Hib","(03.02) MMR (Primary)","(03.03) DTaP/IPV (Booster)","(03.04) HiB/Men C","(03.05) MMR (Booster)","(02.05) Men B (Booster)"]
["2015/16 Q1",{"$f":"VLOOKUP(J2,'Control Panel'!$I$27:$K$68,2,FALSE)","v":"NW2"},{"$f":"IF(LEFT(B2,2)=\"NE\",0,1)","v":1},null,"Currently registered patients","DUNNE, Jack (Mr)","2015-10-02T09:46:00",null,{"$f":"IF(J2=\"Total\",0,1)","v":1},"F84624",null,2905,9,0,6,6,6,4,7,0,0,0,5,6,1,1,0,1,1]
["2015/16 Q1",{"$f":"VLOOKUP(J3,'Control Panel'!$I$27:$K$68,2,FALSE)","v":"NW1"},1,null,null,null,null,null,{"$f":"IF(J3=\"Total\",0,1)","v":1},"F84716",null,4795,23,6,12,6,8,0,25,20,19,19,20,26,17,19,13,16,13]
["2015/16 Q1",{"$f":"VLOOKUP(J4,'Control Panel'!$I$27:$K$68,2,FALSE)","v":"SE1"},1,null,null,"Date Modified","Relative Date",null,1,"F84060",null,4994,20,17,18,17,18,11,15,13,12,12,12,19,16,15,16,16,14]
["2015/16 Q1",{"$f":"VLOOKUP(J5,'Control Panel'!$I$27:$K$68,2,FALSE)","v":"NW2"},1,null,null,null,"2015-07-01",null,1,"F84636",null,3398,7,7,7,7,7,4,6,6,6,6,5,11,9,8,10,11,8]
["2015/16 Q1",{"$f":"VLOOKUP(J6,'Control Panel'!$I$27:$K$68,2,FALSE)","v":"NW2"},1,null,null,null,null,null,1,"F84008",null,12294,52,50,51,50,49,49,33,32,28,29,28,37,36,31,28,29,33]
["2015/16 Q1",{"$f":"VLOOKUP(J7,'Control Panel'!$I$27:$K$68,2,FALSE)","v":"SW1"},1,null,null,null,null,null,1,"F84038",null,3725,15,9,14,11,11,3,11,10,6,7,6,7,6,6,2,5,6]
["2015/16 Q1",{"$f":"VLOOKUP(J8,'Control Panel'!$I$27:$K$68,2,FALSE)","v":"NW2"},1,null,null,null,null,null,1,"F84694",null,2789,12,10,10,10,9,11,6,5,5,5,5,7,7,7,6,6,7]
["2015/16 Q1",{"$f":"VLOOKUP(J9,'Control Panel'!$I$27:$K$68,2,FALSE)","v":"NW1"},1,null,null,null,null,null,1,"F84036",null,6984,20,15,16,15,16,16,21,7,3,4,4,16,15,13,7,9,14]
["2015/16 Q1",{"$f":"VLOOKUP(J10,'Control Panel'!$I$27:$K$68,2,FALSE)","v":"NE2"},0,null,null,null,null,null,1,"F84668",null,6522,40,23,29,23,18,5,47,38,34,32,38,34,29,30,23,26,27]
["2015/16 Q1",{"$f":"VLOOKUP(J11,'Control Panel'!$I$27:$K$68,2,FALSE)","v":"NE1"},0,null,null,null,null,null,1,"F84686",null,6816,51,21,35,20,11,0,68,42,35,30,42,56,41,42,30,34,29]
["2015/16 Q1",{"$f":"VLOOKUP(J12,'Control Panel'!$I$27:$K$68,2,FALSE)","v":"SW2"},1,null,null,null,null,null,1,"F84072",null,8473,28,25,26,24,24,20,29,26,25,23,23,22,19,19,13,15,17]
["2015/16 Q1",{"$f":"VLOOKUP(J13,'Control Panel'!$I$27:$K$68,2,FALSE)","v":"NE2"},0,null,null,null,null,null,1,"F84080",null,4789,15,12,13,12,9,1,22,19,17,16,17,12,10,7,8,8,6]
["2015/16 Q1",{"$f":"VLOOKUP(J14,'Control Panel'!$I$27:$K$68,2,FALSE)","v":"NE2"},0,null,null,null,null,null,1,"F84685",null,3000,11,9,10,9,7,1,6,4,4,4,4,9,8,7,6,6,7]
["2015/16 Q1",{"$f":"VLOOKUP(J15,'Control Panel'!$I$27:$K$68,2,FALSE)","v":"SE2"},1,null,null,null,null,null,1,"F84601",null,5673,29,24,23,24,22,23,17,15,14,14,14,24,20,22,17,20,22]
["2015/16 Q1",{"$f":"VLOOKUP(J16,'Control Panel'!$I$27:$K$68,2,FALSE)","v":"SE2"},1,null,null,null,null,null,1,"F84632",null,846,0,0,0,0,0,0,0,0,0,0,0,0,0,0,0,0,0]
["2015/16 Q1",{"$f":"VLOOKUP(J17,'Control Panel'!$I$27:$K$68,2,FALSE)","v":"NE2"},0,null,null,null,null,null,1,"F84720",null,5270,21,15,16,15,15,11,22,21,14,15,16,21,18,17,14,15,18]
["2015/16 Q1",{"$f":"VLOOKUP(J18,'Control Panel'!$I$27:$K$68,2,FALSE)","v":"SW2"},1,null,null,null,null,null,1,"F84692",null,5830,18,16,17,16,15,16,14,13,12,12,11,16,16,16,14,14,16]
["2015/16 Q1",{"$f":"VLOOKUP(J19,'Control Panel'!$I$27:$K$68,2,FALSE)","v":"SE1"},1,null,null,null,null,null,1,"F84015",null,5373,13,8,7,8,6,9,17,14,12,12,12,18,15,15,14,14,16]
["2015/16 Q1",{"$f":"VLOOKUP(J20,'Control Panel'!$I$27:$K$68,2,FALSE)","v":"SE1"},1,null,null,null,null,null,1,"F84719",null,4497,12,12,12,12,12,12,18,18,16,17,16,14,12,12,11,13,12]
["2015/16 Q1",{"$f":"VLOOKUP(J21,'Control Panel'!$I$27:$K$68,2,FALSE)","v":"SE1"},1,null,null,null,null,null,1,"F84105",null,10564,47,43,44,43,42,43,43,41,36,37,37,34,33,32,31,32,32]
["2015/16 Q1",{"$f":"VLOOKUP(J22,'Control Panel'!$I$27:$K$68,2,FALSE)","v":"SW1"},1,null,null,null,null,null,1,"F84021",null,9777,42,41,41,41,37,35,26,23,19,20,20,31,30,28,28,28,26]
["2015/16 Q1",{"$f":"VLOOKUP(J23,'Control Panel'!$I$27:$K$68,2,FALSE)","v":"SE1"},1,null,null,null,null,null,1,"F84003",null,11956,51,47,45,48,45,43,44,35,34,33,33,39,35,33,29,31,31]
["2015/16 Q1",{"$f":"VLOOKUP(J24,'Control Panel'!$I$27:$K$68,2,FALSE)","v":"City"},1,null,null,null,null,null,1,"F84640",null,8557,18,12,13,12,13,10,24,20,21,21,21,17,14,14,13,14,15]
["2015/16 Q1",{"$f":"VLOOKUP(J25,'Control Panel'!$I$27:$K$68,2,FALSE)","v":"NE2"},0,null,null,null,null,null,1,"F84018",null,10128,39,30,33,31,31,34,44,39,33,33,33,40,33,33,21,26,32]
["2015/16 Q1",{"$f":"VLOOKUP(J26,'Control Panel'!$I$27:$K$68,2,FALSE)","v":"SW1"},1,null,null,null,null,null,1,"F84117",null,9377,29,27,27,27,14,22,20,18,17,18,19,27,27,27,21,22,27]
["2015/16 Q1",{"$f":"VLOOKUP(J27,'Control Panel'!$I$27:$K$68,2,FALSE)","v":"SW1"},1,null,null,null,null,null,1,"F84035",null,3719,9,7,7,7,7,6,10,7,7,7,7,6,5,6,4,6,5]
["2015/16 Q1",{"$f":"VLOOKUP(J28,'Control Panel'!$I$27:$K$68,2,FALSE)","v":"NE2"},0,null,null,null,null,null,1,"F84619",null,4067,18,17,17,17,16,7,17,15,14,14,14,11,10,10,9,9,11]
["2015/16 Q1",{"$f":"VLOOKUP(J29,'Control Panel'!$I$27:$K$68,2,FALSE)","v":"NE2"},0,null,null,null,null,null,1,"F84711",null,2183,7,6,6,6,5,2,9,9,4,5,7,3,0,0,0,2,0]
["2015/16 Q1",{"$f":"VLOOKUP(J30,'Control Panel'!$I$27:$K$68,2,FALSE)","v":"SW1"},1,null,null,null,null,null,1,"F84621",null,3949,12,10,11,10,11,8,9,9,8,9,8,11,7,8,7,9,7]
["2015/16 Q1",{"$f":"VLOOKUP(J31,'Control Panel'!$I$27:$K$68,2,FALSE)","v":"SW2"},1,null,null,null,null,null,1,"F84635",null,7606,19,17,16,17,15,18,21,20,18,18,17,20,20,20,19,20,19]
["2015/16 Q1",{"$f":"VLOOKUP(J32,'Control Panel'!$I$27:$K$68,2,FALSE)","v":"NW2"},1,null,null,null,null,null,1,"F84033",null,12152,43,42,43,42,40,42,32,31,30,30,30,28,28,28,27,28,27]
["2015/16 Q1",{"$f":"VLOOKUP(J33,'Control Panel'!$I$27:$K$68,2,FALSE)","v":"SE1"},1,null,null,null,null,null,1,"F84043",null,4637,16,13,13,13,11,8,16,14,12,12,12,19,16,12,16,17,10]
["2015/16 Q1",{"$f":"VLOOKUP(J34,'Control Panel'!$I$27:$K$68,2,FALSE)","v":"SW2"},1,null,null,null,null,null,1,"F84041",null,7219,16,8,9,8,9,5,22,22,15,15,15,9,8,8,7,8,8]
["2015/16 Q1",{"$f":"VLOOKUP(J35,'Control Panel'!$I$27:$K$68,2,FALSE)","v":"NE1"},0,null,null,null,null,null,1,"Y03049",null,7157,50,35,39,35,24,23,52,44,39,36,42,31,26,27,22,23,20]
["2015/16 Q1",{"$f":"VLOOKUP(J36,'Control Panel'!$I$27:$K$68,2,FALSE)","v":"NE1"},0,null,null,null,null,null,1,"F84013",null,13727,89,48,60,47,33,25,97,75,76,61,73,97,90,90,73,70,56]
["2015/16 Q1",{"$f":"VLOOKUP(J37,'Control Panel'!$I$27:$K$68,2,FALSE)","v":"NW1"},1,null,null,null,null,null,1,"F84115",null,8150,22,17,18,17,15,16,27,26,23,23,23,22,22,22,19,19,22]
["2015/16 Q1",{"$f":"VLOOKUP(J38,'Control Panel'!$I$27:$K$68,2,FALSE)","v":"SW1"},1,null,null,null,null,null,1,"F84063",null,0,0,0,0,0,0,0,0,0,0,0,0,0,0,0,0,0,0]
["2015/16 Q1",{"$f":"VLOOKUP(J39,'Control Panel'!$I$27:$K$68,2,FALSE)","v":"NW1"},1,null,null,null,null,null,1,"F84119",null,10732,36,29,29,29,27,31,48,41,40,40,39,26,22,21,18,18,21]
["2015/16 Q1",{"$f":"VLOOKUP(J40,'Control Panel'!$I$27:$K$68,2,FALSE)","v":"SW2"},1,null,null,null,null,null,1,"F84096",null,13057,39,34,36,36,32,33,34,32,31,31,31,38,34,34,33,33,32]
["2015/16 Q1",{"$f":"VLOOKUP(J41,'Control Panel'!$I$27:$K$68,2,FALSE)","v":{"$error":"#N/A"}},{"$error":"#N/A"},null,null,null,null,null,1,"Y01177",null,7887,31,15,28,25,23,7,17,17,4,15,15,16,4,4,13,15,4]
["2015/16 Q1",{"$f":"VLOOKUP(J42,'Control Panel'!$I$27:$K$68,2,FALSE)","v":"SE2"},1,null,null,null,null,null,1,"Y00403",null,5317,16,14,16,14,15,3,14,13,11,11,11,15,14,14,9,12,13]
["2015/16 Q1",{"$f":"VLOOKUP(J43,'Control Panel'!$I$27:$K$68,2,FALSE)","v":"SE2"},1,null,null,null,null,null,1,"F84069",null,13320,58,54,57,56,53,55,51,45,40,40,40,55,50,48,45,50,49]
["2015/16 Q1",{"$f":"VLOOKUP(J44,'Control Panel'!$I$27:$K$68,2,FALSE)","v":"SE2"},1,null,null,null,null,null,1,"F84620",null,5902,16,14,13,14,11,13,27,26,21,21,21,11,9,9,9,9,8]
["2015/16 Q1",{"$f":"VLOOKUP(J45,'Control Panel'!$I$27:$K$68,2,FALSE)","v":{"$error":"#N/A"}},{"$error":"#N/A"},null,null,null,null,null,0,"Total",null,290113,1119,859,943,880,792,685,1088,925,815,807,846,961,832,815,705,759,741]
["2015/16 Q2",{"$f":"VLOOKUP(J46,'Control Panel'!$I$27:$K$68,2,FALSE)","v":{"$error":"#N/A"}},{"$error":"#N/A"},null,"Parent Population","Author","Last Run",null,1,null,"Search","All Patients","(01) 12 MONTH COHORT","(01.01) DTaP/IPV/Hib","(01.02) Men B (1st and 2nd)","(01.03) PCV","(01.04) Rotavirus","(01.05) BCG","(02) 24 MONTH COHORT","(02.01) DTaP/IPV/Hib","(02.02) MMR","(02.03) HiB/Men C","(02.04) PCV (Booster)","(03) 5 YEAR COHORT","(03.01) DTaP/IPV/Hib","(03.02) MMR (Primary)","(03.03) DTaP/IPV (Booster)","(03.04) HiB/Men C","(03.05) MMR (Booster)","(02.05) Men B (Booster)"]
["2015/16 Q2",{"$f":"VLOOKUP(J47,'Control Panel'!$I$27:$K$68,2,FALSE)","v":"NE1"},0,null,"Currently registered patients","DUNNE, Jack (Mr)","2015-10-02T09:46:00",null,1,"F84013",null,13937,92,49,63,49,35,31,112,86,79,60,80,105,85,92,61,56,60]
["2015/16 Q2",{"$f":"VLOOKUP(J48,'Control Panel'!$I$27:$K$68,2,FALSE)","v":"SW1"},1,null,null,null,null,null,1,"F84117",null,9533,31,28,30,30,22,22,30,28,29,29,29,26,25,24,21,23,23]
["2015/16 Q2",{"$f":"VLOOKUP(J49,'Control Panel'!$I$27:$K$68,2,FALSE)","v":"SE1"},1,null,null,"Date Modified","Relative Date",null,1,"F84060",null,5016,16,14,15,14,13,11,12,10,11,11,11,13,11,12,10,11,10]
["2015/16 Q2",{"$f":"VLOOKUP(J50,'Control Panel'!$I$27:$K$68,2,FALSE)","v":"SE1"},1,null,null,"2015-10-02","2015-10-01",null,1,"F84003",null,12254,45,39,42,39,39,42,39,32,30,30,30,57,46,47,40,47,43]
["2015/16 Q2",{"$f":"VLOOKUP(J51,'Control Panel'!$I$27:$K$68,2,FALSE)","v":"NW2"},1,null,null,null,null,null,1,"F84008",null,12449,48,46,47,46,43,41,58,51,47,47,47,47,45,43,37,41,39]
["2015/16 Q2",{"$f":"VLOOKUP(J52,'Control Panel'!$I$27:$K$68,2,FALSE)","v":"NE2"},0,null,null,null,null,null,1,"F84685",null,3039,14,10,11,10,11,5,11,11,10,10,10,16,11,10,11,8,12]
["2015/16 Q2",{"$f":"VLOOKUP(J53,'Control Panel'!$I$27:$K$68,2,FALSE)","v":"NE2"},0,null,null,null,null,null,1,"F84720",null,5260,23,17,21,17,21,16,19,16,13,11,13,28,26,25,17,22,17]
["2015/16 Q2",{"$f":"VLOOKUP(J54,'Control Panel'!$I$27:$K$68,2,FALSE)","v":"NW1"},1,null,null,null,null,null,1,"F84115",null,8331,17,15,16,15,16,15,26,24,24,25,25,25,20,18,21,19,21]
["2015/16 Q2",{"$f":"VLOOKUP(J55,'Control Panel'!$I$27:$K$68,2,FALSE)","v":"NW2"},1,null,null,null,null,null,1,"F84033",null,12260,31,30,30,30,26,27,24,18,19,19,18,37,35,34,33,34,33]
["2015/16 Q2",{"$f":"VLOOKUP(J56,'Control Panel'!$I$27:$K$68,2,FALSE)","v":"SW1"},1,null,null,null,null,null,1,"F84621",null,3821,11,10,10,10,10,4,17,15,14,14,14,11,10,9,8,10,9]
["2015/16 Q2",{"$f":"VLOOKUP(J57,'Control Panel'!$I$27:$K$68,2,FALSE)","v":"SW2"},1,null,null,null,null,null,1,"F84635",null,7701,16,12,14,12,12,13,25,20,19,18,17,21,21,21,20,19,20]
["2015/16 Q2",{"$f":"VLOOKUP(J58,'Control Panel'!$I$27:$K$68,2,FALSE)","v":"NE1"},0,null,null,null,null,null,1,"F84686",null,6900,57,24,31,25,14,0,66,44,34,31,37,60,52,54,37,39,37]
["2015/16 Q2",{"$f":"VLOOKUP(J59,'Control Panel'!$I$27:$K$68,2,FALSE)","v":"City"},1,null,null,null,null,null,1,"F84640",null,8691,14,12,10,11,11,6,20,17,17,17,18,19,17,16,16,17,16]
["2015/16 Q2",{"$f":"VLOOKUP(J60,'Control Panel'!$I$27:$K$68,2,FALSE)","v":"NW2"},1,null,null,null,null,null,1,"F84694",null,2827,10,9,9,8,8,10,9,8,7,6,7,6,6,6,4,5,5]
["2015/16 Q2",{"$f":"VLOOKUP(J61,'Control Panel'!$I$27:$K$68,2,FALSE)","v":"SW2"},1,null,null,null,null,null,1,"F84096",null,13181,41,37,37,37,34,37,46,43,43,42,43,42,42,41,38,42,40]
["2015/16 Q2",{"$f":"VLOOKUP(J62,'Control Panel'!$I$27:$K$68,2,FALSE)","v":"NW1"},1,null,null,null,null,null,1,"F84119",null,10884,48,34,39,35,35,36,46,40,27,26,27,30,24,26,17,24,18]
["2015/16 Q2",{"$f":"VLOOKUP(J63,'Control Panel'!$I$27:$K$68,2,FALSE)","v":"NE2"},0,null,null,null,null,null,1,"F84711",null,2148,9,7,8,7,6,4,6,4,4,5,5,7,5,5,5,4,5]
["2015/16 Q2",{"$f":"VLOOKUP(J64,'Control Panel'!$I$27:$K$68,2,FALSE)","v":"NE2"},0,null,null,null,null,null,1,"F84080",null,4793,22,16,18,17,14,0,20,19,18,17,19,33,24,22,17,20,17]
["2015/16 Q2",{"$f":"VLOOKUP(J65,'Control Panel'!$I$27:$K$68,2,FALSE)","v":"SE2"},1,null,null,null,null,null,1,"F84601",null,5735,27,23,23,23,21,20,22,14,13,16,15,16,15,11,8,12,9]
["2015/16 Q2",{"$f":"VLOOKUP(J66,'Control Panel'!$I$27:$K$68,2,FALSE)","v":"SE2"},{"$f":"IF(LEFT(B66,2)=\"NE\",0,1)","v":1},null,null,null,null,null,1,"F84620",null,5932,23,22,22,22,18,15,23,21,19,18,20,11,10,11,8,11,9]
["2015/16 Q2",{"$f":"VLOOKUP(J67,'Control Panel'!$I$27:$K$68,2,FALSE)","v":"SW2"},1,null,null,null,null,null,{"$f":"IF(J67=\"Total\",0,1)","v":1},"F84072",null,8836,36,33,34,33,32,28,21,21,18,18,18,27,24,21,18,24,21]
["2015/16 Q2",{"$f":"VLOOKUP(J68,'Control Panel'!$I$27:$K$68,2,FALSE)","v":"NW2"},1,null,null,null,null,null,1,"F84636",null,3378,12,7,8,7,7,1,7,6,7,7,7,8,6,6,6,6,6]
["2015/16 Q2",{"$f":"VLOOKUP(J69,'Control Panel'!$I$27:$K$68,2,FALSE)","v":"SW1"},1,null,null,null,null,null,1,"F84038",null,3708,12,9,9,9,7,0,8,7,6,6,7,13,11,11,10,12,11]
["2015/16 Q2",{"$f":"VLOOKUP(J70,'Control Panel'!$I$27:$K$68,2,FALSE)","v":"SE1"},1,null,null,null,null,null,1,"F84105",null,10787,35,32,32,32,31,34,35,30,29,29,28,36,34,31,27,32,26]
["2015/16 Q2",{"$f":"VLOOKUP(J71,'Control Panel'!$I$27:$K$68,2,FALSE)","v":"NE2"},0,null,null,null,null,null,1,"F84619",null,4118,15,14,15,14,11,5,15,13,11,12,12,21,21,21,21,21,21]
["2015/16 Q2",{"$f":"VLOOKUP(J72,'Control Panel'!$I$27:$K$68,2,FALSE)","v":"SE1"},1,null,null,null,null,null,1,"F84043",null,4647,15,13,14,11,12,5,10,10,9,9,9,16,15,13,12,14,11]
["2015/16 Q2",{"$f":"VLOOKUP(J73,'Control Panel'!$I$27:$K$68,2,FALSE)","v":"NW1"},1,null,null,null,null,null,1,"F84716",null,4850,28,16,17,16,14,1,28,19,14,14,14,28,21,25,15,18,18]
["2015/16 Q2",{"$f":"VLOOKUP(J74,'Control Panel'!$I$27:$K$68,2,FALSE)","v":"NE2"},0,null,null,null,null,null,1,"F84668",null,6538,49,30,39,29,19,2,45,35,34,30,35,37,29,29,20,25,28]
["2015/16 Q2",{"$f":"VLOOKUP(J75,'Control Panel'!$I$27:$K$68,2,FALSE)","v":"SE1"},1,null,null,null,null,null,1,"F84015",null,5377,15,14,14,14,13,10,19,14,8,8,8,27,21,24,18,24,18]
["2015/16 Q2",{"$f":"VLOOKUP(J76,'Control Panel'!$I$27:$K$68,2,FALSE)","v":"NW1"},1,null,null,null,null,null,1,"F84036",null,7029,19,9,10,9,9,13,17,10,9,9,10,23,22,21,10,17,11]
["2015/16 Q2",{"$f":"VLOOKUP(J77,'Control Panel'!$I$27:$K$68,2,FALSE)","v":"NW2"},1,null,null,null,null,null,1,"F84624",null,2899,6,1,5,5,5,4,9,0,0,0,6,6,0,0,0,0,0]
["2015/16 Q2",{"$f":"VLOOKUP(J78,'Control Panel'!$I$27:$K$68,2,FALSE)","v":{"$error":"#N/A"}},{"$error":"#N/A"},null,null,null,null,null,1,"Y01177",null,8003,21,15,16,15,14,6,29,28,9,26,27,29,7,8,22,5,25]
["2015/16 Q2",{"$f":"VLOOKUP(J79,'Control Panel'!$I$27:$K$68,2,FALSE)","v":"SW1"},1,null,null,null,null,null,1,"F84035",null,3706,17,14,15,14,14,13,8,7,7,7,7,12,12,10,11,12,12]
["2015/16 Q2",{"$f":"VLOOKUP(J80,'Control Panel'!$I$27:$K$68,2,FALSE)","v":"SW2"},1,null,null,null,null,null,1,"F84692",null,5963,17,13,14,13,13,13,16,13,12,12,13,11,11,11,10,11,10]
["2015/16 Q2",{"$f":"VLOOKUP(J81,'Control Panel'!$I$27:$K$68,2,FALSE)","v":"SW1"},1,null,null,null,null,null,1,"F84021",null,9885,38,31,32,31,32,35,28,26,26,26,26,34,34,32,34,33,32]
["2015/16 Q2",{"$f":"VLOOKUP(J82,'Control Panel'!$I$27:$K$68,2,FALSE)","v":"NE2"},0,null,null,null,null,null,1,"F84018",null,10445,52,37,40,37,33,46,43,39,39,38,38,33,29,29,26,27,26]
["2015/16 Q2",{"$f":"VLOOKUP(J83,'Control Panel'!$I$27:$K$68,2,FALSE)","v":"SE1"},1,null,null,null,null,null,1,"F84719",null,4531,12,11,11,11,11,12,13,12,9,11,11,16,15,15,15,14,16]
["2015/16 Q2",{"$f":"VLOOKUP(J84,'Control Panel'!$I$27:$K$68,2,FALSE)","v":"SW2"},1,null,null,null,null,null,1,"F84041",null,7343,24,14,16,14,16,14,11,5,4,4,5,20,17,17,12,17,16]
["2015/16 Q2",{"$f":"VLOOKUP(J85,'Control Panel'!$I$27:$K$68,2,FALSE)","v":"SE2"},1,null,null,null,null,null,1,"F84632",null,856,0,0,0,0,0,0,0,0,0,0,0,0,0,0,0,0,0]
["2015/16 Q2",{"$f":"VLOOKUP(J86,'Control Panel'!$I$27:$K$68,2,FALSE)","v":"NE1"},0,null,null,null,null,null,1,"Y03049",null,7255,55,34,42,35,25,28,47,39,36,35,36,27,23,21,17,19,18]
["2015/16 Q2",{"$f":"VLOOKUP(J87,'Control Panel'!$I$27:$K$68,2,FALSE)","v":"SE2"},1,null,null,null,null,null,1,"Y00403",null,5412,21,16,18,16,18,4,21,17,15,15,14,12,12,12,9,12,10]
["2015/16 Q2",{"$f":"VLOOKUP(J88,'Control Panel'!$I$27:$K$68,2,FALSE)","v":"SE2"},1,null,null,null,null,null,1,"F84069",null,13572,55,52,54,53,52,52,46,40,39,39,38,47,44,44,38,44,39]
["2015/16 Q2",{"$f":"VLOOKUP(J89,'Control Panel'!$I$27:$K$68,2,FALSE)","v":{"$error":"#N/A"}},{"$error":"#N/A"},null,null,null,null,null,0,"Total",null,293830,1149,869,951,875,797,681,1107,912,818,807,854,1093,938,928,780,851,818]
["2015/16 Q3",{"$f":"VLOOKUP(J90,'Control Panel'!$I$27:$K$68,2,FALSE)","v":{"$error":"#N/A"}},{"$error":"#N/A"},null,"Parent Population","Author","Last Run",null,1,null,"Search","All Patients","(01) 12 MONTH COHORT","(01.01) DTaP/IPV/Hib","(01.02) Men B (1st and 2nd)","(01.03) PCV","(01.04) Rotavirus","(01.05) BCG","(02) 24 MONTH COHORT","(02.01) DTaP/IPV/Hib","(02.02) MMR","(02.03) HiB/Men C","(02.04) PCV (Booster)","(03) 5 YEAR COHORT","(03.01) DTaP/IPV/Hib","(03.02) MMR (Primary)","(03.03) DTaP/IPV (Booster)","(03.04) HiB/Men C","(03.05) MMR (Booster)","(02.05) Men B (Booster)"]
["2015/16 Q3",{"$f":"VLOOKUP(J91,'Control Panel'!$I$27:$K$68,2,FALSE)","v":"NE1"},0,null,"Currently registered patients","DUNNE, Jack (Mr)","2016-01-04T12:00:00",null,1,"F84013",null,14108,97,42,60,44,23,26,105,70,64,48,62,94,86,83,55,58,57]
["2015/16 Q3",{"$f":"VLOOKUP(J92,'Control Panel'!$I$27:$K$68,2,FALSE)","v":"SW1"},1,null,null,null,null,null,1,"F84117",null,9511,26,26,25,26,25,21,28,28,27,27,27,22,22,21,17,21,19]
["2015/16 Q3",{"$f":"VLOOKUP(J93,'Control Panel'!$I$27:$K$68,2,FALSE)","v":"SE1"},1,null,null,"Date Modified","Relative Date",null,1,"F84060",null,4946,18,11,14,11,12,8,14,11,10,10,10,9,6,6,6,7,5]
["2015/16 Q3",{"$f":"VLOOKUP(J94,'Control Panel'!$I$27:$K$68,2,FALSE)","v":"SE1"},1,null,null,"2015-11-02","2016-01-01",null,1,"F84003",null,12488,48,40,42,40,37,42,48,43,42,42,42,32,29,27,21,27,22]
["2015/16 Q3",{"$f":"VLOOKUP(J95,'Control Panel'!$I$27:$K$68,2,FALSE)","v":"NW2"},1,null,null,null,null,null,1,"F84008",null,12518,37,35,33,34,30,33,45,40,40,40,39,36,36,34,29,33,30]
["2015/16 Q3",{"$f":"VLOOKUP(J96,'Control Panel'!$I$27:$K$68,2,FALSE)","v":"NE2"},0,null,null,null,null,null,1,"F84685",null,3063,10,7,7,7,7,3,14,11,8,9,9,12,11,8,10,10,10]
["2015/16 Q3",{"$f":"VLOOKUP(J97,'Control Panel'!$I$27:$K$68,2,FALSE)","v":"NE2"},0,null,null,null,null,null,1,"F84720",null,5224,22,15,17,15,15,14,18,16,16,16,15,33,29,30,21,27,24]
["2015/16 Q3",{"$f":"VLOOKUP(J98,'Control Panel'!$I$27:$K$68,2,FALSE)","v":"NW1"},1,null,null,null,null,null,1,"F84115",null,8406,26,25,26,25,26,24,30,25,23,23,23,22,22,21,17,19,18]
["2015/16 Q3",{"$f":"VLOOKUP(J99,'Control Panel'!$I$27:$K$68,2,FALSE)","v":"NW2"},1,null,null,null,null,null,1,"F84033",null,12279,40,34,34,34,31,35,31,29,27,29,29,35,32,32,32,32,32]
["2015/16 Q3",{"$f":"VLOOKUP(J100,'Control Panel'!$I$27:$K$68,2,FALSE)","v":"SW1"},1,null,null,null,null,null,1,"F84621",null,3632,7,4,6,4,6,4,10,8,6,6,6,7,7,7,6,7,5]
["2015/16 Q3",{"$f":"VLOOKUP(J101,'Control Panel'!$I$27:$K$68,2,FALSE)","v":"SW2"},1,null,null,null,null,null,1,"F84635",null,7738,19,15,15,15,15,18,21,20,18,19,19,22,22,22,21,22,21]
["2015/16 Q3",{"$f":"VLOOKUP(J102,'Control Panel'!$I$27:$K$68,2,FALSE)","v":"NE1"},0,null,null,null,null,null,1,"F84686",null,7034,68,28,44,28,27,1,67,46,36,32,37,69,58,56,32,44,32]
["2015/16 Q3",{"$f":"VLOOKUP(J103,'Control Panel'!$I$27:$K$68,2,FALSE)","v":"City"},1,null,null,null,null,null,1,"F84640",null,8819,11,11,11,11,11,2,18,16,17,17,17,15,12,11,12,10,12]
["2015/16 Q3",{"$f":"VLOOKUP(J104,'Control Panel'!$I$27:$K$68,2,FALSE)","v":"NW2"},1,null,null,null,null,null,1,"F84694",null,2806,7,6,6,6,6,5,8,7,7,7,7,6,6,6,5,6,5]
["2015/16 Q3",{"$f":"VLOOKUP(J105,'Control Panel'!$I$27:$K$68,2,FALSE)","v":"SW2"},1,null,null,null,null,null,1,"F84096",null,13214,35,32,33,32,31,32,30,29,29,28,29,40,38,36,34,36,36]
["2015/16 Q3",{"$f":"VLOOKUP(J106,'Control Panel'!$I$27:$K$68,2,FALSE)","v":"NW1"},1,null,null,null,null,null,1,"F84119",null,10982,38,27,28,27,26,28,33,27,22,23,23,33,29,27,23,26,25]
["2015/16 Q3",{"$f":"VLOOKUP(J107,'Control Panel'!$I$27:$K$68,2,FALSE)","v":"NE2"},0,null,null,null,null,null,1,"F84711",null,2124,5,3,5,3,4,3,6,5,5,5,5,6,3,4,2,4,2]
["2015/16 Q3",{"$f":"VLOOKUP(J108,'Control Panel'!$I$27:$K$68,2,FALSE)","v":"NE2"},0,null,null,null,null,null,1,"F84080",null,4869,21,12,15,12,9,1,9,9,8,8,9,17,14,14,12,14,12]
["2015/16 Q3",{"$f":"VLOOKUP(J109,'Control Panel'!$I$27:$K$68,2,FALSE)","v":"SE2"},1,null,null,null,null,null,1,"F84601",null,5864,22,17,17,17,16,18,14,13,13,13,13,20,12,13,11,12,12]
["2015/16 Q3",{"$f":"VLOOKUP(J110,'Control Panel'!$I$27:$K$68,2,FALSE)","v":"SE2"},1,null,null,null,null,null,1,"F84620",null,5967,10,9,10,9,10,8,20,20,20,20,20,19,19,19,14,17,15]
["2015/16 Q3",{"$f":"VLOOKUP(J111,'Control Panel'!$I$27:$K$68,2,FALSE)","v":"SW2"},1,null,null,null,null,null,1,"F84072",null,9113,32,16,20,15,20,27,23,21,20,19,19,23,18,17,17,15,19]
["2015/16 Q3",{"$f":"VLOOKUP(J112,'Control Panel'!$I$27:$K$68,2,FALSE)","v":"NW2"},1,null,null,null,null,null,1,"F84636",null,3400,13,9,11,9,11,0,11,9,6,7,6,12,12,12,7,12,9]
["2015/16 Q3",{"$f":"VLOOKUP(J113,'Control Panel'!$I$27:$K$68,2,FALSE)","v":"SW1"},1,null,null,null,null,null,1,"F84038",null,3692,7,2,2,2,2,0,10,7,6,6,5,12,10,10,7,10,8]
["2015/16 Q3",{"$f":"VLOOKUP(J114,'Control Panel'!$I$27:$K$68,2,FALSE)","v":"SE1"},1,null,null,null,null,null,1,"F84105",null,10849,33,33,33,33,32,30,41,37,36,37,37,47,47,46,44,45,44]
["2015/16 Q3",{"$f":"VLOOKUP(J115,'Control Panel'!$I$27:$K$68,2,FALSE)","v":"NE2"},0,null,null,null,null,null,1,"F84619",null,4095,16,15,14,14,10,5,14,14,13,13,13,17,17,16,16,16,16]
["2015/16 Q3",{"$f":"VLOOKUP(J116,'Control Panel'!$I$27:$K$68,2,FALSE)","v":"SE1"},1,null,null,null,null,null,1,"F84043",null,4625,21,14,16,14,14,13,18,17,16,16,16,16,14,13,12,15,12]
["2015/16 Q3",{"$f":"VLOOKUP(J117,'Control Panel'!$I$27:$K$68,2,FALSE)","v":"NW1"},1,null,null,null,null,null,1,"F84716",null,4855,27,18,16,18,14,0,35,27,24,23,24,22,16,18,13,16,15]
["2015/16 Q3",{"$f":"VLOOKUP(J118,'Control Panel'!$I$27:$K$68,2,FALSE)","v":"NE2"},0,null,null,null,null,null,1,"F84668",null,6538,52,32,37,32,21,0,40,26,25,19,23,47,37,40,29,37,34]
["2015/16 Q3",{"$f":"VLOOKUP(J119,'Control Panel'!$I$27:$K$68,2,FALSE)","v":"SE1"},1,null,null,null,null,null,1,"F84015",null,5367,24,21,22,21,22,21,13,12,11,12,12,22,19,19,12,19,14]
["2015/16 Q3",{"$f":"VLOOKUP(J120,'Control Panel'!$I$27:$K$68,2,FALSE)","v":"NW1"},1,null,null,null,null,null,1,"F84036",null,7018,18,9,11,9,9,12,21,9,7,7,7,21,19,20,11,20,11]
["2015/16 Q3",{"$f":"VLOOKUP(J121,'Control Panel'!$I$27:$K$68,2,FALSE)","v":"NW2"},1,null,null,null,null,null,1,"F84624",null,2905,10,1,7,7,7,9,10,0,0,0,3,13,0,1,1,0,1]
["2015/16 Q3",{"$f":"VLOOKUP(J122,'Control Panel'!$I$27:$K$68,2,FALSE)","v":{"$error":"#N/A"}},{"$error":"#N/A"},null,null,null,null,null,1,"Y01177",null,8038,27,23,24,23,22,14,28,22,18,23,24,38,6,6,23,2,26]
["2015/16 Q3",{"$f":"VLOOKUP(J123,'Control Panel'!$I$27:$K$68,2,FALSE)","v":"SW1"},1,null,null,null,null,null,1,"F84063",null,5967,9,1,9,9,7,9,20,0,0,0,1,22,0,0,0,0,0]
["2015/16 Q3",{"$f":"VLOOKUP(J124,'Control Panel'!$I$27:$K$68,2,FALSE)","v":"SW1"},1,null,null,null,null,null,1,"F84035",null,3688,5,4,4,4,4,4,11,10,10,10,10,12,12,12,10,11,11]
["2015/16 Q3",{"$f":"VLOOKUP(J125,'Control Panel'!$I$27:$K$68,2,FALSE)","v":"SW2"},1,null,null,null,null,null,1,"F84692",null,6069,11,11,11,11,11,11,12,11,9,10,9,15,14,13,11,13,11]
["2015/16 Q3",{"$f":"VLOOKUP(J126,'Control Panel'!$I$27:$K$68,2,FALSE)","v":"SW1"},1,null,null,null,null,null,1,"F84021",null,9911,35,31,31,31,27,31,32,30,29,27,29,26,24,24,23,25,24]
["2015/16 Q3",{"$f":"VLOOKUP(J127,'Control Panel'!$I$27:$K$68,2,FALSE)","v":"NE2"},0,null,null,null,null,null,1,"F84018",null,10608,48,37,41,37,38,41,44,37,37,37,37,41,36,34,33,34,32]
["2015/16 Q3",{"$f":"VLOOKUP(J128,'Control Panel'!$I$27:$K$68,2,FALSE)","v":"SE1"},1,null,null,null,null,null,1,"F84719",null,4558,10,10,10,10,10,10,7,7,6,7,6,12,11,10,8,10,11]
["2015/16 Q3",{"$f":"VLOOKUP(J129,'Control Panel'!$I$27:$K$68,2,FALSE)","v":"SW2"},1,null,null,null,null,null,1,"F84041",null,7455,13,8,9,8,9,7,15,9,9,8,9,22,20,20,18,20,17]
["2015/16 Q3",{"$f":"VLOOKUP(J130,'Control Panel'!$I$27:$K$68,2,FALSE)","v":"SE2"},{"$f":"IF(LEFT(B130,2)=\"NE\",0,1)","v":1},null,null,null,null,null,1,"F84632",null,893,0,0,0,0,0,0,0,0,0,0,0,0,0,0,0,0,0]
["2015/16 Q3",{"$f":"VLOOKUP(J131,'Control Panel'!$I$27:$K$68,2,FALSE)","v":"NE1"},0,null,null,null,null,null,{"$f":"IF(J131=\"Total\",0,1)","v":1},"Y03049",null,7297,40,27,31,27,24,25,59,45,43,39,44,42,39,40,28,36,33]
["2015/16 Q3",{"$f":"VLOOKUP(J132,'Control Panel'!$I$27:$K$68,2,FALSE)","v":"SE2"},1,null,null,null,null,null,1,"Y00403",null,5552,22,18,18,18,18,6,14,14,12,13,13,25,22,22,17,22,18]
["2015/16 Q3",{"$f":"VLOOKUP(J133,'Control Panel'!$I$27:$K$68,2,FALSE)","v":"SE2"},1,null,null,null,null,null,1,"F84069",null,13653,48,43,44,41,40,41,52,47,42,41,41,55,50,51,43,49,43]
["2015/16 Q3",{"$f":"VLOOKUP(J134,'Control Panel'!$I$27:$K$68,2,FALSE)","v":{"$error":"#N/A"}},{"$error":"#N/A"},null,null,null,null,null,0,"Total",null,301738,1088,782,869,793,739,642,1099,884,817,796,829,1111,936,921,763,859,803]
["2015/16 Q4",{"$f":"VLOOKUP(J135,'Control Panel'!$I$27:$K$68,2,FALSE)","v":{"$error":"#N/A"}},{"$error":"#N/A"},null,"Parent Population","Author","Last Run",null,1,null,"Search","All Patients","(01) 12 MONTH COHORT","(01.01) DTaP/IPV/Hib","(01.02) Men B (1st and 2nd)","(01.03) PCV","(01.04) Rotavirus","(01.05) BCG","(02) 24 MONTH COHORT","(02.01) DTaP/IPV/Hib","(02.02) MMR","(02.03) HiB/Men C","(02.04) PCV (Booster)","(03) 5 YEAR COHORT","(03.01) DTaP/IPV/Hib","(03.02) MMR (Primary)","(03.03) DTaP/IPV (Booster)","(03.04) HiB/Men C","(03.05) MMR (Booster)","(02.05) Men B (Booster)"]
["2015/16 Q4",{"$f":"VLOOKUP(J136,'Control Panel'!$I$27:$K$68,2,FALSE)","v":"NE1"},0,null,"Currently registered patients","DUNNE, Jack (Mr)","2016-04-05T10:42:00",null,1,"F84013",null,14259,92,39,55,39,27,27,102,63,59,52,60,100,89,90,59,61,77]
["2015/16 Q4",{"$f":"VLOOKUP(J137,'Control Panel'!$I$27:$K$68,2,FALSE)","v":"SW1"},1,null,null,null,null,null,1,"F84117",null,9510,26,24,25,24,22,22,26,25,22,25,25,32,32,32,31,31,31]
["2015/16 Q4",{"$f":"VLOOKUP(J138,'Control Panel'!$I$27:$K$68,2,FALSE)","v":"SE1"},1,null,null,"Date Modified","Relative Date",null,1,"F84060",null,4979,10,6,7,6,7,4,16,12,11,11,11,15,12,11,14,14,11]
["2015/16 Q4",{"$f":"VLOOKUP(J139,'Control Panel'!$I$27:$K$68,2,FALSE)","v":"SE1"},1,null,null,"2016-01-14","2016-04-01",null,1,"F84003",null,12600,38,33,36,32,33,33,34,31,26,30,30,39,35,33,27,28,34]
["2015/16 Q4",{"$f":"VLOOKUP(J140,'Control Panel'!$I$27:$K$68,2,FALSE)","v":"NW2"},1,null,null,null,null,null,1,"F84008",null,12643,46,39,40,39,35,32,55,52,45,46,47,51,49,49,43,47,45]
["2015/16 Q4",{"$f":"VLOOKUP(J141,'Control Panel'!$I$27:$K$68,2,FALSE)","v":"NE2"},0,null,null,null,null,null,1,"F84685",null,3102,11,5,5,5,5,1,11,10,9,9,8,15,13,13,9,11,13]
["2015/16 Q4",{"$f":"VLOOKUP(J142,'Control Panel'!$I$27:$K$68,2,FALSE)","v":"NE2"},0,null,null,null,null,null,1,"F84720",null,5181,19,13,16,13,14,12,19,12,12,12,12,20,16,16,11,11,14]
["2015/16 Q4",{"$f":"VLOOKUP(J143,'Control Panel'!$I$27:$K$68,2,FALSE)","v":"NW1"},1,null,null,null,null,null,1,"F84115",null,8472,31,28,28,28,27,26,20,19,19,19,19,28,24,27,23,24,24]
["2015/16 Q4",{"$f":"VLOOKUP(J144,'Control Panel'!$I$27:$K$68,2,FALSE)","v":"NW2"},1,null,null,null,null,null,1,"F84033",null,12383,33,32,32,32,31,33,30,28,26,26,26,24,23,17,16,17,17]
["2015/16 Q4",{"$f":"VLOOKUP(J145,'Control Panel'!$I$27:$K$68,2,FALSE)","v":"SW1"},1,null,null,null,null,null,1,"F84621",null,3567,7,7,7,7,7,6,7,7,6,6,6,13,12,9,8,11,9]
["2015/16 Q4",{"$f":"VLOOKUP(J146,'Control Panel'!$I$27:$K$68,2,FALSE)","v":"SW2"},1,null,null,null,null,null,1,"F84635",null,7755,22,17,19,17,18,20,17,14,13,13,13,28,26,25,20,21,25]
["2015/16 Q4",{"$f":"VLOOKUP(J147,'Control Panel'!$I$27:$K$68,2,FALSE)","v":"NE1"},0,null,null,null,null,null,1,"F84686",null,7127,61,21,34,21,15,1,60,40,27,26,34,44,39,42,21,21,35]
["2015/16 Q4",{"$f":"VLOOKUP(J148,'Control Panel'!$I$27:$K$68,2,FALSE)","v":"City"},1,null,null,null,null,null,1,"F84640",null,8959,18,16,16,17,16,0,14,12,13,13,12,11,11,10,8,9,10]
["2015/16 Q4",{"$f":"VLOOKUP(J149,'Control Panel'!$I$27:$K$68,2,FALSE)","v":"NW2"},1,null,null,null,null,null,1,"F84694",null,2852,7,7,7,7,7,7,9,9,9,9,9,6,5,6,6,6,5]
["2015/16 Q4",{"$f":"VLOOKUP(J150,'Control Panel'!$I$27:$K$68,2,FALSE)","v":"SW2"},1,null,null,null,null,null,1,"F84096",null,13216,44,41,42,41,39,39,49,44,41,42,42,44,42,39,38,38,41]
["2015/16 Q4",{"$f":"VLOOKUP(J151,'Control Panel'!$I$27:$K$68,2,FALSE)","v":"NW1"},1,null,null,null,null,null,1,"F84119",null,11177,35,27,27,27,25,27,34,25,19,20,20,21,20,19,15,16,18]
["2015/16 Q4",{"$f":"VLOOKUP(J152,'Control Panel'!$I$27:$K$68,2,FALSE)","v":"NE2"},0,null,null,null,null,null,1,"F84711",null,2105,6,6,6,6,6,5,5,4,2,2,3,2,2,2,2,2,2]
["2015/16 Q4",{"$f":"VLOOKUP(J153,'Control Panel'!$I$27:$K$68,2,FALSE)","v":"NE2"},0,null,null,null,null,null,1,"F84080",null,4794,29,21,22,21,21,1,22,17,15,14,15,17,11,14,13,13,12]
["2015/16 Q4",{"$f":"VLOOKUP(J154,'Control Panel'!$I$27:$K$68,2,FALSE)","v":"SE2"},1,null,null,null,null,null,1,"F84601",null,5979,14,11,11,11,9,8,24,16,18,17,17,16,14,14,11,11,12]
["2015/16 Q4",{"$f":"VLOOKUP(J155,'Control Panel'!$I$27:$K$68,2,FALSE)","v":"SE2"},1,null,null,null,null,null,1,"F84620",null,5958,20,16,16,15,14,15,23,20,19,19,19,22,21,21,18,19,19]
["2015/16 Q4",{"$f":"VLOOKUP(J156,'Control Panel'!$I$27:$K$68,2,FALSE)","v":"SW2"},1,null,null,null,null,null,1,"F84072",null,9386,39,25,29,24,26,38,31,27,16,16,14,21,21,20,18,18,20]
["2015/16 Q4",{"$f":"VLOOKUP(J157,'Control Panel'!$I$27:$K$68,2,FALSE)","v":"NW2"},1,null,null,null,null,null,1,"F84636",null,3385,8,8,8,8,8,2,4,2,2,2,2,6,5,5,3,4,5]
["2015/16 Q4",{"$f":"VLOOKUP(J158,'Control Panel'!$I$27:$K$68,2,FALSE)","v":"SW1"},1,null,null,null,null,null,1,"F84038",null,3670,12,8,7,8,7,0,5,5,4,5,5,6,3,5,1,1,5]
["2015/16 Q4",{"$f":"VLOOKUP(J159,'Control Panel'!$I$27:$K$68,2,FALSE)","v":"SE1"},1,null,null,null,null,null,1,"F84105",null,11035,43,40,41,40,37,41,40,35,34,35,35,30,30,29,27,28,30]
["2015/16 Q4",{"$f":"VLOOKUP(J160,'Control Panel'!$I$27:$K$68,2,FALSE)","v":"NE2"},0,null,null,null,null,null,1,"F84619",null,4083,18,16,17,16,16,2,13,12,11,12,12,12,12,12,12,12,12]
["2015/16 Q4",{"$f":"VLOOKUP(J161,'Control Panel'!$I$27:$K$68,2,FALSE)","v":"SE1"},1,null,null,null,null,null,1,"F84043",null,4539,12,5,8,5,7,2,9,7,8,8,8,11,10,9,10,10,8]
["2015/16 Q4",{"$f":"VLOOKUP(J162,'Control Panel'!$I$27:$K$68,2,FALSE)","v":"NW1"},1,null,null,null,null,null,1,"F84716",null,4805,21,17,18,17,14,1,20,13,9,8,9,25,21,20,10,12,18]
["2015/16 Q4",{"$f":"VLOOKUP(J163,'Control Panel'!$I$27:$K$68,2,FALSE)","v":"NE2"},0,null,null,null,null,null,1,"F84668",null,6493,40,15,18,16,15,2,40,24,27,21,27,29,25,25,16,18,24]
["2015/16 Q4",{"$f":"VLOOKUP(J164,'Control Panel'!$I$27:$K$68,2,FALSE)","v":"SE1"},1,null,null,null,null,null,1,"F84015",null,5346,9,6,6,5,6,6,18,11,15,15,15,27,20,23,14,17,23]
["2015/16 Q4",{"$f":"VLOOKUP(J165,'Control Panel'!$I$27:$K$68,2,FALSE)","v":"NW1"},1,null,null,null,null,null,1,"F84036",null,6984,24,13,15,12,14,18,26,18,9,9,9,18,15,16,10,12,15]
["2015/16 Q4",{"$f":"VLOOKUP(J166,'Control Panel'!$I$27:$K$68,2,FALSE)","v":"NW2"},1,null,null,null,null,null,1,"F84624",null,2884,7,6,6,6,6,5,7,1,1,0,6,9,1,2,3,3,1]
["2015/16 Q4",{"$f":"VLOOKUP(J167,'Control Panel'!$I$27:$K$68,2,FALSE)","v":{"$error":"#N/A"}},{"$error":"#N/A"},null,null,null,null,null,1,"Y01177",null,8069,26,17,22,17,20,13,19,10,15,15,15,29,5,7,7,7,5]
["2015/16 Q4",{"$f":"VLOOKUP(J168,'Control Panel'!$I$27:$K$68,2,FALSE)","v":"SW1"},1,null,null,null,null,null,1,"F84063",null,5953,13,0,12,12,12,12,18,1,1,1,3,18,3,3,4,4,3]
["2015/16 Q4",{"$f":"VLOOKUP(J169,'Control Panel'!$I$27:$K$68,2,FALSE)","v":"SW1"},1,null,null,null,null,null,1,"F84035",null,3765,8,6,7,6,6,5,6,6,6,6,6,13,12,11,9,11,10]
["2015/16 Q4",{"$f":"VLOOKUP(J170,'Control Panel'!$I$27:$K$68,2,FALSE)","v":"SW2"},1,null,null,null,null,null,1,"F84692",null,6312,17,15,17,15,14,14,8,6,4,5,5,10,8,8,8,8,8]
["2015/16 Q4",{"$f":"VLOOKUP(J171,'Control Panel'!$I$27:$K$68,2,FALSE)","v":"SW1"},1,null,null,null,null,null,1,"F84021",null,10061,32,29,30,29,25,27,24,19,18,18,18,30,27,29,26,28,26]
["2015/16 Q4",{"$f":"VLOOKUP(J172,'Control Panel'!$I$27:$K$68,2,FALSE)","v":"NE2"},0,null,null,null,null,null,1,"F84018",null,10775,30,25,25,25,21,23,40,37,33,34,33,47,45,44,37,38,45]
["2015/16 Q4",{"$f":"VLOOKUP(J173,'Control Panel'!$I$27:$K$68,2,FALSE)","v":"SE1"},1,null,null,null,null,null,1,"F84719",null,4545,15,15,15,15,15,15,10,10,9,9,9,10,8,5,7,10,3]
["2015/16 Q4",{"$f":"VLOOKUP(J174,'Control Panel'!$I$27:$K$68,2,FALSE)","v":"SW2"},1,null,null,null,null,null,1,"F84041",null,7395,18,17,16,17,17,12,20,12,12,11,12,12,10,10,6,6,10]
["2015/16 Q4",{"$f":"VLOOKUP(J175,'Control Panel'!$I$27:$K$68,2,FALSE)","v":"SE2"},1,null,null,null,null,null,1,"F84632",null,852,0,0,0,0,0,0,0,0,0,0,0,0,0,0,0,0,0]
["2015/16 Q4",{"$f":"VLOOKUP(J176,'Control Panel'!$I$27:$K$68,2,FALSE)","v":"NE1"},0,null,null,null,null,null,1,"Y03049",null,7373,38,22,27,23,15,12,47,40,32,32,36,49,45,43,31,35,35]
["2015/16 Q4",{"$f":"VLOOKUP(J177,'Control Panel'!$I$27:$K$68,2,FALSE)","v":"SE2"},1,null,null,null,null,null,1,"Y00403",null,5653,21,16,18,16,16,6,15,13,11,11,11,22,19,17,15,17,19]
["2015/16 Q4",{"$f":"VLOOKUP(J178,'Control Panel'!$I$27:$K$68,2,FALSE)","v":"SE2"},1,null,null,null,null,null,1,"F84069",null,13825,45,36,38,36,31,36,43,42,40,40,41,41,36,36,30,31,37]
["2015/16 Q4",{"$f":"VLOOKUP(J179,'Control Panel'!$I$27:$K$68,2,FALSE)","v":{"$error":"#N/A"}},{"$error":"#N/A"},null,null,null,null,null,0,"Total",null,303806,1065,766,851,776,726,611,1040,811,728,724,759,1023,877,868,697,741,816]
["2016/17 Q1",{"$f":"VLOOKUP(J180,'Control Panel'!$I$27:$K$68,2,FALSE)","v":{"$error":"#N/A"}},{"$error":"#N/A"},null,"Last Run:",null,"Patient Count",320334,1,null,"Search","All Patients","(01) 12 MONTH COHORT","(01.01) DTaP/IPV/Hib","(01.02) Men C","(01.03) PCV","(01.04) Rotavirus","(01.05) BCG","(02) 24 MONTH COHORT","(02.01) DTaP/IPV/Hib","(02.02) MMR","(02.03) HiB/Men C","(02.04) PCV (Booster)","(03) 5 YEAR COHORT","(03.01) DTaP/IPV/Hib","(03.02) MMR (Primary)","(03.03) DTaP/IPV (Booster)","(03.04) HiB/Men C","(03.05) MMR (Booster)","(02.05) Men B (Booster)"]
["2016/17 Q1",{"$f":"VLOOKUP(J181,'Control Panel'!$I$27:$K$68,2,FALSE)","v":{"$error":"#N/A"}},{"$error":"#N/A"},null,"2016-11-11T16:05:00",null,"Males",158674,1,"Organisation Code"]
["2016/17 Q1",{"$f":"VLOOKUP(J182,'Control Panel'!$I$27:$K$68,2,FALSE)","v":"SE1"},1,null,"Relative Date:",null,"Females",161660,1,"F84003",null,12821,53,41,47,42,43,44,50,48,41,42,42,44,38,36,33,33,33]
["2016/17 Q1",{"$f":"VLOOKUP(J183,'Control Panel'!$I$27:$K$68,2,FALSE)","v":"NW2"},1,null,"2016-07-01",null,null,null,1,"F84008",null,12775,42,36,36,36,34,35,55,54,53,53,49,35,34,33,27,31,29]
["2016/17 Q1",{"$f":"VLOOKUP(J184,'Control Panel'!$I$27:$K$68,2,FALSE)","v":"NE1"},0,null,null,null,null,null,1,"F84013",null,14432,89,39,53,40,17,24,92,62,54,40,54,92,78,88,62,64,63]
["2016/17 Q1",{"$f":"VLOOKUP(J185,'Control Panel'!$I$27:$K$68,2,FALSE)","v":"SE1"},1,null,null,null,null,null,1,"F84015",null,5350,18,15,15,15,14,15,15,10,12,12,12,12,10,10,9,9,9]
["2016/17 Q1",{"$f":"VLOOKUP(J186,'Control Panel'!$I$27:$K$68,2,FALSE)","v":"NE2"},0,null,null,null,null,null,1,"F84018",null,10946,45,39,40,38,36,32,40,36,32,33,33,37,36,32,27,33,29]
["2016/17 Q1",{"$f":"VLOOKUP(J187,'Control Panel'!$I$27:$K$68,2,FALSE)","v":"SW1"},1,null,null,null,null,null,1,"F84021",null,10099,31,27,29,27,28,26,41,41,39,40,39,29,28,27,25,27,26]
["2016/17 Q1",{"$f":"VLOOKUP(J188,'Control Panel'!$I$27:$K$68,2,FALSE)","v":"NW2"},1,null,null,null,null,null,1,"F84033",null,12393,40,35,36,35,34,37,43,40,36,35,35,19,16,16,13,14,13]
["2016/17 Q1",{"$f":"VLOOKUP(J189,'Control Panel'!$I$27:$K$68,2,FALSE)","v":"SW1"},1,null,null,null,null,null,1,"F84035",null,3794,12,9,11,9,10,10,9,8,6,7,7,5,5,4,3,5,3]
["2016/17 Q1",{"$f":"VLOOKUP(J190,'Control Panel'!$I$27:$K$68,2,FALSE)","v":"NW1"},1,null,null,null,null,null,1,"F84036",null,6870,25,20,21,20,18,21,16,14,13,11,12,15,15,15,5,15,7]
["2016/17 Q1",{"$f":"VLOOKUP(J191,'Control Panel'!$I$27:$K$68,2,FALSE)","v":"SW1"},1,null,null,null,null,null,1,"F84038",null,3654,9,9,8,9,9,2,14,11,8,7,9,5,4,4,3,4,3]
["2016/17 Q1",{"$f":"VLOOKUP(J192,'Control Panel'!$I$27:$K$68,2,FALSE)","v":"SW2"},1,null,null,null,null,null,1,"F84041",null,7445,22,19,20,19,16,18,15,10,8,8,9,13,11,12,9,11,10]
["2016/17 Q1",{"$f":"VLOOKUP(J193,'Control Panel'!$I$27:$K$68,2,FALSE)","v":"SE1"},1,null,null,null,null,null,1,"F84043",null,4574,17,9,9,8,8,5,16,14,11,11,11,25,23,23,14,23,16]
["2016/17 Q1",{"$f":"VLOOKUP(J194,'Control Panel'!$I$27:$K$68,2,FALSE)","v":"SE1"},{"$f":"IF(LEFT(B194,2)=\"NE\",0,1)","v":1},null,null,null,null,null,1,"F84060",null,4934,11,8,9,8,8,7,15,13,10,10,10,16,11,12,7,13,7]
["2016/17 Q1",{"$f":"VLOOKUP(J195,'Control Panel'!$I$27:$K$68,2,FALSE)","v":"SW1"},1,null,null,null,null,null,{"$f":"IF(J195=\"Total\",0,1)","v":1},"F84063",null,5999,17,2,15,13,13,16,11,0,1,1,1,15,1,1,1,1,1]
["2016/17 Q1",{"$f":"VLOOKUP(J196,'Control Panel'!$I$27:$K$68,2,FALSE)","v":"SE2"},1,null,null,null,null,null,1,"F84069",null,14062,41,34,35,33,35,37,58,55,53,53,53,53,48,44,42,44,38]
["2016/17 Q1",{"$f":"VLOOKUP(J197,'Control Panel'!$I$27:$K$68,2,FALSE)","v":"SW2"},1,null,null,null,null,null,1,"F84072",null,9572,28,22,22,22,22,20,31,25,19,18,18,7,7,6,5,5,5]
["2016/17 Q1",{"$f":"VLOOKUP(J198,'Control Panel'!$I$27:$K$68,2,FALSE)","v":"NE2"},0,null,null,null,null,null,1,"F84080",null,4818,18,12,14,12,11,0,14,13,12,12,12,17,14,16,6,14,7]
["2016/17 Q1",{"$f":"VLOOKUP(J199,'Control Panel'!$I$27:$K$68,2,FALSE)","v":"SW2"},1,null,null,null,null,null,1,"F84096",null,13269,30,29,30,29,27,28,38,37,33,33,34,28,26,26,22,26,22]
["2016/17 Q1",{"$f":"VLOOKUP(J200,'Control Panel'!$I$27:$K$68,2,FALSE)","v":"SE1"},1,null,null,null,null,null,1,"F84105",null,11137,46,43,44,43,42,36,45,42,38,38,38,42,40,38,34,39,34]
["2016/17 Q1",{"$f":"VLOOKUP(J201,'Control Panel'!$I$27:$K$68,2,FALSE)","v":"NW1"},1,null,null,null,null,null,1,"F84115",null,8504,23,21,19,21,19,18,21,19,18,18,18,20,19,19,16,17,16]
["2016/17 Q1",{"$f":"VLOOKUP(J202,'Control Panel'!$I$27:$K$68,2,FALSE)","v":"SW1"},1,null,null,null,null,null,1,"F84117",null,9491,20,19,19,19,19,15,29,26,25,25,26,28,27,27,26,26,26]
["2016/17 Q1",{"$f":"VLOOKUP(J203,'Control Panel'!$I$27:$K$68,2,FALSE)","v":"NW1"},1,null,null,null,null,null,1,"F84119",null,11332,53,41,42,42,41,38,32,29,27,28,27,30,30,27,20,26,19]
["2016/17 Q1",{"$f":"VLOOKUP(J204,'Control Panel'!$I$27:$K$68,2,FALSE)","v":"SE2"},1,null,null,null,null,null,1,"F84601",null,5978,23,11,11,11,10,11,28,23,20,21,21,21,19,18,17,18,18]
["2016/17 Q1",{"$f":"VLOOKUP(J205,'Control Panel'!$I$27:$K$68,2,FALSE)","v":"NE2"},0,null,null,null,null,null,1,"F84619",null,4125,18,16,17,16,17,4,16,15,15,15,15,24,24,23,21,20,23]
["2016/17 Q1",{"$f":"VLOOKUP(J206,'Control Panel'!$I$27:$K$68,2,FALSE)","v":"SE2"},1,null,null,null,null,null,1,"F84620",null,5910,22,20,19,18,18,18,17,15,12,13,13,12,11,12,11,12,12]
["2016/17 Q1",{"$f":"VLOOKUP(J207,'Control Panel'!$I$27:$K$68,2,FALSE)","v":"SW1"},1,null,null,null,null,null,1,"F84621",null,3590,11,11,11,11,11,9,10,9,8,8,8,13,12,12,13,11,13]
["2016/17 Q1",{"$f":"VLOOKUP(J208,'Control Panel'!$I$27:$K$68,2,FALSE)","v":"NW2"},1,null,null,null,null,null,1,"F84624",null,2880,10,10,10,10,10,7,9,6,5,4,5,7,4,4,3,4,3]
["2016/17 Q1",{"$f":"VLOOKUP(J209,'Control Panel'!$I$27:$K$68,2,FALSE)","v":"SE2"},1,null,null,null,null,null,1,"F84632",null,899,0,0,0,0,0,0,0,0,0,0,0,0,0,0,0,0,0]
["2016/17 Q1",{"$f":"VLOOKUP(J210,'Control Panel'!$I$27:$K$68,2,FALSE)","v":"SW2"},1,null,null,null,null,null,1,"F84635",null,7880,29,25,26,25,22,24,17,17,16,17,16,17,17,17,13,17,13]
["2016/17 Q1",{"$f":"VLOOKUP(J211,'Control Panel'!$I$27:$K$68,2,FALSE)","v":"NW2"},1,null,null,null,null,null,1,"F84636",null,3393,6,5,6,5,6,0,7,6,7,6,6,9,8,4,4,4,4]
["2016/17 Q1",{"$f":"VLOOKUP(J212,'Control Panel'!$I$27:$K$68,2,FALSE)","v":"City"},1,null,null,null,null,null,1,"F84640",null,8933,16,14,15,13,13,10,15,12,11,11,11,8,7,7,7,7,6]
["2016/17 Q1",{"$f":"VLOOKUP(J213,'Control Panel'!$I$27:$K$68,2,FALSE)","v":"NE2"},0,null,null,null,null,null,1,"F84668",null,6398,39,19,23,20,13,0,37,26,23,20,26,44,42,42,33,42,35]
["2016/17 Q1",{"$f":"VLOOKUP(J214,'Control Panel'!$I$27:$K$68,2,FALSE)","v":"NE2"},0,null,null,null,null,null,1,"F84685",null,3132,17,11,10,11,9,1,11,9,8,8,8,15,12,15,11,14,11]
["2016/17 Q1",{"$f":"VLOOKUP(J215,'Control Panel'!$I$27:$K$68,2,FALSE)","v":"NE1"},0,null,null,null,null,null,1,"F84686",null,7204,56,24,29,23,12,1,53,37,23,19,32,49,41,44,34,37,34]
["2016/17 Q1",{"$f":"VLOOKUP(J216,'Control Panel'!$I$27:$K$68,2,FALSE)","v":"SW2"},1,null,null,null,null,null,1,"F84692",null,6441,16,15,15,15,14,15,18,17,16,16,16,16,14,14,11,14,12]
["2016/17 Q1",{"$f":"VLOOKUP(J217,'Control Panel'!$I$27:$K$68,2,FALSE)","v":"NW2"},1,null,null,null,null,null,1,"F84694",null,2887,5,3,3,3,3,4,12,11,10,11,10,3,2,2,2,2,2]
["2016/17 Q1",{"$f":"VLOOKUP(J218,'Control Panel'!$I$27:$K$68,2,FALSE)","v":"NE2"},0,null,null,null,null,null,1,"F84711",null,2108,9,5,7,5,7,0,6,5,4,4,3,6,6,6,3,6,3]
["2016/17 Q1",{"$f":"VLOOKUP(J219,'Control Panel'!$I$27:$K$68,2,FALSE)","v":"NW1"},1,null,null,null,null,null,1,"F84716",null,4856,18,12,13,11,11,3,22,10,8,8,8,18,16,16,11,12,9]
["2016/17 Q1",{"$f":"VLOOKUP(J220,'Control Panel'!$I$27:$K$68,2,FALSE)","v":"SE1"},1,null,null,null,null,null,1,"F84719",null,4560,9,7,8,7,7,7,11,11,11,11,11,12,12,11,12,11,12]
["2016/17 Q1",{"$f":"VLOOKUP(J221,'Control Panel'!$I$27:$K$68,2,FALSE)","v":"NE2"},0,null,null,null,null,null,1,"F84720",null,5214,14,11,13,11,10,11,21,17,14,15,15,25,22,22,15,20,16]
["2016/17 Q1",{"$f":"VLOOKUP(J222,'Control Panel'!$I$27:$K$68,2,FALSE)","v":"SE2"},1,null,null,null,null,null,1,"Y00403",null,5689,14,11,12,11,12,3,19,17,12,12,12,18,17,16,11,16,11]
["2016/17 Q1",{"$f":"VLOOKUP(J223,'Control Panel'!$I$27:$K$68,2,FALSE)","v":{"$error":"#N/A"}},{"$error":"#N/A"},null,null,null,null,null,1,"Y01177",null,8071,22,16,16,16,15,9,33,22,24,25,25,39,8,9,15,8,16]
["2016/17 Q1",{"$f":"VLOOKUP(J224,'Control Panel'!$I$27:$K$68,2,FALSE)","v":"NE1"},0,null,null,null,null,null,1,"Y03049",null,7464,62,42,46,40,35,33,51,40,36,33,39,44,38,40,33,31,37]
["2016/17 Q1",{"$f":"VLOOKUP(J225,'Control Panel'!$I$27:$K$68,2,FALSE)","v":{"$error":"#N/A"}},{"$error":"#N/A"},null,null,null,null,null,0,"Total",null,305883,1106,817,884,822,759,654,1113,932,832,812,849,987,853,850,689,786,706]
["2016/17 Q2",{"$f":"VLOOKUP(J226,'Control Panel'!$I$27:$K$68,2,FALSE)","v":{"$error":"#N/A"}},{"$error":"#N/A"},null,null,null,null,null,1,null,"Search","All Patients","(01) 12 MONTH COHORT","(01.01) DTaP/IPV/Hib","(01.02) Men C","(01.03) PCV","(01.04) Rotavirus","(01.05) BCG","(02) 24 MONTH COHORT","(02.01) DTaP/IPV/Hib","(02.02) MMR","(02.03) HiB/Men C","(02.04) PCV (Booster)","(03) 5 YEAR COHORT","(03.01) DTaP/IPV/Hib","(03.02) MMR (Primary)","(03.03) DTaP/IPV (Booster)","(03.04) HiB/Men C","(03.05) MMR (Booster)","(02.05) Men B (Booster)"]
["2016/17 Q2",{"$f":"VLOOKUP(J227,'Control Panel'!$I$27:$K$68,2,FALSE)","v":{"$error":"#N/A"}},{"$error":"#N/A"},null,null,null,null,null,1,"Organisation Code"]
["2016/17 Q2",{"$f":"VLOOKUP(J228,'Control Panel'!$I$27:$K$68,2,FALSE)","v":"SE1"},1,null,null,null,null,null,1,"F84003",null,12887,44,37,33,37,33,35,39,37,35,35,35,42,37,37,33,35,32]
["2016/17 Q2",{"$f":"VLOOKUP(J229,'Control Panel'!$I$27:$K$68,2,FALSE)","v":"NW2"},1,null,null,null,null,null,1,"F84008",null,12778,62,56,60,56,55,47,52,50,44,44,44,36,33,33,30,31,28]
["2016/17 Q2",{"$f":"VLOOKUP(J230,'Control Panel'!$I$27:$K$68,2,FALSE)","v":"NE1"},0,null,null,null,null,null,1,"F84013",null,14856,96,58,67,58,36,30,96,68,59,47,64,118,104,107,75,77,74]
["2016/17 Q2",{"$f":"VLOOKUP(J231,'Control Panel'!$I$27:$K$68,2,FALSE)","v":"SE1"},1,null,null,null,null,null,1,"F84015",null,5346,23,21,19,21,18,20,12,11,12,12,12,19,15,15,14,15,14]
["2016/17 Q2",{"$f":"VLOOKUP(J232,'Control Panel'!$I$27:$K$68,2,FALSE)","v":"NE2"},0,null,null,null,null,null,1,"F84018",null,11126,37,31,35,31,35,31,49,40,41,41,42,32,31,30,23,29,25]
["2016/17 Q2",{"$f":"VLOOKUP(J233,'Control Panel'!$I$27:$K$68,2,FALSE)","v":"SW1"},1,null,null,null,null,null,1,"F84021",null,10151,26,24,25,24,21,25,32,29,26,26,27,30,27,26,22,25,20]
["2016/17 Q2",{"$f":"VLOOKUP(J234,'Control Panel'!$I$27:$K$68,2,FALSE)","v":"NW2"},1,null,null,null,null,null,1,"F84033",null,12428,38,31,32,31,29,33,31,30,28,28,28,28,23,24,22,21,22]
["2016/17 Q2",{"$f":"VLOOKUP(J235,'Control Panel'!$I$27:$K$68,2,FALSE)","v":"SW1"},1,null,null,null,null,null,1,"F84035",null,3912,9,7,8,7,5,5,17,15,14,14,14,7,7,7,5,7,5]
["2016/17 Q2",{"$f":"VLOOKUP(J236,'Control Panel'!$I$27:$K$68,2,FALSE)","v":"NW1"},1,null,null,null,null,null,1,"F84036",null,6809,21,20,20,20,16,17,18,12,11,11,11,22,21,19,9,19,13]
["2016/17 Q2",{"$f":"VLOOKUP(J237,'Control Panel'!$I$27:$K$68,2,FALSE)","v":"SW1"},1,null,null,null,null,null,1,"F84038",null,3667,10,9,8,8,8,4,12,10,7,7,6,7,6,6,6,7,6]
["2016/17 Q2",{"$f":"VLOOKUP(J238,'Control Panel'!$I$27:$K$68,2,FALSE)","v":"SW2"},1,null,null,null,null,null,1,"F84041",null,7476,22,17,18,17,17,13,27,17,17,17,17,4,4,3,2,2,2]
["2016/17 Q2",{"$f":"VLOOKUP(J239,'Control Panel'!$I$27:$K$68,2,FALSE)","v":"SE1"},1,null,null,null,null,null,1,"F84043",null,4574,15,12,12,12,11,10,14,14,10,10,10,10,10,10,9,10,9]
["2016/17 Q2",{"$f":"VLOOKUP(J240,'Control Panel'!$I$27:$K$68,2,FALSE)","v":"SE1"},1,null,null,null,null,null,1,"F84060",null,4969,13,11,11,11,11,5,15,11,13,13,13,21,18,18,11,15,11]
["2016/17 Q2",{"$f":"VLOOKUP(J241,'Control Panel'!$I$27:$K$68,2,FALSE)","v":"SW1"},1,null,null,null,null,null,1,"F84063",null,6061,18,16,17,17,17,17,13,2,3,2,3,19,1,1,1,1,1]
["2016/17 Q2",{"$f":"VLOOKUP(J242,'Control Panel'!$I$27:$K$68,2,FALSE)","v":"SE2"},1,null,null,null,null,null,1,"F84069",null,14164,59,56,58,56,54,54,52,49,47,47,47,43,41,37,29,38,30]
["2016/17 Q2",{"$f":"VLOOKUP(J243,'Control Panel'!$I$27:$K$68,2,FALSE)","v":"SW2"},1,null,null,null,null,null,1,"F84072",null,9707,31,26,28,25,23,26,30,27,22,21,21,19,16,16,12,16,14]
["2016/17 Q2",{"$f":"VLOOKUP(J244,'Control Panel'!$I$27:$K$68,2,FALSE)","v":"NE2"},0,null,null,null,null,null,1,"F84080",null,4807,26,17,18,17,15,0,20,14,12,11,11,16,12,12,11,12,11]
["2016/17 Q2",{"$f":"VLOOKUP(J245,'Control Panel'!$I$27:$K$68,2,FALSE)","v":"SW2"},1,null,null,null,null,null,1,"F84096",null,13282,39,37,37,37,36,36,35,33,31,30,30,35,34,33,32,32,32]
["2016/17 Q2",{"$f":"VLOOKUP(J246,'Control Panel'!$I$27:$K$68,2,FALSE)","v":"SE1"},1,null,null,null,null,null,1,"F84105",null,11205,39,35,36,35,32,33,38,35,31,31,31,36,35,33,29,31,29]
["2016/17 Q2",{"$f":"VLOOKUP(J247,'Control Panel'!$I$27:$K$68,2,FALSE)","v":"NW1"},1,null,null,null,null,null,1,"F84115",null,8514,27,24,23,24,23,19,19,17,17,17,17,30,29,29,26,29,26]
["2016/17 Q2",{"$f":"VLOOKUP(J248,'Control Panel'!$I$27:$K$68,2,FALSE)","v":"SW1"},1,null,null,null,null,null,1,"F84117",null,9558,32,29,29,29,28,27,28,26,25,25,25,32,31,31,29,31,29]
["2016/17 Q2",{"$f":"VLOOKUP(J249,'Control Panel'!$I$27:$K$68,2,FALSE)","v":"NW1"},1,null,null,null,null,null,1,"F84119",null,11490,39,32,33,32,29,34,48,37,32,33,33,34,30,30,24,30,24]
["2016/17 Q2",{"$f":"VLOOKUP(J250,'Control Panel'!$I$27:$K$68,2,FALSE)","v":"SE2"},1,null,null,null,null,null,1,"F84601",null,6108,13,13,13,13,12,12,26,22,20,21,21,18,17,16,12,16,12]
["2016/17 Q2",{"$f":"VLOOKUP(J251,'Control Panel'!$I$27:$K$68,2,FALSE)","v":"NE2"},0,null,null,null,null,null,1,"F84619",null,4060,12,8,8,9,8,1,13,12,12,11,12,13,13,13,13,13,13]
["2016/17 Q2",{"$f":"VLOOKUP(J252,'Control Panel'!$I$27:$K$68,2,FALSE)","v":"SE2"},1,null,null,null,null,null,1,"F84620",null,5939,20,16,16,16,16,16,22,22,18,17,18,21,21,19,18,20,19]
["2016/17 Q2",{"$f":"VLOOKUP(J253,'Control Panel'!$I$27:$K$68,2,FALSE)","v":"SW1"},1,null,null,null,null,null,1,"F84621",null,3630,14,12,11,12,12,12,12,10,8,9,9,8,7,6,6,6,6]
["2016/17 Q2",{"$f":"VLOOKUP(J254,'Control Panel'!$I$27:$K$68,2,FALSE)","v":"NW2"},1,null,null,null,null,null,1,"F84624",null,2879,3,3,3,3,3,2,6,5,5,5,5,6,5,6,4,5,6]
["2016/17 Q2",{"$f":"VLOOKUP(J255,'Control Panel'!$I$27:$K$68,2,FALSE)","v":"SE2"},1,null,null,null,null,null,1,"F84632",null,938,0,0,0,0,0,0,0,0,0,0,0,0,0,0,0,0,0]
["2016/17 Q2",{"$f":"VLOOKUP(J256,'Control Panel'!$I$27:$K$68,2,FALSE)","v":"SW2"},1,null,null,null,null,null,1,"F84635",null,8040,26,23,24,23,21,25,14,9,10,11,12,24,24,24,19,23,18]
["2016/17 Q2",{"$f":"VLOOKUP(J257,'Control Panel'!$I$27:$K$68,2,FALSE)","v":"NW2"},1,null,null,null,null,null,1,"F84636",null,3376,10,10,10,10,10,3,11,7,6,7,6,7,7,6,3,5,3]
["2016/17 Q2",{"$f":"VLOOKUP(J258,'Control Panel'!$I$27:$K$68,2,FALSE)","v":"City"},{"$f":"IF(LEFT(B258,2)=\"NE\",0,1)","v":1},null,null,null,null,null,1,"F84640",null,9170,19,19,19,19,19,10,14,12,11,11,11,8,7,6,7,6,7]
["2016/17 Q2",{"$f":"VLOOKUP(J259,'Control Panel'!$I$27:$K$68,2,FALSE)","v":"NE2"},0,null,null,null,null,null,{"$f":"IF(J259=\"Total\",0,1)","v":1},"F84668",null,6343,40,17,23,18,14,1,45,35,35,25,35,36,31,32,28,29,28]
["2016/17 Q2",{"$f":"VLOOKUP(J260,'Control Panel'!$I$27:$K$68,2,FALSE)","v":"NE2"},0,null,null,null,null,null,1,"F84685",null,3118,13,9,11,9,7,1,10,6,5,5,5,12,11,11,9,11,8]
["2016/17 Q2",{"$f":"VLOOKUP(J261,'Control Panel'!$I$27:$K$68,2,FALSE)","v":"NE1"},0,null,null,null,null,null,1,"F84686",null,7236,64,31,39,32,17,0,58,36,34,31,38,63,48,52,33,43,34]
["2016/17 Q2",{"$f":"VLOOKUP(J262,'Control Panel'!$I$27:$K$68,2,FALSE)","v":"SW2"},1,null,null,null,null,null,1,"F84692",null,6559,17,15,16,15,15,16,16,15,14,14,14,14,13,13,9,12,10]
["2016/17 Q2",{"$f":"VLOOKUP(J263,'Control Panel'!$I$27:$K$68,2,FALSE)","v":"NW2"},1,null,null,null,null,null,1,"F84694",null,2911,6,5,5,5,4,3,8,7,6,6,5,7,7,7,6,6,5]
["2016/17 Q2",{"$f":"VLOOKUP(J264,'Control Panel'!$I$27:$K$68,2,FALSE)","v":"NE2"},0,null,null,null,null,null,1,"F84711",null,2091,4,3,3,3,3,1,8,8,6,5,4,6,2,3,2,3,2]
["2016/17 Q2",{"$f":"VLOOKUP(J265,'Control Panel'!$I$27:$K$68,2,FALSE)","v":"NW1"},1,null,null,null,null,null,1,"F84716",null,4926,29,15,19,16,13,4,27,18,13,11,13,27,19,24,10,14,10]
["2016/17 Q2",{"$f":"VLOOKUP(J266,'Control Panel'!$I$27:$K$68,2,FALSE)","v":"SE1"},1,null,null,null,null,null,1,"F84719",null,4604,13,12,12,12,12,12,9,8,6,6,7,9,9,9,5,9,8]
["2016/17 Q2",{"$f":"VLOOKUP(J267,'Control Panel'!$I$27:$K$68,2,FALSE)","v":"NE2"},0,null,null,null,null,null,1,"F84720",null,5239,23,15,13,13,11,5,24,19,17,18,17,24,21,22,20,21,18]
["2016/17 Q2",{"$f":"VLOOKUP(J268,'Control Panel'!$I$27:$K$68,2,FALSE)","v":"SE2"},1,null,null,null,null,null,1,"Y00403",null,5735,21,15,16,15,16,4,20,17,14,14,14,23,22,20,18,20,19]
["2016/17 Q2",{"$f":"VLOOKUP(J269,'Control Panel'!$I$27:$K$68,2,FALSE)","v":{"$error":"#N/A"}},{"$error":"#N/A"},null,null,null,null,null,1,"Y01177",null,8114,27,16,14,16,12,4,22,17,16,16,16,20,4,4,8,4,10]
["2016/17 Q2",{"$f":"VLOOKUP(J270,'Control Panel'!$I$27:$K$68,2,FALSE)","v":"NE1"},0,null,null,null,null,null,1,"Y03049",null,7557,47,28,30,27,20,18,57,43,39,35,38,47,40,39,30,32,30]
["2016/17 Q2",{"$f":"VLOOKUP(J271,'Control Panel'!$I$27:$K$68,2,FALSE)","v":{"$error":"#N/A"}},{"$error":"#N/A"},null,null,null,null,null,0,"Total",null,308340,1147,891,932,891,797,671,1119,912,832,800,841,1033,893,889,714,811,723]
["2016/17 Q3",{"$f":"VLOOKUP(J272,'Control Panel'!$I$27:$K$68,2,FALSE)","v":{"$error":"#N/A"}},{"$error":"#N/A"},null,"Last Run:",null,"Population Count",325186,1,null,"Search","All Patients","(01) 12 MONTH COHORT","(01.01) DTaP/IPV/Hib","(01.02) Men B (1st and 2nd)","(01.03) PCV","(01.04) Rotavirus","(01.05) BCG","(02) 24 MONTH COHORT","(02.01) DTaP/IPV/Hib","(02.02) MMR","(02.03) HiB/Men C","(02.04) PCV (Booster)","(03) 5 YEAR COHORT","(03.01) DTaP/IPV/Hib","(03.02) MMR (Primary)","(03.03) DTaP/IPV (Booster)","(03.04) HiB/Men C","(03.05) MMR (Booster)","(02.05) Men B (Booster)"]
["2016/17 Q3",{"$f":"VLOOKUP(J273,'Control Panel'!$I$27:$K$68,2,FALSE)","v":{"$error":"#N/A"}},{"$error":"#N/A"},null,"2018-04-17T15:21:00",null,"Males",160798,1,"Organisation Code"]
["2016/17 Q3",{"$f":"VLOOKUP(J274,'Control Panel'!$I$27:$K$68,2,FALSE)","v":"SE1"},1,null,"Relative Date:",null,"Females",164388,1,"F84003",null,12891,54,46,41,46,45,46,47,44,41,41,41,29,27,26,21,25,21]
["2016/17 Q3",{"$f":"VLOOKUP(J275,'Control Panel'!$I$27:$K$68,2,FALSE)","v":"NW2"},1,null,"2017-01-01",null,null,null,1,"F84008",null,12786,53,47,47,47,45,46,39,38,29,31,32,45,43,40,40,43,39]
["2016/17 Q3",{"$f":"VLOOKUP(J276,'Control Panel'!$I$27:$K$68,2,FALSE)","v":"NE1"},0,null,null,null,null,null,1,"F84013",null,14919,114,54,47,54,33,28,102,63,61,44,61,114,98,103,63,63,65]
["2016/17 Q3",{"$f":"VLOOKUP(J277,'Control Panel'!$I$27:$K$68,2,FALSE)","v":"SE1"},1,null,null,null,null,null,1,"F84015",null,5353,22,19,19,19,18,17,22,19,19,19,19,18,15,15,15,14,15]
["2016/17 Q3",{"$f":"VLOOKUP(J278,'Control Panel'!$I$27:$K$68,2,FALSE)","v":"NE2"},0,null,null,null,null,null,1,"F84018",null,11196,51,45,45,46,47,46,50,44,41,41,42,41,37,38,31,37,33]
["2016/17 Q3",{"$f":"VLOOKUP(J279,'Control Panel'!$I$27:$K$68,2,FALSE)","v":"SW1"},1,null,null,null,null,null,1,"F84021",null,10246,44,44,40,44,42,41,35,32,30,30,30,34,32,29,26,29,26]
["2016/17 Q3",{"$f":"VLOOKUP(J280,'Control Panel'!$I$27:$K$68,2,FALSE)","v":"NW2"},1,null,null,null,null,null,1,"F84033",null,12432,41,39,38,39,38,39,34,31,29,29,28,46,41,36,30,36,30]
["2016/17 Q3",{"$f":"VLOOKUP(J281,'Control Panel'!$I$27:$K$68,2,FALSE)","v":"SW1"},1,null,null,null,null,null,1,"F84035",null,3978,11,8,8,8,8,8,4,3,3,3,3,6,6,6,6,6,6]
["2016/17 Q3",{"$f":"VLOOKUP(J282,'Control Panel'!$I$27:$K$68,2,FALSE)","v":"NW1"},1,null,null,null,null,null,1,"F84036",null,6714,23,21,21,22,20,22,18,15,12,11,11,23,21,21,14,20,16]
["2016/17 Q3",{"$f":"VLOOKUP(J283,'Control Panel'!$I$27:$K$68,2,FALSE)","v":"SW1"},1,null,null,null,null,null,1,"F84038",null,3712,9,7,9,7,6,0,2,2,2,2,2,12,9,7,7,8,8]
["2016/17 Q3",{"$f":"VLOOKUP(J284,'Control Panel'!$I$27:$K$68,2,FALSE)","v":"SW2"},1,null,null,null,null,null,1,"F84041",null,7535,26,25,26,26,22,24,13,9,9,9,9,17,16,16,14,16,14]
["2016/17 Q3",{"$f":"VLOOKUP(J285,'Control Panel'!$I$27:$K$68,2,FALSE)","v":"SE1"},1,null,null,null,null,null,1,"F84043",null,4531,19,19,19,19,17,17,19,19,17,19,19,13,12,12,11,9,11]
["2016/17 Q3",{"$f":"VLOOKUP(J286,'Control Panel'!$I$27:$K$68,2,FALSE)","v":"SE1"},1,null,null,null,null,null,1,"F84060",null,4981,16,14,14,14,13,4,17,12,11,10,10,10,10,10,8,10,8]
["2016/17 Q3",{"$f":"VLOOKUP(J287,'Control Panel'!$I$27:$K$68,2,FALSE)","v":"SW1"},1,null,null,null,null,null,1,"F84063",null,6093,20,18,17,18,18,16,11,3,9,9,8,12,0,0,2,0,2]
["2016/17 Q3",{"$f":"VLOOKUP(J288,'Control Panel'!$I$27:$K$68,2,FALSE)","v":"SE2"},1,null,null,null,null,null,1,"F84069",null,14232,45,43,42,43,39,44,48,44,43,42,41,48,48,47,41,46,40]
["2016/17 Q3",{"$f":"VLOOKUP(J289,'Control Panel'!$I$27:$K$68,2,FALSE)","v":"SW2"},1,null,null,null,null,null,1,"F84072",null,9817,30,29,28,29,28,29,32,27,31,31,29,15,14,13,10,13,12]
["2016/17 Q3",{"$f":"VLOOKUP(J290,'Control Panel'!$I$27:$K$68,2,FALSE)","v":"NE2"},0,null,null,null,null,null,1,"F84080",null,4815,20,14,16,16,12,0,20,13,12,11,12,16,11,15,12,10,12]
["2016/17 Q3",{"$f":"VLOOKUP(J291,'Control Panel'!$I$27:$K$68,2,FALSE)","v":"SW2"},1,null,null,null,null,null,1,"F84096",null,13345,31,24,26,25,23,26,32,29,27,28,28,26,26,25,21,24,23]
["2016/17 Q3",{"$f":"VLOOKUP(J292,'Control Panel'!$I$27:$K$68,2,FALSE)","v":"SE1"},1,null,null,null,null,null,1,"F84105",null,11316,46,44,42,43,42,42,28,28,26,27,24,41,37,35,31,36,32]
["2016/17 Q3",{"$f":"VLOOKUP(J293,'Control Panel'!$I$27:$K$68,2,FALSE)","v":"NW1"},1,null,null,null,null,null,1,"F84115",null,8504,25,25,24,25,25,22,26,26,25,25,25,18,15,17,16,15,16]
["2016/17 Q3",{"$f":"VLOOKUP(J294,'Control Panel'!$I$27:$K$68,2,FALSE)","v":"SW1"},1,null,null,null,null,null,1,"F84117",null,9655,35,34,32,34,33,32,25,25,24,24,24,19,19,19,16,19,17]
["2016/17 Q3",{"$f":"VLOOKUP(J295,'Control Panel'!$I$27:$K$68,2,FALSE)","v":"NW1"},1,null,null,null,null,null,1,"F84119",null,11669,53,51,50,51,46,43,41,34,32,31,29,32,26,26,21,23,24]
["2016/17 Q3",{"$f":"VLOOKUP(J296,'Control Panel'!$I$27:$K$68,2,FALSE)","v":"SE2"},1,null,null,null,null,null,1,"F84601",null,6059,12,11,11,11,8,11,24,18,16,16,15,16,14,14,13,12,13]
["2016/17 Q3",{"$f":"VLOOKUP(J297,'Control Panel'!$I$27:$K$68,2,FALSE)","v":"NE2"},0,null,null,null,null,null,1,"F84619",null,4055,14,13,13,13,11,4,15,15,14,14,14,13,13,13,13,13,13]
["2016/17 Q3",{"$f":"VLOOKUP(J298,'Control Panel'!$I$27:$K$68,2,FALSE)","v":"SE2"},1,null,null,null,null,null,1,"F84620",null,5911,18,18,18,18,17,18,13,11,9,9,9,12,12,11,9,11,10]
["2016/17 Q3",{"$f":"VLOOKUP(J299,'Control Panel'!$I$27:$K$68,2,FALSE)","v":"SW1"},1,null,null,null,null,null,1,"F84621",null,3640,8,3,3,3,3,6,8,8,7,7,8,15,15,15,13,15,13]
["2016/17 Q3",{"$f":"VLOOKUP(J300,'Control Panel'!$I$27:$K$68,2,FALSE)","v":"NW2"},1,null,null,null,null,null,1,"F84624",null,2858,6,6,5,6,6,5,9,7,7,7,7,5,2,2,4,2,4]
["2016/17 Q3",{"$f":"VLOOKUP(J301,'Control Panel'!$I$27:$K$68,2,FALSE)","v":"SE2"},1,null,null,null,null,null,1,"F84632",null,982,0,0,0,0,0,0,0,0,0,0,0,0,0,0,0,0,0]
["2016/17 Q3",{"$f":"VLOOKUP(J302,'Control Panel'!$I$27:$K$68,2,FALSE)","v":"SW2"},1,null,null,null,null,null,1,"F84635",null,8230,20,18,17,18,18,16,20,18,18,18,19,24,22,19,16,20,18]
["2016/17 Q3",{"$f":"VLOOKUP(J303,'Control Panel'!$I$27:$K$68,2,FALSE)","v":"NW2"},1,null,null,null,null,null,1,"F84636",null,3400,8,7,5,7,7,2,10,8,7,7,7,5,4,5,4,5,4]
["2016/17 Q3",{"$f":"VLOOKUP(J304,'Control Panel'!$I$27:$K$68,2,FALSE)","v":"City"},1,null,null,null,null,null,1,"F84640",null,9278,23,19,19,20,20,6,10,10,10,10,10,13,13,13,13,13,13]
["2016/17 Q3",{"$f":"VLOOKUP(J305,'Control Panel'!$I$27:$K$68,2,FALSE)","v":"NE2"},0,null,null,null,null,null,1,"F84668",null,6285,39,15,17,18,13,0,48,36,32,28,36,37,37,35,34,34,33]
["2016/17 Q3",{"$f":"VLOOKUP(J306,'Control Panel'!$I$27:$K$68,2,FALSE)","v":"NE2"},0,null,null,null,null,null,1,"F84685",null,3101,16,11,11,11,11,0,9,9,9,7,7,8,7,7,5,6,5]
["2016/17 Q3",{"$f":"VLOOKUP(J307,'Control Panel'!$I$27:$K$68,2,FALSE)","v":"NE1"},0,null,null,null,null,null,1,"F84686",null,7265,88,35,27,36,22,0,70,46,35,30,40,67,58,56,27,45,28]
["2016/17 Q3",{"$f":"VLOOKUP(J308,'Control Panel'!$I$27:$K$68,2,FALSE)","v":"SW2"},1,null,null,null,null,null,1,"F84692",null,6902,8,8,8,8,7,8,11,11,10,10,10,17,17,17,15,17,15]
["2016/17 Q3",{"$f":"VLOOKUP(J309,'Control Panel'!$I$27:$K$68,2,FALSE)","v":"NW2"},1,null,null,null,null,null,1,"F84694",null,2976,7,7,7,7,6,6,7,7,7,7,7,7,7,7,6,7,6]
["2016/17 Q3",{"$f":"VLOOKUP(J310,'Control Panel'!$I$27:$K$68,2,FALSE)","v":"NE2"},0,null,null,null,null,null,1,"F84711",null,2076,3,3,0,2,1,3,4,3,3,4,3,7,6,7,4,7,5]
["2016/17 Q3",{"$f":"VLOOKUP(J311,'Control Panel'!$I$27:$K$68,2,FALSE)","v":"NW1"},1,null,null,null,null,null,1,"F84716",null,5052,29,14,14,15,14,6,22,16,12,11,14,22,15,17,6,14,8]
["2016/17 Q3",{"$f":"VLOOKUP(J312,'Control Panel'!$I$27:$K$68,2,FALSE)","v":"SE1"},1,null,null,null,null,null,1,"F84719",null,4632,18,16,14,16,14,15,11,11,11,11,10,10,9,9,9,7,9]
["2016/17 Q3",{"$f":"VLOOKUP(J313,'Control Panel'!$I$27:$K$68,2,FALSE)","v":"NE2"},0,null,null,null,null,null,1,"F84720",null,5229,14,9,9,9,9,1,24,17,19,19,20,16,15,16,12,14,13]
["2016/17 Q3",{"$f":"VLOOKUP(J314,'Control Panel'!$I$27:$K$68,2,FALSE)","v":"SE2"},1,null,null,null,null,null,1,"Y00403",null,5783,17,13,12,13,13,3,21,19,18,18,18,17,17,17,15,16,16]
["2016/17 Q3",{"$f":"VLOOKUP(J315,'Control Panel'!$I$27:$K$68,2,FALSE)","v":"NE1"},0,null,null,null,null,null,1,"Y03049",null,15695,84,55,49,56,43,21,65,50,47,45,48,66,41,46,40,38,45]
["2016/17 Q3",{"$f":"VLOOKUP(J316,'Control Panel'!$I$27:$K$68,2,FALSE)","v":{"$error":"#N/A"}},{"$error":"#N/A"},null,null,null,null,null,0,"Total",null,310129,1220,951,910,962,863,723,1066,880,824,795,829,1012,887,882,714,798,741]
["2016/17 Q4",{"$f":"VLOOKUP(J317,'Control Panel'!$I$27:$K$68,2,FALSE)","v":{"$error":"#N/A"}},{"$error":"#N/A"},null,"Last Run:",null,"Population Count",332442,1,null,"Search","All Patients","(01) 12 MONTH COHORT","(01.01) DTaP/IPV/Hib","(01.02) Men B (1st and 2nd)","(01.03) PCV","(01.04) Rotavirus","(01.05) BCG","(02) 24 MONTH COHORT","(02.01) DTaP/IPV/Hib","(02.02) MMR","(02.03) HiB/Men C","(02.04) PCV (Booster)","(03) 5 YEAR COHORT","(03.01) DTaP/IPV/Hib","(03.02) MMR (Primary)","(03.03) DTaP/IPV (Booster)","(03.04) HiB/Men C","(03.05) MMR (Booster)","(02.05) Men B (Booster)"]
["2016/17 Q4",{"$f":"VLOOKUP(J318,'Control Panel'!$I$27:$K$68,2,FALSE)","v":{"$error":"#N/A"}},{"$error":"#N/A"},null,"2018-04-03T12:56:00",null,"Males",164319,1,"Organisation Code"]
["2016/17 Q4",{"$f":"VLOOKUP(J319,'Control Panel'!$I$27:$K$68,2,FALSE)","v":"SE1"},1,null,"Relative Date:",null,"Females",168123,1,"F84003",null,12797,53,47,46,47,45,6,40,40,35,35,35,28,25,24,23,24,23]
["2016/17 Q4",{"$f":"VLOOKUP(J320,'Control Panel'!$I$27:$K$68,2,FALSE)","v":"NW2"},1,null,"2018-04-01",null,null,null,1,"F84008",null,12705,32,32,32,32,30,2,47,44,40,41,42,38,36,36,29,36,30]
["2016/17 Q4",{"$f":"VLOOKUP(J321,'Control Panel'!$I$27:$K$68,2,FALSE)","v":"NE1"},0,null,null,null,null,null,1,"F84013",null,15089,105,24,36,38,26,2,117,77,66,58,73,89,67,64,39,53,39]
["2016/17 Q4",{"$f":"VLOOKUP(J322,'Control Panel'!$I$27:$K$68,2,FALSE)","v":"SE1"},{"$f":"IF(LEFT(B322,2)=\"NE\",0,1)","v":1},null,null,null,null,null,1,"F84015",null,5352,14,11,11,11,8,5,19,19,17,18,18,27,24,23,23,22,24]
["2016/17 Q4",{"$f":"VLOOKUP(J323,'Control Panel'!$I$27:$K$68,2,FALSE)","v":"NE2"},0,null,null,null,null,null,{"$f":"IF(J323=\"Total\",0,1)","v":1},"F84018",null,11531,42,37,35,37,32,7,42,40,37,37,37,37,36,35,31,35,35]
["2016/17 Q4",{"$f":"VLOOKUP(J324,'Control Panel'!$I$27:$K$68,2,FALSE)","v":"SW1"},1,null,null,null,null,null,1,"F84021",null,10373,20,18,17,18,18,6,27,27,19,19,19,28,25,24,20,24,20]
["2016/17 Q4",{"$f":"VLOOKUP(J325,'Control Panel'!$I$27:$K$68,2,FALSE)","v":"NW2"},1,null,null,null,null,null,1,"F84033",null,12515,44,41,42,42,41,6,29,26,26,27,27,30,27,25,23,24,24]
["2016/17 Q4",{"$f":"VLOOKUP(J326,'Control Panel'!$I$27:$K$68,2,FALSE)","v":"SW1"},1,null,null,null,null,null,1,"F84035",null,5686,10,6,9,9,8,1,16,15,13,13,13,5,5,5,3,5,3]
["2016/17 Q4",{"$f":"VLOOKUP(J327,'Control Panel'!$I$27:$K$68,2,FALSE)","v":"NW1"},1,null,null,null,null,null,1,"F84036",null,6912,26,20,21,22,20,4,17,14,14,14,14,21,16,16,14,16,15]
["2016/17 Q4",{"$f":"VLOOKUP(J328,'Control Panel'!$I$27:$K$68,2,FALSE)","v":"SW1"},1,null,null,null,null,null,1,"F84038",null,3792,9,7,6,7,5,2,8,6,6,5,6,5,5,5,4,5,3]
["2016/17 Q4",{"$f":"VLOOKUP(J329,'Control Panel'!$I$27:$K$68,2,FALSE)","v":"SW2"},1,null,null,null,null,null,1,"F84041",null,7820,28,25,25,25,26,3,17,14,14,13,14,17,15,15,16,15,15]
["2016/17 Q4",{"$f":"VLOOKUP(J330,'Control Panel'!$I$27:$K$68,2,FALSE)","v":"SE1"},1,null,null,null,null,null,1,"F84043",null,4521,20,18,17,18,17,3,15,14,14,14,14,15,12,12,13,12,12]
["2016/17 Q4",{"$f":"VLOOKUP(J331,'Control Panel'!$I$27:$K$68,2,FALSE)","v":"SE1"},1,null,null,null,null,null,1,"F84060",null,4784,10,9,9,9,9,2,12,11,10,10,10,14,11,11,10,11,10]
["2016/17 Q4",{"$f":"VLOOKUP(J332,'Control Panel'!$I$27:$K$68,2,FALSE)","v":"SW1"},1,null,null,null,null,null,1,"F84063",null,5931,16,14,14,14,13,4,9,8,6,6,6,18,2,2,13,2,15]
["2016/17 Q4",{"$f":"VLOOKUP(J333,'Control Panel'!$I$27:$K$68,2,FALSE)","v":"SE2"},1,null,null,null,null,null,1,"F84069",null,14604,59,56,56,58,55,7,37,35,31,30,30,50,46,41,26,42,28]
["2016/17 Q4",{"$f":"VLOOKUP(J334,'Control Panel'!$I$27:$K$68,2,FALSE)","v":"SW2"},1,null,null,null,null,null,1,"F84072",null,10488,40,39,39,39,37,1,32,29,28,28,29,28,25,24,18,24,17]
["2016/17 Q4",{"$f":"VLOOKUP(J335,'Control Panel'!$I$27:$K$68,2,FALSE)","v":"NE2"},0,null,null,null,null,null,1,"F84080",null,4745,21,12,12,12,10,0,18,11,10,11,11,16,16,15,8,15,8]
["2016/17 Q4",{"$f":"VLOOKUP(J336,'Control Panel'!$I$27:$K$68,2,FALSE)","v":"SW2"},1,null,null,null,null,null,1,"F84096",null,13643,30,27,28,29,26,8,26,23,23,23,23,35,35,34,30,34,30]
["2016/17 Q4",{"$f":"VLOOKUP(J337,'Control Panel'!$I$27:$K$68,2,FALSE)","v":"SE1"},1,null,null,null,null,null,1,"F84105",null,11407,41,34,35,35,36,15,51,47,42,42,42,39,37,35,23,36,23]
["2016/17 Q4",{"$f":"VLOOKUP(J338,'Control Panel'!$I$27:$K$68,2,FALSE)","v":"NW1"},1,null,null,null,null,null,1,"F84115",null,8696,17,14,14,14,14,2,23,22,18,18,19,13,13,12,11,10,12]
["2016/17 Q4",{"$f":"VLOOKUP(J339,'Control Panel'!$I$27:$K$68,2,FALSE)","v":"SW1"},1,null,null,null,null,null,1,"F84117",null,10091,39,37,36,37,35,7,30,30,25,26,26,35,35,34,32,34,32]
["2016/17 Q4",{"$f":"VLOOKUP(J340,'Control Panel'!$I$27:$K$68,2,FALSE)","v":"NW1"},1,null,null,null,null,null,1,"F84119",null,12194,40,35,35,36,33,15,48,43,37,37,38,37,30,31,21,30,22]
["2016/17 Q4",{"$f":"VLOOKUP(J341,'Control Panel'!$I$27:$K$68,2,FALSE)","v":"SE2"},1,null,null,null,null,null,1,"F84601",null,6449,16,16,16,16,14,7,14,10,11,11,11,17,14,13,13,14,13]
["2016/17 Q4",{"$f":"VLOOKUP(J342,'Control Panel'!$I$27:$K$68,2,FALSE)","v":"NE2"},0,null,null,null,null,null,1,"F84619",null,4137,12,11,11,11,11,1,16,15,13,14,14,14,14,13,12,12,13]
["2016/17 Q4",{"$f":"VLOOKUP(J343,'Control Panel'!$I$27:$K$68,2,FALSE)","v":"SE2"},1,null,null,null,null,null,1,"F84620",null,6158,14,12,12,12,12,0,7,7,6,6,6,22,21,20,12,20,12]
["2016/17 Q4",{"$f":"VLOOKUP(J344,'Control Panel'!$I$27:$K$68,2,FALSE)","v":"SW1"},1,null,null,null,null,null,1,"F84621",null,3663,7,6,6,6,6,4,9,9,8,8,8,8,8,7,4,6,4]
["2016/17 Q4",{"$f":"VLOOKUP(J345,'Control Panel'!$I$27:$K$68,2,FALSE)","v":"NW2"},1,null,null,null,null,null,1,"F84624",null,2772,5,4,4,4,4,4,10,8,8,8,8,5,1,2,3,2,3]
["2016/17 Q4",{"$f":"VLOOKUP(J346,'Control Panel'!$I$27:$K$68,2,FALSE)","v":"SE2"},1,null,null,null,null,null,1,"F84632",null,1053,0,0,0,0,0,0,0,0,0,0,0,0,0,0,0,0,0]
["2016/17 Q4",{"$f":"VLOOKUP(J347,'Control Panel'!$I$27:$K$68,2,FALSE)","v":"SW2"},1,null,null,null,null,null,1,"F84635",null,8386,17,15,15,15,14,6,26,25,21,22,21,15,15,14,11,15,10]
["2016/17 Q4",{"$f":"VLOOKUP(J348,'Control Panel'!$I$27:$K$68,2,FALSE)","v":"NW2"},1,null,null,null,null,null,1,"F84636",null,3968,9,6,7,7,8,5,8,7,6,6,5,14,12,10,6,9,10]
["2016/17 Q4",{"$f":"VLOOKUP(J349,'Control Panel'!$I$27:$K$68,2,FALSE)","v":"City"},1,null,null,null,null,null,1,"F84640",null,9362,24,19,19,21,20,9,13,12,11,12,12,20,19,18,13,18,13]
["2016/17 Q4",{"$f":"VLOOKUP(J350,'Control Panel'!$I$27:$K$68,2,FALSE)","v":"NE2"},0,null,null,null,null,null,1,"F84668",null,6518,50,23,28,29,16,4,32,16,17,15,18,39,35,35,27,33,27]
["2016/17 Q4",{"$f":"VLOOKUP(J351,'Control Panel'!$I$27:$K$68,2,FALSE)","v":"NE2"},0,null,null,null,null,null,1,"F84685",null,3030,12,9,9,9,9,3,12,10,7,6,9,13,12,10,6,10,6]
["2016/17 Q4",{"$f":"VLOOKUP(J352,'Control Panel'!$I$27:$K$68,2,FALSE)","v":"NE1"},0,null,null,null,null,null,1,"F84686",null,7576,81,21,26,29,23,0,55,29,21,20,32,56,47,47,23,39,25]
["2016/17 Q4",{"$f":"VLOOKUP(J353,'Control Panel'!$I$27:$K$68,2,FALSE)","v":"SW2"},1,null,null,null,null,null,1,"F84692",null,7120,14,14,14,14,14,1,20,18,15,15,15,15,14,14,11,14,12]
["2016/17 Q4",{"$f":"VLOOKUP(J354,'Control Panel'!$I$27:$K$68,2,FALSE)","v":"NW2"},1,null,null,null,null,null,1,"F84694",null,3554,11,9,9,10,9,2,8,7,8,6,7,7,5,5,4,5,4]
["2016/17 Q4",{"$f":"VLOOKUP(J355,'Control Panel'!$I$27:$K$68,2,FALSE)","v":"NE2"},0,null,null,null,null,null,1,"F84711",null,2050,5,4,4,4,4,2,2,1,2,2,2,6,4,4,4,3,4]
["2016/17 Q4",{"$f":"VLOOKUP(J356,'Control Panel'!$I$27:$K$68,2,FALSE)","v":"NW1"},1,null,null,null,null,null,1,"F84716",null,5567,20,13,13,14,13,1,21,12,12,9,12,24,18,15,6,15,7]
["2016/17 Q4",{"$f":"VLOOKUP(J357,'Control Panel'!$I$27:$K$68,2,FALSE)","v":"SE1"},1,null,null,null,null,null,1,"F84719",null,4899,10,9,9,10,9,1,12,12,10,10,10,15,13,13,14,12,15]
["2016/17 Q4",{"$f":"VLOOKUP(J358,'Control Panel'!$I$27:$K$68,2,FALSE)","v":"NE2"},0,null,null,null,null,null,1,"F84720",null,5263,16,11,12,12,11,1,31,17,18,16,17,25,20,19,12,15,15]
["2016/17 Q4",{"$f":"VLOOKUP(J359,'Control Panel'!$I$27:$K$68,2,FALSE)","v":"SE2"},1,null,null,null,null,null,1,"Y00403",null,6095,16,15,13,14,14,0,20,14,12,13,14,9,7,6,5,6,6]
["2016/17 Q4",{"$f":"VLOOKUP(J360,'Control Panel'!$I$27:$K$68,2,FALSE)","v":"NE1"},0,null,null,null,null,null,1,"Y03049",null,15413,77,39,40,42,34,10,74,47,51,43,53,51,47,37,25,41,26]
["2016/17 Q4",{"$f":"VLOOKUP(J361,'Control Panel'!$I$27:$K$68,2,FALSE)","v":{"$error":"#N/A"}},{"$error":"#N/A"},null,null,null,null,null,0,"Total",null,318709,1132,819,842,868,789,169,1070,871,788,767,820,1000,869,825,641,798,665]
["2017/18 Q1",{"$f":"VLOOKUP(J362,'Control Panel'!$I$27:$K$68,2,FALSE)","v":{"$error":"#N/A"}},{"$error":"#N/A"},null,"Last Run:",null,"Population Count",328674,1,null,"Search","All Patients","(01) 12 MONTH COHORT","(01.01) DTaP/IPV/Hib","(01.02) Men B (1st and 2nd)","(01.03) PCV","(01.04) Rotavirus","(01.05) BCG","(02) 24 MONTH COHORT","(02.01) DTaP/IPV/Hib","(02.02) MMR","(02.03) HiB/Men C","(02.04) PCV (Booster)","(03) 5 YEAR COHORT","(03.01) DTaP/IPV/Hib","(03.02) MMR (Primary)","(03.03) DTaP/IPV (Booster)","(03.04) HiB/Men C","(03.05) MMR (Booster)","(02.05) Men B (Booster)"]
["2017/18 Q1",{"$f":"VLOOKUP(J363,'Control Panel'!$I$27:$K$68,2,FALSE)","v":{"$error":"#N/A"}},{"$error":"#N/A"},null,"2017-08-02T10:20:00",null,"Males",162888,1,"Organisation Code"]
["2017/18 Q1",{"$f":"VLOOKUP(J364,'Control Panel'!$I$27:$K$68,2,FALSE)","v":"SE1"},1,null,"Relative Date:",null,"Females",165786,1,"F84003",null,12868,49,37,38,38,37,35,50,44,36,35,35,35,33,33,25,32,24]
["2017/18 Q1",{"$f":"VLOOKUP(J365,'Control Panel'!$I$27:$K$68,2,FALSE)","v":"NW2"},1,null,"2017-07-01",null,null,null,1,"F84008",null,12839,48,44,44,44,43,30,43,38,36,36,36,47,44,41,37,42,37]
["2017/18 Q1",{"$f":"VLOOKUP(J366,'Control Panel'!$I$27:$K$68,2,FALSE)","v":"NE1"},0,null,null,null,null,null,1,"F84013",null,15116,107,45,43,51,33,25,102,65,62,48,63,91,77,80,43,56,44]
["2017/18 Q1",{"$f":"VLOOKUP(J367,'Control Panel'!$I$27:$K$68,2,FALSE)","v":"SE1"},1,null,null,null,null,null,1,"F84015",null,5345,21,19,19,19,16,17,16,14,14,14,14,17,15,15,12,15,13]
["2017/18 Q1",{"$f":"VLOOKUP(J368,'Control Panel'!$I$27:$K$68,2,FALSE)","v":"NE2"},0,null,null,null,null,null,1,"F84018",null,11275,40,35,33,36,29,22,46,38,35,35,35,39,37,33,27,36,32]
["2017/18 Q1",{"$f":"VLOOKUP(J369,'Control Panel'!$I$27:$K$68,2,FALSE)","v":"SW1"},1,null,null,null,null,null,1,"F84021",null,10373,41,36,35,36,36,34,30,26,21,21,20,29,27,26,18,25,19]
["2017/18 Q1",{"$f":"VLOOKUP(J370,'Control Panel'!$I$27:$K$68,2,FALSE)","v":"NW2"},1,null,null,null,null,null,1,"F84033",null,12471,37,37,36,37,36,24,41,37,34,36,35,38,37,37,33,35,33]
["2017/18 Q1",{"$f":"VLOOKUP(J371,'Control Panel'!$I$27:$K$68,2,FALSE)","v":"SW1"},1,null,null,null,null,null,1,"F84035",null,4310,16,15,14,16,16,6,10,7,9,9,9,9,6,5,5,5,5]
["2017/18 Q1",{"$f":"VLOOKUP(J372,'Control Panel'!$I$27:$K$68,2,FALSE)","v":"NW1"},1,null,null,null,null,null,1,"F84036",null,6645,25,22,20,21,20,19,25,21,20,20,21,23,17,17,13,17,13]
["2017/18 Q1",{"$f":"VLOOKUP(J373,'Control Panel'!$I$27:$K$68,2,FALSE)","v":"SW1"},1,null,null,null,null,null,1,"F84038",null,3728,9,7,5,7,6,0,8,8,8,8,8,6,5,5,5,4,5]
["2017/18 Q1",{"$f":"VLOOKUP(J374,'Control Panel'!$I$27:$K$68,2,FALSE)","v":"SW2"},1,null,null,null,null,null,1,"F84041",null,7660,18,15,16,15,14,14,17,16,15,14,15,18,15,15,10,17,12]
["2017/18 Q1",{"$f":"VLOOKUP(J375,'Control Panel'!$I$27:$K$68,2,FALSE)","v":"SE1"},1,null,null,null,null,null,1,"F84043",null,4523,11,5,6,5,7,6,15,13,10,10,11,18,15,14,9,14,8]
["2017/18 Q1",{"$f":"VLOOKUP(J376,'Control Panel'!$I$27:$K$68,2,FALSE)","v":"SE1"},1,null,null,null,null,null,1,"F84060",null,4942,15,11,9,11,14,4,8,6,6,6,6,10,9,8,6,8,6]
["2017/18 Q1",{"$f":"VLOOKUP(J377,'Control Panel'!$I$27:$K$68,2,FALSE)","v":"SW1"},1,null,null,null,null,null,1,"F84063",null,6062,15,13,13,13,13,13,16,2,11,11,11,9,1,1,4,1,3]
["2017/18 Q1",{"$f":"VLOOKUP(J378,'Control Panel'!$I$27:$K$68,2,FALSE)","v":"SE2"},1,null,null,null,null,null,1,"F84069",null,14456,49,44,42,45,43,6,36,34,31,31,32,40,39,39,35,37,36]
["2017/18 Q1",{"$f":"VLOOKUP(J379,'Control Panel'!$I$27:$K$68,2,FALSE)","v":"SW2"},1,null,null,null,null,null,1,"F84072",null,10109,40,31,31,31,32,19,24,19,19,18,18,15,13,12,9,12,10]
["2017/18 Q1",{"$f":"VLOOKUP(J380,'Control Panel'!$I$27:$K$68,2,FALSE)","v":"NE2"},0,null,null,null,null,null,1,"F84080",null,4767,21,13,14,14,8,0,16,11,10,11,10,18,14,13,14,13,12]
["2017/18 Q1",{"$f":"VLOOKUP(J381,'Control Panel'!$I$27:$K$68,2,FALSE)","v":"SW2"},1,null,null,null,null,null,1,"F84096",null,13502,42,37,36,37,36,29,33,31,29,29,29,41,39,38,35,38,35]
["2017/18 Q1",{"$f":"VLOOKUP(J382,'Control Panel'!$I$27:$K$68,2,FALSE)","v":"SE1"},1,null,null,null,null,null,1,"F84105",null,11295,36,33,33,33,35,14,46,46,40,40,40,45,43,41,35,39,34]
["2017/18 Q1",{"$f":"VLOOKUP(J383,'Control Panel'!$I$27:$K$68,2,FALSE)","v":"NW1"},1,null,null,null,null,null,1,"F84115",null,8644,18,16,15,16,15,15,22,20,20,20,20,22,21,21,18,19,19]
["2017/18 Q1",{"$f":"VLOOKUP(J384,'Control Panel'!$I$27:$K$68,2,FALSE)","v":"SW1"},1,null,null,null,null,null,1,"F84117",null,9904,29,28,26,28,28,24,20,19,18,18,18,33,32,31,26,30,27]
["2017/18 Q1",{"$f":"VLOOKUP(J385,'Control Panel'!$I$27:$K$68,2,FALSE)","v":"NW1"},1,null,null,null,null,null,1,"F84119",null,11987,52,48,47,47,46,24,51,45,46,45,44,33,32,32,24,30,26]
["2017/18 Q1",{"$f":"VLOOKUP(J386,'Control Panel'!$I$27:$K$68,2,FALSE)","v":"SE2"},{"$f":"IF(LEFT(B386,2)=\"NE\",0,1)","v":1},null,null,null,null,null,1,"F84601",null,6436,16,14,14,14,11,15,23,13,15,14,14,21,18,19,17,17,17]
["2017/18 Q1",{"$f":"VLOOKUP(J387,'Control Panel'!$I$27:$K$68,2,FALSE)","v":"NE2"},0,null,null,null,null,null,{"$f":"IF(J387=\"Total\",0,1)","v":1},"F84619",null,4071,13,13,13,13,13,6,15,15,12,12,13,15,14,15,15,15,15]
["2017/18 Q1",{"$f":"VLOOKUP(J388,'Control Panel'!$I$27:$K$68,2,FALSE)","v":"SE2"},1,null,null,null,null,null,1,"F84620",null,5959,25,23,23,23,22,22,22,19,18,17,17,21,20,19,14,16,17]
["2017/18 Q1",{"$f":"VLOOKUP(J389,'Control Panel'!$I$27:$K$68,2,FALSE)","v":"SW1"},1,null,null,null,null,null,1,"F84621",null,3640,10,9,9,9,9,9,10,9,8,8,8,8,8,8,7,8,7]
["2017/18 Q1",{"$f":"VLOOKUP(J390,'Control Panel'!$I$27:$K$68,2,FALSE)","v":"NW2"},1,null,null,null,null,null,1,"F84624",null,2847,8,6,7,7,6,3,11,11,8,8,8,4,4,4,3,4,3]
["2017/18 Q1",{"$f":"VLOOKUP(J391,'Control Panel'!$I$27:$K$68,2,FALSE)","v":"SE2"},1,null,null,null,null,null,1,"F84632",null,1047,0,0,0,0,0,0,0,0,0,0,0,0,0,0,0,0,0]
["2017/18 Q1",{"$f":"VLOOKUP(J392,'Control Panel'!$I$27:$K$68,2,FALSE)","v":"SW2"},1,null,null,null,null,null,1,"F84635",null,8313,17,17,17,17,17,16,33,28,25,25,22,27,25,24,23,25,21]
["2017/18 Q1",{"$f":"VLOOKUP(J393,'Control Panel'!$I$27:$K$68,2,FALSE)","v":"NW2"},1,null,null,null,null,null,1,"F84636",null,3535,15,12,12,12,12,3,7,7,6,6,6,12,11,11,7,10,11]
["2017/18 Q1",{"$f":"VLOOKUP(J394,'Control Panel'!$I$27:$K$68,2,FALSE)","v":"City"},1,null,null,null,null,null,1,"F84640",null,9387,9,9,9,9,8,5,17,15,13,13,11,15,13,13,13,12,13]
["2017/18 Q1",{"$f":"VLOOKUP(J395,'Control Panel'!$I$27:$K$68,2,FALSE)","v":"NE2"},0,null,null,null,null,null,1,"F84668",null,6355,34,21,22,22,18,9,38,23,22,22,25,32,28,26,24,26,25]
["2017/18 Q1",{"$f":"VLOOKUP(J396,'Control Panel'!$I$27:$K$68,2,FALSE)","v":"NE2"},0,null,null,null,null,null,1,"F84685",null,3082,13,9,9,9,9,4,18,12,9,8,10,14,12,12,10,11,10]
["2017/18 Q1",{"$f":"VLOOKUP(J397,'Control Panel'!$I$27:$K$68,2,FALSE)","v":"NE1"},0,null,null,null,null,null,1,"F84686",null,7429,60,27,30,30,11,0,57,39,31,25,35,53,38,44,23,32,23]
["2017/18 Q1",{"$f":"VLOOKUP(J398,'Control Panel'!$I$27:$K$68,2,FALSE)","v":"SW2"},1,null,null,null,null,null,1,"F84692",null,6939,19,19,18,18,18,13,19,17,16,16,16,16,16,16,14,15,14]
["2017/18 Q1",{"$f":"VLOOKUP(J399,'Control Panel'!$I$27:$K$68,2,FALSE)","v":"NW2"},1,null,null,null,null,null,1,"F84694",null,3180,8,7,7,7,6,5,5,3,4,4,3,10,10,9,7,8,9]
["2017/18 Q1",{"$f":"VLOOKUP(J400,'Control Panel'!$I$27:$K$68,2,FALSE)","v":"NE2"},0,null,null,null,null,null,1,"F84711",null,2064,4,3,2,4,3,2,8,4,6,5,2,5,4,4,4,4,3]
["2017/18 Q1",{"$f":"VLOOKUP(J401,'Control Panel'!$I$27:$K$68,2,FALSE)","v":"NW1"},1,null,null,null,null,null,1,"F84716",null,5313,21,7,7,8,4,0,19,15,13,10,13,21,12,13,8,11,8]
["2017/18 Q1",{"$f":"VLOOKUP(J402,'Control Panel'!$I$27:$K$68,2,FALSE)","v":"SE1"},1,null,null,null,null,null,1,"F84719",null,4735,11,11,11,11,11,11,8,7,7,5,5,11,11,11,8,9,10]
["2017/18 Q1",{"$f":"VLOOKUP(J403,'Control Panel'!$I$27:$K$68,2,FALSE)","v":"NE2"},0,null,null,null,null,null,1,"F84720",null,5235,27,19,23,23,18,1,18,14,12,12,11,29,23,23,18,20,17]
["2017/18 Q1",{"$f":"VLOOKUP(J404,'Control Panel'!$I$27:$K$68,2,FALSE)","v":"SE2"},1,null,null,null,null,null,1,"Y00403",null,5906,15,14,14,14,15,3,13,11,10,10,11,22,21,19,15,20,16]
["2017/18 Q1",{"$f":"VLOOKUP(J405,'Control Panel'!$I$27:$K$68,2,FALSE)","v":{"$error":"#N/A"}},{"$error":"#N/A"},null,null,null,null,null,1,"Y01177",null,8171,27,20,19,20,17,6,24,17,17,17,17,26,22,24,19,21,20]
["2017/18 Q1",{"$f":"VLOOKUP(J406,'Control Panel'!$I$27:$K$68,2,FALSE)","v":"NE1"},0,null,null,null,null,null,1,"Y03049",null,7553,37,24,23,24,14,9,65,44,35,33,35,41,35,35,30,32,30]
["2017/18 Q1",{"$f":"VLOOKUP(J407,'Control Panel'!$I$27:$K$68,2,FALSE)","v":{"$error":"#N/A"}},{"$error":"#N/A"},null,null,null,null,null,0,"Total",null,314018,1128,875,864,894,805,522,1105,883,817,785,812,1039,916,906,722,841,742]
["2017/18 Q2",{"$f":"VLOOKUP(J408,'Control Panel'!$I$27:$K$68,2,FALSE)","v":{"$error":"#N/A"}},{"$error":"#N/A"},null,"Last Run:",null,"Population Count",331422,1,null,"Search","All Patients","(01) 12 MONTH COHORT","(01.01) DTaP/IPV/Hib","(01.02) Men B (1st and 2nd)","(01.03) PCV","(01.04) Rotavirus","(01.05) BCG","(02) 24 MONTH COHORT","(02.01) DTaP/IPV/Hib","(02.02) MMR","(02.03) HiB/Men C","(02.04) PCV (Booster)","(03) 5 YEAR COHORT","(03.01) DTaP/IPV/Hib","(03.02) MMR (Primary)","(03.03) DTaP/IPV (Booster)","(03.04) HiB/Men C","(03.05) MMR (Booster)","(02.05) Men B (Booster)"]
["2017/18 Q2",{"$f":"VLOOKUP(J409,'Control Panel'!$I$27:$K$68,2,FALSE)","v":{"$error":"#N/A"}},{"$error":"#N/A"},null,"2017-10-02T18:44:00",null,"Males",164332,1,"Organisation Code"]
["2017/18 Q2",{"$f":"VLOOKUP(J410,'Control Panel'!$I$27:$K$68,2,FALSE)","v":"SE1"},1,null,"Relative Date:",null,"Females",167090,1,"F84003",null,12909,28,24,24,24,25,4,44,41,37,38,38,44,43,41,35,39,34]
["2017/18 Q2",{"$f":"VLOOKUP(J411,'Control Panel'!$I$27:$K$68,2,FALSE)","v":"NW2"},1,null,"2017-10-01",null,null,null,1,"F84008",null,12827,51,46,45,46,43,1,60,56,50,50,50,41,37,38,33,36,35]
["2017/18 Q2",{"$f":"VLOOKUP(J412,'Control Panel'!$I$27:$K$68,2,FALSE)","v":"NE1"},0,null,null,null,null,null,1,"F84013",null,15245,105,57,57,58,31,1,98,73,62,53,60,109,96,100,55,61,55]
["2017/18 Q2",{"$f":"VLOOKUP(J413,'Control Panel'!$I$27:$K$68,2,FALSE)","v":"SE1"},1,null,null,null,null,null,1,"F84015",null,5373,14,11,11,11,10,4,22,20,16,16,15,24,22,21,20,22,20]
["2017/18 Q2",{"$f":"VLOOKUP(J414,'Control Panel'!$I$27:$K$68,2,FALSE)","v":"NE2"},0,null,null,null,null,null,1,"F84018",null,11364,48,40,38,41,39,5,34,30,26,27,26,48,45,44,38,43,39]
["2017/18 Q2",{"$f":"VLOOKUP(J415,'Control Panel'!$I$27:$K$68,2,FALSE)","v":"SW1"},1,null,null,null,null,null,1,"F84021",null,10421,32,30,27,29,25,7,24,24,21,22,22,26,25,24,22,23,22]
["2017/18 Q2",{"$f":"VLOOKUP(J416,'Control Panel'!$I$27:$K$68,2,FALSE)","v":"NW2"},1,null,null,null,null,null,1,"F84033",null,12430,42,38,38,38,39,2,33,27,26,25,26,44,43,41,33,41,34]
["2017/18 Q2",{"$f":"VLOOKUP(J417,'Control Panel'!$I$27:$K$68,2,FALSE)","v":"SW1"},1,null,null,null,null,null,1,"F84035",null,4719,13,11,10,10,9,1,10,9,9,8,9,12,12,12,10,12,11]
["2017/18 Q2",{"$f":"VLOOKUP(J418,'Control Panel'!$I$27:$K$68,2,FALSE)","v":"NW1"},1,null,null,null,null,null,1,"F84036",null,6705,25,22,23,22,20,9,22,20,21,21,21,16,16,16,13,15,13]
["2017/18 Q2",{"$f":"VLOOKUP(J419,'Control Panel'!$I$27:$K$68,2,FALSE)","v":"SW1"},1,null,null,null,null,null,1,"F84038",null,3738,7,6,6,6,6,2,11,10,8,8,8,9,4,5,7,5,7]
["2017/18 Q2",{"$f":"VLOOKUP(J420,'Control Panel'!$I$27:$K$68,2,FALSE)","v":"SW2"},1,null,null,null,null,null,1,"F84041",null,7746,23,23,23,23,22,5,22,16,13,13,12,9,9,8,7,9,7]
["2017/18 Q2",{"$f":"VLOOKUP(J421,'Control Panel'!$I$27:$K$68,2,FALSE)","v":"SE1"},1,null,null,null,null,null,1,"F84043",null,4524,14,12,12,12,12,0,15,13,14,14,14,14,14,14,11,14,12]
["2017/18 Q2",{"$f":"VLOOKUP(J422,'Control Panel'!$I$27:$K$68,2,FALSE)","v":"SE1"},1,null,null,null,null,null,1,"F84060",null,4987,20,13,13,13,16,4,10,8,7,7,8,10,10,10,8,10,8]
["2017/18 Q2",{"$f":"VLOOKUP(J423,'Control Panel'!$I$27:$K$68,2,FALSE)","v":"SW1"},1,null,null,null,null,null,1,"F84063",null,6047,22,21,21,21,20,8,18,14,13,13,13,18,2,2,10,2,14]
["2017/18 Q2",{"$f":"VLOOKUP(J424,'Control Panel'!$I$27:$K$68,2,FALSE)","v":"SE2"},1,null,null,null,null,null,1,"F84069",null,14598,52,49,48,48,49,1,56,56,48,49,50,47,45,44,38,44,38]
["2017/18 Q2",{"$f":"VLOOKUP(J425,'Control Panel'!$I$27:$K$68,2,FALSE)","v":"SW2"},1,null,null,null,null,null,1,"F84072",null,10274,44,42,42,41,40,5,31,26,25,24,24,24,19,19,14,17,16]
["2017/18 Q2",{"$f":"VLOOKUP(J426,'Control Panel'!$I$27:$K$68,2,FALSE)","v":"NE2"},0,null,null,null,null,null,1,"F84080",null,4778,16,14,14,14,12,1,27,20,15,14,15,20,18,18,13,17,13]
["2017/18 Q2",{"$f":"VLOOKUP(J427,'Control Panel'!$I$27:$K$68,2,FALSE)","v":"SW2"},1,null,null,null,null,null,1,"F84096",null,13681,30,25,25,25,26,11,41,40,40,40,40,37,37,36,36,36,36]
["2017/18 Q2",{"$f":"VLOOKUP(J428,'Control Panel'!$I$27:$K$68,2,FALSE)","v":"SE1"},1,null,null,null,null,null,1,"F84105",null,11319,35,32,32,32,32,8,44,39,37,38,40,41,40,36,30,37,30]
["2017/18 Q2",{"$f":"VLOOKUP(J429,'Control Panel'!$I$27:$K$68,2,FALSE)","v":"NW1"},1,null,null,null,null,null,1,"F84115",null,8656,27,23,21,23,17,5,27,24,24,22,23,15,13,13,14,13,14]
["2017/18 Q2",{"$f":"VLOOKUP(J430,'Control Panel'!$I$27:$K$68,2,FALSE)","v":"SW1"},1,null,null,null,null,null,1,"F84117",null,9987,32,29,29,29,30,7,26,25,24,24,24,26,23,22,22,23,22]
["2017/18 Q2",{"$f":"VLOOKUP(J431,'Control Panel'!$I$27:$K$68,2,FALSE)","v":"NW1"},1,null,null,null,null,null,1,"F84119",null,12045,54,46,44,47,45,7,34,31,25,25,27,33,30,27,24,27,26]
["2017/18 Q2",{"$f":"VLOOKUP(J432,'Control Panel'!$I$27:$K$68,2,FALSE)","v":"SE2"},1,null,null,null,null,null,1,"F84601",null,6608,13,11,11,11,12,11,14,13,10,10,10,13,11,9,11,9,11]
["2017/18 Q2",{"$f":"VLOOKUP(J433,'Control Panel'!$I$27:$K$68,2,FALSE)","v":"NE2"},0,null,null,null,null,null,1,"F84619",null,4092,14,11,11,11,10,4,13,11,11,11,11,12,12,12,12,12,11]
["2017/18 Q2",{"$f":"VLOOKUP(J434,'Control Panel'!$I$27:$K$68,2,FALSE)","v":"SE2"},1,null,null,null,null,null,1,"F84620",null,6011,18,18,17,18,17,2,20,15,13,13,12,25,23,23,19,22,20]
["2017/18 Q2",{"$f":"VLOOKUP(J435,'Control Panel'!$I$27:$K$68,2,FALSE)","v":"SW1"},1,null,null,null,null,null,1,"F84621",null,3600,8,6,6,6,7,3,12,10,8,9,9,8,8,8,7,8,7]
["2017/18 Q2",{"$f":"VLOOKUP(J436,'Control Panel'!$I$27:$K$68,2,FALSE)","v":"NW2"},1,null,null,null,null,null,1,"F84624",null,2875,11,9,9,10,9,1,4,3,2,2,2,9,1,4,7,2,7]
["2017/18 Q2",{"$f":"VLOOKUP(J437,'Control Panel'!$I$27:$K$68,2,FALSE)","v":"SE2"},1,null,null,null,null,null,1,"F84632",null,1012,0,0,0,0,0,0,0,0,0,0,0,0,0,0,0,0,0]
["2017/18 Q2",{"$f":"VLOOKUP(J438,'Control Panel'!$I$27:$K$68,2,FALSE)","v":"SW2"},1,null,null,null,null,null,1,"F84635",null,8133,26,23,22,24,23,8,22,20,18,18,19,27,24,22,18,23,19]
["2017/18 Q2",{"$f":"VLOOKUP(J439,'Control Panel'!$I$27:$K$68,2,FALSE)","v":"NW2"},1,null,null,null,null,null,1,"F84636",null,3614,9,9,9,9,9,0,11,9,9,9,9,11,10,9,10,9,11]
["2017/18 Q2",{"$f":"VLOOKUP(J440,'Control Panel'!$I$27:$K$68,2,FALSE)","v":"City"},1,null,null,null,null,null,1,"F84640",null,9479,23,21,21,21,21,6,16,16,15,15,14,12,11,12,10,11,10]
["2017/18 Q2",{"$f":"VLOOKUP(J441,'Control Panel'!$I$27:$K$68,2,FALSE)","v":"NE2"},0,null,null,null,null,null,1,"F84668",null,6354,41,15,16,16,13,1,35,18,15,13,19,46,40,38,30,38,34]
["2017/18 Q2",{"$f":"VLOOKUP(J442,'Control Panel'!$I$27:$K$68,2,FALSE)","v":"NE2"},0,null,null,null,null,null,1,"F84685",null,3076,10,8,8,8,7,5,12,9,9,7,8,15,11,10,6,9,6]
["2017/18 Q2",{"$f":"VLOOKUP(J443,'Control Panel'!$I$27:$K$68,2,FALSE)","v":"NE1"},0,null,null,null,null,null,1,"F84686",null,7488,67,28,30,32,12,0,66,45,38,34,41,53,44,45,22,40,25]
["2017/18 Q2",{"$f":"VLOOKUP(J444,'Control Panel'!$I$27:$K$68,2,FALSE)","v":"SW2"},1,null,null,null,null,null,1,"F84692",null,7162,12,9,9,9,9,0,18,17,16,16,17,14,14,14,13,14,14]
["2017/18 Q2",{"$f":"VLOOKUP(J445,'Control Panel'!$I$27:$K$68,2,FALSE)","v":"NW2"},1,null,null,null,null,null,1,"F84694",null,3333,11,10,10,10,9,3,6,4,3,4,3,5,4,4,4,4,4]
["2017/18 Q2",{"$f":"VLOOKUP(J446,'Control Panel'!$I$27:$K$68,2,FALSE)","v":"NE2"},0,null,null,null,null,null,1,"F84711",null,2076,5,2,2,2,2,2,4,4,3,4,3,6,3,5,5,6,5]
["2017/18 Q2",{"$f":"VLOOKUP(J447,'Control Panel'!$I$27:$K$68,2,FALSE)","v":"NW1"},1,null,null,null,null,null,1,"F84716",null,5427,25,12,12,13,11,0,31,17,15,14,16,24,18,22,12,20,12]
["2017/18 Q2",{"$f":"VLOOKUP(J448,'Control Panel'!$I$27:$K$68,2,FALSE)","v":"SE1"},1,null,null,null,null,null,1,"F84719",null,4828,14,14,14,14,13,10,13,13,11,11,11,16,16,14,13,14,16]
["2017/18 Q2",{"$f":"VLOOKUP(J449,'Control Panel'!$I$27:$K$68,2,FALSE)","v":"NE2"},0,null,null,null,null,null,1,"F84720",null,5252,29,16,17,17,14,0,21,14,11,11,13,22,16,14,12,15,12]
["2017/18 Q2",{"$f":"VLOOKUP(J450,'Control Panel'!$I$27:$K$68,2,FALSE)","v":"SE2"},{"$f":"IF(LEFT(B450,2)=\"NE\",0,1)","v":1},null,null,null,null,null,1,"Y00403",null,6088,28,22,22,22,22,7,19,14,11,11,11,19,17,17,13,17,15]
["2017/18 Q2",{"$f":"VLOOKUP(J451,'Control Panel'!$I$27:$K$68,2,FALSE)","v":{"$error":"#N/A"}},{"$error":"#N/A"},null,null,null,null,null,{"$f":"IF(J451=\"Total\",0,1)","v":1},"Y01177",null,8211,20,16,15,16,15,1,26,18,16,16,19,28,23,23,17,16,18]
["2017/18 Q2",{"$f":"VLOOKUP(J452,'Control Panel'!$I$27:$K$68,2,FALSE)","v":"NE1"},0,null,null,null,null,null,1,"Y03049",null,7606,59,28,28,28,13,7,52,36,31,26,34,35,30,32,18,26,19]
["2017/18 Q2",{"$f":"VLOOKUP(J453,'Control Panel'!$I$27:$K$68,2,FALSE)","v":{"$error":"#N/A"}},{"$error":"#N/A"},null,null,null,null,null,0,"Total",null,316698,1177,902,892,910,816,169,1124,928,826,805,846,1067,939,928,752,861,782]
["2017/18 Q3",{"$f":"VLOOKUP(J454,'Control Panel'!$I$27:$K$68,2,FALSE)","v":{"$error":"#N/A"}},{"$error":"#N/A"},null,"Last Run:",null,"Population Count",332768,1,null,"Search","All Patients","(01) 12 MONTH COHORT","(01.01) DTaP/IPV/Hib","(01.02) Men B (1st and 2nd)","(01.03) PCV","(01.04) Rotavirus","(01.05) BCG","(02) 24 MONTH COHORT","(02.01) DTaP/IPV/Hib","(02.02) MMR","(02.03) HiB/Men C","(02.04) PCV (Booster)","(03) 5 YEAR COHORT","(03.01) DTaP/IPV/Hib","(03.02) MMR (Primary)","(03.03) DTaP/IPV (Booster)","(03.04) HiB/Men C","(03.05) MMR (Booster)","(02.05) Men B (Booster)"]
["2017/18 Q3",{"$f":"VLOOKUP(J455,'Control Panel'!$I$27:$K$68,2,FALSE)","v":{"$error":"#N/A"}},{"$error":"#N/A"},null,"2018-01-02T09:59:00",null,"Males",164822,1,"Organisation Code"]
["2017/18 Q3",{"$f":"VLOOKUP(J456,'Control Panel'!$I$27:$K$68,2,FALSE)","v":"SE1"},1,null,"Relative Date:",null,"Females",167946,1,"F84003",null,12900,46,42,39,43,40,4,50,43,35,37,36,50,47,44,45,44,45]
["2017/18 Q3",{"$f":"VLOOKUP(J457,'Control Panel'!$I$27:$K$68,2,FALSE)","v":"NW2"},1,null,"2018-01-01",null,null,null,1,"F84008",null,12740,39,35,36,35,37,0,50,44,39,38,39,48,47,43,35,46,37]
["2017/18 Q3",{"$f":"VLOOKUP(J458,'Control Panel'!$I$27:$K$68,2,FALSE)","v":"NE1"},0,null,null,null,null,null,1,"F84013",null,15358,97,38,44,45,31,1,113,77,74,55,76,113,94,93,57,67,59]
["2017/18 Q3",{"$f":"VLOOKUP(J459,'Control Panel'!$I$27:$K$68,2,FALSE)","v":"SE1"},1,null,null,null,null,null,1,"F84015",null,5376,20,18,17,17,16,12,20,16,14,14,14,15,12,11,11,11,11]
["2017/18 Q3",{"$f":"VLOOKUP(J460,'Control Panel'!$I$27:$K$68,2,FALSE)","v":"NE2"},0,null,null,null,null,null,1,"F84018",null,11460,58,50,50,51,44,6,43,37,35,35,35,39,37,36,27,36,31]
["2017/18 Q3",{"$f":"VLOOKUP(J461,'Control Panel'!$I$27:$K$68,2,FALSE)","v":"SW1"},1,null,null,null,null,null,1,"F84021",null,10405,46,41,41,42,41,6,42,42,38,37,37,25,21,20,18,18,20]
["2017/18 Q3",{"$f":"VLOOKUP(J462,'Control Panel'!$I$27:$K$68,2,FALSE)","v":"NW2"},1,null,null,null,null,null,1,"F84033",null,12470,39,36,36,36,33,3,36,33,32,32,32,34,31,27,23,28,23]
["2017/18 Q3",{"$f":"VLOOKUP(J463,'Control Panel'!$I$27:$K$68,2,FALSE)","v":"SW1"},1,null,null,null,null,null,1,"F84035",null,5158,12,11,11,11,12,1,10,8,8,8,8,11,11,11,9,11,9]
["2017/18 Q3",{"$f":"VLOOKUP(J464,'Control Panel'!$I$27:$K$68,2,FALSE)","v":"NW1"},1,null,null,null,null,null,1,"F84036",null,6806,14,12,11,12,10,2,23,21,21,20,21,18,17,17,15,17,16]
["2017/18 Q3",{"$f":"VLOOKUP(J465,'Control Panel'!$I$27:$K$68,2,FALSE)","v":"SW1"},1,null,null,null,null,null,1,"F84038",null,3752,8,6,5,5,6,0,13,9,6,7,7,10,9,9,8,8,9]
["2017/18 Q3",{"$f":"VLOOKUP(J466,'Control Panel'!$I$27:$K$68,2,FALSE)","v":"SW2"},1,null,null,null,null,null,1,"F84041",null,7801,15,14,14,14,14,3,27,25,20,19,20,11,10,9,9,9,9]
["2017/18 Q3",{"$f":"VLOOKUP(J467,'Control Panel'!$I$27:$K$68,2,FALSE)","v":"SE1"},1,null,null,null,null,null,1,"F84043",null,4498,12,6,6,6,8,1,16,16,12,13,13,9,9,9,9,8,9]
["2017/18 Q3",{"$f":"VLOOKUP(J468,'Control Panel'!$I$27:$K$68,2,FALSE)","v":"SE1"},1,null,null,null,null,null,1,"F84060",null,4926,13,10,10,12,8,4,14,13,12,12,12,20,16,16,12,15,13]
["2017/18 Q3",{"$f":"VLOOKUP(J469,'Control Panel'!$I$27:$K$68,2,FALSE)","v":"SW1"},1,null,null,null,null,null,1,"F84063",null,5987,9,9,9,9,9,2,18,17,16,16,16,15,2,2,13,3,13]
["2017/18 Q3",{"$f":"VLOOKUP(J470,'Control Panel'!$I$27:$K$68,2,FALSE)","v":"SE2"},1,null,null,null,null,null,1,"F84069",null,14485,47,46,45,46,41,9,50,46,43,41,42,50,45,43,36,42,35]
["2017/18 Q3",{"$f":"VLOOKUP(J471,'Control Panel'!$I$27:$K$68,2,FALSE)","v":"SW2"},1,null,null,null,null,null,1,"F84072",null,10324,35,27,29,29,27,3,33,31,32,32,32,21,21,21,14,21,15]
["2017/18 Q3",{"$f":"VLOOKUP(J472,'Control Panel'!$I$27:$K$68,2,FALSE)","v":"NE2"},0,null,null,null,null,null,1,"F84080",null,4764,17,8,8,8,7,2,20,15,12,13,13,22,18,16,10,12,11]
["2017/18 Q3",{"$f":"VLOOKUP(J473,'Control Panel'!$I$27:$K$68,2,FALSE)","v":"SW2"},1,null,null,null,null,null,1,"F84096",null,13703,36,34,34,35,30,14,33,29,26,27,28,48,48,48,45,48,45]
["2017/18 Q3",{"$f":"VLOOKUP(J474,'Control Panel'!$I$27:$K$68,2,FALSE)","v":"SE1"},1,null,null,null,null,null,1,"F84105",null,11365,35,31,31,31,31,10,41,40,35,35,35,32,30,30,24,30,24]
["2017/18 Q3",{"$f":"VLOOKUP(J475,'Control Panel'!$I$27:$K$68,2,FALSE)","v":"NW1"},1,null,null,null,null,null,1,"F84115",null,8688,23,23,23,23,22,1,25,25,23,23,23,21,18,19,20,17,20]
["2017/18 Q3",{"$f":"VLOOKUP(J476,'Control Panel'!$I$27:$K$68,2,FALSE)","v":"SW1"},1,null,null,null,null,null,1,"F84117",null,10034,31,30,30,30,29,4,42,41,35,36,36,29,28,26,24,28,23]
["2017/18 Q3",{"$f":"VLOOKUP(J477,'Control Panel'!$I$27:$K$68,2,FALSE)","v":"NW1"},1,null,null,null,null,null,1,"F84119",null,12091,43,40,41,41,40,10,43,42,38,39,39,26,24,22,14,22,15]
["2017/18 Q3",{"$f":"VLOOKUP(J478,'Control Panel'!$I$27:$K$68,2,FALSE)","v":"SE2"},1,null,null,null,null,null,1,"F84601",null,6663,23,19,19,19,20,12,13,12,10,10,10,30,24,20,22,20,22]
["2017/18 Q3",{"$f":"VLOOKUP(J479,'Control Panel'!$I$27:$K$68,2,FALSE)","v":"NE2"},0,null,null,null,null,null,1,"F84619",null,4132,17,15,15,15,15,1,12,11,11,10,10,14,13,14,13,14,12]
["2017/18 Q3",{"$f":"VLOOKUP(J480,'Control Panel'!$I$27:$K$68,2,FALSE)","v":"SE2"},1,null,null,null,null,null,1,"F84620",null,6049,22,22,21,22,20,1,18,18,13,13,13,13,10,9,3,8,5]
["2017/18 Q3",{"$f":"VLOOKUP(J481,'Control Panel'!$I$27:$K$68,2,FALSE)","v":"SW1"},1,null,null,null,null,null,1,"F84621",null,3602,9,6,6,6,6,1,8,5,5,5,6,10,8,8,6,8,6]
["2017/18 Q3",{"$f":"VLOOKUP(J482,'Control Panel'!$I$27:$K$68,2,FALSE)","v":"NW2"},1,null,null,null,null,null,1,"F84624",null,2814,4,2,2,2,3,1,6,6,5,5,5,8,1,1,2,1,3]
["2017/18 Q3",{"$f":"VLOOKUP(J483,'Control Panel'!$I$27:$K$68,2,FALSE)","v":"SE2"},1,null,null,null,null,null,1,"F84632",null,1025,0,0,0,0,0,0,0,0,0,0,0,0,0,0,0,0,0]
["2017/18 Q3",{"$f":"VLOOKUP(J484,'Control Panel'!$I$27:$K$68,2,FALSE)","v":"SW2"},1,null,null,null,null,null,1,"F84635",null,8313,22,21,21,22,20,4,22,18,19,19,19,23,22,21,18,20,19]
["2017/18 Q3",{"$f":"VLOOKUP(J485,'Control Panel'!$I$27:$K$68,2,FALSE)","v":"NW2"},1,null,null,null,null,null,1,"F84636",null,3736,5,4,3,3,2,2,8,6,4,4,4,9,9,8,6,9,7]
["2017/18 Q3",{"$f":"VLOOKUP(J486,'Control Panel'!$I$27:$K$68,2,FALSE)","v":"City"},1,null,null,null,null,null,1,"F84640",null,9396,17,12,13,14,15,3,22,16,15,15,15,9,9,8,8,8,8]
["2017/18 Q3",{"$f":"VLOOKUP(J487,'Control Panel'!$I$27:$K$68,2,FALSE)","v":"NE2"},0,null,null,null,null,null,1,"F84668",null,6393,36,10,13,14,8,1,38,24,24,18,27,46,39,37,27,34,29]
["2017/18 Q3",{"$f":"VLOOKUP(J488,'Control Panel'!$I$27:$K$68,2,FALSE)","v":"NE2"},0,null,null,null,null,null,1,"F84685",null,3065,7,5,5,5,4,2,15,11,13,10,11,18,16,16,13,16,13]
["2017/18 Q3",{"$f":"VLOOKUP(J489,'Control Panel'!$I$27:$K$68,2,FALSE)","v":"NE1"},0,null,null,null,null,null,1,"F84686",null,7552,63,22,25,25,16,0,88,53,50,44,54,61,48,46,29,39,30]
["2017/18 Q3",{"$f":"VLOOKUP(J490,'Control Panel'!$I$27:$K$68,2,FALSE)","v":"SW2"},1,null,null,null,null,null,1,"F84692",null,7173,14,9,9,9,9,1,7,7,7,7,7,15,14,14,12,15,13]
["2017/18 Q3",{"$f":"VLOOKUP(J491,'Control Panel'!$I$27:$K$68,2,FALSE)","v":"NW2"},1,null,null,null,null,null,1,"F84694",null,3466,14,11,10,11,12,1,7,7,6,7,6,8,7,6,5,6,5]
["2017/18 Q3",{"$f":"VLOOKUP(J492,'Control Panel'!$I$27:$K$68,2,FALSE)","v":"NE2"},0,null,null,null,null,null,1,"F84711",null,2071,3,2,2,2,2,0,5,5,5,5,5,6,4,4,4,3,5]
["2017/18 Q3",{"$f":"VLOOKUP(J493,'Control Panel'!$I$27:$K$68,2,FALSE)","v":"NW1"},1,null,null,null,null,null,1,"F84716",null,5487,27,17,17,18,16,1,29,16,13,9,12,31,26,27,11,19,11]
["2017/18 Q3",{"$f":"VLOOKUP(J494,'Control Panel'!$I$27:$K$68,2,FALSE)","v":"SE1"},1,null,null,null,null,null,1,"F84719",null,4875,16,13,13,13,13,3,18,17,17,16,16,11,11,10,10,9,11]
["2017/18 Q3",{"$f":"VLOOKUP(J495,'Control Panel'!$I$27:$K$68,2,FALSE)","v":"NE2"},0,null,null,null,null,null,1,"F84720",null,5250,16,11,11,11,12,0,13,9,8,7,8,25,21,20,19,20,16]
["2017/18 Q3",{"$f":"VLOOKUP(J496,'Control Panel'!$I$27:$K$68,2,FALSE)","v":"SE2"},1,null,null,null,null,null,1,"Y00403",null,6104,18,11,11,11,12,4,19,15,14,13,13,14,12,11,8,10,7]
["2017/18 Q3",{"$f":"VLOOKUP(J497,'Control Panel'!$I$27:$K$68,2,FALSE)","v":"NE1"},0,null,null,null,null,null,1,"Y03049",null,15842,77,42,44,45,30,9,85,66,54,49,56,72,62,57,42,54,43]
["2017/18 Q3",{"$f":"VLOOKUP(J498,'Control Panel'!$I$27:$K$68,2,FALSE)","v":{"$error":"#N/A"}},{"$error":"#N/A"},null,null,null,null,null,0,"Total",null,318099,1105,821,830,848,771,145,1195,992,899,855,911,1090,951,909,736,854,757]
["2017/18 Q4",{"$f":"VLOOKUP(J499,'Control Panel'!$I$27:$K$68,2,FALSE)","v":{"$error":"#N/A"}},{"$error":"#N/A"},null,"Last Run:",null,"Population Count",332442,1,null,"Search","All Patients","(01) 12 MONTH COHORT","(01.01) DTaP/IPV/Hib","(01.02) Men B (1st and 2nd)","(01.03) PCV","(01.04) Rotavirus","(01.05) BCG","(02) 24 MONTH COHORT","(02.01) DTaP/IPV/Hib","(02.02) MMR","(02.03) HiB/Men C","(02.04) PCV (Booster)","(03) 5 YEAR COHORT","(03.01) DTaP/IPV/Hib","(03.02) MMR (Primary)","(03.03) DTaP/IPV (Booster)","(03.04) HiB/Men C","(03.05) MMR (Booster)","(02.05) Men B (Booster)"]
["2017/18 Q4",{"$f":"VLOOKUP(J500,'Control Panel'!$I$27:$K$68,2,FALSE)","v":{"$error":"#N/A"}},{"$error":"#N/A"},null,"2018-04-03T12:56:00",null,"Males",164319,1,"Organisation Code"]
["2017/18 Q4",{"$f":"VLOOKUP(J501,'Control Panel'!$I$27:$K$68,2,FALSE)","v":"SE1"},1,null,"Relative Date:",null,"Females",168123,1,"F84003",null,12797,53,47,46,47,45,6,40,40,35,35,35,28,25,24,23,24,23]
["2017/18 Q4",{"$f":"VLOOKUP(J502,'Control Panel'!$I$27:$K$68,2,FALSE)","v":"NW2"},1,null,"2018-04-01",null,null,null,1,"F84008",null,12705,32,32,32,32,30,2,47,44,40,41,42,38,36,36,29,36,30]
["2017/18 Q4",{"$f":"VLOOKUP(J503,'Control Panel'!$I$27:$K$68,2,FALSE)","v":"NE1"},0,null,null,null,null,null,1,"F84013",null,15089,105,24,36,38,26,2,117,77,66,58,73,89,67,64,39,53,39]
["2017/18 Q4",{"$f":"VLOOKUP(J504,'Control Panel'!$I$27:$K$68,2,FALSE)","v":"SE1"},1,null,null,null,null,null,1,"F84015",null,5352,14,11,11,11,8,5,19,19,17,18,18,27,24,23,23,22,24]
["2017/18 Q4",{"$f":"VLOOKUP(J505,'Control Panel'!$I$27:$K$68,2,FALSE)","v":"NE2"},0,null,null,null,null,null,1,"F84018",null,11531,42,37,35,37,32,7,42,40,37,37,37,37,36,35,31,35,35]
["2017/18 Q4",{"$f":"VLOOKUP(J506,'Control Panel'!$I$27:$K$68,2,FALSE)","v":"SW1"},1,null,null,null,null,null,1,"F84021",null,10373,20,18,17,18,18,6,27,27,19,19,19,28,25,24,20,24,20]
["2017/18 Q4",{"$f":"VLOOKUP(J507,'Control Panel'!$I$27:$K$68,2,FALSE)","v":"NW2"},1,null,null,null,null,null,1,"F84033",null,12515,44,41,42,42,41,6,29,26,26,27,27,30,27,25,23,24,24]
["2017/18 Q4",{"$f":"VLOOKUP(J508,'Control Panel'!$I$27:$K$68,2,FALSE)","v":"SW1"},1,null,null,null,null,null,1,"F84035",null,5686,10,6,9,9,8,1,16,15,13,13,13,5,5,5,3,5,3]
["2017/18 Q4",{"$f":"VLOOKUP(J509,'Control Panel'!$I$27:$K$68,2,FALSE)","v":"NW1"},1,null,null,null,null,null,1,"F84036",null,6912,26,20,21,22,20,4,17,14,14,14,14,21,16,16,14,16,15]
["2017/18 Q4",{"$f":"VLOOKUP(J510,'Control Panel'!$I$27:$K$68,2,FALSE)","v":"SW1"},1,null,null,null,null,null,1,"F84038",null,3792,9,7,6,7,5,2,8,6,6,5,6,5,5,5,4,5,3]
["2017/18 Q4",{"$f":"VLOOKUP(J511,'Control Panel'!$I$27:$K$68,2,FALSE)","v":"SW2"},1,null,null,null,null,null,1,"F84041",null,7820,28,25,25,25,26,3,17,14,14,13,14,17,15,15,16,15,15]
["2017/18 Q4",{"$f":"VLOOKUP(J512,'Control Panel'!$I$27:$K$68,2,FALSE)","v":"SE1"},1,null,null,null,null,null,1,"F84043",null,4521,20,18,17,18,17,3,15,14,14,14,14,15,12,12,13,12,12]
["2017/18 Q4",{"$f":"VLOOKUP(J513,'Control Panel'!$I$27:$K$68,2,FALSE)","v":"SE1"},1,null,null,null,null,null,1,"F84060",null,4784,10,9,9,9,9,2,12,11,10,10,10,14,11,11,10,11,10]
["2017/18 Q4",{"$f":"VLOOKUP(J514,'Control Panel'!$I$27:$K$68,2,FALSE)","v":"SW1"},{"$f":"IF(LEFT(B514,2)=\"NE\",0,1)","v":1},null,null,null,null,null,1,"F84063",null,5931,16,14,14,14,13,4,9,8,6,6,6,18,2,2,13,2,15]
["2017/18 Q4",{"$f":"VLOOKUP(J515,'Control Panel'!$I$27:$K$68,2,FALSE)","v":"SE2"},1,null,null,null,null,null,{"$f":"IF(J515=\"Total\",0,1)","v":1},"F84069",null,14604,59,56,56,58,55,7,37,35,31,30,30,50,46,41,26,42,28]
["2017/18 Q4",{"$f":"VLOOKUP(J516,'Control Panel'!$I$27:$K$68,2,FALSE)","v":"SW2"},1,null,null,null,null,null,1,"F84072",null,10488,40,39,39,39,37,1,32,29,28,28,29,28,25,24,18,24,17]
["2017/18 Q4",{"$f":"VLOOKUP(J517,'Control Panel'!$I$27:$K$68,2,FALSE)","v":"NE2"},0,null,null,null,null,null,1,"F84080",null,4745,21,12,12,12,10,0,18,11,10,11,11,16,16,15,8,15,8]
["2017/18 Q4",{"$f":"VLOOKUP(J518,'Control Panel'!$I$27:$K$68,2,FALSE)","v":"SW2"},1,null,null,null,null,null,1,"F84096",null,13643,30,27,28,29,26,8,26,23,23,23,23,35,35,34,30,34,30]
["2017/18 Q4",{"$f":"VLOOKUP(J519,'Control Panel'!$I$27:$K$68,2,FALSE)","v":"SE1"},1,null,null,null,null,null,1,"F84105",null,11407,41,34,35,35,36,15,51,47,42,42,42,39,37,35,23,36,23]
["2017/18 Q4",{"$f":"VLOOKUP(J520,'Control Panel'!$I$27:$K$68,2,FALSE)","v":"NW1"},1,null,null,null,null,null,1,"F84115",null,8696,17,14,14,14,14,2,23,22,18,18,19,13,13,12,11,10,12]
["2017/18 Q4",{"$f":"VLOOKUP(J521,'Control Panel'!$I$27:$K$68,2,FALSE)","v":"SW1"},1,null,null,null,null,null,1,"F84117",null,10091,39,37,36,37,35,7,30,30,25,26,26,35,35,34,32,34,32]
["2017/18 Q4",{"$f":"VLOOKUP(J522,'Control Panel'!$I$27:$K$68,2,FALSE)","v":"NW1"},1,null,null,null,null,null,1,"F84119",null,12194,40,35,35,36,33,15,48,43,37,37,38,37,30,31,21,30,22]
["2017/18 Q4",{"$f":"VLOOKUP(J523,'Control Panel'!$I$27:$K$68,2,FALSE)","v":"SE2"},1,null,null,null,null,null,1,"F84601",null,6449,16,16,16,16,14,7,14,10,11,11,11,17,14,13,13,14,13]
["2017/18 Q4",{"$f":"VLOOKUP(J524,'Control Panel'!$I$27:$K$68,2,FALSE)","v":"NE2"},0,null,null,null,null,null,1,"F84619",null,4137,12,11,11,11,11,1,16,15,13,14,14,14,14,13,12,12,13]
["2017/18 Q4",{"$f":"VLOOKUP(J525,'Control Panel'!$I$27:$K$68,2,FALSE)","v":"SE2"},1,null,null,null,null,null,1,"F84620",null,6158,14,12,12,12,12,0,7,7,6,6,6,22,21,20,12,20,12]
["2017/18 Q4",{"$f":"VLOOKUP(J526,'Control Panel'!$I$27:$K$68,2,FALSE)","v":"SW1"},1,null,null,null,null,null,1,"F84621",null,3663,7,6,6,6,6,4,9,9,8,8,8,8,8,7,4,6,4]
["2017/18 Q4",{"$f":"VLOOKUP(J527,'Control Panel'!$I$27:$K$68,2,FALSE)","v":"NW2"},1,null,null,null,null,null,1,"F84624",null,2772,5,4,4,4,4,4,10,8,8,8,8,5,1,2,3,2,3]
["2017/18 Q4",{"$f":"VLOOKUP(J528,'Control Panel'!$I$27:$K$68,2,FALSE)","v":"SE2"},1,null,null,null,null,null,1,"F84632",null,1053,0,0,0,0,0,0,0,0,0,0,0,0,0,0,0,0,0]
["2017/18 Q4",{"$f":"VLOOKUP(J529,'Control Panel'!$I$27:$K$68,2,FALSE)","v":"SW2"},1,null,null,null,null,null,1,"F84635",null,8386,17,15,15,15,14,6,26,25,21,22,21,15,15,14,11,15,10]
["2017/18 Q4",{"$f":"VLOOKUP(J530,'Control Panel'!$I$27:$K$68,2,FALSE)","v":"NW2"},1,null,null,null,null,null,1,"F84636",null,3968,9,6,7,7,8,5,8,7,6,6,5,14,12,10,6,9,10]
["2017/18 Q4",{"$f":"VLOOKUP(J531,'Control Panel'!$I$27:$K$68,2,FALSE)","v":"City"},1,null,null,null,null,null,1,"F84640",null,9362,24,19,19,21,20,9,13,12,11,12,12,20,19,18,13,18,13]
["2017/18 Q4",{"$f":"VLOOKUP(J532,'Control Panel'!$I$27:$K$68,2,FALSE)","v":"NE2"},0,null,null,null,null,null,1,"F84668",null,6518,50,23,28,29,16,4,32,16,17,15,18,39,35,35,27,33,27]
["2017/18 Q4",{"$f":"VLOOKUP(J533,'Control Panel'!$I$27:$K$68,2,FALSE)","v":"NE2"},0,null,null,null,null,null,1,"F84685",null,3030,12,9,9,9,9,3,12,10,7,6,9,13,12,10,6,10,6]
["2017/18 Q4",{"$f":"VLOOKUP(J534,'Control Panel'!$I$27:$K$68,2,FALSE)","v":"NE1"},0,null,null,null,null,null,1,"F84686",null,7576,81,21,26,29,23,0,55,29,21,20,32,56,47,47,23,39,25]
["2017/18 Q4",{"$f":"VLOOKUP(J535,'Control Panel'!$I$27:$K$68,2,FALSE)","v":"SW2"},1,null,null,null,null,null,1,"F84692",null,7120,14,14,14,14,14,1,20,18,15,15,15,15,14,14,11,14,12]
["2017/18 Q4",{"$f":"VLOOKUP(J536,'Control Panel'!$I$27:$K$68,2,FALSE)","v":"NW2"},1,null,null,null,null,null,1,"F84694",null,3554,11,9,9,10,9,2,8,7,8,6,7,7,5,5,4,5,4]
["2017/18 Q4",{"$f":"VLOOKUP(J537,'Control Panel'!$I$27:$K$68,2,FALSE)","v":"NE2"},0,null,null,null,null,null,1,"F84711",null,2050,5,4,4,4,4,2,2,1,2,2,2,6,4,4,4,3,4]
["2017/18 Q4",{"$f":"VLOOKUP(J538,'Control Panel'!$I$27:$K$68,2,FALSE)","v":"NW1"},1,null,null,null,null,null,1,"F84716",null,5567,20,13,13,14,13,1,21,12,12,9,12,24,18,15,6,15,7]
["2017/18 Q4",{"$f":"VLOOKUP(J539,'Control Panel'!$I$27:$K$68,2,FALSE)","v":"SE1"},1,null,null,null,null,null,1,"F84719",null,4899,10,9,9,10,9,1,12,12,10,10,10,15,13,13,14,12,15]
["2017/18 Q4",{"$f":"VLOOKUP(J540,'Control Panel'!$I$27:$K$68,2,FALSE)","v":"NE2"},0,null,null,null,null,null,1,"F84720",null,5263,16,11,12,12,11,1,31,17,18,16,17,25,20,19,12,15,15]
["2017/18 Q4",{"$f":"VLOOKUP(J541,'Control Panel'!$I$27:$K$68,2,FALSE)","v":"SE2"},1,null,null,null,null,null,1,"Y00403",null,6095,16,15,13,14,14,0,20,14,12,13,14,9,7,6,5,6,6]
["2017/18 Q4",{"$f":"VLOOKUP(J542,'Control Panel'!$I$27:$K$68,2,FALSE)","v":"NE1"},0,null,null,null,null,null,1,"Y03049",null,15413,77,39,40,42,34,10,74,47,51,43,53,51,47,37,25,41,26]
["2017/18 Q4",{"$f":"VLOOKUP(J543,'Control Panel'!$I$27:$K$68,2,FALSE)","v":{"$error":"#N/A"}},{"$error":"#N/A"},null,null,null,null,null,0,"Total",null,318709,1132,819,842,868,789,169,1070,871,788,767,820,1000,869,825,641,798,665]
["2018-04-01",{"$f":"VLOOKUP(J544,'Control Panel'!$I$27:$K$68,2,FALSE)","v":{"$error":"#N/A"}},{"$error":"#N/A"},null,"Last Run:",null,"Population Count",332995,1,null,"Search","All Patients","(01) 12 MONTH COHORT","(01.01) DTaP/IPV/Hib or DTaP/IPV/Hib/HepB","(01.02) Men B (1st and 2nd)","(01.03) PCV","(01.04) Rotavirus","(01.05) BCG","(02) 24 MONTH COHORT","(02.01) DTaP/IPV/Hib or DTaP/IPV/Hib/HepB","(02.02) MMR","(02.03) HiB/Men C","(02.04) PCV (Booster)","(03) 5 YEAR COHORT","(03.01) DTaP/IPV/Hib or DTaP/IPV/Hib/HepB","(03.02) MMR (Primary)","(03.03) DTaP/IPV (Booster)","(03.04) HiB/Men C","(03.05) MMR (Booster)","(02.05) Men B (Booster)"]
["2018-04-01",{"$f":"VLOOKUP(J545,'Control Panel'!$I$27:$K$68,2,FALSE)","v":{"$error":"#N/A"}},{"$error":"#N/A"},null,"2018-05-09T10:05:00",null,"Males",164762,1,"Organisation Code"]
["2018-04-01",{"$f":"VLOOKUP(J546,'Control Panel'!$I$27:$K$68,2,FALSE)","v":"SE1"},1,null,"Relative Date:",null,"Females",168233,1,"F84003",null,12768,40,37,37,37,34,4,47,41,37,36,37,41,35,34,26,34,26,37]
["2018-04-01",{"$f":"VLOOKUP(J547,'Control Panel'!$I$27:$K$68,2,FALSE)","v":"NW2"},1,null,"2018-05-01",null,null,null,1,"F84008",null,12725,39,34,35,35,35,1,43,41,40,40,40,30,29,28,21,28,23,40]
["2018-04-01",{"$f":"VLOOKUP(J548,'Control Panel'!$I$27:$K$68,2,FALSE)","v":"NE1"},0,null,null,null,null,null,1,"F84013",null,15082,102,37,40,44,27,0,111,64,52,45,57,100,78,80,41,68,42,54]
["2018-04-01",{"$f":"VLOOKUP(J549,'Control Panel'!$I$27:$K$68,2,FALSE)","v":"SE1"},1,null,null,null,null,null,1,"F84015",null,5365,11,10,10,10,9,5,19,17,12,12,12,13,12,11,10,11,10,12]
["2018-04-01",{"$f":"VLOOKUP(J550,'Control Panel'!$I$27:$K$68,2,FALSE)","v":"NE2"},0,null,null,null,null,null,1,"F84018",null,11538,45,42,40,43,38,6,40,34,28,29,28,29,27,27,21,27,21,28]
["2018-04-01",{"$f":"VLOOKUP(J551,'Control Panel'!$I$27:$K$68,2,FALSE)","v":"SW1"},1,null,null,null,null,null,1,"F84021",null,10407,26,24,22,24,23,7,39,35,31,30,31,22,21,19,18,20,17,32]
["2018-04-01",{"$f":"VLOOKUP(J552,'Control Panel'!$I$27:$K$68,2,FALSE)","v":"NW2"},1,null,null,null,null,null,1,"F84033",null,12382,28,26,26,26,25,3,42,41,36,36,35,29,27,27,20,26,20,36]
["2018-04-01",{"$f":"VLOOKUP(J553,'Control Panel'!$I$27:$K$68,2,FALSE)","v":"SW1"},1,null,null,null,null,null,1,"F84035",null,5835,21,19,18,19,19,2,18,17,17,18,18,13,10,8,3,9,3,17]
["2018-04-01",{"$f":"VLOOKUP(J554,'Control Panel'!$I$27:$K$68,2,FALSE)","v":"NW1"},1,null,null,null,null,null,1,"F84036",null,6924,21,16,13,16,15,4,28,23,21,21,21,16,11,11,7,11,10,21]
["2018-04-01",{"$f":"VLOOKUP(J555,'Control Panel'!$I$27:$K$68,2,FALSE)","v":"SW1"},1,null,null,null,null,null,1,"F84038",null,3802,13,11,11,11,11,3,7,5,6,5,6,7,6,6,3,6,6,6]
["2018-04-01",{"$f":"VLOOKUP(J556,'Control Panel'!$I$27:$K$68,2,FALSE)","v":"SW2"},1,null,null,null,null,null,1,"F84041",null,7831,21,21,21,21,21,3,17,13,15,15,15,26,25,22,18,22,19,14]
["2018-04-01",{"$f":"VLOOKUP(J557,'Control Panel'!$I$27:$K$68,2,FALSE)","v":"SE1"},1,null,null,null,null,null,1,"F84043",null,4469,15,12,11,12,12,1,6,5,5,5,5,16,15,15,12,15,11,5]
["2018-04-01",{"$f":"VLOOKUP(J558,'Control Panel'!$I$27:$K$68,2,FALSE)","v":"SE1"},1,null,null,null,null,null,1,"F84060",null,4786,14,12,12,12,12,6,13,11,8,8,9,15,11,10,8,10,8,9]
["2018-04-01",{"$f":"VLOOKUP(J559,'Control Panel'!$I$27:$K$68,2,FALSE)","v":"SW1"},1,null,null,null,null,null,1,"F84063",null,5918,8,8,8,8,8,3,12,12,8,8,8,16,1,1,10,1,11,8]
["2018-04-01",{"$f":"VLOOKUP(J560,'Control Panel'!$I$27:$K$68,2,FALSE)","v":"SE2"},1,null,null,null,null,null,1,"F84069",null,14592,46,43,42,43,40,7,47,44,39,40,40,44,41,38,27,38,28,39]
["2018-04-01",{"$f":"VLOOKUP(J561,'Control Panel'!$I$27:$K$68,2,FALSE)","v":"SW2"},1,null,null,null,null,null,1,"F84072",null,10497,43,36,37,37,37,6,39,34,30,29,27,22,18,18,11,18,10,30]
["2018-04-01",{"$f":"VLOOKUP(J562,'Control Panel'!$I$27:$K$68,2,FALSE)","v":"NE2"},0,null,null,null,null,null,1,"F84080",null,4750,14,10,9,10,8,0,21,18,11,12,14,20,17,17,15,16,14,14]
["2018-04-01",{"$f":"VLOOKUP(J563,'Control Panel'!$I$27:$K$68,2,FALSE)","v":"SW2"},1,null,null,null,null,null,1,"F84096",null,13578,33,28,30,31,27,19,39,34,32,32,32,36,33,32,30,32,30,32]
["2018-04-01",{"$f":"VLOOKUP(J564,'Control Panel'!$I$27:$K$68,2,FALSE)","v":"SE1"},1,null,null,null,null,null,1,"F84105",null,11398,35,31,30,32,30,7,31,28,26,27,27,39,39,35,31,34,30,26]
["2018-04-01",{"$f":"VLOOKUP(J565,'Control Panel'!$I$27:$K$68,2,FALSE)","v":"NW1"},1,null,null,null,null,null,1,"F84115",null,8666,25,22,21,22,23,10,19,15,15,16,16,25,24,23,23,23,23,17]
["2018-04-01",{"$f":"VLOOKUP(J566,'Control Panel'!$I$27:$K$68,2,FALSE)","v":"SW1"},1,null,null,null,null,null,1,"F84117",null,10088,24,21,21,21,18,2,28,27,21,21,21,20,20,18,18,19,16,21]
["2018-04-01",{"$f":"VLOOKUP(J567,'Control Panel'!$I$27:$K$68,2,FALSE)","v":"NW1"},1,null,null,null,null,null,1,"F84119",null,12156,46,41,41,41,39,12,51,45,39,40,40,43,43,41,28,41,29,39]
["2018-04-01",{"$f":"VLOOKUP(J568,'Control Panel'!$I$27:$K$68,2,FALSE)","v":"SE2"},1,null,null,null,null,null,1,"F84601",null,6481,9,5,5,5,7,6,13,12,9,9,9,21,18,15,10,15,12,9]
["2018-04-01",{"$f":"VLOOKUP(J569,'Control Panel'!$I$27:$K$68,2,FALSE)","v":"NE2"},0,null,null,null,null,null,1,"F84619",null,4141,12,11,11,11,10,1,14,14,14,14,14,12,11,11,10,11,10,14]
["2018-04-01",{"$f":"VLOOKUP(J570,'Control Panel'!$I$27:$K$68,2,FALSE)","v":"SE2"},1,null,null,null,null,null,1,"F84620",null,6199,19,15,15,16,13,0,25,24,19,19,19,27,25,24,21,24,21,19]
["2018-04-01",{"$f":"VLOOKUP(J571,'Control Panel'!$I$27:$K$68,2,FALSE)","v":"SW1"},1,null,null,null,null,null,1,"F84621",null,3674,11,10,10,10,10,2,10,10,7,8,8,8,7,6,6,6,7,8]
["2018-04-01",{"$f":"VLOOKUP(J572,'Control Panel'!$I$27:$K$68,2,FALSE)","v":"NW2"},1,null,null,null,null,null,1,"F84624",null,2765,12,9,9,9,9,2,8,6,4,5,5,6,2,2,5,2,4,5]
["2018-04-01",{"$f":"VLOOKUP(J573,'Control Panel'!$I$27:$K$68,2,FALSE)","v":"SE2"},1,null,null,null,null,null,1,"F84632",null,1070,0,0,0,0,0,0,0,0,0,0,0,0,0,0,0,0,0,0]
["2018-04-01",{"$f":"VLOOKUP(J574,'Control Panel'!$I$27:$K$68,2,FALSE)","v":"SW2"},1,null,null,null,null,null,1,"F84635",null,8383,19,16,16,16,16,6,18,17,13,14,12,18,17,17,13,17,11,11]
["2018-04-01",{"$f":"VLOOKUP(J575,'Control Panel'!$I$27:$K$68,2,FALSE)","v":"NW2"},1,null,null,null,null,null,1,"F84636",null,4024,8,7,7,7,6,3,14,11,10,11,10,6,4,4,1,4,2,10]
["2018-04-01",{"$f":"VLOOKUP(J576,'Control Panel'!$I$27:$K$68,2,FALSE)","v":"City"},1,null,null,null,null,null,1,"F84640",null,9295,21,21,20,20,21,7,9,9,9,9,9,13,13,13,11,13,11,9]
["2018-04-01",{"$f":"VLOOKUP(J577,'Control Panel'!$I$27:$K$68,2,FALSE)","v":"NE2"},0,null,null,null,null,null,1,"F84668",null,6539,36,18,18,19,14,3,37,24,23,22,29,33,30,30,16,29,18,26]
["2018-04-01",{"$f":"VLOOKUP(J578,'Control Panel'!$I$27:$K$68,2,FALSE)","v":"NE2"},{"$f":"IF(LEFT(B578,2)=\"NE\",0,1)","v":0},null,null,null,null,null,1,"F84685",null,3031,9,5,5,5,2,3,12,9,8,8,7,8,5,5,5,5,5,7]
["2018-04-01",{"$f":"VLOOKUP(J579,'Control Panel'!$I$27:$K$68,2,FALSE)","v":"NE1"},0,null,null,null,null,null,{"$f":"IF(J579=\"Total\",0,1)","v":1},"F84686",null,7597,70,16,23,25,9,0,65,40,37,31,35,68,47,51,20,45,21,29]
["2018-04-01",{"$f":"VLOOKUP(J580,'Control Panel'!$I$27:$K$68,2,FALSE)","v":"SW2"},1,null,null,null,null,null,1,"F84692",null,7122,9,7,7,7,8,1,15,15,15,15,15,20,18,18,13,17,13,15]
["2018-04-01",{"$f":"VLOOKUP(J581,'Control Panel'!$I$27:$K$68,2,FALSE)","v":"NW2"},1,null,null,null,null,null,1,"F84694",null,3609,13,11,10,11,11,1,9,8,6,6,6,5,5,5,1,5,5,6]
["2018-04-01",{"$f":"VLOOKUP(J582,'Control Panel'!$I$27:$K$68,2,FALSE)","v":"NE2"},0,null,null,null,null,null,1,"F84711",null,2053,5,4,5,5,5,2,5,4,5,4,4,8,7,4,6,5,7,3]
["2018-04-01",{"$f":"VLOOKUP(J583,'Control Panel'!$I$27:$K$68,2,FALSE)","v":"NW1"},1,null,null,null,null,null,1,"F84716",null,5581,33,18,18,19,16,0,22,8,7,6,7,32,27,27,10,25,12,7]
["2018-04-01",{"$f":"VLOOKUP(J584,'Control Panel'!$I$27:$K$68,2,FALSE)","v":"SE1"},1,null,null,null,null,null,1,"F84719",null,4912,20,20,17,20,18,3,11,11,10,9,10,13,13,12,11,13,13,11]
["2018-04-01",{"$f":"VLOOKUP(J585,'Control Panel'!$I$27:$K$68,2,FALSE)","v":"NE2"},0,null,null,null,null,null,1,"F84720",null,5261,17,10,10,10,8,0,26,20,21,21,21,16,14,13,10,15,12,21]
["2018-04-01",{"$f":"VLOOKUP(J586,'Control Panel'!$I$27:$K$68,2,FALSE)","v":"SE2"},1,null,null,null,null,null,1,"Y00403",null,6112,21,19,18,19,18,4,15,14,14,14,14,11,10,9,7,9,8,14]
["2018-04-01",{"$f":"VLOOKUP(J587,'Control Panel'!$I$27:$K$68,2,FALSE)","v":"NE1"},0,null,null,null,null,null,1,"Y03049",null,15225,64,29,29,30,25,13,63,44,33,32,35,69,61,49,30,56,32,34]
["2018-04-01",{"$f":"VLOOKUP(J588,'Control Panel'!$I$27:$K$68,2,FALSE)","v":{"$error":"#N/A"}},{"$error":"#N/A"},null,null,null,null,null,0,"Total",null,318631,1078,792,788,819,737,168,1108,904,793,782,808,1016,877,836,607,825,631,795]
["2018-05-01",{"$f":"VLOOKUP(J589,'Control Panel'!$I$27:$K$68,2,FALSE)","v":{"$error":"#N/A"}},{"$error":"#N/A"},null,"Last Run:",null,"Population Count",333593,1,null,"Search","All Patients","(01) 12 MONTH COHORT","(01.01) DTaP/IPV/Hib or DTaP/IPV/Hib/HepB","(01.02) Men B (1st and 2nd)","(01.03) PCV","(01.04) Rotavirus","(01.05) BCG","(02) 24 MONTH COHORT","(02.01) DTaP/IPV/Hib or DTaP/IPV/Hib/HepB","(02.02) MMR","(02.03) HiB/Men C","(02.04) PCV (Booster)","(03) 5 YEAR COHORT","(03.01) DTaP/IPV/Hib or DTaP/IPV/Hib/HepB","(03.02) MMR (Primary)","(03.03) DTaP/IPV (Booster)","(03.04) HiB/Men C","(03.05) MMR (Booster)","(02.05) Men B (Booster)"]
["2018-05-01",{"$f":"VLOOKUP(J590,'Control Panel'!$I$27:$K$68,2,FALSE)","v":{"$error":"#N/A"}},{"$error":"#N/A"},null,"2018-06-05T10:53:00",null,"Males",165152,1,"Organisation Code"]
["2018-05-01",{"$f":"VLOOKUP(J591,'Control Panel'!$I$27:$K$68,2,FALSE)","v":"SE1"},1,null,"Relative Date:",null,"Females",168441,1,"F84003",null,12812,41,38,38,38,35,5,47,41,37,36,37,42,35,34,26,34,26,37]
["2018-05-01",{"$f":"VLOOKUP(J592,'Control Panel'!$I$27:$K$68,2,FALSE)","v":"NW2"},1,null,"2018-06-01",null,null,null,1,"F84008",null,12737,40,35,36,36,36,1,44,42,42,42,42,30,29,28,21,28,23,42]
["2018-05-01",{"$f":"VLOOKUP(J593,'Control Panel'!$I$27:$K$68,2,FALSE)","v":"NE1"},0,null,null,null,null,null,1,"F84013",null,15165,102,38,42,44,27,0,111,65,54,46,59,100,79,80,42,68,44,57]
["2018-05-01",{"$f":"VLOOKUP(J594,'Control Panel'!$I$27:$K$68,2,FALSE)","v":"SE1"},1,null,null,null,null,null,1,"F84015",null,5373,11,10,10,10,9,5,19,17,12,12,12,13,12,11,10,11,10,12]
["2018-05-01",{"$f":"VLOOKUP(J595,'Control Panel'!$I$27:$K$68,2,FALSE)","v":"NE2"},0,null,null,null,null,null,1,"F84018",null,11523,46,43,41,44,39,6,40,34,29,30,29,29,27,27,21,27,21,29]
["2018-05-01",{"$f":"VLOOKUP(J596,'Control Panel'!$I$27:$K$68,2,FALSE)","v":"SW1"},1,null,null,null,null,null,1,"F84021",null,10423,26,25,23,25,23,7,39,35,33,32,32,22,21,19,18,20,17,33]
["2018-05-01",{"$f":"VLOOKUP(J597,'Control Panel'!$I$27:$K$68,2,FALSE)","v":"NW2"},1,null,null,null,null,null,1,"F84033",null,12370,28,26,26,26,25,3,41,40,37,37,36,29,27,27,20,26,20,37]
["2018-05-01",{"$f":"VLOOKUP(J598,'Control Panel'!$I$27:$K$68,2,FALSE)","v":"SW1"},1,null,null,null,null,null,1,"F84035",null,5999,21,19,18,19,19,2,20,18,18,19,19,13,10,8,3,9,3,18]
["2018-05-01",{"$f":"VLOOKUP(J599,'Control Panel'!$I$27:$K$68,2,FALSE)","v":"NW1"},1,null,null,null,null,null,1,"F84036",null,6932,22,17,14,17,16,4,28,23,21,21,21,16,11,11,7,11,10,21]
["2018-05-01",{"$f":"VLOOKUP(J600,'Control Panel'!$I$27:$K$68,2,FALSE)","v":"SW1"},1,null,null,null,null,null,1,"F84038",null,3815,13,11,11,11,11,3,7,5,6,6,6,7,6,6,3,6,6,6]
["2018-05-01",{"$f":"VLOOKUP(J601,'Control Panel'!$I$27:$K$68,2,FALSE)","v":"SW2"},1,null,null,null,null,null,1,"F84041",null,7849,20,20,20,20,20,3,17,13,15,15,15,26,25,22,18,22,19,14]
["2018-05-01",{"$f":"VLOOKUP(J602,'Control Panel'!$I$27:$K$68,2,FALSE)","v":"SE1"},1,null,null,null,null,null,1,"F84043",null,4472,15,12,11,12,12,1,5,4,4,4,4,17,15,15,12,15,11,4]
["2018-05-01",{"$f":"VLOOKUP(J603,'Control Panel'!$I$27:$K$68,2,FALSE)","v":"SE1"},1,null,null,null,null,null,1,"F84060",null,4792,14,12,12,12,12,6,13,11,8,8,9,15,11,10,8,10,8,9]
["2018-05-01",{"$f":"VLOOKUP(J604,'Control Panel'!$I$27:$K$68,2,FALSE)","v":"SW1"},1,null,null,null,null,null,1,"F84063",null,5903,8,8,8,8,8,3,12,12,8,8,8,16,1,1,10,1,11,8]
["2018-05-01",{"$f":"VLOOKUP(J605,'Control Panel'!$I$27:$K$68,2,FALSE)","v":"SE2"},1,null,null,null,null,null,1,"F84069",null,14557,46,43,42,43,40,7,46,43,38,39,39,44,41,38,27,38,28,38]
["2018-05-01",{"$f":"VLOOKUP(J606,'Control Panel'!$I$27:$K$68,2,FALSE)","v":"SW2"},1,null,null,null,null,null,1,"F84072",null,10509,40,33,34,34,34,6,40,35,31,30,28,22,18,18,11,18,10,31]
["2018-05-01",{"$f":"VLOOKUP(J607,'Control Panel'!$I$27:$K$68,2,FALSE)","v":"NE2"},0,null,null,null,null,null,1,"F84080",null,4748,14,10,9,10,8,0,21,18,12,13,15,20,17,17,15,16,14,15]
["2018-05-01",{"$f":"VLOOKUP(J608,'Control Panel'!$I$27:$K$68,2,FALSE)","v":"SW2"},1,null,null,null,null,null,1,"F84096",null,13586,34,28,30,31,27,19,39,34,32,32,32,36,33,32,30,32,30,32]
["2018-05-01",{"$f":"VLOOKUP(J609,'Control Panel'!$I$27:$K$68,2,FALSE)","v":"SE1"},1,null,null,null,null,null,1,"F84105",null,11425,35,31,30,32,30,7,31,28,26,27,27,38,38,35,30,33,29,26]
["2018-05-01",{"$f":"VLOOKUP(J610,'Control Panel'!$I$27:$K$68,2,FALSE)","v":"NW1"},1,null,null,null,null,null,1,"F84115",null,8689,26,23,22,23,24,10,19,15,15,16,16,25,24,23,23,23,23,17]
["2018-05-01",{"$f":"VLOOKUP(J611,'Control Panel'!$I$27:$K$68,2,FALSE)","v":"SW1"},1,null,null,null,null,null,1,"F84117",null,10114,24,21,21,21,18,2,29,28,22,22,22,20,20,18,18,19,16,22]
["2018-05-01",{"$f":"VLOOKUP(J612,'Control Panel'!$I$27:$K$68,2,FALSE)","v":"NW1"},1,null,null,null,null,null,1,"F84119",null,12119,45,41,40,41,39,13,51,45,39,40,40,41,41,39,26,39,27,39]
["2018-05-01",{"$f":"VLOOKUP(J613,'Control Panel'!$I$27:$K$68,2,FALSE)","v":"SE2"},1,null,null,null,null,null,1,"F84601",null,6513,10,6,6,6,8,6,14,13,9,9,9,21,18,15,10,15,12,10]
["2018-05-01",{"$f":"VLOOKUP(J614,'Control Panel'!$I$27:$K$68,2,FALSE)","v":"NE2"},0,null,null,null,null,null,1,"F84619",null,4181,12,11,11,11,10,1,13,13,13,13,13,12,11,11,10,11,10,13]
["2018-05-01",{"$f":"VLOOKUP(J615,'Control Panel'!$I$27:$K$68,2,FALSE)","v":"SE2"},1,null,null,null,null,null,1,"F84620",null,6180,19,15,15,16,13,0,24,23,18,18,18,26,24,23,20,23,20,18]
["2018-05-01",{"$f":"VLOOKUP(J616,'Control Panel'!$I$27:$K$68,2,FALSE)","v":"SW1"},1,null,null,null,null,null,1,"F84621",null,3704,11,10,10,10,10,2,10,10,7,8,8,8,7,6,6,6,7,8]
["2018-05-01",{"$f":"VLOOKUP(J617,'Control Panel'!$I$27:$K$68,2,FALSE)","v":"NW2"},1,null,null,null,null,null,1,"F84624",null,2749,11,8,8,8,8,2,8,6,4,5,5,6,2,2,5,2,4,5]
["2018-05-01",{"$f":"VLOOKUP(J618,'Control Panel'!$I$27:$K$68,2,FALSE)","v":"SE2"},1,null,null,null,null,null,1,"F84632",null,1082,0,0,0,0,0,0,0,0,0,0,0,0,0,0,0,0,0,0]
["2018-05-01",{"$f":"VLOOKUP(J619,'Control Panel'!$I$27:$K$68,2,FALSE)","v":"SW2"},1,null,null,null,null,null,1,"F84635",null,8416,19,16,16,16,16,6,18,17,13,14,12,18,17,17,13,17,11,11]
["2018-05-01",{"$f":"VLOOKUP(J620,'Control Panel'!$I$27:$K$68,2,FALSE)","v":"NW2"},1,null,null,null,null,null,1,"F84636",null,4111,8,8,8,8,6,4,14,11,10,11,10,6,4,4,1,4,2,10]
["2018-05-01",{"$f":"VLOOKUP(J621,'Control Panel'!$I$27:$K$68,2,FALSE)","v":"City"},1,null,null,null,null,null,1,"F84640",null,9256,21,19,18,19,19,8,9,9,9,9,9,13,13,13,11,13,11,9]
["2018-05-01",{"$f":"VLOOKUP(J622,'Control Panel'!$I$27:$K$68,2,FALSE)","v":"NE2"},0,null,null,null,null,null,1,"F84668",null,6546,36,18,18,19,14,3,37,25,23,23,29,33,30,30,16,29,18,26]
["2018-05-01",{"$f":"VLOOKUP(J623,'Control Panel'!$I$27:$K$68,2,FALSE)","v":"NE2"},0,null,null,null,null,null,1,"F84685",null,3024,9,5,5,5,2,3,12,9,9,9,8,8,5,5,5,5,5,8]
["2018-05-01",{"$f":"VLOOKUP(J624,'Control Panel'!$I$27:$K$68,2,FALSE)","v":"NE1"},0,null,null,null,null,null,1,"F84686",null,7595,70,16,24,26,9,0,65,40,37,31,35,68,47,51,20,45,21,29]
["2018-05-01",{"$f":"VLOOKUP(J625,'Control Panel'!$I$27:$K$68,2,FALSE)","v":"SW2"},1,null,null,null,null,null,1,"F84692",null,7107,9,7,7,7,8,1,15,15,15,15,15,20,18,18,13,17,13,15]
["2018-05-01",{"$f":"VLOOKUP(J626,'Control Panel'!$I$27:$K$68,2,FALSE)","v":"NW2"},1,null,null,null,null,null,1,"F84694",null,3684,14,12,11,12,12,1,9,8,6,6,6,5,5,5,1,5,5,6]
["2018-05-01",{"$f":"VLOOKUP(J627,'Control Panel'!$I$27:$K$68,2,FALSE)","v":"NE2"},0,null,null,null,null,null,1,"F84711",null,2050,5,4,5,5,5,2,5,4,5,4,4,8,7,4,6,5,7,3]
["2018-05-01",{"$f":"VLOOKUP(J628,'Control Panel'!$I$27:$K$68,2,FALSE)","v":"NW1"},1,null,null,null,null,null,1,"F84716",null,5600,34,18,18,19,16,0,21,7,8,7,8,32,27,27,10,25,12,7]
["2018-05-01",{"$f":"VLOOKUP(J629,'Control Panel'!$I$27:$K$68,2,FALSE)","v":"SE1"},1,null,null,null,null,null,1,"F84719",null,4943,20,20,17,20,18,3,11,11,10,9,10,13,13,12,11,13,13,11]
["2018-05-01",{"$f":"VLOOKUP(J630,'Control Panel'!$I$27:$K$68,2,FALSE)","v":"NE2"},0,null,null,null,null,null,1,"F84720",null,5271,17,10,10,10,8,0,26,20,21,21,21,16,14,13,10,15,12,21]
["2018-05-01",{"$f":"VLOOKUP(J631,'Control Panel'!$I$27:$K$68,2,FALSE)","v":"SE2"},1,null,null,null,null,null,1,"Y00403",null,6140,21,19,18,19,18,4,15,14,14,14,14,11,10,9,7,9,8,14]
["2018-05-01",{"$f":"VLOOKUP(J632,'Control Panel'!$I$27:$K$68,2,FALSE)","v":"NE1"},0,null,null,null,null,null,1,"Y03049",null,15138,62,28,28,29,24,12,61,42,32,31,34,69,61,49,30,56,32,33]
["2018-05-01",{"$f":"VLOOKUP(J633,'Control Panel'!$I$27:$K$68,2,FALSE)","v":{"$error":"#N/A"}},{"$error":"#N/A"},null,null,null,null,null,0,"Total",null,319202,1079,794,791,822,736,171,1106,903,802,792,816,1014,874,833,604,821,629,804]
["2018-06-01",{"$f":"VLOOKUP(J634,'Control Panel'!$I$27:$K$68,2,FALSE)","v":{"$error":"#N/A"}},{"$error":"#N/A"},null,"Last Run:",null,"Population Count",334266,1,null,"Search","All Patients","(01) 12 MONTH COHORT","(01.01) DTaP/IPV/Hib or DTaP/IPV/Hib/HepB","(01.02) Men B (1st and 2nd)","(01.03) PCV","(01.04) Rotavirus","(01.05) BCG","(02) 24 MONTH COHORT","(02.01) DTaP/IPV/Hib or DTaP/IPV/Hib/HepB","(02.02) MMR","(02.03) HiB/Men C","(02.04) PCV (Booster)","(03) 5 YEAR COHORT","(03.01) DTaP/IPV/Hib or DTaP/IPV/Hib/HepB","(03.02) MMR (Primary)","(03.03) DTaP/IPV (Booster)","(03.04) HiB/Men C","(03.05) MMR (Booster)","(02.05) Men B (Booster)"]
["2018-06-01",{"$f":"VLOOKUP(J635,'Control Panel'!$I$27:$K$68,2,FALSE)","v":{"$error":"#N/A"}},{"$error":"#N/A"},null,"2018-07-02T10:52:00",null,"Males",165454,1,"Organisation Code"]
["2018-06-01",{"$f":"VLOOKUP(J636,'Control Panel'!$I$27:$K$68,2,FALSE)","v":"SE1"},1,null,"Relative Date:",null,"Females",168812,1,"F84003",null,12816,41,38,38,38,35,5,43,38,37,36,37,41,35,33,26,33,27,36]
["2018-06-01",{"$f":"VLOOKUP(J637,'Control Panel'!$I$27:$K$68,2,FALSE)","v":"NW2"},1,null,"2018-07-01",null,null,null,1,"F84008",null,12750,40,35,36,36,36,1,44,42,42,42,42,30,29,28,21,28,23,42]
["2018-06-01",{"$f":"VLOOKUP(J638,'Control Panel'!$I$27:$K$68,2,FALSE)","v":"NE1"},0,null,null,null,null,null,1,"F84013",null,15247,102,38,43,44,27,0,111,65,54,47,60,100,79,80,42,68,44,57]
["2018-06-01",{"$f":"VLOOKUP(J639,'Control Panel'!$I$27:$K$68,2,FALSE)","v":"SE1"},1,null,null,null,null,null,1,"F84015",null,5365,11,10,10,10,9,5,20,18,13,13,13,13,12,11,10,11,10,13]
["2018-06-01",{"$f":"VLOOKUP(J640,'Control Panel'!$I$27:$K$68,2,FALSE)","v":"NE2"},0,null,null,null,null,null,1,"F84018",null,11567,47,43,41,44,39,6,38,33,27,28,27,29,27,27,21,27,21,27]
["2018-06-01",{"$f":"VLOOKUP(J641,'Control Panel'!$I$27:$K$68,2,FALSE)","v":"SW1"},1,null,null,null,null,null,1,"F84021",null,10447,26,25,23,25,23,7,39,35,33,32,32,22,21,19,18,20,17,33]
["2018-06-01",{"$f":"VLOOKUP(J642,'Control Panel'!$I$27:$K$68,2,FALSE)","v":"NW2"},{"$f":"IF(LEFT(B642,2)=\"NE\",0,1)","v":1},null,null,null,null,null,1,"F84033",null,12363,27,25,25,25,24,3,41,40,37,37,36,29,27,27,20,26,20,37]
["2018-06-01",{"$f":"VLOOKUP(J643,'Control Panel'!$I$27:$K$68,2,FALSE)","v":"SW1"},1,null,null,null,null,null,{"$f":"IF(J643=\"Total\",0,1)","v":1},"F84035",null,6148,21,19,18,19,19,2,20,20,19,20,20,13,10,8,3,9,3,19]
["2018-06-01",{"$f":"VLOOKUP(J644,'Control Panel'!$I$27:$K$68,2,FALSE)","v":"NW1"},1,null,null,null,null,null,1,"F84036",null,6946,22,19,16,19,17,4,27,23,22,22,22,15,11,11,7,11,10,22]
["2018-06-01",{"$f":"VLOOKUP(J645,'Control Panel'!$I$27:$K$68,2,FALSE)","v":"SW1"},1,null,null,null,null,null,1,"F84038",null,3839,13,11,11,11,11,3,7,5,6,6,6,7,6,6,3,6,6,6]
["2018-06-01",{"$f":"VLOOKUP(J646,'Control Panel'!$I$27:$K$68,2,FALSE)","v":"SW2"},1,null,null,null,null,null,1,"F84041",null,7870,21,21,21,21,21,3,17,13,15,15,15,26,25,22,18,22,19,14]
["2018-06-01",{"$f":"VLOOKUP(J647,'Control Panel'!$I$27:$K$68,2,FALSE)","v":"SE1"},1,null,null,null,null,null,1,"F84043",null,4420,15,12,11,12,12,1,5,4,4,4,4,16,14,14,12,14,11,4]
["2018-06-01",{"$f":"VLOOKUP(J648,'Control Panel'!$I$27:$K$68,2,FALSE)","v":"SE1"},1,null,null,null,null,null,1,"F84060",null,4788,14,12,12,12,12,6,13,11,8,8,9,15,11,10,8,10,8,9]
["2018-06-01",{"$f":"VLOOKUP(J649,'Control Panel'!$I$27:$K$68,2,FALSE)","v":"SW1"},1,null,null,null,null,null,1,"F84063",null,5927,8,8,8,8,8,3,12,12,8,8,8,16,1,1,10,1,11,8]
["2018-06-01",{"$f":"VLOOKUP(J650,'Control Panel'!$I$27:$K$68,2,FALSE)","v":"SE2"},1,null,null,null,null,null,1,"F84069",null,14590,48,45,44,45,40,7,46,43,38,39,39,43,40,37,26,37,27,38]
["2018-06-01",{"$f":"VLOOKUP(J651,'Control Panel'!$I$27:$K$68,2,FALSE)","v":"SW2"},1,null,null,null,null,null,1,"F84072",null,10538,39,32,33,33,33,6,40,35,31,30,28,22,18,18,11,18,10,31]
["2018-06-01",{"$f":"VLOOKUP(J652,'Control Panel'!$I$27:$K$68,2,FALSE)","v":"NE2"},0,null,null,null,null,null,1,"F84080",null,4756,14,10,9,10,8,0,21,18,12,13,15,20,17,17,15,16,14,15]
["2018-06-01",{"$f":"VLOOKUP(J653,'Control Panel'!$I$27:$K$68,2,FALSE)","v":"SW2"},1,null,null,null,null,null,1,"F84096",null,13596,33,28,30,31,26,18,39,34,32,32,32,36,33,32,30,32,30,32]
["2018-06-01",{"$f":"VLOOKUP(J654,'Control Panel'!$I$27:$K$68,2,FALSE)","v":"SE1"},1,null,null,null,null,null,1,"F84105",null,11434,34,30,29,31,29,7,29,26,24,25,25,38,38,35,30,33,29,24]
["2018-06-01",{"$f":"VLOOKUP(J655,'Control Panel'!$I$27:$K$68,2,FALSE)","v":"NW1"},1,null,null,null,null,null,1,"F84115",null,8704,25,22,21,22,23,9,18,14,15,15,15,26,24,23,23,23,23,16]
["2018-06-01",{"$f":"VLOOKUP(J656,'Control Panel'!$I$27:$K$68,2,FALSE)","v":"SW1"},1,null,null,null,null,null,1,"F84117",null,10155,24,21,21,21,18,2,27,26,22,22,22,20,20,18,18,19,16,22]
["2018-06-01",{"$f":"VLOOKUP(J657,'Control Panel'!$I$27:$K$68,2,FALSE)","v":"NW1"},1,null,null,null,null,null,1,"F84119",null,12184,44,40,39,40,39,13,51,45,39,40,40,41,41,39,26,39,27,39]
["2018-06-01",{"$f":"VLOOKUP(J658,'Control Panel'!$I$27:$K$68,2,FALSE)","v":"SE2"},1,null,null,null,null,null,1,"F84601",null,6557,10,6,6,6,8,6,14,13,9,9,9,21,18,15,11,15,13,10]
["2018-06-01",{"$f":"VLOOKUP(J659,'Control Panel'!$I$27:$K$68,2,FALSE)","v":"NE2"},0,null,null,null,null,null,1,"F84619",null,4210,12,11,11,11,10,1,13,13,13,13,13,12,11,11,10,11,10,13]
["2018-06-01",{"$f":"VLOOKUP(J660,'Control Panel'!$I$27:$K$68,2,FALSE)","v":"SE2"},1,null,null,null,null,null,1,"F84620",null,6151,18,14,14,15,12,0,24,23,18,18,18,27,25,24,21,24,21,18]
["2018-06-01",{"$f":"VLOOKUP(J661,'Control Panel'!$I$27:$K$68,2,FALSE)","v":"SW1"},1,null,null,null,null,null,1,"F84621",null,3715,10,9,9,9,9,2,11,10,7,8,8,7,6,6,5,6,6,8]
["2018-06-01",{"$f":"VLOOKUP(J662,'Control Panel'!$I$27:$K$68,2,FALSE)","v":"NW2"},1,null,null,null,null,null,1,"F84624",null,2755,11,8,8,8,8,2,8,6,4,5,5,6,2,2,5,2,4,5]
["2018-06-01",{"$f":"VLOOKUP(J663,'Control Panel'!$I$27:$K$68,2,FALSE)","v":"SE2"},1,null,null,null,null,null,1,"F84632",null,1093,0,0,0,0,0,0,0,0,0,0,0,0,0,0,0,0,0,0]
["2018-06-01",{"$f":"VLOOKUP(J664,'Control Panel'!$I$27:$K$68,2,FALSE)","v":"SW2"},1,null,null,null,null,null,1,"F84635",null,8440,19,16,16,16,16,6,18,17,13,14,12,19,18,17,14,17,12,11]
["2018-06-01",{"$f":"VLOOKUP(J665,'Control Panel'!$I$27:$K$68,2,FALSE)","v":"NW2"},1,null,null,null,null,null,1,"F84636",null,4168,8,8,8,8,6,4,15,12,11,12,11,7,5,5,2,5,3,11]
["2018-06-01",{"$f":"VLOOKUP(J666,'Control Panel'!$I$27:$K$68,2,FALSE)","v":"City"},1,null,null,null,null,null,1,"F84640",null,9249,21,19,18,20,19,8,9,9,9,9,9,13,13,13,11,13,11,9]
["2018-06-01",{"$f":"VLOOKUP(J667,'Control Panel'!$I$27:$K$68,2,FALSE)","v":"NE2"},0,null,null,null,null,null,1,"F84668",null,6551,36,18,18,19,14,3,38,25,23,23,29,32,29,29,15,28,17,26]
["2018-06-01",{"$f":"VLOOKUP(J668,'Control Panel'!$I$27:$K$68,2,FALSE)","v":"NE2"},0,null,null,null,null,null,1,"F84685",null,3042,9,5,5,5,2,3,13,9,9,9,8,9,5,5,5,5,5,8]
["2018-06-01",{"$f":"VLOOKUP(J669,'Control Panel'!$I$27:$K$68,2,FALSE)","v":"NE1"},0,null,null,null,null,null,1,"F84686",null,7614,70,16,25,27,9,0,65,40,37,31,35,68,47,51,20,45,21,29]
["2018-06-01",{"$f":"VLOOKUP(J670,'Control Panel'!$I$27:$K$68,2,FALSE)","v":"SW2"},1,null,null,null,null,null,1,"F84692",null,7123,9,7,7,7,8,1,15,15,15,15,15,20,18,18,13,17,13,15]
["2018-06-01",{"$f":"VLOOKUP(J671,'Control Panel'!$I$27:$K$68,2,FALSE)","v":"NW2"},1,null,null,null,null,null,1,"F84694",null,3759,14,12,11,12,12,1,9,8,6,6,6,5,5,5,1,5,5,6]
["2018-06-01",{"$f":"VLOOKUP(J672,'Control Panel'!$I$27:$K$68,2,FALSE)","v":"NE2"},0,null,null,null,null,null,1,"F84711",null,2040,5,4,5,5,5,2,5,4,5,4,4,8,7,4,6,5,7,3]
["2018-06-01",{"$f":"VLOOKUP(J673,'Control Panel'!$I$27:$K$68,2,FALSE)","v":"NW1"},1,null,null,null,null,null,1,"F84716",null,5615,34,18,19,20,16,0,22,8,9,8,9,32,27,27,10,25,12,8]
["2018-06-01",{"$f":"VLOOKUP(J674,'Control Panel'!$I$27:$K$68,2,FALSE)","v":"SE1"},1,null,null,null,null,null,1,"F84719",null,4964,20,20,17,20,18,3,11,11,10,9,10,13,13,12,11,13,13,11]
["2018-06-01",{"$f":"VLOOKUP(J675,'Control Panel'!$I$27:$K$68,2,FALSE)","v":"NE2"},0,null,null,null,null,null,1,"F84720",null,5278,16,9,9,9,7,0,27,21,22,22,22,16,14,13,10,15,12,22]
["2018-06-01",{"$f":"VLOOKUP(J676,'Control Panel'!$I$27:$K$68,2,FALSE)","v":"SE2"},1,null,null,null,null,null,1,"Y00403",null,6119,20,18,17,18,17,4,15,14,14,14,14,9,9,8,6,8,7,14]
["2018-06-01",{"$f":"VLOOKUP(J677,'Control Panel'!$I$27:$K$68,2,FALSE)","v":"NE1"},0,null,null,null,null,null,1,"Y03049",null,15008,64,29,29,30,25,12,61,42,32,31,34,69,61,49,30,56,32,34]
["2018-06-01",{"$f":"VLOOKUP(J678,'Control Panel'!$I$27:$K$68,2,FALSE)","v":{"$error":"#N/A"}},{"$error":"#N/A"},null,null,null,null,null,0,"Total",null,319901,1075,791,791,822,730,169,1101,900,804,794,818,1011,872,830,604,818,630,805]
["2018-07-01",{"$f":"VLOOKUP(J679,'Control Panel'!$I$27:$K$68,2,FALSE)","v":{"$error":"#N/A"}},{"$error":"#N/A"},null,"Last Run:",null,"Population Count",335213,1,null,"Search","All Patients","(01) 12 MONTH COHORT","(01.01) DTaP/IPV/Hib Combined","(01.02) Men B (1st and 2nd)","(01.03) PCV","(01.04) Rotavirus","(01.05) BCG","(02) 24 MONTH COHORT","(02.01) DTaP/IPV/Hib Combined","(02.02) MMR","(02.03) HiB/Men C","(02.04) PCV (Booster)","(03) 5 YEAR COHORT","(03.01) DTaP/IPV/Hib Combined","(03.02) MMR (Primary)","(03.03) DTaP/IPV (Booster)","(03.04) HiB/Men C","(03.05) MMR (Booster)","(02.05) Men B (Booster)"]
["2018-07-01",{"$f":"VLOOKUP(J680,'Control Panel'!$I$27:$K$68,2,FALSE)","v":{"$error":"#N/A"}},{"$error":"#N/A"},null,"2018-08-02T10:59:00",null,"Males",166172,1,"Organisation Code"]
["2018-07-01",{"$f":"VLOOKUP(J681,'Control Panel'!$I$27:$K$68,2,FALSE)","v":"SE1"},1,null,"Relative Date:",null,"Females",169041,1,"F84003",null,12767,58,52,53,53,49,13,30,27,24,24,24,37,32,33,26,32,26,24]
["2018-07-01",{"$f":"VLOOKUP(J682,'Control Panel'!$I$27:$K$68,2,FALSE)","v":"NW2"},1,null,"2018-08-01",null,null,null,1,"F84008",null,12762,44,42,42,42,42,2,46,41,40,39,39,48,44,42,39,42,39,39]
["2018-07-01",{"$f":"VLOOKUP(J683,'Control Panel'!$I$27:$K$68,2,FALSE)","v":"NE1"},0,null,null,null,null,null,1,"F84013",null,15237,120,40,48,55,24,2,103,69,54,47,57,114,93,93,55,83,54,55]
["2018-07-01",{"$f":"VLOOKUP(J684,'Control Panel'!$I$27:$K$68,2,FALSE)","v":"SE1"},1,null,null,null,null,null,1,"F84015",null,5394,12,9,9,9,8,3,14,11,10,10,11,13,10,9,9,9,9,11]
["2018-07-01",{"$f":"VLOOKUP(J685,'Control Panel'!$I$27:$K$68,2,FALSE)","v":"NE2"},0,null,null,null,null,null,1,"F84018",null,11580,41,37,36,35,35,5,51,43,40,41,41,36,35,34,29,36,30,43]
["2018-07-01",{"$f":"VLOOKUP(J686,'Control Panel'!$I$27:$K$68,2,FALSE)","v":"SW1"},1,null,null,null,null,null,1,"F84021",null,10432,31,28,28,28,27,7,34,32,31,31,31,23,20,20,15,20,14,29]
["2018-07-01",{"$f":"VLOOKUP(J687,'Control Panel'!$I$27:$K$68,2,FALSE)","v":"NW2"},1,null,null,null,null,null,1,"F84033",null,12359,34,31,30,31,32,2,43,40,39,39,39,20,16,17,15,17,15,39]
["2018-07-01",{"$f":"VLOOKUP(J688,'Control Panel'!$I$27:$K$68,2,FALSE)","v":"SW1"},1,null,null,null,null,null,1,"F84035",null,6277,15,11,11,11,12,2,14,12,11,10,10,10,9,9,8,9,8,10]
["2018-07-01",{"$f":"VLOOKUP(J689,'Control Panel'!$I$27:$K$68,2,FALSE)","v":"NW1"},1,null,null,null,null,null,1,"F84036",null,6962,13,9,10,10,9,0,27,24,22,22,21,11,9,8,9,8,9,20]
["2018-07-01",{"$f":"VLOOKUP(J690,'Control Panel'!$I$27:$K$68,2,FALSE)","v":"SW1"},1,null,null,null,null,null,1,"F84038",null,3833,10,9,9,9,9,0,6,5,4,3,4,10,9,9,4,9,8,5]
["2018-07-01",{"$f":"VLOOKUP(J691,'Control Panel'!$I$27:$K$68,2,FALSE)","v":"SW2"},1,null,null,null,null,null,1,"F84041",null,7851,18,17,16,17,14,5,23,23,23,23,23,12,9,10,9,8,8,23]
["2018-07-01",{"$f":"VLOOKUP(J692,'Control Panel'!$I$27:$K$68,2,FALSE)","v":"SE1"},1,null,null,null,null,null,1,"F84043",null,4413,10,6,6,6,7,0,15,13,11,11,12,10,10,9,9,9,9,12]
["2018-07-01",{"$f":"VLOOKUP(J693,'Control Panel'!$I$27:$K$68,2,FALSE)","v":"SE1"},1,null,null,null,null,null,1,"F84060",null,4759,10,7,7,7,6,1,16,12,11,11,11,9,7,8,8,8,8,11]
["2018-07-01",{"$f":"VLOOKUP(J694,'Control Panel'!$I$27:$K$68,2,FALSE)","v":"SW1"},1,null,null,null,null,null,1,"F84063",null,5904,21,17,18,18,17,10,19,18,12,12,12,20,4,6,11,3,10,12]
["2018-07-01",{"$f":"VLOOKUP(J695,'Control Panel'!$I$27:$K$68,2,FALSE)","v":"SE2"},1,null,null,null,null,null,1,"F84069",null,14555,45,35,35,36,33,13,50,47,42,42,41,38,33,34,19,32,21,41]
["2018-07-01",{"$f":"VLOOKUP(J696,'Control Panel'!$I$27:$K$68,2,FALSE)","v":"SW2"},1,null,null,null,null,null,1,"F84072",null,10580,36,31,34,35,35,7,35,34,29,30,30,19,19,16,9,16,9,30]
["2018-07-01",{"$f":"VLOOKUP(J697,'Control Panel'!$I$27:$K$68,2,FALSE)","v":"NE2"},0,null,null,null,null,null,1,"F84080",null,4768,25,17,19,20,18,3,16,14,10,10,10,20,18,18,10,16,11,10]
["2018-07-01",{"$f":"VLOOKUP(J698,'Control Panel'!$I$27:$K$68,2,FALSE)","v":"SW2"},1,null,null,null,null,null,1,"F84096",null,13602,29,26,26,26,23,10,29,23,22,22,22,36,35,35,28,33,29,21]
["2018-07-01",{"$f":"VLOOKUP(J699,'Control Panel'!$I$27:$K$68,2,FALSE)","v":"SE1"},1,null,null,null,null,null,1,"F84105",null,11446,36,31,31,31,29,7,37,33,30,30,30,34,31,31,22,30,22,30]
["2018-07-01",{"$f":"VLOOKUP(J700,'Control Panel'!$I$27:$K$68,2,FALSE)","v":"NW1"},1,null,null,null,null,null,1,"F84115",null,8713,27,27,27,27,27,5,25,23,19,20,18,19,18,19,16,18,17,22]
["2018-07-01",{"$f":"VLOOKUP(J701,'Control Panel'!$I$27:$K$68,2,FALSE)","v":"SW1"},1,null,null,null,null,null,1,"F84117",null,10156,37,33,34,34,35,9,31,29,24,24,25,35,34,35,31,34,31,25]
["2018-07-01",{"$f":"VLOOKUP(J702,'Control Panel'!$I$27:$K$68,2,FALSE)","v":"NW1"},1,null,null,null,null,null,1,"F84119",null,12189,43,39,39,39,39,14,52,46,42,42,41,41,39,36,30,36,31,42]
["2018-07-01",{"$f":"VLOOKUP(J703,'Control Panel'!$I$27:$K$68,2,FALSE)","v":"SE2"},1,null,null,null,null,null,1,"F84601",null,6572,20,16,16,16,17,10,13,12,11,11,11,22,13,14,11,15,12,11]
["2018-07-01",{"$f":"VLOOKUP(J704,'Control Panel'!$I$27:$K$68,2,FALSE)","v":"NE2"},0,null,null,null,null,null,1,"F84619",null,4251,16,12,12,13,10,5,15,13,13,12,13,14,13,13,13,13,14,13]
["2018-07-01",{"$f":"VLOOKUP(J705,'Control Panel'!$I$27:$K$68,2,FALSE)","v":"SE2"},1,null,null,null,null,null,1,"F84620",null,6192,13,11,12,12,11,0,20,19,16,15,15,25,24,20,16,20,18,15]
["2018-07-01",{"$f":"VLOOKUP(J706,'Control Panel'!$I$27:$K$68,2,FALSE)","v":"SW1"},{"$f":"IF(LEFT(B706,2)=\"NE\",0,1)","v":1},null,null,null,null,null,1,"F84621",null,3732,6,6,6,6,6,2,9,9,8,8,9,12,10,10,8,10,8,8]
["2018-07-01",{"$f":"VLOOKUP(J707,'Control Panel'!$I$27:$K$68,2,FALSE)","v":"NW2"},1,null,null,null,null,null,{"$f":"IF(J707=\"Total\",0,1)","v":1},"F84624",null,2751,6,6,6,6,6,0,8,6,7,7,7,5,2,2,2,1,2,6]
["2018-07-01",{"$f":"VLOOKUP(J708,'Control Panel'!$I$27:$K$68,2,FALSE)","v":"SE2"},1,null,null,null,null,null,1,"F84632",null,1103,0,0,0,0,0,0,0,0,0,0,0,0,0,0,0,0,0,0]
["2018-07-01",{"$f":"VLOOKUP(J709,'Control Panel'!$I$27:$K$68,2,FALSE)","v":"SW2"},1,null,null,null,null,null,1,"F84635",null,8468,21,17,17,18,16,1,24,21,20,20,18,18,17,16,9,16,9,18]
["2018-07-01",{"$f":"VLOOKUP(J710,'Control Panel'!$I$27:$K$68,2,FALSE)","v":"NW2"},1,null,null,null,null,null,1,"F84636",null,4239,12,10,11,10,10,3,10,9,9,9,9,12,10,11,10,9,10,9]
["2018-07-01",{"$f":"VLOOKUP(J711,'Control Panel'!$I$27:$K$68,2,FALSE)","v":"City"},1,null,null,null,null,null,1,"F84640",null,9262,21,20,20,20,20,7,20,19,18,18,18,17,14,15,14,15,14,18]
["2018-07-01",{"$f":"VLOOKUP(J712,'Control Panel'!$I$27:$K$68,2,FALSE)","v":"NE2"},0,null,null,null,null,null,1,"F84668",null,6579,34,12,16,16,11,5,45,21,23,23,29,35,28,28,11,26,16,23]
["2018-07-01",{"$f":"VLOOKUP(J713,'Control Panel'!$I$27:$K$68,2,FALSE)","v":"NE2"},0,null,null,null,null,null,1,"F84685",null,3033,11,8,8,8,7,6,10,9,9,9,9,9,9,9,6,9,6,9]
["2018-07-01",{"$f":"VLOOKUP(J714,'Control Panel'!$I$27:$K$68,2,FALSE)","v":"NE1"},0,null,null,null,null,null,1,"F84686",null,7631,70,26,29,32,18,1,67,42,42,33,34,64,44,41,18,39,18,36]
["2018-07-01",{"$f":"VLOOKUP(J715,'Control Panel'!$I$27:$K$68,2,FALSE)","v":"SW2"},1,null,null,null,null,null,1,"F84692",null,7131,21,18,18,18,18,10,11,9,5,5,5,12,11,12,9,11,9,5]
["2018-07-01",{"$f":"VLOOKUP(J716,'Control Panel'!$I$27:$K$68,2,FALSE)","v":"NW2"},1,null,null,null,null,null,1,"F84694",null,3855,5,2,2,2,2,0,12,11,10,10,10,13,12,11,10,10,10,10]
["2018-07-01",{"$f":"VLOOKUP(J717,'Control Panel'!$I$27:$K$68,2,FALSE)","v":"NE2"},0,null,null,null,null,null,1,"F84711",null,2027,8,5,4,5,5,1,5,2,1,1,1,4,2,2,2,2,2,2]
["2018-07-01",{"$f":"VLOOKUP(J718,'Control Panel'!$I$27:$K$68,2,FALSE)","v":"NW1"},1,null,null,null,null,null,1,"F84716",null,5619,22,12,13,13,12,2,25,15,15,13,16,31,22,22,14,20,15,16]
["2018-07-01",{"$f":"VLOOKUP(J719,'Control Panel'!$I$27:$K$68,2,FALSE)","v":"SE1"},1,null,null,null,null,null,1,"F84719",null,4972,15,14,14,14,14,9,14,14,13,13,13,13,12,9,10,11,12,13]
["2018-07-01",{"$f":"VLOOKUP(J720,'Control Panel'!$I$27:$K$68,2,FALSE)","v":"NE2"},0,null,null,null,null,null,1,"F84720",null,5306,21,14,15,17,15,2,28,15,15,14,18,21,17,15,12,14,12,16]
["2018-07-01",{"$f":"VLOOKUP(J721,'Control Panel'!$I$27:$K$68,2,FALSE)","v":"SE2"},1,null,null,null,null,null,1,"Y00403",null,6142,16,13,12,12,12,0,25,21,18,19,19,18,14,14,9,14,10,20]
["2018-07-01",{"$f":"VLOOKUP(J722,'Control Panel'!$I$27:$K$68,2,FALSE)","v":"NE1"},0,null,null,null,null,null,1,"Y03049",null,14929,78,31,31,33,26,8,74,46,39,31,41,74,66,54,45,60,46,35]
["2018-07-01",{"$f":"VLOOKUP(J723,'Control Panel'!$I$27:$K$68,2,FALSE)","v":{"$error":"#N/A"}},{"$error":"#N/A"},null,null,null,null,null,0,"Total",null,320333,1131,807,830,850,766,192,1151,932,842,814,847,1034,874,849,640,823,661,837]
["2018-08-01",{"$f":"VLOOKUP(J724,'Control Panel'!$I$27:$K$68,2,FALSE)","v":{"$error":"#N/A"}},{"$error":"#N/A"},null,"Last Run:",null,"Population Count",336061,1,null,"Search","All Patients","(01) 12 MONTH COHORT","(01.01) DTaP/IPV/Hib Combined","(01.02) Men B (1st and 2nd)","(01.03) PCV","(01.04) Rotavirus","(01.05) BCG","(02) 24 MONTH COHORT","(02.01) DTaP/IPV/Hib Combined","(02.02) MMR","(02.03) HiB/Men C","(02.04) PCV (Booster)","(03) 5 YEAR COHORT","(03.01) DTaP/IPV/Hib Combined","(03.02) MMR (Primary)","(03.03) DTaP/IPV (Booster)","(03.04) HiB/Men C","(03.05) MMR (Booster)","(02.05) Men B (Booster)"]
["2018-08-01",{"$f":"VLOOKUP(J725,'Control Panel'!$I$27:$K$68,2,FALSE)","v":{"$error":"#N/A"}},{"$error":"#N/A"},null,"2018-09-03T12:57:00",null,"Males",166602,1,"Organisation Code"]
["2018-08-01",{"$f":"VLOOKUP(J726,'Control Panel'!$I$27:$K$68,2,FALSE)","v":"SE1"},1,null,"Relative Date:",null,"Females",169459,1,"F84003",null,12868,58,52,53,53,49,13,30,27,24,24,24,35,30,32,26,32,27,24]
["2018-08-01",{"$f":"VLOOKUP(J727,'Control Panel'!$I$27:$K$68,2,FALSE)","v":"NW2"},1,null,"2018-09-01",null,null,null,1,"F84008",null,12804,44,42,42,42,42,2,47,41,40,39,39,48,44,42,39,42,39,39]
["2018-08-01",{"$f":"VLOOKUP(J728,'Control Panel'!$I$27:$K$68,2,FALSE)","v":"NE1"},0,null,null,null,null,null,1,"F84013",null,15271,121,41,49,57,24,2,101,68,54,47,57,114,93,93,56,83,55,55]
["2018-08-01",{"$f":"VLOOKUP(J729,'Control Panel'!$I$27:$K$68,2,FALSE)","v":"SE1"},1,null,null,null,null,null,1,"F84015",null,5397,12,9,9,9,8,4,14,11,10,10,11,13,10,9,9,9,9,11]
["2018-08-01",{"$f":"VLOOKUP(J730,'Control Panel'!$I$27:$K$68,2,FALSE)","v":"NE2"},0,null,null,null,null,null,1,"F84018",null,11617,42,37,36,36,36,5,51,43,41,42,42,37,36,35,29,37,31,44]
["2018-08-01",{"$f":"VLOOKUP(J731,'Control Panel'!$I$27:$K$68,2,FALSE)","v":"SW1"},1,null,null,null,null,null,1,"F84021",null,10459,31,28,28,28,27,7,33,31,30,30,30,23,20,20,17,20,16,28]
["2018-08-01",{"$f":"VLOOKUP(J732,'Control Panel'!$I$27:$K$68,2,FALSE)","v":"NW2"},1,null,null,null,null,null,1,"F84033",null,12382,34,31,30,32,32,3,42,39,38,38,38,19,16,16,14,16,14,38]
["2018-08-01",{"$f":"VLOOKUP(J733,'Control Panel'!$I$27:$K$68,2,FALSE)","v":"SW1"},1,null,null,null,null,null,1,"F84035",null,6415,15,11,11,11,12,2,14,12,11,10,10,10,9,9,8,9,8,10]
["2018-08-01",{"$f":"VLOOKUP(J734,'Control Panel'!$I$27:$K$68,2,FALSE)","v":"NW1"},1,null,null,null,null,null,1,"F84036",null,6959,14,9,10,10,9,0,27,24,22,22,21,12,10,9,10,9,10,20]
["2018-08-01",{"$f":"VLOOKUP(J735,'Control Panel'!$I$27:$K$68,2,FALSE)","v":"SW1"},1,null,null,null,null,null,1,"F84038",null,3866,11,10,9,9,9,0,6,5,4,3,4,10,9,9,4,9,8,5]
["2018-08-01",{"$f":"VLOOKUP(J736,'Control Panel'!$I$27:$K$68,2,FALSE)","v":"SW2"},1,null,null,null,null,null,1,"F84041",null,7879,18,17,16,17,14,5,23,23,23,23,23,12,10,11,10,9,10,23]
["2018-08-01",{"$f":"VLOOKUP(J737,'Control Panel'!$I$27:$K$68,2,FALSE)","v":"SE1"},1,null,null,null,null,null,1,"F84043",null,4395,10,8,8,8,9,0,14,13,11,11,12,10,10,9,9,9,9,12]
["2018-08-01",{"$f":"VLOOKUP(J738,'Control Panel'!$I$27:$K$68,2,FALSE)","v":"SE1"},1,null,null,null,null,null,1,"F84060",null,4762,10,7,7,7,7,1,17,13,12,12,12,9,7,8,8,8,8,12]
["2018-08-01",{"$f":"VLOOKUP(J739,'Control Panel'!$I$27:$K$68,2,FALSE)","v":"SW1"},1,null,null,null,null,null,1,"F84063",null,5937,21,17,18,18,17,10,19,18,12,12,12,20,4,6,11,3,11,12]
["2018-08-01",{"$f":"VLOOKUP(J740,'Control Panel'!$I$27:$K$68,2,FALSE)","v":"SE2"},1,null,null,null,null,null,1,"F84069",null,14556,46,35,35,36,33,13,50,47,42,42,41,38,33,34,19,32,21,41]
["2018-08-01",{"$f":"VLOOKUP(J741,'Control Panel'!$I$27:$K$68,2,FALSE)","v":"SW2"},1,null,null,null,null,null,1,"F84072",null,10633,35,31,33,34,34,7,36,35,30,31,31,20,19,16,9,16,9,31]
["2018-08-01",{"$f":"VLOOKUP(J742,'Control Panel'!$I$27:$K$68,2,FALSE)","v":"NE2"},0,null,null,null,null,null,1,"F84080",null,4762,25,17,19,20,18,3,16,14,10,10,10,19,17,17,10,15,10,10]
["2018-08-01",{"$f":"VLOOKUP(J743,'Control Panel'!$I$27:$K$68,2,FALSE)","v":"SW2"},1,null,null,null,null,null,1,"F84096",null,13561,29,26,26,26,23,10,27,21,21,21,21,34,33,33,26,31,27,20]
["2018-08-01",{"$f":"VLOOKUP(J744,'Control Panel'!$I$27:$K$68,2,FALSE)","v":"SE1"},1,null,null,null,null,null,1,"F84105",null,11440,36,31,31,31,29,7,36,32,29,29,29,33,30,30,21,29,21,29]
["2018-08-01",{"$f":"VLOOKUP(J745,'Control Panel'!$I$27:$K$68,2,FALSE)","v":"NW1"},1,null,null,null,null,null,1,"F84115",null,8731,27,27,27,27,27,5,25,23,19,20,18,19,18,19,17,18,18,22]
["2018-08-01",{"$f":"VLOOKUP(J746,'Control Panel'!$I$27:$K$68,2,FALSE)","v":"SW1"},1,null,null,null,null,null,1,"F84117",null,10144,35,31,32,32,33,9,31,29,24,24,25,35,34,35,31,34,31,25]
["2018-08-01",{"$f":"VLOOKUP(J747,'Control Panel'!$I$27:$K$68,2,FALSE)","v":"NW1"},1,null,null,null,null,null,1,"F84119",null,12271,41,36,36,36,36,12,54,47,43,43,42,42,40,37,31,37,32,43]
["2018-08-01",{"$f":"VLOOKUP(J748,'Control Panel'!$I$27:$K$68,2,FALSE)","v":"SE2"},1,null,null,null,null,null,1,"F84601",null,6624,20,16,16,16,17,10,12,11,10,10,10,22,13,14,11,15,12,10]
["2018-08-01",{"$f":"VLOOKUP(J749,'Control Panel'!$I$27:$K$68,2,FALSE)","v":"NE2"},0,null,null,null,null,null,1,"F84619",null,4272,15,11,11,12,9,5,15,13,13,12,13,14,13,13,13,13,14,13]
["2018-08-01",{"$f":"VLOOKUP(J750,'Control Panel'!$I$27:$K$68,2,FALSE)","v":"SE2"},1,null,null,null,null,null,1,"F84620",null,6187,13,11,12,12,11,0,20,19,16,15,15,24,23,20,16,20,17,15]
["2018-08-01",{"$f":"VLOOKUP(J751,'Control Panel'!$I$27:$K$68,2,FALSE)","v":"SW1"},1,null,null,null,null,null,1,"F84621",null,3729,6,6,6,6,6,2,9,9,8,8,9,12,10,10,8,10,8,8]
["2018-08-01",{"$f":"VLOOKUP(J752,'Control Panel'!$I$27:$K$68,2,FALSE)","v":"NW2"},1,null,null,null,null,null,1,"F84624",null,2749,6,6,6,6,6,0,8,6,8,8,8,5,2,2,2,1,2,7]
["2018-08-01",{"$f":"VLOOKUP(J753,'Control Panel'!$I$27:$K$68,2,FALSE)","v":"SE2"},1,null,null,null,null,null,1,"F84632",null,1108,0,0,0,0,0,0,0,0,0,0,0,0,0,0,0,0,0,0]
["2018-08-01",{"$f":"VLOOKUP(J754,'Control Panel'!$I$27:$K$68,2,FALSE)","v":"SW2"},1,null,null,null,null,null,1,"F84635",null,8540,19,15,16,17,15,1,24,22,20,20,18,18,17,16,9,16,9,18]
["2018-08-01",{"$f":"VLOOKUP(J755,'Control Panel'!$I$27:$K$68,2,FALSE)","v":"NW2"},1,null,null,null,null,null,1,"F84636",null,4304,12,10,11,10,10,3,10,9,9,9,9,12,10,11,10,9,10,9]
["2018-08-01",{"$f":"VLOOKUP(J756,'Control Panel'!$I$27:$K$68,2,FALSE)","v":"City"},1,null,null,null,null,null,1,"F84640",null,9216,21,20,20,20,20,7,19,18,17,17,17,17,14,15,14,15,14,17]
["2018-08-01",{"$f":"VLOOKUP(J757,'Control Panel'!$I$27:$K$68,2,FALSE)","v":"NE2"},0,null,null,null,null,null,1,"F84668",null,6558,34,12,17,17,11,5,45,21,23,23,29,35,28,28,11,26,16,23]
["2018-08-01",{"$f":"VLOOKUP(J758,'Control Panel'!$I$27:$K$68,2,FALSE)","v":"NE2"},0,null,null,null,null,null,1,"F84685",null,3035,12,9,9,9,8,7,10,9,9,9,9,9,9,9,6,9,6,9]
["2018-08-01",{"$f":"VLOOKUP(J759,'Control Panel'!$I$27:$K$68,2,FALSE)","v":"NE1"},0,null,null,null,null,null,1,"F84686",null,7641,69,27,28,31,18,1,67,44,42,33,34,64,44,42,19,40,18,37]
["2018-08-01",{"$f":"VLOOKUP(J760,'Control Panel'!$I$27:$K$68,2,FALSE)","v":"SW2"},1,null,null,null,null,null,1,"F84692",null,7159,21,18,18,18,18,10,11,9,5,5,5,12,11,12,9,11,9,5]
["2018-08-01",{"$f":"VLOOKUP(J761,'Control Panel'!$I$27:$K$68,2,FALSE)","v":"NW2"},1,null,null,null,null,null,1,"F84694",null,3950,5,2,2,2,2,0,12,11,10,10,10,14,13,12,10,11,11,10]
["2018-08-01",{"$f":"VLOOKUP(J762,'Control Panel'!$I$27:$K$68,2,FALSE)","v":"NE2"},0,null,null,null,null,null,1,"F84711",null,2013,8,5,4,5,5,1,5,2,1,1,1,4,2,2,3,2,3,2]
["2018-08-01",{"$f":"VLOOKUP(J763,'Control Panel'!$I$27:$K$68,2,FALSE)","v":"NW1"},1,null,null,null,null,null,1,"F84716",null,5594,22,13,13,13,12,2,23,15,15,14,16,30,22,23,14,21,15,16]
["2018-08-01",{"$f":"VLOOKUP(J764,'Control Panel'!$I$27:$K$68,2,FALSE)","v":"SE1"},1,null,null,null,null,null,1,"F84719",null,5007,15,14,14,14,14,9,14,14,13,13,13,13,12,9,10,11,12,13]
["2018-08-01",{"$f":"VLOOKUP(J765,'Control Panel'!$I$27:$K$68,2,FALSE)","v":"NE2"},0,null,null,null,null,null,1,"F84720",null,5328,21,14,15,17,15,2,28,15,15,14,18,21,17,15,12,14,12,16]
["2018-08-01",{"$f":"VLOOKUP(J766,'Control Panel'!$I$27:$K$68,2,FALSE)","v":"SE2"},1,null,null,null,null,null,1,"Y00403",null,6193,16,13,12,12,12,0,25,22,19,19,19,18,14,14,9,14,10,20]
["2018-08-01",{"$f":"VLOOKUP(J767,'Control Panel'!$I$27:$K$68,2,FALSE)","v":"NE1"},0,null,null,null,null,null,1,"Y03049",null,14879,76,30,30,32,25,8,76,48,42,32,42,73,65,53,44,58,45,36]
["2018-08-01",{"$f":"VLOOKUP(J768,'Control Panel'!$I$27:$K$68,2,FALSE)","v":{"$error":"#N/A"}},{"$error":"#N/A"},null,null,null,null,null,0,"Total",null,321195,1126,805,825,848,762,193,1146,933,845,815,847,1029,871,849,644,823,667,838]
["2018-09-01",{"$f":"VLOOKUP(J769,'Control Panel'!$I$27:$K$68,2,FALSE)","v":{"$error":"#N/A"}},{"$error":"#N/A"},null,"Last Run:",null,"Population Count",336254,1,null,"Search","All Patients","(01) 12 MONTH COHORT","(01.01) DTaP/IPV/Hib Combined","(01.02) Men B (1st and 2nd)","(01.03) PCV","(01.04) Rotavirus","(01.05) BCG","(02) 24 MONTH COHORT","(02.01) DTaP/IPV/Hib Combined","(02.02) MMR","(02.03) HiB/Men C","(02.04) PCV (Booster)","(03) 5 YEAR COHORT","(03.01) DTaP/IPV/Hib Combined","(03.02) MMR (Primary)","(03.03) DTaP/IPV (Booster)","(03.04) HiB/Men C","(03.05) MMR (Booster)","(02.05) Men B (Booster)"]
["2018-09-01",{"$f":"VLOOKUP(J770,'Control Panel'!$I$27:$K$68,2,FALSE)","v":{"$error":"#N/A"}},{"$f":"IF(LEFT(B770,2)=\"NE\",0,1)","v":{"$error":"#N/A"}},null,"2018-10-02T10:31:00",null,"Males",166624,1,"Organisation Code"]
["2018-09-01",{"$f":"VLOOKUP(J771,'Control Panel'!$I$27:$K$68,2,FALSE)","v":"SE1"},1,null,"Relative Date:",null,"Females",169630,{"$f":"IF(J771=\"Total\",0,1)","v":1},"F84003",null,12851,57,50,51,51,47,13,30,27,24,24,24,35,30,32,26,32,27,24]
["2018-09-01",{"$f":"VLOOKUP(J772,'Control Panel'!$I$27:$K$68,2,FALSE)","v":"NW2"},1,null,"2018-10-01",null,null,null,1,"F84008",null,12754,44,42,42,42,42,2,45,39,38,37,37,48,44,42,39,42,39,37]
["2018-09-01",{"$f":"VLOOKUP(J773,'Control Panel'!$I$27:$K$68,2,FALSE)","v":"NE1"},0,null,null,null,null,null,1,"F84013",null,14989,121,43,51,57,24,2,101,69,56,48,58,108,89,89,55,80,54,57]
["2018-09-01",{"$f":"VLOOKUP(J774,'Control Panel'!$I$27:$K$68,2,FALSE)","v":"SE1"},1,null,null,null,null,null,1,"F84015",null,5391,12,9,9,10,8,4,14,11,10,10,11,13,10,9,9,9,9,11]
["2018-09-01",{"$f":"VLOOKUP(J775,'Control Panel'!$I$27:$K$68,2,FALSE)","v":"NE2"},0,null,null,null,null,null,1,"F84018",null,11620,42,37,36,36,36,5,50,45,42,41,42,37,36,35,29,37,31,43]
["2018-09-01",{"$f":"VLOOKUP(J776,'Control Panel'!$I$27:$K$68,2,FALSE)","v":"SW1"},1,null,null,null,null,null,1,"F84021",null,10461,31,28,28,28,27,7,33,31,30,30,30,23,20,20,18,20,17,28]
["2018-09-01",{"$f":"VLOOKUP(J777,'Control Panel'!$I$27:$K$68,2,FALSE)","v":"NW2"},1,null,null,null,null,null,1,"F84033",null,12327,34,31,30,32,32,3,42,39,38,38,38,19,16,16,14,16,14,38]
["2018-09-01",{"$f":"VLOOKUP(J778,'Control Panel'!$I$27:$K$68,2,FALSE)","v":"SW1"},1,null,null,null,null,null,1,"F84035",null,6589,15,11,11,11,12,2,14,12,11,10,10,10,9,9,9,9,9,10]
["2018-09-01",{"$f":"VLOOKUP(J779,'Control Panel'!$I$27:$K$68,2,FALSE)","v":"NW1"},1,null,null,null,null,null,1,"F84036",null,6996,15,10,12,12,10,0,28,25,23,23,22,12,10,9,10,9,10,21]
["2018-09-01",{"$f":"VLOOKUP(J780,'Control Panel'!$I$27:$K$68,2,FALSE)","v":"SW1"},1,null,null,null,null,null,1,"F84038",null,3891,11,10,9,9,9,0,5,4,3,2,3,10,9,9,4,9,8,4]
["2018-09-01",{"$f":"VLOOKUP(J781,'Control Panel'!$I$27:$K$68,2,FALSE)","v":"SW2"},1,null,null,null,null,null,1,"F84041",null,7830,17,16,15,16,13,5,22,22,22,22,22,10,9,10,9,9,9,22]
["2018-09-01",{"$f":"VLOOKUP(J782,'Control Panel'!$I$27:$K$68,2,FALSE)","v":"SE1"},1,null,null,null,null,null,1,"F84043",null,4384,9,7,7,7,8,0,15,14,11,11,12,10,10,9,9,9,9,12]
["2018-09-01",{"$f":"VLOOKUP(J783,'Control Panel'!$I$27:$K$68,2,FALSE)","v":"SE1"},1,null,null,null,null,null,1,"F84060",null,4755,10,7,7,7,7,1,17,13,12,12,12,9,7,8,8,8,8,12]
["2018-09-01",{"$f":"VLOOKUP(J784,'Control Panel'!$I$27:$K$68,2,FALSE)","v":"SW1"},1,null,null,null,null,null,1,"F84063",null,5952,21,17,18,18,17,10,19,18,12,12,12,19,3,5,10,3,10,12]
["2018-09-01",{"$f":"VLOOKUP(J785,'Control Panel'!$I$27:$K$68,2,FALSE)","v":"SE2"},1,null,null,null,null,null,1,"F84069",null,14560,46,36,35,36,33,13,50,47,42,42,41,39,34,35,19,33,21,41]
["2018-09-01",{"$f":"VLOOKUP(J786,'Control Panel'!$I$27:$K$68,2,FALSE)","v":"SW2"},1,null,null,null,null,null,1,"F84072",null,10634,36,32,34,35,35,7,38,37,31,32,33,20,19,16,9,16,9,33]
["2018-09-01",{"$f":"VLOOKUP(J787,'Control Panel'!$I$27:$K$68,2,FALSE)","v":"NE2"},0,null,null,null,null,null,1,"F84080",null,4757,25,17,19,20,18,3,16,14,10,10,10,19,17,17,10,15,10,10]
["2018-09-01",{"$f":"VLOOKUP(J788,'Control Panel'!$I$27:$K$68,2,FALSE)","v":"SW2"},1,null,null,null,null,null,1,"F84096",null,13534,28,26,26,26,23,10,26,20,20,20,20,33,32,32,26,30,27,19]
["2018-09-01",{"$f":"VLOOKUP(J789,'Control Panel'!$I$27:$K$68,2,FALSE)","v":"SE1"},1,null,null,null,null,null,1,"F84105",null,11460,35,30,30,30,28,7,36,32,29,29,29,33,30,30,21,29,21,29]
["2018-09-01",{"$f":"VLOOKUP(J790,'Control Panel'!$I$27:$K$68,2,FALSE)","v":"NW1"},1,null,null,null,null,null,1,"F84115",null,8709,27,27,27,27,27,5,24,24,19,20,18,19,18,19,17,18,18,22]
["2018-09-01",{"$f":"VLOOKUP(J791,'Control Panel'!$I$27:$K$68,2,FALSE)","v":"SW1"},1,null,null,null,null,null,1,"F84117",null,10127,32,28,29,29,30,9,29,27,22,22,23,35,34,35,31,34,31,23]
["2018-09-01",{"$f":"VLOOKUP(J792,'Control Panel'!$I$27:$K$68,2,FALSE)","v":"NW1"},1,null,null,null,null,null,1,"F84119",null,12294,41,36,36,36,36,12,54,48,43,43,42,42,40,37,32,37,32,43]
["2018-09-01",{"$f":"VLOOKUP(J793,'Control Panel'!$I$27:$K$68,2,FALSE)","v":"SE2"},1,null,null,null,null,null,1,"F84601",null,6665,20,16,16,16,17,10,12,11,10,10,10,21,13,14,11,15,12,10]
["2018-09-01",{"$f":"VLOOKUP(J794,'Control Panel'!$I$27:$K$68,2,FALSE)","v":"NE2"},0,null,null,null,null,null,1,"F84619",null,4284,15,11,11,12,9,5,13,12,12,11,12,14,13,13,13,13,14,12]
["2018-09-01",{"$f":"VLOOKUP(J795,'Control Panel'!$I$27:$K$68,2,FALSE)","v":"SE2"},1,null,null,null,null,null,1,"F84620",null,6117,13,11,12,12,11,0,20,19,15,14,14,24,23,20,16,20,17,14]
["2018-09-01",{"$f":"VLOOKUP(J796,'Control Panel'!$I$27:$K$68,2,FALSE)","v":"SW1"},1,null,null,null,null,null,1,"F84621",null,3727,6,6,6,6,6,2,10,10,9,9,10,12,10,10,8,10,8,9]
["2018-09-01",{"$f":"VLOOKUP(J797,'Control Panel'!$I$27:$K$68,2,FALSE)","v":"NW2"},1,null,null,null,null,null,1,"F84624",null,2752,5,5,5,5,5,0,8,6,8,8,8,5,2,2,2,1,2,7]
["2018-09-01",{"$f":"VLOOKUP(J798,'Control Panel'!$I$27:$K$68,2,FALSE)","v":"SE2"},1,null,null,null,null,null,1,"F84632",null,1160,0,0,0,0,0,0,0,0,0,0,0,0,0,0,0,0,0,0]
["2018-09-01",{"$f":"VLOOKUP(J799,'Control Panel'!$I$27:$K$68,2,FALSE)","v":"SW2"},1,null,null,null,null,null,1,"F84635",null,8606,19,15,16,17,15,1,24,22,20,20,18,17,15,14,9,14,9,18]
["2018-09-01",{"$f":"VLOOKUP(J800,'Control Panel'!$I$27:$K$68,2,FALSE)","v":"NW2"},1,null,null,null,null,null,1,"F84636",null,4383,11,9,10,9,10,2,10,9,9,9,9,11,10,10,9,8,9,9]
["2018-09-01",{"$f":"VLOOKUP(J801,'Control Panel'!$I$27:$K$68,2,FALSE)","v":"City"},1,null,null,null,null,null,1,"F84640",null,9330,22,21,21,21,21,7,19,17,17,16,16,16,13,14,13,14,13,16]
["2018-09-01",{"$f":"VLOOKUP(J802,'Control Panel'!$I$27:$K$68,2,FALSE)","v":"NE2"},0,null,null,null,null,null,1,"F84668",null,6548,34,12,17,17,11,5,45,21,23,23,29,35,28,28,11,26,16,23]
["2018-09-01",{"$f":"VLOOKUP(J803,'Control Panel'!$I$27:$K$68,2,FALSE)","v":"NE2"},0,null,null,null,null,null,1,"F84685",null,3025,12,9,9,9,8,7,10,9,9,9,9,9,9,9,6,9,6,9]
["2018-09-01",{"$f":"VLOOKUP(J804,'Control Panel'!$I$27:$K$68,2,FALSE)","v":"NE1"},0,null,null,null,null,null,1,"F84686",null,7671,69,28,28,31,18,1,67,44,42,33,34,64,44,42,19,40,18,37]
["2018-09-01",{"$f":"VLOOKUP(J805,'Control Panel'!$I$27:$K$68,2,FALSE)","v":"SW2"},1,null,null,null,null,null,1,"F84692",null,7334,21,18,18,18,18,10,11,9,5,5,5,12,11,12,9,11,9,5]
["2018-09-01",{"$f":"VLOOKUP(J806,'Control Panel'!$I$27:$K$68,2,FALSE)","v":"NW2"},1,null,null,null,null,null,1,"F84694",null,4062,5,2,2,2,2,0,13,12,11,11,11,14,13,12,10,11,11,11]
["2018-09-01",{"$f":"VLOOKUP(J807,'Control Panel'!$I$27:$K$68,2,FALSE)","v":"NE2"},0,null,null,null,null,null,1,"F84711",null,2009,8,5,4,5,5,1,6,2,1,1,1,4,2,2,3,2,3,2]
["2018-09-01",{"$f":"VLOOKUP(J808,'Control Panel'!$I$27:$K$68,2,FALSE)","v":"NW1"},1,null,null,null,null,null,1,"F84716",null,5591,22,13,13,13,12,2,22,14,14,13,15,29,22,22,14,21,15,15]
["2018-09-01",{"$f":"VLOOKUP(J809,'Control Panel'!$I$27:$K$68,2,FALSE)","v":"SE1"},1,null,null,null,null,null,1,"F84719",null,5075,14,13,13,13,13,9,12,12,11,11,11,13,12,9,10,11,12,11]
["2018-09-01",{"$f":"VLOOKUP(J810,'Control Panel'!$I$27:$K$68,2,FALSE)","v":"NE2"},0,null,null,null,null,null,1,"F84720",null,5348,22,15,15,18,16,2,28,15,15,14,18,21,17,15,12,14,12,16]
["2018-09-01",{"$f":"VLOOKUP(J811,'Control Panel'!$I$27:$K$68,2,FALSE)","v":"SE2"},1,null,null,null,null,null,1,"Y00403",null,6204,16,13,12,12,12,0,21,20,20,19,18,14,13,13,10,13,10,19]
["2018-09-01",{"$f":"VLOOKUP(J812,'Control Panel'!$I$27:$K$68,2,FALSE)","v":"NE1"},0,null,null,null,null,null,1,"Y03049",null,14759,77,30,30,32,25,8,75,48,42,32,42,72,64,52,43,58,44,36]
["2018-09-01",{"$f":"VLOOKUP(J813,'Control Panel'!$I$27:$K$68,2,FALSE)","v":{"$error":"#N/A"}},{"$error":"#N/A"},null,null,null,null,null,0,"Total",null,321515,1120,802,820,843,756,192,1134,930,841,806,839,1010,860,836,642,815,663,830]
["2018-10-01",{"$f":"VLOOKUP(J814,'Control Panel'!$I$27:$K$68,2,FALSE)","v":{"$error":"#N/A"}},{"$error":"#N/A"},null,"Last Run:",null,"Population Count",336231,1,null,"Search","All Patients","(01) 12 MONTH COHORT","(01.01) DTaP/IPV/Hib Combined","(01.02) Men B (1st and 2nd)","(01.03) PCV","(01.04) Rotavirus","(01.05) BCG","(02) 24 MONTH COHORT","(02.01) DTaP/IPV/Hib Combined","(02.02) MMR","(02.03) HiB/Men C","(02.04) PCV (Booster)","(03) 5 YEAR COHORT","(03.01) DTaP/IPV/Hib Combined","(03.02) MMR (Primary)","(03.03) DTaP/IPV (Booster)","(03.04) HiB/Men C","(03.05) MMR (Booster)","(02.05) Men B (Booster)"]
["2018-10-01",{"$f":"VLOOKUP(J815,'Control Panel'!$I$27:$K$68,2,FALSE)","v":{"$error":"#N/A"}},{"$error":"#N/A"},null,"2018-11-02T10:21:00",null,"Males",166672,1,"Organisation Code"]
["2018-10-01",{"$f":"VLOOKUP(J816,'Control Panel'!$I$27:$K$68,2,FALSE)","v":"SE1"},1,null,"Relative Date:",null,"Females",169559,1,"F84003",null,12723,35,25,25,26,25,4,39,38,33,33,33,41,40,39,33,39,32,32]
["2018-10-01",{"$f":"VLOOKUP(J817,'Control Panel'!$I$27:$K$68,2,FALSE)","v":"NW2"},1,null,"2018-11-01",null,null,null,1,"F84008",null,12729,38,36,36,36,35,7,35,32,32,32,32,41,39,38,29,34,33,32]
["2018-10-01",{"$f":"VLOOKUP(J818,'Control Panel'!$I$27:$K$68,2,FALSE)","v":"NE1"},0,null,null,null,null,null,1,"F84013",null,15067,111,40,47,48,21,0,101,50,42,35,44,105,85,89,47,71,50,45]
["2018-10-01",{"$f":"VLOOKUP(J819,'Control Panel'!$I$27:$K$68,2,FALSE)","v":"SE1"},1,null,null,null,null,null,1,"F84015",null,5375,13,11,9,11,9,4,19,18,16,16,16,20,18,17,15,18,15,15]
["2018-10-01",{"$f":"VLOOKUP(J820,'Control Panel'!$I$27:$K$68,2,FALSE)","v":"NE2"},0,null,null,null,null,null,1,"F84018",null,11644,36,32,32,32,30,4,56,50,45,47,47,39,34,36,31,36,33,46]
["2018-10-01",{"$f":"VLOOKUP(J821,'Control Panel'!$I$27:$K$68,2,FALSE)","v":"SW1"},1,null,null,null,null,null,1,"F84021",null,10388,31,28,27,29,28,7,44,40,40,42,42,20,19,19,10,19,10,42]
["2018-10-01",{"$f":"VLOOKUP(J822,'Control Panel'!$I$27:$K$68,2,FALSE)","v":"NW2"},1,null,null,null,null,null,1,"F84033",null,12298,31,31,31,31,31,4,37,33,30,30,30,31,29,28,25,29,24,30]
["2018-10-01",{"$f":"VLOOKUP(J823,'Control Panel'!$I$27:$K$68,2,FALSE)","v":"SW1"},1,null,null,null,null,null,1,"F84035",null,6779,17,11,12,13,11,3,14,12,8,8,8,13,11,11,10,11,11,8]
["2018-10-01",{"$f":"VLOOKUP(J824,'Control Panel'!$I$27:$K$68,2,FALSE)","v":"NW1"},1,null,null,null,null,null,1,"F84036",null,6996,21,16,16,16,16,6,13,11,8,8,7,21,18,21,12,17,12,8]
["2018-10-01",{"$f":"VLOOKUP(J825,'Control Panel'!$I$27:$K$68,2,FALSE)","v":"SW1"},1,null,null,null,null,null,1,"F84038",null,3938,7,5,5,5,5,0,8,7,6,6,6,8,5,5,4,5,5,6]
["2018-10-01",{"$f":"VLOOKUP(J826,'Control Panel'!$I$27:$K$68,2,FALSE)","v":"SW2"},1,null,null,null,null,null,1,"F84041",null,7852,26,24,24,24,24,10,18,17,17,17,17,17,15,15,13,13,12,17]
["2018-10-01",{"$f":"VLOOKUP(J827,'Control Panel'!$I$27:$K$68,2,FALSE)","v":"SE1"},1,null,null,null,null,null,1,"F84043",null,4415,9,4,4,4,5,0,13,8,9,8,8,19,18,16,14,16,15,8]
["2018-10-01",{"$f":"VLOOKUP(J828,'Control Panel'!$I$27:$K$68,2,FALSE)","v":"SE1"},1,null,null,null,null,null,1,"F84060",null,4772,8,7,7,7,7,4,13,10,10,10,9,10,8,7,8,7,8,9]
["2018-10-01",{"$f":"VLOOKUP(J829,'Control Panel'!$I$27:$K$68,2,FALSE)","v":"SW1"},1,null,null,null,null,null,1,"F84063",null,5979,13,10,10,10,12,7,7,7,7,7,7,21,2,4,13,4,14,7]
["2018-10-01",{"$f":"VLOOKUP(J830,'Control Panel'!$I$27:$K$68,2,FALSE)","v":"SE2"},1,null,null,null,null,null,1,"F84069",null,14529,52,47,46,47,47,10,44,43,38,38,38,43,42,38,28,37,30,38]
["2018-10-01",{"$f":"VLOOKUP(J831,'Control Panel'!$I$27:$K$68,2,FALSE)","v":"SW2"},1,null,null,null,null,null,1,"F84072",null,10679,44,41,40,41,35,12,41,34,26,26,26,21,19,17,10,14,10,25]
["2018-10-01",{"$f":"VLOOKUP(J832,'Control Panel'!$I$27:$K$68,2,FALSE)","v":"NE2"},0,null,null,null,null,null,1,"F84080",null,4747,21,9,9,11,10,3,16,9,9,9,9,9,9,8,6,9,6,9]
["2018-10-01",{"$f":"VLOOKUP(J833,'Control Panel'!$I$27:$K$68,2,FALSE)","v":"SW2"},1,null,null,null,null,null,1,"F84096",null,13527,35,32,32,32,31,12,34,32,30,30,30,22,21,20,19,20,19,30]
["2018-10-01",{"$f":"VLOOKUP(J834,'Control Panel'!$I$27:$K$68,2,FALSE)","v":"SE1"},{"$f":"IF(LEFT(B834,2)=\"NE\",0,1)","v":1},null,null,null,null,null,1,"F84105",null,11453,36,33,33,33,34,5,30,27,20,20,20,34,32,31,22,32,22,20]
["2018-10-01",{"$f":"VLOOKUP(J835,'Control Panel'!$I$27:$K$68,2,FALSE)","v":"NW1"},1,null,null,null,null,null,{"$f":"IF(J835=\"Total\",0,1)","v":1},"F84115",null,8702,20,19,18,19,17,8,23,23,21,21,21,18,18,17,18,17,18,21]
["2018-10-01",{"$f":"VLOOKUP(J836,'Control Panel'!$I$27:$K$68,2,FALSE)","v":"SW1"},1,null,null,null,null,null,1,"F84117",null,10197,26,22,22,22,22,5,28,27,23,23,23,33,33,32,19,31,19,23]
["2018-10-01",{"$f":"VLOOKUP(J837,'Control Panel'!$I$27:$K$68,2,FALSE)","v":"NW1"},1,null,null,null,null,null,1,"F84119",null,12280,40,37,37,37,35,13,42,39,36,36,36,30,27,25,18,26,18,35]
["2018-10-01",{"$f":"VLOOKUP(J838,'Control Panel'!$I$27:$K$68,2,FALSE)","v":"SE2"},1,null,null,null,null,null,1,"F84601",null,6709,17,12,12,12,13,6,22,18,16,16,16,16,15,15,12,14,12,16]
["2018-10-01",{"$f":"VLOOKUP(J839,'Control Panel'!$I$27:$K$68,2,FALSE)","v":"NE2"},0,null,null,null,null,null,1,"F84619",null,4293,14,13,13,13,13,1,15,15,14,14,13,13,13,12,12,12,12,13]
["2018-10-01",{"$f":"VLOOKUP(J840,'Control Panel'!$I$27:$K$68,2,FALSE)","v":"SE2"},1,null,null,null,null,null,1,"F84620",null,6152,18,15,15,15,16,1,24,23,18,19,19,22,20,21,15,19,14,19]
["2018-10-01",{"$f":"VLOOKUP(J841,'Control Panel'!$I$27:$K$68,2,FALSE)","v":"SW1"},1,null,null,null,null,null,1,"F84621",null,3704,12,9,9,9,9,1,10,7,7,7,7,9,7,6,6,7,6,7]
["2018-10-01",{"$f":"VLOOKUP(J842,'Control Panel'!$I$27:$K$68,2,FALSE)","v":"NW2"},1,null,null,null,null,null,1,"F84624",null,2753,3,2,2,2,2,0,4,2,3,4,4,8,5,4,4,4,4,4]
["2018-10-01",{"$f":"VLOOKUP(J843,'Control Panel'!$I$27:$K$68,2,FALSE)","v":"SE2"},1,null,null,null,null,null,1,"F84632",null,1162,0,0,0,0,0,0,0,0,0,0,0,0,0,0,0,0,0,0]
["2018-10-01",{"$f":"VLOOKUP(J844,'Control Panel'!$I$27:$K$68,2,FALSE)","v":"SW2"},1,null,null,null,null,null,1,"F84635",null,8651,22,18,19,19,18,5,24,22,17,19,18,20,19,18,18,19,18,18]
["2018-10-01",{"$f":"VLOOKUP(J845,'Control Panel'!$I$27:$K$68,2,FALSE)","v":"NW2"},1,null,null,null,null,null,1,"F84636",null,4472,14,13,13,13,13,4,5,4,3,3,3,12,8,7,6,8,6,3]
["2018-10-01",{"$f":"VLOOKUP(J846,'Control Panel'!$I$27:$K$68,2,FALSE)","v":"City"},1,null,null,null,null,null,1,"F84640",null,9318,22,20,19,20,19,2,15,13,12,12,12,15,14,14,11,13,11,12]
["2018-10-01",{"$f":"VLOOKUP(J847,'Control Panel'!$I$27:$K$68,2,FALSE)","v":"NE2"},0,null,null,null,null,null,1,"F84668",null,6557,41,18,24,25,16,1,37,17,17,15,24,37,29,29,9,27,11,20]
["2018-10-01",{"$f":"VLOOKUP(J848,'Control Panel'!$I$27:$K$68,2,FALSE)","v":"NE2"},0,null,null,null,null,null,1,"F84685",null,3020,11,7,7,7,8,4,4,3,3,3,3,10,6,5,4,5,4,3]
["2018-10-01",{"$f":"VLOOKUP(J849,'Control Panel'!$I$27:$K$68,2,FALSE)","v":"NE1"},0,null,null,null,null,null,1,"F84686",null,7696,68,28,31,33,23,0,64,30,28,26,31,66,52,52,25,46,28,25]
["2018-10-01",{"$f":"VLOOKUP(J850,'Control Panel'!$I$27:$K$68,2,FALSE)","v":"SW2"},1,null,null,null,null,null,1,"F84692",null,7399,13,12,12,12,12,7,14,10,8,8,8,15,14,12,14,13,14,8]
["2018-10-01",{"$f":"VLOOKUP(J851,'Control Panel'!$I$27:$K$68,2,FALSE)","v":"NW2"},1,null,null,null,null,null,1,"F84694",null,4023,10,8,8,8,7,2,15,13,10,11,11,9,8,8,8,8,8,10]
["2018-10-01",{"$f":"VLOOKUP(J852,'Control Panel'!$I$27:$K$68,2,FALSE)","v":"NE2"},0,null,null,null,null,null,1,"F84711",null,1978,4,4,4,4,4,0,3,3,2,3,3,7,7,7,6,7,6,2]
["2018-10-01",{"$f":"VLOOKUP(J853,'Control Panel'!$I$27:$K$68,2,FALSE)","v":"NW1"},1,null,null,null,null,null,1,"F84716",null,5597,27,19,21,22,12,6,28,22,23,20,21,32,27,27,16,26,17,19]
["2018-10-01",{"$f":"VLOOKUP(J854,'Control Panel'!$I$27:$K$68,2,FALSE)","v":"SE1"},1,null,null,null,null,null,1,"F84719",null,5075,8,5,5,5,6,2,15,15,14,14,14,5,5,4,4,5,5,13]
["2018-10-01",{"$f":"VLOOKUP(J855,'Control Panel'!$I$27:$K$68,2,FALSE)","v":"NE2"},0,null,null,null,null,null,1,"F84720",null,5367,24,16,17,17,15,1,14,10,10,10,10,18,13,13,11,14,12,9]
["2018-10-01",{"$f":"VLOOKUP(J856,'Control Panel'!$I$27:$K$68,2,FALSE)","v":"SE2"},1,null,null,null,null,null,1,"Y00403",null,6210,19,14,15,15,17,4,16,13,10,11,10,12,12,11,7,12,9,12]
["2018-10-01",{"$f":"VLOOKUP(J857,'Control Panel'!$I$27:$K$68,2,FALSE)","v":"NE1"},0,null,null,null,null,null,1,"Y03049",null,14727,83,42,39,45,28,15,76,48,43,37,42,72,57,57,39,58,38,40]
["2018-10-01",{"$f":"VLOOKUP(J858,'Control Panel'!$I$27:$K$68,2,FALSE)","v":{"$error":"#N/A"}},{"$error":"#N/A"},null,null,null,null,null,0,"Total",null,321932,1100,795,807,830,741,190,1080,855,764,754,778,1014,873,855,631,822,651,759]
["2018-11-01",{"$f":"VLOOKUP(J859,'Control Panel'!$I$27:$K$68,2,FALSE)","v":{"$error":"#N/A"}},{"$error":"#N/A"},null,"Last Run:",null,"Population Count",337188,1,null,"Search","All Patients","(01) 12 MONTH COHORT","(01.01) DTaP/IPV/Hib Combined","(01.02) Men B (1st and 2nd)","(01.03) PCV","(01.04) Rotavirus","(01.05) BCG","(02) 24 MONTH COHORT","(02.01) DTaP/IPV/Hib Combined","(02.02) MMR","(02.03) HiB/Men C","(02.04) PCV (Booster)","(03) 5 YEAR COHORT","(03.01) DTaP/IPV/Hib Combined","(03.02) MMR (Primary)","(03.03) DTaP/IPV (Booster)","(03.04) HiB/Men C","(03.05) MMR (Booster)","(02.05) Men B (Booster)"]
["2018-11-01",{"$f":"VLOOKUP(J860,'Control Panel'!$I$27:$K$68,2,FALSE)","v":{"$error":"#N/A"}},{"$error":"#N/A"},null,"2018-12-03T09:35:00",null,"Males",167243,1,"Organisation Code"]
["2018-11-01",{"$f":"VLOOKUP(J861,'Control Panel'!$I$27:$K$68,2,FALSE)","v":"SE1"},1,null,"Relative Date:",null,"Females",169945,1,"F84003",null,12722,36,25,25,26,25,5,39,38,33,33,33,41,40,39,33,39,32,32]
["2018-11-01",{"$f":"VLOOKUP(J862,'Control Panel'!$I$27:$K$68,2,FALSE)","v":"NW2"},1,null,"2018-12-01",null,null,null,1,"F84008",null,12709,38,36,36,36,35,7,34,31,31,31,31,41,39,38,29,34,33,31]
["2018-11-01",{"$f":"VLOOKUP(J863,'Control Panel'!$I$27:$K$68,2,FALSE)","v":"NE1"},0,null,null,null,null,null,1,"F84013",null,15180,111,41,50,50,21,0,101,51,46,38,45,105,85,89,47,71,50,45]
["2018-11-01",{"$f":"VLOOKUP(J864,'Control Panel'!$I$27:$K$68,2,FALSE)","v":"SE1"},1,null,null,null,null,null,1,"F84015",null,5391,14,13,11,13,10,4,19,18,16,16,16,21,19,18,16,19,16,15]
["2018-11-01",{"$f":"VLOOKUP(J865,'Control Panel'!$I$27:$K$68,2,FALSE)","v":"NE2"},0,null,null,null,null,null,1,"F84018",null,11738,37,32,32,32,30,4,56,50,45,47,47,39,34,36,31,36,33,46]
["2018-11-01",{"$f":"VLOOKUP(J866,'Control Panel'!$I$27:$K$68,2,FALSE)","v":"SW1"},1,null,null,null,null,null,1,"F84021",null,10422,32,28,27,30,29,8,44,40,40,42,42,20,19,19,10,19,10,42]
["2018-11-01",{"$f":"VLOOKUP(J867,'Control Panel'!$I$27:$K$68,2,FALSE)","v":"NW2"},1,null,null,null,null,null,1,"F84033",null,12288,30,30,30,30,30,3,37,34,31,31,31,31,29,28,27,29,26,31]
["2018-11-01",{"$f":"VLOOKUP(J868,'Control Panel'!$I$27:$K$68,2,FALSE)","v":"SW1"},1,null,null,null,null,null,1,"F84035",null,6921,18,14,14,16,13,3,15,12,9,9,9,14,11,11,10,11,11,9]
["2018-11-01",{"$f":"VLOOKUP(J869,'Control Panel'!$I$27:$K$68,2,FALSE)","v":"NW1"},1,null,null,null,null,null,1,"F84036",null,7021,24,18,18,18,18,6,13,11,9,8,8,21,18,21,12,17,12,8]
["2018-11-01",{"$f":"VLOOKUP(J870,'Control Panel'!$I$27:$K$68,2,FALSE)","v":"SW1"},1,null,null,null,null,null,1,"F84038",null,3955,7,5,5,5,5,0,8,7,6,6,6,8,5,5,4,5,5,6]
["2018-11-01",{"$f":"VLOOKUP(J871,'Control Panel'!$I$27:$K$68,2,FALSE)","v":"SW2"},1,null,null,null,null,null,1,"F84041",null,7859,23,22,22,22,22,10,19,17,17,17,17,17,15,15,13,13,12,17]
["2018-11-01",{"$f":"VLOOKUP(J872,'Control Panel'!$I$27:$K$68,2,FALSE)","v":"SE1"},1,null,null,null,null,null,1,"F84043",null,4406,8,3,3,3,4,0,13,8,9,8,8,19,18,16,14,16,15,8]
["2018-11-01",{"$f":"VLOOKUP(J873,'Control Panel'!$I$27:$K$68,2,FALSE)","v":"SE1"},1,null,null,null,null,null,1,"F84060",null,4774,9,7,7,7,7,4,13,11,10,10,9,10,8,7,8,7,8,9]
["2018-11-01",{"$f":"VLOOKUP(J874,'Control Panel'!$I$27:$K$68,2,FALSE)","v":"SW1"},1,null,null,null,null,null,1,"F84063",null,6005,13,10,10,10,12,7,7,7,7,7,7,21,2,4,13,4,14,7]
["2018-11-01",{"$f":"VLOOKUP(J875,'Control Panel'!$I$27:$K$68,2,FALSE)","v":"SE2"},1,null,null,null,null,null,1,"F84069",null,14551,52,47,46,47,47,10,44,43,39,39,39,43,42,38,28,37,31,39]
["2018-11-01",{"$f":"VLOOKUP(J876,'Control Panel'!$I$27:$K$68,2,FALSE)","v":"SW2"},1,null,null,null,null,null,1,"F84072",null,10661,44,42,42,42,36,13,38,33,26,26,26,21,19,17,10,14,10,24]
["2018-11-01",{"$f":"VLOOKUP(J877,'Control Panel'!$I$27:$K$68,2,FALSE)","v":"NE2"},0,null,null,null,null,null,1,"F84080",null,4772,21,9,9,12,10,3,16,9,10,9,9,9,9,8,6,9,6,9]
["2018-11-01",{"$f":"VLOOKUP(J878,'Control Panel'!$I$27:$K$68,2,FALSE)","v":"SW2"},1,null,null,null,null,null,1,"F84096",null,13514,34,32,32,32,31,13,34,32,30,30,30,23,22,20,19,20,19,30]
["2018-11-01",{"$f":"VLOOKUP(J879,'Control Panel'!$I$27:$K$68,2,FALSE)","v":"SE1"},1,null,null,null,null,null,1,"F84105",null,11488,35,32,32,32,33,4,31,28,21,21,21,34,32,31,22,32,22,21]
["2018-11-01",{"$f":"VLOOKUP(J880,'Control Panel'!$I$27:$K$68,2,FALSE)","v":"NW1"},1,null,null,null,null,null,1,"F84115",null,8740,21,20,19,20,18,8,23,23,21,21,21,18,18,17,18,17,18,21]
["2018-11-01",{"$f":"VLOOKUP(J881,'Control Panel'!$I$27:$K$68,2,FALSE)","v":"SW1"},1,null,null,null,null,null,1,"F84117",null,10226,26,22,22,22,22,5,28,27,23,23,23,28,28,27,19,26,19,23]
["2018-11-01",{"$f":"VLOOKUP(J882,'Control Panel'!$I$27:$K$68,2,FALSE)","v":"NW1"},1,null,null,null,null,null,1,"F84119",null,12320,39,36,36,36,35,14,42,39,38,38,38,30,27,26,19,26,19,37]
["2018-11-01",{"$f":"VLOOKUP(J883,'Control Panel'!$I$27:$K$68,2,FALSE)","v":"SE2"},1,null,null,null,null,null,1,"F84601",null,6748,17,12,12,12,13,6,22,18,16,16,16,14,13,13,10,12,10,16]
["2018-11-01",{"$f":"VLOOKUP(J884,'Control Panel'!$I$27:$K$68,2,FALSE)","v":"NE2"},0,null,null,null,null,null,1,"F84619",null,4324,14,13,13,13,13,1,14,14,13,13,12,12,12,12,12,12,12,12]
["2018-11-01",{"$f":"VLOOKUP(J885,'Control Panel'!$I$27:$K$68,2,FALSE)","v":"SE2"},1,null,null,null,null,null,1,"F84620",null,6194,18,15,15,15,16,1,24,23,19,20,19,22,20,21,15,19,14,20]
["2018-11-01",{"$f":"VLOOKUP(J886,'Control Panel'!$I$27:$K$68,2,FALSE)","v":"SW1"},1,null,null,null,null,null,1,"F84621",null,3711,12,9,9,9,9,1,10,7,7,7,7,9,7,6,6,7,6,7]
["2018-11-01",{"$f":"VLOOKUP(J887,'Control Panel'!$I$27:$K$68,2,FALSE)","v":"NW2"},1,null,null,null,null,null,1,"F84624",null,2750,3,2,2,2,2,0,4,2,3,4,4,8,5,4,4,4,4,4]
["2018-11-01",{"$f":"VLOOKUP(J888,'Control Panel'!$I$27:$K$68,2,FALSE)","v":"SE2"},1,null,null,null,null,null,1,"F84632",null,1179,0,0,0,0,0,0,0,0,0,0,0,0,0,0,0,0,0,0]
["2018-11-01",{"$f":"VLOOKUP(J889,'Control Panel'!$I$27:$K$68,2,FALSE)","v":"SW2"},1,null,null,null,null,null,1,"F84635",null,8723,23,19,20,20,19,5,24,23,18,20,19,20,19,18,18,19,18,19]
["2018-11-01",{"$f":"VLOOKUP(J890,'Control Panel'!$I$27:$K$68,2,FALSE)","v":"NW2"},1,null,null,null,null,null,1,"F84636",null,4520,14,13,13,13,13,4,5,4,3,3,3,12,8,7,6,8,6,3]
["2018-11-01",{"$f":"VLOOKUP(J891,'Control Panel'!$I$27:$K$68,2,FALSE)","v":"City"},1,null,null,null,null,null,1,"F84640",null,9341,22,19,18,19,18,2,14,12,11,11,11,15,14,14,11,13,11,11]
["2018-11-01",{"$f":"VLOOKUP(J892,'Control Panel'!$I$27:$K$68,2,FALSE)","v":"NE2"},0,null,null,null,null,null,1,"F84668",null,6559,40,18,23,24,15,1,37,18,19,17,24,37,29,29,11,27,14,21]
["2018-11-01",{"$f":"VLOOKUP(J893,'Control Panel'!$I$27:$K$68,2,FALSE)","v":"NE2"},0,null,null,null,null,null,1,"F84685",null,3007,11,7,7,7,8,4,4,3,3,3,3,10,6,5,4,5,4,3]
["2018-11-01",{"$f":"VLOOKUP(J894,'Control Panel'!$I$27:$K$68,2,FALSE)","v":"NE1"},0,null,null,null,null,null,1,"F84686",null,7713,69,28,32,34,23,0,64,31,35,29,36,66,54,56,31,47,33,30]
["2018-11-01",{"$f":"VLOOKUP(J895,'Control Panel'!$I$27:$K$68,2,FALSE)","v":"SW2"},1,null,null,null,null,null,1,"F84692",null,7298,13,12,12,12,12,7,13,10,9,9,9,14,13,11,13,12,13,9]
["2018-11-01",{"$f":"VLOOKUP(J896,'Control Panel'!$I$27:$K$68,2,FALSE)","v":"NW2"},1,null,null,null,null,null,1,"F84694",null,4107,9,7,7,7,7,2,15,13,10,11,11,9,8,8,8,8,8,10]
["2018-11-01",{"$f":"VLOOKUP(J897,'Control Panel'!$I$27:$K$68,2,FALSE)","v":"NE2"},0,null,null,null,null,null,1,"F84711",null,1969,4,4,4,4,4,0,3,3,2,3,3,8,8,8,6,8,6,2]
["2018-11-01",{"$f":"VLOOKUP(J898,'Control Panel'!$I$27:$K$68,2,FALSE)","v":"NW1"},{"$f":"IF(LEFT(B898,2)=\"NE\",0,1)","v":1},null,null,null,null,null,1,"F84716",null,5607,27,19,21,22,12,6,29,23,24,20,22,31,26,26,17,25,18,19]
["2018-11-01",{"$f":"VLOOKUP(J899,'Control Panel'!$I$27:$K$68,2,FALSE)","v":"SE1"},1,null,null,null,null,null,{"$f":"IF(J899=\"Total\",0,1)","v":1},"F84719",null,5083,8,5,5,5,6,2,15,15,14,15,14,5,5,4,4,5,5,14]
["2018-11-01",{"$f":"VLOOKUP(J900,'Control Panel'!$I$27:$K$68,2,FALSE)","v":"NE2"},0,null,null,null,null,null,1,"F84720",null,5389,24,16,17,17,15,1,14,10,11,10,10,19,13,13,12,14,13,9]
["2018-11-01",{"$f":"VLOOKUP(J901,'Control Panel'!$I$27:$K$68,2,FALSE)","v":"SE2"},1,null,null,null,null,null,1,"Y00403",null,6219,19,14,15,15,17,4,14,13,10,11,10,12,12,11,7,12,9,12]
["2018-11-01",{"$f":"VLOOKUP(J902,'Control Panel'!$I$27:$K$68,2,FALSE)","v":"NE1"},0,null,null,null,null,null,1,"Y03049",null,14685,82,43,40,46,27,16,75,48,48,41,43,71,57,61,38,58,37,40]
["2018-11-01",{"$f":"VLOOKUP(J903,'Control Panel'!$I$27:$K$68,2,FALSE)","v":{"$error":"#N/A"}},{"$error":"#N/A"},null,null,null,null,null,0,"Total",null,322789,1101,799,813,837,742,194,1074,859,792,773,792,1008,868,857,641,816,662,771]
["2018-12-01",{"$f":"VLOOKUP(J904,'Control Panel'!$I$27:$K$68,2,FALSE)","v":{"$error":"#N/A"}},{"$error":"#N/A"},null,"Last Run:",null,"Population Count",337110,1,null,"Search","All Patients","(01) 12 MONTH COHORT","(01.01) DTaP/IPV/Hib Combined","(01.02) Men B (1st and 2nd)","(01.03) PCV","(01.04) Rotavirus","(01.05) BCG","(02) 24 MONTH COHORT","(02.01) DTaP/IPV/Hib Combined","(02.02) MMR","(02.03) HiB/Men C","(02.04) PCV (Booster)","(03) 5 YEAR COHORT","(03.01) DTaP/IPV/Hib Combined","(03.02) MMR (Primary)","(03.03) DTaP/IPV (Booster)","(03.04) HiB/Men C","(03.05) MMR (Booster)","(02.05) Men B (Booster)"]
["2018-12-01",{"$f":"VLOOKUP(J905,'Control Panel'!$I$27:$K$68,2,FALSE)","v":{"$error":"#N/A"}},{"$error":"#N/A"},null,"2019-01-02T13:18:00",null,"Males",167230,1,"Organisation Code"]
["2018-12-01",{"$f":"VLOOKUP(J906,'Control Panel'!$I$27:$K$68,2,FALSE)","v":"SE1"},1,null,"Relative Date:",null,"Females",169880,1,"F84003",null,12822,36,25,25,26,25,5,39,38,33,33,33,41,40,39,33,39,32,32]
["2018-12-01",{"$f":"VLOOKUP(J907,'Control Panel'!$I$27:$K$68,2,FALSE)","v":"NW2"},1,null,"2019-01-01",null,null,null,1,"F84008",null,12662,38,36,36,36,35,7,32,29,30,30,30,41,39,38,29,34,33,30]
["2018-12-01",{"$f":"VLOOKUP(J908,'Control Panel'!$I$27:$K$68,2,FALSE)","v":"NE1"},0,null,null,null,null,null,1,"F84013",null,15253,112,44,54,56,21,0,101,51,49,38,46,105,85,91,48,72,53,47]
["2018-12-01",{"$f":"VLOOKUP(J909,'Control Panel'!$I$27:$K$68,2,FALSE)","v":"SE1"},1,null,null,null,null,null,1,"F84015",null,5392,14,13,11,13,10,4,19,18,16,16,16,21,19,18,16,19,16,15]
["2018-12-01",{"$f":"VLOOKUP(J910,'Control Panel'!$I$27:$K$68,2,FALSE)","v":"NE2"},0,null,null,null,null,null,1,"F84018",null,11677,37,33,33,33,30,4,54,49,44,46,46,37,33,34,30,34,32,45]
["2018-12-01",{"$f":"VLOOKUP(J911,'Control Panel'!$I$27:$K$68,2,FALSE)","v":"SW1"},1,null,null,null,null,null,1,"F84021",null,10411,32,28,27,30,29,8,43,39,39,41,41,20,19,19,10,19,10,41]
["2018-12-01",{"$f":"VLOOKUP(J912,'Control Panel'!$I$27:$K$68,2,FALSE)","v":"NW2"},1,null,null,null,null,null,1,"F84033",null,12232,29,29,29,29,29,3,38,35,32,32,32,33,30,29,29,30,28,32]
["2018-12-01",{"$f":"VLOOKUP(J913,'Control Panel'!$I$27:$K$68,2,FALSE)","v":"SW1"},1,null,null,null,null,null,1,"F84035",null,7041,18,14,14,16,13,3,15,12,10,10,10,14,11,11,10,11,11,10]
["2018-12-01",{"$f":"VLOOKUP(J914,'Control Panel'!$I$27:$K$68,2,FALSE)","v":"NW1"},1,null,null,null,null,null,1,"F84036",null,7021,25,18,18,18,18,6,13,11,9,8,8,21,18,21,12,17,12,8]
["2018-12-01",{"$f":"VLOOKUP(J915,'Control Panel'!$I$27:$K$68,2,FALSE)","v":"SW1"},1,null,null,null,null,null,1,"F84038",null,3960,7,5,5,5,5,0,8,7,6,6,6,8,5,5,4,5,5,6]
["2018-12-01",{"$f":"VLOOKUP(J916,'Control Panel'!$I$27:$K$68,2,FALSE)","v":"SW2"},1,null,null,null,null,null,1,"F84041",null,7846,23,22,22,22,22,11,18,16,16,16,16,16,14,14,12,12,12,16]
["2018-12-01",{"$f":"VLOOKUP(J917,'Control Panel'!$I$27:$K$68,2,FALSE)","v":"SE1"},1,null,null,null,null,null,1,"F84043",null,4398,8,3,3,3,4,0,13,8,9,8,8,19,18,16,14,16,15,8]
["2018-12-01",{"$f":"VLOOKUP(J918,'Control Panel'!$I$27:$K$68,2,FALSE)","v":"SE1"},1,null,null,null,null,null,1,"F84060",null,4782,9,9,9,9,9,4,13,11,10,10,9,10,8,7,8,7,8,9]
["2018-12-01",{"$f":"VLOOKUP(J919,'Control Panel'!$I$27:$K$68,2,FALSE)","v":"SW1"},1,null,null,null,null,null,1,"F84063",null,6039,13,10,10,10,12,7,7,7,7,7,7,20,2,4,12,4,13,7]
["2018-12-01",{"$f":"VLOOKUP(J920,'Control Panel'!$I$27:$K$68,2,FALSE)","v":"SE2"},1,null,null,null,null,null,1,"F84069",null,14462,49,44,43,44,44,10,41,40,37,37,37,42,41,37,27,36,30,37]
["2018-12-01",{"$f":"VLOOKUP(J921,'Control Panel'!$I$27:$K$68,2,FALSE)","v":"SW2"},1,null,null,null,null,null,1,"F84072",null,10653,44,42,42,42,36,13,38,33,26,26,26,20,19,17,10,14,10,24]
["2018-12-01",{"$f":"VLOOKUP(J922,'Control Panel'!$I$27:$K$68,2,FALSE)","v":"NE2"},0,null,null,null,null,null,1,"F84080",null,4777,21,9,9,12,10,3,16,9,10,9,9,9,9,8,6,9,6,9]
["2018-12-01",{"$f":"VLOOKUP(J923,'Control Panel'!$I$27:$K$68,2,FALSE)","v":"SW2"},1,null,null,null,null,null,1,"F84096",null,13476,34,32,32,32,31,13,36,34,30,30,30,22,21,19,18,19,18,30]
["2018-12-01",{"$f":"VLOOKUP(J924,'Control Panel'!$I$27:$K$68,2,FALSE)","v":"SE1"},1,null,null,null,null,null,1,"F84105",null,11472,36,32,32,32,33,5,31,28,21,21,21,36,32,31,22,32,22,21]
["2018-12-01",{"$f":"VLOOKUP(J925,'Control Panel'!$I$27:$K$68,2,FALSE)","v":"NW1"},1,null,null,null,null,null,1,"F84115",null,8725,21,20,19,20,18,8,23,23,21,21,21,18,18,17,18,17,18,21]
["2018-12-01",{"$f":"VLOOKUP(J926,'Control Panel'!$I$27:$K$68,2,FALSE)","v":"SW1"},1,null,null,null,null,null,1,"F84117",null,10128,26,22,22,22,22,5,28,27,23,23,23,24,24,23,19,22,19,23]
["2018-12-01",{"$f":"VLOOKUP(J927,'Control Panel'!$I$27:$K$68,2,FALSE)","v":"NW1"},1,null,null,null,null,null,1,"F84119",null,12287,37,35,35,35,34,15,42,40,39,38,38,29,26,25,18,25,18,37]
["2018-12-01",{"$f":"VLOOKUP(J928,'Control Panel'!$I$27:$K$68,2,FALSE)","v":"SE2"},1,null,null,null,null,null,1,"F84601",null,6758,17,12,12,12,13,6,22,18,16,16,16,14,13,13,10,12,10,16]
["2018-12-01",{"$f":"VLOOKUP(J929,'Control Panel'!$I$27:$K$68,2,FALSE)","v":"NE2"},0,null,null,null,null,null,1,"F84619",null,4333,14,13,13,13,13,1,14,14,13,13,12,12,12,12,12,12,12,12]
["2018-12-01",{"$f":"VLOOKUP(J930,'Control Panel'!$I$27:$K$68,2,FALSE)","v":"SE2"},1,null,null,null,null,null,1,"F84620",null,6219,18,15,15,15,16,1,24,23,19,20,19,22,20,21,15,19,14,20]
["2018-12-01",{"$f":"VLOOKUP(J931,'Control Panel'!$I$27:$K$68,2,FALSE)","v":"SW1"},1,null,null,null,null,null,1,"F84621",null,3718,11,9,9,9,9,1,9,6,6,6,6,9,7,6,6,7,6,6]
["2018-12-01",{"$f":"VLOOKUP(J932,'Control Panel'!$I$27:$K$68,2,FALSE)","v":"NW2"},1,null,null,null,null,null,1,"F84624",null,2745,3,2,2,2,2,0,4,2,3,4,4,8,5,4,4,4,4,4]
["2018-12-01",{"$f":"VLOOKUP(J933,'Control Panel'!$I$27:$K$68,2,FALSE)","v":"SE2"},1,null,null,null,null,null,1,"F84632",null,1169,0,0,0,0,0,0,0,0,0,0,0,0,0,0,0,0,0,0]
["2018-12-01",{"$f":"VLOOKUP(J934,'Control Panel'!$I$27:$K$68,2,FALSE)","v":"SW2"},1,null,null,null,null,null,1,"F84635",null,8763,24,20,21,21,20,5,21,20,16,18,17,21,20,19,19,20,19,17]
["2018-12-01",{"$f":"VLOOKUP(J935,'Control Panel'!$I$27:$K$68,2,FALSE)","v":"NW2"},1,null,null,null,null,null,1,"F84636",null,4574,14,13,13,13,13,4,5,4,3,3,3,12,8,7,6,8,6,3]
["2018-12-01",{"$f":"VLOOKUP(J936,'Control Panel'!$I$27:$K$68,2,FALSE)","v":"City"},1,null,null,null,null,null,1,"F84640",null,9343,22,19,18,19,18,2,14,12,11,11,11,15,14,14,11,13,11,11]
["2018-12-01",{"$f":"VLOOKUP(J937,'Control Panel'!$I$27:$K$68,2,FALSE)","v":"NE2"},0,null,null,null,null,null,1,"F84668",null,6577,41,19,25,26,15,1,37,18,19,17,24,37,29,29,12,27,15,21]
["2018-12-01",{"$f":"VLOOKUP(J938,'Control Panel'!$I$27:$K$68,2,FALSE)","v":"NE2"},0,null,null,null,null,null,1,"F84685",null,3001,11,7,7,7,8,4,4,3,3,3,3,10,6,5,4,5,4,3]
["2018-12-01",{"$f":"VLOOKUP(J939,'Control Panel'!$I$27:$K$68,2,FALSE)","v":"NE1"},0,null,null,null,null,null,1,"F84686",null,7741,69,28,34,36,23,0,64,32,37,30,37,66,55,57,31,48,33,31]
["2018-12-01",{"$f":"VLOOKUP(J940,'Control Panel'!$I$27:$K$68,2,FALSE)","v":"SW2"},1,null,null,null,null,null,1,"F84692",null,7277,14,12,12,12,12,7,13,10,9,9,9,14,13,11,13,12,13,9]
["2018-12-01",{"$f":"VLOOKUP(J941,'Control Panel'!$I$27:$K$68,2,FALSE)","v":"NW2"},1,null,null,null,null,null,1,"F84694",null,4183,9,7,7,7,7,2,15,13,10,11,11,9,9,9,8,9,8,10]
["2018-12-01",{"$f":"VLOOKUP(J942,'Control Panel'!$I$27:$K$68,2,FALSE)","v":"NE2"},0,null,null,null,null,null,1,"F84711",null,1964,4,4,4,4,4,0,3,3,2,3,3,7,7,7,6,7,6,2]
["2018-12-01",{"$f":"VLOOKUP(J943,'Control Panel'!$I$27:$K$68,2,FALSE)","v":"NW1"},1,null,null,null,null,null,1,"F84716",null,5600,27,19,21,22,12,6,29,23,24,20,22,31,26,26,17,25,18,19]
["2018-12-01",{"$f":"VLOOKUP(J944,'Control Panel'!$I$27:$K$68,2,FALSE)","v":"SE1"},1,null,null,null,null,null,1,"F84719",null,5085,8,5,5,5,6,2,15,15,14,15,14,5,5,4,4,5,5,14]
["2018-12-01",{"$f":"VLOOKUP(J945,'Control Panel'!$I$27:$K$68,2,FALSE)","v":"NE2"},0,null,null,null,null,null,1,"F84720",null,5412,25,17,17,17,15,1,14,10,11,10,10,19,13,13,12,14,13,9]
["2018-12-01",{"$f":"VLOOKUP(J946,'Control Panel'!$I$27:$K$68,2,FALSE)","v":"SE2"},1,null,null,null,null,null,1,"Y00403",null,6150,19,14,15,15,17,4,13,12,10,10,9,12,12,11,7,12,9,11]
["2018-12-01",{"$f":"VLOOKUP(J947,'Control Panel'!$I$27:$K$68,2,FALSE)","v":"NE1"},0,null,null,null,null,null,1,"Y03049",null,14638,79,41,39,44,27,16,74,47,47,40,42,71,57,61,38,58,37,39]
["2018-12-01",{"$f":"VLOOKUP(J948,'Control Panel'!$I$27:$K$68,2,FALSE)","v":{"$error":"#N/A"}},{"$error":"#N/A"},null,null,null,null,null,0,"Total",null,322766,1098,801,819,844,740,197,1062,850,790,765,785,1000,862,852,640,810,664,765]
["2019-01-01",{"$f":"VLOOKUP(J949,'Control Panel'!$I$27:$K$68,2,FALSE)","v":{"$error":"#N/A"}},{"$error":"#N/A"},null,"Last Run:",null,"Population Count",336991,1,null,"Search","All Patients","(01) 12 MONTH COHORT","(01.01) DTaP/IPV/Hib Combined","(01.02) Men B (1st and 2nd)","(01.03) PCV","(01.04) Rotavirus","(01.05) BCG","(02) 24 MONTH COHORT","(02.01) DTaP/IPV/Hib Combined","(02.02) MMR","(02.03) HiB/Men C","(02.04) PCV (Booster)","(03) 5 YEAR COHORT","(03.01) DTaP/IPV/Hib Combined","(03.02) MMR (Primary)","(03.03) DTaP/IPV (Booster)","(03.04) HiB/Men C","(03.05) MMR (Booster)","(02.05) Men B (Booster)"]
["2019-01-01",{"$f":"VLOOKUP(J950,'Control Panel'!$I$27:$K$68,2,FALSE)","v":{"$error":"#N/A"}},{"$error":"#N/A"},null,"2019-02-04T10:23:00",null,"Males",167109,1,"Organisation Code"]
["2019-01-01",{"$f":"VLOOKUP(J951,'Control Panel'!$I$27:$K$68,2,FALSE)","v":"SE1"},1,null,"Relative Date:",null,"Females",169882,1,"F84003",null,12796,33,28,28,28,27,5,49,44,40,39,40,29,27,25,21,26,21,40]
["2019-01-01",{"$f":"VLOOKUP(J952,'Control Panel'!$I$27:$K$68,2,FALSE)","v":"NW2"},1,null,"2019-02-01",null,null,null,1,"F84008",null,12623,36,31,31,30,30,3,30,29,27,27,27,52,50,46,44,48,46,28]
["2019-01-01",{"$f":"VLOOKUP(J953,'Control Panel'!$I$27:$K$68,2,FALSE)","v":"NE1"},0,null,null,null,null,null,1,"F84013",null,15053,96,34,36,39,24,1,107,57,64,41,58,94,68,75,50,67,51,51]
["2019-01-01",{"$f":"VLOOKUP(J954,'Control Panel'!$I$27:$K$68,2,FALSE)","v":"SE1"},1,null,null,null,null,null,1,"F84015",null,5391,19,10,10,10,14,10,12,9,9,9,9,18,15,15,13,15,14,9]
["2019-01-01",{"$f":"VLOOKUP(J955,'Control Panel'!$I$27:$K$68,2,FALSE)","v":"NE2"},0,null,null,null,null,null,1,"F84018",null,11708,48,42,38,42,40,12,44,39,34,35,35,35,34,31,28,31,29,34]
["2019-01-01",{"$f":"VLOOKUP(J956,'Control Panel'!$I$27:$K$68,2,FALSE)","v":"SW1"},1,null,null,null,null,null,1,"F84021",null,10419,33,32,31,32,32,10,20,20,19,19,19,23,21,19,16,20,15,19]
["2019-01-01",{"$f":"VLOOKUP(J957,'Control Panel'!$I$27:$K$68,2,FALSE)","v":"NW2"},1,null,null,null,null,null,1,"F84033",null,12207,35,32,32,32,32,13,42,40,35,35,36,31,27,28,20,27,22,35]
["2019-01-01",{"$f":"VLOOKUP(J958,'Control Panel'!$I$27:$K$68,2,FALSE)","v":"SW1"},1,null,null,null,null,null,1,"F84035",null,7255,14,10,11,11,11,1,12,11,10,10,8,9,8,8,5,7,6,10]
["2019-01-01",{"$f":"VLOOKUP(J959,'Control Panel'!$I$27:$K$68,2,FALSE)","v":"NW1"},1,null,null,null,null,null,1,"F84036",null,7063,23,19,19,19,19,9,22,17,11,12,12,19,16,14,10,11,10,12]
["2019-01-01",{"$f":"VLOOKUP(J960,'Control Panel'!$I$27:$K$68,2,FALSE)","v":"SW1"},1,null,null,null,null,null,1,"F84038",null,3985,9,7,8,8,8,1,10,8,7,7,7,5,5,4,5,5,4,8]
["2019-01-01",{"$f":"VLOOKUP(J961,'Control Panel'!$I$27:$K$68,2,FALSE)","v":"SW2"},1,null,null,null,null,null,1,"F84041",null,7854,15,14,14,14,14,6,27,27,26,26,26,19,17,18,16,17,16,26]
["2019-01-01",{"$f":"VLOOKUP(J962,'Control Panel'!$I$27:$K$68,2,FALSE)","v":"SE1"},{"$f":"IF(LEFT(B962,2)=\"NE\",0,1)","v":1},null,null,null,null,null,1,"F84043",null,4289,12,11,11,11,9,0,17,16,13,14,14,9,9,8,7,9,6,14]
["2019-01-01",{"$f":"VLOOKUP(J963,'Control Panel'!$I$27:$K$68,2,FALSE)","v":"SE1"},1,null,null,null,null,null,{"$f":"IF(J963=\"Total\",0,1)","v":1},"F84060",null,4754,9,7,6,7,5,2,10,10,7,7,7,12,8,8,9,8,10,7]
["2019-01-01",{"$f":"VLOOKUP(J964,'Control Panel'!$I$27:$K$68,2,FALSE)","v":"SW1"},1,null,null,null,null,null,1,"F84063",null,6077,11,8,8,8,9,6,14,13,10,10,10,17,4,3,13,4,12,10]
["2019-01-01",{"$f":"VLOOKUP(J965,'Control Panel'!$I$27:$K$68,2,FALSE)","v":"SE2"},1,null,null,null,null,null,1,"F84069",null,14548,41,35,33,35,34,11,56,56,47,46,47,35,33,32,21,31,21,47]
["2019-01-01",{"$f":"VLOOKUP(J966,'Control Panel'!$I$27:$K$68,2,FALSE)","v":"SW2"},1,null,null,null,null,null,1,"F84072",null,10676,35,33,32,33,33,7,39,38,33,33,33,29,27,19,14,19,14,33]
["2019-01-01",{"$f":"VLOOKUP(J967,'Control Panel'!$I$27:$K$68,2,FALSE)","v":"NE2"},0,null,null,null,null,null,1,"F84080",null,4814,16,7,8,8,4,2,21,13,13,8,10,22,18,17,12,17,12,9]
["2019-01-01",{"$f":"VLOOKUP(J968,'Control Panel'!$I$27:$K$68,2,FALSE)","v":"SW2"},1,null,null,null,null,null,1,"F84096",null,13386,34,28,28,28,28,8,29,28,25,25,25,38,34,33,26,33,26,27]
["2019-01-01",{"$f":"VLOOKUP(J969,'Control Panel'!$I$27:$K$68,2,FALSE)","v":"SE1"},1,null,null,null,null,null,1,"F84105",null,11515,36,31,30,30,29,8,46,42,31,32,32,34,32,31,23,32,23,33]
["2019-01-01",{"$f":"VLOOKUP(J970,'Control Panel'!$I$27:$K$68,2,FALSE)","v":"NW1"},1,null,null,null,null,null,1,"F84115",null,8734,29,27,27,28,29,13,18,15,15,15,15,19,17,17,18,18,18,14]
["2019-01-01",{"$f":"VLOOKUP(J971,'Control Panel'!$I$27:$K$68,2,FALSE)","v":"SW1"},1,null,null,null,null,null,1,"F84117",null,10039,26,23,23,23,23,3,38,36,34,35,35,21,21,20,12,21,15,35]
["2019-01-01",{"$f":"VLOOKUP(J972,'Control Panel'!$I$27:$K$68,2,FALSE)","v":"NW1"},1,null,null,null,null,null,1,"F84119",null,12289,47,41,42,42,43,19,37,35,29,28,28,43,34,36,26,35,26,28]
["2019-01-01",{"$f":"VLOOKUP(J973,'Control Panel'!$I$27:$K$68,2,FALSE)","v":"SE2"},1,null,null,null,null,null,1,"F84601",null,6820,17,15,15,15,15,8,19,18,14,13,13,27,15,19,13,18,13,13]
["2019-01-01",{"$f":"VLOOKUP(J974,'Control Panel'!$I$27:$K$68,2,FALSE)","v":"NE2"},0,null,null,null,null,null,1,"F84619",null,4374,12,8,8,8,7,4,10,9,8,9,9,8,8,8,6,8,7,8]
["2019-01-01",{"$f":"VLOOKUP(J975,'Control Panel'!$I$27:$K$68,2,FALSE)","v":"SE2"},1,null,null,null,null,null,1,"F84620",null,6170,18,17,17,17,18,2,12,12,11,11,11,21,20,17,8,16,12,11]
["2019-01-01",{"$f":"VLOOKUP(J976,'Control Panel'!$I$27:$K$68,2,FALSE)","v":"SW1"},1,null,null,null,null,null,1,"F84621",null,3725,15,13,13,14,13,6,7,7,6,6,6,9,8,7,6,7,7,6]
["2019-01-01",{"$f":"VLOOKUP(J977,'Control Panel'!$I$27:$K$68,2,FALSE)","v":"NW2"},1,null,null,null,null,null,1,"F84624",null,2742,5,5,5,5,5,2,5,4,3,3,2,7,6,5,5,5,5,2]
["2019-01-01",{"$f":"VLOOKUP(J978,'Control Panel'!$I$27:$K$68,2,FALSE)","v":"SE2"},1,null,null,null,null,null,1,"F84632",null,1102,0,0,0,0,0,0,0,0,0,0,0,0,0,0,0,0,0,0]
["2019-01-01",{"$f":"VLOOKUP(J979,'Control Panel'!$I$27:$K$68,2,FALSE)","v":"SW2"},1,null,null,null,null,null,1,"F84635",null,8811,21,16,16,16,16,6,19,17,14,15,13,18,17,16,9,16,12,14]
["2019-01-01",{"$f":"VLOOKUP(J980,'Control Panel'!$I$27:$K$68,2,FALSE)","v":"NW2"},1,null,null,null,null,null,1,"F84636",null,4681,12,12,12,12,12,1,9,8,7,7,7,6,3,4,2,3,2,8]
["2019-01-01",{"$f":"VLOOKUP(J981,'Control Panel'!$I$27:$K$68,2,FALSE)","v":"City"},1,null,null,null,null,null,1,"F84640",null,9341,19,17,15,17,16,2,22,21,16,16,15,12,12,12,10,11,10,17]
["2019-01-01",{"$f":"VLOOKUP(J982,'Control Panel'!$I$27:$K$68,2,FALSE)","v":"NE2"},0,null,null,null,null,null,1,"F84668",null,6547,37,17,20,22,17,1,49,32,35,30,36,36,25,28,16,24,19,35]
["2019-01-01",{"$f":"VLOOKUP(J983,'Control Panel'!$I$27:$K$68,2,FALSE)","v":"NE2"},0,null,null,null,null,null,1,"F84685",null,2983,15,10,10,9,8,1,11,9,9,8,8,10,10,10,8,10,9,8]
["2019-01-01",{"$f":"VLOOKUP(J984,'Control Panel'!$I$27:$K$68,2,FALSE)","v":"NE1"},0,null,null,null,null,null,1,"F84686",null,7757,75,30,31,36,19,0,82,48,55,47,41,59,47,53,32,48,33,38]
["2019-01-01",{"$f":"VLOOKUP(J985,'Control Panel'!$I$27:$K$68,2,FALSE)","v":"SW2"},1,null,null,null,null,null,1,"F84692",null,7187,14,11,11,11,11,3,12,12,10,11,11,7,6,6,5,6,4,11]
["2019-01-01",{"$f":"VLOOKUP(J986,'Control Panel'!$I$27:$K$68,2,FALSE)","v":"NW2"},1,null,null,null,null,null,1,"F84694",null,4317,15,14,13,14,13,1,10,9,8,8,9,12,12,12,10,12,10,9]
["2019-01-01",{"$f":"VLOOKUP(J987,'Control Panel'!$I$27:$K$68,2,FALSE)","v":"NE2"},0,null,null,null,null,null,1,"F84711",null,1953,1,1,1,1,1,1,4,3,3,2,2,3,3,2,3,3,3,3]
["2019-01-01",{"$f":"VLOOKUP(J988,'Control Panel'!$I$27:$K$68,2,FALSE)","v":"NW1"},1,null,null,null,null,null,1,"F84716",null,5594,18,10,13,13,9,3,18,17,17,16,17,19,14,14,13,12,14,16]
["2019-01-01",{"$f":"VLOOKUP(J989,'Control Panel'!$I$27:$K$68,2,FALSE)","v":"SE1"},1,null,null,null,null,null,1,"F84719",null,5101,14,11,11,11,12,1,10,10,10,10,10,10,10,9,9,9,10,10]
["2019-01-01",{"$f":"VLOOKUP(J990,'Control Panel'!$I$27:$K$68,2,FALSE)","v":"NE2"},0,null,null,null,null,null,1,"F84720",null,5431,19,8,8,8,8,1,15,12,10,9,7,22,13,16,13,14,13,9]
["2019-01-01",{"$f":"VLOOKUP(J991,'Control Panel'!$I$27:$K$68,2,FALSE)","v":"SE2"},1,null,null,null,null,null,1,"Y00403",null,6123,18,16,15,16,15,3,12,11,8,8,8,15,14,14,9,12,11,8]
["2019-01-01",{"$f":"VLOOKUP(J992,'Control Panel'!$I$27:$K$68,2,FALSE)","v":"NE1"},0,null,null,null,null,null,1,"Y03049",null,14591,63,29,28,30,21,13,70,42,42,32,35,56,47,49,39,46,41,30]
["2019-01-01",{"$f":"VLOOKUP(J993,'Control Panel'!$I$27:$K$68,2,FALSE)","v":{"$error":"#N/A"}},{"$error":"#N/A"},null,null,null,null,null,0,"Total",null,322825,1065,770,768,793,733,209,1096,904,825,774,793,970,815,808,625,781,652,785]
["2019-02-01",{"$f":"VLOOKUP(J994,'Control Panel'!$I$27:$K$68,2,FALSE)","v":{"$error":"#N/A"}},{"$error":"#N/A"},null,"Last Run:",null,"Population Count",337412,1,null,"Search","All Patients","(01) 12 MONTH COHORT","(01.01) DTaP/IPV/Hib Combined","(01.02) Men B (1st and 2nd)","(01.03) PCV","(01.04) Rotavirus","(01.05) BCG","(02) 24 MONTH COHORT","(02.01) DTaP/IPV/Hib Combined","(02.02) MMR","(02.03) HiB/Men C","(02.04) PCV (Booster)","(03) 5 YEAR COHORT","(03.01) DTaP/IPV/Hib Combined","(03.02) MMR (Primary)","(03.03) DTaP/IPV (Booster)","(03.04) HiB/Men C","(03.05) MMR (Booster)","(02.05) Men B (Booster)"]
["2019-02-01",{"$f":"VLOOKUP(J995,'Control Panel'!$I$27:$K$68,2,FALSE)","v":{"$error":"#N/A"}},{"$error":"#N/A"},null,"2019-03-04T10:11:00",null,"Males",167243,1,"Organisation Code"]
["2019-02-01",{"$f":"VLOOKUP(J996,'Control Panel'!$I$27:$K$68,2,FALSE)","v":"SE1"},1,null,"Relative Date:",null,"Females",170169,1,"F84003",null,12894,33,28,28,28,27,5,49,46,43,42,43,29,28,25,21,27,21,43]
["2019-02-01",{"$f":"VLOOKUP(J997,'Control Panel'!$I$27:$K$68,2,FALSE)","v":"NW2"},1,null,"2019-03-01",null,null,null,1,"F84008",null,12599,36,31,31,30,30,3,30,29,27,27,27,52,50,46,44,48,46,28]
["2019-02-01",{"$f":"VLOOKUP(J998,'Control Panel'!$I$27:$K$68,2,FALSE)","v":"NE1"},0,null,null,null,null,null,1,"F84013",null,15143,96,34,36,39,24,1,107,58,64,42,58,94,68,75,51,67,52,51]
["2019-02-01",{"$f":"VLOOKUP(J999,'Control Panel'!$I$27:$K$68,2,FALSE)","v":"SE1"},1,null,null,null,null,null,1,"F84015",null,5388,18,10,10,10,13,9,12,9,9,9,9,18,15,15,13,15,14,9]
["2019-02-01",{"$f":"VLOOKUP(J1000,'Control Panel'!$I$27:$K$68,2,FALSE)","v":"NE2"},0,null,null,null,null,null,1,"F84018",null,11677,48,42,38,42,40,12,44,39,34,35,35,34,33,31,28,31,29,34]
["2019-02-01",{"$f":"VLOOKUP(J1001,'Control Panel'!$I$27:$K$68,2,FALSE)","v":"SW1"},1,null,null,null,null,null,1,"F84021",null,10392,31,30,29,30,30,10,20,20,19,19,19,23,21,19,16,20,15,19]
["2019-02-01",{"$f":"VLOOKUP(J1002,'Control Panel'!$I$27:$K$68,2,FALSE)","v":"NW2"},1,null,null,null,null,null,1,"F84033",null,12140,35,32,32,32,32,13,42,40,35,35,36,31,27,28,20,27,22,35]
["2019-02-01",{"$f":"VLOOKUP(J1003,'Control Panel'!$I$27:$K$68,2,FALSE)","v":"SW1"},1,null,null,null,null,null,1,"F84035",null,7461,16,11,12,12,12,1,12,11,10,10,8,9,8,8,5,7,6,10]
["2019-02-01",{"$f":"VLOOKUP(J1004,'Control Panel'!$I$27:$K$68,2,FALSE)","v":"NW1"},1,null,null,null,null,null,1,"F84036",null,7127,24,21,22,22,22,9,22,17,11,12,12,20,17,15,11,12,11,12]
["2019-02-01",{"$f":"VLOOKUP(J1005,'Control Panel'!$I$27:$K$68,2,FALSE)","v":"SW1"},1,null,null,null,null,null,1,"F84038",null,4013,9,7,8,8,8,1,9,7,6,6,6,5,5,4,5,5,4,7]
["2019-02-01",{"$f":"VLOOKUP(J1006,'Control Panel'!$I$27:$K$68,2,FALSE)","v":"SW2"},1,null,null,null,null,null,1,"F84041",null,7837,15,14,14,14,14,6,27,27,26,26,26,19,17,18,16,17,16,26]
["2019-02-01",{"$f":"VLOOKUP(J1007,'Control Panel'!$I$27:$K$68,2,FALSE)","v":"SE1"},1,null,null,null,null,null,1,"F84043",null,4243,12,11,11,11,9,0,17,16,13,14,14,9,9,8,7,9,6,14]
["2019-02-01",{"$f":"VLOOKUP(J1008,'Control Panel'!$I$27:$K$68,2,FALSE)","v":"SE1"},1,null,null,null,null,null,1,"F84060",null,4761,8,6,5,6,4,2,9,9,6,6,6,12,8,8,9,8,10,6]
["2019-02-01",{"$f":"VLOOKUP(J1009,'Control Panel'!$I$27:$K$68,2,FALSE)","v":"SW1"},1,null,null,null,null,null,1,"F84063",null,6073,11,8,8,8,9,6,14,13,10,10,10,17,4,3,13,4,12,10]
["2019-02-01",{"$f":"VLOOKUP(J1010,'Control Panel'!$I$27:$K$68,2,FALSE)","v":"SE2"},1,null,null,null,null,null,1,"F84069",null,14547,40,35,33,35,34,11,56,56,47,46,47,34,32,31,20,30,20,47]
["2019-02-01",{"$f":"VLOOKUP(J1011,'Control Panel'!$I$27:$K$68,2,FALSE)","v":"SW2"},1,null,null,null,null,null,1,"F84072",null,10702,35,32,31,33,32,9,39,38,33,33,33,29,27,19,15,19,15,33]
["2019-02-01",{"$f":"VLOOKUP(J1012,'Control Panel'!$I$27:$K$68,2,FALSE)","v":"NE2"},0,null,null,null,null,null,1,"F84080",null,4798,18,7,8,8,4,2,21,13,13,8,10,22,18,17,12,17,12,9]
["2019-02-01",{"$f":"VLOOKUP(J1013,'Control Panel'!$I$27:$K$68,2,FALSE)","v":"SW2"},1,null,null,null,null,null,1,"F84096",null,13262,35,28,28,28,28,8,29,28,25,25,25,38,34,33,26,33,26,27]
["2019-02-01",{"$f":"VLOOKUP(J1014,'Control Panel'!$I$27:$K$68,2,FALSE)","v":"SE1"},1,null,null,null,null,null,1,"F84105",null,11509,36,31,30,30,29,8,46,42,31,32,32,34,32,32,23,32,23,33]
["2019-02-01",{"$f":"VLOOKUP(J1015,'Control Panel'!$I$27:$K$68,2,FALSE)","v":"NW1"},1,null,null,null,null,null,1,"F84115",null,8747,29,27,27,28,29,12,18,15,15,15,15,19,17,18,18,18,17,14]
["2019-02-01",{"$f":"VLOOKUP(J1016,'Control Panel'!$I$27:$K$68,2,FALSE)","v":"SW1"},1,null,null,null,null,null,1,"F84117",null,10058,26,23,23,23,23,3,38,35,33,34,34,19,19,18,13,19,16,34]
["2019-02-01",{"$f":"VLOOKUP(J1017,'Control Panel'!$I$27:$K$68,2,FALSE)","v":"NW1"},1,null,null,null,null,null,1,"F84119",null,12329,47,41,42,42,43,19,37,35,30,29,29,43,34,36,26,35,26,29]
["2019-02-01",{"$f":"VLOOKUP(J1018,'Control Panel'!$I$27:$K$68,2,FALSE)","v":"SE2"},1,null,null,null,null,null,1,"F84601",null,6830,16,14,14,14,14,9,19,18,15,14,14,27,16,20,14,18,14,14]
["2019-02-01",{"$f":"VLOOKUP(J1019,'Control Panel'!$I$27:$K$68,2,FALSE)","v":"NE2"},0,null,null,null,null,null,1,"F84619",null,4404,14,10,10,10,9,6,10,9,8,9,9,8,8,8,6,8,7,8]
["2019-02-01",{"$f":"VLOOKUP(J1020,'Control Panel'!$I$27:$K$68,2,FALSE)","v":"SE2"},1,null,null,null,null,null,1,"F84620",null,6175,18,17,17,17,18,2,12,12,11,11,11,21,20,17,8,16,12,11]
["2019-02-01",{"$f":"VLOOKUP(J1021,'Control Panel'!$I$27:$K$68,2,FALSE)","v":"SW1"},1,null,null,null,null,null,1,"F84621",null,3720,15,13,13,14,13,6,6,6,6,6,6,9,8,7,6,7,7,6]
["2019-02-01",{"$f":"VLOOKUP(J1022,'Control Panel'!$I$27:$K$68,2,FALSE)","v":"NW2"},1,null,null,null,null,null,1,"F84624",null,2718,5,5,5,5,5,2,5,4,3,3,2,7,6,5,5,5,5,2]
["2019-02-01",{"$f":"VLOOKUP(J1023,'Control Panel'!$I$27:$K$68,2,FALSE)","v":"SE2"},1,null,null,null,null,null,1,"F84632",null,1083,0,0,0,0,0,0,0,0,0,0,0,0,0,0,0,0,0,0]
["2019-02-01",{"$f":"VLOOKUP(J1024,'Control Panel'!$I$27:$K$68,2,FALSE)","v":"SW2"},1,null,null,null,null,null,1,"F84635",null,8819,21,16,16,16,16,6,18,16,14,14,12,18,17,16,9,16,12,13]
["2019-02-01",{"$f":"VLOOKUP(J1025,'Control Panel'!$I$27:$K$68,2,FALSE)","v":"NW2"},1,null,null,null,null,null,1,"F84636",null,4763,12,12,12,12,12,1,8,7,6,6,6,6,3,4,2,3,2,7]
["2019-02-01",{"$f":"VLOOKUP(J1026,'Control Panel'!$I$27:$K$68,2,FALSE)","v":"City"},{"$f":"IF(LEFT(B1026,2)=\"NE\",0,1)","v":1},null,null,null,null,null,1,"F84640",null,9335,18,17,15,17,16,2,20,20,15,15,15,12,12,12,10,11,10,16]
["2019-02-01",{"$f":"VLOOKUP(J1027,'Control Panel'!$I$27:$K$68,2,FALSE)","v":"NE2"},0,null,null,null,null,null,{"$f":"IF(J1027=\"Total\",0,1)","v":1},"F84668",null,6545,37,18,21,23,17,1,49,32,36,30,36,36,25,28,16,24,19,35]
["2019-02-01",{"$f":"VLOOKUP(J1028,'Control Panel'!$I$27:$K$68,2,FALSE)","v":"NE2"},0,null,null,null,null,null,1,"F84685",null,2986,15,11,11,10,8,1,11,9,9,8,8,10,10,10,8,10,9,8]
["2019-02-01",{"$f":"VLOOKUP(J1029,'Control Panel'!$I$27:$K$68,2,FALSE)","v":"NE1"},0,null,null,null,null,null,1,"F84686",null,7769,75,33,32,38,19,0,82,48,56,48,42,59,47,53,32,48,33,39]
["2019-02-01",{"$f":"VLOOKUP(J1030,'Control Panel'!$I$27:$K$68,2,FALSE)","v":"SW2"},1,null,null,null,null,null,1,"F84692",null,7148,14,11,11,11,11,3,11,11,9,10,10,7,6,6,5,6,4,10]
["2019-02-01",{"$f":"VLOOKUP(J1031,'Control Panel'!$I$27:$K$68,2,FALSE)","v":"NW2"},1,null,null,null,null,null,1,"F84694",null,4414,15,14,13,14,13,1,11,9,8,8,9,12,12,12,10,12,10,9]
["2019-02-01",{"$f":"VLOOKUP(J1032,'Control Panel'!$I$27:$K$68,2,FALSE)","v":"NE2"},0,null,null,null,null,null,1,"F84711",null,1953,1,1,1,1,1,1,4,3,3,2,2,3,3,2,3,3,3,3]
["2019-02-01",{"$f":"VLOOKUP(J1033,'Control Panel'!$I$27:$K$68,2,FALSE)","v":"NW1"},1,null,null,null,null,null,1,"F84716",null,5594,18,10,13,13,9,3,17,16,16,15,16,19,14,14,13,12,14,15]
["2019-02-01",{"$f":"VLOOKUP(J1034,'Control Panel'!$I$27:$K$68,2,FALSE)","v":"SE1"},1,null,null,null,null,null,1,"F84719",null,5142,15,12,12,12,12,1,10,10,10,10,10,10,10,9,9,9,10,10]
["2019-02-01",{"$f":"VLOOKUP(J1035,'Control Panel'!$I$27:$K$68,2,FALSE)","v":"NE2"},0,null,null,null,null,null,1,"F84720",null,5425,19,8,8,8,8,1,15,12,10,9,8,23,14,17,14,15,14,10]
["2019-02-01",{"$f":"VLOOKUP(J1036,'Control Panel'!$I$27:$K$68,2,FALSE)","v":"SE2"},1,null,null,null,null,null,1,"Y00403",null,6179,17,15,15,15,14,3,12,11,8,8,8,15,14,14,9,12,11,8]
["2019-02-01",{"$f":"VLOOKUP(J1037,'Control Panel'!$I$27:$K$68,2,FALSE)","v":"NE1"},0,null,null,null,null,null,1,"Y03049",null,14530,62,30,29,31,22,11,69,42,41,32,34,57,47,49,39,47,42,31]
["2019-02-01",{"$f":"VLOOKUP(J1038,'Control Panel'!$I$27:$K$68,2,FALSE)","v":{"$error":"#N/A"}},{"$error":"#N/A"},null,null,null,null,null,0,"Total",null,323232,1065,776,774,800,733,210,1087,898,824,773,792,969,815,810,630,782,657,785]
["2019-03-01",{"$f":"VLOOKUP(J1039,'Control Panel'!$I$27:$K$68,2,FALSE)","v":{"$error":"#N/A"}},{"$error":"#N/A"},null,"Last Run:",null,"Population Count",337078,1,null,"Search","All Patients","(01) 12 MONTH COHORT","(01.01) DTaP/IPV/Hib Combined","(01.02) Men B (1st and 2nd)","(01.03) PCV","(01.04) Rotavirus","(01.05) BCG","(02) 24 MONTH COHORT","(02.01) DTaP/IPV/Hib Combined","(02.02) MMR","(02.03) HiB/Men C","(02.04) PCV (Booster)","(03) 5 YEAR COHORT","(03.01) DTaP/IPV/Hib Combined","(03.02) MMR (Primary)","(03.03) DTaP/IPV (Booster)","(03.04) HiB/Men C","(03.05) MMR (Booster)","(02.05) Men B (Booster)"]
["2019-03-01",{"$f":"VLOOKUP(J1040,'Control Panel'!$I$27:$K$68,2,FALSE)","v":{"$error":"#N/A"}},{"$error":"#N/A"},null,"2019-04-02T09:59:00",null,"Males",167008,1,"Organisation Code"]
["2019-03-01",{"$f":"VLOOKUP(J1041,'Control Panel'!$I$27:$K$68,2,FALSE)","v":"SE1"},1,null,"Relative Date:",null,"Females",170070,1,"F84003",null,12716,33,28,28,28,27,5,46,44,43,43,44,27,26,23,23,25,22,44]
["2019-03-01",{"$f":"VLOOKUP(J1042,'Control Panel'!$I$27:$K$68,2,FALSE)","v":"NW2"},1,null,"2019-04-01",null,null,null,1,"F84008",null,12659,37,31,31,30,30,6,30,29,27,27,27,52,50,46,44,48,46,28]
["2019-03-01",{"$f":"VLOOKUP(J1043,'Control Panel'!$I$27:$K$68,2,FALSE)","v":"NE1"},0,null,null,null,null,null,1,"F84013",null,15006,95,35,37,39,23,1,107,58,64,43,58,94,68,75,51,67,52,52]
["2019-03-01",{"$f":"VLOOKUP(J1044,'Control Panel'!$I$27:$K$68,2,FALSE)","v":"SE1"},1,null,null,null,null,null,1,"F84015",null,5403,18,10,10,10,13,9,12,9,9,9,9,18,15,15,13,15,14,9]
["2019-03-01",{"$f":"VLOOKUP(J1045,'Control Panel'!$I$27:$K$68,2,FALSE)","v":"NE2"},0,null,null,null,null,null,1,"F84018",null,11693,48,42,39,42,40,12,43,38,33,34,34,33,33,31,28,31,29,33]
["2019-03-01",{"$f":"VLOOKUP(J1046,'Control Panel'!$I$27:$K$68,2,FALSE)","v":"SW1"},1,null,null,null,null,null,1,"F84021",null,10408,31,30,29,30,30,10,20,20,19,19,19,23,21,19,16,20,15,19]
["2019-03-01",{"$f":"VLOOKUP(J1047,'Control Panel'!$I$27:$K$68,2,FALSE)","v":"NW2"},1,null,null,null,null,null,1,"F84033",null,12046,35,33,33,33,33,12,40,38,34,35,35,30,26,27,19,26,21,35]
["2019-03-01",{"$f":"VLOOKUP(J1048,'Control Panel'!$I$27:$K$68,2,FALSE)","v":"SW1"},1,null,null,null,null,null,1,"F84035",null,7673,16,11,12,12,12,1,13,12,11,11,9,9,9,9,5,8,7,11]
["2019-03-01",{"$f":"VLOOKUP(J1049,'Control Panel'!$I$27:$K$68,2,FALSE)","v":"NW1"},1,null,null,null,null,null,1,"F84036",null,7163,24,21,22,22,22,8,23,17,11,12,12,20,17,15,11,12,11,12]
["2019-03-01",{"$f":"VLOOKUP(J1050,'Control Panel'!$I$27:$K$68,2,FALSE)","v":"SW1"},1,null,null,null,null,null,1,"F84038",null,4033,9,7,8,8,8,1,10,8,7,7,7,6,6,5,6,6,5,8]
["2019-03-01",{"$f":"VLOOKUP(J1051,'Control Panel'!$I$27:$K$68,2,FALSE)","v":"SW2"},1,null,null,null,null,null,1,"F84041",null,7770,14,13,13,13,13,7,27,27,26,26,26,19,17,18,16,17,16,26]
["2019-03-01",{"$f":"VLOOKUP(J1052,'Control Panel'!$I$27:$K$68,2,FALSE)","v":"SE1"},1,null,null,null,null,null,1,"F84043",null,3872,10,9,9,9,8,0,17,16,13,14,14,8,8,7,6,8,5,14]
["2019-03-01",{"$f":"VLOOKUP(J1053,'Control Panel'!$I$27:$K$68,2,FALSE)","v":"SE1"},1,null,null,null,null,null,1,"F84060",null,4699,7,5,4,5,3,2,9,9,6,6,6,12,8,8,9,8,10,6]
["2019-03-01",{"$f":"VLOOKUP(J1054,'Control Panel'!$I$27:$K$68,2,FALSE)","v":"SW1"},1,null,null,null,null,null,1,"F84063",null,6029,11,8,8,8,9,6,13,12,9,9,9,17,4,3,13,4,12,9]
["2019-03-01",{"$f":"VLOOKUP(J1055,'Control Panel'!$I$27:$K$68,2,FALSE)","v":"SE2"},1,null,null,null,null,null,1,"F84069",null,14475,40,35,33,35,34,11,55,55,46,45,46,33,31,30,19,29,19,46]
["2019-03-01",{"$f":"VLOOKUP(J1056,'Control Panel'!$I$27:$K$68,2,FALSE)","v":"SW2"},1,null,null,null,null,null,1,"F84072",null,10740,35,32,31,33,32,10,39,38,33,33,33,29,27,19,15,19,15,33]
["2019-03-01",{"$f":"VLOOKUP(J1057,'Control Panel'!$I$27:$K$68,2,FALSE)","v":"NE2"},0,null,null,null,null,null,1,"F84080",null,4811,18,7,8,8,4,2,21,13,13,8,10,22,18,17,12,17,12,9]
["2019-03-01",{"$f":"VLOOKUP(J1058,'Control Panel'!$I$27:$K$68,2,FALSE)","v":"SW2"},1,null,null,null,null,null,1,"F84096",null,13157,32,28,28,28,28,8,28,27,24,24,24,39,34,33,27,33,27,26]
["2019-03-01",{"$f":"VLOOKUP(J1059,'Control Panel'!$I$27:$K$68,2,FALSE)","v":"SE1"},1,null,null,null,null,null,1,"F84105",null,11538,36,31,30,30,29,8,46,42,31,32,32,35,33,33,24,33,24,33]
["2019-03-01",{"$f":"VLOOKUP(J1060,'Control Panel'!$I$27:$K$68,2,FALSE)","v":"NW1"},1,null,null,null,null,null,1,"F84115",null,8683,27,27,27,27,27,11,18,16,16,16,15,19,18,19,18,18,17,14]
["2019-03-01",{"$f":"VLOOKUP(J1061,'Control Panel'!$I$27:$K$68,2,FALSE)","v":"SW1"},1,null,null,null,null,null,1,"F84117",null,10066,26,23,23,23,23,3,39,36,34,35,34,19,19,18,13,19,16,34]
["2019-03-01",{"$f":"VLOOKUP(J1062,'Control Panel'!$I$27:$K$68,2,FALSE)","v":"NW1"},1,null,null,null,null,null,1,"F84119",null,12364,46,40,41,41,42,18,38,36,31,29,29,42,33,35,25,34,25,29]
["2019-03-01",{"$f":"VLOOKUP(J1063,'Control Panel'!$I$27:$K$68,2,FALSE)","v":"SE2"},1,null,null,null,null,null,1,"F84601",null,6847,17,15,14,14,14,9,17,16,13,13,13,26,15,19,13,17,13,13]
["2019-03-01",{"$f":"VLOOKUP(J1064,'Control Panel'!$I$27:$K$68,2,FALSE)","v":"NE2"},0,null,null,null,null,null,1,"F84619",null,4424,14,10,10,10,9,6,11,10,9,10,10,8,8,8,6,8,7,8]
["2019-03-01",{"$f":"VLOOKUP(J1065,'Control Panel'!$I$27:$K$68,2,FALSE)","v":"SE2"},1,null,null,null,null,null,1,"F84620",null,6323,18,17,17,17,18,2,12,12,11,11,11,21,20,17,8,16,12,11]
["2019-03-01",{"$f":"VLOOKUP(J1066,'Control Panel'!$I$27:$K$68,2,FALSE)","v":"SW1"},1,null,null,null,null,null,1,"F84621",null,3737,15,13,13,14,13,6,6,6,6,6,6,9,8,7,6,7,7,6]
["2019-03-01",{"$f":"VLOOKUP(J1067,'Control Panel'!$I$27:$K$68,2,FALSE)","v":"NW2"},1,null,null,null,null,null,1,"F84624",null,2720,5,5,5,5,5,2,5,4,3,3,2,7,6,5,5,5,5,2]
["2019-03-01",{"$f":"VLOOKUP(J1068,'Control Panel'!$I$27:$K$68,2,FALSE)","v":"SE2"},1,null,null,null,null,null,1,"F84632",null,1051,0,0,0,0,0,0,0,0,0,0,0,0,0,0,0,0,0,0]
["2019-03-01",{"$f":"VLOOKUP(J1069,'Control Panel'!$I$27:$K$68,2,FALSE)","v":"SW2"},1,null,null,null,null,null,1,"F84635",null,8830,22,17,17,17,17,6,17,15,13,13,12,18,17,16,9,16,12,13]
["2019-03-01",{"$f":"VLOOKUP(J1070,'Control Panel'!$I$27:$K$68,2,FALSE)","v":"NW2"},1,null,null,null,null,null,1,"F84636",null,4847,12,12,12,12,12,1,9,8,7,7,7,6,3,4,2,3,2,8]
["2019-03-01",{"$f":"VLOOKUP(J1071,'Control Panel'!$I$27:$K$68,2,FALSE)","v":"City"},1,null,null,null,null,null,1,"F84640",null,9312,18,17,16,17,16,2,20,20,16,15,15,11,11,11,10,10,10,16]
["2019-03-01",{"$f":"VLOOKUP(J1072,'Control Panel'!$I$27:$K$68,2,FALSE)","v":"NE2"},0,null,null,null,null,null,1,"F84668",null,6565,37,19,22,24,17,1,49,32,36,30,36,36,25,28,16,24,19,35]
["2019-03-01",{"$f":"VLOOKUP(J1073,'Control Panel'!$I$27:$K$68,2,FALSE)","v":"NE2"},0,null,null,null,null,null,1,"F84685",null,2972,15,11,11,10,8,3,11,9,9,8,8,10,10,10,8,10,9,8]
["2019-03-01",{"$f":"VLOOKUP(J1074,'Control Panel'!$I$27:$K$68,2,FALSE)","v":"NE1"},0,null,null,null,null,null,1,"F84686",null,7784,75,33,32,38,19,0,82,48,56,48,42,59,47,53,32,48,33,39]
["2019-03-01",{"$f":"VLOOKUP(J1075,'Control Panel'!$I$27:$K$68,2,FALSE)","v":"SW2"},1,null,null,null,null,null,1,"F84692",null,7150,15,12,12,12,12,3,11,11,9,10,10,6,6,5,4,5,4,10]
["2019-03-01",{"$f":"VLOOKUP(J1076,'Control Panel'!$I$27:$K$68,2,FALSE)","v":"NW2"},1,null,null,null,null,null,1,"F84694",null,4533,15,14,13,14,13,1,11,10,9,9,10,12,12,12,10,12,10,10]
["2019-03-01",{"$f":"VLOOKUP(J1077,'Control Panel'!$I$27:$K$68,2,FALSE)","v":"NE2"},0,null,null,null,null,null,1,"F84711",null,1929,1,1,1,1,1,1,4,3,3,2,2,3,3,2,3,3,3,3]
["2019-03-01",{"$f":"VLOOKUP(J1078,'Control Panel'!$I$27:$K$68,2,FALSE)","v":"NW1"},1,null,null,null,null,null,1,"F84716",null,5586,18,10,14,14,9,3,17,16,16,15,16,19,14,14,13,12,14,15]
["2019-03-01",{"$f":"VLOOKUP(J1079,'Control Panel'!$I$27:$K$68,2,FALSE)","v":"SE1"},1,null,null,null,null,null,1,"F84719",null,5144,15,12,12,12,12,1,10,10,10,10,10,11,10,9,9,9,10,10]
["2019-03-01",{"$f":"VLOOKUP(J1080,'Control Panel'!$I$27:$K$68,2,FALSE)","v":"NE2"},0,null,null,null,null,null,1,"F84720",null,5443,19,8,8,8,8,1,14,11,9,8,7,23,14,17,14,15,14,9]
["2019-03-01",{"$f":"VLOOKUP(J1081,'Control Panel'!$I$27:$K$68,2,FALSE)","v":"SE2"},1,null,null,null,null,null,1,"Y00403",null,6277,18,16,16,16,15,3,12,11,10,8,9,15,14,14,9,12,11,9]
["2019-03-01",{"$f":"VLOOKUP(J1082,'Control Panel'!$I$27:$K$68,2,FALSE)","v":"NE1"},0,null,null,null,null,null,1,"Y03049",null,14427,64,33,32,34,25,12,70,44,43,34,36,56,46,48,38,46,41,33]
["2019-03-01",{"$f":"VLOOKUP(J1083,'Control Panel'!$I$27:$K$68,2,FALSE)","v":{"$error":"#N/A"}},{"$error":"#N/A"},null,null,null,null,null,0,"Total",null,322905,1061,781,781,803,733,214,1082,896,828,777,794,962,810,804,628,775,656,788]
["2019-04-01",{"$f":"VLOOKUP(J1084,'Control Panel'!$I$27:$K$68,2,FALSE)","v":{"$error":"#N/A"}},{"$error":"#N/A"},null,"Last Run:",null,"Population Count",337800,1,null,"Search","All Patients","(01) 12 MONTH COHORT","(01.01) DTaP/IPV/Hib 6in1","(01.02) Men B (1st and 2nd)","(01.03) PCV","(01.04) Rotavirus","(01.05) BCG","(02) 24 MONTH COHORT","(02.01) DTaP/IPV/Hib or DTaP/IPV/Hib/HepB","(02.02) MMR","(02.03) HiB/Men C","(02.04) PCV (Booster)","(03) 5 YEAR COHORT","(03.01) DTaP/IPV/Hib or DTaP/IPV/Hib/HepB","(03.02) MMR (Primary)","(03.03) DTaP/IPV (Booster)","(03.04) HiB/Men C","(03.05) MMR (Booster)","(02.05) Men B (Booster)"]
["2019-04-01",{"$f":"VLOOKUP(J1085,'Control Panel'!$I$27:$K$68,2,FALSE)","v":{"$error":"#N/A"}},{"$error":"#N/A"},null,"2019-05-08T11:46:00",null,"Males",167640,1,"Organisation Code"]
["2019-04-01",{"$f":"VLOOKUP(J1086,'Control Panel'!$I$27:$K$68,2,FALSE)","v":"SE1"},1,null,"Relative Date:",null,"Females",170160,1,"F84003",null,13677,41,38,37,38,36,3,45,41,34,34,34,42,42,39,36,38,36,33]
["2019-04-01",{"$f":"VLOOKUP(J1087,'Control Panel'!$I$27:$K$68,2,FALSE)","v":"NW2"},1,null,"2019-05-01",null,null,null,1,"F84008",null,12552,37,34,34,34,32,4,35,33,33,33,33,50,49,50,41,49,41,33]
["2019-04-01",{"$f":"VLOOKUP(J1088,'Control Panel'!$I$27:$K$68,2,FALSE)","v":"NE1"},0,null,null,null,null,null,1,"F84013",null,15138,93,30,34,37,26,3,101,57,65,43,50,96,75,79,51,73,52,51]
["2019-04-01",{"$f":"VLOOKUP(J1089,'Control Panel'!$I$27:$K$68,2,FALSE)","v":"SE1"},1,null,null,null,null,null,1,"F84015",null,5446,21,18,17,20,19,10,12,11,7,7,7,14,11,13,8,13,8,7]
["2019-04-01",{"$f":"VLOOKUP(J1090,'Control Panel'!$I$27:$K$68,2,FALSE)","v":"NE2"},{"$f":"IF(LEFT(B1090,2)=\"NE\",0,1)","v":0},null,null,null,null,null,1,"F84018",null,11727,44,39,37,39,37,13,41,39,35,36,37,33,31,28,27,30,26,37]
["2019-04-01",{"$f":"VLOOKUP(J1091,'Control Panel'!$I$27:$K$68,2,FALSE)","v":"SW1"},1,null,null,null,null,null,{"$f":"IF(J1091=\"Total\",0,1)","v":1},"F84021",null,10364,39,34,34,34,33,3,25,25,20,20,19,34,33,33,26,33,26,19]
["2019-04-01",{"$f":"VLOOKUP(J1092,'Control Panel'!$I$27:$K$68,2,FALSE)","v":"NW2"},1,null,null,null,null,null,1,"F84033",null,12006,28,26,25,26,25,13,27,25,22,23,23,31,31,29,25,29,26,23]
["2019-04-01",{"$f":"VLOOKUP(J1093,'Control Panel'!$I$27:$K$68,2,FALSE)","v":"SW1"},1,null,null,null,null,null,1,"F84035",null,7864,33,28,28,28,29,1,22,20,18,19,18,13,12,10,10,10,10,19]
["2019-04-01",{"$f":"VLOOKUP(J1094,'Control Panel'!$I$27:$K$68,2,FALSE)","v":"NW1"},1,null,null,null,null,null,1,"F84036",null,7140,20,14,14,14,15,7,25,23,22,22,20,16,13,13,10,12,10,20]
["2019-04-01",{"$f":"VLOOKUP(J1095,'Control Panel'!$I$27:$K$68,2,FALSE)","v":"SW1"},1,null,null,null,null,null,1,"F84038",null,4050,13,11,11,11,11,3,14,14,14,14,14,13,11,9,4,10,6,14]
["2019-04-01",{"$f":"VLOOKUP(J1096,'Control Panel'!$I$27:$K$68,2,FALSE)","v":"SW2"},1,null,null,null,null,null,1,"F84041",null,7744,18,17,17,17,17,5,20,20,20,20,20,18,17,16,17,16,17,20]
["2019-04-01",{"$f":"VLOOKUP(J1097,'Control Panel'!$I$27:$K$68,2,FALSE)","v":"SE1"},1,null,null,null,null,null,1,"F84043",null,2864,10,8,7,8,6,0,11,9,10,8,9,7,6,6,5,6,5,7]
["2019-04-01",{"$f":"VLOOKUP(J1098,'Control Panel'!$I$27:$K$68,2,FALSE)","v":"SE1"},1,null,null,null,null,null,1,"F84060",null,4753,17,16,16,16,15,2,13,11,11,11,11,13,10,9,8,8,8,11]
["2019-04-01",{"$f":"VLOOKUP(J1099,'Control Panel'!$I$27:$K$68,2,FALSE)","v":"SW1"},1,null,null,null,null,null,1,"F84063",null,6024,12,10,10,10,9,9,10,9,8,8,9,8,1,2,6,2,6,8]
["2019-04-01",{"$f":"VLOOKUP(J1100,'Control Panel'!$I$27:$K$68,2,FALSE)","v":"SE2"},1,null,null,null,null,null,1,"F84069",null,14453,36,36,36,36,35,4,48,45,40,39,40,48,47,44,31,44,32,39]
["2019-04-01",{"$f":"VLOOKUP(J1101,'Control Panel'!$I$27:$K$68,2,FALSE)","v":"SW2"},1,null,null,null,null,null,1,"F84072",null,10731,27,23,23,23,19,11,36,33,31,29,31,32,29,26,24,23,25,30]
["2019-04-01",{"$f":"VLOOKUP(J1102,'Control Panel'!$I$27:$K$68,2,FALSE)","v":"NE2"},0,null,null,null,null,null,1,"F84080",null,4823,17,9,9,10,10,1,16,11,9,9,9,16,13,13,10,14,10,10]
["2019-04-01",{"$f":"VLOOKUP(J1103,'Control Panel'!$I$27:$K$68,2,FALSE)","v":"SW2"},1,null,null,null,null,null,1,"F84096",null,13172,39,27,26,27,31,12,35,32,30,30,30,34,34,29,26,31,25,31]
["2019-04-01",{"$f":"VLOOKUP(J1104,'Control Panel'!$I$27:$K$68,2,FALSE)","v":"SE1"},1,null,null,null,null,null,1,"F84105",null,11604,43,41,41,41,40,3,33,29,24,25,25,36,34,31,25,31,24,25]
["2019-04-01",{"$f":"VLOOKUP(J1105,'Control Panel'!$I$27:$K$68,2,FALSE)","v":"NW1"},1,null,null,null,null,null,1,"F84115",null,8688,30,28,28,28,28,4,27,24,24,24,23,12,10,10,8,10,9,20]
["2019-04-01",{"$f":"VLOOKUP(J1106,'Control Panel'!$I$27:$K$68,2,FALSE)","v":"SW1"},1,null,null,null,null,null,1,"F84117",null,10064,30,28,28,28,28,5,26,23,24,24,24,22,20,19,17,19,16,22]
["2019-04-01",{"$f":"VLOOKUP(J1107,'Control Panel'!$I$27:$K$68,2,FALSE)","v":"NW1"},1,null,null,null,null,null,1,"F84119",null,12348,41,37,37,37,37,22,43,40,37,36,37,29,29,28,22,28,23,36]
["2019-04-01",{"$f":"VLOOKUP(J1108,'Control Panel'!$I$27:$K$68,2,FALSE)","v":"SE2"},1,null,null,null,null,null,1,"F84601",null,6848,22,21,21,21,21,8,9,3,3,3,3,21,19,19,14,19,16,3]
["2019-04-01",{"$f":"VLOOKUP(J1109,'Control Panel'!$I$27:$K$68,2,FALSE)","v":"NE2"},0,null,null,null,null,null,1,"F84619",null,4450,16,13,11,13,13,3,12,11,11,11,11,18,17,17,14,17,14,11]
["2019-04-01",{"$f":"VLOOKUP(J1110,'Control Panel'!$I$27:$K$68,2,FALSE)","v":"SE2"},1,null,null,null,null,null,1,"F84620",null,6344,11,10,10,10,8,1,18,15,10,10,10,18,15,16,9,14,12,10]
["2019-04-01",{"$f":"VLOOKUP(J1111,'Control Panel'!$I$27:$K$68,2,FALSE)","v":"SW1"},1,null,null,null,null,null,1,"F84621",null,3732,8,8,8,8,8,1,6,6,4,4,4,7,7,7,2,7,3,4]
["2019-04-01",{"$f":"VLOOKUP(J1112,'Control Panel'!$I$27:$K$68,2,FALSE)","v":"NW2"},1,null,null,null,null,null,1,"F84624",null,2707,4,4,4,4,4,1,8,6,5,5,5,7,6,5,6,5,6,5]
["2019-04-01",{"$f":"VLOOKUP(J1113,'Control Panel'!$I$27:$K$68,2,FALSE)","v":"SE2"},1,null,null,null,null,null,1,"F84632",null,1065,0,0,0,0,0,0,0,0,0,0,0,0,0,0,0,0,0,0]
["2019-04-01",{"$f":"VLOOKUP(J1114,'Control Panel'!$I$27:$K$68,2,FALSE)","v":"SW2"},1,null,null,null,null,null,1,"F84635",null,8849,19,15,15,15,16,2,19,15,13,13,13,16,16,16,12,15,12,13]
["2019-04-01",{"$f":"VLOOKUP(J1115,'Control Panel'!$I$27:$K$68,2,FALSE)","v":"NW2"},1,null,null,null,null,null,1,"F84636",null,4929,12,10,10,10,11,4,8,8,7,8,8,7,5,6,4,5,4,8]
["2019-04-01",{"$f":"VLOOKUP(J1116,'Control Panel'!$I$27:$K$68,2,FALSE)","v":"City"},1,null,null,null,null,null,1,"F84640",null,9272,8,7,7,7,7,1,22,21,20,19,19,11,8,7,6,7,6,20]
["2019-04-01",{"$f":"VLOOKUP(J1117,'Control Panel'!$I$27:$K$68,2,FALSE)","v":"NE2"},0,null,null,null,null,null,1,"F84668",null,6586,42,10,13,13,6,2,36,19,22,19,22,32,23,26,12,22,15,21]
["2019-04-01",{"$f":"VLOOKUP(J1118,'Control Panel'!$I$27:$K$68,2,FALSE)","v":"NE2"},0,null,null,null,null,null,1,"F84685",null,2965,13,8,8,8,6,3,8,6,6,6,5,8,6,6,5,6,5,6]
["2019-04-01",{"$f":"VLOOKUP(J1119,'Control Panel'!$I$27:$K$68,2,FALSE)","v":"NE1"},0,null,null,null,null,null,1,"F84686",null,7803,58,14,21,22,11,0,67,34,45,34,33,52,42,44,29,38,32,33]
["2019-04-01",{"$f":"VLOOKUP(J1120,'Control Panel'!$I$27:$K$68,2,FALSE)","v":"SW2"},1,null,null,null,null,null,1,"F84692",null,7157,19,16,16,16,15,6,10,9,8,8,8,16,15,16,14,16,13,8]
["2019-04-01",{"$f":"VLOOKUP(J1121,'Control Panel'!$I$27:$K$68,2,FALSE)","v":"NW2"},1,null,null,null,null,null,1,"F84694",null,4568,16,16,16,16,16,2,18,15,15,14,15,14,12,11,9,12,10,14]
["2019-04-01",{"$f":"VLOOKUP(J1122,'Control Panel'!$I$27:$K$68,2,FALSE)","v":"NE2"},0,null,null,null,null,null,1,"F84711",null,1928,4,3,3,2,3,1,3,3,3,2,2,5,4,3,3,3,3,3]
["2019-04-01",{"$f":"VLOOKUP(J1123,'Control Panel'!$I$27:$K$68,2,FALSE)","v":"NW1"},1,null,null,null,null,null,1,"F84716",null,5607,22,13,13,13,11,2,32,25,23,20,21,21,17,17,13,15,14,19]
["2019-04-01",{"$f":"VLOOKUP(J1124,'Control Panel'!$I$27:$K$68,2,FALSE)","v":"SE1"},1,null,null,null,null,null,1,"F84719",null,5170,11,11,11,11,11,2,20,19,18,18,17,14,13,12,11,12,14,19]
["2019-04-01",{"$f":"VLOOKUP(J1125,'Control Panel'!$I$27:$K$68,2,FALSE)","v":"NE2"},0,null,null,null,null,null,1,"F84720",null,5475,25,18,18,19,16,0,15,9,10,6,9,21,16,18,11,15,13,6]
["2019-04-01",{"$f":"VLOOKUP(J1126,'Control Panel'!$I$27:$K$68,2,FALSE)","v":"SE2"},1,null,null,null,null,null,1,"Y00403",null,6364,19,12,12,12,13,0,19,19,14,14,14,17,17,15,10,15,10,14]
["2019-04-01",{"$f":"VLOOKUP(J1127,'Control Panel'!$I$27:$K$68,2,FALSE)","v":"NE1"},0,null,null,null,null,null,1,"Y03049",null,14372,72,36,33,35,24,16,66,34,42,36,34,75,54,60,34,57,42,29]
["2019-04-01",{"$f":"VLOOKUP(J1128,'Control Panel'!$I$27:$K$68,2,FALSE)","v":{"$error":"#N/A"}},{"$error":"#N/A"},null,null,null,null,null,0,"Total",null,323423,1090,797,799,817,758,193,1061,851,817,764,776,997,870,857,655,829,685,761]
["2019-05-01",{"$f":"VLOOKUP(J1129,'Control Panel'!$I$27:$K$68,2,FALSE)","v":{"$error":"#N/A"}},{"$error":"#N/A"},null,"Last Run:",null,"Population Count",338675,1,null,"Search","All Patients","(01) 12 MONTH COHORT","(01.01) DTaP/IPV/Hib 6in1","(01.02) Men B (1st and 2nd)","(01.03) PCV","(01.04) Rotavirus","(01.05) BCG","(02) 24 MONTH COHORT","(02.01) DTaP/IPV/Hib or DTaP/IPV/Hib/HepB","(02.02) MMR","(02.03) HiB/Men C","(02.04) PCV (Booster)","(03) 5 YEAR COHORT","(03.01) DTaP/IPV/Hib or DTaP/IPV/Hib/HepB","(03.02) MMR (Primary)","(03.03) DTaP/IPV (Booster)","(03.04) HiB/Men C","(03.05) MMR (Booster)","(02.05) Men B (Booster)"]
["2019-05-01",{"$f":"VLOOKUP(J1130,'Control Panel'!$I$27:$K$68,2,FALSE)","v":{"$error":"#N/A"}},{"$error":"#N/A"},null,"2019-06-03T10:22:00",null,"Males",168101,1,"Organisation Code"]
["2019-05-01",{"$f":"VLOOKUP(J1131,'Control Panel'!$I$27:$K$68,2,FALSE)","v":"SE1"},1,null,"Relative Date:",null,"Females",170574,1,"F84003",null,14181,44,40,39,40,39,3,46,42,37,37,37,42,42,39,36,38,36,36]
["2019-05-01",{"$f":"VLOOKUP(J1132,'Control Panel'!$I$27:$K$68,2,FALSE)","v":"NW2"},1,null,"2019-06-01",null,null,null,1,"F84008",null,12513,37,34,34,34,32,4,36,33,33,33,33,48,47,48,40,47,40,33]
["2019-05-01",{"$f":"VLOOKUP(J1133,'Control Panel'!$I$27:$K$68,2,FALSE)","v":"NE1"},0,null,null,null,null,null,1,"F84013",null,15245,93,32,36,39,26,3,102,58,66,44,52,97,76,80,51,73,52,52]
["2019-05-01",{"$f":"VLOOKUP(J1134,'Control Panel'!$I$27:$K$68,2,FALSE)","v":"SE1"},1,null,null,null,null,null,1,"F84015",null,5514,23,19,17,21,19,10,12,11,7,7,7,14,11,13,8,13,8,7]
["2019-05-01",{"$f":"VLOOKUP(J1135,'Control Panel'!$I$27:$K$68,2,FALSE)","v":"NE2"},0,null,null,null,null,null,1,"F84018",null,11779,46,40,38,40,38,13,42,40,36,37,38,33,31,28,27,30,26,38]
["2019-05-01",{"$f":"VLOOKUP(J1136,'Control Panel'!$I$27:$K$68,2,FALSE)","v":"SW1"},1,null,null,null,null,null,1,"F84021",null,10383,40,35,35,35,34,3,23,23,18,19,18,34,33,33,27,33,27,18]
["2019-05-01",{"$f":"VLOOKUP(J1137,'Control Panel'!$I$27:$K$68,2,FALSE)","v":"NW2"},1,null,null,null,null,null,1,"F84033",null,12036,29,27,26,27,26,13,27,25,22,23,23,31,31,29,25,29,26,23]
["2019-05-01",{"$f":"VLOOKUP(J1138,'Control Panel'!$I$27:$K$68,2,FALSE)","v":"SW1"},1,null,null,null,null,null,1,"F84035",null,8047,32,28,28,28,28,1,24,22,20,21,20,14,13,11,11,11,11,21]
["2019-05-01",{"$f":"VLOOKUP(J1139,'Control Panel'!$I$27:$K$68,2,FALSE)","v":"NW1"},1,null,null,null,null,null,1,"F84036",null,7188,22,16,16,16,17,8,25,23,22,22,20,16,13,13,10,12,10,21]
["2019-05-01",{"$f":"VLOOKUP(J1140,'Control Panel'!$I$27:$K$68,2,FALSE)","v":"SW1"},1,null,null,null,null,null,1,"F84038",null,4072,12,10,10,10,10,3,14,14,14,14,14,13,11,9,4,10,6,14]
["2019-05-01",{"$f":"VLOOKUP(J1141,'Control Panel'!$I$27:$K$68,2,FALSE)","v":"SW2"},1,null,null,null,null,null,1,"F84041",null,7736,18,17,17,17,17,6,18,18,18,18,18,18,17,16,17,16,17,18]
["2019-05-01",{"$f":"VLOOKUP(J1142,'Control Panel'!$I$27:$K$68,2,FALSE)","v":"SE1"},1,null,null,null,null,null,1,"F84043",null,2473,6,5,5,5,4,0,8,6,7,5,6,7,6,6,5,6,5,4]
["2019-05-01",{"$f":"VLOOKUP(J1143,'Control Panel'!$I$27:$K$68,2,FALSE)","v":"SE1"},1,null,null,null,null,null,1,"F84060",null,4774,17,17,16,17,15,3,13,11,11,11,11,13,10,9,8,8,8,11]
["2019-05-01",{"$f":"VLOOKUP(J1144,'Control Panel'!$I$27:$K$68,2,FALSE)","v":"SW1"},1,null,null,null,null,null,1,"F84063",null,6024,11,9,9,9,8,8,10,9,8,8,9,8,1,2,6,2,6,8]
["2019-05-01",{"$f":"VLOOKUP(J1145,'Control Panel'!$I$27:$K$68,2,FALSE)","v":"SE2"},1,null,null,null,null,null,1,"F84069",null,14467,36,36,36,36,35,4,47,44,39,38,39,48,47,44,31,44,32,38]
["2019-05-01",{"$f":"VLOOKUP(J1146,'Control Panel'!$I$27:$K$68,2,FALSE)","v":"SW2"},1,null,null,null,null,null,1,"F84072",null,10708,27,23,23,23,19,11,32,31,30,28,30,30,27,25,24,22,25,29]
["2019-05-01",{"$f":"VLOOKUP(J1147,'Control Panel'!$I$27:$K$68,2,FALSE)","v":"NE2"},0,null,null,null,null,null,1,"F84080",null,4860,17,9,9,10,10,1,17,11,10,10,10,16,13,13,10,14,10,11]
["2019-05-01",{"$f":"VLOOKUP(J1148,'Control Panel'!$I$27:$K$68,2,FALSE)","v":"SW2"},1,null,null,null,null,null,1,"F84096",null,13142,39,26,25,26,30,11,35,32,30,30,30,33,33,28,26,30,25,31]
["2019-05-01",{"$f":"VLOOKUP(J1149,'Control Panel'!$I$27:$K$68,2,FALSE)","v":"SE1"},1,null,null,null,null,null,1,"F84105",null,11672,42,40,40,40,39,3,34,30,26,27,27,37,34,31,25,31,24,27]
["2019-05-01",{"$f":"VLOOKUP(J1150,'Control Panel'!$I$27:$K$68,2,FALSE)","v":"NW1"},1,null,null,null,null,null,1,"F84115",null,8696,29,27,27,27,27,4,27,25,24,24,24,12,10,10,8,10,9,21]
["2019-05-01",{"$f":"VLOOKUP(J1151,'Control Panel'!$I$27:$K$68,2,FALSE)","v":"SW1"},1,null,null,null,null,null,1,"F84117",null,10059,30,28,28,28,28,5,25,22,23,23,23,22,20,19,17,19,16,21]
["2019-05-01",{"$f":"VLOOKUP(J1152,'Control Panel'!$I$27:$K$68,2,FALSE)","v":"NW1"},1,null,null,null,null,null,1,"F84119",null,12377,43,38,38,38,39,22,44,41,38,37,38,31,31,30,23,30,24,37]
["2019-05-01",{"$f":"VLOOKUP(J1153,'Control Panel'!$I$27:$K$68,2,FALSE)","v":"SE2"},1,null,null,null,null,null,1,"F84601",null,6905,21,20,20,20,20,8,9,3,3,3,3,21,19,19,14,19,16,3]
["2019-05-01",{"$f":"VLOOKUP(J1154,'Control Panel'!$I$27:$K$68,2,FALSE)","v":"NE2"},{"$f":"IF(LEFT(B1154,2)=\"NE\",0,1)","v":0},null,null,null,null,null,1,"F84619",null,4507,16,13,11,13,13,3,13,12,12,12,12,18,17,17,15,17,15,12]
["2019-05-01",{"$f":"VLOOKUP(J1155,'Control Panel'!$I$27:$K$68,2,FALSE)","v":"SE2"},1,null,null,null,null,null,{"$f":"IF(J1155=\"Total\",0,1)","v":1},"F84620",null,6375,12,10,10,10,8,1,19,16,11,11,11,18,15,16,9,14,12,11]
["2019-05-01",{"$f":"VLOOKUP(J1156,'Control Panel'!$I$27:$K$68,2,FALSE)","v":"SW1"},1,null,null,null,null,null,1,"F84621",null,3750,8,8,8,8,8,1,6,6,4,4,5,6,6,6,2,6,3,5]
["2019-05-01",{"$f":"VLOOKUP(J1157,'Control Panel'!$I$27:$K$68,2,FALSE)","v":"NW2"},1,null,null,null,null,null,1,"F84624",null,2727,5,4,4,5,4,1,8,6,5,5,5,7,6,5,6,5,6,5]
["2019-05-01",{"$f":"VLOOKUP(J1158,'Control Panel'!$I$27:$K$68,2,FALSE)","v":"SE2"},1,null,null,null,null,null,1,"F84632",null,1053,0,0,0,0,0,0,0,0,0,0,0,0,0,0,0,0,0,0]
["2019-05-01",{"$f":"VLOOKUP(J1159,'Control Panel'!$I$27:$K$68,2,FALSE)","v":"SW2"},1,null,null,null,null,null,1,"F84635",null,8871,18,14,14,14,15,2,19,15,13,13,13,16,16,16,12,15,12,13]
["2019-05-01",{"$f":"VLOOKUP(J1160,'Control Panel'!$I$27:$K$68,2,FALSE)","v":"NW2"},1,null,null,null,null,null,1,"F84636",null,5015,12,10,10,10,11,4,8,8,7,8,8,7,5,6,4,5,4,8]
["2019-05-01",{"$f":"VLOOKUP(J1161,'Control Panel'!$I$27:$K$68,2,FALSE)","v":"City"},1,null,null,null,null,null,1,"F84640",null,9238,9,7,7,7,7,1,20,19,18,17,17,11,8,7,6,7,6,18]
["2019-05-01",{"$f":"VLOOKUP(J1162,'Control Panel'!$I$27:$K$68,2,FALSE)","v":"NE2"},0,null,null,null,null,null,1,"F84668",null,6604,42,11,13,13,6,2,37,20,23,20,23,31,23,26,15,22,18,22]
["2019-05-01",{"$f":"VLOOKUP(J1163,'Control Panel'!$I$27:$K$68,2,FALSE)","v":"NE2"},0,null,null,null,null,null,1,"F84685",null,2965,13,8,8,8,6,3,8,6,6,6,5,8,6,6,5,6,5,6]
["2019-05-01",{"$f":"VLOOKUP(J1164,'Control Panel'!$I$27:$K$68,2,FALSE)","v":"NE1"},0,null,null,null,null,null,1,"F84686",null,7817,58,14,21,22,11,0,67,34,45,34,33,52,42,44,29,38,32,33]
["2019-05-01",{"$f":"VLOOKUP(J1165,'Control Panel'!$I$27:$K$68,2,FALSE)","v":"SW2"},1,null,null,null,null,null,1,"F84692",null,7143,19,16,16,16,15,6,10,9,8,8,8,17,16,17,15,17,14,8]
["2019-05-01",{"$f":"VLOOKUP(J1166,'Control Panel'!$I$27:$K$68,2,FALSE)","v":"NW2"},1,null,null,null,null,null,1,"F84694",null,4420,15,15,15,15,15,2,15,13,13,12,12,13,11,10,8,11,9,12]
["2019-05-01",{"$f":"VLOOKUP(J1167,'Control Panel'!$I$27:$K$68,2,FALSE)","v":"NE2"},0,null,null,null,null,null,1,"F84711",null,1913,4,3,3,2,3,1,3,3,3,2,2,5,4,3,3,3,3,3]
["2019-05-01",{"$f":"VLOOKUP(J1168,'Control Panel'!$I$27:$K$68,2,FALSE)","v":"NW1"},1,null,null,null,null,null,1,"F84716",null,5608,23,13,13,13,11,2,31,24,22,19,20,20,16,16,13,14,13,18]
["2019-05-01",{"$f":"VLOOKUP(J1169,'Control Panel'!$I$27:$K$68,2,FALSE)","v":"SE1"},1,null,null,null,null,null,1,"F84719",null,5215,11,11,11,11,11,3,20,19,18,18,18,14,13,12,11,12,14,19]
["2019-05-01",{"$f":"VLOOKUP(J1170,'Control Panel'!$I$27:$K$68,2,FALSE)","v":"NE2"},0,null,null,null,null,null,1,"F84720",null,5489,25,18,18,19,16,0,14,9,10,6,9,21,16,18,11,15,13,6]
["2019-05-01",{"$f":"VLOOKUP(J1171,'Control Panel'!$I$27:$K$68,2,FALSE)","v":"SE2"},1,null,null,null,null,null,1,"Y00403",null,6403,19,12,12,12,13,0,18,18,14,14,14,17,17,15,13,15,13,14]
["2019-05-01",{"$f":"VLOOKUP(J1172,'Control Panel'!$I$27:$K$68,2,FALSE)","v":"NE1"},0,null,null,null,null,null,1,"Y03049",null,14326,72,36,33,36,25,16,66,34,42,36,34,75,54,60,34,57,42,29]
["2019-05-01",{"$f":"VLOOKUP(J1173,'Control Panel'!$I$27:$K$68,2,FALSE)","v":{"$error":"#N/A"}},{"$error":"#N/A"},null,null,null,null,null,0,"Total",null,324290,1095,799,799,820,758,195,1052,845,816,764,779,994,867,855,664,826,693,764]
["2019-06-01",{"$f":"VLOOKUP(J1174,'Control Panel'!$I$27:$K$68,2,FALSE)","v":{"$error":"#N/A"}},{"$error":"#N/A"},null,"Last Run:",null,"Population Count",338521,1,null,"Search","All Patients","(01) 12 MONTH COHORT","(01.01) DTaP/IPV/Hib/HepB","(01.02) Men B (1st and 2nd)","(01.03) PCV","(01.04) Rotavirus","(01.05) BCG","(02) 24 MONTH COHORT","(02.01) DTaP/IPV/Hib or DTaP/IPV/Hib/HepB","(02.02) MMR","(02.03) HiB/Men C","(02.04) PCV (Booster)","(03) 5 YEAR COHORT","(03.01) DTaP/IPV/Hib or DTaP/IPV/Hib/HepB","(03.02) MMR (Primary)","(03.03) DTaP/IPV (Booster)","(03.04) HiB/Men C","(03.05) MMR (Booster)","(02.05) Men B (Booster)"]
["2019-06-01",{"$f":"VLOOKUP(J1175,'Control Panel'!$I$27:$K$68,2,FALSE)","v":{"$error":"#N/A"}},{"$error":"#N/A"},null,"2019-07-02T12:29:00",null,"Males",168102,1,"Organisation Code"]
["2019-06-01",{"$f":"VLOOKUP(J1176,'Control Panel'!$I$27:$K$68,2,FALSE)","v":"SE1"},1,null,"Relative Date:",null,"Females",170419,1,"F84003",null,14766,48,45,44,45,42,4,49,45,40,39,39,43,43,40,37,39,37,38]
["2019-06-01",{"$f":"VLOOKUP(J1177,'Control Panel'!$I$27:$K$68,2,FALSE)","v":"NW2"},1,null,"2019-07-01",null,null,null,1,"F84008",null,12496,37,34,34,34,32,5,36,34,34,34,34,49,48,49,40,48,40,33]
["2019-06-01",{"$f":"VLOOKUP(J1178,'Control Panel'!$I$27:$K$68,2,FALSE)","v":"NE1"},0,null,null,null,null,null,1,"F84013",null,15249,91,32,37,39,26,3,102,58,66,44,52,97,76,80,51,73,52,52]
["2019-06-01",{"$f":"VLOOKUP(J1179,'Control Panel'!$I$27:$K$68,2,FALSE)","v":"SE1"},1,null,null,null,null,null,1,"F84015",null,5587,23,20,18,21,20,10,12,11,7,7,7,16,12,14,9,14,9,7]
["2019-06-01",{"$f":"VLOOKUP(J1180,'Control Panel'!$I$27:$K$68,2,FALSE)","v":"NE2"},0,null,null,null,null,null,1,"F84018",null,11781,46,40,38,40,38,13,43,39,36,36,37,35,32,30,29,32,28,37]
["2019-06-01",{"$f":"VLOOKUP(J1181,'Control Panel'!$I$27:$K$68,2,FALSE)","v":"SW1"},1,null,null,null,null,null,1,"F84021",null,10334,39,34,34,34,33,3,23,23,18,19,18,34,33,33,27,33,27,18]
["2019-06-01",{"$f":"VLOOKUP(J1182,'Control Panel'!$I$27:$K$68,2,FALSE)","v":"NW2"},1,null,null,null,null,null,1,"F84033",null,12027,29,27,26,27,26,13,27,25,22,23,23,31,31,29,25,29,26,23]
["2019-06-01",{"$f":"VLOOKUP(J1183,'Control Panel'!$I$27:$K$68,2,FALSE)","v":"SW1"},1,null,null,null,null,null,1,"F84035",null,8188,32,28,28,28,28,1,23,21,19,20,19,14,13,11,11,11,11,20]
["2019-06-01",{"$f":"VLOOKUP(J1184,'Control Panel'!$I$27:$K$68,2,FALSE)","v":"NW1"},1,null,null,null,null,null,1,"F84036",null,7193,21,16,15,16,16,8,23,21,20,20,20,16,13,13,10,12,10,19]
["2019-06-01",{"$f":"VLOOKUP(J1185,'Control Panel'!$I$27:$K$68,2,FALSE)","v":"SW1"},1,null,null,null,null,null,1,"F84038",null,4094,12,10,10,10,10,3,14,14,14,14,14,13,11,9,4,10,6,14]
["2019-06-01",{"$f":"VLOOKUP(J1186,'Control Panel'!$I$27:$K$68,2,FALSE)","v":"SW2"},1,null,null,null,null,null,1,"F84041",null,7715,18,17,17,17,17,6,18,18,18,18,18,17,16,15,16,15,16,18]
["2019-06-01",{"$f":"VLOOKUP(J1187,'Control Panel'!$I$27:$K$68,2,FALSE)","v":"SE1"},1,null,null,null,null,null,1,"F84043",null,1167,1,1,1,1,1,0,3,2,3,2,3,2,2,2,1,2,1,1]
["2019-06-01",{"$f":"VLOOKUP(J1188,'Control Panel'!$I$27:$K$68,2,FALSE)","v":"SE1"},1,null,null,null,null,null,1,"F84060",null,4807,18,17,16,17,15,3,14,12,12,12,12,13,10,9,8,8,8,12]
["2019-06-01",{"$f":"VLOOKUP(J1189,'Control Panel'!$I$27:$K$68,2,FALSE)","v":"SW1"},1,null,null,null,null,null,1,"F84063",null,6016,11,9,9,9,8,8,9,8,7,7,8,8,1,2,6,2,6,7]
["2019-06-01",{"$f":"VLOOKUP(J1190,'Control Panel'!$I$27:$K$68,2,FALSE)","v":"SE2"},1,null,null,null,null,null,1,"F84069",null,14472,36,36,36,36,35,4,46,43,38,37,38,48,47,44,31,44,32,37]
["2019-06-01",{"$f":"VLOOKUP(J1191,'Control Panel'!$I$27:$K$68,2,FALSE)","v":"SW2"},1,null,null,null,null,null,1,"F84072",null,10694,27,23,23,24,19,11,32,31,30,28,30,30,27,25,24,22,25,29]
["2019-06-01",{"$f":"VLOOKUP(J1192,'Control Panel'!$I$27:$K$68,2,FALSE)","v":"NE2"},0,null,null,null,null,null,1,"F84080",null,4841,17,9,9,10,10,1,17,11,10,10,10,16,13,13,10,14,10,11]
["2019-06-01",{"$f":"VLOOKUP(J1193,'Control Panel'!$I$27:$K$68,2,FALSE)","v":"SW2"},1,null,null,null,null,null,1,"F84096",null,13116,40,27,26,27,31,12,35,32,30,30,30,33,33,28,26,30,25,31]
["2019-06-01",{"$f":"VLOOKUP(J1194,'Control Panel'!$I$27:$K$68,2,FALSE)","v":"SE1"},1,null,null,null,null,null,1,"F84105",null,11714,42,40,40,40,39,3,35,31,27,28,28,36,33,30,24,30,23,28]
["2019-06-01",{"$f":"VLOOKUP(J1195,'Control Panel'!$I$27:$K$68,2,FALSE)","v":"NW1"},1,null,null,null,null,null,1,"F84115",null,8685,29,27,27,27,27,4,28,25,24,24,24,12,10,10,8,10,9,21]
["2019-06-01",{"$f":"VLOOKUP(J1196,'Control Panel'!$I$27:$K$68,2,FALSE)","v":"SW1"},1,null,null,null,null,null,1,"F84117",null,10025,32,29,29,29,28,5,25,24,24,23,24,22,20,19,17,19,16,24]
["2019-06-01",{"$f":"VLOOKUP(J1197,'Control Panel'!$I$27:$K$68,2,FALSE)","v":"NW1"},1,null,null,null,null,null,1,"F84119",null,12377,44,40,40,40,40,22,44,41,38,37,38,31,31,30,23,30,25,37]
["2019-06-01",{"$f":"VLOOKUP(J1198,'Control Panel'!$I$27:$K$68,2,FALSE)","v":"SE2"},1,null,null,null,null,null,1,"F84601",null,6871,21,20,20,20,20,8,9,3,3,3,3,20,18,18,14,18,16,3]
["2019-06-01",{"$f":"VLOOKUP(J1199,'Control Panel'!$I$27:$K$68,2,FALSE)","v":"NE2"},0,null,null,null,null,null,1,"F84619",null,4533,16,13,11,13,13,3,13,12,12,12,12,18,17,17,15,17,15,12]
["2019-06-01",{"$f":"VLOOKUP(J1200,'Control Panel'!$I$27:$K$68,2,FALSE)","v":"SE2"},1,null,null,null,null,null,1,"F84620",null,6504,12,10,10,10,8,1,18,15,11,11,11,18,14,15,8,13,11,11]
["2019-06-01",{"$f":"VLOOKUP(J1201,'Control Panel'!$I$27:$K$68,2,FALSE)","v":"SW1"},1,null,null,null,null,null,1,"F84621",null,3784,8,8,8,8,8,1,7,7,5,5,6,6,6,6,2,6,3,6]
["2019-06-01",{"$f":"VLOOKUP(J1202,'Control Panel'!$I$27:$K$68,2,FALSE)","v":"NW2"},1,null,null,null,null,null,1,"F84624",null,2743,5,4,4,5,4,1,8,6,5,5,5,7,6,5,6,5,6,5]
["2019-06-01",{"$f":"VLOOKUP(J1203,'Control Panel'!$I$27:$K$68,2,FALSE)","v":"SE2"},1,null,null,null,null,null,1,"F84632",null,1062,0,0,0,0,0,0,0,0,0,0,0,0,0,0,0,0,0,0]
["2019-06-01",{"$f":"VLOOKUP(J1204,'Control Panel'!$I$27:$K$68,2,FALSE)","v":"SW2"},1,null,null,null,null,null,1,"F84635",null,8874,17,14,14,14,15,2,20,16,13,13,13,16,16,16,12,15,12,13]
["2019-06-01",{"$f":"VLOOKUP(J1205,'Control Panel'!$I$27:$K$68,2,FALSE)","v":"NW2"},1,null,null,null,null,null,1,"F84636",null,5089,12,10,10,10,11,4,8,8,7,8,8,7,5,6,4,5,4,8]
["2019-06-01",{"$f":"VLOOKUP(J1206,'Control Panel'!$I$27:$K$68,2,FALSE)","v":"City"},1,null,null,null,null,null,1,"F84640",null,9210,9,8,8,8,8,1,19,19,19,18,18,9,7,6,6,6,6,18]
["2019-06-01",{"$f":"VLOOKUP(J1207,'Control Panel'!$I$27:$K$68,2,FALSE)","v":"NE2"},0,null,null,null,null,null,1,"F84668",null,6620,41,11,13,13,6,2,37,21,27,22,27,31,23,26,15,22,18,25]
["2019-06-01",{"$f":"VLOOKUP(J1208,'Control Panel'!$I$27:$K$68,2,FALSE)","v":"NE2"},0,null,null,null,null,null,1,"F84685",null,2988,13,8,8,8,6,3,8,6,6,6,5,8,6,6,5,6,5,6]
["2019-06-01",{"$f":"VLOOKUP(J1209,'Control Panel'!$I$27:$K$68,2,FALSE)","v":"NE1"},0,null,null,null,null,null,1,"F84686",null,7818,58,14,21,22,11,0,67,34,45,34,33,52,42,44,29,38,32,33]
["2019-06-01",{"$f":"VLOOKUP(J1210,'Control Panel'!$I$27:$K$68,2,FALSE)","v":"SW2"},1,null,null,null,null,null,1,"F84692",null,7124,19,16,16,16,15,6,10,9,8,8,8,17,16,17,15,17,14,8]
["2019-06-01",{"$f":"VLOOKUP(J1211,'Control Panel'!$I$27:$K$68,2,FALSE)","v":"NW2"},1,null,null,null,null,null,1,"F84694",null,4432,15,15,15,15,15,2,15,13,13,12,12,13,11,10,8,11,9,12]
["2019-06-01",{"$f":"VLOOKUP(J1212,'Control Panel'!$I$27:$K$68,2,FALSE)","v":"NE2"},0,null,null,null,null,null,1,"F84711",null,1943,6,5,4,4,5,1,3,3,3,2,2,4,3,3,3,3,3,3]
["2019-06-01",{"$f":"VLOOKUP(J1213,'Control Panel'!$I$27:$K$68,2,FALSE)","v":"NW1"},1,null,null,null,null,null,1,"F84716",null,5600,24,13,13,13,11,2,30,23,22,19,20,20,16,16,13,14,13,18]
["2019-06-01",{"$f":"VLOOKUP(J1214,'Control Panel'!$I$27:$K$68,2,FALSE)","v":"SE1"},1,null,null,null,null,null,1,"F84719",null,5248,12,11,11,11,11,3,22,20,19,19,19,14,13,12,11,12,14,20]
["2019-06-01",{"$f":"VLOOKUP(J1215,'Control Panel'!$I$27:$K$68,2,FALSE)","v":"NE2"},0,null,null,null,null,null,1,"F84720",null,5516,25,18,18,19,16,0,15,10,11,7,10,20,15,17,11,14,13,7]
["2019-06-01",{"$f":"VLOOKUP(J1216,'Control Panel'!$I$27:$K$68,2,FALSE)","v":"SE2"},1,null,null,null,null,null,1,"Y00403",null,6488,17,11,11,11,11,0,18,18,15,14,14,15,15,13,12,13,12,14]
["2019-06-01",{"$f":"VLOOKUP(J1217,'Control Panel'!$I$27:$K$68,2,FALSE)","v":"NE1"},0,null,null,null,null,null,1,"Y03049",null,14330,73,36,33,36,25,17,66,36,43,37,35,75,54,60,34,57,42,30]
["2019-06-01",{"$f":"VLOOKUP(J1218,'Control Panel'!$I$27:$K$68,2,FALSE)","v":{"$error":"#N/A"}},{"$f":"IF(LEFT(B1218,2)=\"NE\",0,1)","v":{"$error":"#N/A"}},null,null,null,null,null,0,"Total",null,324121,1096,806,805,827,760,199,1051,848,824,767,787,986,858,848,660,819,690,769]
["2019-07-01",{"$f":"VLOOKUP(J1219,'Control Panel'!$I$27:$K$68,2,FALSE)","v":{"$error":"#N/A"}},{"$error":"#N/A"},null,"Last Run:",null,"Population Count",339845,1,null,"Search","All Patients","(01) 12 MONTH COHORT","(01.01) DTaP/IPV/Hib/HepB","(01.02) Men B (1st and 2nd)","(01.03) PCV","(01.04) Rotavirus","(01.05) BCG","(02) 24 MONTH COHORT","(02.01) DTaP/IPV/Hib or DTaP/IPV/Hib/HepB","(02.02) MMR","(02.03) HiB/Men C","(02.04) PCV (Booster)","(03) 5 YEAR COHORT","(03.01) DTaP/IPV/Hib or DTaP/IPV/Hib/HepB","(03.02) MMR (Primary)","(03.03) DTaP/IPV (Booster)","(03.04) HiB/Men C","(03.05) MMR (Booster)","(02.05) Men B (Booster)"]
["2019-07-01",{"$f":"VLOOKUP(J1220,'Control Panel'!$I$27:$K$68,2,FALSE)","v":{"$error":"#N/A"}},{"$error":"#N/A"},null,"2019-08-12T09:50:00",null,"Males",168770,{"$f":"IF(J1220=\"Total\",0,1)","v":1},"Organisation Code"]
["2019-07-01",{"$f":"VLOOKUP(J1221,'Control Panel'!$I$27:$K$68,2,FALSE)","v":"SE1"},1,null,"Relative Date:",null,"Females",171075,1,"F84003",null,15683,46,41,41,41,36,5,61,55,48,50,50,44,41,42,42,39,40,50]
["2019-07-01",{"$f":"VLOOKUP(J1222,'Control Panel'!$I$27:$K$68,2,FALSE)","v":"NW2"},1,null,"2019-08-01",null,null,null,1,"F84008",null,12468,38,35,34,36,35,3,41,40,37,39,38,43,43,42,38,42,38,38]
["2019-07-01",{"$f":"VLOOKUP(J1223,'Control Panel'!$I$27:$K$68,2,FALSE)","v":"NE1"},0,null,null,null,null,null,1,"F84013",null,15246,99,36,41,40,28,3,122,70,85,48,66,96,76,75,53,66,58,58]
["2019-07-01",{"$f":"VLOOKUP(J1224,'Control Panel'!$I$27:$K$68,2,FALSE)","v":"SE1"},1,null,null,null,null,null,1,"F84015",null,5646,16,13,14,14,13,7,15,11,10,10,10,13,12,13,10,13,10,10]
["2019-07-01",{"$f":"VLOOKUP(J1225,'Control Panel'!$I$27:$K$68,2,FALSE)","v":"NE2"},0,null,null,null,null,null,1,"F84018",null,11821,48,38,36,41,38,10,48,42,39,39,39,50,46,46,42,45,45,38]
["2019-07-01",{"$f":"VLOOKUP(J1226,'Control Panel'!$I$27:$K$68,2,FALSE)","v":"SW1"},1,null,null,null,null,null,1,"F84021",null,10327,28,28,27,28,27,6,27,27,25,25,25,33,31,30,27,30,27,26]
["2019-07-01",{"$f":"VLOOKUP(J1227,'Control Panel'!$I$27:$K$68,2,FALSE)","v":"NW2"},1,null,null,null,null,null,1,"F84033",null,11938,33,33,32,33,33,8,31,30,30,30,29,32,30,29,27,28,27,28]
["2019-07-01",{"$f":"VLOOKUP(J1228,'Control Panel'!$I$27:$K$68,2,FALSE)","v":"SW1"},1,null,null,null,null,null,1,"F84035",null,8381,23,20,20,20,21,0,18,15,16,16,15,22,21,21,18,20,19,15]
["2019-07-01",{"$f":"VLOOKUP(J1229,'Control Panel'!$I$27:$K$68,2,FALSE)","v":"NW1"},1,null,null,null,null,null,1,"F84036",null,7178,27,23,23,23,21,15,13,12,11,11,11,21,17,17,16,17,16,11]
["2019-07-01",{"$f":"VLOOKUP(J1230,'Control Panel'!$I$27:$K$68,2,FALSE)","v":"SW1"},1,null,null,null,null,null,1,"F84038",null,4106,12,9,9,9,10,4,9,9,9,9,9,12,10,7,2,7,6,9]
["2019-07-01",{"$f":"VLOOKUP(J1231,'Control Panel'!$I$27:$K$68,2,FALSE)","v":"SW2"},1,null,null,null,null,null,1,"F84041",null,7698,23,20,20,20,20,7,14,13,12,12,12,26,23,25,23,25,23,12]
["2019-07-01",{"$f":"VLOOKUP(J1232,'Control Panel'!$I$27:$K$68,2,FALSE)","v":"SE1"},1,null,null,null,null,null,1,"F84043",null,0,0,0,0,0,0,0,0,0,0,0,0,0,0,0,0,0,0,0]
["2019-07-01",{"$f":"VLOOKUP(J1233,'Control Panel'!$I$27:$K$68,2,FALSE)","v":"SE1"},1,null,null,null,null,null,1,"F84060",null,4844,12,10,10,10,9,5,12,10,9,9,9,13,10,11,8,11,8,9]
["2019-07-01",{"$f":"VLOOKUP(J1234,'Control Panel'!$I$27:$K$68,2,FALSE)","v":"SW1"},1,null,null,null,null,null,1,"F84063",null,6009,11,11,11,11,11,7,23,22,18,18,17,9,2,2,7,2,7,18]
["2019-07-01",{"$f":"VLOOKUP(J1235,'Control Panel'!$I$27:$K$68,2,FALSE)","v":"SE2"},1,null,null,null,null,null,1,"F84069",null,14517,48,45,45,45,43,16,45,40,34,34,36,44,41,41,32,41,33,34]
["2019-07-01",{"$f":"VLOOKUP(J1236,'Control Panel'!$I$27:$K$68,2,FALSE)","v":"SW2"},1,null,null,null,null,null,1,"F84072",null,10750,36,31,31,31,30,13,37,37,35,35,36,25,22,22,21,20,21,36]
["2019-07-01",{"$f":"VLOOKUP(J1237,'Control Panel'!$I$27:$K$68,2,FALSE)","v":"NE2"},0,null,null,null,null,null,1,"F84080",null,4849,17,10,10,10,8,1,24,19,13,14,15,19,15,15,8,11,8,16]
["2019-07-01",{"$f":"VLOOKUP(J1238,'Control Panel'!$I$27:$K$68,2,FALSE)","v":"SW2"},1,null,null,null,null,null,1,"F84096",null,13097,33,30,31,30,27,10,29,27,27,26,26,30,30,30,25,30,26,26]
["2019-07-01",{"$f":"VLOOKUP(J1239,'Control Panel'!$I$27:$K$68,2,FALSE)","v":"SE1"},1,null,null,null,null,null,1,"F84105",null,11736,34,32,33,34,31,8,34,30,24,25,26,33,32,31,25,31,25,26]
["2019-07-01",{"$f":"VLOOKUP(J1240,'Control Panel'!$I$27:$K$68,2,FALSE)","v":"NW1"},1,null,null,null,null,null,1,"F84115",null,8752,28,28,27,28,27,3,27,27,25,25,25,21,20,21,16,20,18,25]
["2019-07-01",{"$f":"VLOOKUP(J1241,'Control Panel'!$I$27:$K$68,2,FALSE)","v":"SW1"},1,null,null,null,null,null,1,"F84117",null,10050,24,20,20,20,19,7,33,30,27,26,26,23,23,23,16,23,16,27]
["2019-07-01",{"$f":"VLOOKUP(J1242,'Control Panel'!$I$27:$K$68,2,FALSE)","v":"NW1"},1,null,null,null,null,null,1,"F84119",null,12388,48,42,42,43,42,16,43,40,38,36,36,39,32,29,23,30,25,35]
["2019-07-01",{"$f":"VLOOKUP(J1243,'Control Panel'!$I$27:$K$68,2,FALSE)","v":"SE2"},1,null,null,null,null,null,1,"F84601",null,6919,27,23,21,23,25,10,23,18,17,17,17,27,23,23,19,24,20,17]
["2019-07-01",{"$f":"VLOOKUP(J1244,'Control Panel'!$I$27:$K$68,2,FALSE)","v":"NE2"},0,null,null,null,null,null,1,"F84619",null,4563,19,13,14,13,13,2,16,14,14,14,14,12,10,12,10,10,9,13]
["2019-07-01",{"$f":"VLOOKUP(J1245,'Control Panel'!$I$27:$K$68,2,FALSE)","v":"SE2"},1,null,null,null,null,null,1,"F84620",null,6701,21,18,18,18,18,2,17,13,10,11,10,16,16,14,8,14,8,10]
["2019-07-01",{"$f":"VLOOKUP(J1246,'Control Panel'!$I$27:$K$68,2,FALSE)","v":"SW1"},1,null,null,null,null,null,1,"F84621",null,3819,10,9,9,9,9,1,4,4,3,4,4,10,10,9,8,10,8,4]
["2019-07-01",{"$f":"VLOOKUP(J1247,'Control Panel'!$I$27:$K$68,2,FALSE)","v":"NW2"},1,null,null,null,null,null,1,"F84624",null,2734,9,9,9,9,9,3,4,4,4,4,4,5,4,4,3,4,4,4]
["2019-07-01",{"$f":"VLOOKUP(J1248,'Control Panel'!$I$27:$K$68,2,FALSE)","v":"SE2"},1,null,null,null,null,null,1,"F84632",null,1026,0,0,0,0,0,0,0,0,0,0,0,0,0,0,0,0,0,0]
["2019-07-01",{"$f":"VLOOKUP(J1249,'Control Panel'!$I$27:$K$68,2,FALSE)","v":"SW2"},1,null,null,null,null,null,1,"F84635",null,8895,17,14,14,15,15,6,17,13,11,11,11,15,12,11,8,13,10,12]
["2019-07-01",{"$f":"VLOOKUP(J1250,'Control Panel'!$I$27:$K$68,2,FALSE)","v":"NW2"},1,null,null,null,null,null,1,"F84636",null,5158,9,9,8,9,7,4,12,10,9,9,9,12,9,9,9,8,10,9]
["2019-07-01",{"$f":"VLOOKUP(J1251,'Control Panel'!$I$27:$K$68,2,FALSE)","v":"City"},1,null,null,null,null,null,1,"F84640",null,9205,19,18,18,19,18,7,23,22,21,22,20,9,8,8,8,8,8,22]
["2019-07-01",{"$f":"VLOOKUP(J1252,'Control Panel'!$I$27:$K$68,2,FALSE)","v":"NE2"},0,null,null,null,null,null,1,"F84668",null,6613,37,16,20,20,16,4,34,19,26,16,22,45,38,41,20,41,22,21]
["2019-07-01",{"$f":"VLOOKUP(J1253,'Control Panel'!$I$27:$K$68,2,FALSE)","v":"NE2"},0,null,null,null,null,null,1,"F84685",null,2993,10,4,4,4,3,3,13,10,10,9,9,9,6,8,6,6,6,7]
["2019-07-01",{"$f":"VLOOKUP(J1254,'Control Panel'!$I$27:$K$68,2,FALSE)","v":"NE1"},0,null,null,null,null,null,1,"F84686",null,7795,62,18,17,19,16,1,67,35,50,42,40,55,41,48,28,44,33,37]
["2019-07-01",{"$f":"VLOOKUP(J1255,'Control Panel'!$I$27:$K$68,2,FALSE)","v":"SW2"},1,null,null,null,null,null,1,"F84692",null,7134,14,12,12,12,12,2,23,19,17,17,17,23,21,20,16,20,16,17]
["2019-07-01",{"$f":"VLOOKUP(J1256,'Control Panel'!$I$27:$K$68,2,FALSE)","v":"NW2"},1,null,null,null,null,null,1,"F84694",null,4446,15,14,13,14,11,2,4,3,2,2,3,10,10,10,8,9,9,2]
["2019-07-01",{"$f":"VLOOKUP(J1257,'Control Panel'!$I$27:$K$68,2,FALSE)","v":"NE2"},0,null,null,null,null,null,1,"F84711",null,1933,3,2,2,2,1,1,8,7,6,5,6,8,8,7,5,5,6,6]
["2019-07-01",{"$f":"VLOOKUP(J1258,'Control Panel'!$I$27:$K$68,2,FALSE)","v":"NW1"},1,null,null,null,null,null,1,"F84716",null,5605,30,14,17,17,14,6,22,14,17,15,16,22,16,16,12,14,13,14]
["2019-07-01",{"$f":"VLOOKUP(J1259,'Control Panel'!$I$27:$K$68,2,FALSE)","v":"SE1"},1,null,null,null,null,null,1,"F84719",null,5304,12,11,11,11,11,2,15,13,12,12,12,8,7,6,5,6,7,13]
["2019-07-01",{"$f":"VLOOKUP(J1260,'Control Panel'!$I$27:$K$68,2,FALSE)","v":"NE2"},0,null,null,null,null,null,1,"F84720",null,5488,23,12,11,12,12,0,24,20,14,13,14,18,13,12,10,13,11,12]
["2019-07-01",{"$f":"VLOOKUP(J1261,'Control Panel'!$I$27:$K$68,2,FALSE)","v":"SE2"},1,null,null,null,null,null,1,"Y00403",null,6556,19,15,15,16,16,0,13,12,8,10,9,14,12,12,10,11,11,9]
["2019-07-01",{"$f":"VLOOKUP(J1262,'Control Panel'!$I$27:$K$68,2,FALSE)","v":"NE1"},0,null,null,null,null,null,1,"Y03049",null,14335,60,27,28,28,18,10,78,39,48,43,39,75,60,62,40,54,42,36]
["2019-07-01",{"$f":"VLOOKUP(J1263,'Control Panel'!$I$27:$K$68,2,FALSE)","v":{"$error":"#N/A"}},{"$error":"#N/A"},null,null,null,null,null,0,"Total",null,324766,1100,813,818,837,773,220,1123,895,871,813,832,1041,901,904,712,865,749,812]
["2019-08-01",{"$f":"VLOOKUP(J1264,'Control Panel'!$I$27:$K$68,2,FALSE)","v":{"$error":"#N/A"}},{"$error":"#N/A"},null,"Last Run:",null,"Population Count",340745,1,null,"Search","All Patients","(01) 12 MONTH COHORT","(01.01) DTaP/IPV/Hib/HepB","(01.02) Men B (1st and 2nd)","(01.03) PCV","(01.04) Rotavirus","(01.05) BCG","(02) 24 MONTH COHORT","(02.01) DTaP/IPV/Hib or DTaP/IPV/Hib/HepB","(02.02) MMR","(02.03) HiB/Men C","(02.04) PCV (Booster)","(03) 5 YEAR COHORT","(03.01) DTaP/IPV/Hib or DTaP/IPV/Hib/HepB","(03.02) MMR (Primary)","(03.03) DTaP/IPV (Booster)","(03.04) HiB/Men C","(03.05) MMR (Booster)","(02.05) Men B (Booster)"]
["2019-08-01",{"$f":"VLOOKUP(J1265,'Control Panel'!$I$27:$K$68,2,FALSE)","v":{"$error":"#N/A"}},{"$error":"#N/A"},null,"2019-09-02T11:07:00",null,"Males",169168,1,"Organisation Code"]
["2019-08-01",{"$f":"VLOOKUP(J1266,'Control Panel'!$I$27:$K$68,2,FALSE)","v":"SE1"},1,null,"Relative Date:",null,"Females",171577,1,"F84003",null,15425,44,40,40,40,34,5,59,53,48,49,50,42,39,40,40,37,38,50]
["2019-08-01",{"$f":"VLOOKUP(J1267,'Control Panel'!$I$27:$K$68,2,FALSE)","v":"NW2"},1,null,"2019-09-01",null,null,null,1,"F84008",null,12711,38,35,34,36,35,3,42,41,37,39,38,43,43,43,38,43,38,39]
["2019-08-01",{"$f":"VLOOKUP(J1268,'Control Panel'!$I$27:$K$68,2,FALSE)","v":"NE1"},0,null,null,null,null,null,1,"F84013",null,15289,100,39,43,43,28,3,122,71,85,49,66,96,76,75,53,66,58,58]
["2019-08-01",{"$f":"VLOOKUP(J1269,'Control Panel'!$I$27:$K$68,2,FALSE)","v":"SE1"},1,null,null,null,null,null,1,"F84015",null,5657,18,13,14,15,13,8,15,11,10,10,10,13,12,13,10,13,10,10]
["2019-08-01",{"$f":"VLOOKUP(J1270,'Control Panel'!$I$27:$K$68,2,FALSE)","v":"NE2"},0,null,null,null,null,null,1,"F84018",null,11879,46,35,33,38,35,10,48,42,39,39,39,49,45,45,41,44,44,37]
["2019-08-01",{"$f":"VLOOKUP(J1271,'Control Panel'!$I$27:$K$68,2,FALSE)","v":"SW1"},1,null,null,null,null,null,1,"F84021",null,10358,29,28,27,28,27,6,27,27,25,25,25,33,31,30,27,30,27,26]
["2019-08-01",{"$f":"VLOOKUP(J1272,'Control Panel'!$I$27:$K$68,2,FALSE)","v":"NW2"},1,null,null,null,null,null,1,"F84033",null,11964,33,33,32,33,33,8,31,30,30,30,30,32,30,29,27,28,27,29]
["2019-08-01",{"$f":"VLOOKUP(J1273,'Control Panel'!$I$27:$K$68,2,FALSE)","v":"SW1"},1,null,null,null,null,null,1,"F84035",null,8672,22,19,19,19,20,0,19,16,17,17,16,23,21,21,18,20,19,16]
["2019-08-01",{"$f":"VLOOKUP(J1274,'Control Panel'!$I$27:$K$68,2,FALSE)","v":"NW1"},1,null,null,null,null,null,1,"F84036",null,7248,29,24,24,24,22,15,14,13,12,11,12,21,17,17,16,17,16,11]
["2019-08-01",{"$f":"VLOOKUP(J1275,'Control Panel'!$I$27:$K$68,2,FALSE)","v":"SW1"},1,null,null,null,null,null,1,"F84038",null,4135,12,9,9,9,10,4,9,9,9,9,9,12,10,7,2,7,6,9]
["2019-08-01",{"$f":"VLOOKUP(J1276,'Control Panel'!$I$27:$K$68,2,FALSE)","v":"SW2"},1,null,null,null,null,null,1,"F84041",null,7685,23,20,20,20,20,8,14,13,12,12,12,26,23,25,24,25,23,12]
["2019-08-01",{"$f":"VLOOKUP(J1277,'Control Panel'!$I$27:$K$68,2,FALSE)","v":"SE1"},1,null,null,null,null,null,1,"F84060",null,4874,12,11,11,11,10,5,12,10,9,9,9,13,10,11,8,11,8,9]
["2019-08-01",{"$f":"VLOOKUP(J1278,'Control Panel'!$I$27:$K$68,2,FALSE)","v":"SW1"},1,null,null,null,null,null,1,"F84063",null,6010,11,11,11,11,11,7,23,22,19,19,18,9,2,2,7,2,7,19]
["2019-08-01",{"$f":"VLOOKUP(J1279,'Control Panel'!$I$27:$K$68,2,FALSE)","v":"SE2"},1,null,null,null,null,null,1,"F84069",null,14548,49,47,47,47,44,17,44,39,33,33,35,43,41,40,32,40,33,33]
["2019-08-01",{"$f":"VLOOKUP(J1280,'Control Panel'!$I$27:$K$68,2,FALSE)","v":"SW2"},1,null,null,null,null,null,1,"F84072",null,10785,36,31,31,31,30,13,37,37,35,35,36,26,23,23,21,21,21,36]
["2019-08-01",{"$f":"VLOOKUP(J1281,'Control Panel'!$I$27:$K$68,2,FALSE)","v":"NE2"},0,null,null,null,null,null,1,"F84080",null,4852,18,10,10,10,8,1,24,19,13,14,15,19,15,15,8,11,8,16]
["2019-08-01",{"$f":"VLOOKUP(J1282,'Control Panel'!$I$27:$K$68,2,FALSE)","v":"SW2"},{"$f":"IF(LEFT(B1282,2)=\"NE\",0,1)","v":1},null,null,null,null,null,1,"F84096",null,13068,34,31,32,31,28,11,29,27,27,26,26,31,31,31,26,31,27,26]
["2019-08-01",{"$f":"VLOOKUP(J1283,'Control Panel'!$I$27:$K$68,2,FALSE)","v":"SE1"},1,null,null,null,null,null,1,"F84105",null,11736,31,30,31,31,29,7,34,31,24,25,26,33,32,31,26,31,26,26]
["2019-08-01",{"$f":"VLOOKUP(J1284,'Control Panel'!$I$27:$K$68,2,FALSE)","v":"NW1"},1,null,null,null,null,null,{"$f":"IF(J1284=\"Total\",0,1)","v":1},"F84115",null,8779,28,28,27,28,27,3,27,27,25,25,25,22,21,22,16,21,19,25]
["2019-08-01",{"$f":"VLOOKUP(J1285,'Control Panel'!$I$27:$K$68,2,FALSE)","v":"SW1"},1,null,null,null,null,null,1,"F84117",null,10143,24,20,20,20,19,7,33,30,27,26,26,23,23,23,16,23,16,27]
["2019-08-01",{"$f":"VLOOKUP(J1286,'Control Panel'!$I$27:$K$68,2,FALSE)","v":"NW1"},1,null,null,null,null,null,1,"F84119",null,12445,48,44,43,44,42,17,43,40,38,36,36,39,32,29,23,30,25,35]
["2019-08-01",{"$f":"VLOOKUP(J1287,'Control Panel'!$I$27:$K$68,2,FALSE)","v":"SE2"},1,null,null,null,null,null,1,"F84601",null,6932,27,23,21,23,25,10,23,18,17,17,17,27,23,23,19,24,20,17]
["2019-08-01",{"$f":"VLOOKUP(J1288,'Control Panel'!$I$27:$K$68,2,FALSE)","v":"NE2"},0,null,null,null,null,null,1,"F84619",null,4579,19,13,14,13,13,2,16,14,14,14,14,11,9,11,10,9,9,13]
["2019-08-01",{"$f":"VLOOKUP(J1289,'Control Panel'!$I$27:$K$68,2,FALSE)","v":"SE2"},1,null,null,null,null,null,1,"F84620",null,6768,20,17,18,18,17,2,16,13,10,11,10,16,16,14,8,14,8,10]
["2019-08-01",{"$f":"VLOOKUP(J1290,'Control Panel'!$I$27:$K$68,2,FALSE)","v":"SW1"},1,null,null,null,null,null,1,"F84621",null,3857,10,9,9,9,9,1,4,4,3,4,4,10,10,9,8,10,8,4]
["2019-08-01",{"$f":"VLOOKUP(J1291,'Control Panel'!$I$27:$K$68,2,FALSE)","v":"NW2"},1,null,null,null,null,null,1,"F84624",null,2242,9,9,9,9,9,3,4,4,4,4,4,3,3,3,3,3,3,4]
["2019-08-01",{"$f":"VLOOKUP(J1292,'Control Panel'!$I$27:$K$68,2,FALSE)","v":"SE2"},1,null,null,null,null,null,1,"F84632",null,1035,0,0,0,0,0,0,0,0,0,0,0,0,0,0,0,0,0,0]
["2019-08-01",{"$f":"VLOOKUP(J1293,'Control Panel'!$I$27:$K$68,2,FALSE)","v":"SW2"},1,null,null,null,null,null,1,"F84635",null,8974,17,14,14,15,15,6,17,13,11,11,11,15,12,11,8,13,10,12]
["2019-08-01",{"$f":"VLOOKUP(J1294,'Control Panel'!$I$27:$K$68,2,FALSE)","v":"NW2"},1,null,null,null,null,null,1,"F84636",null,5269,9,9,8,9,7,4,12,10,9,9,9,11,9,9,9,8,10,9]
["2019-08-01",{"$f":"VLOOKUP(J1295,'Control Panel'!$I$27:$K$68,2,FALSE)","v":"City"},1,null,null,null,null,null,1,"F84640",null,9239,19,18,18,19,18,7,23,22,21,22,20,8,7,7,7,7,7,22]
["2019-08-01",{"$f":"VLOOKUP(J1296,'Control Panel'!$I$27:$K$68,2,FALSE)","v":"NE2"},0,null,null,null,null,null,1,"F84668",null,6600,37,16,21,21,16,4,34,19,26,16,22,45,38,41,21,41,23,21]
["2019-08-01",{"$f":"VLOOKUP(J1297,'Control Panel'!$I$27:$K$68,2,FALSE)","v":"NE2"},0,null,null,null,null,null,1,"F84685",null,3018,10,4,4,4,3,3,13,10,10,9,9,9,6,8,6,6,6,7]
["2019-08-01",{"$f":"VLOOKUP(J1298,'Control Panel'!$I$27:$K$68,2,FALSE)","v":"NE1"},0,null,null,null,null,null,1,"F84686",null,7792,63,18,17,19,16,1,67,35,50,42,40,55,41,48,28,44,33,37]
["2019-08-01",{"$f":"VLOOKUP(J1299,'Control Panel'!$I$27:$K$68,2,FALSE)","v":"SW2"},1,null,null,null,null,null,1,"F84692",null,7134,14,12,12,12,12,2,23,19,17,17,17,22,20,19,16,19,16,17]
["2019-08-01",{"$f":"VLOOKUP(J1300,'Control Panel'!$I$27:$K$68,2,FALSE)","v":"NW2"},1,null,null,null,null,null,1,"F84694",null,4473,15,14,13,14,11,2,4,3,2,2,3,10,10,10,8,9,9,2]
["2019-08-01",{"$f":"VLOOKUP(J1301,'Control Panel'!$I$27:$K$68,2,FALSE)","v":"NE2"},0,null,null,null,null,null,1,"F84711",null,1951,3,2,2,2,1,1,8,7,6,5,6,8,8,7,5,5,6,6]
["2019-08-01",{"$f":"VLOOKUP(J1302,'Control Panel'!$I$27:$K$68,2,FALSE)","v":"NW1"},1,null,null,null,null,null,1,"F84716",null,5641,30,14,18,18,14,6,22,14,17,15,16,22,16,16,12,14,13,14]
["2019-08-01",{"$f":"VLOOKUP(J1303,'Control Panel'!$I$27:$K$68,2,FALSE)","v":"SE1"},1,null,null,null,null,null,1,"F84719",null,5330,12,11,11,11,11,2,15,13,12,12,12,8,7,6,5,6,7,13]
["2019-08-01",{"$f":"VLOOKUP(J1304,'Control Panel'!$I$27:$K$68,2,FALSE)","v":"NE2"},0,null,null,null,null,null,1,"F84720",null,5512,23,12,11,12,12,0,25,21,15,14,15,18,13,12,10,13,11,13]
["2019-08-01",{"$f":"VLOOKUP(J1305,'Control Panel'!$I$27:$K$68,2,FALSE)","v":"SE2"},1,null,null,null,null,null,1,"Y00403",null,6681,19,15,15,16,16,0,13,12,8,10,9,14,12,12,10,11,11,9]
["2019-08-01",{"$f":"VLOOKUP(J1306,'Control Panel'!$I$27:$K$68,2,FALSE)","v":"NE1"},0,null,null,null,null,null,1,"Y03049",null,14366,59,26,27,27,18,10,78,39,49,44,40,75,61,63,41,55,43,37]
["2019-08-01",{"$f":"VLOOKUP(J1307,'Control Panel'!$I$27:$K$68,2,FALSE)","v":{"$error":"#N/A"}},{"$error":"#N/A"},null,null,null,null,null,0,"Total",null,325656,1100,814,820,840,768,224,1123,898,875,816,837,1035,898,901,713,862,749,816]
["2019-09-01",{"$f":"VLOOKUP(J1308,'Control Panel'!$I$27:$K$68,2,FALSE)","v":{"$error":"#N/A"}},{"$error":"#N/A"},null,"Last Run:",null,"Population Count",341301,1,null,"Search","All Patients","(01) 12 MONTH COHORT","(01.01) DTaP/IPV/Hib/HepB","(01.02) Men B (1st and 2nd)","(01.03) PCV","(01.04) Rotavirus","(01.05) BCG","(02) 24 MONTH COHORT","(02.01) DTaP/IPV/Hib or DTaP/IPV/Hib/HepB","(02.02) MMR","(02.03) HiB/Men C","(02.04) PCV (Booster)","(03) 5 YEAR COHORT","(03.01) DTaP/IPV/Hib or DTaP/IPV/Hib/HepB","(03.02) MMR (Primary)","(03.03) DTaP/IPV (Booster)","(03.04) HiB/Men C","(03.05) MMR (Booster)","(02.05) Men B (Booster)"]
["2019-09-01",{"$f":"VLOOKUP(J1309,'Control Panel'!$I$27:$K$68,2,FALSE)","v":{"$error":"#N/A"}},{"$error":"#N/A"},null,"2019-10-02T11:04:00",null,"Males",169428,1,"Organisation Code"]
["2019-09-01",{"$f":"VLOOKUP(J1310,'Control Panel'!$I$27:$K$68,2,FALSE)","v":"SE1"},1,null,"Relative Date:",null,"Females",171873,1,"F84003",null,15437,44,40,40,40,34,5,57,53,48,49,50,44,40,41,41,39,40,50]
["2019-09-01",{"$f":"VLOOKUP(J1311,'Control Panel'!$I$27:$K$68,2,FALSE)","v":"NW2"},1,null,"2019-10-01",null,null,null,1,"F84008",null,12848,39,37,37,38,37,4,45,44,40,42,41,44,44,44,39,44,39,42]
["2019-09-01",{"$f":"VLOOKUP(J1312,'Control Panel'!$I$27:$K$68,2,FALSE)","v":"NE1"},0,null,null,null,null,null,1,"F84013",null,15308,103,41,45,45,30,3,121,72,85,51,66,95,75,74,52,65,57,59]
["2019-09-01",{"$f":"VLOOKUP(J1313,'Control Panel'!$I$27:$K$68,2,FALSE)","v":"SE1"},1,null,null,null,null,null,1,"F84015",null,5700,18,13,14,15,13,8,15,11,10,10,10,13,12,13,10,13,10,10]
["2019-09-01",{"$f":"VLOOKUP(J1314,'Control Panel'!$I$27:$K$68,2,FALSE)","v":"NE2"},0,null,null,null,null,null,1,"F84018",null,11878,46,35,33,38,35,10,48,42,39,39,39,47,43,43,39,42,42,37]
["2019-09-01",{"$f":"VLOOKUP(J1315,'Control Panel'!$I$27:$K$68,2,FALSE)","v":"SW1"},1,null,null,null,null,null,1,"F84021",null,10374,28,27,26,27,26,7,28,28,26,26,26,34,32,31,28,31,28,27]
["2019-09-01",{"$f":"VLOOKUP(J1316,'Control Panel'!$I$27:$K$68,2,FALSE)","v":"NW2"},1,null,null,null,null,null,1,"F84033",null,11991,32,32,31,32,32,7,33,32,31,31,31,30,28,27,25,26,25,30]
["2019-09-01",{"$f":"VLOOKUP(J1317,'Control Panel'!$I$27:$K$68,2,FALSE)","v":"SW1"},1,null,null,null,null,null,1,"F84035",null,8909,23,20,20,20,21,1,19,16,17,17,16,23,21,21,18,20,19,16]
["2019-09-01",{"$f":"VLOOKUP(J1318,'Control Panel'!$I$27:$K$68,2,FALSE)","v":"NW1"},1,null,null,null,null,null,1,"F84036",null,7257,27,24,24,24,24,15,13,12,11,10,11,21,17,17,16,17,16,10]
["2019-09-01",{"$f":"VLOOKUP(J1319,'Control Panel'!$I$27:$K$68,2,FALSE)","v":"SW1"},1,null,null,null,null,null,1,"F84038",null,4150,12,9,9,9,10,4,8,8,8,8,8,12,10,7,2,7,6,8]
["2019-09-01",{"$f":"VLOOKUP(J1320,'Control Panel'!$I$27:$K$68,2,FALSE)","v":"SW2"},1,null,null,null,null,null,1,"F84041",null,7644,23,20,20,20,20,10,14,13,12,12,12,25,22,24,23,24,23,12]
["2019-09-01",{"$f":"VLOOKUP(J1321,'Control Panel'!$I$27:$K$68,2,FALSE)","v":"SE1"},1,null,null,null,null,null,1,"F84060",null,4816,9,9,9,9,8,4,11,9,8,8,8,11,9,10,6,9,6,8]
["2019-09-01",{"$f":"VLOOKUP(J1322,'Control Panel'!$I$27:$K$68,2,FALSE)","v":"SW1"},1,null,null,null,null,null,1,"F84063",null,6022,11,11,11,11,11,7,22,21,18,18,17,9,2,2,7,2,7,18]
["2019-09-01",{"$f":"VLOOKUP(J1323,'Control Panel'!$I$27:$K$68,2,FALSE)","v":"SE2"},1,null,null,null,null,null,1,"F84069",null,14521,49,47,47,47,44,17,45,39,33,33,35,43,41,40,32,40,33,33]
["2019-09-01",{"$f":"VLOOKUP(J1324,'Control Panel'!$I$27:$K$68,2,FALSE)","v":"SW2"},1,null,null,null,null,null,1,"F84072",null,10820,36,31,31,31,30,13,37,37,35,35,36,26,23,23,21,21,21,36]
["2019-09-01",{"$f":"VLOOKUP(J1325,'Control Panel'!$I$27:$K$68,2,FALSE)","v":"NE2"},0,null,null,null,null,null,1,"F84080",null,4873,18,10,10,10,8,1,25,19,13,14,15,19,15,15,8,11,8,16]
["2019-09-01",{"$f":"VLOOKUP(J1326,'Control Panel'!$I$27:$K$68,2,FALSE)","v":"SW2"},1,null,null,null,null,null,1,"F84096",null,13036,33,30,31,30,27,11,29,27,27,26,26,32,32,32,27,32,28,26]
["2019-09-01",{"$f":"VLOOKUP(J1327,'Control Panel'!$I$27:$K$68,2,FALSE)","v":"SE1"},1,null,null,null,null,null,1,"F84105",null,11769,31,30,31,31,29,7,34,31,25,26,26,33,32,31,27,31,27,26]
["2019-09-01",{"$f":"VLOOKUP(J1328,'Control Panel'!$I$27:$K$68,2,FALSE)","v":"NW1"},1,null,null,null,null,null,1,"F84115",null,8760,29,29,28,29,28,3,27,27,25,25,25,21,20,21,15,20,18,25]
["2019-09-01",{"$f":"VLOOKUP(J1329,'Control Panel'!$I$27:$K$68,2,FALSE)","v":"SW1"},1,null,null,null,null,null,1,"F84117",null,10195,25,20,20,20,19,7,30,29,26,25,25,21,21,21,16,21,16,26]
["2019-09-01",{"$f":"VLOOKUP(J1330,'Control Panel'!$I$27:$K$68,2,FALSE)","v":"NW1"},1,null,null,null,null,null,1,"F84119",null,12428,47,43,42,43,41,16,43,40,38,36,36,39,32,29,23,30,25,35]
["2019-09-01",{"$f":"VLOOKUP(J1331,'Control Panel'!$I$27:$K$68,2,FALSE)","v":"SE2"},1,null,null,null,null,null,1,"F84601",null,6955,27,23,21,23,25,10,22,17,16,16,16,27,23,23,19,24,20,16]
["2019-09-01",{"$f":"VLOOKUP(J1332,'Control Panel'!$I$27:$K$68,2,FALSE)","v":"NE2"},0,null,null,null,null,null,1,"F84619",null,4628,19,14,14,14,13,2,16,15,15,15,15,12,10,12,11,10,10,14]
["2019-09-01",{"$f":"VLOOKUP(J1333,'Control Panel'!$I$27:$K$68,2,FALSE)","v":"SE2"},1,null,null,null,null,null,1,"F84620",null,6801,20,17,18,18,17,1,16,13,10,11,10,16,16,14,9,14,9,10]
["2019-09-01",{"$f":"VLOOKUP(J1334,'Control Panel'!$I$27:$K$68,2,FALSE)","v":"SW1"},1,null,null,null,null,null,1,"F84621",null,3850,10,9,9,9,9,1,4,4,3,4,4,10,10,9,8,10,8,4]
["2019-09-01",{"$f":"VLOOKUP(J1335,'Control Panel'!$I$27:$K$68,2,FALSE)","v":"NW2"},1,null,null,null,null,null,1,"F84624",null,1715,5,5,5,5,5,2,1,1,1,1,1,2,2,2,2,2,2,1]
["2019-09-01",{"$f":"VLOOKUP(J1336,'Control Panel'!$I$27:$K$68,2,FALSE)","v":"SE2"},1,null,null,null,null,null,1,"F84632",null,1045,0,0,0,0,0,0,0,0,0,0,0,0,0,0,0,0,0,0]
["2019-09-01",{"$f":"VLOOKUP(J1337,'Control Panel'!$I$27:$K$68,2,FALSE)","v":"SW2"},1,null,null,null,null,null,1,"F84635",null,9084,17,14,14,15,15,6,17,13,11,11,11,15,12,11,8,13,10,12]
["2019-09-01",{"$f":"VLOOKUP(J1338,'Control Panel'!$I$27:$K$68,2,FALSE)","v":"NW2"},1,null,null,null,null,null,1,"F84636",null,5389,9,9,8,9,7,4,12,10,9,9,9,11,9,9,9,8,10,9]
["2019-09-01",{"$f":"VLOOKUP(J1339,'Control Panel'!$I$27:$K$68,2,FALSE)","v":"City"},1,null,null,null,null,null,1,"F84640",null,9345,20,18,17,19,18,6,22,21,21,21,21,8,7,7,7,7,7,21]
["2019-09-01",{"$f":"VLOOKUP(J1340,'Control Panel'!$I$27:$K$68,2,FALSE)","v":"NE2"},0,null,null,null,null,null,1,"F84668",null,6587,37,16,21,21,16,4,34,19,26,16,22,45,38,41,21,41,23,21]
["2019-09-01",{"$f":"VLOOKUP(J1341,'Control Panel'!$I$27:$K$68,2,FALSE)","v":"NE2"},0,null,null,null,null,null,1,"F84685",null,3033,11,4,4,4,3,3,13,10,10,9,9,9,6,8,6,6,6,7]
["2019-09-01",{"$f":"VLOOKUP(J1342,'Control Panel'!$I$27:$K$68,2,FALSE)","v":"NE1"},0,null,null,null,null,null,1,"F84686",null,7813,63,18,17,19,16,1,67,35,50,42,40,55,41,48,28,44,33,37]
["2019-09-01",{"$f":"VLOOKUP(J1343,'Control Panel'!$I$27:$K$68,2,FALSE)","v":"SW2"},1,null,null,null,null,null,1,"F84692",null,7220,14,12,12,12,12,2,21,17,17,17,17,21,19,18,15,18,15,17]
["2019-09-01",{"$f":"VLOOKUP(J1344,'Control Panel'!$I$27:$K$68,2,FALSE)","v":"NW2"},1,null,null,null,null,null,1,"F84694",null,4307,14,13,12,13,10,2,3,2,2,2,2,10,10,10,8,9,9,2]
["2019-09-01",{"$f":"VLOOKUP(J1345,'Control Panel'!$I$27:$K$68,2,FALSE)","v":"NE2"},0,null,null,null,null,null,1,"F84711",null,1968,2,1,1,1,0,0,9,8,7,6,7,8,8,7,5,5,6,7]
["2019-09-01",{"$f":"VLOOKUP(J1346,'Control Panel'!$I$27:$K$68,2,FALSE)","v":"NW1"},{"$f":"IF(LEFT(B1346,2)=\"NE\",0,1)","v":1},null,null,null,null,null,1,"F84716",null,5654,30,14,18,18,14,6,22,14,17,15,16,22,17,17,12,14,13,14]
["2019-09-01",{"$f":"VLOOKUP(J1347,'Control Panel'!$I$27:$K$68,2,FALSE)","v":"SE1"},1,null,null,null,null,null,1,"F84719",null,5378,11,10,10,10,10,2,14,13,12,12,12,8,7,6,5,6,7,13]
["2019-09-01",{"$f":"VLOOKUP(J1348,'Control Panel'!$I$27:$K$68,2,FALSE)","v":"NE2"},0,null,null,null,null,null,{"$f":"IF(J1348=\"Total\",0,1)","v":1},"F84720",null,5551,23,12,11,12,12,0,25,21,15,14,15,18,13,12,10,13,11,13]
["2019-09-01",{"$f":"VLOOKUP(J1349,'Control Panel'!$I$27:$K$68,2,FALSE)","v":"SE2"},1,null,null,null,null,null,1,"Y00403",null,6835,19,15,15,16,16,0,13,12,8,10,9,14,12,12,10,11,11,9]
["2019-09-01",{"$f":"VLOOKUP(J1350,'Control Panel'!$I$27:$K$68,2,FALSE)","v":"NE1"},0,null,null,null,null,null,1,"Y03049",null,14398,57,26,27,27,18,9,78,41,51,45,41,75,61,63,41,55,43,38]
["2019-09-01",{"$f":"VLOOKUP(J1351,'Control Panel'!$I$27:$K$68,2,FALSE)","v":{"$error":"#N/A"}},{"$error":"#N/A"},null,null,null,null,null,0,"Total",null,326292,1091,808,813,834,763,221,1113,896,876,817,836,1028,892,895,709,855,747,815]
["2019-10-01",{"$f":"VLOOKUP(J1352,'Control Panel'!$I$27:$K$68,2,FALSE)","v":{"$error":"#N/A"}},{"$error":"#N/A"},null,"Last Run:",null,"Population Count",340614,1,null,"Search","All Patients","(01) 12 MONTH COHORT","(01.01) DTaP/IPV/Hib/HepB","(01.02) Men B (1st and 2nd)","(01.03) PCV","(01.04) Rotavirus","(01.05) BCG","(02) 24 MONTH COHORT","(02.01) DTaP/IPV/Hib or DTaP/IPV/Hib/HepB","(02.02) MMR","(02.03) HiB/Men C","(02.04) PCV (Booster)","(03) 5 YEAR COHORT","(03.01) DTaP/IPV/Hib or DTaP/IPV/Hib/HepB","(03.02) MMR (Primary)","(03.03) DTaP/IPV (Booster)","(03.04) HiB/Men C","(03.05) MMR (Booster)","(02.05) Men B (Booster)"]
["2019-10-01",{"$f":"VLOOKUP(J1353,'Control Panel'!$I$27:$K$68,2,FALSE)","v":{"$error":"#N/A"}},{"$error":"#N/A"},null,"2019-11-04T12:11:00",null,"Males",168860,1,"Organisation Code"]
["2019-10-01",{"$f":"VLOOKUP(J1354,'Control Panel'!$I$27:$K$68,2,FALSE)","v":"SE1"},1,null,"Relative Date:",null,"Females",171754,1,"F84003",null,15396,44,39,39,40,39,4,31,28,26,26,26,44,42,40,39,41,37,26]
["2019-10-01",{"$f":"VLOOKUP(J1355,'Control Panel'!$I$27:$K$68,2,FALSE)","v":"NW2"},1,null,"2019-11-01",null,null,null,1,"F84008",null,13048,37,34,34,34,33,5,35,32,33,33,33,41,41,34,36,34,36,33]
["2019-10-01",{"$f":"VLOOKUP(J1356,'Control Panel'!$I$27:$K$68,2,FALSE)","v":"NE1"},0,null,null,null,null,null,1,"F84013",null,15344,134,52,57,56,39,3,113,67,69,40,50,101,70,80,40,68,45,51]
["2019-10-01",{"$f":"VLOOKUP(J1357,'Control Panel'!$I$27:$K$68,2,FALSE)","v":"SE1"},1,null,null,null,null,null,1,"F84015",null,5705,10,8,8,8,6,5,16,13,11,11,12,23,22,22,16,22,16,10]
["2019-10-01",{"$f":"VLOOKUP(J1358,'Control Panel'!$I$27:$K$68,2,FALSE)","v":"NE2"},0,null,null,null,null,null,1,"F84018",null,11909,42,37,37,37,36,11,30,26,21,21,21,46,40,41,38,40,39,21]
["2019-10-01",{"$f":"VLOOKUP(J1359,'Control Panel'!$I$27:$K$68,2,FALSE)","v":"SW1"},1,null,null,null,null,null,1,"F84021",null,10371,36,35,35,35,35,13,32,30,26,26,25,32,30,31,21,31,21,23]
["2019-10-01",{"$f":"VLOOKUP(J1360,'Control Panel'!$I$27:$K$68,2,FALSE)","v":"NW2"},1,null,null,null,null,null,1,"F84033",null,12114,37,36,34,36,33,13,28,28,26,26,26,27,25,25,22,25,23,26]
["2019-10-01",{"$f":"VLOOKUP(J1361,'Control Panel'!$I$27:$K$68,2,FALSE)","v":"SW1"},1,null,null,null,null,null,1,"F84035",null,9113,24,22,22,22,20,1,21,16,16,16,16,9,7,5,5,6,6,17]
["2019-10-01",{"$f":"VLOOKUP(J1362,'Control Panel'!$I$27:$K$68,2,FALSE)","v":"NW1"},1,null,null,null,null,null,1,"F84036",null,7265,28,24,24,25,24,14,25,23,24,24,23,20,16,15,15,15,16,23]
["2019-10-01",{"$f":"VLOOKUP(J1363,'Control Panel'!$I$27:$K$68,2,FALSE)","v":"SW1"},1,null,null,null,null,null,1,"F84038",null,4159,7,2,2,2,4,1,6,4,4,4,4,3,3,3,2,3,2,4]
["2019-10-01",{"$f":"VLOOKUP(J1364,'Control Panel'!$I$27:$K$68,2,FALSE)","v":"SW2"},1,null,null,null,null,null,1,"F84041",null,7638,24,21,21,23,21,11,22,21,21,21,21,13,11,12,11,12,10,21]
["2019-10-01",{"$f":"VLOOKUP(J1365,'Control Panel'!$I$27:$K$68,2,FALSE)","v":"SE1"},1,null,null,null,null,null,1,"F84060",null,4834,12,9,9,9,9,4,10,9,10,10,10,15,10,11,6,10,7,10]
["2019-10-01",{"$f":"VLOOKUP(J1366,'Control Panel'!$I$27:$K$68,2,FALSE)","v":"SW1"},1,null,null,null,null,null,1,"F84063",null,6030,13,12,12,12,12,10,11,10,8,8,8,7,2,6,6,6,6,8]
["2019-10-01",{"$f":"VLOOKUP(J1367,'Control Panel'!$I$27:$K$68,2,FALSE)","v":"SE2"},1,null,null,null,null,null,1,"F84069",null,14544,60,58,57,58,56,14,49,42,37,37,36,40,36,36,27,36,27,36]
["2019-10-01",{"$f":"VLOOKUP(J1368,'Control Panel'!$I$27:$K$68,2,FALSE)","v":"SW2"},1,null,null,null,null,null,1,"F84072",null,10901,40,31,31,32,36,11,39,37,31,31,30,27,22,24,16,22,18,32]
["2019-10-01",{"$f":"VLOOKUP(J1369,'Control Panel'!$I$27:$K$68,2,FALSE)","v":"NE2"},0,null,null,null,null,null,1,"F84080",null,4905,21,7,7,7,9,2,22,13,14,12,10,17,12,13,7,12,8,11]
["2019-10-01",{"$f":"VLOOKUP(J1370,'Control Panel'!$I$27:$K$68,2,FALSE)","v":"SW2"},1,null,null,null,null,null,1,"F84096",null,12972,31,24,24,24,22,15,33,32,27,27,27,29,27,26,22,27,22,27]
["2019-10-01",{"$f":"VLOOKUP(J1371,'Control Panel'!$I$27:$K$68,2,FALSE)","v":"SE1"},1,null,null,null,null,null,1,"F84105",null,11719,38,34,34,34,34,5,32,30,28,29,29,36,33,34,26,35,25,28]
["2019-10-01",{"$f":"VLOOKUP(J1372,'Control Panel'!$I$27:$K$68,2,FALSE)","v":"NW1"},1,null,null,null,null,null,1,"F84115",null,8782,28,26,25,26,25,6,24,22,21,20,19,19,19,19,16,19,17,20]
["2019-10-01",{"$f":"VLOOKUP(J1373,'Control Panel'!$I$27:$K$68,2,FALSE)","v":"SW1"},1,null,null,null,null,null,1,"F84117",null,10240,28,28,28,28,25,4,21,17,17,17,17,30,28,28,23,27,25,17]
["2019-10-01",{"$f":"VLOOKUP(J1374,'Control Panel'!$I$27:$K$68,2,FALSE)","v":"NW1"},1,null,null,null,null,null,1,"F84119",null,12433,51,41,42,42,42,24,34,33,29,29,26,34,27,28,23,27,22,26]
["2019-10-01",{"$f":"VLOOKUP(J1375,'Control Panel'!$I$27:$K$68,2,FALSE)","v":"SE2"},1,null,null,null,null,null,1,"F84601",null,7024,27,23,22,23,20,12,16,13,12,11,12,30,23,20,16,20,17,12]
["2019-10-01",{"$f":"VLOOKUP(J1376,'Control Panel'!$I$27:$K$68,2,FALSE)","v":"NE2"},0,null,null,null,null,null,1,"F84619",null,4637,21,18,17,17,17,3,11,10,10,10,10,14,14,14,12,14,12,10]
["2019-10-01",{"$f":"VLOOKUP(J1377,'Control Panel'!$I$27:$K$68,2,FALSE)","v":"SE2"},1,null,null,null,null,null,1,"F84620",null,6843,22,15,16,16,16,2,18,16,16,15,16,18,16,15,13,15,13,17]
["2019-10-01",{"$f":"VLOOKUP(J1378,'Control Panel'!$I$27:$K$68,2,FALSE)","v":"SW1"},1,null,null,null,null,null,1,"F84621",null,3874,15,9,10,10,12,5,10,8,8,9,8,9,9,9,8,9,8,8]
["2019-10-01",{"$f":"VLOOKUP(J1379,'Control Panel'!$I$27:$K$68,2,FALSE)","v":"SE2"},1,null,null,null,null,null,1,"F84632",null,1056,0,0,0,0,0,0,0,0,0,0,0,0,0,0,0,0,0,0]
["2019-10-01",{"$f":"VLOOKUP(J1380,'Control Panel'!$I$27:$K$68,2,FALSE)","v":"SW2"},1,null,null,null,null,null,1,"F84635",null,9118,23,21,21,21,20,8,24,22,17,17,18,18,13,14,12,14,12,18]
["2019-10-01",{"$f":"VLOOKUP(J1381,'Control Panel'!$I$27:$K$68,2,FALSE)","v":"NW2"},1,null,null,null,null,null,1,"F84636",null,5482,11,10,9,10,9,4,18,13,10,9,10,8,6,5,6,5,6,10]
["2019-10-01",{"$f":"VLOOKUP(J1382,'Control Panel'!$I$27:$K$68,2,FALSE)","v":"City"},1,null,null,null,null,null,1,"F84640",null,9381,18,17,17,17,17,5,17,16,16,16,15,11,10,9,7,9,8,16]
["2019-10-01",{"$f":"VLOOKUP(J1383,'Control Panel'!$I$27:$K$68,2,FALSE)","v":"NE2"},0,null,null,null,null,null,1,"F84668",null,6572,48,23,25,26,23,5,38,24,29,24,22,45,40,40,27,39,31,18]
["2019-10-01",{"$f":"VLOOKUP(J1384,'Control Panel'!$I$27:$K$68,2,FALSE)","v":"NE2"},0,null,null,null,null,null,1,"F84685",null,3073,12,10,10,10,9,5,12,9,9,9,9,14,14,14,10,13,10,9]
["2019-10-01",{"$f":"VLOOKUP(J1385,'Control Panel'!$I$27:$K$68,2,FALSE)","v":"NE1"},0,null,null,null,null,null,1,"F84686",null,7809,80,22,25,24,14,0,69,36,42,35,33,71,56,60,38,57,46,33]
["2019-10-01",{"$f":"VLOOKUP(J1386,'Control Panel'!$I$27:$K$68,2,FALSE)","v":"SW2"},1,null,null,null,null,null,1,"F84692",null,7367,12,12,12,12,10,4,11,9,10,10,10,10,8,7,7,7,7,10]
["2019-10-01",{"$f":"VLOOKUP(J1387,'Control Panel'!$I$27:$K$68,2,FALSE)","v":"NW2"},1,null,null,null,null,null,1,"F84694",null,4300,12,11,11,11,10,7,10,8,8,7,7,4,4,4,2,4,2,7]
["2019-10-01",{"$f":"VLOOKUP(J1388,'Control Panel'!$I$27:$K$68,2,FALSE)","v":"NE2"},0,null,null,null,null,null,1,"F84711",null,1970,7,7,7,7,7,4,5,5,5,5,5,4,4,4,3,4,3,5]
["2019-10-01",{"$f":"VLOOKUP(J1389,'Control Panel'!$I$27:$K$68,2,FALSE)","v":"NW1"},1,null,null,null,null,null,1,"F84716",null,5709,30,23,21,23,19,6,27,21,21,18,21,24,20,20,15,20,17,18]
["2019-10-01",{"$f":"VLOOKUP(J1390,'Control Panel'!$I$27:$K$68,2,FALSE)","v":"SE1"},1,null,null,null,null,null,1,"F84719",null,5377,18,17,15,17,17,5,9,6,7,7,7,14,13,13,11,13,14,7]
["2019-10-01",{"$f":"VLOOKUP(J1391,'Control Panel'!$I$27:$K$68,2,FALSE)","v":"NE2"},0,null,null,null,null,null,1,"F84720",null,5577,12,8,7,8,7,1,27,18,16,15,16,19,16,17,14,17,14,14]
["2019-10-01",{"$f":"VLOOKUP(J1392,'Control Panel'!$I$27:$K$68,2,FALSE)","v":"SE2"},1,null,null,null,null,null,1,"Y00403",null,6778,17,15,15,15,15,2,20,17,15,14,13,14,14,13,12,13,12,15]
["2019-10-01",{"$f":"VLOOKUP(J1393,'Control Panel'!$I$27:$K$68,2,FALSE)","v":"NE1"},0,null,null,null,null,null,1,"Y03049",null,14523,55,30,30,30,17,18,81,49,55,50,40,60,44,48,30,48,29,40]
["2019-10-01",{"$f":"VLOOKUP(J1394,'Control Panel'!$I$27:$K$68,2,FALSE)","v":{"$error":"#N/A"}},{"$error":"#N/A"},null,null,null,null,null,0,"Total",null,325892,1185,871,872,887,819,272,1057,833,805,749,741,1000,847,859,660,839,689,737]
["2019-10-01",{"$f":"VLOOKUP(J1395,'Control Panel'!$I$27:$K$68,2,FALSE)","v":{"$error":"#N/A"}},{"$error":"#N/A"},null,null,null,null,null,1]
["2019-11-01",{"$f":"VLOOKUP(J1396,'Control Panel'!$I$27:$K$68,2,FALSE)","v":{"$error":"#N/A"}},{"$error":"#N/A"},null,"Last Run:",null,"Population Count",342692,1,null,"Search","All Patients","(01) 12 MONTH COHORT","(01.01) DTaP/IPV/Hib/HepB","(01.02) Men B (1st and 2nd)","(01.03) PCV","(01.04) Rotavirus","(01.05) BCG","(02) 24 MONTH COHORT","(02.01) DTaP/IPV/Hib or DTaP/IPV/Hib/HepB","(02.02) MMR","(02.03) HiB/Men C","(02.04) PCV (Booster)","(03) 5 YEAR COHORT","(03.01) DTaP/IPV/Hib or DTaP/IPV/Hib/HepB","(03.02) MMR (Primary)","(03.03) DTaP/IPV (Booster)","(03.04) HiB/Men C","(03.05) MMR (Booster)","(02.05) Men B (Booster)"]
["2019-11-01",{"$f":"VLOOKUP(J1397,'Control Panel'!$I$27:$K$68,2,FALSE)","v":{"$error":"#N/A"}},{"$error":"#N/A"},null,"2019-12-02T20:54:00",null,"Males",170116,1,"Organisation Code"]
["2019-11-01",{"$f":"VLOOKUP(J1398,'Control Panel'!$I$27:$K$68,2,FALSE)","v":"SE1"},1,null,"Relative Date:",null,"Females",172576,1,"F84003",null,15431,47,40,40,42,40,4,31,28,26,26,26,45,43,41,40,42,38,26]
["2019-11-01",{"$f":"VLOOKUP(J1399,'Control Panel'!$I$27:$K$68,2,FALSE)","v":"NW2"},1,null,"2019-12-01",null,null,null,1,"F84008",null,13198,38,34,34,35,33,7,35,33,33,33,33,41,41,34,36,34,36,34]
["2019-11-01",{"$f":"VLOOKUP(J1400,'Control Panel'!$I$27:$K$68,2,FALSE)","v":"NE1"},0,null,null,null,null,null,1,"F84013",null,15379,134,56,59,61,39,3,114,67,71,43,52,102,71,81,41,69,47,54]
["2019-11-01",{"$f":"VLOOKUP(J1401,'Control Panel'!$I$27:$K$68,2,FALSE)","v":"SE1"},1,null,null,null,null,null,1,"F84015",null,5703,10,8,8,8,6,5,15,13,12,12,13,23,22,22,16,22,16,11]
["2019-11-01",{"$f":"VLOOKUP(J1402,'Control Panel'!$I$27:$K$68,2,FALSE)","v":"NE2"},0,null,null,null,null,null,1,"F84018",null,11925,43,37,37,37,36,11,30,26,21,21,21,47,39,40,37,39,38,21]
["2019-11-01",{"$f":"VLOOKUP(J1403,'Control Panel'!$I$27:$K$68,2,FALSE)","v":"SW1"},1,null,null,null,null,null,1,"F84021",null,10376,36,35,35,35,35,13,32,30,26,26,25,32,30,31,21,31,21,23]
["2019-11-01",{"$f":"VLOOKUP(J1404,'Control Panel'!$I$27:$K$68,2,FALSE)","v":"NW2"},1,null,null,null,null,null,1,"F84033",null,12105,34,33,31,33,30,12,27,27,25,25,25,27,25,25,22,25,23,25]
["2019-11-01",{"$f":"VLOOKUP(J1405,'Control Panel'!$I$27:$K$68,2,FALSE)","v":"SW1"},1,null,null,null,null,null,1,"F84035",null,9252,23,22,22,22,20,2,22,16,16,16,16,8,6,4,4,5,5,17]
["2019-11-01",{"$f":"VLOOKUP(J1406,'Control Panel'!$I$27:$K$68,2,FALSE)","v":"NW1"},1,null,null,null,null,null,1,"F84036",null,7267,28,24,24,25,24,14,24,22,23,23,22,20,16,15,15,15,16,22]
["2019-11-01",{"$f":"VLOOKUP(J1407,'Control Panel'!$I$27:$K$68,2,FALSE)","v":"SW1"},1,null,null,null,null,null,1,"F84038",null,4189,6,2,2,2,4,1,6,4,4,4,4,3,3,3,2,3,2,4]
["2019-11-01",{"$f":"VLOOKUP(J1408,'Control Panel'!$I$27:$K$68,2,FALSE)","v":"SW2"},1,null,null,null,null,null,1,"F84041",null,7646,24,21,21,23,21,11,22,21,21,21,21,13,11,12,11,12,10,21]
["2019-11-01",{"$f":"VLOOKUP(J1409,'Control Panel'!$I$27:$K$68,2,FALSE)","v":"SE1"},1,null,null,null,null,null,1,"F84060",null,4838,12,9,9,9,9,4,10,9,10,10,10,15,10,11,6,10,7,10]
["2019-11-01",{"$f":"VLOOKUP(J1410,'Control Panel'!$I$27:$K$68,2,FALSE)","v":"SW1"},{"$f":"IF(LEFT(B1410,2)=\"NE\",0,1)","v":1},null,null,null,null,null,1,"F84063",null,6003,12,12,12,12,12,10,10,10,8,8,8,7,2,6,6,6,6,8]
["2019-11-01",{"$f":"VLOOKUP(J1411,'Control Panel'!$I$27:$K$68,2,FALSE)","v":"SE2"},1,null,null,null,null,null,1,"F84069",null,14570,58,56,55,56,54,14,49,42,37,37,36,40,36,36,27,36,27,36]
["2019-11-01",{"$f":"VLOOKUP(J1412,'Control Panel'!$I$27:$K$68,2,FALSE)","v":"SW2"},1,null,null,null,null,null,{"$f":"IF(J1412=\"Total\",0,1)","v":1},"F84072",null,10953,40,31,31,32,36,11,39,37,31,31,30,28,23,25,19,23,20,32]
["2019-11-01",{"$f":"VLOOKUP(J1413,'Control Panel'!$I$27:$K$68,2,FALSE)","v":"NE2"},0,null,null,null,null,null,1,"F84080",null,4954,21,7,7,7,9,2,21,12,15,13,11,16,11,13,7,12,8,12]
["2019-11-01",{"$f":"VLOOKUP(J1414,'Control Panel'!$I$27:$K$68,2,FALSE)","v":"SW2"},1,null,null,null,null,null,1,"F84096",null,12928,30,23,23,23,21,14,33,32,27,27,27,29,27,26,22,27,22,27]
["2019-11-01",{"$f":"VLOOKUP(J1415,'Control Panel'!$I$27:$K$68,2,FALSE)","v":"SE1"},1,null,null,null,null,null,1,"F84105",null,11714,38,34,34,34,34,5,32,30,28,29,29,36,33,34,26,35,25,28]
["2019-11-01",{"$f":"VLOOKUP(J1416,'Control Panel'!$I$27:$K$68,2,FALSE)","v":"NW1"},1,null,null,null,null,null,1,"F84115",null,8796,27,25,24,25,24,6,24,22,21,20,20,19,19,19,16,19,17,20]
["2019-11-01",{"$f":"VLOOKUP(J1417,'Control Panel'!$I$27:$K$68,2,FALSE)","v":"SW1"},1,null,null,null,null,null,1,"F84117",null,10227,28,28,28,28,25,5,21,17,17,17,17,31,28,28,23,27,25,17]
["2019-11-01",{"$f":"VLOOKUP(J1418,'Control Panel'!$I$27:$K$68,2,FALSE)","v":"NW1"},1,null,null,null,null,null,1,"F84119",null,12429,51,42,42,43,42,24,34,33,29,29,26,34,26,28,23,27,22,26]
["2019-11-01",{"$f":"VLOOKUP(J1419,'Control Panel'!$I$27:$K$68,2,FALSE)","v":"SE2"},1,null,null,null,null,null,1,"F84601",null,7056,27,23,22,23,20,12,17,13,12,11,12,30,23,20,16,20,17,12]
["2019-11-01",{"$f":"VLOOKUP(J1420,'Control Panel'!$I$27:$K$68,2,FALSE)","v":"NE2"},0,null,null,null,null,null,1,"F84619",null,4643,20,17,16,16,16,4,12,11,11,11,11,14,14,14,12,14,12,11]
["2019-11-01",{"$f":"VLOOKUP(J1421,'Control Panel'!$I$27:$K$68,2,FALSE)","v":"SE2"},1,null,null,null,null,null,1,"F84620",null,6827,22,15,16,16,16,2,18,16,16,15,16,17,15,14,12,14,12,17]
["2019-11-01",{"$f":"VLOOKUP(J1422,'Control Panel'!$I$27:$K$68,2,FALSE)","v":"SW1"},1,null,null,null,null,null,1,"F84621",null,3887,15,9,10,10,12,5,9,7,7,8,7,9,9,9,8,9,8,7]
["2019-11-01",{"$f":"VLOOKUP(J1423,'Control Panel'!$I$27:$K$68,2,FALSE)","v":"NW2"},1,null,null,null,null,null,1,"F84624",null,1303,2,2,2,2,2,1,0,0,0,0,0,3,3,3,0,3,0,0]
["2019-11-01",{"$f":"VLOOKUP(J1424,'Control Panel'!$I$27:$K$68,2,FALSE)","v":"SE2"},1,null,null,null,null,null,1,"F84632",null,1046,0,0,0,0,0,0,0,0,0,0,0,0,0,0,0,0,0,0]
["2019-11-01",{"$f":"VLOOKUP(J1425,'Control Panel'!$I$27:$K$68,2,FALSE)","v":"SW2"},1,null,null,null,null,null,1,"F84635",null,9154,22,20,20,20,19,7,22,20,15,15,16,18,13,14,12,14,12,16]
["2019-11-01",{"$f":"VLOOKUP(J1426,'Control Panel'!$I$27:$K$68,2,FALSE)","v":"NW2"},1,null,null,null,null,null,1,"F84636",null,5513,11,10,9,10,9,4,17,13,10,9,10,8,6,5,6,5,6,10]
["2019-11-01",{"$f":"VLOOKUP(J1427,'Control Panel'!$I$27:$K$68,2,FALSE)","v":"City"},1,null,null,null,null,null,1,"F84640",null,9364,18,17,17,17,17,5,18,16,16,16,15,10,9,8,7,8,8,16]
["2019-11-01",{"$f":"VLOOKUP(J1428,'Control Panel'!$I$27:$K$68,2,FALSE)","v":"NE2"},0,null,null,null,null,null,1,"F84668",null,6547,48,23,26,27,23,5,37,24,29,24,22,45,40,40,27,39,31,18]
["2019-11-01",{"$f":"VLOOKUP(J1429,'Control Panel'!$I$27:$K$68,2,FALSE)","v":"NE2"},0,null,null,null,null,null,1,"F84685",null,3069,14,11,11,11,10,6,12,9,9,9,9,14,14,14,10,13,10,9]
["2019-11-01",{"$f":"VLOOKUP(J1430,'Control Panel'!$I$27:$K$68,2,FALSE)","v":"NE1"},0,null,null,null,null,null,1,"F84686",null,7843,82,24,26,25,14,0,68,36,42,34,32,72,57,61,39,58,47,33]
["2019-11-01",{"$f":"VLOOKUP(J1431,'Control Panel'!$I$27:$K$68,2,FALSE)","v":"SW2"},1,null,null,null,null,null,1,"F84692",null,7401,10,10,10,10,8,4,12,10,11,11,11,10,8,7,7,7,7,11]
["2019-11-01",{"$f":"VLOOKUP(J1432,'Control Panel'!$I$27:$K$68,2,FALSE)","v":"NW2"},1,null,null,null,null,null,1,"F84694",null,4233,12,11,11,11,10,7,8,7,7,6,6,4,4,4,2,4,2,6]
["2019-11-01",{"$f":"VLOOKUP(J1433,'Control Panel'!$I$27:$K$68,2,FALSE)","v":"NE2"},0,null,null,null,null,null,1,"F84711",null,1992,7,7,7,7,7,4,5,5,5,5,5,4,4,4,3,4,3,5]
["2019-11-01",{"$f":"VLOOKUP(J1434,'Control Panel'!$I$27:$K$68,2,FALSE)","v":"NW1"},1,null,null,null,null,null,1,"F84716",null,5792,29,22,20,22,18,6,27,21,21,18,21,24,21,21,16,21,18,18]
["2019-11-01",{"$f":"VLOOKUP(J1435,'Control Panel'!$I$27:$K$68,2,FALSE)","v":"SE1"},1,null,null,null,null,null,1,"F84719",null,5383,18,17,15,17,17,5,8,5,6,6,6,14,13,13,11,13,14,6]
["2019-11-01",{"$f":"VLOOKUP(J1436,'Control Panel'!$I$27:$K$68,2,FALSE)","v":"NE2"},0,null,null,null,null,null,1,"F84720",null,5568,12,8,7,8,7,1,27,18,16,15,16,19,16,17,14,17,14,14]
["2019-11-01",{"$f":"VLOOKUP(J1437,'Control Panel'!$I$27:$K$68,2,FALSE)","v":"SE2"},1,null,null,null,null,null,1,"Y00403",null,6792,17,15,15,15,15,2,20,17,15,14,13,14,14,13,12,13,12,15]
["2019-11-01",{"$f":"VLOOKUP(J1438,'Control Panel'!$I$27:$K$68,2,FALSE)","v":"NE1"},0,null,null,null,null,null,1,"Y03049",null,14667,55,30,30,30,17,18,80,51,57,52,41,60,44,48,31,48,30,42]
["2019-11-01",{"$f":"VLOOKUP(J1439,'Control Panel'!$I$27:$K$68,2,FALSE)","v":{"$error":"#N/A"}},{"$error":"#N/A"},null,null,null,null,null,0,"Total",null,327963,1181,870,868,889,811,276,1048,830,806,750,741,1005,849,863,665,843,694,740]
["2019-12-01",{"$f":"VLOOKUP(J1440,'Control Panel'!$I$27:$K$68,2,FALSE)","v":{"$error":"#N/A"}},{"$error":"#N/A"},null,"Last Run:",null,"Population Count",341287,1,null,"Search","All Patients","(01) 12 MONTH COHORT","(01.01) DTaP/IPV/Hib/HepB","(01.02) Men B (1st and 2nd)","(01.03) PCV","(01.04) Rotavirus","(01.05) BCG","(02) 24 MONTH COHORT","(02.01) DTaP/IPV/Hib or DTaP/IPV/Hib/HepB","(02.02) MMR","(02.03) HiB/Men C","(02.04) PCV (Booster)","(03) 5 YEAR COHORT","(03.01) DTaP/IPV/Hib or DTaP/IPV/Hib/HepB","(03.02) MMR (Primary)","(03.03) DTaP/IPV (Booster)","(03.04) HiB/Men C","(03.05) MMR (Booster)","(02.05) Men B (Booster)"]
["2019-12-01",{"$f":"VLOOKUP(J1441,'Control Panel'!$I$27:$K$68,2,FALSE)","v":{"$error":"#N/A"}},{"$error":"#N/A"},null,"2020-01-08T13:18:00",null,"Males",169390,1,"Organisation Code"]
["2019-12-01",{"$f":"VLOOKUP(J1442,'Control Panel'!$I$27:$K$68,2,FALSE)","v":"SE1"},1,null,"Relative Date:",null,"Females",171897,1,"F84003",null,15405,48,40,40,42,40,5,31,28,26,26,26,45,43,41,40,42,38,26]
["2019-12-01",{"$f":"VLOOKUP(J1443,'Control Panel'!$I$27:$K$68,2,FALSE)","v":"NW2"},1,null,"2020-01-01",null,null,null,1,"F84008",null,13134,38,34,34,35,33,7,33,31,31,31,31,40,40,33,35,33,35,32]
["2019-12-01",{"$f":"VLOOKUP(J1444,'Control Panel'!$I$27:$K$68,2,FALSE)","v":"NE1"},0,null,null,null,null,null,1,"F84013",null,15395,134,55,58,60,38,2,114,67,71,43,52,102,71,81,41,69,47,54]
["2019-12-01",{"$f":"VLOOKUP(J1445,'Control Panel'!$I$27:$K$68,2,FALSE)","v":"SE1"},1,null,null,null,null,null,1,"F84015",null,5706,11,8,8,8,6,5,15,13,12,12,13,24,22,22,16,22,16,11]
["2019-12-01",{"$f":"VLOOKUP(J1446,'Control Panel'!$I$27:$K$68,2,FALSE)","v":"NE2"},0,null,null,null,null,null,1,"F84018",null,11967,43,37,37,37,36,11,30,26,21,21,21,47,39,40,37,39,38,21]
["2019-12-01",{"$f":"VLOOKUP(J1447,'Control Panel'!$I$27:$K$68,2,FALSE)","v":"SW1"},1,null,null,null,null,null,1,"F84021",null,10390,36,35,35,35,35,13,31,29,26,26,25,32,30,31,21,31,21,23]
["2019-12-01",{"$f":"VLOOKUP(J1448,'Control Panel'!$I$27:$K$68,2,FALSE)","v":"NW2"},1,null,null,null,null,null,1,"F84033",null,12054,34,33,31,33,30,12,26,26,24,24,24,27,25,25,22,25,23,24]
["2019-12-01",{"$f":"VLOOKUP(J1449,'Control Panel'!$I$27:$K$68,2,FALSE)","v":"SW1"},1,null,null,null,null,null,1,"F84035",null,9358,23,22,22,22,20,3,22,16,16,16,16,9,6,4,4,5,5,17]
["2019-12-01",{"$f":"VLOOKUP(J1450,'Control Panel'!$I$27:$K$68,2,FALSE)","v":"NW1"},1,null,null,null,null,null,1,"F84036",null,7303,27,23,23,24,23,13,23,21,22,22,21,20,16,15,15,15,16,21]
["2019-12-01",{"$f":"VLOOKUP(J1451,'Control Panel'!$I$27:$K$68,2,FALSE)","v":"SW1"},1,null,null,null,null,null,1,"F84038",null,4186,6,2,2,2,4,1,6,4,4,4,4,3,3,3,2,3,2,4]
["2019-12-01",{"$f":"VLOOKUP(J1452,'Control Panel'!$I$27:$K$68,2,FALSE)","v":"SW2"},1,null,null,null,null,null,1,"F84041",null,7645,23,20,20,22,20,14,22,21,21,21,21,13,11,12,11,12,10,21]
["2019-12-01",{"$f":"VLOOKUP(J1453,'Control Panel'!$I$27:$K$68,2,FALSE)","v":"SE1"},1,null,null,null,null,null,1,"F84060",null,4827,11,8,8,8,8,4,10,9,10,10,10,15,10,11,6,10,7,10]
["2019-12-01",{"$f":"VLOOKUP(J1454,'Control Panel'!$I$27:$K$68,2,FALSE)","v":"SW1"},1,null,null,null,null,null,1,"F84063",null,6005,12,12,12,12,12,10,10,10,8,8,8,8,3,7,6,7,6,8]
["2019-12-01",{"$f":"VLOOKUP(J1455,'Control Panel'!$I$27:$K$68,2,FALSE)","v":"SE2"},1,null,null,null,null,null,1,"F84069",null,14496,57,55,54,55,53,13,48,41,37,37,36,38,34,34,25,34,25,36]
["2019-12-01",{"$f":"VLOOKUP(J1456,'Control Panel'!$I$27:$K$68,2,FALSE)","v":"SW2"},1,null,null,null,null,null,1,"F84072",null,10970,40,31,31,32,36,12,39,37,31,31,30,28,23,25,19,23,20,32]
["2019-12-01",{"$f":"VLOOKUP(J1457,'Control Panel'!$I$27:$K$68,2,FALSE)","v":"NE2"},0,null,null,null,null,null,1,"F84080",null,4981,22,7,7,7,9,2,22,12,16,13,11,16,11,13,7,12,8,12]
["2019-12-01",{"$f":"VLOOKUP(J1458,'Control Panel'!$I$27:$K$68,2,FALSE)","v":"SW2"},1,null,null,null,null,null,1,"F84096",null,12909,30,23,23,23,21,14,33,32,27,27,27,28,27,26,22,27,22,27]
["2019-12-01",{"$f":"VLOOKUP(J1459,'Control Panel'!$I$27:$K$68,2,FALSE)","v":"SE1"},1,null,null,null,null,null,1,"F84105",null,11616,38,34,34,34,34,5,31,29,27,28,28,36,33,34,26,35,25,27]
["2019-12-01",{"$f":"VLOOKUP(J1460,'Control Panel'!$I$27:$K$68,2,FALSE)","v":"NW1"},1,null,null,null,null,null,1,"F84115",null,8789,26,25,24,25,23,6,23,21,21,20,20,19,19,19,16,19,17,20]
["2019-12-01",{"$f":"VLOOKUP(J1461,'Control Panel'!$I$27:$K$68,2,FALSE)","v":"SW1"},1,null,null,null,null,null,1,"F84117",null,10095,24,24,24,24,21,5,20,17,17,17,17,31,29,29,24,28,26,17]
["2019-12-01",{"$f":"VLOOKUP(J1462,'Control Panel'!$I$27:$K$68,2,FALSE)","v":"NW1"},1,null,null,null,null,null,1,"F84119",null,12429,51,42,42,43,42,24,35,34,30,30,27,34,26,28,23,27,22,28]
["2019-12-01",{"$f":"VLOOKUP(J1463,'Control Panel'!$I$27:$K$68,2,FALSE)","v":"SE2"},1,null,null,null,null,null,1,"F84601",null,7132,27,23,22,23,20,12,19,14,14,13,14,30,23,20,16,20,17,14]
["2019-12-01",{"$f":"VLOOKUP(J1464,'Control Panel'!$I$27:$K$68,2,FALSE)","v":"NE2"},0,null,null,null,null,null,1,"F84619",null,4668,20,17,16,16,16,4,12,11,11,11,11,13,13,13,12,13,12,11]
["2019-12-01",{"$f":"VLOOKUP(J1465,'Control Panel'!$I$27:$K$68,2,FALSE)","v":"SE2"},1,null,null,null,null,null,1,"F84620",null,6827,22,15,16,16,16,2,17,15,15,14,15,17,15,14,12,14,12,16]
["2019-12-01",{"$f":"VLOOKUP(J1466,'Control Panel'!$I$27:$K$68,2,FALSE)","v":"SW1"},1,null,null,null,null,null,1,"F84621",null,3897,15,10,11,11,12,5,9,7,7,8,7,9,9,9,8,9,8,7]
["2019-12-01",{"$f":"VLOOKUP(J1467,'Control Panel'!$I$27:$K$68,2,FALSE)","v":"SE2"},1,null,null,null,null,null,1,"F84632",null,1026,0,0,0,0,0,0,0,0,0,0,0,0,0,0,0,0,0,0]
["2019-12-01",{"$f":"VLOOKUP(J1468,'Control Panel'!$I$27:$K$68,2,FALSE)","v":"SW2"},1,null,null,null,null,null,1,"F84635",null,9102,21,19,19,19,18,7,22,20,15,15,16,18,13,14,12,14,12,16]
["2019-12-01",{"$f":"VLOOKUP(J1469,'Control Panel'!$I$27:$K$68,2,FALSE)","v":"NW2"},1,null,null,null,null,null,1,"F84636",null,5680,10,9,8,9,8,3,18,14,11,10,11,8,6,5,6,5,6,11]
["2019-12-01",{"$f":"VLOOKUP(J1470,'Control Panel'!$I$27:$K$68,2,FALSE)","v":"City"},1,null,null,null,null,null,1,"F84640",null,9367,18,17,17,17,17,5,17,15,15,15,14,10,9,8,7,8,8,15]
["2019-12-01",{"$f":"VLOOKUP(J1471,'Control Panel'!$I$27:$K$68,2,FALSE)","v":"NE2"},0,null,null,null,null,null,1,"F84668",null,6527,47,23,26,27,23,5,37,24,29,24,23,45,40,40,27,39,31,19]
["2019-12-01",{"$f":"VLOOKUP(J1472,'Control Panel'!$I$27:$K$68,2,FALSE)","v":"NE2"},0,null,null,null,null,null,1,"F84685",null,3055,14,11,11,11,10,6,12,9,9,9,9,15,14,14,10,13,10,9]
["2019-12-01",{"$f":"VLOOKUP(J1473,'Control Panel'!$I$27:$K$68,2,FALSE)","v":"NE1"},0,null,null,null,null,null,1,"F84686",null,7862,83,24,27,26,13,0,68,36,42,34,32,72,57,61,39,58,47,33]
["2019-12-01",{"$f":"VLOOKUP(J1474,'Control Panel'!$I$27:$K$68,2,FALSE)","v":"SW2"},{"$f":"IF(LEFT(B1474,2)=\"NE\",0,1)","v":1},null,null,null,null,null,1,"F84692",null,7410,10,10,10,10,8,4,12,10,11,11,11,10,8,7,7,7,7,11]
["2019-12-01",{"$f":"VLOOKUP(J1475,'Control Panel'!$I$27:$K$68,2,FALSE)","v":"NW2"},1,null,null,null,null,null,1,"F84694",null,4241,11,10,10,10,9,6,8,7,7,6,6,4,4,4,2,4,2,6]
["2019-12-01",{"$f":"VLOOKUP(J1476,'Control Panel'!$I$27:$K$68,2,FALSE)","v":"NE2"},0,null,null,null,null,null,{"$f":"IF(J1476=\"Total\",0,1)","v":1},"F84711",null,2003,7,7,7,7,7,4,5,5,5,5,5,4,4,4,3,4,3,5]
["2019-12-01",{"$f":"VLOOKUP(J1477,'Control Panel'!$I$27:$K$68,2,FALSE)","v":"NW1"},1,null,null,null,null,null,1,"F84716",null,5786,29,22,20,22,18,7,26,21,21,18,21,24,21,21,16,21,18,18]
["2019-12-01",{"$f":"VLOOKUP(J1478,'Control Panel'!$I$27:$K$68,2,FALSE)","v":"SE1"},1,null,null,null,null,null,1,"F84719",null,5358,18,17,15,17,17,5,7,5,5,5,5,14,13,13,11,13,14,5]
["2019-12-01",{"$f":"VLOOKUP(J1479,'Control Panel'!$I$27:$K$68,2,FALSE)","v":"NE2"},0,null,null,null,null,null,1,"F84720",null,5549,12,8,7,8,7,1,26,18,15,15,16,18,16,17,14,17,14,14]
["2019-12-01",{"$f":"VLOOKUP(J1480,'Control Panel'!$I$27:$K$68,2,FALSE)","v":"SE2"},1,null,null,null,null,null,1,"Y00403",null,6836,17,15,15,15,15,2,20,17,15,14,13,14,14,13,12,13,12,15]
["2019-12-01",{"$f":"VLOOKUP(J1481,'Control Panel'!$I$27:$K$68,2,FALSE)","v":"NE1"},0,null,null,null,null,null,1,"Y03049",null,14690,55,31,31,31,17,19,80,51,57,52,41,59,43,47,30,47,29,42]
["2019-12-01",{"$f":"VLOOKUP(J1482,'Control Panel'!$I$27:$K$68,2,FALSE)","v":{"$error":"#N/A"}},{"$error":"#N/A"},null,null,null,null,null,0,"Total",null,326676,1170,858,857,878,795,278,1039,823,802,746,738,999,843,857,662,837,691,738]
["2020-01-01",{"$f":"VLOOKUP(J1483,'Control Panel'!$I$27:$K$68,2,FALSE)","v":{"$error":"#N/A"}},{"$error":"#N/A"},null,"Last Run:",null,"Population Count",341518,1,null,"Search","All Patients","(01) 12 MONTH COHORT","(01.01) DTaP/IPV/Hib/HepB","(01.02) Men B (1st and 2nd)","(01.03) PCV","(01.04) Rotavirus","(01.05) BCG","(02) 24 MONTH COHORT","(02.01) DTaP/IPV/Hib or DTaP/IPV/Hib/HepB","(02.02) MMR","(02.03) HiB/Men C","(02.04) PCV (Booster)","(03) 5 YEAR COHORT","(03.01) DTaP/IPV/Hib or DTaP/IPV/Hib/HepB","(03.02) MMR (Primary)","(03.03) DTaP/IPV (Booster)","(03.04) HiB/Men C","(03.05) MMR (Booster)","(02.05) Men B (Booster)"]
["2020-01-01",{"$f":"VLOOKUP(J1484,'Control Panel'!$I$27:$K$68,2,FALSE)","v":{"$error":"#N/A"}},{"$error":"#N/A"},null,"2020-02-03T13:08:00",null,"Males",169729,1,"Organisation Code"]
["2020-01-01",{"$f":"VLOOKUP(J1485,'Control Panel'!$I$27:$K$68,2,FALSE)","v":"SE1"},1,null,"Relative Date:",null,"Females",171789,1,"F84003",null,15518,44,32,32,32,32,7,30,27,26,26,26,43,40,40,33,39,34,26]
["2020-01-01",{"$f":"VLOOKUP(J1486,'Control Panel'!$I$27:$K$68,2,FALSE)","v":"NW2"},1,null,"2020-02-01",null,null,null,1,"F84008",null,13098,39,36,36,36,35,9,32,28,29,29,30,39,35,35,33,36,33,30]
["2020-01-01",{"$f":"VLOOKUP(J1487,'Control Panel'!$I$27:$K$68,2,FALSE)","v":"NE1"},0,null,null,null,null,null,1,"F84013",null,15434,102,34,36,43,28,3,99,45,50,33,33,104,77,84,53,69,56,30]
["2020-01-01",{"$f":"VLOOKUP(J1488,'Control Panel'!$I$27:$K$68,2,FALSE)","v":"SE1"},1,null,null,null,null,null,1,"F84015",null,5714,18,17,17,17,16,7,20,14,12,11,11,15,10,9,8,8,9,11]
["2020-01-01",{"$f":"VLOOKUP(J1489,'Control Panel'!$I$27:$K$68,2,FALSE)","v":"NE2"},0,null,null,null,null,null,1,"F84018",null,12022,50,40,39,40,41,15,48,40,35,35,36,32,29,29,29,29,29,34]
["2020-01-01",{"$f":"VLOOKUP(J1490,'Control Panel'!$I$27:$K$68,2,FALSE)","v":"SW1"},1,null,null,null,null,null,1,"F84021",null,10427,31,29,29,29,28,7,31,31,26,26,26,19,17,18,11,18,11,25]
["2020-01-01",{"$f":"VLOOKUP(J1491,'Control Panel'!$I$27:$K$68,2,FALSE)","v":"NW2"},1,null,null,null,null,null,1,"F84033",null,12048,23,22,22,22,22,9,35,33,33,33,33,24,24,24,21,24,22,34]
["2020-01-01",{"$f":"VLOOKUP(J1492,'Control Panel'!$I$27:$K$68,2,FALSE)","v":"SW1"},1,null,null,null,null,null,1,"F84035",null,9523,41,40,40,40,41,5,15,11,10,12,11,14,13,13,7,13,9,11]
["2020-01-01",{"$f":"VLOOKUP(J1493,'Control Panel'!$I$27:$K$68,2,FALSE)","v":"NW1"},1,null,null,null,null,null,1,"F84036",null,7313,21,21,21,21,20,7,22,16,17,16,17,16,15,16,16,16,16,17]
["2020-01-01",{"$f":"VLOOKUP(J1494,'Control Panel'!$I$27:$K$68,2,FALSE)","v":"SW1"},1,null,null,null,null,null,1,"F84038",null,4195,5,4,4,4,4,0,9,7,7,7,7,10,9,8,3,8,7,8]
["2020-01-01",{"$f":"VLOOKUP(J1495,'Control Panel'!$I$27:$K$68,2,FALSE)","v":"SW2"},1,null,null,null,null,null,1,"F84041",null,7680,16,15,15,15,15,7,13,12,12,12,12,19,18,16,14,16,13,12]
["2020-01-01",{"$f":"VLOOKUP(J1496,'Control Panel'!$I$27:$K$68,2,FALSE)","v":"SE1"},1,null,null,null,null,null,1,"F84060",null,4819,13,12,12,12,13,1,6,4,2,2,2,12,9,9,9,8,9,2]
["2020-01-01",{"$f":"VLOOKUP(J1497,'Control Panel'!$I$27:$K$68,2,FALSE)","v":"SW1"},1,null,null,null,null,null,1,"F84063",null,6018,9,9,9,9,8,5,8,6,6,6,6,17,5,14,13,15,13,6]
["2020-01-01",{"$f":"VLOOKUP(J1498,'Control Panel'!$I$27:$K$68,2,FALSE)","v":"SE2"},1,null,null,null,null,null,1,"F84069",null,14518,35,33,32,33,34,8,39,35,32,33,32,35,29,27,22,27,22,33]
["2020-01-01",{"$f":"VLOOKUP(J1499,'Control Panel'!$I$27:$K$68,2,FALSE)","v":"SW2"},1,null,null,null,null,null,1,"F84072",null,10991,35,30,29,30,33,13,34,33,31,32,33,33,30,31,26,30,27,33]
["2020-01-01",{"$f":"VLOOKUP(J1500,'Control Panel'!$I$27:$K$68,2,FALSE)","v":"NE2"},0,null,null,null,null,null,1,"F84080",null,4979,26,15,14,15,12,5,20,10,8,7,7,28,20,23,12,20,13,8]
["2020-01-01",{"$f":"VLOOKUP(J1501,'Control Panel'!$I$27:$K$68,2,FALSE)","v":"SW2"},1,null,null,null,null,null,1,"F84096",null,12914,38,32,32,31,34,18,33,29,23,23,26,35,34,35,27,35,28,24]
["2020-01-01",{"$f":"VLOOKUP(J1502,'Control Panel'!$I$27:$K$68,2,FALSE)","v":"SE1"},1,null,null,null,null,null,1,"F84105",null,11599,26,21,21,21,22,0,32,29,24,25,24,35,35,31,24,32,24,24]
["2020-01-01",{"$f":"VLOOKUP(J1503,'Control Panel'!$I$27:$K$68,2,FALSE)","v":"NW1"},1,null,null,null,null,null,1,"F84115",null,8792,24,21,21,22,21,10,27,27,27,27,27,25,24,24,22,24,22,26]
["2020-01-01",{"$f":"VLOOKUP(J1504,'Control Panel'!$I$27:$K$68,2,FALSE)","v":"SW1"},1,null,null,null,null,null,1,"F84117",null,10188,21,18,18,18,18,4,25,22,21,21,21,21,19,15,15,17,15,21]
["2020-01-01",{"$f":"VLOOKUP(J1505,'Control Panel'!$I$27:$K$68,2,FALSE)","v":"NW1"},1,null,null,null,null,null,1,"F84119",null,12450,43,39,39,39,40,19,44,40,37,37,36,36,32,32,30,30,30,36]
["2020-01-01",{"$f":"VLOOKUP(J1506,'Control Panel'!$I$27:$K$68,2,FALSE)","v":"SE2"},1,null,null,null,null,null,1,"F84601",null,7126,20,17,17,17,16,4,16,14,11,11,11,17,15,15,12,16,12,11]
["2020-01-01",{"$f":"VLOOKUP(J1507,'Control Panel'!$I$27:$K$68,2,FALSE)","v":"NE2"},0,null,null,null,null,null,1,"F84619",null,4685,15,13,13,13,12,3,13,10,8,8,9,15,13,13,12,13,12,10]
["2020-01-01",{"$f":"VLOOKUP(J1508,'Control Panel'!$I$27:$K$68,2,FALSE)","v":"SE2"},1,null,null,null,null,null,1,"F84620",null,6941,16,14,14,14,13,2,16,16,13,13,13,17,12,14,9,13,11,13]
["2020-01-01",{"$f":"VLOOKUP(J1509,'Control Panel'!$I$27:$K$68,2,FALSE)","v":"SW1"},1,null,null,null,null,null,1,"F84621",null,3931,6,5,5,5,4,0,16,14,12,12,12,5,5,5,4,5,4,12]
["2020-01-01",{"$f":"VLOOKUP(J1510,'Control Panel'!$I$27:$K$68,2,FALSE)","v":"SE2"},1,null,null,null,null,null,1,"F84632",null,1036,0,0,0,0,0,0,0,0,0,0,0,0,0,0,0,0,0,0]
["2020-01-01",{"$f":"VLOOKUP(J1511,'Control Panel'!$I$27:$K$68,2,FALSE)","v":"SW2"},1,null,null,null,null,null,1,"F84635",null,9165,28,25,25,25,24,8,24,19,16,15,15,18,15,12,11,13,12,15]
["2020-01-01",{"$f":"VLOOKUP(J1512,'Control Panel'!$I$27:$K$68,2,FALSE)","v":"NW2"},1,null,null,null,null,null,1,"F84636",null,5728,14,13,13,13,13,3,13,11,11,11,11,7,7,7,5,7,5,11]
["2020-01-01",{"$f":"VLOOKUP(J1513,'Control Panel'!$I$27:$K$68,2,FALSE)","v":"City"},1,null,null,null,null,null,1,"F84640",null,9396,12,10,10,10,10,1,17,17,17,17,15,11,11,11,10,10,10,16]
["2020-01-01",{"$f":"VLOOKUP(J1514,'Control Panel'!$I$27:$K$68,2,FALSE)","v":"NE2"},0,null,null,null,null,null,1,"F84668",null,6525,43,15,17,17,14,4,35,23,24,19,23,36,23,26,14,21,16,21]
["2020-01-01",{"$f":"VLOOKUP(J1515,'Control Panel'!$I$27:$K$68,2,FALSE)","v":"NE2"},0,null,null,null,null,null,1,"F84685",null,3039,9,6,6,6,5,0,14,13,13,12,12,12,9,9,5,8,6,11]
["2020-01-01",{"$f":"VLOOKUP(J1516,'Control Panel'!$I$27:$K$68,2,FALSE)","v":"NE1"},0,null,null,null,null,null,1,"F84686",null,7969,65,14,14,15,11,2,75,38,48,34,33,57,46,51,31,43,34,39]
["2020-01-01",{"$f":"VLOOKUP(J1517,'Control Panel'!$I$27:$K$68,2,FALSE)","v":"SW2"},1,null,null,null,null,null,1,"F84692",null,7440,15,13,12,13,10,7,13,10,9,10,10,16,16,13,11,13,11,10]
["2020-01-01",{"$f":"VLOOKUP(J1518,'Control Panel'!$I$27:$K$68,2,FALSE)","v":"NW2"},1,null,null,null,null,null,1,"F84694",null,4298,11,8,9,8,7,5,15,13,12,12,12,7,6,6,5,6,6,11]
["2020-01-01",{"$f":"VLOOKUP(J1519,'Control Panel'!$I$27:$K$68,2,FALSE)","v":"NE2"},0,null,null,null,null,null,1,"F84711",null,2005,7,5,5,5,6,1,1,1,1,1,1,5,4,4,2,3,4,1]
["2020-01-01",{"$f":"VLOOKUP(J1520,'Control Panel'!$I$27:$K$68,2,FALSE)","v":"NW1"},1,null,null,null,null,null,1,"F84716",null,5804,31,17,19,20,19,2,20,15,16,12,13,21,17,17,15,15,15,11]
["2020-01-01",{"$f":"VLOOKUP(J1521,'Control Panel'!$I$27:$K$68,2,FALSE)","v":"SE1"},1,null,null,null,null,null,1,"F84719",null,5352,12,11,11,11,11,2,18,17,13,12,14,14,14,14,12,14,12,14]
["2020-01-01",{"$f":"VLOOKUP(J1522,'Control Panel'!$I$27:$K$68,2,FALSE)","v":"NE2"},0,null,null,null,null,null,1,"F84720",null,5532,8,4,4,4,4,0,17,8,6,7,7,18,15,12,7,11,8,7]
["2020-01-01",{"$f":"VLOOKUP(J1523,'Control Panel'!$I$27:$K$68,2,FALSE)","v":"SE2"},1,null,null,null,null,null,1,"Y00403",null,6865,21,15,17,17,16,2,18,16,14,14,14,21,19,18,16,18,16,14]
["2020-01-01",{"$f":"VLOOKUP(J1524,'Control Panel'!$I$27:$K$68,2,FALSE)","v":"NE1"},0,null,null,null,null,null,1,"Y03049",null,14763,64,32,31,32,21,13,63,35,36,35,32,52,43,43,29,38,32,32]
["2020-01-01",{"$f":"VLOOKUP(J1525,'Control Panel'!$I$27:$K$68,2,FALSE)","v":{"$error":"#N/A"}},{"$error":"#N/A"},null,null,null,null,null,0,"Total",null,327840,1057,757,760,774,733,218,1026,789,748,708,713,961,814,823,638,781,668,710]
["2020-02-01",{"$f":"VLOOKUP(J1526,'Control Panel'!$I$27:$K$68,2,FALSE)","v":{"$error":"#N/A"}},{"$error":"#N/A"},null,"Last Run:",null,"Population Count",341645,1,null,"Search","All Patients","(01) 12 MONTH COHORT","(01.01) DTaP/IPV/Hib/HepB","(01.02) Men B (1st and 2nd)","(01.03) PCV","(01.04) Rotavirus","(01.05) BCG","(02) 24 MONTH COHORT","(02.01) DTaP/IPV/Hib or DTaP/IPV/Hib/HepB","(02.02) MMR","(02.03) HiB/Men C","(02.04) PCV (Booster)","(03) 5 YEAR COHORT","(03.01) DTaP/IPV/Hib or DTaP/IPV/Hib/HepB","(03.02) MMR (Primary)","(03.03) DTaP/IPV (Booster)","(03.04) HiB/Men C","(03.05) MMR (Booster)","(02.05) Men B (Booster)"]
["2020-02-01",{"$f":"VLOOKUP(J1527,'Control Panel'!$I$27:$K$68,2,FALSE)","v":{"$error":"#N/A"}},{"$error":"#N/A"},null,"2020-03-03T16:19:00",null,"Males",169917,1,"Organisation Code"]
["2020-02-01",{"$f":"VLOOKUP(J1528,'Control Panel'!$I$27:$K$68,2,FALSE)","v":"SE1"},1,null,"Relative Date:",null,"Females",171728,1,"F84003",null,15336,45,35,35,35,33,8,30,27,27,27,27,43,40,40,33,39,34,26]
["2020-02-01",{"$f":"VLOOKUP(J1529,'Control Panel'!$I$27:$K$68,2,FALSE)","v":"NW2"},1,null,"2020-03-01",null,null,null,1,"F84008",null,13046,39,36,36,36,35,10,31,27,28,28,29,39,35,35,33,36,33,29]
["2020-02-01",{"$f":"VLOOKUP(J1530,'Control Panel'!$I$27:$K$68,2,FALSE)","v":"NE1"},0,null,null,null,null,null,1,"F84013",null,15459,102,34,36,43,28,3,98,45,50,33,34,104,77,84,53,69,56,30]
["2020-02-01",{"$f":"VLOOKUP(J1531,'Control Panel'!$I$27:$K$68,2,FALSE)","v":"SE1"},1,null,null,null,null,null,1,"F84015",null,5729,18,17,17,17,16,7,20,14,12,11,11,15,10,9,8,8,9,11]
["2020-02-01",{"$f":"VLOOKUP(J1532,'Control Panel'!$I$27:$K$68,2,FALSE)","v":"NE2"},0,null,null,null,null,null,1,"F84018",null,12050,48,38,37,38,39,14,47,40,34,34,35,32,29,29,29,29,29,33]
["2020-02-01",{"$f":"VLOOKUP(J1533,'Control Panel'!$I$27:$K$68,2,FALSE)","v":"SW1"},1,null,null,null,null,null,1,"F84021",null,10448,31,29,29,29,28,7,31,31,26,26,26,19,17,18,11,18,11,25]
["2020-02-01",{"$f":"VLOOKUP(J1534,'Control Panel'!$I$27:$K$68,2,FALSE)","v":"NW2"},1,null,null,null,null,null,1,"F84033",null,12036,23,22,22,22,22,9,34,32,32,32,32,24,24,24,21,24,22,33]
["2020-02-01",{"$f":"VLOOKUP(J1535,'Control Panel'!$I$27:$K$68,2,FALSE)","v":"SW1"},1,null,null,null,null,null,1,"F84035",null,9646,42,41,41,41,42,5,15,11,10,12,11,14,13,13,7,13,9,11]
["2020-02-01",{"$f":"VLOOKUP(J1536,'Control Panel'!$I$27:$K$68,2,FALSE)","v":"NW1"},1,null,null,null,null,null,1,"F84036",null,7281,22,22,22,22,21,8,22,16,17,16,17,16,15,16,16,16,16,17]
["2020-02-01",{"$f":"VLOOKUP(J1537,'Control Panel'!$I$27:$K$68,2,FALSE)","v":"SW1"},1,null,null,null,null,null,1,"F84038",null,4206,5,4,4,4,4,0,9,7,7,7,7,10,9,8,3,8,7,8]
["2020-02-01",{"$f":"VLOOKUP(J1538,'Control Panel'!$I$27:$K$68,2,FALSE)","v":"SW2"},{"$f":"IF(LEFT(B1538,2)=\"NE\",0,1)","v":1},null,null,null,null,null,1,"F84041",null,7664,16,15,15,15,15,7,13,12,12,12,12,19,18,16,14,16,13,12]
["2020-02-01",{"$f":"VLOOKUP(J1539,'Control Panel'!$I$27:$K$68,2,FALSE)","v":"SE1"},1,null,null,null,null,null,1,"F84060",null,4828,13,12,12,12,13,1,6,4,2,2,2,12,8,8,8,7,8,2]
["2020-02-01",{"$f":"VLOOKUP(J1540,'Control Panel'!$I$27:$K$68,2,FALSE)","v":"SW1"},1,null,null,null,null,null,{"$f":"IF(J1540=\"Total\",0,1)","v":1},"F84063",null,6046,9,9,9,9,8,5,8,6,6,6,6,17,5,14,13,15,13,6]
["2020-02-01",{"$f":"VLOOKUP(J1541,'Control Panel'!$I$27:$K$68,2,FALSE)","v":"SE2"},1,null,null,null,null,null,1,"F84069",null,14507,34,33,32,33,33,7,39,35,32,33,32,35,29,27,22,27,22,33]
["2020-02-01",{"$f":"VLOOKUP(J1542,'Control Panel'!$I$27:$K$68,2,FALSE)","v":"SW2"},1,null,null,null,null,null,1,"F84072",null,11070,35,30,29,30,33,13,35,34,32,33,34,33,30,31,26,30,27,34]
["2020-02-01",{"$f":"VLOOKUP(J1543,'Control Panel'!$I$27:$K$68,2,FALSE)","v":"NE2"},0,null,null,null,null,null,1,"F84080",null,4982,25,14,13,14,11,4,20,11,8,7,7,28,20,23,13,20,14,8]
["2020-02-01",{"$f":"VLOOKUP(J1544,'Control Panel'!$I$27:$K$68,2,FALSE)","v":"SW2"},1,null,null,null,null,null,1,"F84096",null,12887,38,33,34,32,34,19,33,29,23,23,26,35,34,35,27,35,28,24]
["2020-02-01",{"$f":"VLOOKUP(J1545,'Control Panel'!$I$27:$K$68,2,FALSE)","v":"SE1"},1,null,null,null,null,null,1,"F84105",null,11584,27,21,21,22,23,0,32,29,24,25,24,35,35,31,24,32,24,24]
["2020-02-01",{"$f":"VLOOKUP(J1546,'Control Panel'!$I$27:$K$68,2,FALSE)","v":"NW1"},1,null,null,null,null,null,1,"F84115",null,8786,24,21,21,22,21,10,26,26,26,26,26,25,24,24,22,24,22,25]
["2020-02-01",{"$f":"VLOOKUP(J1547,'Control Panel'!$I$27:$K$68,2,FALSE)","v":"SW1"},1,null,null,null,null,null,1,"F84117",null,10068,20,19,19,19,17,3,25,22,23,23,23,21,19,15,15,17,15,23]
["2020-02-01",{"$f":"VLOOKUP(J1548,'Control Panel'!$I$27:$K$68,2,FALSE)","v":"NW1"},1,null,null,null,null,null,1,"F84119",null,12464,43,39,39,39,40,19,44,41,38,37,37,37,33,33,30,31,31,37]
["2020-02-01",{"$f":"VLOOKUP(J1549,'Control Panel'!$I$27:$K$68,2,FALSE)","v":"SE2"},1,null,null,null,null,null,1,"F84601",null,7150,20,17,17,17,16,4,16,14,11,11,11,17,15,15,12,16,12,11]
["2020-02-01",{"$f":"VLOOKUP(J1550,'Control Panel'!$I$27:$K$68,2,FALSE)","v":"NE2"},0,null,null,null,null,null,1,"F84619",null,4703,15,13,13,13,12,3,12,9,8,8,9,14,12,12,12,12,12,9]
["2020-02-01",{"$f":"VLOOKUP(J1551,'Control Panel'!$I$27:$K$68,2,FALSE)","v":"SE2"},1,null,null,null,null,null,1,"F84620",null,6925,16,14,14,14,13,3,15,15,13,13,13,17,12,14,9,13,11,13]
["2020-02-01",{"$f":"VLOOKUP(J1552,'Control Panel'!$I$27:$K$68,2,FALSE)","v":"SW1"},1,null,null,null,null,null,1,"F84621",null,3947,6,5,5,5,4,0,16,14,12,12,12,5,5,5,4,5,4,12]
["2020-02-01",{"$f":"VLOOKUP(J1553,'Control Panel'!$I$27:$K$68,2,FALSE)","v":"SE2"},1,null,null,null,null,null,1,"F84632",null,1042,0,0,0,0,0,0,0,0,0,0,0,0,0,0,0,0,0,0]
["2020-02-01",{"$f":"VLOOKUP(J1554,'Control Panel'!$I$27:$K$68,2,FALSE)","v":"SW2"},1,null,null,null,null,null,1,"F84635",null,9226,28,25,25,25,24,8,24,19,16,15,15,18,15,12,11,13,12,15]
["2020-02-01",{"$f":"VLOOKUP(J1555,'Control Panel'!$I$27:$K$68,2,FALSE)","v":"NW2"},1,null,null,null,null,null,1,"F84636",null,5765,15,14,14,14,14,4,13,11,11,11,11,7,7,7,5,7,5,11]
["2020-02-01",{"$f":"VLOOKUP(J1556,'Control Panel'!$I$27:$K$68,2,FALSE)","v":"City"},1,null,null,null,null,null,1,"F84640",null,9425,11,9,9,9,9,1,16,16,16,16,14,11,11,11,10,10,10,15]
["2020-02-01",{"$f":"VLOOKUP(J1557,'Control Panel'!$I$27:$K$68,2,FALSE)","v":"NE2"},0,null,null,null,null,null,1,"F84668",null,6513,44,16,18,18,15,4,35,23,24,19,23,36,23,26,15,21,17,21]
["2020-02-01",{"$f":"VLOOKUP(J1558,'Control Panel'!$I$27:$K$68,2,FALSE)","v":"NE2"},0,null,null,null,null,null,1,"F84685",null,3055,9,6,6,6,5,0,14,13,13,12,12,12,9,9,5,8,6,11]
["2020-02-01",{"$f":"VLOOKUP(J1559,'Control Panel'!$I$27:$K$68,2,FALSE)","v":"NE1"},0,null,null,null,null,null,1,"F84686",null,7968,67,14,14,15,11,2,76,41,49,35,35,57,46,51,32,43,35,41]
["2020-02-01",{"$f":"VLOOKUP(J1560,'Control Panel'!$I$27:$K$68,2,FALSE)","v":"SW2"},1,null,null,null,null,null,1,"F84692",null,7422,13,11,11,11,9,6,13,10,9,10,10,15,15,12,10,12,10,10]
["2020-02-01",{"$f":"VLOOKUP(J1561,'Control Panel'!$I$27:$K$68,2,FALSE)","v":"NW2"},1,null,null,null,null,null,1,"F84694",null,4355,11,8,9,8,7,5,15,13,12,12,12,7,6,6,5,6,6,11]
["2020-02-01",{"$f":"VLOOKUP(J1562,'Control Panel'!$I$27:$K$68,2,FALSE)","v":"NE2"},0,null,null,null,null,null,1,"F84711",null,1993,7,5,5,5,6,1,0,0,0,0,0,4,3,3,2,2,3,0]
["2020-02-01",{"$f":"VLOOKUP(J1563,'Control Panel'!$I$27:$K$68,2,FALSE)","v":"NW1"},1,null,null,null,null,null,1,"F84716",null,5796,31,17,19,20,19,2,19,14,15,11,12,21,17,17,15,15,15,10]
["2020-02-01",{"$f":"VLOOKUP(J1564,'Control Panel'!$I$27:$K$68,2,FALSE)","v":"SE1"},1,null,null,null,null,null,1,"F84719",null,5370,11,10,10,10,10,2,18,17,13,12,14,14,14,14,12,14,12,14]
["2020-02-01",{"$f":"VLOOKUP(J1565,'Control Panel'!$I$27:$K$68,2,FALSE)","v":"NE2"},0,null,null,null,null,null,1,"F84720",null,5536,8,4,4,4,4,0,18,9,6,7,7,18,15,12,7,11,8,7]
["2020-02-01",{"$f":"VLOOKUP(J1566,'Control Panel'!$I$27:$K$68,2,FALSE)","v":"SE2"},1,null,null,null,null,null,1,"Y00403",null,6901,22,16,18,18,17,2,18,16,15,15,15,21,19,18,16,18,16,15]
["2020-02-01",{"$f":"VLOOKUP(J1567,'Control Panel'!$I$27:$K$68,2,FALSE)","v":"NE1"},0,null,null,null,null,null,1,"Y03049",null,14756,64,32,31,32,21,13,62,34,35,34,31,53,44,44,31,39,33,31]
["2020-03-01",{"$f":"VLOOKUP(J1568,'Control Panel'!$I$27:$K$68,2,FALSE)","v":{"$error":"#N/A"}},{"$error":"#N/A"},null,null,null,null,null,0,"Total",null,327971,1057,760,765,778,732,219,1018,787,747,706,714,960,812,821,641,779,670,708]
["2020-03-01",{"$f":"VLOOKUP(J1569,'Control Panel'!$I$27:$K$68,2,FALSE)","v":{"$error":"#N/A"}},{"$error":"#N/A"},null,"Last Run:",null,"Population Count",341373,1,null,"Search","All Patients","(01) 12 MONTH COHORT","(01.01) DTaP/IPV/Hib/HepB","(01.02) Men B (1st and 2nd)","(01.03) PCV","(01.04) Rotavirus","(01.05) BCG","(02) 24 MONTH COHORT","(02.01) DTaP/IPV/Hib or DTaP/IPV/Hib/HepB","(02.02) MMR","(02.03) HiB/Men C","(02.04) PCV (Booster)","(03) 5 YEAR COHORT","(03.01) DTaP/IPV/Hib or DTaP/IPV/Hib/HepB","(03.02) MMR (Primary)","(03.03) DTaP/IPV (Booster)","(03.04) HiB/Men C","(03.05) MMR (Booster)","(02.05) Men B (Booster)"]
["2020-03-01",{"$f":"VLOOKUP(J1570,'Control Panel'!$I$27:$K$68,2,FALSE)","v":{"$error":"#N/A"}},{"$error":"#N/A"},null,"2020-04-02T09:41:00",null,"Males",169960,1,"Organisation Code"]
["2020-03-01",{"$f":"VLOOKUP(J1571,'Control Panel'!$I$27:$K$68,2,FALSE)","v":"SE1"},1,null,"Relative Date:",null,"Females",171413,1,"F84003",null,15298,43,34,34,34,32,8,30,27,27,27,27,43,40,40,34,39,35,26]
["2020-03-01",{"$f":"VLOOKUP(J1572,'Control Panel'!$I$27:$K$68,2,FALSE)","v":"NW2"},1,null,"2020-04-01",null,null,null,1,"F84008",null,13018,38,35,35,35,34,12,31,28,28,29,29,39,35,35,33,36,33,29]
["2020-03-01",{"$f":"VLOOKUP(J1573,'Control Panel'!$I$27:$K$68,2,FALSE)","v":"NE1"},0,null,null,null,null,null,1,"F84013",null,15436,103,34,36,43,28,3,98,45,50,33,34,103,76,83,52,68,55,31]
["2020-03-01",{"$f":"VLOOKUP(J1574,'Control Panel'!$I$27:$K$68,2,FALSE)","v":"SE1"},1,null,null,null,null,null,1,"F84015",null,5693,17,16,16,16,15,6,20,14,12,11,11,15,10,9,8,8,9,11]
["2020-03-01",{"$f":"VLOOKUP(J1575,'Control Panel'!$I$27:$K$68,2,FALSE)","v":"NE2"},0,null,null,null,null,null,1,"F84018",null,12015,48,38,37,38,39,14,47,40,34,34,35,32,29,29,29,29,29,33]
["2020-03-01",{"$f":"VLOOKUP(J1576,'Control Panel'!$I$27:$K$68,2,FALSE)","v":"SW1"},1,null,null,null,null,null,1,"F84021",null,10533,31,29,29,29,28,7,32,32,27,27,27,19,17,18,11,18,11,26]
["2020-03-01",{"$f":"VLOOKUP(J1577,'Control Panel'!$I$27:$K$68,2,FALSE)","v":"NW2"},1,null,null,null,null,null,1,"F84033",null,12037,23,22,22,22,22,9,34,32,32,32,32,24,24,24,21,24,22,33]
["2020-03-01",{"$f":"VLOOKUP(J1578,'Control Panel'!$I$27:$K$68,2,FALSE)","v":"SW1"},1,null,null,null,null,null,1,"F84035",null,9797,41,40,40,40,41,5,15,11,10,12,11,14,13,13,7,13,9,11]
["2020-03-01",{"$f":"VLOOKUP(J1579,'Control Panel'!$I$27:$K$68,2,FALSE)","v":"NW1"},1,null,null,null,null,null,1,"F84036",null,7290,22,22,22,22,21,8,22,16,17,16,17,16,15,16,16,16,16,17]
["2020-03-01",{"$f":"VLOOKUP(J1580,'Control Panel'!$I$27:$K$68,2,FALSE)","v":"SW1"},1,null,null,null,null,null,1,"F84038",null,4227,6,4,4,5,5,1,9,7,7,7,7,11,10,9,3,9,7,8]
["2020-03-01",{"$f":"VLOOKUP(J1581,'Control Panel'!$I$27:$K$68,2,FALSE)","v":"SW2"},1,null,null,null,null,null,1,"F84041",null,7641,16,15,15,15,15,7,13,12,12,12,12,19,18,16,14,16,13,12]
["2020-03-01",{"$f":"VLOOKUP(J1582,'Control Panel'!$I$27:$K$68,2,FALSE)","v":"SE1"},1,null,null,null,null,null,1,"F84060",null,4791,14,13,13,13,14,1,6,4,2,2,2,12,9,9,9,8,9,2]
["2020-03-01",{"$f":"VLOOKUP(J1583,'Control Panel'!$I$27:$K$68,2,FALSE)","v":"SW1"},1,null,null,null,null,null,1,"F84063",null,6058,9,8,8,8,7,4,9,7,7,7,7,17,5,14,13,15,13,6]
["2020-03-01",{"$f":"VLOOKUP(J1584,'Control Panel'!$I$27:$K$68,2,FALSE)","v":"SE2"},1,null,null,null,null,null,1,"F84069",null,14529,34,33,32,33,33,7,39,35,32,33,32,36,29,27,22,27,22,33]
["2020-03-01",{"$f":"VLOOKUP(J1585,'Control Panel'!$I$27:$K$68,2,FALSE)","v":"SW2"},1,null,null,null,null,null,1,"F84072",null,11055,35,30,29,30,33,14,35,34,32,33,34,32,30,31,26,30,27,34]
["2020-03-01",{"$f":"VLOOKUP(J1586,'Control Panel'!$I$27:$K$68,2,FALSE)","v":"NE2"},0,null,null,null,null,null,1,"F84080",null,4991,25,14,13,14,11,4,20,11,8,7,7,28,20,23,13,20,14,8]
["2020-03-01",{"$f":"VLOOKUP(J1587,'Control Panel'!$I$27:$K$68,2,FALSE)","v":"SW2"},1,null,null,null,null,null,1,"F84096",null,12838,38,33,34,32,34,19,33,29,23,23,26,35,34,35,27,35,28,24]
["2020-03-01",{"$f":"VLOOKUP(J1588,'Control Panel'!$I$27:$K$68,2,FALSE)","v":"SE1"},1,null,null,null,null,null,1,"F84105",null,11562,25,19,19,20,21,0,32,29,24,25,24,35,35,31,24,32,24,24]
["2020-03-01",{"$f":"VLOOKUP(J1589,'Control Panel'!$I$27:$K$68,2,FALSE)","v":"NW1"},1,null,null,null,null,null,1,"F84115",null,8765,24,21,21,22,21,10,26,26,26,26,26,25,24,24,22,24,22,25]
["2020-03-01",{"$f":"VLOOKUP(J1590,'Control Panel'!$I$27:$K$68,2,FALSE)","v":"SW1"},1,null,null,null,null,null,1,"F84117",null,10085,20,19,19,19,17,3,23,21,22,22,22,21,20,16,15,18,15,22]
["2020-03-01",{"$f":"VLOOKUP(J1591,'Control Panel'!$I$27:$K$68,2,FALSE)","v":"NW1"},1,null,null,null,null,null,1,"F84119",null,12462,44,41,40,41,41,19,45,42,38,37,37,37,33,33,30,31,31,37]
["2020-03-01",{"$f":"VLOOKUP(J1592,'Control Panel'!$I$27:$K$68,2,FALSE)","v":"SE2"},1,null,null,null,null,null,1,"F84601",null,7137,20,18,18,18,16,4,15,13,10,10,10,17,15,15,12,16,12,10]
["2020-03-01",{"$f":"VLOOKUP(J1593,'Control Panel'!$I$27:$K$68,2,FALSE)","v":"NE2"},0,null,null,null,null,null,1,"F84619",null,4737,15,13,13,13,12,3,12,9,8,8,9,14,12,12,12,12,12,9]
["2020-03-01",{"$f":"VLOOKUP(J1594,'Control Panel'!$I$27:$K$68,2,FALSE)","v":"SE2"},1,null,null,null,null,null,1,"F84620",null,6931,18,15,15,15,14,3,15,15,13,13,13,17,12,14,9,13,11,13]
["2020-03-01",{"$f":"VLOOKUP(J1595,'Control Panel'!$I$27:$K$68,2,FALSE)","v":"SW1"},1,null,null,null,null,null,1,"F84621",null,3947,6,5,5,5,4,0,16,14,12,12,12,5,5,5,4,5,4,12]
["2020-03-01",{"$f":"VLOOKUP(J1596,'Control Panel'!$I$27:$K$68,2,FALSE)","v":"SE2"},1,null,null,null,null,null,1,"F84632",null,1021,0,0,0,0,0,0,0,0,0,0,0,0,0,0,0,0,0,0]
["2020-03-01",{"$f":"VLOOKUP(J1597,'Control Panel'!$I$27:$K$68,2,FALSE)","v":"SW2"},1,null,null,null,null,null,1,"F84635",null,9173,27,24,24,24,23,8,24,19,16,15,15,17,14,11,10,12,11,15]
["2020-03-01",{"$f":"VLOOKUP(J1598,'Control Panel'!$I$27:$K$68,2,FALSE)","v":"NW2"},1,null,null,null,null,null,1,"F84636",null,5823,15,14,14,14,14,4,13,11,11,11,11,7,7,7,5,7,5,11]
["2020-03-01",{"$f":"VLOOKUP(J1599,'Control Panel'!$I$27:$K$68,2,FALSE)","v":"City"},1,null,null,null,null,null,1,"F84640",null,9402,11,9,9,9,9,1,16,16,16,16,14,11,11,11,10,10,10,15]
["2020-03-01",{"$f":"VLOOKUP(J1600,'Control Panel'!$I$27:$K$68,2,FALSE)","v":"NE2"},0,null,null,null,null,null,1,"F84668",null,6527,44,16,18,18,15,4,35,23,24,19,23,36,22,26,15,21,17,21]
["2020-03-01",{"$f":"VLOOKUP(J1601,'Control Panel'!$I$27:$K$68,2,FALSE)","v":"NE2"},0,null,null,null,null,null,1,"F84685",null,3063,9,6,6,6,5,0,14,13,13,12,12,12,9,9,5,8,6,11]
["2020-03-01",{"$f":"VLOOKUP(J1602,'Control Panel'!$I$27:$K$68,2,FALSE)","v":"NE1"},{"$f":"IF(LEFT(B1602,2)=\"NE\",0,1)","v":0},null,null,null,null,null,1,"F84686",null,7969,67,15,15,16,12,2,76,41,49,35,35,56,45,50,31,42,34,41]
["2020-03-01",{"$f":"VLOOKUP(J1603,'Control Panel'!$I$27:$K$68,2,FALSE)","v":"SW2"},1,null,null,null,null,null,1,"F84692",null,7333,10,10,10,10,8,5,13,10,9,10,10,16,16,13,10,13,10,10]
["2020-03-01",{"$f":"VLOOKUP(J1604,'Control Panel'!$I$27:$K$68,2,FALSE)","v":"NW2"},1,null,null,null,null,null,{"$f":"IF(J1604=\"Total\",0,1)","v":1},"F84694",null,4367,11,8,9,8,7,5,15,13,12,12,12,7,6,6,5,6,6,11]
["2020-03-01",{"$f":"VLOOKUP(J1605,'Control Panel'!$I$27:$K$68,2,FALSE)","v":"NE2"},0,null,null,null,null,null,1,"F84711",null,1974,7,5,5,5,6,1,0,0,0,0,0,4,3,3,2,2,3,0]
["2020-03-01",{"$f":"VLOOKUP(J1606,'Control Panel'!$I$27:$K$68,2,FALSE)","v":"NW1"},1,null,null,null,null,null,1,"F84716",null,5705,31,17,20,21,20,3,19,14,15,11,12,22,18,18,16,16,16,10]
["2020-03-01",{"$f":"VLOOKUP(J1607,'Control Panel'!$I$27:$K$68,2,FALSE)","v":"SE1"},1,null,null,null,null,null,1,"F84719",null,5378,11,10,10,10,10,2,18,17,13,12,14,14,14,14,12,14,12,14]
["2020-03-01",{"$f":"VLOOKUP(J1608,'Control Panel'!$I$27:$K$68,2,FALSE)","v":"NE2"},0,null,null,null,null,null,1,"F84720",null,5569,8,4,4,4,4,0,18,9,6,7,7,19,15,12,7,11,8,7]
["2020-03-01",{"$f":"VLOOKUP(J1609,'Control Panel'!$I$27:$K$68,2,FALSE)","v":"SE2"},1,null,null,null,null,null,1,"Y00403",null,6797,22,16,18,18,17,2,17,15,14,14,14,21,19,18,16,18,16,14]
["2020-03-01",{"$f":"VLOOKUP(J1610,'Control Panel'!$I$27:$K$68,2,FALSE)","v":"NE1"},0,null,null,null,null,null,1,"Y03049",null,14721,63,31,30,31,20,14,62,38,39,35,34,53,44,44,34,39,36,31]
["2020-03-01",{"$f":"VLOOKUP(J1611,'Control Panel'!$I$27:$K$68,2,FALSE)","v":{"$error":"#N/A"}},{"$error":"#N/A"},null,null,null,null,null,0,"Total",null,327695,1051,756,761,776,728,222,1017,792,750,707,716,961,813,823,644,781,673,707]
["2020-04-01",{"$f":"VLOOKUP(J1612,'Control Panel'!$I$27:$K$68,2,FALSE)","v":{"$error":"#N/A"}},{"$error":"#N/A"},null,"Last Run:",null,"Population Count",341200,1,null,"Search","All Patients","(01) 12 MONTH COHORT","(01.01) DTaP/IPV/Hib 6in1","(01.02) Men B (1st and 2nd)","(01.03) PCV","(01.04) Rotavirus","(01.05) BCG","(02) 24 MONTH COHORT","(02.01) DTaP/IPV/Hib Combined","(02.02) MMR","(02.03) HiB/Men C","(02.04) PCV (Booster)","(03) 5 YEAR COHORT","(03.01) DTaP/IPV/Hib Combined","(03.02) MMR (Primary)","(03.03) DTaP/IPV (Booster)","(03.04) HiB/Men C","(03.05) MMR (Booster)","(02.05) Men B (Booster)"]
["2020-04-01",{"$f":"VLOOKUP(J1613,'Control Panel'!$I$27:$K$68,2,FALSE)","v":{"$error":"#N/A"}},{"$error":"#N/A"},null,"2020-05-04T13:51:00",null,"Males",169890,1,"Organisation Code"]
["2020-04-01",{"$f":"VLOOKUP(J1614,'Control Panel'!$I$27:$K$68,2,FALSE)","v":"SE1"},1,null,"Relative Date:",null,"Females",171310,1,"F84003",null,15266,47,41,41,43,38,8,46,45,39,39,40,53,50,46,38,46,39,40]
["2020-04-01",{"$f":"VLOOKUP(J1615,'Control Panel'!$I$27:$K$68,2,FALSE)","v":"NW2"},1,null,"2020-05-01",null,null,null,1,"F84008",null,12989,31,27,27,27,28,8,35,33,32,32,32,41,36,37,35,36,35,32]
["2020-04-01",{"$f":"VLOOKUP(J1616,'Control Panel'!$I$27:$K$68,2,FALSE)","v":"NE1"},0,null,null,null,null,null,1,"F84013",null,15436,102,35,34,39,29,4,94,43,37,30,35,111,87,93,56,78,61,34]
["2020-04-01",{"$f":"VLOOKUP(J1617,'Control Panel'!$I$27:$K$68,2,FALSE)","v":"SE1"},1,null,null,null,null,null,1,"F84015",null,5665,9,8,7,8,8,2,23,23,21,21,21,13,13,12,8,12,8,20]
["2020-04-01",{"$f":"VLOOKUP(J1618,'Control Panel'!$I$27:$K$68,2,FALSE)","v":"NE2"},0,null,null,null,null,null,1,"F84018",null,12001,66,45,43,45,46,16,49,44,39,40,39,49,40,44,34,44,38,40]
["2020-04-01",{"$f":"VLOOKUP(J1619,'Control Panel'!$I$27:$K$68,2,FALSE)","v":"SW1"},1,null,null,null,null,null,1,"F84021",null,10449,27,22,22,23,23,6,35,32,28,28,28,24,21,21,18,21,17,28]
["2020-04-01",{"$f":"VLOOKUP(J1620,'Control Panel'!$I$27:$K$68,2,FALSE)","v":"NW2"},1,null,null,null,null,null,1,"F84033",null,12006,30,28,28,28,28,14,31,30,28,28,28,37,35,34,34,35,34,27]
["2020-04-01",{"$f":"VLOOKUP(J1621,'Control Panel'!$I$27:$K$68,2,FALSE)","v":"SW1"},1,null,null,null,null,null,1,"F84035",null,9857,32,27,28,28,29,5,34,28,24,23,23,12,10,10,8,10,7,23]
["2020-04-01",{"$f":"VLOOKUP(J1622,'Control Panel'!$I$27:$K$68,2,FALSE)","v":"NW1"},1,null,null,null,null,null,1,"F84036",null,7309,29,28,28,29,28,18,23,18,13,13,13,28,26,26,20,26,21,14]
["2020-04-01",{"$f":"VLOOKUP(J1623,'Control Panel'!$I$27:$K$68,2,FALSE)","v":"SW1"},1,null,null,null,null,null,1,"F84038",null,4218,16,12,12,12,14,7,11,9,7,7,7,6,5,5,3,5,3,7]
["2020-04-01",{"$f":"VLOOKUP(J1624,'Control Panel'!$I$27:$K$68,2,FALSE)","v":"SW2"},1,null,null,null,null,null,1,"F84041",null,7612,16,14,14,14,15,10,19,19,18,18,18,8,8,8,8,8,8,18]
["2020-04-01",{"$f":"VLOOKUP(J1625,'Control Panel'!$I$27:$K$68,2,FALSE)","v":"SE1"},1,null,null,null,null,null,1,"F84060",null,4794,7,5,5,5,5,1,14,14,12,13,13,6,3,3,3,3,4,13]
["2020-04-01",{"$f":"VLOOKUP(J1626,'Control Panel'!$I$27:$K$68,2,FALSE)","v":"SW1"},1,null,null,null,null,null,1,"F84063",null,6052,4,4,4,4,4,1,8,7,6,6,6,15,5,12,12,12,12,6]
["2020-04-01",{"$f":"VLOOKUP(J1627,'Control Panel'!$I$27:$K$68,2,FALSE)","v":"SE2"},1,null,null,null,null,null,1,"F84069",null,14529,49,45,46,46,46,5,34,33,31,31,31,38,35,35,24,34,25,30]
["2020-04-01",{"$f":"VLOOKUP(J1628,'Control Panel'!$I$27:$K$68,2,FALSE)","v":"SW2"},1,null,null,null,null,null,1,"F84072",null,11057,33,30,29,29,30,15,25,22,20,21,21,22,21,20,14,20,14,21]
["2020-04-01",{"$f":"VLOOKUP(J1629,'Control Panel'!$I$27:$K$68,2,FALSE)","v":"NE2"},0,null,null,null,null,null,1,"F84080",null,4975,23,10,10,10,10,1,19,13,13,13,14,19,13,16,11,15,11,14]
["2020-04-01",{"$f":"VLOOKUP(J1630,'Control Panel'!$I$27:$K$68,2,FALSE)","v":"SW2"},1,null,null,null,null,null,1,"F84096",null,12792,33,31,31,31,31,15,43,33,23,23,23,31,29,28,19,28,25,24]
["2020-04-01",{"$f":"VLOOKUP(J1631,'Control Panel'!$I$27:$K$68,2,FALSE)","v":"SE1"},1,null,null,null,null,null,1,"F84105",null,11534,27,23,23,23,21,2,37,34,31,32,30,43,43,41,30,42,31,29]
["2020-04-01",{"$f":"VLOOKUP(J1632,'Control Panel'!$I$27:$K$68,2,FALSE)","v":"NW1"},1,null,null,null,null,null,1,"F84115",null,8720,29,29,27,29,29,11,28,26,26,26,26,15,15,14,13,14,13,26]
["2020-04-01",{"$f":"VLOOKUP(J1633,'Control Panel'!$I$27:$K$68,2,FALSE)","v":"SW1"},1,null,null,null,null,null,1,"F84117",null,10127,26,23,23,23,19,3,34,30,27,27,27,24,20,21,14,21,15,27]
["2020-04-01",{"$f":"VLOOKUP(J1634,'Control Panel'!$I$27:$K$68,2,FALSE)","v":"NW1"},1,null,null,null,null,null,1,"F84119",null,12436,39,32,32,32,30,20,38,35,31,31,32,35,33,34,28,34,27,32]
["2020-04-01",{"$f":"VLOOKUP(J1635,'Control Panel'!$I$27:$K$68,2,FALSE)","v":"SE2"},1,null,null,null,null,null,1,"F84601",null,7149,24,23,23,23,23,10,22,21,19,18,18,21,18,18,14,18,16,18]
["2020-04-01",{"$f":"VLOOKUP(J1636,'Control Panel'!$I$27:$K$68,2,FALSE)","v":"NE2"},0,null,null,null,null,null,1,"F84619",null,4734,15,11,11,11,11,1,15,14,11,11,11,15,15,13,11,13,12,11]
["2020-04-01",{"$f":"VLOOKUP(J1637,'Control Panel'!$I$27:$K$68,2,FALSE)","v":"SE2"},1,null,null,null,null,null,1,"F84620",null,6927,22,15,15,15,15,1,9,8,7,7,7,24,21,20,18,18,19,7]
["2020-04-01",{"$f":"VLOOKUP(J1638,'Control Panel'!$I$27:$K$68,2,FALSE)","v":"SW1"},1,null,null,null,null,null,1,"F84621",null,3926,10,7,7,7,8,2,10,9,5,5,4,10,8,8,6,8,6,4]
["2020-04-01",{"$f":"VLOOKUP(J1639,'Control Panel'!$I$27:$K$68,2,FALSE)","v":"SE2"},1,null,null,null,null,null,1,"F84632",null,1029,0,0,0,0,0,0,0,0,0,0,0,0,0,0,0,0,0,0]
["2020-04-01",{"$f":"VLOOKUP(J1640,'Control Panel'!$I$27:$K$68,2,FALSE)","v":"SW2"},1,null,null,null,null,null,1,"F84635",null,9135,20,18,17,18,17,4,16,14,14,14,14,26,23,22,10,21,12,14]
["2020-04-01",{"$f":"VLOOKUP(J1641,'Control Panel'!$I$27:$K$68,2,FALSE)","v":"NW2"},1,null,null,null,null,null,1,"F84636",null,5817,6,6,5,6,6,1,11,10,10,10,10,9,9,8,6,8,6,10]
["2020-04-01",{"$f":"VLOOKUP(J1642,'Control Panel'!$I$27:$K$68,2,FALSE)","v":"City"},1,null,null,null,null,null,1,"F84640",null,9358,18,16,15,16,14,1,10,8,9,8,9,9,9,8,9,8,8,8]
["2020-04-01",{"$f":"VLOOKUP(J1643,'Control Panel'!$I$27:$K$68,2,FALSE)","v":"NE2"},0,null,null,null,null,null,1,"F84668",null,6532,39,13,15,15,13,2,40,16,18,16,19,31,23,29,16,23,18,17]
["2020-04-01",{"$f":"VLOOKUP(J1644,'Control Panel'!$I$27:$K$68,2,FALSE)","v":"NE2"},0,null,null,null,null,null,1,"F84685",null,3033,12,7,7,7,6,3,13,8,8,7,7,14,9,9,8,8,9,7]
["2020-04-01",{"$f":"VLOOKUP(J1645,'Control Panel'!$I$27:$K$68,2,FALSE)","v":"NE1"},0,null,null,null,null,null,1,"F84686",null,7981,46,9,9,12,9,3,59,23,23,15,22,55,42,46,25,41,28,19]
["2020-04-01",{"$f":"VLOOKUP(J1646,'Control Panel'!$I$27:$K$68,2,FALSE)","v":"SW2"},1,null,null,null,null,null,1,"F84692",null,7325,12,9,9,9,9,6,16,13,12,12,12,10,9,8,8,8,8,12]
["2020-04-01",{"$f":"VLOOKUP(J1647,'Control Panel'!$I$27:$K$68,2,FALSE)","v":"NW2"},1,null,null,null,null,null,1,"F84694",null,4360,17,13,13,13,15,6,15,15,14,14,14,4,4,4,4,4,4,15]
["2020-04-01",{"$f":"VLOOKUP(J1648,'Control Panel'!$I$27:$K$68,2,FALSE)","v":"NE2"},0,null,null,null,null,null,1,"F84711",null,1966,7,5,5,5,6,1,6,4,4,4,3,10,6,9,5,5,6,3]
["2020-04-01",{"$f":"VLOOKUP(J1649,'Control Panel'!$I$27:$K$68,2,FALSE)","v":"NW1"},1,null,null,null,null,null,1,"F84716",null,5641,30,17,19,19,17,5,21,11,9,7,7,19,15,16,11,15,14,9]
["2020-04-01",{"$f":"VLOOKUP(J1650,'Control Panel'!$I$27:$K$68,2,FALSE)","v":"SE1"},1,null,null,null,null,null,1,"F84719",null,5342,15,13,13,13,12,2,13,13,12,12,12,8,8,7,6,5,6,13]
["2020-04-01",{"$f":"VLOOKUP(J1651,'Control Panel'!$I$27:$K$68,2,FALSE)","v":"NE2"},0,null,null,null,null,null,1,"F84720",null,5562,17,8,8,8,8,0,24,19,14,14,14,16,13,13,8,12,9,14]
["2020-04-01",{"$f":"VLOOKUP(J1652,'Control Panel'!$I$27:$K$68,2,FALSE)","v":"SE2"},1,null,null,null,null,null,1,"Y00403",null,6807,26,24,25,25,21,5,15,12,11,10,11,13,12,11,8,11,9,11]
["2020-04-01",{"$f":"VLOOKUP(J1653,'Control Panel'!$I$27:$K$68,2,FALSE)","v":"NE1"},0,null,null,null,null,null,1,"Y03049",null,14733,52,22,22,22,11,13,72,46,43,38,39,72,53,55,46,51,48,34]
["2020-05-01",{"$f":"VLOOKUP(J1654,'Control Panel'!$I$27:$K$68,2,FALSE)","v":{"$error":"#N/A"}},{"$error":"#N/A"},null,"Last Run:",null,"Population Count",341506,1,null,"Search","All Patients","(01) 12 MONTH COHORT","(01.01) DTaP/IPV/Hib 6in1","(01.02) Men B (1st and 2nd)","(01.03) PCV","(01.04) Rotavirus","(01.05) BCG","(02) 24 MONTH COHORT","(02.01) DTaP/IPV/Hib Combined","(02.02) MMR","(02.03) HiB/Men C","(02.04) PCV (Booster)","(03) 5 YEAR COHORT","(03.01) DTaP/IPV/Hib Combined","(03.02) MMR (Primary)","(03.03) DTaP/IPV (Booster)","(03.04) HiB/Men C","(03.05) MMR (Booster)","(02.05) Men B (Booster)"]
["2020-05-01",{"$f":"VLOOKUP(J1655,'Control Panel'!$I$27:$K$68,2,FALSE)","v":{"$error":"#N/A"}},{"$error":"#N/A"},null,"2020-06-02T09:54:00",null,"Males",170074,1,"Organisation Code"]
["2020-05-01",{"$f":"VLOOKUP(J1656,'Control Panel'!$I$27:$K$68,2,FALSE)","v":"SE1"},1,null,"Relative Date:",null,"Females",171432,1,"F84003",null,15286,47,41,41,43,38,8,47,46,42,41,43,51,48,44,39,44,40,43]
["2020-05-01",{"$f":"VLOOKUP(J1657,'Control Panel'!$I$27:$K$68,2,FALSE)","v":"NW2"},1,null,"2020-06-01",null,null,null,1,"F84008",null,12997,31,27,27,27,28,8,35,33,32,32,32,41,36,37,35,36,35,32]
["2020-05-01",{"$f":"VLOOKUP(J1658,'Control Panel'!$I$27:$K$68,2,FALSE)","v":"NE1"},0,null,null,null,null,null,1,"F84013",null,15482,103,36,37,41,30,4,95,47,43,33,38,112,87,95,61,79,69,39]
["2020-05-01",{"$f":"VLOOKUP(J1659,'Control Panel'!$I$27:$K$68,2,FALSE)","v":"SE1"},1,null,null,null,null,null,1,"F84015",null,5656,9,8,7,8,8,3,23,23,21,21,21,13,13,12,8,12,8,20]
["2020-05-01",{"$f":"VLOOKUP(J1660,'Control Panel'!$I$27:$K$68,2,FALSE)","v":"NE2"},0,null,null,null,null,null,1,"F84018",null,12004,66,46,45,47,46,16,49,44,40,41,40,49,40,44,35,44,38,41]
["2020-05-01",{"$f":"VLOOKUP(J1661,'Control Panel'!$I$27:$K$68,2,FALSE)","v":"SW1"},1,null,null,null,null,null,1,"F84021",null,10438,28,23,23,24,23,6,35,32,28,28,28,24,21,21,18,21,18,28]
["2020-05-01",{"$f":"VLOOKUP(J1662,'Control Panel'!$I$27:$K$68,2,FALSE)","v":"NW2"},1,null,null,null,null,null,1,"F84033",null,11994,30,28,28,28,28,14,31,30,28,28,28,37,35,34,34,35,34,27]
["2020-05-01",{"$f":"VLOOKUP(J1663,'Control Panel'!$I$27:$K$68,2,FALSE)","v":"SW1"},1,null,null,null,null,null,1,"F84035",null,9939,32,27,28,28,29,5,34,28,24,24,24,12,10,10,8,10,7,24]
["2020-05-01",{"$f":"VLOOKUP(J1664,'Control Panel'!$I$27:$K$68,2,FALSE)","v":"NW1"},1,null,null,null,null,null,1,"F84036",null,7306,29,28,28,29,28,18,23,18,13,13,13,27,25,25,20,25,21,14]
["2020-05-01",{"$f":"VLOOKUP(J1665,'Control Panel'!$I$27:$K$68,2,FALSE)","v":"SW1"},1,null,null,null,null,null,1,"F84038",null,4205,15,12,12,12,14,6,11,9,7,7,7,6,5,5,3,5,3,7]
["2020-05-01",{"$f":"VLOOKUP(J1666,'Control Panel'!$I$27:$K$68,2,FALSE)","v":"SW2"},{"$f":"IF(LEFT(B1666,2)=\"NE\",0,1)","v":1},null,null,null,null,null,1,"F84041",null,7601,16,14,14,14,15,10,19,19,18,18,18,8,8,8,8,8,8,18]
["2020-05-01",{"$f":"VLOOKUP(J1667,'Control Panel'!$I$27:$K$68,2,FALSE)","v":"SE1"},1,null,null,null,null,null,1,"F84060",null,4810,7,5,5,5,5,1,14,14,12,13,13,6,3,3,3,3,4,13]
["2020-05-01",{"$f":"VLOOKUP(J1668,'Control Panel'!$I$27:$K$68,2,FALSE)","v":"SW1"},1,null,null,null,null,null,{"$f":"IF(J1668=\"Total\",0,1)","v":1},"F84063",null,6050,4,4,4,4,4,1,8,7,6,6,6,15,5,12,12,12,12,6]
["2020-05-01",{"$f":"VLOOKUP(J1669,'Control Panel'!$I$27:$K$68,2,FALSE)","v":"SE2"},1,null,null,null,null,null,1,"F84069",null,14517,50,46,47,47,46,5,34,33,31,31,31,38,35,35,24,34,25,30]
["2020-05-01",{"$f":"VLOOKUP(J1670,'Control Panel'!$I$27:$K$68,2,FALSE)","v":"SW2"},1,null,null,null,null,null,1,"F84072",null,11072,33,30,29,29,30,15,25,22,20,21,21,21,20,19,13,19,13,21]
["2020-05-01",{"$f":"VLOOKUP(J1671,'Control Panel'!$I$27:$K$68,2,FALSE)","v":"NE2"},0,null,null,null,null,null,1,"F84080",null,4967,23,10,11,11,10,1,19,13,13,13,14,19,13,16,11,15,11,14]
["2020-05-01",{"$f":"VLOOKUP(J1672,'Control Panel'!$I$27:$K$68,2,FALSE)","v":"SW2"},1,null,null,null,null,null,1,"F84096",null,12774,33,31,31,31,31,15,43,33,23,23,23,31,29,28,19,28,25,24]
["2020-05-01",{"$f":"VLOOKUP(J1673,'Control Panel'!$I$27:$K$68,2,FALSE)","v":"SE1"},1,null,null,null,null,null,1,"F84105",null,11484,26,22,22,22,20,2,36,33,30,31,29,43,43,41,30,42,31,28]
["2020-05-01",{"$f":"VLOOKUP(J1674,'Control Panel'!$I$27:$K$68,2,FALSE)","v":"NW1"},1,null,null,null,null,null,1,"F84115",null,8711,28,28,26,28,28,10,28,26,26,26,26,15,15,14,13,14,13,26]
["2020-05-01",{"$f":"VLOOKUP(J1675,'Control Panel'!$I$27:$K$68,2,FALSE)","v":"SW1"},1,null,null,null,null,null,1,"F84117",null,10187,26,23,23,23,19,3,33,30,27,26,26,24,20,21,14,21,15,27]
["2020-05-01",{"$f":"VLOOKUP(J1676,'Control Panel'!$I$27:$K$68,2,FALSE)","v":"NW1"},1,null,null,null,null,null,1,"F84119",null,12422,39,32,32,32,30,20,38,35,31,31,32,35,33,34,29,34,28,32]
["2020-05-01",{"$f":"VLOOKUP(J1677,'Control Panel'!$I$27:$K$68,2,FALSE)","v":"SE2"},1,null,null,null,null,null,1,"F84601",null,7119,24,23,23,23,23,10,22,21,19,18,18,20,17,17,13,17,15,18]
["2020-05-01",{"$f":"VLOOKUP(J1678,'Control Panel'!$I$27:$K$68,2,FALSE)","v":"NE2"},0,null,null,null,null,null,1,"F84619",null,4745,15,11,11,11,11,1,14,13,10,10,10,14,14,12,11,12,12,10]
["2020-05-01",{"$f":"VLOOKUP(J1679,'Control Panel'!$I$27:$K$68,2,FALSE)","v":"SE2"},1,null,null,null,null,null,1,"F84620",null,6968,22,15,16,16,15,1,9,8,7,7,7,24,21,20,18,18,19,7]
["2020-05-01",{"$f":"VLOOKUP(J1680,'Control Panel'!$I$27:$K$68,2,FALSE)","v":"SW1"},1,null,null,null,null,null,1,"F84621",null,3943,10,7,7,7,8,2,10,9,5,5,4,11,9,9,6,9,6,4]
["2020-05-01",{"$f":"VLOOKUP(J1681,'Control Panel'!$I$27:$K$68,2,FALSE)","v":"SE2"},1,null,null,null,null,null,1,"F84632",null,1036,0,0,0,0,0,0,0,0,0,0,0,0,0,0,0,0,0,0]
["2020-05-01",{"$f":"VLOOKUP(J1682,'Control Panel'!$I$27:$K$68,2,FALSE)","v":"SW2"},1,null,null,null,null,null,1,"F84635",null,9243,20,18,17,18,17,4,16,14,14,14,14,27,24,23,10,22,12,14]
["2020-05-01",{"$f":"VLOOKUP(J1683,'Control Panel'!$I$27:$K$68,2,FALSE)","v":"NW2"},1,null,null,null,null,null,1,"F84636",null,5840,6,6,5,6,6,1,11,10,10,10,10,9,9,8,6,8,6,10]
["2020-05-01",{"$f":"VLOOKUP(J1684,'Control Panel'!$I$27:$K$68,2,FALSE)","v":"City"},1,null,null,null,null,null,1,"F84640",null,9335,18,16,16,16,14,1,10,8,9,8,9,9,9,8,9,8,8,8]
["2020-05-01",{"$f":"VLOOKUP(J1685,'Control Panel'!$I$27:$K$68,2,FALSE)","v":"NE2"},0,null,null,null,null,null,1,"F84668",null,6533,39,13,15,15,13,2,40,16,18,16,19,31,23,29,16,23,18,17]
["2020-05-01",{"$f":"VLOOKUP(J1686,'Control Panel'!$I$27:$K$68,2,FALSE)","v":"NE2"},0,null,null,null,null,null,1,"F84685",null,3031,12,7,7,7,6,3,13,8,8,7,7,14,9,9,8,8,9,7]
["2020-05-01",{"$f":"VLOOKUP(J1687,'Control Panel'!$I$27:$K$68,2,FALSE)","v":"NE1"},0,null,null,null,null,null,1,"F84686",null,8017,46,9,10,12,10,3,59,25,24,16,23,55,42,46,25,41,28,21]
["2020-05-01",{"$f":"VLOOKUP(J1688,'Control Panel'!$I$27:$K$68,2,FALSE)","v":"SW2"},1,null,null,null,null,null,1,"F84692",null,7323,12,10,10,10,10,6,16,13,12,12,12,9,8,7,8,7,8,12]
["2020-05-01",{"$f":"VLOOKUP(J1689,'Control Panel'!$I$27:$K$68,2,FALSE)","v":"NW2"},1,null,null,null,null,null,1,"F84694",null,4358,17,13,13,13,15,6,15,15,14,14,14,4,4,4,4,4,4,15]
["2020-05-01",{"$f":"VLOOKUP(J1690,'Control Panel'!$I$27:$K$68,2,FALSE)","v":"NE2"},0,null,null,null,null,null,1,"F84711",null,1964,7,5,5,5,6,2,6,4,4,4,3,10,6,9,5,5,6,3]
["2020-05-01",{"$f":"VLOOKUP(J1691,'Control Panel'!$I$27:$K$68,2,FALSE)","v":"NW1"},1,null,null,null,null,null,1,"F84716",null,5602,31,18,20,20,18,6,21,11,10,8,8,19,15,16,11,15,14,10]
["2020-05-01",{"$f":"VLOOKUP(J1692,'Control Panel'!$I$27:$K$68,2,FALSE)","v":"SE1"},1,null,null,null,null,null,1,"F84719",null,5342,15,13,13,13,12,2,14,14,13,13,13,8,8,7,6,5,6,14]
["2020-05-01",{"$f":"VLOOKUP(J1693,'Control Panel'!$I$27:$K$68,2,FALSE)","v":"NE2"},0,null,null,null,null,null,1,"F84720",null,5581,17,9,8,9,8,0,24,19,15,15,14,16,13,13,8,12,9,14]
["2020-05-01",{"$f":"VLOOKUP(J1694,'Control Panel'!$I$27:$K$68,2,FALSE)","v":"SE2"},1,null,null,null,null,null,1,"Y00403",null,6823,26,24,25,25,21,5,14,12,12,11,12,12,11,11,10,11,9,12]
["2020-05-01",{"$f":"VLOOKUP(J1695,'Control Panel'!$I$27:$K$68,2,FALSE)","v":"NE1"},0,null,null,null,null,null,1,"Y03049",null,14704,52,22,22,23,11,13,72,46,43,38,39,72,53,55,46,51,48,34]
["2020-06-01",{"$f":"VLOOKUP(J1696,'Control Panel'!$I$27:$K$68,2,FALSE)","v":{"$error":"#N/A"}},{"$error":"#N/A"},null,"Last Run:",null,"Population Count",341725,1,null,"Search","All Patients","(01) 12 MONTH COHORT","(01.01) DTaP/IPV/Hib 6in1","(01.02) Men B (1st and 2nd)","(01.03) PCV","(01.04) Rotavirus","(01.05) BCG","(02) 24 MONTH COHORT","(02.01) DTaP/IPV/Hib Combined","(02.02) MMR","(02.03) HiB/Men C","(02.04) PCV (Booster)","(03) 5 YEAR COHORT","(03.01) DTaP/IPV/Hib Combined","(03.02) MMR (Primary)","(03.03) DTaP/IPV (Booster)","(03.04) HiB/Men C","(03.05) MMR (Booster)","(02.05) Men B (Booster)"]
["2020-06-01",{"$f":"VLOOKUP(J1697,'Control Panel'!$I$27:$K$68,2,FALSE)","v":{"$error":"#N/A"}},{"$error":"#N/A"},null,"2020-07-02T11:12:00",null,"Males",170152,1,"Organisation Code"]
["2020-06-01",{"$f":"VLOOKUP(J1698,'Control Panel'!$I$27:$K$68,2,FALSE)","v":"SE1"},1,null,"Relative Date:",null,"Females",171573,1,"F84003",null,15276,46,40,40,42,37,8,47,46,42,41,43,51,48,44,39,44,40,43]
["2020-06-01",{"$f":"VLOOKUP(J1699,'Control Panel'!$I$27:$K$68,2,FALSE)","v":"NW2"},1,null,"2020-07-01",null,null,null,1,"F84008",null,13012,31,27,27,27,28,8,33,31,30,30,30,41,36,37,35,36,35,30]
["2020-06-01",{"$f":"VLOOKUP(J1700,'Control Panel'!$I$27:$K$68,2,FALSE)","v":"NE1"},0,null,null,null,null,null,1,"F84013",null,15558,104,36,38,42,30,4,97,49,44,34,41,112,87,95,61,79,69,41]
["2020-06-01",{"$f":"VLOOKUP(J1701,'Control Panel'!$I$27:$K$68,2,FALSE)","v":"SE1"},1,null,null,null,null,null,1,"F84015",null,5649,9,8,7,8,8,3,23,23,21,21,21,13,13,12,8,12,8,20]
["2020-06-01",{"$f":"VLOOKUP(J1702,'Control Panel'!$I$27:$K$68,2,FALSE)","v":"NE2"},0,null,null,null,null,null,1,"F84018",null,11992,64,44,43,45,44,16,49,44,40,41,40,49,41,45,36,44,39,41]
["2020-06-01",{"$f":"VLOOKUP(J1703,'Control Panel'!$I$27:$K$68,2,FALSE)","v":"SW1"},1,null,null,null,null,null,1,"F84021",null,10432,28,23,23,24,23,6,35,32,28,28,28,24,21,21,18,21,18,28]
["2020-06-01",{"$f":"VLOOKUP(J1704,'Control Panel'!$I$27:$K$68,2,FALSE)","v":"NW2"},1,null,null,null,null,null,1,"F84033",null,11983,29,28,28,28,28,14,31,30,28,28,28,37,35,34,34,35,34,27]
["2020-06-01",{"$f":"VLOOKUP(J1705,'Control Panel'!$I$27:$K$68,2,FALSE)","v":"SW1"},1,null,null,null,null,null,1,"F84035",null,10062,32,27,28,28,29,5,34,28,24,24,24,12,10,10,8,10,7,24]
["2020-06-01",{"$f":"VLOOKUP(J1706,'Control Panel'!$I$27:$K$68,2,FALSE)","v":"NW1"},1,null,null,null,null,null,1,"F84036",null,7183,28,27,27,28,27,17,23,18,13,13,13,25,24,24,20,24,21,14]
["2020-06-01",{"$f":"VLOOKUP(J1707,'Control Panel'!$I$27:$K$68,2,FALSE)","v":"SW1"},1,null,null,null,null,null,1,"F84038",null,4196,15,12,12,12,14,6,11,9,7,7,7,6,5,5,3,5,3,7]
["2020-06-01",{"$f":"VLOOKUP(J1708,'Control Panel'!$I$27:$K$68,2,FALSE)","v":"SW2"},1,null,null,null,null,null,1,"F84041",null,7602,17,15,15,15,16,10,19,19,18,18,18,8,8,8,8,8,8,18]
["2020-06-01",{"$f":"VLOOKUP(J1709,'Control Panel'!$I$27:$K$68,2,FALSE)","v":"SE1"},1,null,null,null,null,null,1,"F84060",null,4789,7,5,5,5,5,1,14,14,12,13,13,6,3,3,3,3,4,13]
["2020-06-01",{"$f":"VLOOKUP(J1710,'Control Panel'!$I$27:$K$68,2,FALSE)","v":"SW1"},1,null,null,null,null,null,1,"F84063",null,6040,4,4,4,4,4,1,8,7,6,6,6,15,5,12,12,12,12,6]
["2020-06-01",{"$f":"VLOOKUP(J1711,'Control Panel'!$I$27:$K$68,2,FALSE)","v":"SE2"},1,null,null,null,null,null,1,"F84069",null,14504,48,45,46,46,45,5,34,33,31,31,31,38,35,35,24,34,25,30]
["2020-06-01",{"$f":"VLOOKUP(J1712,'Control Panel'!$I$27:$K$68,2,FALSE)","v":"SW2"},1,null,null,null,null,null,1,"F84072",null,11055,32,29,28,28,29,14,25,22,20,21,21,21,20,19,13,19,13,21]
["2020-06-01",{"$f":"VLOOKUP(J1713,'Control Panel'!$I$27:$K$68,2,FALSE)","v":"NE2"},0,null,null,null,null,null,1,"F84080",null,5010,24,10,11,11,10,1,19,13,13,13,14,19,13,16,11,15,11,14]
["2020-06-01",{"$f":"VLOOKUP(J1714,'Control Panel'!$I$27:$K$68,2,FALSE)","v":"SW2"},1,null,null,null,null,null,1,"F84096",null,12775,33,31,31,31,31,15,43,33,23,23,23,30,28,27,19,27,24,24]
["2020-06-01",{"$f":"VLOOKUP(J1715,'Control Panel'!$I$27:$K$68,2,FALSE)","v":"SE1"},1,null,null,null,null,null,1,"F84105",null,11498,26,22,22,22,20,2,37,34,31,32,30,43,43,41,30,42,31,29]
["2020-06-01",{"$f":"VLOOKUP(J1716,'Control Panel'!$I$27:$K$68,2,FALSE)","v":"NW1"},1,null,null,null,null,null,1,"F84115",null,8708,27,27,25,27,27,10,28,26,26,26,26,15,15,14,13,14,13,26]
["2020-06-01",{"$f":"VLOOKUP(J1717,'Control Panel'!$I$27:$K$68,2,FALSE)","v":"SW1"},1,null,null,null,null,null,1,"F84117",null,10251,26,23,23,23,19,3,33,30,27,27,26,24,21,22,16,21,16,27]
["2020-06-01",{"$f":"VLOOKUP(J1718,'Control Panel'!$I$27:$K$68,2,FALSE)","v":"NW1"},1,null,null,null,null,null,1,"F84119",null,12420,37,30,30,30,28,20,40,36,33,33,34,35,33,34,29,34,28,34]
["2020-06-01",{"$f":"VLOOKUP(J1719,'Control Panel'!$I$27:$K$68,2,FALSE)","v":"SE2"},1,null,null,null,null,null,1,"F84601",null,7116,23,22,22,22,22,10,22,21,19,18,18,20,17,17,13,17,15,18]
["2020-06-01",{"$f":"VLOOKUP(J1720,'Control Panel'!$I$27:$K$68,2,FALSE)","v":"NE2"},0,null,null,null,null,null,1,"F84619",null,4765,15,11,11,11,11,1,14,13,10,10,10,14,14,12,11,12,12,10]
["2020-06-01",{"$f":"VLOOKUP(J1721,'Control Panel'!$I$27:$K$68,2,FALSE)","v":"SE2"},1,null,null,null,null,null,1,"F84620",null,6994,22,15,16,16,15,1,9,8,7,7,7,24,21,20,18,18,19,7]
["2020-06-01",{"$f":"VLOOKUP(J1722,'Control Panel'!$I$27:$K$68,2,FALSE)","v":"SW1"},1,null,null,null,null,null,1,"F84621",null,3954,10,7,7,7,8,2,10,9,5,5,4,11,9,9,6,9,6,4]
["2020-06-01",{"$f":"VLOOKUP(J1723,'Control Panel'!$I$27:$K$68,2,FALSE)","v":"SE2"},1,null,null,null,null,null,1,"F84632",null,1043,0,0,0,0,0,0,0,0,0,0,0,0,0,0,0,0,0,0]
["2020-06-01",{"$f":"VLOOKUP(J1724,'Control Panel'!$I$27:$K$68,2,FALSE)","v":"SW2"},1,null,null,null,null,null,1,"F84635",null,9253,20,18,17,18,17,4,16,14,14,14,14,27,24,23,10,22,12,14]
["2020-06-01",{"$f":"VLOOKUP(J1725,'Control Panel'!$I$27:$K$68,2,FALSE)","v":"NW2"},1,null,null,null,null,null,1,"F84636",null,5875,6,6,5,6,6,1,11,10,10,10,10,9,9,8,6,8,6,10]
["2020-06-01",{"$f":"VLOOKUP(J1726,'Control Panel'!$I$27:$K$68,2,FALSE)","v":"City"},1,null,null,null,null,null,1,"F84640",null,9283,17,16,16,16,14,1,10,8,9,8,9,9,9,8,9,8,8,8]
["2020-06-01",{"$f":"VLOOKUP(J1727,'Control Panel'!$I$27:$K$68,2,FALSE)","v":"NE2"},0,null,null,null,null,null,1,"F84668",null,6551,39,13,16,16,13,2,39,15,17,15,18,31,23,29,16,23,18,16]
["2020-06-01",{"$f":"VLOOKUP(J1728,'Control Panel'!$I$27:$K$68,2,FALSE)","v":"NE2"},0,null,null,null,null,null,1,"F84685",null,3031,12,7,7,7,6,3,13,8,8,7,7,14,9,9,8,8,9,7]
["2020-06-01",{"$f":"VLOOKUP(J1729,'Control Panel'!$I$27:$K$68,2,FALSE)","v":"NE1"},0,null,null,null,null,null,1,"F84686",null,8070,47,10,11,13,10,3,59,25,24,16,23,55,42,46,25,41,28,21]
["2020-06-01",{"$f":"VLOOKUP(J1730,'Control Panel'!$I$27:$K$68,2,FALSE)","v":"SW2"},{"$f":"IF(LEFT(B1730,2)=\"NE\",0,1)","v":1},null,null,null,null,null,1,"F84692",null,7323,12,10,10,10,10,6,16,13,12,12,12,9,8,7,8,7,8,12]
["2020-06-01",{"$f":"VLOOKUP(J1731,'Control Panel'!$I$27:$K$68,2,FALSE)","v":"NW2"},1,null,null,null,null,null,1,"F84694",null,4350,16,13,13,13,15,6,15,15,14,14,14,4,4,4,4,4,4,15]
["2020-06-01",{"$f":"VLOOKUP(J1732,'Control Panel'!$I$27:$K$68,2,FALSE)","v":"NE2"},0,null,null,null,null,null,{"$f":"IF(J1732=\"Total\",0,1)","v":1},"F84711",null,1959,7,5,5,5,6,2,6,4,4,4,3,10,6,9,5,5,6,3]
["2020-06-01",{"$f":"VLOOKUP(J1733,'Control Panel'!$I$27:$K$68,2,FALSE)","v":"NW1"},1,null,null,null,null,null,1,"F84716",null,5618,31,18,20,20,18,6,19,10,10,8,8,19,15,16,11,15,14,9]
["2020-06-01",{"$f":"VLOOKUP(J1734,'Control Panel'!$I$27:$K$68,2,FALSE)","v":"SE1"},1,null,null,null,null,null,1,"F84719",null,5341,15,13,13,13,12,2,14,14,13,13,13,8,8,7,6,5,6,14]
["2020-06-01",{"$f":"VLOOKUP(J1735,'Control Panel'!$I$27:$K$68,2,FALSE)","v":"NE2"},0,null,null,null,null,null,1,"F84720",null,5577,16,8,7,8,7,0,24,19,15,15,14,16,13,13,8,12,9,14]
["2020-06-01",{"$f":"VLOOKUP(J1736,'Control Panel'!$I$27:$K$68,2,FALSE)","v":"SE2"},1,null,null,null,null,null,1,"Y00403",null,6858,26,25,25,25,21,5,14,12,12,12,12,12,11,11,10,11,9,12]
["2020-06-01",{"$f":"VLOOKUP(J1737,'Control Panel'!$I$27:$K$68,2,FALSE)","v":"NE1"},0,null,null,null,null,null,1,"Y03049",null,14703,52,22,22,23,11,13,72,47,44,39,41,72,53,55,46,51,48,36]
["2020-06-01",{"$f":"VLOOKUP(J1738,'Control Panel'!$I$27:$K$68,2,FALSE)","v":{"$error":"#N/A"}},{"$f":"IF(LEFT(B1738,2)=\"NE\",0,1)","v":{"$error":"#N/A"}},null,null,null,null,null,0,"total",null,327659,1053,752,756,775,724,237,1066,842,764,737,754,988,839,861,660,815,696,747]
["2020-07-01",{"$f":"VLOOKUP(J1739,'Control Panel'!$I$27:$K$68,2,FALSE)","v":{"$error":"#N/A"}},{"$error":"#N/A"},null,"Last Run:",null,"Population Count",342343,1,null,"Search","All Patients","(01) 12 MONTH COHORT","(01.01) DTaP/IPV/Hib 6in1","(01.02) Men B (1st and 2nd)","(01.03) PCV","(01.04) Rotavirus","(01.05) BCG","(02) 24 MONTH COHORT","(02.01) DTaP/IPV/Hib Combined","(02.02) MMR","(02.03) HiB/Men C","(02.04) PCV (Booster)","(03) 5 YEAR COHORT","(03.01) DTaP/IPV/Hib Combined","(03.02) MMR (Primary)","(03.03) DTaP/IPV (Booster)","(03.04) HiB/Men C","(03.05) MMR (Booster)","(02.05) Men B (Booster)"]
["2020-07-01",{"$f":"VLOOKUP(J1740,'Control Panel'!$I$27:$K$68,2,FALSE)","v":{"$error":"#N/A"}},{"$error":"#N/A"},null,"2020-08-03T10:54:00",null,"Males",170332,1,"Organisation Code"]
["2020-07-01",{"$f":"VLOOKUP(J1741,'Control Panel'!$I$27:$K$68,2,FALSE)","v":"SE1"},1,null,"Relative Date:",null,"Females",172011,1,"F84003",null,15272,46,42,42,42,41,7,46,42,38,39,39,46,45,44,40,45,39,39]
["2020-07-01",{"$f":"VLOOKUP(J1742,'Control Panel'!$I$27:$K$68,2,FALSE)","v":"NW2"},1,null,"2020-08-01",null,null,null,1,"F84008",null,13010,45,41,41,40,39,9,39,36,36,36,36,43,42,41,39,42,40,36]
["2020-07-01",{"$f":"VLOOKUP(J1743,'Control Panel'!$I$27:$K$68,2,FALSE)","v":"NE1"},0,null,null,null,null,null,1,"F84013",null,15584,122,43,44,46,33,4,103,63,62,46,51,108,86,89,48,72,57,53]
["2020-07-01",{"$f":"VLOOKUP(J1744,'Control Panel'!$I$27:$K$68,2,FALSE)","v":"SE1"},1,null,null,null,null,null,1,"F84015",null,5667,14,12,12,12,10,7,18,12,12,12,12,16,15,15,13,15,13,12]
["2020-07-01",{"$f":"VLOOKUP(J1745,'Control Panel'!$I$27:$K$68,2,FALSE)","v":"NE2"},0,null,null,null,null,null,1,"F84018",null,12021,41,30,28,30,30,13,40,37,34,34,34,32,28,27,19,27,24,33]
["2020-07-01",{"$f":"VLOOKUP(J1746,'Control Panel'!$I$27:$K$68,2,FALSE)","v":"SW1"},1,null,null,null,null,null,1,"F84021",null,10427,31,30,30,30,28,6,27,25,23,23,23,31,30,29,21,30,20,23]
["2020-07-01",{"$f":"VLOOKUP(J1747,'Control Panel'!$I$27:$K$68,2,FALSE)","v":"NW2"},1,null,null,null,null,null,1,"F84033",null,11953,36,33,32,33,33,13,28,28,26,26,25,27,22,21,22,21,22,26]
["2020-07-01",{"$f":"VLOOKUP(J1748,'Control Panel'!$I$27:$K$68,2,FALSE)","v":"SW1"},1,null,null,null,null,null,1,"F84035",null,10206,39,35,35,34,34,7,22,18,15,15,14,12,12,10,8,9,9,14]
["2020-07-01",{"$f":"VLOOKUP(J1749,'Control Panel'!$I$27:$K$68,2,FALSE)","v":"NW1"},1,null,null,null,null,null,1,"F84036",null,7156,16,11,11,11,11,4,27,25,19,19,19,19,17,17,15,16,15,19]
["2020-07-01",{"$f":"VLOOKUP(J1750,'Control Panel'!$I$27:$K$68,2,FALSE)","v":"SW1"},1,null,null,null,null,null,1,"F84038",null,4194,7,7,7,7,7,2,12,11,11,11,11,10,8,8,2,7,3,11]
["2020-07-01",{"$f":"VLOOKUP(J1751,'Control Panel'!$I$27:$K$68,2,FALSE)","v":"SW2"},1,null,null,null,null,null,1,"F84041",null,7621,14,12,12,12,12,6,20,20,20,20,20,15,12,11,10,11,11,20]
["2020-07-01",{"$f":"VLOOKUP(J1752,'Control Panel'!$I$27:$K$68,2,FALSE)","v":"SE1"},1,null,null,null,null,null,1,"F84060",null,4827,14,11,11,11,11,1,9,9,8,8,8,11,8,9,6,8,6,8]
["2020-07-01",{"$f":"VLOOKUP(J1753,'Control Panel'!$I$27:$K$68,2,FALSE)","v":"SW1"},1,null,null,null,null,null,1,"F84063",null,6051,10,10,10,10,10,3,12,10,10,10,10,12,8,10,5,9,5,10]
["2020-07-01",{"$f":"VLOOKUP(J1754,'Control Panel'!$I$27:$K$68,2,FALSE)","v":"SE2"},1,null,null,null,null,null,1,"F84069",null,14497,42,36,35,36,35,10,45,42,38,38,38,41,41,37,25,38,25,38]
["2020-07-01",{"$f":"VLOOKUP(J1755,'Control Panel'!$I$27:$K$68,2,FALSE)","v":"SW2"},1,null,null,null,null,null,1,"F84072",null,11071,46,42,41,42,42,18,35,30,31,31,31,31,25,28,12,25,14,32]
["2020-07-01",{"$f":"VLOOKUP(J1756,'Control Panel'!$I$27:$K$68,2,FALSE)","v":"NE2"},0,null,null,null,null,null,1,"F84080",null,5022,16,10,11,12,9,5,19,10,7,7,7,27,21,17,15,16,16,8]
["2020-07-01",{"$f":"VLOOKUP(J1757,'Control Panel'!$I$27:$K$68,2,FALSE)","v":"SW2"},1,null,null,null,null,null,1,"F84096",null,12772,35,31,31,31,32,9,31,29,24,23,23,34,33,33,27,33,27,23]
["2020-07-01",{"$f":"VLOOKUP(J1758,'Control Panel'!$I$27:$K$68,2,FALSE)","v":"SE1"},1,null,null,null,null,null,1,"F84105",null,11502,38,35,35,35,34,10,30,29,27,27,27,41,36,37,27,39,27,27]
["2020-07-01",{"$f":"VLOOKUP(J1759,'Control Panel'!$I$27:$K$68,2,FALSE)","v":"NW1"},1,null,null,null,null,null,1,"F84115",null,8716,26,23,23,23,21,5,28,28,28,27,28,20,19,18,16,18,17,28]
["2020-07-01",{"$f":"VLOOKUP(J1760,'Control Panel'!$I$27:$K$68,2,FALSE)","v":"SW1"},1,null,null,null,null,null,1,"F84117",null,10301,16,14,14,14,15,4,27,24,21,21,21,29,27,27,18,27,18,22]
["2020-07-01",{"$f":"VLOOKUP(J1761,'Control Panel'!$I$27:$K$68,2,FALSE)","v":"NW1"},1,null,null,null,null,null,1,"F84119",null,12397,43,39,39,39,40,19,45,41,37,37,38,25,23,20,16,21,15,38]
["2020-07-01",{"$f":"VLOOKUP(J1762,'Control Panel'!$I$27:$K$68,2,FALSE)","v":"SE2"},1,null,null,null,null,null,1,"F84601",null,7151,15,14,13,14,14,5,27,24,20,20,20,17,16,14,9,14,10,20]
["2020-07-01",{"$f":"VLOOKUP(J1763,'Control Panel'!$I$27:$K$68,2,FALSE)","v":"NE2"},0,null,null,null,null,null,1,"F84619",null,4771,17,14,14,14,14,3,17,14,13,13,14,18,15,14,14,13,13,14]
["2020-07-01",{"$f":"VLOOKUP(J1764,'Control Panel'!$I$27:$K$68,2,FALSE)","v":"SE2"},1,null,null,null,null,null,1,"F84620",null,7035,14,11,11,11,11,3,19,16,17,17,17,16,11,10,4,10,4,16]
["2020-07-01",{"$f":"VLOOKUP(J1765,'Control Panel'!$I$27:$K$68,2,FALSE)","v":"SW1"},1,null,null,null,null,null,1,"F84621",null,3966,9,4,5,4,6,1,8,7,7,6,6,7,7,6,4,6,4,7]
["2020-07-01",{"$f":"VLOOKUP(J1766,'Control Panel'!$I$27:$K$68,2,FALSE)","v":"SE2"},1,null,null,null,null,null,1,"F84632",null,1064,0,0,0,0,0,0,0,0,0,0,0,0,0,0,0,0,0,0]
["2020-07-01",{"$f":"VLOOKUP(J1767,'Control Panel'!$I$27:$K$68,2,FALSE)","v":"SW2"},1,null,null,null,null,null,1,"F84635",null,9258,22,20,20,20,19,12,16,12,11,11,11,22,21,20,17,20,16,11]
["2020-07-01",{"$f":"VLOOKUP(J1768,'Control Panel'!$I$27:$K$68,2,FALSE)","v":"NW2"},1,null,null,null,null,null,1,"F84636",null,5883,13,8,8,7,10,6,8,8,7,8,8,15,13,13,11,13,11,8]
["2020-07-01",{"$f":"VLOOKUP(J1769,'Control Panel'!$I$27:$K$68,2,FALSE)","v":"City"},1,null,null,null,null,null,1,"F84640",null,9299,26,23,23,23,22,5,18,17,18,18,17,11,10,11,11,11,10,18]
["2020-07-01",{"$f":"VLOOKUP(J1770,'Control Panel'!$I$27:$K$68,2,FALSE)","v":"NE2"},0,null,null,null,null,null,1,"F84668",null,6539,35,7,9,9,6,3,37,19,17,20,21,31,21,21,6,17,14,20]
["2020-07-01",{"$f":"VLOOKUP(J1771,'Control Panel'!$I$27:$K$68,2,FALSE)","v":"NE2"},0,null,null,null,null,null,1,"F84685",null,3026,5,2,2,2,2,1,10,4,7,4,7,12,9,10,6,9,9,4]
["2020-07-01",{"$f":"VLOOKUP(J1772,'Control Panel'!$I$27:$K$68,2,FALSE)","v":"NE1"},0,null,null,null,null,null,1,"F84686",null,8080,68,15,18,17,17,1,66,26,28,24,26,65,50,55,27,50,37,25]
["2020-07-01",{"$f":"VLOOKUP(J1773,'Control Panel'!$I$27:$K$68,2,FALSE)","v":"SW2"},1,null,null,null,null,null,1,"F84692",null,7302,9,9,9,9,9,7,14,12,8,9,8,21,20,18,14,18,14,8]
["2020-07-01",{"$f":"VLOOKUP(J1774,'Control Panel'!$I$27:$K$68,2,FALSE)","v":"NW2"},1,null,null,null,null,null,1,"F84694",null,4385,11,8,7,8,7,2,11,11,11,11,11,8,7,7,3,7,6,11]
["2020-07-01",{"$f":"VLOOKUP(J1775,'Control Panel'!$I$27:$K$68,2,FALSE)","v":"NE2"},0,null,null,null,null,null,1,"F84711",null,1955,6,4,3,3,5,2,2,1,0,1,1,5,5,5,4,5,4,0]
["2020-07-01",{"$f":"VLOOKUP(J1776,'Control Panel'!$I$27:$K$68,2,FALSE)","v":"NW1"},1,null,null,null,null,null,1,"F84716",null,5641,29,15,16,17,12,5,29,15,14,14,15,30,24,24,21,24,22,12]
["2020-07-01",{"$f":"VLOOKUP(J1777,'Control Panel'!$I$27:$K$68,2,FALSE)","v":"SE1"},1,null,null,null,null,null,1,"F84719",null,5341,8,7,7,7,6,1,13,12,10,10,10,13,13,11,12,11,12,10]
["2020-07-01",{"$f":"VLOOKUP(J1778,'Control Panel'!$I$27:$K$68,2,FALSE)","v":"NE2"},0,null,null,null,null,null,1,"F84720",null,5569,14,7,7,8,7,2,24,13,11,10,11,22,13,14,6,13,6,10]
["2020-07-01",{"$f":"VLOOKUP(J1779,'Control Panel'!$I$27:$K$68,2,FALSE)","v":"SE2"},1,null,null,null,null,null,1,"Y00403",null,6881,19,14,14,14,15,3,17,15,14,13,14,21,20,18,16,19,17,13]
["2020-07-01",{"$f":"VLOOKUP(J1780,'Control Panel'!$I$27:$K$68,2,FALSE)","v":"NE1"},0,null,null,null,null,null,1,"Y03049",null,14721,71,38,38,39,18,19,57,33,35,32,30,66,50,55,32,48,37,27]
["2020-07-01",{"$f":"VLOOKUP(J1781,'Control Panel'!$I$27:$K$68,2,FALSE)","v":{"$error":"#N/A"}},{"$f":"IF(LEFT(B1781,2)=\"NE\",0,1)","v":{"$error":"#N/A"}},null,null,null,null,null,0,"total",null,328134,1088,767,768,776,727,243,1056,828,775,751,762,1030,883,874,621,837,669,754]
["2020-08-01",{"$f":"VLOOKUP(J1782,'Control Panel'!$I$27:$K$68,2,FALSE)","v":{"$error":"#N/A"}},{"$error":"#N/A"},null,"Last Run:",null,"Population Count",359591,1,null,"Search","All Patients","(01) 12 MONTH COHORT","(01.01) DTaP/IPV/Hib 6in1","(01.02) Men B (1st and 2nd)","(01.03) PCV","(01.04) Rotavirus","(01.05) BCG","(02) 24 MONTH COHORT","(02.01) DTaP/IPV/Hib Combined","(02.02) MMR","(02.03) HiB/Men C","(02.04) PCV (Booster)","(03) 5 YEAR COHORT","(03.01) DTaP/IPV/Hib Combined","(03.02) MMR (Primary)","(03.03) DTaP/IPV (Booster)","(03.04) HiB/Men C","(03.05) MMR (Booster)","(02.05) Men B (Booster)"]
["2020-08-01",{"$f":"VLOOKUP(J1783,'Control Panel'!$I$27:$K$68,2,FALSE)","v":{"$error":"#N/A"}},{"$error":"#N/A"},null,"2020-09-03T11:27:00",null,"Males",179281,1,"Organisation Code"]
["2020-08-01",{"$f":"VLOOKUP(J1784,'Control Panel'!$I$27:$K$68,2,FALSE)","v":"SE1"},1,null,"Relative Date:",null,"Females",180310,1,"F84003",null,15256,46,42,42,42,41,8,46,42,38,39,39,46,45,44,40,45,39,39]
["2020-08-01",{"$f":"VLOOKUP(J1785,'Control Panel'!$I$27:$K$68,2,FALSE)","v":"NW2"},1,null,"2020-09-01",null,null,null,1,"F84008",null,13015,44,40,40,39,38,9,39,36,36,36,36,42,41,40,39,41,39,36]
["2020-08-01",{"$f":"VLOOKUP(J1786,'Control Panel'!$I$27:$K$68,2,FALSE)","v":{"$error":"#N/A"}},{"$error":"#N/A"},null,null,null,null,null,1,"F84010",null,10547,40,36,36,36,33,35,49,45,41,40,41,27,25,23,21,24,21,39]
["2020-08-01",{"$f":"VLOOKUP(J1787,'Control Panel'!$I$27:$K$68,2,FALSE)","v":"NE1"},0,null,null,null,null,null,1,"F84013",null,15571,122,46,47,48,33,4,104,63,62,46,52,108,86,89,48,72,57,53]
["2020-08-01",{"$f":"VLOOKUP(J1788,'Control Panel'!$I$27:$K$68,2,FALSE)","v":"SE1"},1,null,null,null,null,null,1,"F84015",null,5678,14,12,12,12,10,7,17,12,11,11,11,16,15,15,13,15,13,11]
["2020-08-01",{"$f":"VLOOKUP(J1789,'Control Panel'!$I$27:$K$68,2,FALSE)","v":"NE2"},0,null,null,null,null,null,1,"F84018",null,11869,41,31,28,31,30,13,39,36,33,33,33,32,28,27,19,27,24,32]
["2020-08-01",{"$f":"VLOOKUP(J1790,'Control Panel'!$I$27:$K$68,2,FALSE)","v":"SW1"},1,null,null,null,null,null,1,"F84021",null,10423,30,29,29,29,27,5,28,26,24,24,24,32,31,30,22,31,21,24]
["2020-08-01",{"$f":"VLOOKUP(J1791,'Control Panel'!$I$27:$K$68,2,FALSE)","v":"NW2"},1,null,null,null,null,null,1,"F84033",null,11948,36,33,32,33,33,13,28,28,26,26,25,27,22,21,22,21,22,26]
["2020-08-01",{"$f":"VLOOKUP(J1792,'Control Panel'!$I$27:$K$68,2,FALSE)","v":"SW1"},1,null,null,null,null,null,1,"F84035",null,10356,37,34,34,32,32,6,22,18,15,15,14,12,12,10,8,9,9,14]
["2020-08-01",{"$f":"VLOOKUP(J1793,'Control Panel'!$I$27:$K$68,2,FALSE)","v":"NW1"},1,null,null,null,null,null,1,"F84036",null,7142,16,11,11,11,11,4,27,25,19,19,19,19,17,17,15,16,15,19]
["2020-08-01",{"$f":"VLOOKUP(J1794,'Control Panel'!$I$27:$K$68,2,FALSE)","v":"SW1"},1,null,null,null,null,null,1,"F84038",null,4182,7,7,7,7,7,2,12,11,11,11,11,10,8,8,2,7,3,11]
["2020-08-01",{"$f":"VLOOKUP(J1795,'Control Panel'!$I$27:$K$68,2,FALSE)","v":"SW2"},1,null,null,null,null,null,1,"F84041",null,7462,14,12,12,12,12,6,19,19,19,19,19,14,11,11,10,11,11,19]
["2020-08-01",{"$f":"VLOOKUP(J1796,'Control Panel'!$I$27:$K$68,2,FALSE)","v":"SE1"},1,null,null,null,null,null,{"$f":"IF(J1796=\"Total\",0,1)","v":1},"F84060",null,4869,14,11,11,11,11,1,9,9,8,8,8,11,8,9,6,8,6,8]
["2020-08-01",{"$f":"VLOOKUP(J1797,'Control Panel'!$I$27:$K$68,2,FALSE)","v":"SW1"},1,null,null,null,null,null,1,"F84063",null,6039,11,10,10,10,10,4,11,9,9,9,9,12,8,10,5,9,5,9]
["2020-08-01",{"$f":"VLOOKUP(J1798,'Control Panel'!$I$27:$K$68,2,FALSE)","v":"SE2"},1,null,null,null,null,null,1,"F84069",null,14467,43,36,35,36,35,10,44,41,37,37,37,41,41,37,25,38,25,37]
["2020-08-01",{"$f":"VLOOKUP(J1799,'Control Panel'!$I$27:$K$68,2,FALSE)","v":"SW2"},1,null,null,null,null,null,1,"F84072",null,11025,45,41,40,41,41,18,34,29,30,30,30,31,25,28,12,25,14,31]
["2020-08-01",{"$f":"VLOOKUP(J1800,'Control Panel'!$I$27:$K$68,2,FALSE)","v":"NE2"},0,null,null,null,null,null,1,"F84080",null,5031,16,10,11,12,9,5,18,9,6,6,6,26,20,17,14,16,15,7]
["2020-08-01",{"$f":"VLOOKUP(J1801,'Control Panel'!$I$27:$K$68,2,FALSE)","v":"SW2"},1,null,null,null,null,null,1,"F84096",null,12760,34,31,30,31,32,9,30,28,25,24,24,34,33,33,30,33,30,24]
["2020-08-01",{"$f":"VLOOKUP(J1802,'Control Panel'!$I$27:$K$68,2,FALSE)","v":"SE1"},1,null,null,null,null,null,1,"F84105",null,11497,38,35,35,35,34,10,30,29,27,27,27,42,37,38,27,40,27,27]
["2020-08-01",{"$f":"VLOOKUP(J1803,'Control Panel'!$I$27:$K$68,2,FALSE)","v":"NW1"},1,null,null,null,null,null,1,"F84115",null,8706,26,23,23,23,21,5,28,28,28,27,28,20,19,18,16,18,17,28]
["2020-08-01",{"$f":"VLOOKUP(J1804,'Control Panel'!$I$27:$K$68,2,FALSE)","v":"SW1"},1,null,null,null,null,null,1,"F84117",null,10373,16,14,14,14,15,4,27,24,21,21,21,30,27,27,19,27,19,22]
["2020-08-01",{"$f":"VLOOKUP(J1805,'Control Panel'!$I$27:$K$68,2,FALSE)","v":"NW1"},1,null,null,null,null,null,1,"F84119",null,12354,43,39,39,39,40,19,45,41,37,37,38,25,23,20,16,21,15,38]
["2020-08-01",{"$f":"VLOOKUP(J1806,'Control Panel'!$I$27:$K$68,2,FALSE)","v":"SE2"},1,null,null,null,null,null,1,"F84601",null,7157,15,14,13,14,14,5,27,24,20,20,20,17,16,14,9,14,10,20]
["2020-08-01",{"$f":"VLOOKUP(J1807,'Control Panel'!$I$27:$K$68,2,FALSE)","v":"NE2"},0,null,null,null,null,null,1,"F84619",null,4793,18,14,14,14,14,3,17,14,13,13,14,18,15,14,14,13,13,14]
["2020-08-01",{"$f":"VLOOKUP(J1808,'Control Panel'!$I$27:$K$68,2,FALSE)","v":"SE2"},1,null,null,null,null,null,1,"F84620",null,7048,14,11,11,11,11,3,19,16,17,17,17,16,11,10,4,10,4,16]
["2020-08-01",{"$f":"VLOOKUP(J1809,'Control Panel'!$I$27:$K$68,2,FALSE)","v":"SW1"},1,null,null,null,null,null,1,"F84621",null,3982,10,4,5,4,6,2,8,7,7,6,6,6,6,5,3,5,3,7]
["2020-08-01",{"$f":"VLOOKUP(J1810,'Control Panel'!$I$27:$K$68,2,FALSE)","v":"SE2"},1,null,null,null,null,null,1,"F84632",null,1088,0,0,0,0,0,0,0,0,0,0,0,0,0,0,0,0,0,0]
["2020-08-01",{"$f":"VLOOKUP(J1811,'Control Panel'!$I$27:$K$68,2,FALSE)","v":"SW2"},1,null,null,null,null,null,1,"F84635",null,9283,22,20,20,20,19,12,17,13,12,12,12,23,22,21,18,21,18,12]
["2020-08-01",{"$f":"VLOOKUP(J1812,'Control Panel'!$I$27:$K$68,2,FALSE)","v":"NW2"},1,null,null,null,null,null,1,"F84636",null,5943,12,8,8,7,10,6,8,8,7,8,8,15,13,13,11,13,11,8]
["2020-08-01",{"$f":"VLOOKUP(J1813,'Control Panel'!$I$27:$K$68,2,FALSE)","v":"City"},1,null,null,null,null,null,1,"F84640",null,9294,26,23,23,23,22,5,18,17,18,18,17,10,10,10,10,10,10,18]
["2020-08-01",{"$f":"VLOOKUP(J1814,'Control Panel'!$I$27:$K$68,2,FALSE)","v":{"$error":"#N/A"}},{"$error":"#N/A"},null,null,null,null,null,1,"F84666",null,5928,16,15,15,15,15,9,21,15,15,14,14,19,14,13,9,13,9,14]
["2020-08-01",{"$f":"VLOOKUP(J1815,'Control Panel'!$I$27:$K$68,2,FALSE)","v":"NE2"},0,null,null,null,null,null,1,"F84668",null,6515,35,7,9,9,6,3,37,19,18,21,22,31,21,21,6,17,14,21]
["2020-08-01",{"$f":"VLOOKUP(J1816,'Control Panel'!$I$27:$K$68,2,FALSE)","v":"NE2"},0,null,null,null,null,null,1,"F84685",null,3012,5,2,2,2,2,1,10,4,7,4,7,12,9,10,6,9,9,4]
["2020-08-01",{"$f":"VLOOKUP(J1817,'Control Panel'!$I$27:$K$68,2,FALSE)","v":"NE1"},0,null,null,null,null,null,1,"F84686",null,8113,68,15,20,17,17,1,66,27,29,25,27,65,50,55,27,50,37,26]
["2020-08-01",{"$f":"VLOOKUP(J1818,'Control Panel'!$I$27:$K$68,2,FALSE)","v":"SW2"},1,null,null,null,null,null,1,"F84692",null,7322,8,8,8,8,8,7,14,12,8,9,8,21,20,18,14,18,14,8]
["2020-08-01",{"$f":"VLOOKUP(J1819,'Control Panel'!$I$27:$K$68,2,FALSE)","v":"NW2"},1,null,null,null,null,null,1,"F84694",null,4388,11,8,7,8,7,2,11,11,11,11,11,8,7,7,3,7,6,11]
["2020-08-01",{"$f":"VLOOKUP(J1820,'Control Panel'!$I$27:$K$68,2,FALSE)","v":"NE2"},0,null,null,null,null,null,1,"F84711",null,1949,6,4,4,3,5,2,2,1,0,1,1,5,5,5,4,5,4,0]
["2020-08-01",{"$f":"VLOOKUP(J1821,'Control Panel'!$I$27:$K$68,2,FALSE)","v":"NW1"},1,null,null,null,null,null,1,"F84716",null,5635,29,15,17,17,12,5,29,15,14,14,15,30,24,24,21,24,22,12]
["2020-08-01",{"$f":"VLOOKUP(J1822,'Control Panel'!$I$27:$K$68,2,FALSE)","v":"SE1"},1,null,null,null,null,null,1,"F84719",null,5338,8,7,7,7,6,1,12,11,9,9,9,13,13,11,12,11,12,9]
["2020-08-01",{"$f":"VLOOKUP(J1823,'Control Panel'!$I$27:$K$68,2,FALSE)","v":"NE2"},0,null,null,null,null,null,1,"F84720",null,5570,14,7,7,8,7,2,24,13,11,10,11,22,13,14,6,13,6,10]
["2020-08-01",{"$f":"VLOOKUP(J1824,'Control Panel'!$I$27:$K$68,2,FALSE)","v":"SE2"},1,null,null,null,null,null,1,"Y00403",null,6901,19,14,14,14,15,3,16,14,14,13,14,21,20,18,16,19,17,13]
["2020-08-01",{"$f":"VLOOKUP(J1825,'Control Panel'!$I$27:$K$68,2,FALSE)","v":"NE1"},0,null,null,null,null,null,1,"Y03049",null,14717,72,38,38,39,18,19,57,35,35,33,30,66,49,54,31,47,36,28]
["2020-09-01",{"$f":"VLOOKUP(J1826,'Control Panel'!$I$27:$K$68,2,FALSE)","v":{"$error":"#N/A"}},{"$error":"#N/A"},null,"Last Run:",null,"Population Count",342665,1,null,"Search","All Patients","(01) 12 MONTH COHORT","(01.01) DTaP/IPV/Hib 6in1","(01.02) Men B (1st and 2nd)","(01.03) PCV","(01.04) Rotavirus","(01.05) BCG","(02) 24 MONTH COHORT","(02.01) DTaP/IPV/Hib Combined","(02.02) MMR","(02.03) HiB/Men C","(02.04) PCV (Booster)","(03) 5 YEAR COHORT","(03.01) DTaP/IPV/Hib Combined","(03.02) MMR (Primary)","(03.03) DTaP/IPV (Booster)","(03.04) HiB/Men C","(03.05) MMR (Booster)","(02.05) Men B (Booster)"]
["2020-09-01",{"$f":"VLOOKUP(J1827,'Control Panel'!$I$27:$K$68,2,FALSE)","v":{"$error":"#N/A"}},{"$error":"#N/A"},null,"2020-10-02T11:10:00",null,"Males",170627,1,"Organisation Code"]
["2020-09-01",{"$f":"VLOOKUP(J1828,'Control Panel'!$I$27:$K$68,2,FALSE)","v":"SE1"},1,null,"Relative Date:",null,"Females",172038,1,"F84003",null,15225,43,39,39,39,38,8,44,42,38,39,39,46,45,44,40,45,39,39]
["2020-09-01",{"$f":"VLOOKUP(J1829,'Control Panel'!$I$27:$K$68,2,FALSE)","v":"NW2"},1,null,"2020-10-01",null,null,null,1,"F84008",null,12973,42,38,38,37,36,8,38,35,35,35,35,42,41,40,39,41,39,35]
["2020-09-01",{"$f":"VLOOKUP(J1830,'Control Panel'!$I$27:$K$68,2,FALSE)","v":"NE1"},0,null,null,null,null,null,1,"F84013",null,15583,122,46,48,48,34,4,105,64,65,49,57,108,86,89,48,72,57,57]
["2020-09-01",{"$f":"VLOOKUP(J1831,'Control Panel'!$I$27:$K$68,2,FALSE)","v":"SE1"},1,null,null,null,null,null,1,"F84015",null,5691,14,12,12,12,10,7,17,12,11,11,11,16,15,15,13,15,13,11]
["2020-09-01",{"$f":"VLOOKUP(J1832,'Control Panel'!$I$27:$K$68,2,FALSE)","v":"NE2"},0,null,null,null,null,null,1,"F84018",null,11929,37,29,26,29,28,11,38,35,32,32,32,32,28,27,19,27,24,32]
["2020-09-01",{"$f":"VLOOKUP(J1833,'Control Panel'!$I$27:$K$68,2,FALSE)","v":"SW1"},1,null,null,null,null,null,1,"F84021",null,10396,30,29,29,29,27,5,28,26,24,24,24,32,31,30,22,31,21,24]
["2020-09-01",{"$f":"VLOOKUP(J1834,'Control Panel'!$I$27:$K$68,2,FALSE)","v":"NW2"},1,null,null,null,null,null,1,"F84033",null,11966,36,33,32,33,33,13,28,28,26,26,25,27,22,21,22,21,22,26]
["2020-09-01",{"$f":"VLOOKUP(J1835,'Control Panel'!$I$27:$K$68,2,FALSE)","v":"SW1"},1,null,null,null,null,null,1,"F84035",null,10545,36,33,33,31,31,5,22,18,15,15,14,11,11,9,7,8,8,14]
["2020-09-01",{"$f":"VLOOKUP(J1836,'Control Panel'!$I$27:$K$68,2,FALSE)","v":"NW1"},1,null,null,null,null,null,1,"F84036",null,7180,16,11,11,11,11,4,26,24,18,18,18,19,17,17,15,16,15,18]
["2020-09-01",{"$f":"VLOOKUP(J1837,'Control Panel'!$I$27:$K$68,2,FALSE)","v":"SW1"},1,null,null,null,null,null,1,"F84038",null,4180,7,7,7,7,7,2,12,11,11,11,11,9,7,7,1,7,2,11]
["2020-09-01",{"$f":"VLOOKUP(J1838,'Control Panel'!$I$27:$K$68,2,FALSE)","v":"SW2"},1,null,null,null,null,null,1,"F84041",null,7428,13,11,11,11,11,6,20,20,20,20,20,14,11,11,10,11,11,20]
["2020-09-01",{"$f":"VLOOKUP(J1839,'Control Panel'!$I$27:$K$68,2,FALSE)","v":"SE1"},1,null,null,null,null,null,1,"F84060",null,4895,14,11,11,11,11,1,9,9,8,8,8,11,8,9,6,8,6,8]
["2020-09-01",{"$f":"VLOOKUP(J1840,'Control Panel'!$I$27:$K$68,2,FALSE)","v":"SW1"},1,null,null,null,null,null,1,"F84063",null,6023,11,10,10,10,10,4,11,9,9,9,9,12,8,10,5,9,5,9]
["2020-09-01",{"$f":"VLOOKUP(J1841,'Control Panel'!$I$27:$K$68,2,FALSE)","v":"SE2"},1,null,null,null,null,null,1,"F84069",null,14477,43,37,35,36,36,11,44,41,37,37,37,41,41,37,25,38,25,37]
["2020-09-01",{"$f":"VLOOKUP(J1842,'Control Panel'!$I$27:$K$68,2,FALSE)","v":"SW2"},1,null,null,null,null,null,1,"F84072",null,11041,44,40,39,40,40,21,34,29,30,30,30,33,27,30,14,27,16,31]
["2020-09-01",{"$f":"VLOOKUP(J1843,'Control Panel'!$I$27:$K$68,2,FALSE)","v":"NE2"},0,null,null,null,null,null,1,"F84080",null,5032,16,10,11,12,9,5,18,9,6,6,6,26,20,17,14,16,15,7]
["2020-09-01",{"$f":"VLOOKUP(J1844,'Control Panel'!$I$27:$K$68,2,FALSE)","v":"SW2"},1,null,null,null,null,null,1,"F84096",null,12794,34,31,30,31,32,9,29,27,24,23,23,34,33,33,30,33,30,23]
["2020-09-01",{"$f":"VLOOKUP(J1845,'Control Panel'!$I$27:$K$68,2,FALSE)","v":"SE1"},{"$f":"IF(LEFT(B1845,2)=\"NE\",0,1)","v":1},null,null,null,null,null,1,"F84105",null,11543,38,35,35,35,34,10,30,29,27,27,27,42,38,38,27,40,27,27]
["2020-09-01",{"$f":"VLOOKUP(J1846,'Control Panel'!$I$27:$K$68,2,FALSE)","v":"NW1"},1,null,null,null,null,null,1,"F84115",null,8698,26,22,22,22,21,5,28,28,28,27,28,22,19,18,16,18,17,28]
["2020-09-01",{"$f":"VLOOKUP(J1847,'Control Panel'!$I$27:$K$68,2,FALSE)","v":"SW1"},1,null,null,null,null,null,1,"F84117",null,10493,16,14,14,14,15,4,27,24,21,21,21,30,27,28,20,28,20,22]
["2020-09-01",{"$f":"VLOOKUP(J1848,'Control Panel'!$I$27:$K$68,2,FALSE)","v":"NW1"},1,null,null,null,null,null,1,"F84119",null,12239,42,38,38,38,39,18,45,41,37,37,38,25,23,20,16,21,15,38]
["2020-09-01",{"$f":"VLOOKUP(J1849,'Control Panel'!$I$27:$K$68,2,FALSE)","v":"SE2"},1,null,null,null,null,null,1,"F84601",null,7149,15,14,13,14,14,5,27,24,20,20,20,18,17,15,9,15,10,20]
["2020-09-01",{"$f":"VLOOKUP(J1850,'Control Panel'!$I$27:$K$68,2,FALSE)","v":"NE2"},0,null,null,null,null,null,1,"F84619",null,4801,18,14,14,14,14,3,17,14,13,13,14,19,15,14,14,13,13,14]
["2020-09-01",{"$f":"VLOOKUP(J1851,'Control Panel'!$I$27:$K$68,2,FALSE)","v":"SE2"},1,null,null,null,null,null,1,"F84620",null,7127,14,11,11,11,11,3,19,16,17,17,17,16,11,10,4,10,4,16]
["2020-09-01",{"$f":"VLOOKUP(J1852,'Control Panel'!$I$27:$K$68,2,FALSE)","v":"SW1"},1,null,null,null,null,null,1,"F84621",null,4009,11,5,6,5,7,2,8,7,7,6,6,6,6,5,3,5,3,7]
["2020-09-01",{"$f":"VLOOKUP(J1853,'Control Panel'!$I$27:$K$68,2,FALSE)","v":"SE2"},1,null,null,null,null,null,1,"F84632",null,1095,0,0,0,0,0,0,0,0,0,0,0,0,0,0,0,0,0,0]
["2020-09-01",{"$f":"VLOOKUP(J1854,'Control Panel'!$I$27:$K$68,2,FALSE)","v":"SW2"},1,null,null,null,null,null,1,"F84635",null,9413,23,21,21,21,20,12,17,13,12,12,12,23,22,21,18,21,18,12]
["2020-09-01",{"$f":"VLOOKUP(J1855,'Control Panel'!$I$27:$K$68,2,FALSE)","v":"NW2"},1,null,null,null,null,null,1,"F84636",null,5929,12,9,9,8,10,6,8,8,7,8,8,15,13,13,11,13,11,8]
["2020-09-01",{"$f":"VLOOKUP(J1856,'Control Panel'!$I$27:$K$68,2,FALSE)","v":"City"},1,null,null,null,null,null,1,"F84640",null,9317,26,23,23,23,22,5,18,17,18,18,17,10,10,10,10,10,10,18]
["2020-09-01",{"$f":"VLOOKUP(J1857,'Control Panel'!$I$27:$K$68,2,FALSE)","v":"NE2"},0,null,null,null,null,null,1,"F84668",null,6515,35,7,9,9,6,3,37,19,18,21,22,31,21,21,6,17,14,21]
["2020-09-01",{"$f":"VLOOKUP(J1858,'Control Panel'!$I$27:$K$68,2,FALSE)","v":"NE2"},0,null,null,null,null,null,1,"F84685",null,3002,5,2,2,2,2,1,9,3,6,3,6,12,9,10,6,9,9,3]
["2020-09-01",{"$f":"VLOOKUP(J1859,'Control Panel'!$I$27:$K$68,2,FALSE)","v":"NE1"},0,null,null,null,null,null,1,"F84686",null,8118,68,15,20,17,17,1,65,26,28,25,27,67,52,57,28,52,38,25]
["2020-09-01",{"$f":"VLOOKUP(J1860,'Control Panel'!$I$27:$K$68,2,FALSE)","v":"SW2"},1,null,null,null,null,null,{"$f":"IF(J1860=\"Total\",0,1)","v":1},"F84692",null,7270,8,8,8,8,8,7,14,12,8,9,8,21,20,18,14,18,14,8]
["2020-09-01",{"$f":"VLOOKUP(J1861,'Control Panel'!$I$27:$K$68,2,FALSE)","v":"NW2"},1,null,null,null,null,null,1,"F84694",null,4408,12,9,8,9,8,2,11,11,11,11,11,8,7,7,3,7,6,11]
["2020-09-01",{"$f":"VLOOKUP(J1862,'Control Panel'!$I$27:$K$68,2,FALSE)","v":"NE2"},0,null,null,null,null,null,1,"F84711",null,1942,6,4,4,3,5,2,2,1,0,1,1,5,5,5,4,5,4,0]
["2020-09-01",{"$f":"VLOOKUP(J1863,'Control Panel'!$I$27:$K$68,2,FALSE)","v":"NW1"},1,null,null,null,null,null,1,"F84716",null,5640,29,15,17,17,12,5,28,15,14,14,15,29,24,24,21,24,22,12]
["2020-09-01",{"$f":"VLOOKUP(J1864,'Control Panel'!$I$27:$K$68,2,FALSE)","v":"SE1"},1,null,null,null,null,null,1,"F84719",null,5314,8,7,7,7,6,1,12,11,9,9,9,13,13,11,12,11,12,9]
["2020-09-01",{"$f":"VLOOKUP(J1865,'Control Panel'!$I$27:$K$68,2,FALSE)","v":"NE2"},0,null,null,null,null,null,1,"F84720",null,5554,14,7,7,8,7,2,24,13,11,10,11,22,13,14,6,13,6,10]
["2020-09-01",{"$f":"VLOOKUP(J1866,'Control Panel'!$I$27:$K$68,2,FALSE)","v":"SE2"},1,null,null,null,null,null,1,"Y00403",null,6900,19,16,16,16,15,3,16,14,14,13,14,20,19,17,16,18,17,14]
["2020-09-01",{"$f":"VLOOKUP(J1867,'Control Panel'!$I$27:$K$68,2,FALSE)","v":"NE1"},0,null,null,null,null,null,1,"Y03049",null,14688,71,38,38,39,18,21,56,34,34,32,29,65,48,53,32,46,36,27]
["2020-09-01",{"$f":"VLOOKUP(J1868,'Control Panel'!$I$27:$K$68,2,FALSE)","v":{"$error":"#N/A"}},{"$f":"IF(LEFT(B1868,2)=\"NE\",0,1)","v":{"$error":"#N/A"}},null,null,null,null,null,0,"total",null,328522,1074,761,764,767,715,245,1041,819,769,747,760,1032,883,875,626,839,674,752]
["2020-10-01",{"$f":"VLOOKUP(J1869,'Control Panel'!$I$27:$K$68,2,FALSE)","v":{"$error":"#N/A"}},{"$error":"#N/A"},null,"Last Run:",null,"Population Count",342795,1,null,"Search","All Patients","(01) 12 MONTH COHORT","(01.01) DTaP/IPV/Hib 6in1","(01.02) Men B (1st and 2nd)","(01.03) PCV","(01.04) Rotavirus","(01.05) BCG","(02) 24 MONTH COHORT","(02.01) DTaP/IPV/Hib Combined","(02.02) MMR","(02.03) HiB/Men C","(02.04) PCV (Booster)","(03) 5 YEAR COHORT","(03.01) DTaP/IPV/Hib Combined","(03.02) MMR (Primary)","(03.03) DTaP/IPV (Booster)","(03.04) HiB/Men C","(03.05) MMR (Booster)","(02.05) Men B (Booster)"]
["2020-10-01",{"$f":"VLOOKUP(J1870,'Control Panel'!$I$27:$K$68,2,FALSE)","v":{"$error":"#N/A"}},{"$error":"#N/A"},null,"2020-11-02T13:44:00",null,"Males",170612,1,"Organisation Code"]
["2020-10-01",{"$f":"VLOOKUP(J1871,'Control Panel'!$I$27:$K$68,2,FALSE)","v":"SE1"},1,null,"Relative Date:",null,"Females",172183,1,"F84003",null,15176,39,35,34,35,33,11,48,45,36,34,37,45,44,42,34,41,33,37]
["2020-10-01",{"$f":"VLOOKUP(J1872,'Control Panel'!$I$27:$K$68,2,FALSE)","v":"NW2"},1,null,"2020-11-01",null,null,null,1,"F84008",null,12935,30,27,27,27,26,10,38,36,35,35,35,46,43,43,42,43,43,34]
["2020-10-01",{"$f":"VLOOKUP(J1873,'Control Panel'!$I$27:$K$68,2,FALSE)","v":"NE1"},0,null,null,null,null,null,1,"F84013",null,15592,105,29,29,26,26,3,136,72,67,52,67,118,88,96,52,76,56,63]
["2020-10-01",{"$f":"VLOOKUP(J1874,'Control Panel'!$I$27:$K$68,2,FALSE)","v":"SE1"},1,null,null,null,null,null,1,"F84015",null,5681,20,15,14,15,16,9,11,8,7,7,7,18,13,15,10,15,10,7]
["2020-10-01",{"$f":"VLOOKUP(J1875,'Control Panel'!$I$27:$K$68,2,FALSE)","v":"NE2"},0,null,null,null,null,null,1,"F84018",null,11916,48,39,39,38,33,15,40,34,23,23,24,39,34,32,27,34,29,24]
["2020-10-01",{"$f":"VLOOKUP(J1876,'Control Panel'!$I$27:$K$68,2,FALSE)","v":"SW1"},1,null,null,null,null,null,1,"F84021",null,10330,20,19,19,17,17,5,33,32,25,26,26,33,33,30,22,30,21,26]
["2020-10-01",{"$f":"VLOOKUP(J1877,'Control Panel'!$I$27:$K$68,2,FALSE)","v":"NW2"},1,null,null,null,null,null,1,"F84033",null,11942,25,18,18,18,19,4,36,33,32,32,32,26,25,25,21,24,22,32]
["2020-10-01",{"$f":"VLOOKUP(J1878,'Control Panel'!$I$27:$K$68,2,FALSE)","v":"SW1"},1,null,null,null,null,null,1,"F84035",null,10725,33,25,25,25,26,5,24,23,23,23,23,19,13,14,9,14,9,22]
["2020-10-01",{"$f":"VLOOKUP(J1879,'Control Panel'!$I$27:$K$68,2,FALSE)","v":"NW1"},1,null,null,null,null,null,1,"F84036",null,7200,24,18,17,17,17,8,25,23,21,21,21,25,23,23,20,22,20,21]
["2020-10-01",{"$f":"VLOOKUP(J1880,'Control Panel'!$I$27:$K$68,2,FALSE)","v":"SW1"},1,null,null,null,null,null,1,"F84038",null,4172,3,3,3,3,3,0,6,3,3,3,3,11,10,8,3,7,3,3]
["2020-10-01",{"$f":"VLOOKUP(J1881,'Control Panel'!$I$27:$K$68,2,FALSE)","v":"SW2"},1,null,null,null,null,null,1,"F84041",null,7337,15,12,13,13,12,3,23,22,22,22,22,26,26,26,19,26,18,22]
["2020-10-01",{"$f":"VLOOKUP(J1882,'Control Panel'!$I$27:$K$68,2,FALSE)","v":"SE1"},1,null,null,null,null,null,1,"F84060",null,4833,8,5,5,6,5,3,10,7,5,5,5,11,11,10,7,10,7,5]
["2020-10-01",{"$f":"VLOOKUP(J1883,'Control Panel'!$I$27:$K$68,2,FALSE)","v":"SW1"},1,null,null,null,null,null,1,"F84063",null,6026,9,7,6,7,8,6,12,12,12,12,12,15,15,13,9,14,9,12]
["2020-10-01",{"$f":"VLOOKUP(J1884,'Control Panel'!$I$27:$K$68,2,FALSE)","v":"SE2"},1,null,null,null,null,null,1,"F84069",null,14417,38,34,34,32,33,10,52,50,43,43,43,38,34,34,22,33,23,43]
["2020-10-01",{"$f":"VLOOKUP(J1885,'Control Panel'!$I$27:$K$68,2,FALSE)","v":"SW2"},1,null,null,null,null,null,1,"F84072",null,11074,32,28,28,29,29,15,37,30,25,26,26,31,28,31,19,31,19,27]
["2020-10-01",{"$f":"VLOOKUP(J1886,'Control Panel'!$I$27:$K$68,2,FALSE)","v":"NE2"},0,null,null,null,null,null,1,"F84080",null,5055,17,6,7,5,4,2,22,12,11,11,14,22,19,17,14,15,14,13]
["2020-10-01",{"$f":"VLOOKUP(J1887,'Control Panel'!$I$27:$K$68,2,FALSE)","v":"SW2"},1,null,null,null,null,null,1,"F84096",null,12845,29,25,25,24,25,12,29,23,21,21,21,33,31,29,26,30,26,21]
["2020-10-01",{"$f":"VLOOKUP(J1888,'Control Panel'!$I$27:$K$68,2,FALSE)","v":"SE1"},1,null,null,null,null,null,1,"F84105",null,11494,41,32,30,28,30,2,34,30,25,25,25,40,39,36,26,37,27,25]
["2020-10-01",{"$f":"VLOOKUP(J1889,'Control Panel'!$I$27:$K$68,2,FALSE)","v":"NW1"},1,null,null,null,null,null,1,"F84115",null,8701,22,18,18,17,16,8,26,26,23,22,22,23,23,21,20,21,20,21]
["2020-10-01",{"$f":"VLOOKUP(J1890,'Control Panel'!$I$27:$K$68,2,FALSE)","v":"SW1"},1,null,null,null,null,null,1,"F84117",null,10212,24,23,23,23,22,9,21,21,19,19,19,32,31,29,23,27,24,18]
["2020-10-01",{"$f":"VLOOKUP(J1891,'Control Panel'!$I$27:$K$68,2,FALSE)","v":"NW1"},1,null,null,null,null,null,1,"F84119",null,12168,40,38,38,38,39,18,49,40,36,36,37,40,38,36,25,36,28,37]
["2020-10-01",{"$f":"VLOOKUP(J1892,'Control Panel'!$I$27:$K$68,2,FALSE)","v":"SE2"},1,null,null,null,null,null,1,"F84601",null,7232,17,14,14,14,16,4,29,24,22,22,22,16,14,11,7,11,8,21]
["2020-10-01",{"$f":"VLOOKUP(J1893,'Control Panel'!$I$27:$K$68,2,FALSE)","v":"NE2"},0,null,null,null,null,null,1,"F84619",null,4811,13,11,11,10,12,3,20,18,16,17,17,15,13,15,12,15,13,17]
["2020-10-01",{"$f":"VLOOKUP(J1894,'Control Panel'!$I$27:$K$68,2,FALSE)","v":"SE2"},1,null,null,null,null,null,1,"F84620",null,7156,26,22,21,19,21,9,23,18,17,18,18,23,22,20,14,21,13,18]
["2020-10-01",{"$f":"VLOOKUP(J1895,'Control Panel'!$I$27:$K$68,2,FALSE)","v":"SW1"},1,null,null,null,null,null,1,"F84621",null,4010,13,13,13,13,13,3,14,13,13,13,13,6,5,4,4,5,3,13]
["2020-10-01",{"$f":"VLOOKUP(J1896,'Control Panel'!$I$27:$K$68,2,FALSE)","v":"SE2"},1,null,null,null,null,null,1,"F84632",null,1104,0,0,0,0,0,0,0,0,0,0,0,0,0,0,0,0,0,0]
["2020-10-01",{"$f":"VLOOKUP(J1897,'Control Panel'!$I$27:$K$68,2,FALSE)","v":"SW2"},1,null,null,null,null,null,1,"F84635",null,9391,18,15,15,15,15,4,19,16,11,11,11,20,15,15,14,15,14,11]
["2020-10-01",{"$f":"VLOOKUP(J1898,'Control Panel'!$I$27:$K$68,2,FALSE)","v":"NW2"},1,null,null,null,null,null,1,"F84636",null,6004,8,7,7,6,7,4,8,8,6,5,6,13,10,7,4,8,7,6]
["2020-10-01",{"$f":"VLOOKUP(J1899,'Control Panel'!$I$27:$K$68,2,FALSE)","v":"City"},1,null,null,null,null,null,1,"F84640",null,9339,13,12,11,12,12,5,19,18,17,17,17,13,13,13,12,12,12,17]
["2020-10-01",{"$f":"VLOOKUP(J1900,'Control Panel'!$I$27:$K$68,2,FALSE)","v":"NE2"},0,null,null,null,null,null,1,"F84668",null,6512,33,6,10,10,6,1,46,25,25,20,29,37,28,32,13,27,18,24]
["2020-10-01",{"$f":"VLOOKUP(J1901,'Control Panel'!$I$27:$K$68,2,FALSE)","v":"NE2"},0,null,null,null,null,null,1,"F84685",null,3014,16,9,9,6,7,2,12,10,9,8,8,10,8,9,7,8,8,8]
["2020-10-01",{"$f":"VLOOKUP(J1902,'Control Panel'!$I$27:$K$68,2,FALSE)","v":"NE1"},0,null,null,null,null,null,1,"F84686",null,8137,54,14,15,14,5,1,85,41,35,28,39,90,69,76,26,69,31,36]
["2020-10-01",{"$f":"VLOOKUP(J1903,'Control Panel'!$I$27:$K$68,2,FALSE)","v":"SW2"},1,null,null,null,null,null,1,"F84692",null,7285,16,13,13,12,13,3,11,10,8,8,8,8,7,7,5,7,5,8]
["2020-10-01",{"$f":"VLOOKUP(J1904,'Control Panel'!$I$27:$K$68,2,FALSE)","v":"NW2"},1,null,null,null,null,null,1,"F84694",null,4425,10,9,9,8,9,0,11,11,11,11,11,8,8,7,7,7,7,11]
["2020-10-01",{"$f":"VLOOKUP(J1905,'Control Panel'!$I$27:$K$68,2,FALSE)","v":"NE2"},0,null,null,null,null,null,1,"F84711",null,1938,7,6,6,6,6,2,7,7,6,6,6,4,4,4,4,4,4,7]
["2020-10-01",{"$f":"VLOOKUP(J1906,'Control Panel'!$I$27:$K$68,2,FALSE)","v":"NW1"},1,null,null,null,null,null,1,"F84716",null,5641,31,15,15,15,14,5,31,25,22,22,22,25,20,19,12,17,13,20]
["2020-10-01",{"$f":"VLOOKUP(J1907,'Control Panel'!$I$27:$K$68,2,FALSE)","v":"SE1"},1,null,null,null,null,null,1,"F84719",null,5315,9,8,8,8,7,3,17,16,15,15,15,17,15,16,13,16,14,15]
["2020-10-01",{"$f":"VLOOKUP(J1908,'Control Panel'!$I$27:$K$68,2,FALSE)","v":"NE2"},0,null,null,null,null,null,1,"F84720",null,5584,13,4,5,5,4,1,10,6,6,6,4,17,9,11,5,9,7,5]
["2020-10-01",{"$f":"VLOOKUP(J1909,'Control Panel'!$I$27:$K$68,2,FALSE)","v":"SE2"},1,null,null,null,null,null,1,"Y00403",null,6966,31,23,23,22,25,6,18,17,18,18,18,17,14,14,11,14,11,18]
["2020-10-01",{"$f":"VLOOKUP(J1910,'Control Panel'!$I$27:$K$68,2,FALSE)","v":"NE1"},0,null,null,null,null,null,1,"Y03049",null,14670,58,30,29,27,15,17,52,33,34,31,32,78,61,60,39,56,42,30]
["2020-10-01",{"$f":"VLOOKUP(J1911,'Control Panel'!$I$27:$K$68,2,FALSE)","v":{"$error":"#N/A"}},{"$f":"IF(LEFT(B1911,2)=\"NE\",0,1)","v":{"$error":"#N/A"}},null,null,null,null,null,0,"total",null,{"$f":"SUM(L1871:L1910)","v":328365},{"$f":"SUM(M1871:M1910)","v":1008},687,686,665,646,231,1144,898,805,774,817,1108,956,950,659,907,691,798]
["2020-11-01",{"$f":"VLOOKUP(J1912,'Control Panel'!$I$27:$K$68,2,FALSE)","v":{"$error":"#N/A"}},{"$error":"#N/A"},null,"Last Run:",null,"Population Count",342896,1,null,"Search","All Patients","(01) 12 MONTH COHORT","(01.01) DTaP/IPV/Hib 6in1","(01.02) Men B (1st and 2nd)","(01.03) PCV","(01.04) Rotavirus","(01.05) BCG","(02) 24 MONTH COHORT","(02.01) DTaP/IPV/Hib Combined","(02.02) MMR","(02.03) HiB/Men C","(02.04) PCV (Booster)","(03) 5 YEAR COHORT","(03.01) DTaP/IPV/Hib Combined","(03.02) MMR (Primary)","(03.03) DTaP/IPV (Booster)","(03.04) HiB/Men C","(03.05) MMR (Booster)","(02.05) Men B (Booster)"]
["2020-11-01",{"$f":"VLOOKUP(J1913,'Control Panel'!$I$27:$K$68,2,FALSE)","v":{"$error":"#N/A"}},{"$error":"#N/A"},null,"2020-12-02T14:57:00",null,"Males",170733,1,"Organisation Code"]
["2020-11-01",{"$f":"VLOOKUP(J1914,'Control Panel'!$I$27:$K$68,2,FALSE)","v":"SE1"},1,null,"Relative Date:",null,"Females",172163,1,"F84003",null,15138,39,35,34,35,33,11,48,45,36,34,37,45,44,42,35,41,34,37]
["2020-11-01",{"$f":"VLOOKUP(J1915,'Control Panel'!$I$27:$K$68,2,FALSE)","v":"NW2"},1,null,"2020-12-01",null,null,null,1,"F84008",null,12933,31,27,27,27,26,10,36,34,33,33,33,46,43,43,42,43,43,32]
["2020-11-01",{"$f":"VLOOKUP(J1916,'Control Panel'!$I$27:$K$68,2,FALSE)","v":"NE1"},0,null,null,null,null,null,1,"F84013",null,15677,109,30,30,26,26,4,137,72,69,54,69,119,88,96,53,76,56,65]
["2020-11-01",{"$f":"VLOOKUP(J1917,'Control Panel'!$I$27:$K$68,2,FALSE)","v":"SE1"},1,null,null,null,null,null,1,"F84015",null,5656,20,16,15,15,16,9,11,8,7,7,7,18,13,15,10,15,10,7]
["2020-11-01",{"$f":"VLOOKUP(J1918,'Control Panel'!$I$27:$K$68,2,FALSE)","v":"NE2"},0,null,null,null,null,null,1,"F84018",null,11894,47,38,38,37,32,14,40,34,25,25,25,39,34,32,27,34,29,25]
["2020-11-01",{"$f":"VLOOKUP(J1919,'Control Panel'!$I$27:$K$68,2,FALSE)","v":"SW1"},1,null,null,null,null,null,1,"F84021",null,10301,20,19,19,17,17,5,33,32,25,26,26,33,33,30,22,30,21,26]
["2020-11-01",{"$f":"VLOOKUP(J1920,'Control Panel'!$I$27:$K$68,2,FALSE)","v":"NW2"},1,null,null,null,null,null,1,"F84033",null,11967,26,20,20,20,20,5,36,33,32,32,32,26,25,25,21,24,22,32]
["2020-11-01",{"$f":"VLOOKUP(J1921,'Control Panel'!$I$27:$K$68,2,FALSE)","v":"SW1"},1,null,null,null,null,null,1,"F84035",null,10867,33,27,27,25,26,5,23,22,22,22,22,19,14,15,9,14,9,21]
["2020-11-01",{"$f":"VLOOKUP(J1922,'Control Panel'!$I$27:$K$68,2,FALSE)","v":"NW1"},1,null,null,null,null,null,1,"F84036",null,7202,23,18,17,17,16,8,25,23,21,21,21,25,23,23,20,22,20,21]
["2020-11-01",{"$f":"VLOOKUP(J1923,'Control Panel'!$I$27:$K$68,2,FALSE)","v":"SW1"},1,null,null,null,null,null,1,"F84038",null,4162,3,3,3,3,3,0,6,3,3,3,3,12,11,9,4,8,4,3]
["2020-11-01",{"$f":"VLOOKUP(J1924,'Control Panel'!$I$27:$K$68,2,FALSE)","v":"SW2"},1,null,null,null,null,null,{"$f":"IF(J1924=\"Total\",0,1)","v":1},"F84041",null,7303,15,12,13,13,12,5,23,22,22,22,22,26,26,26,19,26,18,22]
["2020-11-01",{"$f":"VLOOKUP(J1925,'Control Panel'!$I$27:$K$68,2,FALSE)","v":"SE1"},1,null,null,null,null,null,1,"F84060",null,4830,8,5,5,6,5,3,10,7,5,5,5,11,11,10,7,10,7,5]
["2020-11-01",{"$f":"VLOOKUP(J1926,'Control Panel'!$I$27:$K$68,2,FALSE)","v":"SW1"},1,null,null,null,null,null,1,"F84063",null,6035,9,7,6,7,8,6,13,12,12,12,12,15,15,14,10,15,9,12]
["2020-11-01",{"$f":"VLOOKUP(J1927,'Control Panel'!$I$27:$K$68,2,FALSE)","v":"SE2"},1,null,null,null,null,null,1,"F84069",null,14361,37,33,33,31,32,11,52,50,43,43,43,38,34,34,22,33,23,43]
["2020-11-01",{"$f":"VLOOKUP(J1928,'Control Panel'!$I$27:$K$68,2,FALSE)","v":"SW2"},1,null,null,null,null,null,1,"F84072",null,11088,30,27,27,28,27,14,37,30,25,26,26,31,28,31,19,31,19,27]
["2020-11-01",{"$f":"VLOOKUP(J1929,'Control Panel'!$I$27:$K$68,2,FALSE)","v":"NE2"},0,null,null,null,null,null,1,"F84080",null,5064,17,7,8,6,5,3,22,12,11,11,14,22,19,17,15,15,15,13]
["2020-11-01",{"$f":"VLOOKUP(J1930,'Control Panel'!$I$27:$K$68,2,FALSE)","v":"SW2"},1,null,null,null,null,null,1,"F84096",null,12861,28,24,24,23,24,12,28,22,20,20,20,34,31,29,26,30,26,20]
["2020-11-01",{"$f":"VLOOKUP(J1931,'Control Panel'!$I$27:$K$68,2,FALSE)","v":"SE1"},1,null,null,null,null,null,1,"F84105",null,11599,42,32,31,28,31,3,34,30,25,25,25,40,39,36,26,37,27,25]
["2020-11-01",{"$f":"VLOOKUP(J1932,'Control Panel'!$I$27:$K$68,2,FALSE)","v":"NW1"},1,null,null,null,null,null,1,"F84115",null,8633,22,18,18,17,16,8,25,25,23,22,22,23,23,21,20,21,20,21]
["2020-11-01",{"$f":"VLOOKUP(J1933,'Control Panel'!$I$27:$K$68,2,FALSE)","v":"SW1"},1,null,null,null,null,null,1,"F84117",null,10250,24,23,23,23,22,9,21,21,19,19,19,32,31,29,25,27,26,18]
["2020-11-01",{"$f":"VLOOKUP(J1934,'Control Panel'!$I$27:$K$68,2,FALSE)","v":"NW1"},1,null,null,null,null,null,1,"F84119",null,12160,39,37,37,37,38,17,49,40,36,36,37,40,38,36,25,36,28,37]
["2020-11-01",{"$f":"VLOOKUP(J1935,'Control Panel'!$I$27:$K$68,2,FALSE)","v":"SE2"},1,null,null,null,null,null,1,"F84601",null,7210,16,13,13,13,15,4,29,24,22,22,22,16,14,11,7,11,8,21]
["2020-11-01",{"$f":"VLOOKUP(J1936,'Control Panel'!$I$27:$K$68,2,FALSE)","v":"NE2"},0,null,null,null,null,null,1,"F84619",null,4803,13,12,12,10,12,3,20,18,16,17,17,15,13,15,12,15,13,17]
["2020-11-01",{"$f":"VLOOKUP(J1937,'Control Panel'!$I$27:$K$68,2,FALSE)","v":"SE2"},1,null,null,null,null,null,1,"F84620",null,7094,25,21,21,18,21,9,23,18,17,18,18,23,22,20,14,21,13,18]
["2020-11-01",{"$f":"VLOOKUP(J1938,'Control Panel'!$I$27:$K$68,2,FALSE)","v":"SW1"},1,null,null,null,null,null,1,"F84621",null,4019,13,13,13,13,13,3,15,13,13,13,13,6,5,4,4,5,3,13]
["2020-11-01",{"$f":"VLOOKUP(J1939,'Control Panel'!$I$27:$K$68,2,FALSE)","v":"SE2"},1,null,null,null,null,null,1,"F84632",null,1093,0,0,0,0,0,0,0,0,0,0,0,0,0,0,0,0,0,0]
["2020-11-01",{"$f":"VLOOKUP(J1940,'Control Panel'!$I$27:$K$68,2,FALSE)","v":"SW2"},1,null,null,null,null,null,1,"F84635",null,9389,17,14,14,14,14,4,19,16,11,11,11,20,15,15,14,15,14,11]
["2020-11-01",{"$f":"VLOOKUP(J1941,'Control Panel'!$I$27:$K$68,2,FALSE)","v":"NW2"},1,null,null,null,null,null,1,"F84636",null,6036,8,7,7,6,7,4,8,8,6,5,6,14,10,7,4,8,7,6]
["2020-11-01",{"$f":"VLOOKUP(J1942,'Control Panel'!$I$27:$K$68,2,FALSE)","v":"City"},1,null,null,null,null,null,1,"F84640",null,9300,13,12,11,12,12,5,19,18,17,17,17,13,13,13,12,12,12,17]
["2020-11-01",{"$f":"VLOOKUP(J1943,'Control Panel'!$I$27:$K$68,2,FALSE)","v":"NE2"},0,null,null,null,null,null,1,"F84668",null,6499,32,8,11,11,6,1,46,26,25,20,29,37,28,32,14,27,19,24]
["2020-11-01",{"$f":"VLOOKUP(J1944,'Control Panel'!$I$27:$K$68,2,FALSE)","v":"NE2"},0,null,null,null,null,null,1,"F84685",null,3006,16,10,10,6,7,2,12,10,9,8,8,10,8,9,7,8,8,8]
["2020-11-01",{"$f":"VLOOKUP(J1945,'Control Panel'!$I$27:$K$68,2,FALSE)","v":"NE1"},0,null,null,null,null,null,1,"F84686",null,8143,53,14,16,13,5,1,85,42,36,29,39,90,69,76,26,69,31,36]
["2020-11-01",{"$f":"VLOOKUP(J1946,'Control Panel'!$I$27:$K$68,2,FALSE)","v":"SW2"},1,null,null,null,null,null,1,"F84692",null,7316,16,13,13,12,13,3,11,10,8,8,8,8,7,7,5,7,5,8]
["2020-11-01",{"$f":"VLOOKUP(J1947,'Control Panel'!$I$27:$K$68,2,FALSE)","v":"NW2"},1,null,null,null,null,null,1,"F84694",null,4442,10,9,9,8,9,0,11,11,11,11,11,8,8,7,7,7,7,11]
["2020-11-01",{"$f":"VLOOKUP(J1948,'Control Panel'!$I$27:$K$68,2,FALSE)","v":"NE2"},0,null,null,null,null,null,1,"F84711",null,1905,7,6,6,6,6,2,7,7,6,6,6,3,3,3,3,3,3,7]
["2020-11-01",{"$f":"VLOOKUP(J1949,'Control Panel'!$I$27:$K$68,2,FALSE)","v":"NW1"},1,null,null,null,null,null,1,"F84716",null,5606,32,16,16,16,15,6,30,25,21,21,21,25,20,19,12,17,13,19]
["2020-11-01",{"$f":"VLOOKUP(J1950,'Control Panel'!$I$27:$K$68,2,FALSE)","v":"SE1"},1,null,null,null,null,null,1,"F84719",null,5324,9,8,8,8,7,3,17,16,15,15,15,17,15,16,13,16,14,15]
["2020-11-01",{"$f":"VLOOKUP(J1951,'Control Panel'!$I$27:$K$68,2,FALSE)","v":"NE2"},0,null,null,null,null,null,1,"F84720",null,5579,14,4,5,5,4,1,10,6,6,6,4,17,9,11,5,9,7,5]
["2020-11-01",{"$f":"VLOOKUP(J1952,'Control Panel'!$I$27:$K$68,2,FALSE)","v":"SE2"},1,null,null,null,null,null,1,"Y00403",null,7028,31,23,23,22,25,6,18,17,18,18,18,17,14,14,11,14,11,18]
["2020-11-01",{"$f":"VLOOKUP(J1953,'Control Panel'!$I$27:$K$68,2,FALSE)","v":"NE1"},0,null,null,null,null,null,1,"Y03049",null,14680,58,30,29,27,15,18,52,33,34,31,32,78,61,60,39,56,42,30]
["2020-11-01",{"$f":"VLOOKUP(J1954,'Control Panel'!$I$27:$K$68,2,FALSE)","v":{"$error":"#N/A"}},{"$error":"#N/A"},null,null,null,null,null,0,"total",null,328453,1005,691,692,661,641,237,1141,895,805,774,815,1111,957,952,666,908,696,796]
["2020-12-01",{"$f":"VLOOKUP(J1955,'Control Panel'!$I$27:$K$68,2,FALSE)","v":{"$error":"#N/A"}},{"$error":"#N/A"},null,"Last Run:",null,"Population Count",343165,1,null,"Search","All Patients","(01) 12 MONTH COHORT","(01.01) DTaP/IPV/Hib 6in1","(01.02) Men B (1st and 2nd)","(01.03) PCV","(01.04) Rotavirus","(01.05) BCG","(02) 24 MONTH COHORT","(02.01) DTaP/IPV/Hib Combined","(02.02) MMR","(02.03) HiB/Men C","(02.04) PCV (Booster)","(03) 5 YEAR COHORT","(03.01) DTaP/IPV/Hib Combined","(03.02) MMR (Primary)","(03.03) DTaP/IPV (Booster)","(03.04) HiB/Men C","(03.05) MMR (Booster)","(02.05) Men B (Booster)"]
["2020-12-01",{"$f":"VLOOKUP(J1956,'Control Panel'!$I$27:$K$68,2,FALSE)","v":{"$error":"#N/A"}},{"$error":"#N/A"},null,"2021-01-05T14:33:00",null,"Males",170905,1,"Organisation Code"]
["2020-12-01",{"$f":"VLOOKUP(J1957,'Control Panel'!$I$27:$K$68,2,FALSE)","v":"SE1"},1,null,"Relative Date:",null,"Females",172260,1,"F84003",null,15189,40,36,35,36,34,11,47,45,35,34,36,44,43,41,35,40,34,36]
["2020-12-01",{"$f":"VLOOKUP(J1958,'Control Panel'!$I$27:$K$68,2,FALSE)","v":"NW2"},1,null,"2021-01-01",null,null,null,1,"F84008",null,12894,31,27,27,27,26,10,36,34,33,33,33,46,43,43,42,43,43,32]
["2020-12-01",{"$f":"VLOOKUP(J1959,'Control Panel'!$I$27:$K$68,2,FALSE)","v":"NE1"},0,null,null,null,null,null,1,"F84013",null,15740,112,30,30,26,26,4,137,71,68,53,68,119,88,96,53,76,56,64]
["2020-12-01",{"$f":"VLOOKUP(J1960,'Control Panel'!$I$27:$K$68,2,FALSE)","v":"SE1"},1,null,null,null,null,null,1,"F84015",null,5647,20,16,15,15,16,9,11,8,7,7,7,18,13,15,10,15,10,7]
["2020-12-01",{"$f":"VLOOKUP(J1961,'Control Panel'!$I$27:$K$68,2,FALSE)","v":"NE2"},0,null,null,null,null,null,1,"F84018",null,11904,47,38,38,37,32,14,38,32,23,23,23,39,34,32,27,34,29,23]
["2020-12-01",{"$f":"VLOOKUP(J1962,'Control Panel'!$I$27:$K$68,2,FALSE)","v":"SW1"},1,null,null,null,null,null,1,"F84021",null,10290,20,19,19,17,17,5,33,32,25,26,26,33,33,30,22,30,21,26]
["2020-12-01",{"$f":"VLOOKUP(J1963,'Control Panel'!$I$27:$K$68,2,FALSE)","v":"NW2"},1,null,null,null,null,null,1,"F84033",null,11935,26,20,20,20,20,6,35,32,31,31,31,26,25,25,21,24,22,31]
["2020-12-01",{"$f":"VLOOKUP(J1964,'Control Panel'!$I$27:$K$68,2,FALSE)","v":"SW1"},1,null,null,null,null,null,1,"F84035",null,10985,33,27,27,25,26,5,23,22,22,22,22,19,14,15,9,14,9,21]
["2020-12-01",{"$f":"VLOOKUP(J1965,'Control Panel'!$I$27:$K$68,2,FALSE)","v":"NW1"},1,null,null,null,null,null,1,"F84036",null,7259,23,18,17,17,16,8,26,23,22,22,22,25,23,23,20,22,20,22]
["2020-12-01",{"$f":"VLOOKUP(J1966,'Control Panel'!$I$27:$K$68,2,FALSE)","v":"SW1"},1,null,null,null,null,null,1,"F84038",null,4138,3,3,3,3,3,0,6,3,3,3,3,12,11,9,4,8,4,3]
["2020-12-01",{"$f":"VLOOKUP(J1967,'Control Panel'!$I$27:$K$68,2,FALSE)","v":"SW2"},1,null,null,null,null,null,1,"F84041",null,7277,15,12,13,13,12,6,23,22,22,22,22,26,26,26,19,26,18,22]
["2020-12-01",{"$f":"VLOOKUP(J1968,'Control Panel'!$I$27:$K$68,2,FALSE)","v":"SE1"},1,null,null,null,null,null,1,"F84060",null,4852,8,5,5,6,5,3,11,8,6,6,6,11,11,10,7,10,7,6]
["2020-12-01",{"$f":"VLOOKUP(J1969,'Control Panel'!$I$27:$K$68,2,FALSE)","v":"SW1"},1,null,null,null,null,null,1,"F84063",null,6032,9,7,6,7,8,6,12,12,12,12,12,15,15,14,10,15,10,12]
["2020-12-01",{"$f":"VLOOKUP(J1970,'Control Panel'!$I$27:$K$68,2,FALSE)","v":"SE2"},1,null,null,null,null,null,1,"F84069",null,14329,36,32,32,30,31,10,52,50,43,43,43,38,34,34,22,33,23,43]
["2020-12-01",{"$f":"VLOOKUP(J1971,'Control Panel'!$I$27:$K$68,2,FALSE)","v":"SW2"},1,null,null,null,null,null,1,"F84072",null,11069,29,26,26,27,26,13,37,30,26,27,27,31,28,31,19,31,19,28]
["2020-12-01",{"$f":"VLOOKUP(J1972,'Control Panel'!$I$27:$K$68,2,FALSE)","v":"NE2"},0,null,null,null,null,null,1,"F84080",null,5060,16,7,9,7,5,3,22,12,11,11,15,22,19,17,15,15,15,13]
["2020-12-01",{"$f":"VLOOKUP(J1973,'Control Panel'!$I$27:$K$68,2,FALSE)","v":"SW2"},1,null,null,null,null,null,1,"F84096",null,12927,28,24,24,23,24,12,29,22,21,21,21,33,31,29,26,30,26,21]
["2020-12-01",{"$f":"VLOOKUP(J1974,'Control Panel'!$I$27:$K$68,2,FALSE)","v":"SE1"},1,null,null,null,null,null,1,"F84105",null,11630,42,32,31,28,31,7,34,30,25,25,25,40,39,36,26,37,27,25]
["2020-12-01",{"$f":"VLOOKUP(J1975,'Control Panel'!$I$27:$K$68,2,FALSE)","v":"NW1"},{"$f":"IF(LEFT(B1975,2)=\"NE\",0,1)","v":1},null,null,null,null,null,1,"F84115",null,8632,22,18,18,17,16,8,25,25,23,22,22,23,23,21,20,21,20,21]
["2020-12-01",{"$f":"VLOOKUP(J1976,'Control Panel'!$I$27:$K$68,2,FALSE)","v":"SW1"},1,null,null,null,null,null,1,"F84117",null,10302,24,23,23,23,22,9,21,21,19,19,19,33,31,29,25,27,26,18]
["2020-12-01",{"$f":"VLOOKUP(J1977,'Control Panel'!$I$27:$K$68,2,FALSE)","v":"NW1"},1,null,null,null,null,null,1,"F84119",null,12103,39,37,37,37,37,17,49,40,36,36,37,40,38,36,25,36,28,37]
["2020-12-01",{"$f":"VLOOKUP(J1978,'Control Panel'!$I$27:$K$68,2,FALSE)","v":"SE2"},1,null,null,null,null,null,1,"F84601",null,7221,15,12,12,12,14,3,29,24,22,22,22,15,13,10,7,10,8,21]
["2020-12-01",{"$f":"VLOOKUP(J1979,'Control Panel'!$I$27:$K$68,2,FALSE)","v":"NE2"},0,null,null,null,null,null,1,"F84619",null,4806,13,12,12,10,12,3,20,18,16,17,17,15,13,15,12,15,13,17]
["2020-12-01",{"$f":"VLOOKUP(J1980,'Control Panel'!$I$27:$K$68,2,FALSE)","v":"SE2"},1,null,null,null,null,null,1,"F84620",null,7124,25,21,21,18,21,9,23,18,17,18,18,23,22,20,14,21,13,18]
["2020-12-01",{"$f":"VLOOKUP(J1981,'Control Panel'!$I$27:$K$68,2,FALSE)","v":"SW1"},1,null,null,null,null,null,1,"F84621",null,4033,13,13,13,13,13,3,15,13,13,13,13,6,5,4,4,5,3,13]
["2020-12-01",{"$f":"VLOOKUP(J1982,'Control Panel'!$I$27:$K$68,2,FALSE)","v":"SE2"},1,null,null,null,null,null,1,"F84632",null,1124,0,0,0,0,0,0,0,0,0,0,0,0,0,0,0,0,0,0]
["2020-12-01",{"$f":"VLOOKUP(J1983,'Control Panel'!$I$27:$K$68,2,FALSE)","v":"SW2"},1,null,null,null,null,null,1,"F84635",null,9394,17,14,14,14,14,4,18,15,10,10,10,21,15,15,15,15,15,10]
["2020-12-01",{"$f":"VLOOKUP(J1984,'Control Panel'!$I$27:$K$68,2,FALSE)","v":"NW2"},1,null,null,null,null,null,1,"F84636",null,6092,8,7,7,6,7,4,8,8,6,5,6,14,11,7,4,8,7,6]
["2020-12-01",{"$f":"VLOOKUP(J1985,'Control Panel'!$I$27:$K$68,2,FALSE)","v":"City"},1,null,null,null,null,null,1,"F84640",null,9287,13,12,11,12,12,5,19,18,17,17,17,12,12,12,11,11,11,17]
["2020-12-01",{"$f":"VLOOKUP(J1986,'Control Panel'!$I$27:$K$68,2,FALSE)","v":"NE2"},0,null,null,null,null,null,1,"F84668",null,6503,32,8,11,11,6,1,46,26,25,20,29,37,28,32,15,27,20,24]
["2020-12-01",{"$f":"VLOOKUP(J1987,'Control Panel'!$I$27:$K$68,2,FALSE)","v":"NE2"},0,null,null,null,null,null,1,"F84685",null,2988,16,10,10,6,7,3,12,10,9,8,8,10,8,9,7,8,8,8]
["2020-12-01",{"$f":"VLOOKUP(J1988,'Control Panel'!$I$27:$K$68,2,FALSE)","v":"NE1"},0,null,null,null,null,null,{"$f":"IF(J1988=\"Total\",0,1)","v":1},"F84686",null,8155,53,14,16,13,5,1,84,42,36,29,39,90,69,76,26,69,31,36]
["2020-12-01",{"$f":"VLOOKUP(J1989,'Control Panel'!$I$27:$K$68,2,FALSE)","v":"SW2"},1,null,null,null,null,null,1,"F84692",null,7311,16,13,13,12,13,3,11,10,8,8,8,8,7,7,5,7,5,8]
["2020-12-01",{"$f":"VLOOKUP(J1990,'Control Panel'!$I$27:$K$68,2,FALSE)","v":"NW2"},1,null,null,null,null,null,1,"F84694",null,4450,10,9,9,8,9,0,11,11,11,11,11,7,7,6,6,6,6,11]
["2020-12-01",{"$f":"VLOOKUP(J1991,'Control Panel'!$I$27:$K$68,2,FALSE)","v":"NE2"},0,null,null,null,null,null,1,"F84711",null,1906,7,6,6,6,6,2,7,7,6,6,6,3,3,3,3,3,3,7]
["2020-12-01",{"$f":"VLOOKUP(J1992,'Control Panel'!$I$27:$K$68,2,FALSE)","v":"NW1"},1,null,null,null,null,null,1,"F84716",null,5619,32,16,16,16,15,6,31,26,22,22,22,25,20,19,12,17,13,20]
["2020-12-01",{"$f":"VLOOKUP(J1993,'Control Panel'!$I$27:$K$68,2,FALSE)","v":"SE1"},1,null,null,null,null,null,1,"F84719",null,5330,9,8,8,8,8,3,17,16,15,15,15,18,15,16,13,16,14,15]
["2020-12-01",{"$f":"VLOOKUP(J1994,'Control Panel'!$I$27:$K$68,2,FALSE)","v":"NE2"},0,null,null,null,null,null,1,"F84720",null,5565,14,4,5,5,4,1,10,6,6,6,4,17,9,11,5,9,7,5]
["2020-12-01",{"$f":"VLOOKUP(J1995,'Control Panel'!$I$27:$K$68,2,FALSE)","v":"SE2"},1,null,null,null,null,null,1,"Y00403",null,7025,28,22,22,21,24,6,18,17,18,18,18,17,14,14,11,14,11,18]
["2020-12-01",{"$f":"VLOOKUP(J1996,'Control Panel'!$I$27:$K$68,2,FALSE)","v":"NE1"},0,null,null,null,null,null,1,"Y03049",null,14628,57,29,29,26,15,17,52,33,34,31,32,78,61,60,39,56,42,30]
["2020-12-01",{"$f":"VLOOKUP(J1997,'Control Panel'!$I$27:$K$68,2,FALSE)","v":{"$error":"#N/A"}},{"$error":"#N/A"},null,null,null,null,null,0,"total",null,328755,1001,687,690,658,638,240,1138,892,804,774,815,1109,954,948,666,904,697,795]
["2021-01-01",{"$f":"VLOOKUP(J1998,'Control Panel'!$I$27:$K$68,2,FALSE)","v":{"$error":"#N/A"}},{"$error":"#N/A"},null,"Last Run:",null,"Population Count",341499,1,null,"Search","All Patients","(01) 12 MONTH COHORT","(01.01) DTaP/IPV/Hib 6in1","(01.02) Men B (1st and 2nd)","(01.03) PCV","(01.04) Rotavirus","(01.05) BCG","(02) 24 MONTH COHORT","(02.01) DTaP/IPV/Hib Combined","(02.02) MMR","(02.03) HiB/Men C","(02.04) PCV (Booster)","(03) 5 YEAR COHORT","(03.01) DTaP/IPV/Hib Combined","(03.02) MMR (Primary)","(03.03) DTaP/IPV (Booster)","(03.04) HiB/Men C","(03.05) MMR (Booster)","(02.05) Men B (Booster)"]
["2021-01-01",{"$f":"VLOOKUP(J1999,'Control Panel'!$I$27:$K$68,2,FALSE)","v":{"$error":"#N/A"}},{"$error":"#N/A"},null,"2021-02-03T10:37:00",null,"Males",170448,1,"Organisation Code"]
["2021-01-01",{"$f":"VLOOKUP(J2000,'Control Panel'!$I$27:$K$68,2,FALSE)","v":"SE1"},1,null,"Relative Date:",null,"Females",171051,1,"F84003",null,15158,33,29,29,32,29,3,34,30,27,27,29,41,39,40,34,39,34,28]
["2021-01-01",{"$f":"VLOOKUP(J2001,'Control Panel'!$I$27:$K$68,2,FALSE)","v":"NW2"},1,null,"2021-02-01",null,null,null,1,"F84008",null,12841,28,25,25,25,25,7,41,38,37,36,38,39,39,36,34,38,35,36]
["2021-01-01",{"$f":"VLOOKUP(J2002,'Control Panel'!$I$27:$K$68,2,FALSE)","v":"NE1"},0,null,null,null,null,null,1,"F84013",null,15815,103,25,25,40,17,4,103,54,50,43,46,124,88,97,55,78,63,44]
["2021-01-01",{"$f":"VLOOKUP(J2003,'Control Panel'!$I$27:$K$68,2,FALSE)","v":"SE1"},1,null,null,null,null,null,1,"F84015",null,5635,13,11,11,10,11,4,16,15,13,13,13,15,15,14,13,14,14,13]
["2021-01-01",{"$f":"VLOOKUP(J2004,'Control Panel'!$I$27:$K$68,2,FALSE)","v":"NE2"},0,null,null,null,null,null,1,"F84018",null,11862,41,30,29,33,31,18,49,42,35,34,34,35,32,32,25,32,27,35]
["2021-01-01",{"$f":"VLOOKUP(J2005,'Control Panel'!$I$27:$K$68,2,FALSE)","v":"SW1"},1,null,null,null,null,null,1,"F84021",null,10391,36,32,32,33,31,11,30,26,24,23,23,17,17,14,12,16,12,23]
["2021-01-01",{"$f":"VLOOKUP(J2006,'Control Panel'!$I$27:$K$68,2,FALSE)","v":"NW2"},1,null,null,null,null,null,1,"F84033",null,11896,23,18,18,20,20,12,24,22,22,22,22,33,31,32,30,32,30,22]
["2021-01-01",{"$f":"VLOOKUP(J2007,'Control Panel'!$I$27:$K$68,2,FALSE)","v":"SW1"},1,null,null,null,null,null,1,"F84035",null,11211,27,25,24,25,24,2,40,39,35,35,35,20,18,18,14,17,13,35]
["2021-01-01",{"$f":"VLOOKUP(J2008,'Control Panel'!$I$27:$K$68,2,FALSE)","v":"NW1"},1,null,null,null,null,null,1,"F84036",null,7317,15,14,14,13,13,7,21,20,18,18,18,12,12,10,7,10,7,18]
["2021-01-01",{"$f":"VLOOKUP(J2009,'Control Panel'!$I$27:$K$68,2,FALSE)","v":"SW1"},1,null,null,null,null,null,1,"F84038",null,4085,5,5,5,5,5,0,5,5,5,5,5,9,6,6,4,6,2,5]
["2021-01-01",{"$f":"VLOOKUP(J2010,'Control Panel'!$I$27:$K$68,2,FALSE)","v":"SW2"},1,null,null,null,null,null,1,"F84041",null,7228,17,16,16,17,16,10,12,11,10,10,10,11,11,10,10,10,10,10]
["2021-01-01",{"$f":"VLOOKUP(J2011,'Control Panel'!$I$27:$K$68,2,FALSE)","v":"SE1"},1,null,null,null,null,null,1,"F84060",null,4817,5,2,2,3,4,0,12,11,8,8,8,9,9,9,8,9,8,8]
["2021-01-01",{"$f":"VLOOKUP(J2012,'Control Panel'!$I$27:$K$68,2,FALSE)","v":"SW1"},1,null,null,null,null,null,1,"F84063",null,6009,17,15,15,15,15,7,8,8,8,8,8,9,8,9,5,9,3,8]
["2021-01-01",{"$f":"VLOOKUP(J2013,'Control Panel'!$I$27:$K$68,2,FALSE)","v":"SE2"},1,null,null,null,null,null,1,"F84069",null,14227,31,29,29,29,29,5,32,31,23,24,24,33,31,30,23,29,24,24]
["2021-01-01",{"$f":"VLOOKUP(J2014,'Control Panel'!$I$27:$K$68,2,FALSE)","v":"SW2"},1,null,null,null,null,null,1,"F84072",null,11045,25,23,22,20,21,11,31,26,22,22,22,26,22,23,17,23,17,21]
["2021-01-01",{"$f":"VLOOKUP(J2015,'Control Panel'!$I$27:$K$68,2,FALSE)","v":"NE2"},0,null,null,null,null,null,1,"F84080",null,5060,15,7,7,7,6,0,25,14,12,11,11,25,16,18,9,18,9,11]
["2021-01-01",{"$f":"VLOOKUP(J2016,'Control Panel'!$I$27:$K$68,2,FALSE)","v":"SW2"},1,null,null,null,null,null,1,"F84096",null,12960,30,29,29,29,26,12,37,32,32,32,31,23,21,21,17,19,17,32]
["2021-01-01",{"$f":"VLOOKUP(J2017,'Control Panel'!$I$27:$K$68,2,FALSE)","v":"SE1"},1,null,null,null,null,null,1,"F84105",null,11641,31,26,25,26,25,3,24,19,16,17,16,45,43,40,30,40,28,17]
["2021-01-01",{"$f":"VLOOKUP(J2018,'Control Panel'!$I$27:$K$68,2,FALSE)","v":"NW1"},1,null,null,null,null,null,1,"F84115",null,8537,27,26,26,26,26,4,23,21,21,21,21,15,14,12,10,12,10,21]
["2021-01-01",{"$f":"VLOOKUP(J2019,'Control Panel'!$I$27:$K$68,2,FALSE)","v":"SW1"},1,null,null,null,null,null,1,"F84117",null,10173,32,28,27,30,27,7,19,18,12,12,12,25,25,24,13,24,14,12]
["2021-01-01",{"$f":"VLOOKUP(J2020,'Control Panel'!$I$27:$K$68,2,FALSE)","v":"NW1"},1,null,null,null,null,null,1,"F84119",null,12085,43,30,30,38,33,19,37,34,31,31,32,41,38,37,24,37,27,31]
["2021-01-01",{"$f":"VLOOKUP(J2021,'Control Panel'!$I$27:$K$68,2,FALSE)","v":"SE2"},1,null,null,null,null,null,1,"F84601",null,7246,22,19,19,20,19,3,19,17,12,14,14,19,15,16,10,16,13,14]
["2021-01-01",{"$f":"VLOOKUP(J2022,'Control Panel'!$I$27:$K$68,2,FALSE)","v":"NE2"},0,null,null,null,null,null,1,"F84619",null,4782,14,7,6,9,7,2,12,10,10,10,10,16,14,13,11,13,9,10]
["2021-01-01",{"$f":"VLOOKUP(J2023,'Control Panel'!$I$27:$K$68,2,FALSE)","v":"SE2"},1,null,null,null,null,null,1,"F84620",null,7218,19,12,12,14,13,6,17,15,16,16,16,13,12,12,8,12,8,16]
["2021-01-01",{"$f":"VLOOKUP(J2024,'Control Panel'!$I$27:$K$68,2,FALSE)","v":"SW1"},1,null,null,null,null,null,1,"F84621",null,4057,10,10,10,10,10,4,6,5,4,4,5,9,9,8,7,8,7,5]
["2021-01-01",{"$f":"VLOOKUP(J2025,'Control Panel'!$I$27:$K$68,2,FALSE)","v":"SE2"},1,null,null,null,null,null,1,"F84632",null,1121,0,0,0,0,0,0,0,0,0,0,0,0,0,0,0,0,0,0]
["2021-01-01",{"$f":"VLOOKUP(J2026,'Control Panel'!$I$27:$K$68,2,FALSE)","v":"SW2"},1,null,null,null,null,null,1,"F84635",null,9446,17,13,13,15,14,2,25,22,20,20,21,20,19,17,12,18,12,21]
["2021-01-01",{"$f":"VLOOKUP(J2027,'Control Panel'!$I$27:$K$68,2,FALSE)","v":"NW2"},1,null,null,null,null,null,1,"F84636",null,6022,14,11,11,13,12,0,15,15,12,11,12,8,7,6,6,6,6,12]
["2021-01-01",{"$f":"VLOOKUP(J2028,'Control Panel'!$I$27:$K$68,2,FALSE)","v":"City"},1,null,null,null,null,null,1,"F84640",null,9312,16,12,12,13,12,2,10,8,8,8,7,11,11,11,10,11,11,8]
["2021-01-01",{"$f":"VLOOKUP(J2029,'Control Panel'!$I$27:$K$68,2,FALSE)","v":"NE2"},0,null,null,null,null,null,1,"F84668",null,6491,31,11,14,16,9,1,44,19,19,14,17,29,18,24,4,20,8,16]
["2021-01-01",{"$f":"VLOOKUP(J2030,'Control Panel'!$I$27:$K$68,2,FALSE)","v":"NE2"},0,null,null,null,null,null,1,"F84685",null,2990,13,6,6,7,6,3,8,6,4,4,3,9,8,7,4,5,4,4]
["2021-01-01",{"$f":"VLOOKUP(J2031,'Control Panel'!$I$27:$K$68,2,FALSE)","v":"NE1"},0,null,null,null,null,null,1,"F84686",null,8176,56,12,12,22,13,1,69,23,21,16,25,56,41,46,14,44,17,20]
["2021-01-01",{"$f":"VLOOKUP(J2032,'Control Panel'!$I$27:$K$68,2,FALSE)","v":"SW2"},1,null,null,null,null,null,1,"F84692",null,7296,10,9,9,10,9,5,11,11,8,8,8,17,16,14,13,14,12,8]
["2021-01-01",{"$f":"VLOOKUP(J2033,'Control Panel'!$I$27:$K$68,2,FALSE)","v":"NW2"},1,null,null,null,null,null,1,"F84694",null,4371,11,11,11,11,11,0,11,8,9,9,10,7,7,7,4,5,6,9]
["2021-01-01",{"$f":"VLOOKUP(J2034,'Control Panel'!$I$27:$K$68,2,FALSE)","v":"NE2"},0,null,null,null,null,null,1,"F84711",null,1901,3,2,2,2,2,0,7,6,4,4,5,0,0,0,0,0,0,5]
["2021-01-01",{"$f":"VLOOKUP(J2035,'Control Panel'!$I$27:$K$68,2,FALSE)","v":"NW1"},1,null,null,null,null,null,1,"F84716",null,5643,31,12,14,17,12,5,28,16,17,13,15,23,19,20,9,20,9,13]
["2021-01-01",{"$f":"VLOOKUP(J2036,'Control Panel'!$I$27:$K$68,2,FALSE)","v":"SE1"},1,null,null,null,null,null,1,"F84719",null,5311,11,9,8,10,8,3,10,9,9,9,9,13,11,9,8,9,7,9]
["2021-01-01",{"$f":"VLOOKUP(J2037,'Control Panel'!$I$27:$K$68,2,FALSE)","v":"NE2"},0,null,null,null,null,null,1,"F84720",null,5572,15,6,6,8,7,0,10,4,4,4,6,31,21,23,18,20,18,5]
["2021-01-01",{"$f":"VLOOKUP(J2038,'Control Panel'!$I$27:$K$68,2,FALSE)","v":"SE2"},1,null,null,null,null,null,1,"Y00403",null,7017,21,16,15,17,14,3,19,16,17,17,17,15,12,12,8,12,8,17]
["2021-01-01",{"$f":"VLOOKUP(J2039,'Control Panel'!$I$27:$K$68,2,FALSE)","v":"NE1"},{"$f":"IF(LEFT(B2039,2)=\"NE\",0,1)","v":0},null,null,null,null,null,1,"Y03049",null,14580,66,37,36,40,18,17,60,42,43,34,36,66,48,54,36,47,37,34]
["2021-01-01",{"$f":"VLOOKUP(J2040,'Control Panel'!$I$27:$K$68,2,FALSE)","v":{"$error":"#N/A"}},{"$f":"IF(LEFT(B2040,2)=\"NE\",0,1)","v":{"$error":"#N/A"}},null,null,null,null,null,0,"total",null,328545,977,660,656,730,630,203,1004,768,698,667,694,969,823,831,576,792,596,680]
["2021-02-01",{"$f":"VLOOKUP(J2041,'Control Panel'!$I$27:$K$68,2,FALSE)","v":{"$error":"#N/A"}},{"$f":"IF(LEFT(B2041,2)=\"NE\",0,1)","v":{"$error":"#N/A"}},null,"Last Run:",null,"Population Count",341819,1,null,"Search","All Patients","(01) 12 MONTH COHORT","(01.01) DTaP/IPV/Hib 6in1","(01.02) Men B (1st and 2nd)","(01.03) PCV","(01.04) Rotavirus","(01.05) BCG","(02) 24 MONTH COHORT","(02.01) DTaP/IPV/Hib Combined","(02.02) MMR","(02.03) HiB/Men C","(02.04) PCV (Booster)","(03) 5 YEAR COHORT","(03.01) DTaP/IPV/Hib Combined","(03.02) MMR (Primary)","(03.03) DTaP/IPV (Booster)","(03.04) HiB/Men C","(03.05) MMR (Booster)","(02.05) Men B (Booster)"]
["2021-02-01",{"$f":"VLOOKUP(J2042,'Control Panel'!$I$27:$K$68,2,FALSE)","v":{"$error":"#N/A"}},{"$error":"#N/A"},null,"2021-03-02T15:14:00",null,"Males",170889,1,"Organisation Code"]
["2021-02-01",{"$f":"VLOOKUP(J2043,'Control Panel'!$I$27:$K$68,2,FALSE)","v":"SE1"},1,null,"Relative Date:",null,"Females",170930,1,"F84003",null,15094,30,27,27,30,27,3,34,29,27,27,29,40,39,39,36,39,36,28]
["2021-02-01",{"$f":"VLOOKUP(J2044,'Control Panel'!$I$27:$K$68,2,FALSE)","v":"NW2"},1,null,"2021-03-01",null,null,null,1,"F84008",null,12767,27,24,24,24,24,7,39,36,35,34,36,39,39,36,34,38,35,34]
["2021-02-01",{"$f":"VLOOKUP(J2045,'Control Panel'!$I$27:$K$68,2,FALSE)","v":"NE1"},0,null,null,null,null,null,1,"F84013",null,15884,104,25,26,41,18,4,105,56,51,46,49,124,88,97,55,78,63,48]
["2021-02-01",{"$f":"VLOOKUP(J2046,'Control Panel'!$I$27:$K$68,2,FALSE)","v":"SE1"},1,null,null,null,null,null,1,"F84015",null,5621,13,11,11,10,11,4,16,15,13,13,13,15,15,14,13,14,14,13]
["2021-02-01",{"$f":"VLOOKUP(J2047,'Control Panel'!$I$27:$K$68,2,FALSE)","v":"NE2"},0,null,null,null,null,null,1,"F84018",null,11857,41,30,29,34,31,18,49,42,35,34,34,35,32,32,26,32,28,35]
["2021-02-01",{"$f":"VLOOKUP(J2048,'Control Panel'!$I$27:$K$68,2,FALSE)","v":"SW1"},1,null,null,null,null,null,1,"F84021",null,10467,36,32,32,34,32,11,29,25,23,22,22,17,17,14,12,16,12,22]
["2021-02-01",{"$f":"VLOOKUP(J2049,'Control Panel'!$I$27:$K$68,2,FALSE)","v":"NW2"},1,null,null,null,null,null,1,"F84033",null,11919,22,17,17,19,19,11,24,22,22,22,22,33,31,32,30,32,30,22]
["2021-02-01",{"$f":"VLOOKUP(J2050,'Control Panel'!$I$27:$K$68,2,FALSE)","v":"SW1"},1,null,null,null,null,null,1,"F84035",null,11527,26,25,24,25,24,2,40,39,35,35,35,20,18,18,14,17,13,35]
["2021-02-01",{"$f":"VLOOKUP(J2051,'Control Panel'!$I$27:$K$68,2,FALSE)","v":"NW1"},1,null,null,null,null,null,1,"F84036",null,7378,15,14,14,13,13,7,21,20,18,18,18,12,12,10,7,10,7,18]
["2021-02-01",{"$f":"VLOOKUP(J2052,'Control Panel'!$I$27:$K$68,2,FALSE)","v":"SW1"},1,null,null,null,null,null,{"$f":"IF(J2052=\"Total\",0,1)","v":1},"F84038",null,4071,5,5,5,5,5,0,5,5,5,5,5,9,6,6,4,6,2,5]
["2021-02-01",{"$f":"VLOOKUP(J2053,'Control Panel'!$I$27:$K$68,2,FALSE)","v":"SW2"},1,null,null,null,null,null,1,"F84041",null,7123,17,16,16,17,16,10,12,11,10,10,10,12,12,11,11,11,11,10]
["2021-02-01",{"$f":"VLOOKUP(J2054,'Control Panel'!$I$27:$K$68,2,FALSE)","v":"SE1"},1,null,null,null,null,null,1,"F84060",null,4760,6,3,3,4,5,0,12,11,8,8,8,9,9,9,8,9,8,8]
["2021-02-01",{"$f":"VLOOKUP(J2055,'Control Panel'!$I$27:$K$68,2,FALSE)","v":"SW1"},1,null,null,null,null,null,1,"F84063",null,6036,17,15,15,15,15,7,8,8,8,8,8,9,8,9,5,9,3,8]
["2021-02-01",{"$f":"VLOOKUP(J2056,'Control Panel'!$I$27:$K$68,2,FALSE)","v":"SE2"},1,null,null,null,null,null,1,"F84069",null,14190,30,28,28,28,28,5,32,31,23,24,24,33,31,30,23,29,24,24]
["2021-02-01",{"$f":"VLOOKUP(J2057,'Control Panel'!$I$27:$K$68,2,FALSE)","v":"SW2"},1,null,null,null,null,null,1,"F84072",null,11078,26,24,23,21,22,11,31,26,22,22,22,26,22,23,17,23,17,21]
["2021-02-01",{"$f":"VLOOKUP(J2058,'Control Panel'!$I$27:$K$68,2,FALSE)","v":"NE2"},0,null,null,null,null,null,1,"F84080",null,5069,15,7,7,7,6,0,25,14,12,11,11,25,16,18,9,18,9,11]
["2021-02-01",{"$f":"VLOOKUP(J2059,'Control Panel'!$I$27:$K$68,2,FALSE)","v":"SW2"},1,null,null,null,null,null,1,"F84096",null,13039,29,27,27,27,24,12,37,33,33,33,32,23,21,21,17,19,17,33]
["2021-02-01",{"$f":"VLOOKUP(J2060,'Control Panel'!$I$27:$K$68,2,FALSE)","v":"SE1"},1,null,null,null,null,null,1,"F84105",null,11620,31,26,25,26,25,4,24,20,16,17,16,45,43,40,30,40,29,17]
["2021-02-01",{"$f":"VLOOKUP(J2061,'Control Panel'!$I$27:$K$68,2,FALSE)","v":"NW1"},1,null,null,null,null,null,1,"F84115",null,8461,26,25,25,25,25,4,23,21,21,21,21,14,13,11,10,11,10,21]
["2021-02-01",{"$f":"VLOOKUP(J2062,'Control Panel'!$I$27:$K$68,2,FALSE)","v":"SW1"},1,null,null,null,null,null,1,"F84117",null,10122,32,28,27,30,27,7,18,17,11,11,11,25,25,24,13,24,14,11]
["2021-02-01",{"$f":"VLOOKUP(J2063,'Control Panel'!$I$27:$K$68,2,FALSE)","v":"NW1"},1,null,null,null,null,null,1,"F84119",null,12006,42,30,30,38,33,19,36,33,31,31,32,42,38,38,25,38,28,31]
["2021-02-01",{"$f":"VLOOKUP(J2064,'Control Panel'!$I$27:$K$68,2,FALSE)","v":"SE2"},1,null,null,null,null,null,1,"F84601",null,7278,21,18,18,19,18,2,19,17,14,16,16,19,15,16,10,16,13,16]
["2021-02-01",{"$f":"VLOOKUP(J2065,'Control Panel'!$I$27:$K$68,2,FALSE)","v":"NE2"},0,null,null,null,null,null,1,"F84619",null,4761,13,6,5,8,6,2,11,10,10,10,10,15,14,14,11,13,10,10]
["2021-02-01",{"$f":"VLOOKUP(J2066,'Control Panel'!$I$27:$K$68,2,FALSE)","v":"SE2"},1,null,null,null,null,null,1,"F84620",null,7230,19,12,12,14,13,6,17,15,16,16,16,13,12,12,8,12,8,16]
["2021-02-01",{"$f":"VLOOKUP(J2067,'Control Panel'!$I$27:$K$68,2,FALSE)","v":"SW1"},1,null,null,null,null,null,1,"F84621",null,4069,11,11,11,11,11,5,7,6,4,4,5,9,9,8,7,8,7,5]
["2021-02-01",{"$f":"VLOOKUP(J2068,'Control Panel'!$I$27:$K$68,2,FALSE)","v":"SE2"},1,null,null,null,null,null,1,"F84632",null,1121,0,0,0,0,0,0,0,0,0,0,0,0,0,0,0,0,0,0]
["2021-02-01",{"$f":"VLOOKUP(J2069,'Control Panel'!$I$27:$K$68,2,FALSE)","v":"SW2"},1,null,null,null,null,null,1,"F84635",null,9463,16,12,12,14,13,2,25,22,20,20,21,20,19,17,12,18,12,21]
["2021-02-01",{"$f":"VLOOKUP(J2070,'Control Panel'!$I$27:$K$68,2,FALSE)","v":"NW2"},1,null,null,null,null,null,1,"F84636",null,6085,14,11,11,13,12,0,15,15,12,11,12,8,7,6,6,6,6,12]
["2021-02-01",{"$f":"VLOOKUP(J2071,'Control Panel'!$I$27:$K$68,2,FALSE)","v":"City"},1,null,null,null,null,null,1,"F84640",null,9437,16,12,12,13,12,2,10,8,8,8,7,11,11,11,10,11,11,8]
["2021-02-01",{"$f":"VLOOKUP(J2072,'Control Panel'!$I$27:$K$68,2,FALSE)","v":"NE2"},0,null,null,null,null,null,1,"F84668",null,6504,30,10,13,15,8,1,44,19,19,14,17,28,17,23,4,19,7,17]
["2021-02-01",{"$f":"VLOOKUP(J2073,'Control Panel'!$I$27:$K$68,2,FALSE)","v":"NE2"},0,null,null,null,null,null,1,"F84685",null,3004,13,6,6,7,6,3,8,6,4,4,3,9,8,7,4,5,4,4]
["2021-02-01",{"$f":"VLOOKUP(J2074,'Control Panel'!$I$27:$K$68,2,FALSE)","v":"NE1"},0,null,null,null,null,null,1,"F84686",null,8189,56,12,12,24,13,1,69,24,22,16,26,56,41,46,14,44,17,21]
["2021-02-01",{"$f":"VLOOKUP(J2075,'Control Panel'!$I$27:$K$68,2,FALSE)","v":"SW2"},1,null,null,null,null,null,1,"F84692",null,7280,10,9,9,10,9,5,11,11,8,8,8,18,17,15,14,15,13,8]
["2021-02-01",{"$f":"VLOOKUP(J2076,'Control Panel'!$I$27:$K$68,2,FALSE)","v":"NW2"},1,null,null,null,null,null,1,"F84694",null,4336,11,11,11,11,11,0,10,7,9,9,10,7,7,7,4,5,6,9]
["2021-02-01",{"$f":"VLOOKUP(J2077,'Control Panel'!$I$27:$K$68,2,FALSE)","v":"NE2"},0,null,null,null,null,null,1,"F84711",null,1901,3,2,2,2,2,0,7,6,4,4,5,0,0,0,0,0,0,5]
["2021-02-01",{"$f":"VLOOKUP(J2078,'Control Panel'!$I$27:$K$68,2,FALSE)","v":"NW1"},1,null,null,null,null,null,1,"F84716",null,5668,31,12,14,17,12,6,28,17,17,13,16,23,19,20,9,20,9,13]
["2021-02-01",{"$f":"VLOOKUP(J2079,'Control Panel'!$I$27:$K$68,2,FALSE)","v":"SE1"},1,null,null,null,null,null,1,"F84719",null,5307,9,7,7,8,6,2,10,9,9,9,9,13,11,9,8,9,7,9]
["2021-02-01",{"$f":"VLOOKUP(J2080,'Control Panel'!$I$27:$K$68,2,FALSE)","v":"NE2"},0,null,null,null,null,null,1,"F84720",null,5571,15,6,6,8,7,0,10,4,4,4,7,31,21,23,17,20,17,6]
["2021-02-01",{"$f":"VLOOKUP(J2081,'Control Panel'!$I$27:$K$68,2,FALSE)","v":"SE2"},1,null,null,null,null,null,1,"Y00403",null,7100,21,16,15,17,14,3,19,16,17,17,17,15,12,12,8,12,8,17]
["2021-02-01",{"$f":"VLOOKUP(J2082,'Control Panel'!$I$27:$K$68,2,FALSE)","v":"NE1"},0,null,null,null,null,null,1,"Y03049",null,14501,66,37,36,42,18,17,59,41,42,35,37,65,47,53,35,46,36,35]
["2021-02-01",{"$f":"VLOOKUP(J2083,'Control Panel'!$I$27:$K$68,2,FALSE)","v":{"$error":"#N/A"}},{"$f":"IF(LEFT(B2083,2)=\"NE\",0,1)","v":{"$error":"#N/A"}},null,null,null,null,null,0,"total",null,328894,965,649,647,726,621,203,999,767,698,670,700,967,822,831,580,792,601,687]
["2021-03-01",{"$f":"VLOOKUP(J2084,'Control Panel'!$I$27:$K$68,2,FALSE)","v":{"$error":"#N/A"}},{"$error":"#N/A"},null,"Last Run:",null,"Population Count",342384,1,null,"Search","All Patients","(01) 12 MONTH COHORT","(01.01) DTaP/IPV/Hib 6in1","(01.02) Men B (1st and 2nd)","(01.03) PCV","(01.04) Rotavirus","(01.05) BCG","(02) 24 MONTH COHORT","(02.01) DTaP/IPV/Hib Combined","(02.02) MMR","(02.03) HiB/Men C","(02.04) PCV (Booster)","(03) 5 YEAR COHORT","(03.01) DTaP/IPV/Hib Combined","(03.02) MMR (Primary)","(03.03) DTaP/IPV (Booster)","(03.04) HiB/Men C","(03.05) MMR (Booster)","(02.05) Men B (Booster)"]
["2021-03-01",{"$f":"VLOOKUP(J2085,'Control Panel'!$I$27:$K$68,2,FALSE)","v":{"$error":"#N/A"}},{"$error":"#N/A"},null,"2021-04-06T10:29:00",null,"Males",171601,1,"Organisation Code"]
["2021-03-01",{"$f":"VLOOKUP(J2086,'Control Panel'!$I$27:$K$68,2,FALSE)","v":"SE1"},1,null,"Relative Date:",null,"Females",170783,1,"F84003",null,15068,30,27,27,30,27,3,33,28,26,26,28,41,39,39,36,39,36,27]
["2021-03-01",{"$f":"VLOOKUP(J2087,'Control Panel'!$I$27:$K$68,2,FALSE)","v":"NW2"},1,null,"2021-04-01",null,null,null,1,"F84008",null,12646,26,24,24,23,23,7,39,36,35,34,36,39,39,36,34,38,35,34]
["2021-03-01",{"$f":"VLOOKUP(J2088,'Control Panel'!$I$27:$K$68,2,FALSE)","v":"NE1"},0,null,null,null,null,null,1,"F84013",null,15963,105,25,26,41,18,4,105,56,52,47,51,124,88,97,55,78,63,48]
["2021-03-01",{"$f":"VLOOKUP(J2089,'Control Panel'!$I$27:$K$68,2,FALSE)","v":"SE1"},1,null,null,null,null,null,1,"F84015",null,5619,13,11,11,10,11,4,16,15,13,13,13,15,15,14,13,14,14,13]
["2021-03-01",{"$f":"VLOOKUP(J2090,'Control Panel'!$I$27:$K$68,2,FALSE)","v":"NE2"},0,null,null,null,null,null,1,"F84018",null,11854,41,30,29,34,31,19,49,42,35,34,34,34,31,31,25,31,27,35]
["2021-03-01",{"$f":"VLOOKUP(J2091,'Control Panel'!$I$27:$K$68,2,FALSE)","v":"SW1"},1,null,null,null,null,null,1,"F84021",null,10414,32,29,29,31,30,11,31,26,24,23,23,17,17,14,12,16,12,23]
["2021-03-01",{"$f":"VLOOKUP(J2092,'Control Panel'!$I$27:$K$68,2,FALSE)","v":"NW2"},1,null,null,null,null,null,1,"F84033",null,11877,22,17,17,19,19,11,23,21,21,21,21,32,30,31,29,31,29,21]
["2021-03-01",{"$f":"VLOOKUP(J2093,'Control Panel'!$I$27:$K$68,2,FALSE)","v":"SW1"},1,null,null,null,null,null,1,"F84035",null,11881,27,26,25,26,24,2,39,39,35,35,35,20,18,18,14,17,13,35]
["2021-03-01",{"$f":"VLOOKUP(J2094,'Control Panel'!$I$27:$K$68,2,FALSE)","v":"NW1"},1,null,null,null,null,null,1,"F84036",null,7298,15,14,14,13,13,7,19,18,16,16,16,12,12,10,7,10,7,16]
["2021-03-01",{"$f":"VLOOKUP(J2095,'Control Panel'!$I$27:$K$68,2,FALSE)","v":"SW1"},1,null,null,null,null,null,1,"F84038",null,4047,5,5,5,5,5,0,5,5,5,5,5,9,6,6,4,6,2,5]
["2021-03-01",{"$f":"VLOOKUP(J2096,'Control Panel'!$I$27:$K$68,2,FALSE)","v":"SW2"},1,null,null,null,null,null,1,"F84041",null,7031,16,15,15,16,15,10,13,11,10,10,10,12,12,11,11,11,11,10]
["2021-03-01",{"$f":"VLOOKUP(J2097,'Control Panel'!$I$27:$K$68,2,FALSE)","v":"SE1"},1,null,null,null,null,null,1,"F84060",null,4777,7,3,3,4,5,0,12,11,8,8,8,9,9,9,8,9,8,8]
["2021-03-01",{"$f":"VLOOKUP(J2098,'Control Panel'!$I$27:$K$68,2,FALSE)","v":"SW1"},1,null,null,null,null,null,1,"F84063",null,6066,17,15,15,15,15,7,5,5,5,5,5,9,8,9,5,9,3,5]
["2021-03-01",{"$f":"VLOOKUP(J2099,'Control Panel'!$I$27:$K$68,2,FALSE)","v":"SE2"},1,null,null,null,null,null,1,"F84069",null,14123,30,28,28,28,28,5,32,31,23,24,24,32,30,29,22,28,23,24]
["2021-03-01",{"$f":"VLOOKUP(J2100,'Control Panel'!$I$27:$K$68,2,FALSE)","v":"SW2"},1,null,null,null,null,null,1,"F84072",null,11107,25,23,22,20,21,11,31,26,22,22,22,27,23,24,18,24,18,21]
["2021-03-01",{"$f":"VLOOKUP(J2101,'Control Panel'!$I$27:$K$68,2,FALSE)","v":"NE2"},0,null,null,null,null,null,1,"F84080",null,5081,15,7,7,7,6,0,24,13,12,11,11,25,16,18,9,18,9,11]
["2021-03-01",{"$f":"VLOOKUP(J2102,'Control Panel'!$I$27:$K$68,2,FALSE)","v":"SW2"},1,null,null,null,null,null,1,"F84096",null,13124,28,27,27,27,24,12,37,33,33,33,32,23,21,21,17,19,17,33]
["2021-03-01",{"$f":"VLOOKUP(J2103,'Control Panel'!$I$27:$K$68,2,FALSE)","v":"SE1"},1,null,null,null,null,null,1,"F84105",null,11703,32,27,27,27,26,4,25,20,16,17,16,45,43,40,31,40,30,17]
["2021-03-01",{"$f":"VLOOKUP(J2104,'Control Panel'!$I$27:$K$68,2,FALSE)","v":"NW1"},1,null,null,null,null,null,1,"F84115",null,8455,27,26,26,26,26,4,20,18,18,18,18,14,14,12,10,11,10,18]
["2021-03-01",{"$f":"VLOOKUP(J2105,'Control Panel'!$I$27:$K$68,2,FALSE)","v":"SW1"},1,null,null,null,null,null,1,"F84117",null,10117,32,28,27,30,27,7,18,17,12,12,12,22,22,21,13,21,14,12]
["2021-03-01",{"$f":"VLOOKUP(J2106,'Control Panel'!$I$27:$K$68,2,FALSE)","v":"NW1"},1,null,null,null,null,null,1,"F84119",null,12041,42,33,33,38,35,19,36,33,31,31,32,42,38,38,25,38,28,31]
["2021-03-01",{"$f":"VLOOKUP(J2107,'Control Panel'!$I$27:$K$68,2,FALSE)","v":"SE2"},1,null,null,null,null,null,1,"F84601",null,7318,21,18,18,19,18,2,19,17,14,16,16,19,15,16,10,16,13,16]
["2021-03-01",{"$f":"VLOOKUP(J2108,'Control Panel'!$I$27:$K$68,2,FALSE)","v":"NE2"},0,null,null,null,null,null,1,"F84619",null,4873,14,7,7,9,6,2,11,10,10,10,10,18,16,17,14,16,13,10]
["2021-03-01",{"$f":"VLOOKUP(J2109,'Control Panel'!$I$27:$K$68,2,FALSE)","v":"SE2"},1,null,null,null,null,null,1,"F84620",null,7260,19,12,12,14,13,6,17,15,16,16,16,13,12,12,8,12,8,16]
["2021-03-01",{"$f":"VLOOKUP(J2110,'Control Panel'!$I$27:$K$68,2,FALSE)","v":"SW1"},1,null,null,null,null,null,1,"F84621",null,4105,11,11,11,11,11,5,7,6,4,4,5,9,9,8,7,8,7,5]
["2021-03-01",{"$f":"VLOOKUP(J2111,'Control Panel'!$I$27:$K$68,2,FALSE)","v":"SE2"},1,null,null,null,null,null,1,"F84632",null,1104,0,0,0,0,0,0,0,0,0,0,0,0,0,0,0,0,0,0]
["2021-03-01",{"$f":"VLOOKUP(J2112,'Control Panel'!$I$27:$K$68,2,FALSE)","v":"SW2"},1,null,null,null,null,null,1,"F84635",null,9480,15,12,12,14,13,2,25,22,20,20,21,20,19,17,12,18,12,21]
["2021-03-01",{"$f":"VLOOKUP(J2113,'Control Panel'!$I$27:$K$68,2,FALSE)","v":"NW2"},1,null,null,null,null,null,1,"F84636",null,6263,14,11,11,13,12,1,16,16,13,12,13,8,7,6,6,6,6,13]
["2021-03-01",{"$f":"VLOOKUP(J2114,'Control Panel'!$I$27:$K$68,2,FALSE)","v":"City"},1,null,null,null,null,null,1,"F84640",null,9555,15,11,11,12,11,2,10,8,8,8,7,11,11,11,10,11,11,8]
["2021-03-01",{"$f":"VLOOKUP(J2115,'Control Panel'!$I$27:$K$68,2,FALSE)","v":"NE2"},0,null,null,null,null,null,1,"F84668",null,6501,30,10,13,15,8,1,44,19,19,14,17,28,17,23,4,19,7,17]
["2021-03-01",{"$f":"VLOOKUP(J2116,'Control Panel'!$I$27:$K$68,2,FALSE)","v":"NE2"},0,null,null,null,null,null,{"$f":"IF(J2116=\"Total\",0,1)","v":1},"F84685",null,3027,13,6,6,7,6,3,8,6,4,4,3,10,10,9,5,7,5,4]
["2021-03-01",{"$f":"VLOOKUP(J2117,'Control Panel'!$I$27:$K$68,2,FALSE)","v":"NE1"},0,null,null,null,null,null,1,"F84686",null,8227,56,12,12,24,13,1,69,24,22,16,26,56,41,46,14,44,17,21]
["2021-03-01",{"$f":"VLOOKUP(J2118,'Control Panel'!$I$27:$K$68,2,FALSE)","v":"SW2"},1,null,null,null,null,null,1,"F84692",null,7118,11,10,10,11,10,5,11,11,8,8,8,18,17,15,14,15,13,8]
["2021-03-01",{"$f":"VLOOKUP(J2119,'Control Panel'!$I$27:$K$68,2,FALSE)","v":"NW2"},1,null,null,null,null,null,1,"F84694",null,4365,10,10,10,10,10,0,10,7,9,9,10,7,7,7,4,5,6,9]
["2021-03-01",{"$f":"VLOOKUP(J2120,'Control Panel'!$I$27:$K$68,2,FALSE)","v":"NE2"},0,null,null,null,null,null,1,"F84711",null,1914,3,2,2,2,2,0,7,6,4,4,5,0,0,0,0,0,0,5]
["2021-03-01",{"$f":"VLOOKUP(J2121,'Control Panel'!$I$27:$K$68,2,FALSE)","v":"NW1"},1,null,null,null,null,null,1,"F84716",null,5595,30,11,13,16,11,5,27,16,16,12,15,23,19,20,9,20,9,12]
["2021-03-01",{"$f":"VLOOKUP(J2122,'Control Panel'!$I$27:$K$68,2,FALSE)","v":"SE1"},1,null,null,null,null,null,1,"F84719",null,5276,9,7,7,8,6,2,10,9,9,9,9,13,11,9,9,9,8,9]
["2021-03-01",{"$f":"VLOOKUP(J2123,'Control Panel'!$I$27:$K$68,2,FALSE)","v":"NE2"},0,null,null,null,null,null,1,"F84720",null,5601,15,6,6,8,7,0,10,4,4,4,7,31,21,23,17,20,17,6]
["2021-03-01",{"$f":"VLOOKUP(J2124,'Control Panel'!$I$27:$K$68,2,FALSE)","v":"SE2"},1,null,null,null,null,null,1,"Y00403",null,7153,19,14,13,15,13,3,19,16,17,17,17,15,12,12,8,12,8,17]
["2021-03-01",{"$f":"VLOOKUP(J2125,'Control Panel'!$I$27:$K$68,2,FALSE)","v":"NE1"},0,null,null,null,null,null,1,"Y03049",null,14492,64,37,36,40,17,17,59,40,41,34,36,65,48,54,36,47,37,34]
["2021-03-01",{"$f":"VLOOKUP(J2126,'Control Panel'!$I$27:$K$68,2,FALSE)","v":{"$error":"#N/A"}},{"$error":"#N/A"},null,null,null,null,null,0,"total",null,329519,956,647,647,718,616,204,991,756,690,662,693,967,823,833,585,793,606,678]
["2021-04-01",{"$f":"VLOOKUP(J2127,'Control Panel'!$I$27:$K$68,2,FALSE)","v":{"$error":"#N/A"}},{"$error":"#N/A"},null,"Last Run:",null,"Population Count",343362,1,null,"Search","All Patients","(01) 12 MONTH COHORT","(01.01) DTaP/IPV/Hib/HepB","(01.02) Men B (1st and 2nd)","(01.03) PCV","(01.04) Rotavirus","(01.05) BCG","(02) 24 MONTH COHORT","(02.01) DTaP/IPV/Hib or DTaP/IPV/Hib/HepB","(02.02) MMR","(02.03) HiB/Men C","(02.04) PCV (Booster)","(03) 5 YEAR COHORT","(03.01) DTaP/IPV/Hib or DTaP/IPV/Hib/HepB","(03.02) MMR (Primary)","(03.03) DTaP/IPV (Booster)","(03.04) HiB/Men C","(03.05) MMR (Booster)","(02.05) Men B (Booster)"]
["2021-04-01",{"$f":"VLOOKUP(J2128,'Control Panel'!$I$27:$K$68,2,FALSE)","v":{"$error":"#N/A"}},{"$error":"#N/A"},null,"2021-05-10T23:21:00",null,"Males",172209,1,"Organisation Code"]
["2021-04-01",{"$f":"VLOOKUP(J2129,'Control Panel'!$I$27:$K$68,2,FALSE)","v":"SE1"},1,null,"Relative Date:",null,"Females",171153,1,"F84003",null,15088,33,31,31,32,30,3,45,41,34,35,35,33,31,30,23,29,24,35]
["2021-04-01",{"$f":"VLOOKUP(J2130,'Control Panel'!$I$27:$K$68,2,FALSE)","v":"NW2"},1,null,"2021-05-01",null,null,null,1,"F84008",null,12602,35,31,31,32,31,6,30,27,25,25,25,36,33,34,32,34,32,26]
["2021-04-01",{"$f":"VLOOKUP(J2131,'Control Panel'!$I$27:$K$68,2,FALSE)","v":"NE1"},0,null,null,null,null,null,1,"F84013",null,16027,98,25,24,36,18,3,105,58,56,46,52,115,81,87,56,73,64,54]
["2021-04-01",{"$f":"VLOOKUP(J2132,'Control Panel'!$I$27:$K$68,2,FALSE)","v":"SE1"},1,null,null,null,null,null,1,"F84015",null,5579,12,10,10,12,12,6,10,9,6,6,6,17,15,14,10,14,10,6]
["2021-04-01",{"$f":"VLOOKUP(J2133,'Control Panel'!$I$27:$K$68,2,FALSE)","v":"NE2"},0,null,null,null,null,null,1,"F84018",null,11845,35,26,25,30,28,8,52,37,29,29,29,36,31,32,24,31,27,29]
["2021-04-01",{"$f":"VLOOKUP(J2134,'Control Panel'!$I$27:$K$68,2,FALSE)","v":"SW1"},1,null,null,null,null,null,1,"F84021",null,10479,32,29,29,28,29,9,23,18,14,14,14,34,32,31,27,30,27,14]
["2021-04-01",{"$f":"VLOOKUP(J2135,'Control Panel'!$I$27:$K$68,2,FALSE)","v":"NW2"},1,null,null,null,null,null,1,"F84033",null,11863,26,20,20,22,20,12,28,26,23,23,23,38,36,36,30,36,30,23]
["2021-04-01",{"$f":"VLOOKUP(J2136,'Control Panel'!$I$27:$K$68,2,FALSE)","v":"SW1"},1,null,null,null,null,null,1,"F84035",null,12102,32,28,27,27,26,3,32,28,25,24,25,21,21,21,14,21,15,25]
["2021-04-01",{"$f":"VLOOKUP(J2137,'Control Panel'!$I$27:$K$68,2,FALSE)","v":"NW1"},1,null,null,null,null,null,1,"F84036",null,7282,18,17,17,17,17,6,28,27,23,23,22,24,19,18,17,18,17,22]
["2021-04-01",{"$f":"VLOOKUP(J2138,'Control Panel'!$I$27:$K$68,2,FALSE)","v":"SW1"},1,null,null,null,null,null,1,"F84038",null,4043,6,4,4,4,4,1,14,13,10,10,10,8,7,7,5,7,5,10]
["2021-04-01",{"$f":"VLOOKUP(J2139,'Control Panel'!$I$27:$K$68,2,FALSE)","v":"SW2"},1,null,null,null,null,null,1,"F84041",null,6985,13,11,11,11,9,8,16,15,14,14,14,10,9,9,10,9,10,14]
["2021-04-01",{"$f":"VLOOKUP(J2140,'Control Panel'!$I$27:$K$68,2,FALSE)","v":"SE1"},1,null,null,null,null,null,1,"F84060",null,4759,9,9,9,9,9,2,6,5,5,5,5,11,10,7,7,7,7,5]
["2021-04-01",{"$f":"VLOOKUP(J2141,'Control Panel'!$I$27:$K$68,2,FALSE)","v":"SW1"},1,null,null,null,null,null,1,"F84063",null,6058,9,8,8,8,8,4,3,3,2,2,2,8,8,8,4,8,3,2]
["2021-04-01",{"$f":"VLOOKUP(J2142,'Control Panel'!$I$27:$K$68,2,FALSE)","v":"SE2"},1,null,null,null,null,null,1,"F84069",null,14086,43,38,37,41,36,5,42,39,37,37,37,42,40,38,30,39,31,37]
["2021-04-01",{"$f":"VLOOKUP(J2143,'Control Panel'!$I$27:$K$68,2,FALSE)","v":"SW2"},1,null,null,null,null,null,1,"F84072",null,11098,43,40,40,41,40,12,28,26,18,18,19,33,29,29,15,28,19,20]
["2021-04-01",{"$f":"VLOOKUP(J2144,'Control Panel'!$I$27:$K$68,2,FALSE)","v":"NE2"},0,null,null,null,null,null,1,"F84080",null,5069,22,8,8,12,10,2,24,12,13,13,15,23,19,18,11,19,12,14]
["2021-04-01",{"$f":"VLOOKUP(J2145,'Control Panel'!$I$27:$K$68,2,FALSE)","v":"SW2"},1,null,null,null,null,null,1,"F84096",null,13189,35,34,34,34,33,14,32,30,27,27,27,40,35,35,32,35,33,27]
["2021-04-01",{"$f":"VLOOKUP(J2146,'Control Panel'!$I$27:$K$68,2,FALSE)","v":"SE1"},1,null,null,null,null,null,1,"F84105",null,11732,32,26,26,25,25,4,26,22,20,20,19,24,21,21,20,21,20,19]
["2021-04-01",{"$f":"VLOOKUP(J2147,'Control Panel'!$I$27:$K$68,2,FALSE)","v":"NW1"},{"$f":"IF(LEFT(B2147,2)=\"NE\",0,1)","v":1},null,null,null,null,null,1,"F84115",null,8431,21,18,17,19,18,4,25,25,23,23,23,20,17,18,16,17,16,24]
["2021-04-01",{"$f":"VLOOKUP(J2148,'Control Panel'!$I$27:$K$68,2,FALSE)","v":"SW1"},1,null,null,null,null,null,1,"F84117",null,10236,29,25,25,27,25,4,25,22,21,21,20,22,21,21,16,21,16,20]
["2021-04-01",{"$f":"VLOOKUP(J2149,'Control Panel'!$I$27:$K$68,2,FALSE)","v":"NW1"},1,null,null,null,null,null,1,"F84119",null,11998,35,28,27,31,28,17,35,28,28,28,28,38,31,31,23,32,24,28]
["2021-04-01",{"$f":"VLOOKUP(J2150,'Control Panel'!$I$27:$K$68,2,FALSE)","v":"SE2"},1,null,null,null,null,null,1,"F84601",null,7341,18,15,15,16,15,3,21,19,13,13,13,19,18,14,11,14,12,13]
["2021-04-01",{"$f":"VLOOKUP(J2151,'Control Panel'!$I$27:$K$68,2,FALSE)","v":"NE2"},0,null,null,null,null,null,1,"F84619",null,4828,19,17,17,18,17,2,12,9,7,8,8,8,8,8,7,8,7,8]
["2021-04-01",{"$f":"VLOOKUP(J2152,'Control Panel'!$I$27:$K$68,2,FALSE)","v":"SE2"},1,null,null,null,null,null,1,"F84620",null,7258,23,20,20,22,20,8,26,18,15,15,15,22,20,18,14,18,14,15]
["2021-04-01",{"$f":"VLOOKUP(J2153,'Control Panel'!$I$27:$K$68,2,FALSE)","v":"SW1"},1,null,null,null,null,null,1,"F84621",null,4122,12,5,5,6,6,3,9,5,2,3,3,12,11,12,8,11,8,3]
["2021-04-01",{"$f":"VLOOKUP(J2154,'Control Panel'!$I$27:$K$68,2,FALSE)","v":"SE2"},1,null,null,null,null,null,1,"F84632",null,1102,0,0,0,0,0,0,0,0,0,0,0,0,0,0,0,0,0,0]
["2021-04-01",{"$f":"VLOOKUP(J2155,'Control Panel'!$I$27:$K$68,2,FALSE)","v":"SW2"},1,null,null,null,null,null,1,"F84635",null,9486,22,19,19,20,20,3,20,17,14,14,14,16,16,15,8,15,8,14]
["2021-04-01",{"$f":"VLOOKUP(J2156,'Control Panel'!$I$27:$K$68,2,FALSE)","v":"NW2"},1,null,null,null,null,null,1,"F84636",null,6259,11,9,9,9,7,3,6,6,5,4,4,16,13,13,7,13,9,4]
["2021-04-01",{"$f":"VLOOKUP(J2157,'Control Panel'!$I$27:$K$68,2,FALSE)","v":"City"},1,null,null,null,null,null,1,"F84640",null,9707,12,10,10,11,11,6,17,16,13,13,13,7,7,7,7,7,7,13]
["2021-04-01",{"$f":"VLOOKUP(J2158,'Control Panel'!$I$27:$K$68,2,FALSE)","v":"NE2"},0,null,null,null,null,null,1,"F84668",null,6499,40,14,17,23,13,1,37,16,16,11,18,29,24,28,14,24,17,16]
["2021-04-01",{"$f":"VLOOKUP(J2159,'Control Panel'!$I$27:$K$68,2,FALSE)","v":"NE2"},0,null,null,null,null,null,1,"F84685",null,2953,4,3,3,3,3,1,11,8,8,8,8,11,9,8,8,8,8,8]
["2021-04-01",{"$f":"VLOOKUP(J2160,'Control Panel'!$I$27:$K$68,2,FALSE)","v":"NE1"},0,null,null,null,null,null,1,"F84686",null,8235,70,13,13,21,12,0,46,20,22,20,23,61,47,52,16,47,21,26]
["2021-04-01",{"$f":"VLOOKUP(J2161,'Control Panel'!$I$27:$K$68,2,FALSE)","v":"SW2"},1,null,null,null,null,null,1,"F84692",null,7144,10,10,10,10,10,1,10,8,6,6,6,17,16,16,15,16,15,6]
["2021-04-01",{"$f":"VLOOKUP(J2162,'Control Panel'!$I$27:$K$68,2,FALSE)","v":"NW2"},1,null,null,null,null,null,1,"F84694",null,4368,13,10,10,11,10,5,14,13,12,12,12,6,5,4,1,4,3,12]
["2021-04-01",{"$f":"VLOOKUP(J2163,'Control Panel'!$I$27:$K$68,2,FALSE)","v":"NE2"},0,null,null,null,null,null,1,"F84711",null,1910,6,5,5,6,6,3,7,5,6,6,6,3,3,3,2,3,2,6]
["2021-04-01",{"$f":"VLOOKUP(J2164,'Control Panel'!$I$27:$K$68,2,FALSE)","v":"NW1"},1,null,null,null,null,null,1,"F84716",null,5627,31,20,22,22,18,5,26,17,20,16,15,19,15,15,4,15,5,16]
["2021-04-01",{"$f":"VLOOKUP(J2165,'Control Panel'!$I$27:$K$68,2,FALSE)","v":"SE1"},1,null,null,null,null,null,1,"F84719",null,5248,8,4,4,4,4,1,15,14,14,13,14,7,6,6,5,6,5,13]
["2021-04-01",{"$f":"VLOOKUP(J2166,'Control Panel'!$I$27:$K$68,2,FALSE)","v":"NE2"},0,null,null,null,null,null,1,"F84720",null,5566,18,9,9,11,10,0,17,8,5,5,5,26,22,21,13,17,15,5]
["2021-04-01",{"$f":"VLOOKUP(J2167,'Control Panel'!$I$27:$K$68,2,FALSE)","v":"SE2"},1,null,null,null,null,null,1,"Y00403",null,7318,29,19,18,20,19,2,23,22,20,20,21,17,17,16,13,16,13,21]
["2021-04-01",{"$f":"VLOOKUP(J2168,'Control Panel'!$I$27:$K$68,2,FALSE)","v":"NE1"},0,null,null,null,null,null,1,"Y03049",null,14523,64,37,37,41,31,25,51,27,31,26,28,60,48,49,37,44,38,27]
["2021-04-01",{"$f":"VLOOKUP(J2169,'Control Panel'!$I$27:$K$68,2,FALSE)","v":{"$error":"#N/A"}},{"$error":"#N/A"},null,null,null,null,null,0,"Total",null,330045,1028,705,703,772,688,205,997,759,682,656,676,989,851,850,612,815,649,680]
["2021-05-01",{"$f":"VLOOKUP(J2170,'Control Panel'!$I$27:$K$68,2,FALSE)","v":{"$error":"#N/A"}},{"$error":"#N/A"},null,"Last Run:",null,"Population Count",345351,1,null,"Search","All Patients","(01) 12 MONTH COHORT","(01.01) DTaP/IPV/Hib/HepB","(01.02) Men B (1st and 2nd)","(01.03) PCV","(01.04) Rotavirus","(01.05) BCG","(02) 24 MONTH COHORT","(02.01) DTaP/IPV/Hib or DTaP/IPV/Hib/HepB","(02.02) MMR","(02.03) HiB/Men C","(02.04) PCV (Booster)","(03) 5 YEAR COHORT","(03.01) DTaP/IPV/Hib or DTaP/IPV/Hib/HepB","(03.02) MMR (Primary)","(03.03) DTaP/IPV (Booster)","(03.04) HiB/Men C","(03.05) MMR (Booster)","(02.05) Men B (Booster)"]
["2021-05-01",{"$f":"VLOOKUP(J2171,'Control Panel'!$I$27:$K$68,2,FALSE)","v":{"$error":"#N/A"}},{"$error":"#N/A"},null,"2021-06-02T10:09:00",null,"Males",173401,1,"Organisation Code"]
["2021-05-01",{"$f":"VLOOKUP(J2172,'Control Panel'!$I$27:$K$68,2,FALSE)","v":"SE1"},1,null,"Relative Date:",null,"Females",171950,1,"F84003",null,14956,32,30,30,31,29,2,44,40,33,34,34,32,30,29,22,28,23,34]
["2021-05-01",{"$f":"VLOOKUP(J2173,'Control Panel'!$I$27:$K$68,2,FALSE)","v":"NW2"},1,null,"2021-06-01",null,null,null,1,"F84008",null,12578,35,31,31,32,31,6,28,25,24,24,24,37,34,35,33,35,33,25]
["2021-05-01",{"$f":"VLOOKUP(J2174,'Control Panel'!$I$27:$K$68,2,FALSE)","v":"NE1"},0,null,null,null,null,null,1,"F84013",null,16115,99,25,24,36,18,3,104,58,57,46,52,114,81,87,57,73,65,54]
["2021-05-01",{"$f":"VLOOKUP(J2175,'Control Panel'!$I$27:$K$68,2,FALSE)","v":"SE1"},1,null,null,null,null,null,1,"F84015",null,5595,12,10,10,12,12,6,10,9,6,6,6,17,15,14,10,14,10,6]
["2021-05-01",{"$f":"VLOOKUP(J2176,'Control Panel'!$I$27:$K$68,2,FALSE)","v":"NE2"},0,null,null,null,null,null,1,"F84018",null,11934,35,26,26,30,28,8,52,37,29,29,29,36,31,32,24,31,27,29]
["2021-05-01",{"$f":"VLOOKUP(J2177,'Control Panel'!$I$27:$K$68,2,FALSE)","v":"SW1"},1,null,null,null,null,null,1,"F84021",null,10585,33,31,31,29,30,9,23,18,14,14,14,34,32,31,27,30,27,14]
["2021-05-01",{"$f":"VLOOKUP(J2178,'Control Panel'!$I$27:$K$68,2,FALSE)","v":"NW2"},1,null,null,null,null,null,1,"F84033",null,11905,25,19,19,21,19,11,28,26,23,23,23,38,36,36,30,36,30,23]
["2021-05-01",{"$f":"VLOOKUP(J2179,'Control Panel'!$I$27:$K$68,2,FALSE)","v":"SW1"},1,null,null,null,null,null,1,"F84035",null,12880,32,28,27,27,26,3,32,27,24,23,24,21,21,21,16,21,17,24]
["2021-05-01",{"$f":"VLOOKUP(J2180,'Control Panel'!$I$27:$K$68,2,FALSE)","v":"NW1"},1,null,null,null,null,null,{"$f":"IF(J2180=\"Total\",0,1)","v":1},"F84036",null,7303,17,16,16,16,16,5,28,27,23,23,22,24,19,18,17,18,17,22]
["2021-05-01",{"$f":"VLOOKUP(J2181,'Control Panel'!$I$27:$K$68,2,FALSE)","v":"SW1"},1,null,null,null,null,null,1,"F84038",null,4023,6,4,4,4,4,1,13,12,9,9,9,8,7,7,5,7,5,9]
["2021-05-01",{"$f":"VLOOKUP(J2182,'Control Panel'!$I$27:$K$68,2,FALSE)","v":"SW2"},1,null,null,null,null,null,1,"F84041",null,6942,13,11,11,11,9,8,15,14,13,13,13,10,9,9,10,9,10,13]
["2021-05-01",{"$f":"VLOOKUP(J2183,'Control Panel'!$I$27:$K$68,2,FALSE)","v":"SE1"},1,null,null,null,null,null,1,"F84060",null,4781,10,9,9,9,9,2,6,5,5,5,5,11,10,7,7,7,7,5]
["2021-05-01",{"$f":"VLOOKUP(J2184,'Control Panel'!$I$27:$K$68,2,FALSE)","v":"SW1"},1,null,null,null,null,null,1,"F84063",null,6061,9,8,8,8,8,4,3,3,2,2,2,8,8,8,5,8,4,2]
["2021-05-01",{"$f":"VLOOKUP(J2185,'Control Panel'!$I$27:$K$68,2,FALSE)","v":"SE2"},1,null,null,null,null,null,1,"F84069",null,14078,41,36,35,39,34,4,41,38,36,36,36,42,40,38,30,39,31,36]
["2021-05-01",{"$f":"VLOOKUP(J2186,'Control Panel'!$I$27:$K$68,2,FALSE)","v":"SW2"},1,null,null,null,null,null,1,"F84072",null,11129,43,40,40,41,40,12,28,26,18,18,19,33,29,29,15,28,19,20]
["2021-05-01",{"$f":"VLOOKUP(J2187,'Control Panel'!$I$27:$K$68,2,FALSE)","v":"NE2"},0,null,null,null,null,null,1,"F84080",null,5075,22,8,8,12,10,2,24,12,13,13,15,23,19,18,11,19,12,14]
["2021-05-01",{"$f":"VLOOKUP(J2188,'Control Panel'!$I$27:$K$68,2,FALSE)","v":"SW2"},1,null,null,null,null,null,1,"F84096",null,13259,35,34,34,34,33,14,32,30,27,27,27,40,35,35,32,35,33,27]
["2021-05-01",{"$f":"VLOOKUP(J2189,'Control Panel'!$I$27:$K$68,2,FALSE)","v":"SE1"},1,null,null,null,null,null,1,"F84105",null,11799,30,25,25,24,24,4,25,22,20,20,19,24,21,21,20,21,20,19]
["2021-05-01",{"$f":"VLOOKUP(J2190,'Control Panel'!$I$27:$K$68,2,FALSE)","v":"NW1"},1,null,null,null,null,null,1,"F84115",null,8442,24,21,20,22,20,4,25,25,23,23,23,19,16,17,15,16,15,24]
["2021-05-01",{"$f":"VLOOKUP(J2191,'Control Panel'!$I$27:$K$68,2,FALSE)","v":"SW1"},1,null,null,null,null,null,1,"F84117",null,10366,29,25,25,27,25,4,25,22,21,21,20,22,21,21,16,21,16,20]
["2021-05-01",{"$f":"VLOOKUP(J2192,'Control Panel'!$I$27:$K$68,2,FALSE)","v":"NW1"},1,null,null,null,null,null,1,"F84119",null,12100,35,28,27,31,28,17,34,26,26,26,25,38,32,32,23,33,24,26]
["2021-05-01",{"$f":"VLOOKUP(J2193,'Control Panel'!$I$27:$K$68,2,FALSE)","v":"SE2"},1,null,null,null,null,null,1,"F84601",null,7405,18,15,15,16,15,3,22,20,15,15,15,20,19,15,12,15,13,15]
["2021-05-01",{"$f":"VLOOKUP(J2194,'Control Panel'!$I$27:$K$68,2,FALSE)","v":"NE2"},0,null,null,null,null,null,1,"F84619",null,4836,19,17,17,18,17,2,11,9,7,8,9,9,9,9,9,9,9,8]
["2021-05-01",{"$f":"VLOOKUP(J2195,'Control Panel'!$I$27:$K$68,2,FALSE)","v":"SE2"},1,null,null,null,null,null,1,"F84620",null,7278,23,21,21,23,21,8,26,18,15,15,15,22,20,18,14,18,14,15]
["2021-05-01",{"$f":"VLOOKUP(J2196,'Control Panel'!$I$27:$K$68,2,FALSE)","v":"SW1"},1,null,null,null,null,null,1,"F84621",null,4160,12,5,5,6,6,3,8,5,2,3,3,12,11,12,8,11,8,3]
["2021-05-01",{"$f":"VLOOKUP(J2197,'Control Panel'!$I$27:$K$68,2,FALSE)","v":"SE2"},1,null,null,null,null,null,1,"F84632",null,1128,0,0,0,0,0,0,0,0,0,0,0,0,0,0,0,0,0,0]
["2021-05-01",{"$f":"VLOOKUP(J2198,'Control Panel'!$I$27:$K$68,2,FALSE)","v":"SW2"},1,null,null,null,null,null,1,"F84635",null,9543,22,19,19,20,20,3,18,15,12,12,12,16,16,15,8,15,8,12]
["2021-05-01",{"$f":"VLOOKUP(J2199,'Control Panel'!$I$27:$K$68,2,FALSE)","v":"NW2"},1,null,null,null,null,null,1,"F84636",null,6301,11,9,9,9,7,3,6,5,4,3,3,16,13,13,7,13,9,3]
["2021-05-01",{"$f":"VLOOKUP(J2200,'Control Panel'!$I$27:$K$68,2,FALSE)","v":"City"},1,null,null,null,null,null,1,"F84640",null,9854,12,10,10,11,11,6,18,16,13,13,13,7,7,7,7,7,7,13]
["2021-05-01",{"$f":"VLOOKUP(J2201,'Control Panel'!$I$27:$K$68,2,FALSE)","v":"NE2"},0,null,null,null,null,null,1,"F84668",null,6502,40,14,17,23,13,1,37,16,16,11,18,28,23,27,13,23,16,16]
["2021-05-01",{"$f":"VLOOKUP(J2202,'Control Panel'!$I$27:$K$68,2,FALSE)","v":"NE2"},0,null,null,null,null,null,1,"F84685",null,2965,4,3,3,3,3,1,11,8,8,8,8,10,8,7,7,7,7,8]
["2021-05-01",{"$f":"VLOOKUP(J2203,'Control Panel'!$I$27:$K$68,2,FALSE)","v":"NE1"},0,null,null,null,null,null,1,"F84686",null,8271,70,14,14,21,12,0,47,21,23,21,23,61,47,52,16,47,21,26]
["2021-05-01",{"$f":"VLOOKUP(J2204,'Control Panel'!$I$27:$K$68,2,FALSE)","v":"SW2"},1,null,null,null,null,null,1,"F84692",null,7203,9,9,9,9,9,1,10,8,6,6,6,17,16,16,15,16,15,6]
["2021-05-01",{"$f":"VLOOKUP(J2205,'Control Panel'!$I$27:$K$68,2,FALSE)","v":"NW2"},1,null,null,null,null,null,1,"F84694",null,4424,12,9,9,10,9,5,14,13,12,12,12,6,5,4,1,4,3,12]
["2021-05-01",{"$f":"VLOOKUP(J2206,'Control Panel'!$I$27:$K$68,2,FALSE)","v":"NE2"},0,null,null,null,null,null,1,"F84711",null,1910,6,5,5,6,6,3,7,5,6,6,6,3,3,3,2,3,2,6]
["2021-05-01",{"$f":"VLOOKUP(J2207,'Control Panel'!$I$27:$K$68,2,FALSE)","v":"NW1"},1,null,null,null,null,null,1,"F84716",null,5637,28,19,20,20,16,5,26,17,20,16,15,19,15,15,4,15,5,16]
["2021-05-01",{"$f":"VLOOKUP(J2208,'Control Panel'!$I$27:$K$68,2,FALSE)","v":"SE1"},1,null,null,null,null,null,1,"F84719",null,5254,8,4,4,4,4,1,15,14,14,13,14,7,6,6,5,6,5,13]
["2021-05-01",{"$f":"VLOOKUP(J2209,'Control Panel'!$I$27:$K$68,2,FALSE)","v":"NE2"},0,null,null,null,null,null,1,"F84720",null,5606,18,9,9,11,10,0,17,8,5,5,6,26,22,21,13,17,15,5]
["2021-05-01",{"$f":"VLOOKUP(J2210,'Control Panel'!$I$27:$K$68,2,FALSE)","v":"SE2"},1,null,null,null,null,null,1,"Y00403",null,7392,29,19,18,20,19,2,23,22,20,20,21,17,17,16,13,16,13,21]
["2021-05-01",{"$f":"VLOOKUP(J2211,'Control Panel'!$I$27:$K$68,2,FALSE)","v":"NE1"},{"$f":"IF(LEFT(B2211,2)=\"NE\",0,1)","v":0},null,null,null,null,null,1,"Y03049",null,14530,63,37,37,40,31,25,51,27,31,26,28,60,48,49,38,44,39,27]
["2021-05-01",{"$f":"VLOOKUP(J2212,'Control Panel'!$I$27:$K$68,2,FALSE)","v":{"$error":"#N/A"}},{"$error":"#N/A"},null,null,null,null,null,0,"Total",null,332105,1021,703,701,766,682,201,987,749,675,648,668,987,851,850,617,815,654,671]
["2021-06-01",{"$f":"VLOOKUP(J2213,'Control Panel'!$I$27:$K$68,2,FALSE)","v":{"$error":"#N/A"}},{"$error":"#N/A"},null,"Last Run:",null,"Population Count",345977,1,null,"Search","All Patients","(01) 12 MONTH COHORT","(01.01) DTaP/IPV/Hib/HepB","(01.02) Men B (1st and 2nd)","(01.03) PCV","(01.04) Rotavirus","(01.05) BCG","(02) 24 MONTH COHORT","(02.01) DTaP/IPV/Hib or DTaP/IPV/Hib/HepB","(02.02) MMR","(02.03) HiB/Men C","(02.04) PCV (Booster)","(03) 5 YEAR COHORT","(03.01) DTaP/IPV/Hib or DTaP/IPV/Hib/HepB","(03.02) MMR (Primary)","(03.03) DTaP/IPV (Booster)","(03.04) HiB/Men C","(03.05) MMR (Booster)","(02.05) Men B (Booster)"]
["2021-06-01",{"$f":"VLOOKUP(J2214,'Control Panel'!$I$27:$K$68,2,FALSE)","v":{"$error":"#N/A"}},{"$error":"#N/A"},null,"2021-07-20T13:04:00",null,"Males",173856,1,"Organisation Code"]
["2021-06-01",{"$f":"VLOOKUP(J2215,'Control Panel'!$I$27:$K$68,2,FALSE)","v":"SE1"},1,null,"Relative Date:",null,"Females",172121,1,"F84003",null,14964,32,30,30,31,29,3,43,39,32,33,33,28,26,25,21,24,22,33]
["2021-06-01",{"$f":"VLOOKUP(J2216,'Control Panel'!$I$27:$K$68,2,FALSE)","v":"NW2"},1,null,"2021-07-01",null,null,null,1,"F84008",null,12526,34,30,30,31,30,7,27,24,23,23,23,37,34,35,33,35,33,24]
["2021-06-01",{"$f":"VLOOKUP(J2217,'Control Panel'!$I$27:$K$68,2,FALSE)","v":"NE1"},0,null,null,null,null,null,1,"F84013",null,16114,101,25,24,37,17,3,105,58,57,46,52,114,80,86,56,72,64,54]
["2021-06-01",{"$f":"VLOOKUP(J2218,'Control Panel'!$I$27:$K$68,2,FALSE)","v":"SE1"},1,null,null,null,null,null,1,"F84015",null,5578,12,10,10,12,12,6,10,9,6,6,6,17,15,14,10,14,10,6]
["2021-06-01",{"$f":"VLOOKUP(J2219,'Control Panel'!$I$27:$K$68,2,FALSE)","v":"NE2"},0,null,null,null,null,null,1,"F84018",null,11924,33,24,24,29,27,8,52,36,27,27,27,37,32,33,24,32,27,27]
["2021-06-01",{"$f":"VLOOKUP(J2220,'Control Panel'!$I$27:$K$68,2,FALSE)","v":"SW1"},1,null,null,null,null,null,1,"F84021",null,10600,30,28,28,26,27,9,24,19,15,15,15,33,31,30,26,29,26,15]
["2021-06-01",{"$f":"VLOOKUP(J2221,'Control Panel'!$I$27:$K$68,2,FALSE)","v":"NW2"},1,null,null,null,null,null,1,"F84033",null,11884,25,19,19,21,19,11,27,25,22,22,22,38,36,36,30,36,30,22]
["2021-06-01",{"$f":"VLOOKUP(J2222,'Control Panel'!$I$27:$K$68,2,FALSE)","v":"SW1"},1,null,null,null,null,null,1,"F84035",null,13264,33,29,29,28,28,3,32,27,25,23,25,21,21,21,16,21,17,25]
["2021-06-01",{"$f":"VLOOKUP(J2223,'Control Panel'!$I$27:$K$68,2,FALSE)","v":"NW1"},1,null,null,null,null,null,1,"F84036",null,7424,17,16,16,16,16,5,28,27,23,23,22,24,19,18,17,18,17,22]
["2021-06-01",{"$f":"VLOOKUP(J2224,'Control Panel'!$I$27:$K$68,2,FALSE)","v":"SW1"},1,null,null,null,null,null,1,"F84038",null,4002,6,4,4,4,4,1,13,12,9,9,9,8,7,7,5,7,5,9]
["2021-06-01",{"$f":"VLOOKUP(J2225,'Control Panel'!$I$27:$K$68,2,FALSE)","v":"SW2"},1,null,null,null,null,null,1,"F84041",null,6905,13,11,11,11,9,8,15,14,13,13,13,10,9,9,10,9,10,13]
["2021-06-01",{"$f":"VLOOKUP(J2226,'Control Panel'!$I$27:$K$68,2,FALSE)","v":"SE1"},1,null,null,null,null,null,1,"F84060",null,4753,10,9,9,9,9,2,5,4,4,4,4,11,10,7,7,7,7,4]
["2021-06-01",{"$f":"VLOOKUP(J2227,'Control Panel'!$I$27:$K$68,2,FALSE)","v":"SW1"},1,null,null,null,null,null,1,"F84063",null,6077,9,8,8,8,8,4,3,3,2,2,2,8,8,8,5,8,4,2]
["2021-06-01",{"$f":"VLOOKUP(J2228,'Control Panel'!$I$27:$K$68,2,FALSE)","v":"SE2"},1,null,null,null,null,null,1,"F84069",null,14040,42,37,36,40,35,6,41,38,36,36,36,41,40,37,29,38,30,36]
["2021-06-01",{"$f":"VLOOKUP(J2229,'Control Panel'!$I$27:$K$68,2,FALSE)","v":"SW2"},1,null,null,null,null,null,1,"F84072",null,11251,43,39,39,40,39,11,28,26,18,18,19,33,29,29,15,28,19,20]
["2021-06-01",{"$f":"VLOOKUP(J2230,'Control Panel'!$I$27:$K$68,2,FALSE)","v":"NE2"},0,null,null,null,null,null,1,"F84080",null,5095,23,9,9,13,11,2,23,11,12,12,14,22,18,18,11,18,12,13]
["2021-06-01",{"$f":"VLOOKUP(J2231,'Control Panel'!$I$27:$K$68,2,FALSE)","v":"SW2"},1,null,null,null,null,null,1,"F84096",null,13366,35,34,34,34,33,14,32,30,27,27,27,40,35,35,32,35,33,27]
["2021-06-01",{"$f":"VLOOKUP(J2232,'Control Panel'!$I$27:$K$68,2,FALSE)","v":"SE1"},1,null,null,null,null,null,1,"F84105",null,11821,30,25,25,24,24,5,25,22,20,20,19,23,20,21,19,20,19,19]
["2021-06-01",{"$f":"VLOOKUP(J2233,'Control Panel'!$I$27:$K$68,2,FALSE)","v":"NW1"},1,null,null,null,null,null,1,"F84115",null,8514,22,20,18,20,18,5,24,24,22,22,22,19,16,17,15,16,15,23]
["2021-06-01",{"$f":"VLOOKUP(J2234,'Control Panel'!$I$27:$K$68,2,FALSE)","v":"SW1"},1,null,null,null,null,null,1,"F84117",null,10181,29,26,26,27,25,4,25,22,21,21,20,22,21,21,16,21,16,20]
["2021-06-01",{"$f":"VLOOKUP(J2235,'Control Panel'!$I$27:$K$68,2,FALSE)","v":"NW1"},1,null,null,null,null,null,1,"F84119",null,12064,33,27,26,29,26,17,34,26,27,27,26,38,32,32,23,33,24,27]
["2021-06-01",{"$f":"VLOOKUP(J2236,'Control Panel'!$I$27:$K$68,2,FALSE)","v":"SE2"},1,null,null,null,null,null,1,"F84601",null,7424,17,14,14,15,15,3,22,20,15,15,15,20,19,15,12,15,13,15]
["2021-06-01",{"$f":"VLOOKUP(J2237,'Control Panel'!$I$27:$K$68,2,FALSE)","v":"NE2"},0,null,null,null,null,null,1,"F84619",null,4847,20,18,18,19,18,2,10,8,7,7,8,9,9,9,9,9,9,7]
["2021-06-01",{"$f":"VLOOKUP(J2238,'Control Panel'!$I$27:$K$68,2,FALSE)","v":"SE2"},1,null,null,null,null,null,1,"F84620",null,7332,23,21,21,23,21,8,26,18,15,15,15,22,20,18,14,18,14,15]
["2021-06-01",{"$f":"VLOOKUP(J2239,'Control Panel'!$I$27:$K$68,2,FALSE)","v":"SW1"},1,null,null,null,null,null,1,"F84621",null,4147,13,5,5,6,6,3,8,5,2,3,3,12,11,12,9,11,9,3]
["2021-06-01",{"$f":"VLOOKUP(J2240,'Control Panel'!$I$27:$K$68,2,FALSE)","v":"SE2"},1,null,null,null,null,null,1,"F84632",null,1138,0,0,0,0,0,0,0,0,0,0,0,0,0,0,0,0,0,0]
["2021-06-01",{"$f":"VLOOKUP(J2241,'Control Panel'!$I$27:$K$68,2,FALSE)","v":"SW2"},1,null,null,null,null,null,1,"F84635",null,9640,22,19,19,20,20,3,18,15,12,12,12,15,15,14,7,14,7,12]
["2021-06-01",{"$f":"VLOOKUP(J2242,'Control Panel'!$I$27:$K$68,2,FALSE)","v":"NW2"},1,null,null,null,null,null,1,"F84636",null,6353,10,8,8,8,6,3,6,6,4,3,3,16,13,13,7,13,9,3]
["2021-06-01",{"$f":"VLOOKUP(J2243,'Control Panel'!$I$27:$K$68,2,FALSE)","v":"City"},1,null,null,null,null,null,1,"F84640",null,9869,13,12,12,13,13,7,18,16,13,13,13,7,7,7,7,7,7,13]
["2021-06-01",{"$f":"VLOOKUP(J2244,'Control Panel'!$I$27:$K$68,2,FALSE)","v":"NE2"},0,null,null,null,null,null,{"$f":"IF(J2244=\"Total\",0,1)","v":1},"F84668",null,6502,40,14,17,23,13,1,37,16,16,11,18,28,23,27,13,23,16,16]
["2021-06-01",{"$f":"VLOOKUP(J2245,'Control Panel'!$I$27:$K$68,2,FALSE)","v":"NE2"},0,null,null,null,null,null,1,"F84685",null,2965,4,3,3,3,3,1,11,8,8,8,8,10,8,7,7,7,7,8]
["2021-06-01",{"$f":"VLOOKUP(J2246,'Control Panel'!$I$27:$K$68,2,FALSE)","v":"NE1"},0,null,null,null,null,null,1,"F84686",null,8257,69,14,14,22,12,0,47,21,23,21,23,61,47,52,16,47,21,26]
["2021-06-01",{"$f":"VLOOKUP(J2247,'Control Panel'!$I$27:$K$68,2,FALSE)","v":"SW2"},1,null,null,null,null,null,1,"F84692",null,7298,8,8,8,8,8,1,9,7,5,5,5,17,16,16,15,16,15,5]
["2021-06-01",{"$f":"VLOOKUP(J2248,'Control Panel'!$I$27:$K$68,2,FALSE)","v":"NW2"},1,null,null,null,null,null,1,"F84694",null,4404,12,9,9,10,9,5,14,13,12,12,12,6,5,4,1,4,3,12]
["2021-06-01",{"$f":"VLOOKUP(J2249,'Control Panel'!$I$27:$K$68,2,FALSE)","v":"NE2"},0,null,null,null,null,null,1,"F84711",null,1903,6,5,5,6,6,3,6,4,5,5,5,3,3,3,2,3,2,5]
["2021-06-01",{"$f":"VLOOKUP(J2250,'Control Panel'!$I$27:$K$68,2,FALSE)","v":"NW1"},1,null,null,null,null,null,1,"F84716",null,5679,28,19,20,20,16,6,26,17,20,16,15,19,15,15,4,15,5,16]
["2021-06-01",{"$f":"VLOOKUP(J2251,'Control Panel'!$I$27:$K$68,2,FALSE)","v":"SE1"},1,null,null,null,null,null,1,"F84719",null,5261,9,4,4,4,4,2,15,14,14,13,14,7,6,6,5,6,5,13]
["2021-06-01",{"$f":"VLOOKUP(J2252,'Control Panel'!$I$27:$K$68,2,FALSE)","v":"NE2"},0,null,null,null,null,null,1,"F84720",null,5630,18,9,9,11,10,0,17,8,5,5,6,26,22,21,13,17,15,5]
["2021-06-01",{"$f":"VLOOKUP(J2253,'Control Panel'!$I$27:$K$68,2,FALSE)","v":"SE2"},1,null,null,null,null,null,1,"Y00403",null,7237,27,19,18,19,19,2,22,21,20,21,21,15,15,14,13,14,13,21]
["2021-06-01",{"$f":"VLOOKUP(J2254,'Control Panel'!$I$27:$K$68,2,FALSE)","v":"NE1"},0,null,null,null,null,null,1,"Y03049",null,14615,62,38,38,40,31,25,52,28,32,27,29,59,47,48,38,43,38,28]
["2021-06-01",{"$f":"VLOOKUP(J2255,'Control Panel'!$I$27:$K$68,2,FALSE)","v":{"$error":"#N/A"}},{"$error":"#N/A"},null,null,null,null,null,0,"Total",null,332848,1013,699,697,760,676,209,980,741,669,641,661,976,840,840,612,803,648,664]
["2021-07-01",{"$f":"VLOOKUP(J2256,'Control Panel'!$I$27:$K$68,2,FALSE)","v":{"$error":"#N/A"}},{"$f":"IF(LEFT(B2256,2)=\"NE\",0,1)","v":{"$error":"#N/A"}},null,"Last Run:",null,"Population Count",347711,1,null,"Search","All Patients","(01) 12 MONTH COHORT","(01.01) DTaP/IPV/Hib 6in1","(01.02) Men B (1st and 2nd)","(01.03) PCV","(01.04) Rotavirus","(01.05) BCG","(02) 24 MONTH COHORT","(02.01) DTaP/IPV/Hib Combined","(02.02) MMR","(02.03) HiB/Men C","(02.04) PCV (Booster)","(03) 5 YEAR COHORT","(03.01) DTaP/IPV/Hib Combined","(03.02) MMR (Primary)","(03.03) DTaP/IPV (Booster)","(03.04) HiB/Men C","(03.05) MMR (Booster)","(02.05) Men B (Booster)"]
["2021-07-01",{"$f":"VLOOKUP(J2257,'Control Panel'!$I$27:$K$68,2,FALSE)","v":{"$error":"#N/A"}},{"$error":"#N/A"},null,"2021-08-02T10:07:00",null,"Males",174819,1,"Organisation Code"]
["2021-07-01",{"$f":"VLOOKUP(J2258,'Control Panel'!$I$27:$K$68,2,FALSE)","v":"SE1"},1,null,"Relative Date:",null,"Females",172892,1,"F84003",null,14944,40,33,33,36,30,4,38,35,30,30,30,31,28,28,24,28,24,30]
["2021-07-01",{"$f":"VLOOKUP(J2259,'Control Panel'!$I$27:$K$68,2,FALSE)","v":"NW2"},1,null,"2021-08-01",null,null,null,1,"F84008",null,12484,33,29,29,32,31,4,43,40,38,39,40,40,37,36,30,34,31,39]
["2021-07-01",{"$f":"VLOOKUP(J2260,'Control Panel'!$I$27:$K$68,2,FALSE)","v":"NE1"},0,null,null,null,null,null,1,"F84013",null,16172,115,32,31,52,21,5,127,56,59,49,57,101,74,80,50,69,53,59]
["2021-07-01",{"$f":"VLOOKUP(J2261,'Control Panel'!$I$27:$K$68,2,FALSE)","v":"SE1"},1,null,null,null,null,null,1,"F84015",null,5585,11,10,10,11,10,3,13,11,10,10,10,16,14,13,11,13,11,10]
["2021-07-01",{"$f":"VLOOKUP(J2262,'Control Panel'!$I$27:$K$68,2,FALSE)","v":"NE2"},0,null,null,null,null,null,1,"F84018",null,11963,35,27,27,32,29,9,31,25,23,23,22,42,34,35,21,34,25,21]
["2021-07-01",{"$f":"VLOOKUP(J2263,'Control Panel'!$I$27:$K$68,2,FALSE)","v":"SW1"},1,null,null,null,null,null,1,"F84021",null,10619,26,23,23,23,23,5,28,25,23,23,22,26,24,24,18,24,18,23]
["2021-07-01",{"$f":"VLOOKUP(J2264,'Control Panel'!$I$27:$K$68,2,FALSE)","v":"NW2"},1,null,null,null,null,null,1,"F84033",null,11953,27,26,26,26,26,15,35,31,29,30,30,34,28,28,20,28,21,30]
["2021-07-01",{"$f":"VLOOKUP(J2265,'Control Panel'!$I$27:$K$68,2,FALSE)","v":"SW1"},1,null,null,null,null,null,1,"F84035",null,13561,40,29,30,34,33,8,34,31,27,28,28,25,20,20,17,19,16,28]
["2021-07-01",{"$f":"VLOOKUP(J2266,'Control Panel'!$I$27:$K$68,2,FALSE)","v":"NW1"},1,null,null,null,null,null,1,"F84036",null,7521,18,13,13,13,12,7,17,12,7,8,7,31,29,29,18,28,19,8]
["2021-07-01",{"$f":"VLOOKUP(J2267,'Control Panel'!$I$27:$K$68,2,FALSE)","v":"SW1"},1,null,null,null,null,null,1,"F84038",null,3995,5,4,4,5,5,3,8,8,6,6,6,8,7,6,6,6,6,6]
["2021-07-01",{"$f":"VLOOKUP(J2268,'Control Panel'!$I$27:$K$68,2,FALSE)","v":"SW2"},1,null,null,null,null,null,1,"F84041",null,6882,16,13,14,14,13,5,13,12,11,11,11,17,17,17,16,16,16,12]
["2021-07-01",{"$f":"VLOOKUP(J2269,'Control Panel'!$I$27:$K$68,2,FALSE)","v":"SE1"},1,null,null,null,null,null,1,"F84060",null,4766,11,10,11,11,10,6,14,11,10,10,10,16,13,13,9,13,9,10]
["2021-07-01",{"$f":"VLOOKUP(J2270,'Control Panel'!$I$27:$K$68,2,FALSE)","v":"SW1"},1,null,null,null,null,null,1,"F84063",null,6088,15,13,13,13,12,7,12,10,9,8,9,18,17,17,10,17,11,9]
["2021-07-01",{"$f":"VLOOKUP(J2271,'Control Panel'!$I$27:$K$68,2,FALSE)","v":"SE2"},1,null,null,null,null,null,1,"F84069",null,14048,33,27,26,28,26,8,39,34,30,30,30,40,38,37,30,36,30,30]
["2021-07-01",{"$f":"VLOOKUP(J2272,'Control Panel'!$I$27:$K$68,2,FALSE)","v":"SW2"},1,null,null,null,null,null,1,"F84072",null,11270,36,31,30,31,31,7,37,35,31,30,30,35,35,33,25,34,26,30]
["2021-07-01",{"$f":"VLOOKUP(J2273,'Control Panel'!$I$27:$K$68,2,FALSE)","v":"NE2"},0,null,null,null,null,null,1,"F84080",null,5102,26,11,11,16,12,0,17,13,12,12,12,16,14,14,9,15,12,12]
["2021-07-01",{"$f":"VLOOKUP(J2274,'Control Panel'!$I$27:$K$68,2,FALSE)","v":"SW2"},1,null,null,null,null,null,1,"F84096",null,13461,35,31,30,31,29,16,35,32,26,26,26,29,25,22,20,23,20,27]
["2021-07-01",{"$f":"VLOOKUP(J2275,'Control Panel'!$I$27:$K$68,2,FALSE)","v":"SE1"},1,null,null,null,null,null,1,"F84105",null,11844,29,23,22,25,24,11,39,38,36,35,34,31,30,30,28,30,29,34]
["2021-07-01",{"$f":"VLOOKUP(J2276,'Control Panel'!$I$27:$K$68,2,FALSE)","v":"NW1"},1,null,null,null,null,null,1,"F84115",null,8498,18,17,17,16,16,1,23,22,20,20,20,18,18,16,12,16,12,20]
["2021-07-01",{"$f":"VLOOKUP(J2277,'Control Panel'!$I$27:$K$68,2,FALSE)","v":"SW1"},1,null,null,null,null,null,1,"F84117",null,10274,20,19,19,19,19,2,16,14,12,12,12,22,20,19,15,20,14,12]
["2021-07-01",{"$f":"VLOOKUP(J2278,'Control Panel'!$I$27:$K$68,2,FALSE)","v":"NW1"},1,null,null,null,null,null,1,"F84119",null,12100,30,25,25,27,26,12,33,28,24,24,24,41,36,34,24,36,24,24]
["2021-07-01",{"$f":"VLOOKUP(J2279,'Control Panel'!$I$27:$K$68,2,FALSE)","v":"SE2"},1,null,null,null,null,null,1,"F84601",null,7471,19,17,16,17,16,1,15,13,11,11,11,12,10,9,7,9,8,12]
["2021-07-01",{"$f":"VLOOKUP(J2280,'Control Panel'!$I$27:$K$68,2,FALSE)","v":"NE2"},0,null,null,null,null,null,1,"F84619",null,4881,14,12,12,12,11,0,15,14,12,11,11,13,10,12,11,11,11,14]
["2021-07-01",{"$f":"VLOOKUP(J2281,'Control Panel'!$I$27:$K$68,2,FALSE)","v":"SE2"},1,null,null,null,null,null,1,"F84620",null,7417,15,9,9,10,8,6,12,9,9,9,9,20,19,17,13,14,13,9]
["2021-07-01",{"$f":"VLOOKUP(J2282,'Control Panel'!$I$27:$K$68,2,FALSE)","v":"SW1"},1,null,null,null,null,null,1,"F84621",null,4155,12,11,11,12,11,8,10,5,6,6,6,8,8,8,6,8,7,6]
["2021-07-01",{"$f":"VLOOKUP(J2283,'Control Panel'!$I$27:$K$68,2,FALSE)","v":"SE2"},1,null,null,null,null,null,1,"F84632",null,1166,0,0,0,0,0,0,0,0,0,0,0,0,0,0,0,0,0,0]
["2021-07-01",{"$f":"VLOOKUP(J2284,'Control Panel'!$I$27:$K$68,2,FALSE)","v":"SW2"},1,null,null,null,null,null,1,"F84635",null,9729,27,20,20,20,19,4,21,19,12,13,13,24,22,21,15,21,17,13]
["2021-07-01",{"$f":"VLOOKUP(J2285,'Control Panel'!$I$27:$K$68,2,FALSE)","v":"NW2"},1,null,null,null,null,null,1,"F84636",null,6425,17,16,16,16,14,2,12,9,9,9,9,16,14,14,12,14,12,9]
["2021-07-01",{"$f":"VLOOKUP(J2286,'Control Panel'!$I$27:$K$68,2,FALSE)","v":"City"},1,null,null,null,null,null,1,"F84640",null,9944,19,17,17,19,18,5,27,24,22,22,22,12,12,12,11,10,11,22]
["2021-07-01",{"$f":"VLOOKUP(J2287,'Control Panel'!$I$27:$K$68,2,FALSE)","v":"NE2"},0,null,null,null,null,null,1,"F84668",null,6477,38,7,15,19,9,0,34,12,13,10,14,43,26,32,8,30,10,14]
["2021-07-01",{"$f":"VLOOKUP(J2288,'Control Panel'!$I$27:$K$68,2,FALSE)","v":"NE2"},0,null,null,null,null,null,1,"F84685",null,2960,10,6,6,6,6,3,7,3,2,2,2,8,7,7,5,7,6,2]
["2021-07-01",{"$f":"VLOOKUP(J2289,'Control Panel'!$I$27:$K$68,2,FALSE)","v":"NE1"},0,null,null,null,null,null,1,"F84686",null,8280,55,5,4,15,4,0,67,23,23,17,21,64,47,57,25,49,26,21]
["2021-07-01",{"$f":"VLOOKUP(J2290,'Control Panel'!$I$27:$K$68,2,FALSE)","v":"SW2"},1,null,null,null,null,null,1,"F84692",null,7326,15,11,11,12,11,2,7,6,3,3,3,10,8,8,8,8,8,4]
["2021-07-01",{"$f":"VLOOKUP(J2291,'Control Panel'!$I$27:$K$68,2,FALSE)","v":"NW2"},1,null,null,null,null,null,1,"F84694",null,4440,14,11,11,12,12,2,15,11,12,10,11,12,10,11,10,11,10,9]
["2021-07-01",{"$f":"VLOOKUP(J2292,'Control Panel'!$I$27:$K$68,2,FALSE)","v":"NE2"},0,null,null,null,null,null,1,"F84711",null,1902,4,2,2,3,3,2,7,5,4,3,3,5,1,2,1,1,2,4]
["2021-07-01",{"$f":"VLOOKUP(J2293,'Control Panel'!$I$27:$K$68,2,FALSE)","v":"NW1"},1,null,null,null,null,null,1,"F84716",null,5717,30,12,12,13,11,1,31,20,21,21,22,17,12,13,8,11,9,20]
["2021-07-01",{"$f":"VLOOKUP(J2294,'Control Panel'!$I$27:$K$68,2,FALSE)","v":"SE1"},1,null,null,null,null,null,1,"F84719",null,5277,11,10,10,10,10,3,8,6,5,5,5,9,9,8,9,8,9,4]
["2021-07-01",{"$f":"VLOOKUP(J2295,'Control Panel'!$I$27:$K$68,2,FALSE)","v":"NE2"},0,null,null,null,null,null,1,"F84720",null,5648,19,11,12,13,9,1,16,11,7,8,9,30,19,23,11,15,12,8]
["2021-07-01",{"$f":"VLOOKUP(J2296,'Control Panel'!$I$27:$K$68,2,FALSE)","v":"SE2"},1,null,null,null,null,null,1,"Y00403",null,7330,26,22,23,24,22,4,17,14,14,14,14,18,16,17,14,17,14,14]
["2021-07-01",{"$f":"VLOOKUP(J2297,'Control Panel'!$I$27:$K$68,2,FALSE)","v":"NE1"},0,null,null,null,null,null,1,"Y03049",null,14558,52,28,28,33,15,17,73,42,48,46,46,69,56,60,42,53,41,47]
["2021-07-01",{"$f":"VLOOKUP(J2298,'Control Panel'!$I$27:$K$68,2,FALSE)","v":{"$error":"#N/A"}},{"$error":"#N/A"},null,null,null,null,null,0,"Total",null,334233,1016,673,679,761,647,199,1046,769,706,684,701,1027,864,882,629,836,653,706]
["2021-08-01",{"$f":"VLOOKUP(J2299,'Control Panel'!$I$27:$K$68,2,FALSE)","v":{"$error":"#N/A"}},{"$error":"#N/A"},null,"Last Run:",null,"Population Count",348212,1,null,"Search","All Patients","(01) 12 MONTH COHORT","(01.01) DTaP/IPV/Hib 6in1","(01.02) Men B (1st and 2nd)","(01.03) PCV","(01.04) Rotavirus","(01.05) BCG","(02) 24 MONTH COHORT","(02.01) DTaP/IPV/Hib Combined","(02.02) MMR","(02.03) HiB/Men C","(02.04) PCV (Booster)","(03) 5 YEAR COHORT","(03.01) DTaP/IPV/Hib Combined","(03.02) MMR (Primary)","(03.03) DTaP/IPV (Booster)","(03.04) HiB/Men C","(03.05) MMR (Booster)","(02.05) Men B (Booster)"]
["2021-08-01",{"$f":"VLOOKUP(J2300,'Control Panel'!$I$27:$K$68,2,FALSE)","v":{"$error":"#N/A"}},{"$error":"#N/A"},null,"2021-09-02T12:19:00",null,"Males",175002,1,"Organisation Code"]
["2021-08-01",{"$f":"VLOOKUP(J2301,'Control Panel'!$I$27:$K$68,2,FALSE)","v":"SE1"},1,null,"Relative Date:",null,"Females",173210,1,"F84003",null,15051,38,31,31,34,28,4,38,35,29,29,29,31,28,28,24,28,24,30]
["2021-08-01",{"$f":"VLOOKUP(J2302,'Control Panel'!$I$27:$K$68,2,FALSE)","v":"NW2"},1,null,"2021-09-01",null,null,null,1,"F84008",null,12404,32,29,29,31,30,5,42,39,37,38,39,36,34,34,30,32,31,38]
["2021-08-01",{"$f":"VLOOKUP(J2303,'Control Panel'!$I$27:$K$68,2,FALSE)","v":"NE1"},0,null,null,null,null,null,1,"F84013",null,16211,114,32,31,53,20,4,128,57,60,51,59,103,74,80,50,69,53,61]
["2021-08-01",{"$f":"VLOOKUP(J2304,'Control Panel'!$I$27:$K$68,2,FALSE)","v":"SE1"},1,null,null,null,null,null,1,"F84015",null,5574,11,10,10,11,10,3,13,11,10,10,10,16,14,13,11,13,11,10]
["2021-08-01",{"$f":"VLOOKUP(J2305,'Control Panel'!$I$27:$K$68,2,FALSE)","v":"NE2"},0,null,null,null,null,null,1,"F84018",null,11983,37,28,28,34,30,10,32,26,24,24,23,42,34,35,21,34,25,22]
["2021-08-01",{"$f":"VLOOKUP(J2306,'Control Panel'!$I$27:$K$68,2,FALSE)","v":"SW1"},1,null,null,null,null,null,1,"F84021",null,10644,26,23,23,23,23,5,28,25,23,23,22,26,24,24,18,24,18,23]
["2021-08-01",{"$f":"VLOOKUP(J2307,'Control Panel'!$I$27:$K$68,2,FALSE)","v":"NW2"},1,null,null,null,null,null,1,"F84033",null,11913,26,25,25,25,25,15,34,30,28,29,29,36,30,30,20,30,21,29]
["2021-08-01",{"$f":"VLOOKUP(J2308,'Control Panel'!$I$27:$K$68,2,FALSE)","v":"SW1"},1,null,null,null,null,null,{"$f":"IF(J2308=\"Total\",0,1)","v":1},"F84035",null,13803,40,29,30,34,33,8,33,30,26,27,27,26,21,21,18,20,17,27]
["2021-08-01",{"$f":"VLOOKUP(J2309,'Control Panel'!$I$27:$K$68,2,FALSE)","v":"NW1"},1,null,null,null,null,null,1,"F84036",null,7556,18,13,13,13,12,7,17,12,7,8,7,32,30,30,19,29,20,8]
["2021-08-01",{"$f":"VLOOKUP(J2310,'Control Panel'!$I$27:$K$68,2,FALSE)","v":"SW1"},1,null,null,null,null,null,1,"F84038",null,3966,5,4,4,5,5,3,8,8,6,6,6,8,7,6,6,6,6,6]
["2021-08-01",{"$f":"VLOOKUP(J2311,'Control Panel'!$I$27:$K$68,2,FALSE)","v":"SW2"},1,null,null,null,null,null,1,"F84041",null,6821,15,13,13,14,13,6,13,12,12,12,12,17,17,17,16,16,16,13]
["2021-08-01",{"$f":"VLOOKUP(J2312,'Control Panel'!$I$27:$K$68,2,FALSE)","v":"SE1"},1,null,null,null,null,null,1,"F84060",null,4761,10,10,10,10,9,5,14,11,10,10,10,16,13,13,9,13,9,10]
["2021-08-01",{"$f":"VLOOKUP(J2313,'Control Panel'!$I$27:$K$68,2,FALSE)","v":"SW1"},1,null,null,null,null,null,1,"F84063",null,6081,15,13,13,13,12,7,12,10,9,8,9,18,17,17,10,17,11,9]
["2021-08-01",{"$f":"VLOOKUP(J2314,'Control Panel'!$I$27:$K$68,2,FALSE)","v":"SE2"},1,null,null,null,null,null,1,"F84069",null,14056,33,27,27,29,27,8,39,34,30,30,30,40,38,37,30,36,30,30]
["2021-08-01",{"$f":"VLOOKUP(J2315,'Control Panel'!$I$27:$K$68,2,FALSE)","v":"SW2"},1,null,null,null,null,null,1,"F84072",null,11291,36,31,30,31,31,7,37,35,31,30,30,36,35,33,25,34,26,30]
["2021-08-01",{"$f":"VLOOKUP(J2316,'Control Panel'!$I$27:$K$68,2,FALSE)","v":"NE2"},0,null,null,null,null,null,1,"F84080",null,5111,26,11,11,16,12,0,18,14,13,13,13,16,14,14,9,15,12,13]
["2021-08-01",{"$f":"VLOOKUP(J2317,'Control Panel'!$I$27:$K$68,2,FALSE)","v":"SW2"},1,null,null,null,null,null,1,"F84096",null,13494,33,29,28,30,27,16,35,32,27,27,27,28,24,21,19,22,19,27]
["2021-08-01",{"$f":"VLOOKUP(J2318,'Control Panel'!$I$27:$K$68,2,FALSE)","v":"SE1"},1,null,null,null,null,null,1,"F84105",null,11878,27,21,21,23,22,10,39,38,36,35,34,32,30,30,29,30,29,34]
["2021-08-01",{"$f":"VLOOKUP(J2319,'Control Panel'!$I$27:$K$68,2,FALSE)","v":"NW1"},1,null,null,null,null,null,1,"F84115",null,8479,18,17,17,16,16,1,23,22,20,20,20,18,18,16,12,16,12,20]
["2021-08-01",{"$f":"VLOOKUP(J2320,'Control Panel'!$I$27:$K$68,2,FALSE)","v":"SW1"},{"$f":"IF(LEFT(B2320,2)=\"NE\",0,1)","v":1},null,null,null,null,null,1,"F84117",null,10214,20,19,19,19,19,2,16,14,12,12,12,22,20,19,15,20,14,12]
["2021-08-01",{"$f":"VLOOKUP(J2321,'Control Panel'!$I$27:$K$68,2,FALSE)","v":"NW1"},1,null,null,null,null,null,1,"F84119",null,12091,30,25,25,27,26,12,34,30,26,26,26,41,36,34,24,36,24,26]
["2021-08-01",{"$f":"VLOOKUP(J2322,'Control Panel'!$I$27:$K$68,2,FALSE)","v":"SE2"},1,null,null,null,null,null,1,"F84601",null,7460,19,17,16,17,16,1,14,12,10,10,10,12,10,9,7,9,8,11]
["2021-08-01",{"$f":"VLOOKUP(J2323,'Control Panel'!$I$27:$K$68,2,FALSE)","v":"NE2"},0,null,null,null,null,null,1,"F84619",null,4884,15,13,13,13,12,1,15,13,12,11,11,12,9,11,10,10,10,14]
["2021-08-01",{"$f":"VLOOKUP(J2324,'Control Panel'!$I$27:$K$68,2,FALSE)","v":"SE2"},1,null,null,null,null,null,1,"F84620",null,7390,14,8,8,9,7,6,12,9,9,9,9,20,19,17,13,14,13,9]
["2021-08-01",{"$f":"VLOOKUP(J2325,'Control Panel'!$I$27:$K$68,2,FALSE)","v":"SW1"},1,null,null,null,null,null,1,"F84621",null,4178,12,12,12,12,11,8,10,5,6,6,6,8,8,8,6,8,7,6]
["2021-08-01",{"$f":"VLOOKUP(J2326,'Control Panel'!$I$27:$K$68,2,FALSE)","v":"SE2"},1,null,null,null,null,null,1,"F84632",null,1182,0,0,0,0,0,0,0,0,0,0,0,0,0,0,0,0,0,0]
["2021-08-01",{"$f":"VLOOKUP(J2327,'Control Panel'!$I$27:$K$68,2,FALSE)","v":"SW2"},1,null,null,null,null,null,1,"F84635",null,9733,27,20,20,20,19,4,21,19,12,13,13,24,22,21,15,21,17,13]
["2021-08-01",{"$f":"VLOOKUP(J2328,'Control Panel'!$I$27:$K$68,2,FALSE)","v":"NW2"},1,null,null,null,null,null,1,"F84636",null,6458,17,16,16,16,14,2,12,9,9,9,9,17,15,15,13,15,13,9]
["2021-08-01",{"$f":"VLOOKUP(J2329,'Control Panel'!$I$27:$K$68,2,FALSE)","v":"City"},1,null,null,null,null,null,1,"F84640",null,9979,19,17,17,19,18,5,27,24,23,23,23,12,12,12,11,10,11,23]
["2021-08-01",{"$f":"VLOOKUP(J2330,'Control Panel'!$I$27:$K$68,2,FALSE)","v":"NE2"},0,null,null,null,null,null,1,"F84668",null,6468,39,9,17,20,10,0,34,12,13,10,14,43,26,32,8,30,10,14]
["2021-08-01",{"$f":"VLOOKUP(J2331,'Control Panel'!$I$27:$K$68,2,FALSE)","v":"NE2"},0,null,null,null,null,null,1,"F84685",null,2945,10,6,6,7,6,3,7,3,2,2,2,8,7,7,5,7,6,2]
["2021-08-01",{"$f":"VLOOKUP(J2332,'Control Panel'!$I$27:$K$68,2,FALSE)","v":"NE1"},0,null,null,null,null,null,1,"F84686",null,8289,56,6,5,15,4,0,67,24,24,18,21,64,47,57,25,49,26,22]
["2021-08-01",{"$f":"VLOOKUP(J2333,'Control Panel'!$I$27:$K$68,2,FALSE)","v":"SW2"},1,null,null,null,null,null,1,"F84692",null,7340,13,9,9,10,9,0,7,7,4,3,3,10,8,8,8,8,8,4]
["2021-08-01",{"$f":"VLOOKUP(J2334,'Control Panel'!$I$27:$K$68,2,FALSE)","v":"NW2"},1,null,null,null,null,null,1,"F84694",null,4483,14,11,11,12,12,2,15,11,12,10,11,12,10,11,10,11,10,10]
["2021-08-01",{"$f":"VLOOKUP(J2335,'Control Panel'!$I$27:$K$68,2,FALSE)","v":"NE2"},0,null,null,null,null,null,1,"F84711",null,1898,4,2,2,3,3,2,7,5,4,3,3,5,1,2,1,1,2,4]
["2021-08-01",{"$f":"VLOOKUP(J2336,'Control Panel'!$I$27:$K$68,2,FALSE)","v":"NW1"},1,null,null,null,null,null,1,"F84716",null,5755,31,13,13,14,12,1,31,20,21,21,22,16,13,13,8,12,10,20]
["2021-08-01",{"$f":"VLOOKUP(J2337,'Control Panel'!$I$27:$K$68,2,FALSE)","v":"SE1"},1,null,null,null,null,null,1,"F84719",null,5284,11,10,10,10,10,3,8,6,5,5,5,9,9,8,9,8,9,4]
["2021-08-01",{"$f":"VLOOKUP(J2338,'Control Panel'!$I$27:$K$68,2,FALSE)","v":"NE2"},0,null,null,null,null,null,1,"F84720",null,5687,21,12,13,14,10,1,16,11,7,8,9,30,19,23,11,15,12,8]
["2021-08-01",{"$f":"VLOOKUP(J2339,'Control Panel'!$I$27:$K$68,2,FALSE)","v":"SE2"},1,null,null,null,null,null,1,"Y00403",null,7421,25,21,22,23,21,4,17,14,14,14,14,18,16,17,14,17,14,14]
["2021-08-01",{"$f":"VLOOKUP(J2340,'Control Panel'!$I$27:$K$68,2,FALSE)","v":"NE1"},0,null,null,null,null,null,1,"Y03049",null,14514,51,29,29,32,14,16,73,42,49,47,48,68,55,59,41,52,40,48]
["2021-08-01",{"$f":"VLOOKUP(J2341,'Control Panel'!$I$27:$K$68,2,FALSE)","v":{"$error":"#N/A"}},{"$error":"#N/A"},null,null,null,null,null,0,"Total",null,334730,1008,671,677,757,638,197,1046,771,712,690,707,1028,864,882,630,837,654,713]
["2021-09-01",{"$f":"VLOOKUP(J2342,'Control Panel'!$I$27:$K$68,2,FALSE)","v":{"$error":"#N/A"}},{"$error":"#N/A"},null,"Last Run:",null,"Population Count",348908,1,null,"Search","All Patients","(01) 12 MONTH COHORT","(01.01) DTaP/IPV/Hib 6in1","(01.02) Men B (1st and 2nd)","(01.03) PCV","(01.04) Rotavirus","(01.05) BCG","(02) 24 MONTH COHORT","(02.01) DTaP/IPV/Hib Combined","(02.02) MMR","(02.03) HiB/Men C","(02.04) PCV (Booster)","(03) 5 YEAR COHORT","(03.01) DTaP/IPV/Hib Combined","(03.02) MMR (Primary)","(03.03) DTaP/IPV (Booster)","(03.04) HiB/Men C","(03.05) MMR (Booster)","(02.05) Men B (Booster)"]
["2021-09-01",{"$f":"VLOOKUP(J2343,'Control Panel'!$I$27:$K$68,2,FALSE)","v":{"$error":"#N/A"}},{"$error":"#N/A"},null,"2021-10-04T12:22:00",null,"Males",175302,1,"Organisation Code"]
["2021-09-01",{"$f":"VLOOKUP(J2344,'Control Panel'!$I$27:$K$68,2,FALSE)","v":"SE1"},1,null,"Relative Date:",null,"Females",173606,1,"F84003",null,15163,38,31,31,34,28,4,38,35,29,29,29,32,29,29,25,29,25,30]
["2021-09-01",{"$f":"VLOOKUP(J2345,'Control Panel'!$I$27:$K$68,2,FALSE)","v":"NW2"},1,null,"2021-10-01",null,null,null,1,"F84008",null,12367,31,28,28,30,29,6,43,40,38,39,40,36,34,34,30,32,31,39]
["2021-09-01",{"$f":"VLOOKUP(J2346,'Control Panel'!$I$27:$K$68,2,FALSE)","v":"NE1"},0,null,null,null,null,null,1,"F84013",null,16229,114,32,32,54,20,4,128,57,60,52,60,104,75,81,51,70,54,61]
["2021-09-01",{"$f":"VLOOKUP(J2347,'Control Panel'!$I$27:$K$68,2,FALSE)","v":"SE1"},1,null,null,null,null,null,1,"F84015",null,5534,10,10,10,10,9,3,13,11,10,10,10,16,14,13,11,13,11,10]
["2021-09-01",{"$f":"VLOOKUP(J2348,'Control Panel'!$I$27:$K$68,2,FALSE)","v":"NE2"},0,null,null,null,null,null,1,"F84018",null,11993,37,28,28,34,30,10,32,26,24,24,23,44,35,36,22,35,26,22]
["2021-09-01",{"$f":"VLOOKUP(J2349,'Control Panel'!$I$27:$K$68,2,FALSE)","v":"SW1"},1,null,null,null,null,null,1,"F84021",null,10682,25,22,22,22,22,5,27,24,22,22,21,25,23,23,17,23,17,22]
["2021-09-01",{"$f":"VLOOKUP(J2350,'Control Panel'!$I$27:$K$68,2,FALSE)","v":"NW2"},1,null,null,null,null,null,1,"F84033",null,11904,26,25,25,25,25,15,33,30,28,29,29,34,27,27,17,27,18,29]
["2021-09-01",{"$f":"VLOOKUP(J2351,'Control Panel'!$I$27:$K$68,2,FALSE)","v":"SW1"},1,null,null,null,null,null,1,"F84035",null,14023,39,28,29,33,32,8,34,30,26,28,27,26,21,21,18,20,17,28]
["2021-09-01",{"$f":"VLOOKUP(J2352,'Control Panel'!$I$27:$K$68,2,FALSE)","v":"NW1"},1,null,null,null,null,null,1,"F84036",null,7543,16,11,11,11,10,6,17,12,7,8,7,32,30,30,19,29,20,8]
["2021-09-01",{"$f":"VLOOKUP(J2353,'Control Panel'!$I$27:$K$68,2,FALSE)","v":"SW1"},1,null,null,null,null,null,1,"F84038",null,3975,5,4,4,5,5,3,8,8,6,6,6,8,7,6,6,6,6,6]
["2021-09-01",{"$f":"VLOOKUP(J2354,'Control Panel'!$I$27:$K$68,2,FALSE)","v":"SW2"},1,null,null,null,null,null,1,"F84041",null,6810,15,13,13,14,13,6,13,12,12,12,12,17,17,17,16,16,16,13]
["2021-09-01",{"$f":"VLOOKUP(J2355,'Control Panel'!$I$27:$K$68,2,FALSE)","v":"SE1"},1,null,null,null,null,null,1,"F84060",null,4782,11,11,11,11,10,5,14,11,10,10,10,16,14,14,9,13,9,10]
["2021-09-01",{"$f":"VLOOKUP(J2356,'Control Panel'!$I$27:$K$68,2,FALSE)","v":"SW1"},1,null,null,null,null,null,1,"F84063",null,6084,15,13,13,13,12,7,12,10,9,8,9,17,16,16,9,16,10,9]
["2021-09-01",{"$f":"VLOOKUP(J2357,'Control Panel'!$I$27:$K$68,2,FALSE)","v":"SE2"},1,null,null,null,null,null,1,"F84069",null,14073,33,27,27,29,27,8,37,31,27,27,27,40,38,37,30,36,30,27]
["2021-09-01",{"$f":"VLOOKUP(J2358,'Control Panel'!$I$27:$K$68,2,FALSE)","v":"SW2"},1,null,null,null,null,null,1,"F84072",null,11312,36,31,30,31,31,7,35,33,29,28,28,35,35,33,24,34,26,28]
["2021-09-01",{"$f":"VLOOKUP(J2359,'Control Panel'!$I$27:$K$68,2,FALSE)","v":"NE2"},0,null,null,null,null,null,1,"F84080",null,5120,25,11,11,16,12,0,19,14,13,13,13,16,14,14,9,15,12,13]
["2021-09-01",{"$f":"VLOOKUP(J2360,'Control Panel'!$I$27:$K$68,2,FALSE)","v":"SW2"},1,null,null,null,null,null,1,"F84096",null,13524,32,28,27,29,26,15,35,32,27,27,27,28,25,21,19,22,19,27]
["2021-09-01",{"$f":"VLOOKUP(J2361,'Control Panel'!$I$27:$K$68,2,FALSE)","v":"SE1"},1,null,null,null,null,null,1,"F84105",null,11865,26,20,20,22,21,9,39,38,37,36,35,30,28,28,27,28,27,35]
["2021-09-01",{"$f":"VLOOKUP(J2362,'Control Panel'!$I$27:$K$68,2,FALSE)","v":"NW1"},1,null,null,null,null,null,1,"F84115",null,8504,20,19,19,19,18,2,21,20,18,18,18,19,19,17,13,17,13,18]
["2021-09-01",{"$f":"VLOOKUP(J2363,'Control Panel'!$I$27:$K$68,2,FALSE)","v":"SW1"},1,null,null,null,null,null,1,"F84117",null,10294,20,19,19,19,19,2,16,14,12,12,12,22,20,19,15,20,14,12]
["2021-09-01",{"$f":"VLOOKUP(J2364,'Control Panel'!$I$27:$K$68,2,FALSE)","v":"NW1"},1,null,null,null,null,null,1,"F84119",null,12057,30,25,25,27,26,12,34,30,25,25,25,41,36,34,24,36,24,25]
["2021-09-01",{"$f":"VLOOKUP(J2365,'Control Panel'!$I$27:$K$68,2,FALSE)","v":"SE2"},1,null,null,null,null,null,1,"F84601",null,7434,18,16,15,16,15,1,13,11,9,9,9,12,10,9,7,9,8,10]
["2021-09-01",{"$f":"VLOOKUP(J2366,'Control Panel'!$I$27:$K$68,2,FALSE)","v":"NE2"},0,null,null,null,null,null,1,"F84619",null,4896,15,13,13,13,12,1,15,13,12,11,11,12,9,11,10,10,10,14]
["2021-09-01",{"$f":"VLOOKUP(J2367,'Control Panel'!$I$27:$K$68,2,FALSE)","v":"SE2"},1,null,null,null,null,null,1,"F84620",null,7396,14,8,8,9,7,6,12,9,9,9,9,20,19,17,13,14,13,9]
["2021-09-01",{"$f":"VLOOKUP(J2368,'Control Panel'!$I$27:$K$68,2,FALSE)","v":"SW1"},1,null,null,null,null,null,1,"F84621",null,4182,11,11,11,11,10,7,10,5,6,6,6,8,8,8,6,8,7,6]
["2021-09-01",{"$f":"VLOOKUP(J2369,'Control Panel'!$I$27:$K$68,2,FALSE)","v":"SE2"},1,null,null,null,null,null,1,"F84632",null,1183,0,0,0,0,0,0,0,0,0,0,0,0,0,0,0,0,0,0]
["2021-09-01",{"$f":"VLOOKUP(J2370,'Control Panel'!$I$27:$K$68,2,FALSE)","v":"SW2"},1,null,null,null,null,null,1,"F84635",null,9827,27,20,20,20,19,4,21,19,13,14,14,24,22,21,15,21,17,14]
["2021-09-01",{"$f":"VLOOKUP(J2371,'Control Panel'!$I$27:$K$68,2,FALSE)","v":"NW2"},1,null,null,null,null,null,1,"F84636",null,6525,17,16,16,16,14,2,12,9,9,9,9,17,15,15,13,15,13,9]
["2021-09-01",{"$f":"VLOOKUP(J2372,'Control Panel'!$I$27:$K$68,2,FALSE)","v":"City"},1,null,null,null,null,null,{"$f":"IF(J2372=\"Total\",0,1)","v":1},"F84640",null,10140,19,17,17,19,18,6,27,24,23,23,23,12,12,12,11,10,11,23]
["2021-09-01",{"$f":"VLOOKUP(J2373,'Control Panel'!$I$27:$K$68,2,FALSE)","v":"NE2"},0,null,null,null,null,null,1,"F84668",null,6472,40,9,17,21,10,1,34,12,13,10,14,42,25,31,8,29,10,14]
["2021-09-01",{"$f":"VLOOKUP(J2374,'Control Panel'!$I$27:$K$68,2,FALSE)","v":"NE2"},0,null,null,null,null,null,1,"F84685",null,2957,9,5,5,6,5,2,7,3,2,2,2,8,7,7,5,7,6,2]
["2021-09-01",{"$f":"VLOOKUP(J2375,'Control Panel'!$I$27:$K$68,2,FALSE)","v":"NE1"},0,null,null,null,null,null,1,"F84686",null,8310,55,6,5,15,4,0,67,24,24,18,21,64,47,57,25,49,26,22]
["2021-09-01",{"$f":"VLOOKUP(J2376,'Control Panel'!$I$27:$K$68,2,FALSE)","v":"SW2"},1,null,null,null,null,null,1,"F84692",null,7393,12,8,8,9,8,0,7,7,5,4,4,10,8,8,8,8,8,5]
["2021-09-01",{"$f":"VLOOKUP(J2377,'Control Panel'!$I$27:$K$68,2,FALSE)","v":"NW2"},1,null,null,null,null,null,1,"F84694",null,4482,14,11,11,12,12,2,15,11,12,10,10,12,10,11,10,11,10,10]
["2021-09-01",{"$f":"VLOOKUP(J2378,'Control Panel'!$I$27:$K$68,2,FALSE)","v":"NE2"},0,null,null,null,null,null,1,"F84711",null,1897,4,2,2,3,3,2,7,5,4,3,3,5,1,2,1,1,2,4]
["2021-09-01",{"$f":"VLOOKUP(J2379,'Control Panel'!$I$27:$K$68,2,FALSE)","v":"NW1"},1,null,null,null,null,null,1,"F84716",null,5765,31,13,13,14,12,2,29,18,19,19,20,16,13,13,8,12,10,18]
["2021-09-01",{"$f":"VLOOKUP(J2380,'Control Panel'!$I$27:$K$68,2,FALSE)","v":"SE1"},1,null,null,null,null,null,1,"F84719",null,5278,11,10,10,10,10,3,8,6,5,5,5,9,9,8,9,8,9,4]
["2021-09-01",{"$f":"VLOOKUP(J2381,'Control Panel'!$I$27:$K$68,2,FALSE)","v":"NE2"},0,null,null,null,null,null,1,"F84720",null,5650,21,12,12,13,9,2,16,11,7,8,9,30,19,23,11,15,12,8]
["2021-09-01",{"$f":"VLOOKUP(J2382,'Control Panel'!$I$27:$K$68,2,FALSE)","v":"SE2"},1,null,null,null,null,null,1,"Y00403",null,7400,24,21,22,23,21,4,16,13,13,13,13,19,17,18,14,18,14,13]
["2021-09-01",{"$f":"VLOOKUP(J2383,'Control Panel'!$I$27:$K$68,2,FALSE)","v":"NE1"},0,null,null,null,null,null,1,"Y03049",null,14518,51,28,28,31,13,15,72,42,49,47,48,68,55,59,41,52,40,48]
["2021-09-01",{"$f":"VLOOKUP(J2384,'Control Panel'!$I$27:$K$68,2,FALSE)","v":{"$error":"#N/A"}},{"$f":"IF(LEFT(B2384,2)=\"NE\",0,1)","v":{"$error":"#N/A"}},null,null,null,null,null,0,"Total",null,335543,997,662,668,749,627,197,1036,760,703,683,698,1026,863,880,626,834,651,705]
["2021-10-01",{"$f":"VLOOKUP(J2385,'Control Panel'!$I$27:$K$68,2,FALSE)","v":{"$error":"#N/A"}},{"$error":"#N/A"},null,"Last Run:",null,"Population Count",349064,1,null,"Search","All Patients","(01) 12 MONTH COHORT","(01.01) DTaP/IPV/Hib 6in1","(01.02) Men B (1st and 2nd)","(01.03) PCV","(01.04) Rotavirus","(01.05) BCG","(02) 24 MONTH COHORT","(02.01) DTaP/IPV/Hib Combined","(02.02) MMR","(02.03) HiB/Men C","(02.04) PCV (Booster)","(03) 5 YEAR COHORT","(03.01) DTaP/IPV/Hib Combined","(03.02) MMR (Primary)","(03.03) DTaP/IPV (Booster)","(03.04) HiB/Men C","(03.05) MMR (Booster)","(02.05) Men B (Booster)"]
["2021-10-01",{"$f":"VLOOKUP(J2386,'Control Panel'!$I$27:$K$68,2,FALSE)","v":{"$error":"#N/A"}},{"$error":"#N/A"},null,"2021-11-02T09:55:00",null,"Males",174893,1,"Organisation Code"]
["2021-10-01",{"$f":"VLOOKUP(J2387,'Control Panel'!$I$27:$K$68,2,FALSE)","v":"SE1"},1,null,"Relative Date:",null,"Females",174171,1,"F84003",null,15061,36,30,30,31,30,2,34,32,26,27,27,33,32,30,22,30,23,27]
["2021-10-01",{"$f":"VLOOKUP(J2388,'Control Panel'!$I$27:$K$68,2,FALSE)","v":"NW2"},1,null,"2021-11-01",null,null,null,1,"F84008",null,12319,41,34,34,35,34,1,28,27,23,23,23,23,22,21,22,21,22,23]
["2021-10-01",{"$f":"VLOOKUP(J2389,'Control Panel'!$I$27:$K$68,2,FALSE)","v":"NE1"},0,null,null,null,null,null,1,"F84013",null,16260,104,23,24,36,23,4,118,43,51,50,54,95,61,68,41,58,43,49]
["2021-10-01",{"$f":"VLOOKUP(J2390,'Control Panel'!$I$27:$K$68,2,FALSE)","v":"SE1"},1,null,null,null,null,null,1,"F84015",null,5508,21,16,16,18,18,5,19,14,14,14,14,21,20,20,17,20,17,13]
["2021-10-01",{"$f":"VLOOKUP(J2391,'Control Panel'!$I$27:$K$68,2,FALSE)","v":"NE2"},0,null,null,null,null,null,1,"F84018",null,12020,38,35,35,35,33,15,44,35,25,26,26,46,42,39,31,39,32,26]
["2021-10-01",{"$f":"VLOOKUP(J2392,'Control Panel'!$I$27:$K$68,2,FALSE)","v":"SW1"},1,null,null,null,null,null,1,"F84021",null,10752,28,24,24,24,22,3,16,14,9,9,9,38,34,36,28,36,29,9]
["2021-10-01",{"$f":"VLOOKUP(J2393,'Control Panel'!$I$27:$K$68,2,FALSE)","v":"NW2"},1,null,null,null,null,null,1,"F84033",null,11938,29,27,27,28,28,9,24,20,19,19,19,32,28,27,25,26,24,19]
["2021-10-01",{"$f":"VLOOKUP(J2394,'Control Panel'!$I$27:$K$68,2,FALSE)","v":"SW1"},1,null,null,null,null,null,1,"F84035",null,14263,32,29,28,29,28,2,35,29,26,26,26,23,20,19,18,19,18,27]
["2021-10-01",{"$f":"VLOOKUP(J2395,'Control Panel'!$I$27:$K$68,2,FALSE)","v":"NW1"},1,null,null,null,null,null,1,"F84036",null,7613,10,10,10,10,8,3,19,17,14,14,13,15,14,15,11,15,11,13]
["2021-10-01",{"$f":"VLOOKUP(J2396,'Control Panel'!$I$27:$K$68,2,FALSE)","v":"SW1"},1,null,null,null,null,null,1,"F84038",null,3984,7,6,6,7,7,1,4,3,3,3,3,10,8,7,6,7,6,3]
["2021-10-01",{"$f":"VLOOKUP(J2397,'Control Panel'!$I$27:$K$68,2,FALSE)","v":"SW2"},1,null,null,null,null,null,1,"F84041",null,6839,6,6,6,6,6,1,10,8,8,8,8,12,11,11,9,11,9,8]
["2021-10-01",{"$f":"VLOOKUP(J2398,'Control Panel'!$I$27:$K$68,2,FALSE)","v":"SE1"},1,null,null,null,null,null,1,"F84060",null,4790,6,6,6,6,5,2,8,5,4,4,4,13,10,10,6,10,6,4]
["2021-10-01",{"$f":"VLOOKUP(J2399,'Control Panel'!$I$27:$K$68,2,FALSE)","v":"SW1"},1,null,null,null,null,null,1,"F84063",null,6100,8,8,8,8,7,5,12,7,6,5,6,8,7,7,7,7,6,5]
["2021-10-01",{"$f":"VLOOKUP(J2400,'Control Panel'!$I$27:$K$68,2,FALSE)","v":"SE2"},1,null,null,null,null,null,1,"F84069",null,14081,33,26,26,30,26,3,36,33,29,29,28,34,31,29,25,28,26,28]
["2021-10-01",{"$f":"VLOOKUP(J2401,'Control Panel'!$I$27:$K$68,2,FALSE)","v":"SW2"},1,null,null,null,null,null,1,"F84072",null,11394,32,30,30,30,30,4,27,24,22,23,22,30,27,26,15,25,18,24]
["2021-10-01",{"$f":"VLOOKUP(J2402,'Control Panel'!$I$27:$K$68,2,FALSE)","v":"NE2"},0,null,null,null,null,null,1,"F84080",null,5134,16,6,6,8,4,1,18,10,7,8,8,18,13,15,11,13,12,7]
["2021-10-01",{"$f":"VLOOKUP(J2403,'Control Panel'!$I$27:$K$68,2,FALSE)","v":"SW2"},1,null,null,null,null,null,1,"F84096",null,13571,26,24,23,24,23,10,28,25,25,25,25,31,29,28,24,28,23,24]
["2021-10-01",{"$f":"VLOOKUP(J2404,'Control Panel'!$I$27:$K$68,2,FALSE)","v":"SE1"},1,null,null,null,null,null,1,"F84105",null,11889,24,21,21,20,21,6,43,38,34,34,34,27,27,26,23,26,24,35]
["2021-10-01",{"$f":"VLOOKUP(J2405,'Control Panel'!$I$27:$K$68,2,FALSE)","v":"NW1"},1,null,null,null,null,null,1,"F84115",null,8531,26,24,24,24,23,2,18,17,16,16,15,19,19,16,17,17,17,16]
["2021-10-01",{"$f":"VLOOKUP(J2406,'Control Panel'!$I$27:$K$68,2,FALSE)","v":"SW1"},1,null,null,null,null,null,1,"F84117",null,10191,10,9,9,9,8,2,24,23,20,21,21,29,26,27,18,27,18,22]
["2021-10-01",{"$f":"VLOOKUP(J2407,'Control Panel'!$I$27:$K$68,2,FALSE)","v":"NW1"},1,null,null,null,null,null,1,"F84119",null,12023,31,24,24,27,24,9,34,31,32,31,32,38,34,34,27,33,27,31]
["2021-10-01",{"$f":"VLOOKUP(J2408,'Control Panel'!$I$27:$K$68,2,FALSE)","v":"SE2"},1,null,null,null,null,null,1,"F84601",null,7456,10,10,10,9,9,4,15,13,10,10,10,25,23,23,11,23,13,9]
["2021-10-01",{"$f":"VLOOKUP(J2409,'Control Panel'!$I$27:$K$68,2,FALSE)","v":"NE2"},0,null,null,null,null,null,1,"F84619",null,4891,19,17,17,17,17,2,10,10,10,10,10,13,13,12,12,13,12,10]
["2021-10-01",{"$f":"VLOOKUP(J2410,'Control Panel'!$I$27:$K$68,2,FALSE)","v":"SE2"},1,null,null,null,null,null,1,"F84620",null,7445,24,21,21,22,22,10,26,23,19,20,20,22,19,19,14,20,13,20]
["2021-10-01",{"$f":"VLOOKUP(J2411,'Control Panel'!$I$27:$K$68,2,FALSE)","v":"SW1"},1,null,null,null,null,null,1,"F84621",null,4216,9,7,7,7,7,0,12,11,11,11,11,10,5,5,5,5,5,11]
["2021-10-01",{"$f":"VLOOKUP(J2412,'Control Panel'!$I$27:$K$68,2,FALSE)","v":"SE2"},1,null,null,null,null,null,1,"F84632",null,1189,0,0,0,0,0,0,0,0,0,0,0,0,0,0,0,0,0,0]
["2021-10-01",{"$f":"VLOOKUP(J2413,'Control Panel'!$I$27:$K$68,2,FALSE)","v":"SW2"},1,null,null,null,null,null,1,"F84635",null,9939,17,14,14,15,14,6,17,14,8,8,8,21,18,18,9,17,9,8]
["2021-10-01",{"$f":"VLOOKUP(J2414,'Control Panel'!$I$27:$K$68,2,FALSE)","v":"NW2"},1,null,null,null,null,null,1,"F84636",null,6564,9,8,8,8,8,1,7,6,5,5,5,5,4,3,2,4,2,5]
["2021-10-01",{"$f":"VLOOKUP(J2415,'Control Panel'!$I$27:$K$68,2,FALSE)","v":"City"},1,null,null,null,null,null,1,"F84640",null,10262,16,13,13,15,13,3,10,9,7,7,7,13,12,12,10,12,10,7]
["2021-10-01",{"$f":"VLOOKUP(J2416,'Control Panel'!$I$27:$K$68,2,FALSE)","v":"NE2"},0,null,null,null,null,null,1,"F84668",null,6439,45,12,15,19,16,5,30,12,12,9,12,38,24,30,9,25,9,11]
["2021-10-01",{"$f":"VLOOKUP(J2417,'Control Panel'!$I$27:$K$68,2,FALSE)","v":"NE2"},0,null,null,null,null,null,1,"F84685",null,2964,6,2,1,3,2,1,15,9,7,6,7,5,4,5,1,3,3,6]
["2021-10-01",{"$f":"VLOOKUP(J2418,'Control Panel'!$I$27:$K$68,2,FALSE)","v":"NE1"},0,null,null,null,null,null,1,"F84686",null,8327,71,14,14,20,13,0,55,18,9,8,13,66,43,51,9,44,14,10]
["2021-10-01",{"$f":"VLOOKUP(J2419,'Control Panel'!$I$27:$K$68,2,FALSE)","v":"SW2"},1,null,null,null,null,null,1,"F84692",null,7462,14,13,13,13,11,2,15,12,14,14,14,13,12,11,9,11,9,14]
["2021-10-01",{"$f":"VLOOKUP(J2420,'Control Panel'!$I$27:$K$68,2,FALSE)","v":"NW2"},1,null,null,null,null,null,1,"F84694",null,4507,23,22,21,20,21,3,9,8,7,7,7,9,9,8,7,8,7,7]
["2021-10-01",{"$f":"VLOOKUP(J2421,'Control Panel'!$I$27:$K$68,2,FALSE)","v":"NE2"},0,null,null,null,null,null,1,"F84711",null,1890,5,4,4,5,5,0,6,6,6,6,6,2,2,2,2,2,2,6]
["2021-10-01",{"$f":"VLOOKUP(J2422,'Control Panel'!$I$27:$K$68,2,FALSE)","v":"NW1"},1,null,null,null,null,null,1,"F84716",null,5798,30,12,12,14,13,1,31,16,15,14,15,28,25,26,12,24,12,15]
["2021-10-01",{"$f":"VLOOKUP(J2423,'Control Panel'!$I$27:$K$68,2,FALSE)","v":"SE1"},1,null,null,null,null,null,1,"F84719",null,5284,7,7,7,7,7,1,7,7,7,7,7,12,10,10,10,11,10,7]
["2021-10-01",{"$f":"VLOOKUP(J2424,'Control Panel'!$I$27:$K$68,2,FALSE)","v":"NE2"},0,null,null,null,null,null,1,"F84720",null,5664,17,7,7,8,8,0,14,5,5,4,7,18,10,10,8,10,8,8]
["2021-10-01",{"$f":"VLOOKUP(J2425,'Control Panel'!$I$27:$K$68,2,FALSE)","v":"SE2"},1,null,null,null,null,null,1,"Y00403",null,7433,23,19,19,20,16,5,29,24,24,24,24,14,13,12,11,12,11,24]
["2021-10-01",{"$f":"VLOOKUP(J2426,'Control Panel'!$I$27:$K$68,2,FALSE)","v":"NE1"},0,null,null,null,null,null,1,"Y03049",null,14556,70,34,34,39,26,13,53,29,35,33,30,69,53,59,42,54,44,28]
["2021-10-01",{"$f":"VLOOKUP(J2427,'Control Panel'!$I$27:$K$68,2,FALSE)","v":{"$error":"#N/A"}},{"$error":"#N/A"},null,null,null,null,null,0,"Total",null,336547,979,654,654,706,636,147,960,687,624,618,630,978,814,827,586,794,604,619]
["2021-11-01",{"$f":"VLOOKUP(J2428,'Control Panel'!$I$27:$K$68,2,FALSE)","v":{"$error":"#N/A"}},{"$error":"#N/A"},null,"Last Run:",null,"Population Count",349738,1,null,"Search","All Patients","(01) 12 MONTH COHORT","(01.01) DTaP/IPV/Hib 6in1","(01.02) Men B (1st and 2nd)","(01.03) PCV","(01.04) Rotavirus","(01.05) BCG","(02) 24 MONTH COHORT","(02.01) DTaP/IPV/Hib Combined","(02.02) MMR","(02.03) HiB/Men C","(02.04) PCV (Booster)","(03) 5 YEAR COHORT","(03.01) DTaP/IPV/Hib Combined","(03.02) MMR (Primary)","(03.03) DTaP/IPV (Booster)","(03.04) HiB/Men C","(03.05) MMR (Booster)","(02.05) Men B (Booster)"]
["2021-11-01",{"$f":"VLOOKUP(J2429,'Control Panel'!$I$27:$K$68,2,FALSE)","v":{"$error":"#N/A"}},{"$error":"#N/A"},null,"2021-12-03T16:13:00",null,"Males",175125,1,"Organisation Code"]
["2021-11-01",{"$f":"VLOOKUP(J2430,'Control Panel'!$I$27:$K$68,2,FALSE)","v":"SE1"},1,null,"Relative Date:",null,"Females",174613,1,"F84003",null,15066,36,31,31,32,31,2,32,30,26,27,27,31,30,28,20,28,21,27]
["2021-11-01",{"$f":"VLOOKUP(J2431,'Control Panel'!$I$27:$K$68,2,FALSE)","v":"NW2"},1,null,"2021-12-01",null,null,null,1,"F84008",null,12277,43,34,34,35,34,2,28,27,23,23,23,23,23,21,22,21,22,23]
["2021-11-01",{"$f":"VLOOKUP(J2432,'Control Panel'!$I$27:$K$68,2,FALSE)","v":"NE1"},0,null,null,null,null,null,1,"F84013",null,16342,104,23,24,37,23,5,118,43,52,50,55,94,61,68,41,58,43,50]
["2021-11-01",{"$f":"VLOOKUP(J2433,'Control Panel'!$I$27:$K$68,2,FALSE)","v":"SE1"},1,null,null,null,null,null,1,"F84015",null,5462,20,16,16,17,17,5,19,14,14,14,14,21,20,20,17,20,17,14]
["2021-11-01",{"$f":"VLOOKUP(J2434,'Control Panel'!$I$27:$K$68,2,FALSE)","v":"NE2"},0,null,null,null,null,null,1,"F84018",null,11990,38,36,35,36,33,15,44,35,25,26,26,44,41,37,30,37,30,26]
["2021-11-01",{"$f":"VLOOKUP(J2435,'Control Panel'!$I$27:$K$68,2,FALSE)","v":"SW1"},1,null,null,null,null,null,1,"F84021",null,10872,28,24,24,24,22,3,16,14,9,9,9,38,34,36,28,36,29,9]
["2021-11-01",{"$f":"VLOOKUP(J2436,'Control Panel'!$I$27:$K$68,2,FALSE)","v":"NW2"},1,null,null,null,null,null,{"$f":"IF(J2436=\"Total\",0,1)","v":1},"F84033",null,11934,29,27,27,29,28,10,23,19,18,18,18,32,28,27,25,26,24,18]
["2021-11-01",{"$f":"VLOOKUP(J2437,'Control Panel'!$I$27:$K$68,2,FALSE)","v":"SW1"},1,null,null,null,null,null,1,"F84035",null,14533,33,30,29,30,29,2,35,29,26,26,26,24,20,19,18,19,18,27]
["2021-11-01",{"$f":"VLOOKUP(J2438,'Control Panel'!$I$27:$K$68,2,FALSE)","v":"NW1"},1,null,null,null,null,null,1,"F84036",null,7630,10,10,10,10,8,3,19,17,14,14,13,15,14,15,11,15,11,13]
["2021-11-01",{"$f":"VLOOKUP(J2439,'Control Panel'!$I$27:$K$68,2,FALSE)","v":"SW1"},1,null,null,null,null,null,1,"F84038",null,3976,7,6,6,7,7,1,4,3,3,3,3,9,8,7,5,7,5,3]
["2021-11-01",{"$f":"VLOOKUP(J2440,'Control Panel'!$I$27:$K$68,2,FALSE)","v":"SW2"},1,null,null,null,null,null,1,"F84041",null,6636,6,6,6,6,6,1,10,8,8,8,8,11,11,11,10,11,10,8]
["2021-11-01",{"$f":"VLOOKUP(J2441,'Control Panel'!$I$27:$K$68,2,FALSE)","v":"SE1"},1,null,null,null,null,null,1,"F84060",null,4806,6,6,6,6,5,2,8,5,4,4,4,13,10,10,6,10,6,4]
["2021-11-01",{"$f":"VLOOKUP(J2442,'Control Panel'!$I$27:$K$68,2,FALSE)","v":"SW1"},1,null,null,null,null,null,1,"F84063",null,6115,8,8,8,8,7,5,12,7,6,5,6,8,7,7,7,7,6,5]
["2021-11-01",{"$f":"VLOOKUP(J2443,'Control Panel'!$I$27:$K$68,2,FALSE)","v":"SE2"},1,null,null,null,null,null,1,"F84069",null,14239,34,27,27,31,27,3,37,33,29,29,28,34,31,29,25,28,26,28]
["2021-11-01",{"$f":"VLOOKUP(J2444,'Control Panel'!$I$27:$K$68,2,FALSE)","v":"SW2"},1,null,null,null,null,null,1,"F84072",null,11442,30,29,29,29,29,4,26,23,22,23,22,30,26,25,15,24,18,24]
["2021-11-01",{"$f":"VLOOKUP(J2445,'Control Panel'!$I$27:$K$68,2,FALSE)","v":"NE2"},0,null,null,null,null,null,1,"F84080",null,5133,16,6,6,8,4,1,18,10,7,8,8,18,13,15,11,13,12,7]
["2021-11-01",{"$f":"VLOOKUP(J2446,'Control Panel'!$I$27:$K$68,2,FALSE)","v":"SW2"},1,null,null,null,null,null,1,"F84096",null,13630,25,24,23,24,23,10,29,25,25,25,25,31,29,28,24,28,23,24]
["2021-11-01",{"$f":"VLOOKUP(J2447,'Control Panel'!$I$27:$K$68,2,FALSE)","v":"SE1"},1,null,null,null,null,null,1,"F84105",null,11907,24,21,21,20,21,6,43,38,34,34,34,27,27,26,23,26,24,35]
["2021-11-01",{"$f":"VLOOKUP(J2448,'Control Panel'!$I$27:$K$68,2,FALSE)","v":"NW1"},{"$f":"IF(LEFT(B2448,2)=\"NE\",0,1)","v":1},null,null,null,null,null,1,"F84115",null,8433,25,23,23,23,22,2,17,16,15,15,14,19,19,16,17,17,17,15]
["2021-11-01",{"$f":"VLOOKUP(J2449,'Control Panel'!$I$27:$K$68,2,FALSE)","v":"SW1"},1,null,null,null,null,null,1,"F84117",null,10278,10,9,9,9,8,2,25,23,20,21,21,30,26,27,18,27,18,22]
["2021-11-01",{"$f":"VLOOKUP(J2450,'Control Panel'!$I$27:$K$68,2,FALSE)","v":"NW1"},1,null,null,null,null,null,1,"F84119",null,12080,30,24,24,26,24,8,34,31,32,31,32,38,34,34,27,33,27,31]
["2021-11-01",{"$f":"VLOOKUP(J2451,'Control Panel'!$I$27:$K$68,2,FALSE)","v":"SE2"},1,null,null,null,null,null,1,"F84601",null,7427,10,10,10,10,9,4,15,13,11,10,10,24,22,22,11,22,13,9]
["2021-11-01",{"$f":"VLOOKUP(J2452,'Control Panel'!$I$27:$K$68,2,FALSE)","v":"NE2"},0,null,null,null,null,null,1,"F84619",null,4864,18,16,16,16,16,2,10,10,10,10,10,12,12,12,12,12,12,10]
["2021-11-01",{"$f":"VLOOKUP(J2453,'Control Panel'!$I$27:$K$68,2,FALSE)","v":"SE2"},1,null,null,null,null,null,1,"F84620",null,7408,24,21,21,22,22,10,26,23,19,20,20,21,19,18,15,19,14,20]
["2021-11-01",{"$f":"VLOOKUP(J2454,'Control Panel'!$I$27:$K$68,2,FALSE)","v":"SW1"},1,null,null,null,null,null,1,"F84621",null,4248,8,7,7,7,7,0,12,11,11,11,11,10,5,5,5,5,5,11]
["2021-11-01",{"$f":"VLOOKUP(J2455,'Control Panel'!$I$27:$K$68,2,FALSE)","v":"SE2"},1,null,null,null,null,null,1,"F84632",null,1179,0,0,0,0,0,0,0,0,0,0,0,0,0,0,0,0,0,0]
["2021-11-01",{"$f":"VLOOKUP(J2456,'Control Panel'!$I$27:$K$68,2,FALSE)","v":"SW2"},1,null,null,null,null,null,1,"F84635",null,10023,17,14,14,15,14,6,17,14,8,8,8,22,18,19,9,18,10,8]
["2021-11-01",{"$f":"VLOOKUP(J2457,'Control Panel'!$I$27:$K$68,2,FALSE)","v":"NW2"},1,null,null,null,null,null,1,"F84636",null,6583,8,7,7,7,7,1,6,5,4,4,4,5,4,3,2,4,2,4]
["2021-11-01",{"$f":"VLOOKUP(J2458,'Control Panel'!$I$27:$K$68,2,FALSE)","v":"City"},1,null,null,null,null,null,1,"F84640",null,10228,15,13,12,15,13,2,8,7,5,6,6,13,12,12,10,12,10,6]
["2021-11-01",{"$f":"VLOOKUP(J2459,'Control Panel'!$I$27:$K$68,2,FALSE)","v":"NE2"},0,null,null,null,null,null,1,"F84668",null,6424,45,12,15,19,16,5,30,12,12,9,12,38,24,30,9,25,9,11]
["2021-11-01",{"$f":"VLOOKUP(J2460,'Control Panel'!$I$27:$K$68,2,FALSE)","v":"NE2"},0,null,null,null,null,null,1,"F84685",null,2986,6,2,1,3,2,1,15,9,7,6,7,5,4,5,1,3,3,6]
["2021-11-01",{"$f":"VLOOKUP(J2461,'Control Panel'!$I$27:$K$68,2,FALSE)","v":"NE1"},0,null,null,null,null,null,1,"F84686",null,8351,74,14,14,23,13,0,54,18,9,8,13,66,43,51,9,44,14,11]
["2021-11-01",{"$f":"VLOOKUP(J2462,'Control Panel'!$I$27:$K$68,2,FALSE)","v":"SW2"},1,null,null,null,null,null,1,"F84692",null,7521,14,13,13,13,11,2,14,11,13,13,13,12,11,10,9,10,9,13]
["2021-11-01",{"$f":"VLOOKUP(J2463,'Control Panel'!$I$27:$K$68,2,FALSE)","v":"NW2"},1,null,null,null,null,null,1,"F84694",null,4522,23,22,21,20,21,3,9,8,7,7,7,9,9,8,7,8,7,7]
["2021-11-01",{"$f":"VLOOKUP(J2464,'Control Panel'!$I$27:$K$68,2,FALSE)","v":"NE2"},0,null,null,null,null,null,1,"F84711",null,1876,5,4,4,5,5,0,6,6,6,6,6,2,2,2,2,2,2,6]
["2021-11-01",{"$f":"VLOOKUP(J2465,'Control Panel'!$I$27:$K$68,2,FALSE)","v":"NW1"},1,null,null,null,null,null,1,"F84716",null,5805,29,11,12,14,12,0,30,16,14,13,14,28,25,26,12,24,12,14]
["2021-11-01",{"$f":"VLOOKUP(J2466,'Control Panel'!$I$27:$K$68,2,FALSE)","v":"SE1"},1,null,null,null,null,null,1,"F84719",null,5284,6,6,6,6,6,1,7,7,7,7,7,12,10,10,10,11,10,7]
["2021-11-01",{"$f":"VLOOKUP(J2467,'Control Panel'!$I$27:$K$68,2,FALSE)","v":"NE2"},0,null,null,null,null,null,1,"F84720",null,5688,17,7,7,8,8,0,14,5,5,4,7,18,10,10,8,10,8,8]
["2021-11-01",{"$f":"VLOOKUP(J2468,'Control Panel'!$I$27:$K$68,2,FALSE)","v":"SE2"},1,null,null,null,null,null,1,"Y00403",null,7486,24,20,20,21,17,5,30,24,23,23,23,14,13,12,11,12,11,23]
["2021-11-01",{"$f":"VLOOKUP(J2469,'Control Panel'!$I$27:$K$68,2,FALSE)","v":"NE1"},0,null,null,null,null,null,1,"Y03049",null,14625,68,32,32,37,24,11,53,29,35,33,30,71,53,59,42,54,44,28]
["2021-11-01",{"$f":"VLOOKUP(J2470,'Control Panel'!$I$27:$K$68,2,FALSE)","v":{"$error":"#N/A"}},{"$error":"#N/A"},null,null,null,null,null,0,"Total",null,337309,973,651,650,708,631,145,953,678,618,611,624,972,808,820,584,786,602,615]
["2021-12-01",{"$f":"VLOOKUP(J2471,'Control Panel'!$I$27:$K$68,2,FALSE)","v":{"$error":"#N/A"}},{"$error":"#N/A"},null,"Last Run:",null,"Population Count",350276,1,null,"Search","All Patients","(01) 12 MONTH COHORT","(01.01) DTaP/IPV/Hib 6in1","(01.02) Men B (1st and 2nd)","(01.03) PCV","(01.04) Rotavirus","(01.05) BCG","(02) 24 MONTH COHORT","(02.01) DTaP/IPV/Hib Combined","(02.02) MMR","(02.04) PCV (Booster)","(02.05) Men B (Booster)","(03) 5 YEAR COHORT","(03.01) DTaP/IPV/Hib Combined","(03.02) MMR (Primary)","(03.03) DTaP/IPV (Booster)","(03.04) HiB/Men C","(03.05) MMR (Booster)","(02.03) HiB/Men C"]
["2021-12-01",{"$f":"VLOOKUP(J2472,'Control Panel'!$I$27:$K$68,2,FALSE)","v":{"$error":"#N/A"}},{"$error":"#N/A"},null,"2022-01-04T21:35:00",null,"Males",175430,1,"Organisation Code"]
["2021-12-01",{"$f":"VLOOKUP(J2473,'Control Panel'!$I$27:$K$68,2,FALSE)","v":"SE1"},1,null,"Relative Date:",null,"Females",174846,1,"F84003",null,15035,35,31,31,32,31,2,31,29,25,26,26,30,29,27,19,27,20,26]
["2021-12-01",{"$f":"VLOOKUP(J2474,'Control Panel'!$I$27:$K$68,2,FALSE)","v":"NW2"},1,null,"2022-01-01",null,null,null,1,"F84008",null,12243,42,33,33,34,33,2,28,27,23,23,23,23,23,21,22,21,22,23]
["2021-12-01",{"$f":"VLOOKUP(J2475,'Control Panel'!$I$27:$K$68,2,FALSE)","v":"NE1"},0,null,null,null,null,null,1,"F84013",null,16429,104,25,26,37,23,5,118,44,53,56,52,95,61,68,41,58,43,52]
["2021-12-01",{"$f":"VLOOKUP(J2476,'Control Panel'!$I$27:$K$68,2,FALSE)","v":"SE1"},1,null,null,null,null,null,1,"F84015",null,5459,20,16,16,17,17,5,19,14,14,14,14,21,20,20,17,20,17,14]
["2021-12-01",{"$f":"VLOOKUP(J2477,'Control Panel'!$I$27:$K$68,2,FALSE)","v":"NE2"},0,null,null,null,null,null,1,"F84018",null,12003,38,36,35,36,33,15,46,37,27,28,28,44,41,37,30,37,30,28]
["2021-12-01",{"$f":"VLOOKUP(J2478,'Control Panel'!$I$27:$K$68,2,FALSE)","v":"SW1"},1,null,null,null,null,null,1,"F84021",null,10724,28,24,24,24,22,3,16,14,9,9,9,36,32,34,26,34,27,9]
["2021-12-01",{"$f":"VLOOKUP(J2479,'Control Panel'!$I$27:$K$68,2,FALSE)","v":"NW2"},1,null,null,null,null,null,1,"F84033",null,11931,30,28,28,30,29,10,23,19,18,18,18,32,28,27,25,26,24,18]
["2021-12-01",{"$f":"VLOOKUP(J2480,'Control Panel'!$I$27:$K$68,2,FALSE)","v":"SW1"},1,null,null,null,null,null,1,"F84035",null,14731,34,30,29,30,29,2,35,29,26,26,27,24,21,20,18,20,19,26]
["2021-12-01",{"$f":"VLOOKUP(J2481,'Control Panel'!$I$27:$K$68,2,FALSE)","v":"NW1"},1,null,null,null,null,null,1,"F84036",null,7698,10,10,10,10,8,3,19,17,14,13,13,14,13,14,10,14,10,14]
["2021-12-01",{"$f":"VLOOKUP(J2482,'Control Panel'!$I$27:$K$68,2,FALSE)","v":"SW1"},1,null,null,null,null,null,1,"F84038",null,3998,7,6,6,7,7,1,4,3,3,3,3,9,8,7,5,7,5,3]
["2021-12-01",{"$f":"VLOOKUP(J2483,'Control Panel'!$I$27:$K$68,2,FALSE)","v":"SW2"},1,null,null,null,null,null,1,"F84041",null,5629,4,4,4,4,4,0,7,6,6,6,6,10,10,10,9,10,9,6]
["2021-12-01",{"$f":"VLOOKUP(J2484,'Control Panel'!$I$27:$K$68,2,FALSE)","v":"SE1"},1,null,null,null,null,null,1,"F84060",null,4822,6,6,6,6,5,2,8,5,5,5,5,13,10,10,6,10,6,5]
["2021-12-01",{"$f":"VLOOKUP(J2485,'Control Panel'!$I$27:$K$68,2,FALSE)","v":"SW1"},1,null,null,null,null,null,1,"F84063",null,6087,9,9,9,9,8,5,12,7,6,6,5,8,7,7,7,7,6,5]
["2021-12-01",{"$f":"VLOOKUP(J2486,'Control Panel'!$I$27:$K$68,2,FALSE)","v":"SE2"},1,null,null,null,null,null,1,"F84069",null,14228,34,27,27,31,27,3,36,33,29,28,28,34,31,29,25,28,26,29]
["2021-12-01",{"$f":"VLOOKUP(J2487,'Control Panel'!$I$27:$K$68,2,FALSE)","v":"SW2"},1,null,null,null,null,null,1,"F84072",null,11597,30,29,29,29,29,4,27,24,23,23,25,29,26,25,16,24,19,24]
["2021-12-01",{"$f":"VLOOKUP(J2488,'Control Panel'!$I$27:$K$68,2,FALSE)","v":"NE2"},0,null,null,null,null,null,1,"F84080",null,5141,15,5,5,7,4,1,18,10,7,8,7,18,13,15,11,13,12,8]
["2021-12-01",{"$f":"VLOOKUP(J2489,'Control Panel'!$I$27:$K$68,2,FALSE)","v":"SW2"},1,null,null,null,null,null,1,"F84096",null,14099,26,25,24,25,24,10,30,26,26,26,25,32,29,28,24,28,23,26]
["2021-12-01",{"$f":"VLOOKUP(J2490,'Control Panel'!$I$27:$K$68,2,FALSE)","v":"SE1"},1,null,null,null,null,null,1,"F84105",null,11929,24,21,21,20,21,6,43,38,35,35,36,26,26,25,23,25,24,35]
["2021-12-01",{"$f":"VLOOKUP(J2491,'Control Panel'!$I$27:$K$68,2,FALSE)","v":"NW1"},1,null,null,null,null,null,1,"F84115",null,8418,26,24,25,25,24,2,16,15,14,13,14,19,19,16,17,17,17,14]
["2021-12-01",{"$f":"VLOOKUP(J2492,'Control Panel'!$I$27:$K$68,2,FALSE)","v":"SW1"},1,null,null,null,null,null,1,"F84117",null,10347,10,9,9,9,8,2,25,23,21,21,22,30,26,27,18,27,18,22]
["2021-12-01",{"$f":"VLOOKUP(J2493,'Control Panel'!$I$27:$K$68,2,FALSE)","v":"NW1"},1,null,null,null,null,null,1,"F84119",null,12110,31,26,26,27,25,8,34,30,31,31,30,38,34,34,27,33,27,30]
["2021-12-01",{"$f":"VLOOKUP(J2494,'Control Panel'!$I$27:$K$68,2,FALSE)","v":"SE2"},1,null,null,null,null,null,1,"F84601",null,7433,10,10,10,10,9,4,15,13,11,10,9,24,22,22,11,22,13,10]
["2021-12-01",{"$f":"VLOOKUP(J2495,'Control Panel'!$I$27:$K$68,2,FALSE)","v":"NE2"},0,null,null,null,null,null,1,"F84619",null,4883,18,16,16,16,16,2,10,10,10,10,10,12,12,12,12,12,12,10]
["2021-12-01",{"$f":"VLOOKUP(J2496,'Control Panel'!$I$27:$K$68,2,FALSE)","v":"SE2"},1,null,null,null,null,null,1,"F84620",null,7467,24,21,21,22,22,10,26,23,19,20,20,22,20,18,15,20,14,20]
["2021-12-01",{"$f":"VLOOKUP(J2497,'Control Panel'!$I$27:$K$68,2,FALSE)","v":"SW1"},1,null,null,null,null,null,1,"F84621",null,4281,8,7,7,7,7,0,13,11,11,11,11,11,5,5,5,5,5,11]
["2021-12-01",{"$f":"VLOOKUP(J2498,'Control Panel'!$I$27:$K$68,2,FALSE)","v":"SE2"},1,null,null,null,null,null,1,"F84632",null,1198,0,0,0,0,0,0,0,0,0,0,0,0,0,0,0,0,0,0]
["2021-12-01",{"$f":"VLOOKUP(J2499,'Control Panel'!$I$27:$K$68,2,FALSE)","v":"SW2"},1,null,null,null,null,null,1,"F84635",null,10186,18,14,14,16,14,7,17,14,8,8,8,23,19,20,10,19,11,8]
["2021-12-01",{"$f":"VLOOKUP(J2500,'Control Panel'!$I$27:$K$68,2,FALSE)","v":"NW2"},1,null,null,null,null,null,{"$f":"IF(J2500=\"Total\",0,1)","v":1},"F84636",null,6606,8,7,7,7,7,1,6,5,4,4,4,5,4,3,2,4,2,4]
["2021-12-01",{"$f":"VLOOKUP(J2501,'Control Panel'!$I$27:$K$68,2,FALSE)","v":"City"},1,null,null,null,null,null,1,"F84640",null,10244,15,13,12,15,13,2,8,7,5,6,6,13,12,12,10,12,10,6]
["2021-12-01",{"$f":"VLOOKUP(J2502,'Control Panel'!$I$27:$K$68,2,FALSE)","v":"NE2"},0,null,null,null,null,null,1,"F84668",null,6423,47,12,15,19,16,5,29,12,11,11,11,38,24,30,9,25,9,8]
["2021-12-01",{"$f":"VLOOKUP(J2503,'Control Panel'!$I$27:$K$68,2,FALSE)","v":"NE2"},0,null,null,null,null,null,1,"F84685",null,3004,6,2,1,3,2,1,14,8,6,6,5,5,4,5,1,3,3,5]
["2021-12-01",{"$f":"VLOOKUP(J2504,'Control Panel'!$I$27:$K$68,2,FALSE)","v":"NE1"},0,null,null,null,null,null,1,"F84686",null,8351,74,14,14,25,13,0,54,18,9,13,11,66,42,51,9,44,14,8]
["2021-12-01",{"$f":"VLOOKUP(J2505,'Control Panel'!$I$27:$K$68,2,FALSE)","v":"SW2"},1,null,null,null,null,null,1,"F84692",null,7671,14,12,12,12,10,3,14,11,13,13,13,12,11,10,9,10,9,13]
["2021-12-01",{"$f":"VLOOKUP(J2506,'Control Panel'!$I$27:$K$68,2,FALSE)","v":"NW2"},1,null,null,null,null,null,1,"F84694",null,4534,23,22,21,20,21,3,10,9,8,8,8,9,9,8,7,8,7,8]
["2021-12-01",{"$f":"VLOOKUP(J2507,'Control Panel'!$I$27:$K$68,2,FALSE)","v":"NE2"},0,null,null,null,null,null,1,"F84711",null,1862,5,4,4,5,5,0,6,6,6,6,6,2,2,2,2,2,2,6]
["2021-12-01",{"$f":"VLOOKUP(J2508,'Control Panel'!$I$27:$K$68,2,FALSE)","v":"NW1"},1,null,null,null,null,null,1,"F84716",null,5812,29,11,12,14,12,0,30,16,14,14,14,28,25,26,12,24,12,13]
["2021-12-01",{"$f":"VLOOKUP(J2509,'Control Panel'!$I$27:$K$68,2,FALSE)","v":"SE1"},1,null,null,null,null,null,1,"F84719",null,5300,6,6,6,6,6,1,7,7,7,7,7,12,10,10,10,11,10,7]
["2021-12-01",{"$f":"VLOOKUP(J2510,'Control Panel'!$I$27:$K$68,2,FALSE)","v":"NE2"},0,null,null,null,null,null,1,"F84720",null,5720,17,7,7,8,8,0,14,5,5,7,8,18,10,10,8,10,8,4]
["2021-12-01",{"$f":"VLOOKUP(J2511,'Control Panel'!$I$27:$K$68,2,FALSE)","v":"SE2"},1,null,null,null,null,null,1,"Y00403",null,7553,24,20,20,21,17,5,31,25,26,26,26,14,13,12,11,12,11,26]
["2021-12-01",{"$f":"VLOOKUP(J2512,'Control Panel'!$I$27:$K$68,2,FALSE)","v":"NE1"},{"$f":"IF(LEFT(B2512,2)=\"NE\",0,1)","v":0},null,null,null,null,null,1,"Y03049",null,14641,68,32,32,37,24,11,52,29,35,30,28,71,53,59,42,54,44,33]
["2021-12-01",{"$f":"VLOOKUP(J2513,'Control Panel'!$I$27:$K$68,2,FALSE)","v":{"$error":"#N/A"}},{"$error":"#N/A"},null,null,null,null,null,0,"Total",null,337827,977,654,654,712,633,146,951,679,623,628,621,970,804,816,581,783,600,617]
["2022-01-01",{"$f":"VLOOKUP(J2514,'Control Panel'!$I$27:$K$68,2,FALSE)","v":{"$error":"#N/A"}},{"$error":"#N/A"},null,"Last Run:",null,"Population Count",349769,1,null,"Search","All Patients","(01) 12 MONTH COHORT","(01.01) DTaP/IPV/Hib 6in1","(01.02) Men B (1st and 2nd)","(01.03) PCV","(01.04) Rotavirus","(01.05) BCG","(02) 24 MONTH COHORT","(02.01) DTaP/IPV/Hib Combined","(02.02) MMR","(02.03) HiB/Men C","(02.04) PCV (Booster)","(03) 5 YEAR COHORT","(03.01) DTaP/IPV/Hib Combined","(03.02) MMR (Primary)","(03.03) DTaP/IPV (Booster)","(03.04) HiB/Men C","(03.05) MMR (Booster)","(02.05) Men B (Booster)"]
["2022-01-01",{"$f":"VLOOKUP(J2515,'Control Panel'!$I$27:$K$68,2,FALSE)","v":{"$error":"#N/A"}},{"$error":"#N/A"},null,"2022-02-23T14:56:00",null,"Males",175337,1,"Organisation Code"]
["2022-01-01",{"$f":"VLOOKUP(J2516,'Control Panel'!$I$27:$K$68,2,FALSE)","v":"SE1"},1,null,"Relative Date:",null,"Females",174432,1,"F84003",null,15018,35,31,31,32,31,3,31,29,25,26,26,30,29,27,19,27,20,26]
["2022-01-01",{"$f":"VLOOKUP(J2517,'Control Panel'!$I$27:$K$68,2,FALSE)","v":"NW2"},1,null,"2022-02-01",null,null,null,1,"F84008",null,12224,41,32,32,34,32,4,28,27,23,23,23,23,23,21,22,21,22,23]
["2022-01-01",{"$f":"VLOOKUP(J2518,'Control Panel'!$I$27:$K$68,2,FALSE)","v":"NE1"},0,null,null,null,null,null,1,"F84013",null,16507,105,26,26,37,24,5,119,45,54,53,57,96,62,69,42,58,43,53]
["2022-01-01",{"$f":"VLOOKUP(J2519,'Control Panel'!$I$27:$K$68,2,FALSE)","v":"SE1"},1,null,null,null,null,null,1,"F84015",null,5422,20,16,16,17,17,5,19,14,14,14,14,21,20,20,17,20,17,14]
["2022-01-01",{"$f":"VLOOKUP(J2520,'Control Panel'!$I$27:$K$68,2,FALSE)","v":"NE2"},0,null,null,null,null,null,1,"F84018",null,11995,37,35,34,35,32,15,46,37,27,28,28,44,41,38,30,37,30,28]
["2022-01-01",{"$f":"VLOOKUP(J2521,'Control Panel'!$I$27:$K$68,2,FALSE)","v":"SW1"},1,null,null,null,null,null,1,"F84021",null,10741,25,22,22,22,20,2,16,14,9,9,9,37,33,35,27,35,28,9]
["2022-01-01",{"$f":"VLOOKUP(J2522,'Control Panel'!$I$27:$K$68,2,FALSE)","v":"NW2"},1,null,null,null,null,null,1,"F84033",null,11926,30,29,28,30,29,10,24,20,19,19,19,31,29,28,25,26,25,19]
["2022-01-01",{"$f":"VLOOKUP(J2523,'Control Panel'!$I$27:$K$68,2,FALSE)","v":"SW1"},1,null,null,null,null,null,1,"F84035",null,15042,33,29,28,29,28,2,35,29,26,26,26,24,21,20,18,20,19,27]
["2022-01-01",{"$f":"VLOOKUP(J2524,'Control Panel'!$I$27:$K$68,2,FALSE)","v":"NW1"},1,null,null,null,null,null,1,"F84036",null,7703,10,10,10,10,8,3,17,15,12,12,11,13,12,13,10,13,10,11]
["2022-01-01",{"$f":"VLOOKUP(J2525,'Control Panel'!$I$27:$K$68,2,FALSE)","v":"SW1"},1,null,null,null,null,null,1,"F84038",null,3945,6,5,5,6,6,1,5,3,3,3,3,9,8,7,5,7,5,3]
["2022-01-01",{"$f":"VLOOKUP(J2526,'Control Panel'!$I$27:$K$68,2,FALSE)","v":"SW2"},1,null,null,null,null,null,1,"F84041",null,4359,3,3,3,3,3,0,5,4,4,4,4,4,4,4,4,4,4,4]
["2022-01-01",{"$f":"VLOOKUP(J2527,'Control Panel'!$I$27:$K$68,2,FALSE)","v":"SE1"},1,null,null,null,null,null,1,"F84060",null,4834,6,6,6,6,5,2,8,5,5,5,5,13,10,10,6,10,6,5]
["2022-01-01",{"$f":"VLOOKUP(J2528,'Control Panel'!$I$27:$K$68,2,FALSE)","v":"SW1"},1,null,null,null,null,null,1,"F84063",null,6064,9,9,9,9,8,5,12,7,6,5,6,9,8,8,8,8,7,5]
["2022-01-01",{"$f":"VLOOKUP(J2529,'Control Panel'!$I$27:$K$68,2,FALSE)","v":"SE2"},1,null,null,null,null,null,1,"F84069",null,14220,35,28,28,32,28,3,36,33,29,29,28,34,31,29,25,28,26,28]
["2022-01-01",{"$f":"VLOOKUP(J2530,'Control Panel'!$I$27:$K$68,2,FALSE)","v":"SW2"},1,null,null,null,null,null,1,"F84072",null,11721,29,28,28,28,28,4,26,24,22,23,22,27,24,23,15,22,18,24]
["2022-01-01",{"$f":"VLOOKUP(J2531,'Control Panel'!$I$27:$K$68,2,FALSE)","v":"NE2"},0,null,null,null,null,null,1,"F84080",null,5149,16,7,6,9,6,1,18,10,7,8,8,18,13,15,11,13,12,7]
["2022-01-01",{"$f":"VLOOKUP(J2532,'Control Panel'!$I$27:$K$68,2,FALSE)","v":"SW2"},1,null,null,null,null,null,1,"F84096",null,14468,27,26,25,26,25,10,30,26,26,26,26,34,32,31,27,30,25,25]
["2022-01-01",{"$f":"VLOOKUP(J2533,'Control Panel'!$I$27:$K$68,2,FALSE)","v":"SE1"},1,null,null,null,null,null,1,"F84105",null,11923,24,21,21,20,21,6,42,37,34,34,34,26,26,25,23,25,24,35]
["2022-01-01",{"$f":"VLOOKUP(J2534,'Control Panel'!$I$27:$K$68,2,FALSE)","v":"NW1"},1,null,null,null,null,null,1,"F84115",null,8420,26,24,25,25,24,2,16,15,14,14,13,19,19,17,16,16,17,14]
["2022-01-01",{"$f":"VLOOKUP(J2535,'Control Panel'!$I$27:$K$68,2,FALSE)","v":"SW1"},1,null,null,null,null,null,1,"F84117",null,10399,10,9,9,9,8,2,24,23,21,22,21,29,25,26,17,26,17,22]
["2022-01-01",{"$f":"VLOOKUP(J2536,'Control Panel'!$I$27:$K$68,2,FALSE)","v":"NW1"},1,null,null,null,null,null,1,"F84119",null,12123,31,26,26,27,25,8,34,30,31,30,31,37,33,33,26,32,26,30]
["2022-01-01",{"$f":"VLOOKUP(J2537,'Control Panel'!$I$27:$K$68,2,FALSE)","v":"SE2"},1,null,null,null,null,null,1,"F84601",null,7418,10,10,10,10,9,4,15,13,11,10,10,24,22,22,11,22,13,9]
["2022-01-01",{"$f":"VLOOKUP(J2538,'Control Panel'!$I$27:$K$68,2,FALSE)","v":"NE2"},0,null,null,null,null,null,1,"F84619",null,4877,18,16,16,16,16,2,10,10,10,10,10,12,12,12,12,12,12,10]
["2022-01-01",{"$f":"VLOOKUP(J2539,'Control Panel'!$I$27:$K$68,2,FALSE)","v":"SE2"},1,null,null,null,null,null,1,"F84620",null,7508,24,21,21,22,22,10,26,23,19,20,20,21,19,17,14,19,13,20]
["2022-01-01",{"$f":"VLOOKUP(J2540,'Control Panel'!$I$27:$K$68,2,FALSE)","v":"SW1"},1,null,null,null,null,null,1,"F84621",null,4301,8,7,7,7,7,0,13,11,11,11,11,11,5,5,5,5,5,11]
["2022-01-01",{"$f":"VLOOKUP(J2541,'Control Panel'!$I$27:$K$68,2,FALSE)","v":"SE2"},1,null,null,null,null,null,1,"F84632",null,1210,0,0,0,0,0,0,0,0,0,0,0,0,0,0,0,0,0,0]
["2022-01-01",{"$f":"VLOOKUP(J2542,'Control Panel'!$I$27:$K$68,2,FALSE)","v":"SW2"},1,null,null,null,null,null,1,"F84635",null,10138,17,14,14,15,13,7,17,14,9,9,9,22,18,20,10,18,11,9]
["2022-01-01",{"$f":"VLOOKUP(J2543,'Control Panel'!$I$27:$K$68,2,FALSE)","v":"NW2"},1,null,null,null,null,null,1,"F84636",null,6635,9,8,7,8,8,1,6,5,4,4,4,4,3,2,2,3,2,4]
["2022-01-01",{"$f":"VLOOKUP(J2544,'Control Panel'!$I$27:$K$68,2,FALSE)","v":"City"},1,null,null,null,null,null,1,"F84640",null,10271,15,13,12,15,13,2,7,6,5,5,5,13,13,12,10,12,10,5]
["2022-01-01",{"$f":"VLOOKUP(J2545,'Control Panel'!$I$27:$K$68,2,FALSE)","v":"NE2"},0,null,null,null,null,null,1,"F84668",null,6398,46,12,15,19,16,5,28,11,10,7,10,39,24,30,9,25,9,10]
["2022-01-01",{"$f":"VLOOKUP(J2546,'Control Panel'!$I$27:$K$68,2,FALSE)","v":"NE2"},0,null,null,null,null,null,1,"F84685",null,3017,6,2,1,3,2,1,13,8,6,5,6,5,4,5,1,3,3,5]
["2022-01-01",{"$f":"VLOOKUP(J2547,'Control Panel'!$I$27:$K$68,2,FALSE)","v":"NE1"},0,null,null,null,null,null,1,"F84686",null,8390,75,14,14,25,13,0,54,18,9,8,13,66,42,51,9,44,14,11]
["2022-01-01",{"$f":"VLOOKUP(J2548,'Control Panel'!$I$27:$K$68,2,FALSE)","v":"SW2"},1,null,null,null,null,null,1,"F84692",null,7604,15,14,13,13,10,3,14,11,13,13,13,13,12,11,9,11,9,13]
["2022-01-01",{"$f":"VLOOKUP(J2549,'Control Panel'!$I$27:$K$68,2,FALSE)","v":"NW2"},1,null,null,null,null,null,1,"F84694",null,4543,23,22,21,20,21,3,10,9,9,9,9,9,9,8,7,8,7,9]
["2022-01-01",{"$f":"VLOOKUP(J2550,'Control Panel'!$I$27:$K$68,2,FALSE)","v":"NE2"},0,null,null,null,null,null,1,"F84711",null,1840,5,4,4,5,5,0,6,6,6,6,6,2,2,2,2,2,2,6]
["2022-01-01",{"$f":"VLOOKUP(J2551,'Control Panel'!$I$27:$K$68,2,FALSE)","v":"NW1"},1,null,null,null,null,null,1,"F84716",null,5831,29,11,12,14,12,0,30,16,14,13,14,28,25,26,12,24,12,14]
["2022-01-01",{"$f":"VLOOKUP(J2552,'Control Panel'!$I$27:$K$68,2,FALSE)","v":"SE1"},1,null,null,null,null,null,1,"F84719",null,5281,6,6,6,6,6,1,7,7,7,7,7,12,10,10,10,11,10,7]
["2022-01-01",{"$f":"VLOOKUP(J2553,'Control Panel'!$I$27:$K$68,2,FALSE)","v":"NE2"},0,null,null,null,null,null,1,"F84720",null,5627,16,7,7,8,8,0,14,5,5,4,7,17,10,10,8,10,8,8]
["2022-01-01",{"$f":"VLOOKUP(J2554,'Control Panel'!$I$27:$K$68,2,FALSE)","v":"SE2"},1,null,null,null,null,null,1,"Y00403",null,7582,24,20,20,21,17,5,32,25,27,27,27,14,13,12,11,12,11,27]
["2022-01-01",{"$f":"VLOOKUP(J2555,'Control Panel'!$I$27:$K$68,2,FALSE)","v":"NE1"},0,null,null,null,null,null,1,"Y03049",null,14713,68,32,32,37,24,11,53,29,35,33,30,71,53,59,42,54,44,28]
["2022-01-01",{"$f":"VLOOKUP(J2556,'Control Panel'!$I$27:$K$68,2,FALSE)","v":{"$error":"#N/A"}},{"$error":"#N/A"},null,null,null,null,null,0,"Total",null,337387,972,655,650,710,630,148,946,674,621,614,625,961,799,813,577,773,596,618]
["2022-02-01",{"$f":"VLOOKUP(J2557,'Control Panel'!$I$27:$K$68,2,FALSE)","v":{"$error":"#N/A"}},{"$error":"#N/A"},null,"Last Run:",null,"Population Count",350174,1,null,"Search","All Patients","(01) 12 MONTH COHORT","(01.01) DTaP/IPV/Hib 6in1","(01.02) Men B (1st and 2nd)","(01.03) PCV","(01.04) Rotavirus","(01.05) BCG","(02) 24 MONTH COHORT","(02.01) DTaP/IPV/Hib Combined","(02.02) MMR","(02.03) HiB/Men C","(02.04) PCV (Booster)","(03) 5 YEAR COHORT","(03.01) DTaP/IPV/Hib Combined","(03.02) MMR (Primary)","(03.03) DTaP/IPV (Booster)","(03.04) HiB/Men C","(03.05) MMR (Booster)","(02.05) Men B (Booster)"]
["2022-02-01",{"$f":"VLOOKUP(J2558,'Control Panel'!$I$27:$K$68,2,FALSE)","v":{"$error":"#N/A"}},{"$error":"#N/A"},null,"2022-03-10T20:53:00",null,"Males",175665,1,"Organisation Code"]
["2022-02-01",{"$f":"VLOOKUP(J2559,'Control Panel'!$I$27:$K$68,2,FALSE)","v":"SE1"},1,null,"Relative Date:",null,"Females",174509,1,"F84003",null,15043,36,34,34,34,30,5,27,25,24,24,23,49,48,46,44,45,43,24]
["2022-02-01",{"$f":"VLOOKUP(J2560,'Control Panel'!$I$27:$K$68,2,FALSE)","v":"NW2"},1,null,"2022-03-01",null,null,null,1,"F84008",null,12213,29,27,26,28,28,4,23,22,21,22,20,27,27,26,26,25,26,22]
["2022-02-01",{"$f":"VLOOKUP(J2561,'Control Panel'!$I$27:$K$68,2,FALSE)","v":"NE1"},0,null,null,null,null,null,1,"F84013",null,16574,128,26,25,38,13,2,120,45,46,35,50,105,63,72,27,57,28,47]
["2022-02-01",{"$f":"VLOOKUP(J2562,'Control Panel'!$I$27:$K$68,2,FALSE)","v":"SE1"},1,null,null,null,null,null,1,"F84015",null,5416,10,7,7,7,6,2,15,12,12,12,12,15,12,11,8,11,8,12]
["2022-02-01",{"$f":"VLOOKUP(J2563,'Control Panel'!$I$27:$K$68,2,FALSE)","v":"NE2"},0,null,null,null,null,null,1,"F84018",null,12011,41,33,33,36,32,5,33,23,24,25,23,32,26,26,19,26,20,23]
["2022-02-01",{"$f":"VLOOKUP(J2564,'Control Panel'!$I$27:$K$68,2,FALSE)","v":"SW1"},1,null,null,null,null,null,{"$f":"IF(J2564=\"Total\",0,1)","v":1},"F84021",null,10787,23,21,20,21,20,5,29,26,22,22,22,19,19,19,19,19,18,22]
["2022-02-01",{"$f":"VLOOKUP(J2565,'Control Panel'!$I$27:$K$68,2,FALSE)","v":"NW2"},1,null,null,null,null,null,1,"F84033",null,11911,26,21,21,21,20,8,19,15,16,16,16,34,31,29,25,28,25,16]
["2022-02-01",{"$f":"VLOOKUP(J2566,'Control Panel'!$I$27:$K$68,2,FALSE)","v":"SW1"},1,null,null,null,null,null,1,"F84035",null,15288,37,33,33,34,33,1,30,29,29,28,28,15,14,14,11,14,12,29]
["2022-02-01",{"$f":"VLOOKUP(J2567,'Control Panel'!$I$27:$K$68,2,FALSE)","v":"NW1"},1,null,null,null,null,null,1,"F84036",null,7780,19,17,17,17,17,5,16,13,12,10,12,16,15,14,12,16,11,10]
["2022-02-01",{"$f":"VLOOKUP(J2568,'Control Panel'!$I$27:$K$68,2,FALSE)","v":"SW1"},1,null,null,null,null,null,1,"F84038",null,3947,8,6,6,8,8,1,5,5,5,5,5,10,10,9,8,8,9,5]
["2022-02-01",{"$f":"VLOOKUP(J2569,'Control Panel'!$I$27:$K$68,2,FALSE)","v":"SW2"},1,null,null,null,null,null,1,"F84041",null,3262,5,5,5,5,5,1,8,8,7,7,7,9,8,9,4,9,5,7]
["2022-02-01",{"$f":"VLOOKUP(J2570,'Control Panel'!$I$27:$K$68,2,FALSE)","v":"SE1"},1,null,null,null,null,null,1,"F84060",null,4834,11,9,8,8,7,1,8,2,4,4,4,8,6,6,3,6,3,4]
["2022-02-01",{"$f":"VLOOKUP(J2571,'Control Panel'!$I$27:$K$68,2,FALSE)","v":"SW1"},1,null,null,null,null,null,1,"F84063",null,6043,4,3,3,4,4,2,17,16,13,13,13,11,11,9,6,9,8,13]
["2022-02-01",{"$f":"VLOOKUP(J2572,'Control Panel'!$I$27:$K$68,2,FALSE)","v":"SE2"},1,null,null,null,null,null,1,"F84069",null,14287,26,22,22,22,21,5,28,26,25,25,25,51,50,47,38,45,41,25]
["2022-02-01",{"$f":"VLOOKUP(J2573,'Control Panel'!$I$27:$K$68,2,FALSE)","v":"SW2"},1,null,null,null,null,null,1,"F84072",null,11950,38,33,34,35,33,8,26,23,23,23,24,32,31,30,23,29,24,24]
["2022-02-01",{"$f":"VLOOKUP(J2574,'Control Panel'!$I$27:$K$68,2,FALSE)","v":"NE2"},0,null,null,null,null,null,1,"F84080",null,5154,17,7,7,9,8,0,17,8,8,8,9,23,13,15,9,11,10,7]
["2022-02-01",{"$f":"VLOOKUP(J2575,'Control Panel'!$I$27:$K$68,2,FALSE)","v":"SW2"},1,null,null,null,null,null,1,"F84096",null,14780,28,25,25,25,26,8,31,30,30,29,29,25,25,24,22,24,22,28]
["2022-02-01",{"$f":"VLOOKUP(J2576,'Control Panel'!$I$27:$K$68,2,FALSE)","v":"SE1"},{"$f":"IF(LEFT(B2576,2)=\"NE\",0,1)","v":1},null,null,null,null,null,1,"F84105",null,11927,28,25,25,25,25,6,31,30,30,30,30,35,34,33,33,34,33,29]
["2022-02-01",{"$f":"VLOOKUP(J2577,'Control Panel'!$I$27:$K$68,2,FALSE)","v":"NW1"},1,null,null,null,null,null,1,"F84115",null,8415,26,22,21,24,22,2,23,22,20,20,20,13,12,12,12,12,12,20]
["2022-02-01",{"$f":"VLOOKUP(J2578,'Control Panel'!$I$27:$K$68,2,FALSE)","v":"SW1"},1,null,null,null,null,null,1,"F84117",null,10486,19,16,16,18,17,1,31,28,26,26,25,33,31,31,27,32,27,26]
["2022-02-01",{"$f":"VLOOKUP(J2579,'Control Panel'!$I$27:$K$68,2,FALSE)","v":"NW1"},1,null,null,null,null,null,1,"F84119",null,12131,61,51,51,54,50,22,43,36,34,33,33,34,31,28,20,27,20,32]
["2022-02-01",{"$f":"VLOOKUP(J2580,'Control Panel'!$I$27:$K$68,2,FALSE)","v":"SE2"},1,null,null,null,null,null,1,"F84601",null,7449,18,8,9,13,12,5,19,16,17,17,17,18,17,14,10,16,11,16]
["2022-02-01",{"$f":"VLOOKUP(J2581,'Control Panel'!$I$27:$K$68,2,FALSE)","v":"NE2"},0,null,null,null,null,null,1,"F84619",null,4852,20,17,17,17,17,2,9,6,6,6,6,9,8,7,7,8,7,6]
["2022-02-01",{"$f":"VLOOKUP(J2582,'Control Panel'!$I$27:$K$68,2,FALSE)","v":"SE2"},1,null,null,null,null,null,1,"F84620",null,7561,10,9,9,9,9,3,16,14,13,12,12,16,15,14,13,14,13,13]
["2022-02-01",{"$f":"VLOOKUP(J2583,'Control Panel'!$I$27:$K$68,2,FALSE)","v":"SW1"},1,null,null,null,null,null,1,"F84621",null,4321,9,7,7,7,7,2,10,10,8,9,9,6,5,6,5,6,5,9]
["2022-02-01",{"$f":"VLOOKUP(J2584,'Control Panel'!$I$27:$K$68,2,FALSE)","v":"SE2"},1,null,null,null,null,null,1,"F84632",null,1228,0,0,0,0,0,0,0,0,0,0,0,0,0,0,0,0,0,0]
["2022-02-01",{"$f":"VLOOKUP(J2585,'Control Panel'!$I$27:$K$68,2,FALSE)","v":"SW2"},1,null,null,null,null,null,1,"F84635",null,10095,19,16,16,17,15,1,16,14,12,12,10,23,20,17,8,18,9,10]
["2022-02-01",{"$f":"VLOOKUP(J2586,'Control Panel'!$I$27:$K$68,2,FALSE)","v":"NW2"},1,null,null,null,null,null,1,"F84636",null,6621,20,18,18,18,18,2,13,12,11,12,12,11,11,11,10,11,11,12]
["2022-02-01",{"$f":"VLOOKUP(J2587,'Control Panel'!$I$27:$K$68,2,FALSE)","v":"City"},1,null,null,null,null,null,1,"F84640",null,10268,15,14,14,15,14,3,14,11,11,11,11,13,10,10,9,10,9,11]
["2022-02-01",{"$f":"VLOOKUP(J2588,'Control Panel'!$I$27:$K$68,2,FALSE)","v":"NE2"},0,null,null,null,null,null,1,"F84668",null,6390,36,10,11,15,8,2,29,13,15,13,13,42,28,34,13,30,15,13]
["2022-02-01",{"$f":"VLOOKUP(J2589,'Control Panel'!$I$27:$K$68,2,FALSE)","v":"NE2"},0,null,null,null,null,null,1,"F84685",null,3043,8,5,5,5,5,1,12,6,7,3,4,15,10,10,7,9,7,3]
["2022-02-01",{"$f":"VLOOKUP(J2590,'Control Panel'!$I$27:$K$68,2,FALSE)","v":"NE1"},0,null,null,null,null,null,1,"F84686",null,8419,91,15,16,30,19,0,57,18,13,10,15,80,49,60,11,51,15,15]
["2022-02-01",{"$f":"VLOOKUP(J2591,'Control Panel'!$I$27:$K$68,2,FALSE)","v":"SW2"},1,null,null,null,null,null,1,"F84692",null,7644,11,8,8,8,8,2,11,11,9,11,10,15,13,12,13,11,12,11]
["2022-02-01",{"$f":"VLOOKUP(J2592,'Control Panel'!$I$27:$K$68,2,FALSE)","v":"NW2"},1,null,null,null,null,null,1,"F84694",null,4542,4,3,3,4,3,1,12,12,12,12,12,9,9,8,8,8,8,12]
["2022-02-01",{"$f":"VLOOKUP(J2593,'Control Panel'!$I$27:$K$68,2,FALSE)","v":"NE2"},0,null,null,null,null,null,1,"F84711",null,1839,2,1,1,1,1,0,3,2,2,2,2,3,2,2,3,1,3,2]
["2022-02-01",{"$f":"VLOOKUP(J2594,'Control Panel'!$I$27:$K$68,2,FALSE)","v":"NW1"},1,null,null,null,null,null,1,"F84716",null,5814,34,19,19,24,20,1,30,13,10,9,10,15,12,12,8,12,8,11]
["2022-02-01",{"$f":"VLOOKUP(J2595,'Control Panel'!$I$27:$K$68,2,FALSE)","v":"SE1"},1,null,null,null,null,null,1,"F84719",null,5302,13,9,9,11,10,3,9,7,8,8,8,10,10,10,6,8,6,8]
["2022-02-01",{"$f":"VLOOKUP(J2596,'Control Panel'!$I$27:$K$68,2,FALSE)","v":"NE2"},0,null,null,null,null,null,1,"F84720",null,5666,15,7,7,9,8,0,16,5,5,5,5,12,7,6,3,5,4,5]
["2022-02-01",{"$f":"VLOOKUP(J2597,'Control Panel'!$I$27:$K$68,2,FALSE)","v":"SE2"},1,null,null,null,null,null,1,"Y00403",null,7653,25,21,21,22,21,4,17,14,13,13,12,11,10,8,9,10,9,12]
["2022-02-01",{"$f":"VLOOKUP(J2598,'Control Panel'!$I$27:$K$68,2,FALSE)","v":"NE1"},0,null,null,null,null,null,1,"Y03049",null,14733,72,31,32,41,31,13,63,36,40,33,35,68,41,46,36,40,36,31]
["2022-02-01",{"$f":"VLOOKUP(J2599,'Control Panel'!$I$27:$K$68,2,FALSE)","v":{"$error":"#N/A"}},{"$error":"#N/A"},null,null,null,null,null,0,"Total",null,337679,1042,661,661,739,651,139,936,664,643,615,633,972,794,797,575,755,593,625]
["2022-03-01",{"$f":"VLOOKUP(J2600,'Control Panel'!$I$27:$K$68,2,FALSE)","v":{"$error":"#N/A"}},{"$error":"#N/A"},null,"Last Run:",null,"Population Count",350200,1,null,"Search","All Patients","(01) 12 MONTH COHORT","(01.01) DTaP/IPV/Hib 6in1","(01.02) Men B (1st and 2nd)","(01.03) PCV","(01.04) Rotavirus","(01.05) BCG","(02) 24 MONTH COHORT","(02.01) DTaP/IPV/Hib Combined","(02.02) MMR","(02.03) HiB/Men C","(02.04) PCV (Booster)","(03) 5 YEAR COHORT","(03.01) DTaP/IPV/Hib Combined","(03.02) MMR (Primary)","(03.03) DTaP/IPV (Booster)","(03.04) HiB/Men C","(03.05) MMR (Booster)","(02.05) Men B (Booster)"]
["2022-03-01",{"$f":"VLOOKUP(J2601,'Control Panel'!$I$27:$K$68,2,FALSE)","v":{"$error":"#N/A"}},{"$error":"#N/A"},null,"2022-04-04T10:52:00",null,"Males",175863,1,"Organisation Code"]
["2022-03-01",{"$f":"VLOOKUP(J2602,'Control Panel'!$I$27:$K$68,2,FALSE)","v":"SE1"},1,null,"Relative Date:",null,"Females",174337,1,"F84003",null,15043,36,34,34,34,30,5,27,25,24,24,23,49,48,46,44,45,43,24]
["2022-03-01",{"$f":"VLOOKUP(J2603,'Control Panel'!$I$27:$K$68,2,FALSE)","v":"NW2"},1,null,"2022-04-01",null,null,null,1,"F84008",null,12199,28,27,26,27,27,4,23,22,21,22,20,29,28,27,27,26,27,22]
["2022-03-01",{"$f":"VLOOKUP(J2604,'Control Panel'!$I$27:$K$68,2,FALSE)","v":"NE1"},0,null,null,null,null,null,1,"F84013",null,16617,127,26,25,38,13,2,120,46,46,36,51,104,62,71,27,56,28,47]
["2022-03-01",{"$f":"VLOOKUP(J2605,'Control Panel'!$I$27:$K$68,2,FALSE)","v":"SE1"},1,null,null,null,null,null,1,"F84015",null,5410,10,7,7,7,6,2,15,12,12,12,12,15,12,11,8,11,8,12]
["2022-03-01",{"$f":"VLOOKUP(J2606,'Control Panel'!$I$27:$K$68,2,FALSE)","v":"NE2"},0,null,null,null,null,null,1,"F84018",null,12007,41,33,33,37,32,5,31,22,23,24,22,32,26,26,21,26,22,22]
["2022-03-01",{"$f":"VLOOKUP(J2607,'Control Panel'!$I$27:$K$68,2,FALSE)","v":"SW1"},1,null,null,null,null,null,1,"F84021",null,10825,22,20,19,20,19,5,29,26,22,22,22,19,19,19,19,19,18,22]
["2022-03-01",{"$f":"VLOOKUP(J2608,'Control Panel'!$I$27:$K$68,2,FALSE)","v":"NW2"},1,null,null,null,null,null,1,"F84033",null,11950,26,21,21,21,20,8,19,15,16,16,16,35,32,30,25,28,25,16]
["2022-03-01",{"$f":"VLOOKUP(J2609,'Control Panel'!$I$27:$K$68,2,FALSE)","v":"SW1"},1,null,null,null,null,null,1,"F84035",null,15601,39,34,34,35,34,1,32,30,30,29,29,15,14,14,11,14,12,30]
["2022-03-01",{"$f":"VLOOKUP(J2610,'Control Panel'!$I$27:$K$68,2,FALSE)","v":"NW1"},1,null,null,null,null,null,1,"F84036",null,7779,15,14,14,13,14,4,15,13,11,10,11,15,14,13,12,15,11,10]
["2022-03-01",{"$f":"VLOOKUP(J2611,'Control Panel'!$I$27:$K$68,2,FALSE)","v":"SW1"},1,null,null,null,null,null,1,"F84038",null,3961,8,6,6,8,8,1,5,5,5,5,5,10,10,9,8,8,9,5]
["2022-03-01",{"$f":"VLOOKUP(J2612,'Control Panel'!$I$27:$K$68,2,FALSE)","v":"SW2"},1,null,null,null,null,null,1,"F84041",null,1986,0,0,0,0,0,0,3,3,2,2,2,7,6,7,2,7,3,2]
["2022-03-01",{"$f":"VLOOKUP(J2613,'Control Panel'!$I$27:$K$68,2,FALSE)","v":"SE1"},1,null,null,null,null,null,1,"F84060",null,4858,11,9,8,8,7,1,7,2,4,4,4,8,6,6,3,6,3,4]
["2022-03-01",{"$f":"VLOOKUP(J2614,'Control Panel'!$I$27:$K$68,2,FALSE)","v":"SW1"},1,null,null,null,null,null,1,"F84063",null,6026,4,3,3,4,4,2,17,16,13,13,13,11,11,9,6,9,8,13]
["2022-03-01",{"$f":"VLOOKUP(J2615,'Control Panel'!$I$27:$K$68,2,FALSE)","v":"SE2"},1,null,null,null,null,null,1,"F84069",null,14343,26,22,22,22,21,5,27,25,24,24,24,51,50,47,38,45,41,24]
["2022-03-01",{"$f":"VLOOKUP(J2616,'Control Panel'!$I$27:$K$68,2,FALSE)","v":"SW2"},1,null,null,null,null,null,1,"F84072",null,12136,40,34,35,36,34,8,27,25,24,24,25,28,28,27,24,26,25,25]
["2022-03-01",{"$f":"VLOOKUP(J2617,'Control Panel'!$I$27:$K$68,2,FALSE)","v":"NE2"},0,null,null,null,null,null,1,"F84080",null,5173,17,7,7,9,8,0,17,8,8,8,9,23,13,15,9,11,10,7]
["2022-03-01",{"$f":"VLOOKUP(J2618,'Control Panel'!$I$27:$K$68,2,FALSE)","v":"SW2"},1,null,null,null,null,null,1,"F84096",null,15081,29,26,26,26,27,8,32,31,31,30,30,26,26,25,23,25,23,29]
["2022-03-01",{"$f":"VLOOKUP(J2619,'Control Panel'!$I$27:$K$68,2,FALSE)","v":"SE1"},1,null,null,null,null,null,1,"F84105",null,11954,28,25,25,25,25,6,31,30,30,30,30,35,34,33,33,34,33,29]
["2022-03-01",{"$f":"VLOOKUP(J2620,'Control Panel'!$I$27:$K$68,2,FALSE)","v":"NW1"},1,null,null,null,null,null,1,"F84115",null,8434,25,21,20,23,21,2,22,22,20,20,20,13,12,12,12,12,12,20]
["2022-03-01",{"$f":"VLOOKUP(J2621,'Control Panel'!$I$27:$K$68,2,FALSE)","v":"SW1"},1,null,null,null,null,null,1,"F84117",null,10509,18,17,16,18,17,1,27,27,27,27,26,29,28,28,27,29,26,27]
["2022-03-01",{"$f":"VLOOKUP(J2622,'Control Panel'!$I$27:$K$68,2,FALSE)","v":"NW1"},1,null,null,null,null,null,1,"F84119",null,12175,62,51,51,54,50,22,43,35,33,32,32,34,31,28,20,27,20,31]
["2022-03-01",{"$f":"VLOOKUP(J2623,'Control Panel'!$I$27:$K$68,2,FALSE)","v":"SE2"},1,null,null,null,null,null,1,"F84601",null,7478,19,9,10,14,13,5,19,16,17,17,17,18,17,14,10,16,11,16]
["2022-03-01",{"$f":"VLOOKUP(J2624,'Control Panel'!$I$27:$K$68,2,FALSE)","v":"NE2"},0,null,null,null,null,null,1,"F84619",null,4871,19,16,16,16,16,2,9,6,6,6,6,9,8,7,7,8,7,6]
["2022-03-01",{"$f":"VLOOKUP(J2625,'Control Panel'!$I$27:$K$68,2,FALSE)","v":"SE2"},1,null,null,null,null,null,1,"F84620",null,7574,10,9,9,9,9,3,16,14,13,12,12,16,15,14,13,14,13,13]
["2022-03-01",{"$f":"VLOOKUP(J2626,'Control Panel'!$I$27:$K$68,2,FALSE)","v":"SW1"},1,null,null,null,null,null,1,"F84621",null,4350,9,7,7,7,7,2,10,10,8,9,9,8,5,6,5,6,5,9]
["2022-03-01",{"$f":"VLOOKUP(J2627,'Control Panel'!$I$27:$K$68,2,FALSE)","v":"SE2"},1,null,null,null,null,null,1,"F84632",null,1269,0,0,0,0,0,0,0,0,0,0,0,0,0,0,0,0,0,0]
["2022-03-01",{"$f":"VLOOKUP(J2628,'Control Panel'!$I$27:$K$68,2,FALSE)","v":"SW2"},1,null,null,null,null,null,{"$f":"IF(J2628=\"Total\",0,1)","v":1},"F84635",null,10071,19,16,16,17,15,1,16,14,12,12,10,23,20,18,10,19,10,10]
["2022-03-01",{"$f":"VLOOKUP(J2629,'Control Panel'!$I$27:$K$68,2,FALSE)","v":"NW2"},1,null,null,null,null,null,1,"F84636",null,6610,20,18,18,18,18,2,12,12,11,12,12,11,11,11,10,11,11,12]
["2022-03-01",{"$f":"VLOOKUP(J2630,'Control Panel'!$I$27:$K$68,2,FALSE)","v":"City"},1,null,null,null,null,null,1,"F84640",null,9971,14,14,14,14,13,2,14,11,11,11,11,13,10,10,9,10,9,11]
["2022-03-01",{"$f":"VLOOKUP(J2631,'Control Panel'!$I$27:$K$68,2,FALSE)","v":"NE2"},0,null,null,null,null,null,1,"F84668",null,6384,37,10,11,15,8,2,29,13,15,13,13,42,28,34,13,30,15,13]
["2022-03-01",{"$f":"VLOOKUP(J2632,'Control Panel'!$I$27:$K$68,2,FALSE)","v":"NE2"},0,null,null,null,null,null,1,"F84685",null,3054,8,5,5,5,5,1,12,6,7,3,4,15,10,10,7,9,7,3]
["2022-03-01",{"$f":"VLOOKUP(J2633,'Control Panel'!$I$27:$K$68,2,FALSE)","v":"NE1"},0,null,null,null,null,null,1,"F84686",null,8438,91,15,16,31,19,0,58,19,16,10,16,80,49,60,11,51,15,15]
["2022-03-01",{"$f":"VLOOKUP(J2634,'Control Panel'!$I$27:$K$68,2,FALSE)","v":"SW2"},1,null,null,null,null,null,1,"F84692",null,7886,12,9,9,9,9,2,11,11,9,11,10,15,13,12,13,11,12,11]
["2022-03-01",{"$f":"VLOOKUP(J2635,'Control Panel'!$I$27:$K$68,2,FALSE)","v":"NW2"},1,null,null,null,null,null,1,"F84694",null,4620,5,4,4,5,4,1,13,12,13,13,13,9,9,8,8,8,8,12]
["2022-03-01",{"$f":"VLOOKUP(J2636,'Control Panel'!$I$27:$K$68,2,FALSE)","v":"NE2"},0,null,null,null,null,null,1,"F84711",null,1856,2,1,1,1,1,0,3,2,2,2,2,4,3,3,3,2,3,2]
["2022-03-01",{"$f":"VLOOKUP(J2637,'Control Panel'!$I$27:$K$68,2,FALSE)","v":"NW1"},1,null,null,null,null,null,1,"F84716",null,5829,34,19,19,24,20,1,30,13,10,9,10,15,12,12,8,12,8,11]
["2022-03-01",{"$f":"VLOOKUP(J2638,'Control Panel'!$I$27:$K$68,2,FALSE)","v":"SE1"},1,null,null,null,null,null,1,"F84719",null,5324,14,9,9,11,10,4,9,7,8,8,8,10,10,10,6,8,6,8]
["2022-03-01",{"$f":"VLOOKUP(J2639,'Control Panel'!$I$27:$K$68,2,FALSE)","v":"NE2"},0,null,null,null,null,null,1,"F84720",null,5695,14,6,6,8,7,0,16,5,5,5,5,12,7,6,3,5,4,5]
["2022-03-01",{"$f":"VLOOKUP(J2640,'Control Panel'!$I$27:$K$68,2,FALSE)","v":"SE2"},{"$f":"IF(LEFT(B2640,2)=\"NE\",0,1)","v":1},null,null,null,null,null,1,"Y00403",null,7655,26,22,22,23,22,4,17,14,13,13,12,11,10,8,9,10,9,12]
["2022-03-01",{"$f":"VLOOKUP(J2641,'Control Panel'!$I$27:$K$68,2,FALSE)","v":"NE1"},0,null,null,null,null,null,1,"Y03049",null,14787,72,31,32,41,31,13,63,35,39,33,34,65,38,43,34,37,35,30]
["2022-03-01",{"$f":"VLOOKUP(J2642,'Control Panel'!$I$27:$K$68,2,FALSE)","v":{"$error":"#N/A"}},{"$error":"#N/A"},null,null,null,null,null,0,"Total",null,337789,1037,657,656,733,644,137,926,660,641,613,630,964,785,789,578,746,595,620]

{"sheet":"Total (Without NE)","index":9,"n_rows":29,"n_cols":23,"rows_kept":29,"cut":false,"hidden":true,"merged":[]}
[null,null,null,null,"All Patients","(01) 12 MONTH COHORT","(01.01) DTaP/IPV/Hib","(01.02) Men B (1st and 2nd)","(01.03) PCV","(01.04) Rotavirus","(01.05) BCG","(02) 24 MONTH COHORT","(02.01) DTaP/IPV/Hib Combined","(02.02) MMR","(02.03) HiB/Men C","(02.04) PCV (Booster)","(03) 5 YEAR COHORT","(03.01) DTaP/IPV/Hib Combined","(03.02) MMR (Primary)","(03.03) DTaP/IPV (Booster)","(03.04) HiB/Men C","(03.05) MMR (Booster)","(02.05) Men B (Booster)"]
[null,"2015/16 Q1","Total (without NE)",null,{"$f":"SUMIFS(Data!L$1:L$2000,Data!$A$1:$A$2000,$B2,Data!$C$1:$C$2000,1,Data!$I$1:$I$2000,1)","v":218567},{"$f":"SUMIFS(Data!M$1:M$1000,Data!$A$1:$A$1000,$B2,Data!$C$1:$C$1000,1,Data!$I$1:$I$1000,1)","v":747},{"$f":"SUMIFS(Data!N$1:N$1000,Data!$A$1:$A$1000,$B2,Data!$C$1:$C$1000,1,Data!$I$1:$I$1000,1)","v":628},{"$f":"SUMIFS(Data!O$1:O$1000,Data!$A$1:$A$1000,$B2,Data!$C$1:$C$1000,1,Data!$I$1:$I$1000,1)","v":657},{"$f":"SUMIFS(Data!P$1:P$1000,Data!$A$1:$A$1000,$B2,Data!$C$1:$C$1000,1,Data!$I$1:$I$1000,1)","v":640},{"$f":"SUMIFS(Data!Q$1:Q$1000,Data!$A$1:$A$1000,$B2,Data!$C$1:$C$1000,1,Data!$I$1:$I$1000,1)","v":600},{"$f":"SUMIFS(Data!R$1:R$1000,Data!$A$1:$A$1000,$B2,Data!$C$1:$C$1000,1,Data!$I$1:$I$1000,1)","v":569},{"$f":"SUMIFS(Data!S$1:S$1000,Data!$A$1:$A$1000,$B2,Data!$C$1:$C$1000,1,Data!$I$1:$I$1000,1)","v":687},{"$f":"SUMIFS(Data!T$1:T$1000,Data!$A$1:$A$1000,$B2,Data!$C$1:$C$1000,1,Data!$I$1:$I$1000,1)","v":602},{"$f":"SUMIFS(Data!U$1:U$1000,Data!$A$1:$A$1000,$B2,Data!$C$1:$C$1000,1,Data!$I$1:$I$1000,1)","v":541},{"$f":"SUMIFS(Data!V$1:V$1000,Data!$A$1:$A$1000,$B2,Data!$C$1:$C$1000,1,Data!$I$1:$I$1000,1)","v":546},{"$f":"SUMIFS(Data!W$1:W$1000,Data!$A$1:$A$1000,$B2,Data!$C$1:$C$1000,1,Data!$I$1:$I$1000,1)","v":545},{"$f":"SUMIFS(Data!X$1:X$5000,Data!$A$1:$A$5000,$B2,Data!$C$1:$C$5000,1,Data!$I$1:$I$5000,1)","v":631},{"$f":"SUMIFS(Data!Y$1:Y$1000,Data!$A$1:$A$1000,$B2,Data!$C$1:$C$1000,1,Data!$I$1:$I$1000,1)","v":563},{"$f":"SUMIFS(Data!Z$1:Z$1000,Data!$A$1:$A$1000,$B2,Data!$C$1:$C$1000,1,Data!$I$1:$I$1000,1)","v":548},{"$f":"SUMIFS(Data!AA$1:AA$1000,Data!$A$1:$A$1000,$B2,Data!$C$1:$C$1000,1,Data!$I$1:$I$1000,1)","v":486},{"$f":"SUMIFS(Data!AB$1:AB$1000,Data!$A$1:$A$1000,$B2,Data!$C$1:$C$1000,1,Data!$I$1:$I$1000,1)","v":525},{"$f":"SUMIFS(Data!AC$1:AC$1000,Data!$A$1:$A$1000,$B2,Data!$C$1:$C$1000,1,Data!$I$1:$I$1000,1)","v":531},{"$f":"SUMIFS(Data!AD$1:AD$2000,Data!$A$1:$A$2000,$B2,Data!$C$1:$C$2000,1,Data!$I$1:$I$2000,1)","v":0}]
[null,"2015/16 Q2","Total (without NE)",null,{"$f":"SUMIFS(Data!L$1:L$2000,Data!$A$1:$A$2000,$B3,Data!$C$1:$C$2000,1,Data!$I$1:$I$2000,1)","v":221394},{"$f":"SUMIFS(Data!M$1:M$1000,Data!$A$1:$A$1000,$B3,Data!$C$1:$C$1000,1,Data!$I$1:$I$1000,1)","v":740},{"$f":"SUMIFS(Data!N$1:N$1000,Data!$A$1:$A$1000,$B3,Data!$C$1:$C$1000,1,Data!$I$1:$I$1000,1)","v":616},{"$f":"SUMIFS(Data!O$1:O$1000,Data!$A$1:$A$1000,$B3,Data!$C$1:$C$1000,1,Data!$I$1:$I$1000,1)","v":647},{"$f":"SUMIFS(Data!P$1:P$1000,Data!$A$1:$A$1000,$B3,Data!$C$1:$C$1000,1,Data!$I$1:$I$1000,1)","v":620},{"$f":"SUMIFS(Data!Q$1:Q$1000,Data!$A$1:$A$1000,$B3,Data!$C$1:$C$1000,1,Data!$I$1:$I$1000,1)","v":594},{"$f":"SUMIFS(Data!R$1:R$1000,Data!$A$1:$A$1000,$B3,Data!$C$1:$C$1000,1,Data!$I$1:$I$1000,1)","v":538},{"$f":"SUMIFS(Data!S$1:S$1000,Data!$A$1:$A$1000,$B3,Data!$C$1:$C$1000,1,Data!$I$1:$I$1000,1)","v":694},{"$f":"SUMIFS(Data!T$1:T$1000,Data!$A$1:$A$1000,$B3,Data!$C$1:$C$1000,1,Data!$I$1:$I$1000,1)","v":578},{"$f":"SUMIFS(Data!U$1:U$1000,Data!$A$1:$A$1000,$B3,Data!$C$1:$C$1000,1,Data!$I$1:$I$1000,1)","v":531},{"$f":"SUMIFS(Data!V$1:V$1000,Data!$A$1:$A$1000,$B3,Data!$C$1:$C$1000,1,Data!$I$1:$I$1000,1)","v":532},{"$f":"SUMIFS(Data!W$1:W$1000,Data!$A$1:$A$1000,$B3,Data!$C$1:$C$1000,1,Data!$I$1:$I$1000,1)","v":542},{"$f":"SUMIFS(Data!X$1:X$5000,Data!$A$1:$A$5000,$B3,Data!$C$1:$C$5000,1,Data!$I$1:$I$5000,1)","v":697},{"$f":"SUMIFS(Data!Y$1:Y$1000,Data!$A$1:$A$1000,$B3,Data!$C$1:$C$1000,1,Data!$I$1:$I$1000,1)","v":626},{"$f":"SUMIFS(Data!Z$1:Z$1000,Data!$A$1:$A$1000,$B3,Data!$C$1:$C$1000,1,Data!$I$1:$I$1000,1)","v":612},{"$f":"SUMIFS(Data!AA$1:AA$1000,Data!$A$1:$A$1000,$B3,Data!$C$1:$C$1000,1,Data!$I$1:$I$1000,1)","v":526},{"$f":"SUMIFS(Data!AB$1:AB$1000,Data!$A$1:$A$1000,$B3,Data!$C$1:$C$1000,1,Data!$I$1:$I$1000,1)","v":605},{"$f":"SUMIFS(Data!AC$1:AC$1000,Data!$A$1:$A$1000,$B3,Data!$C$1:$C$1000,1,Data!$I$1:$I$1000,1)","v":552},{"$f":"SUMIFS(Data!AD$1:AD$2000,Data!$A$1:$A$2000,$B3,Data!$C$1:$C$2000,1,Data!$I$1:$I$2000,1)","v":0}]
[null,"2015/16 Q3","Total (without NE)",null,{"$f":"SUMIFS(Data!L$1:L$2000,Data!$A$1:$A$2000,$B4,Data!$C$1:$C$2000,1,Data!$I$1:$I$2000,1)","v":228740},{"$f":"SUMIFS(Data!M$1:M$1000,Data!$A$1:$A$1000,$B4,Data!$C$1:$C$1000,1,Data!$I$1:$I$1000,1)","v":682},{"$f":"SUMIFS(Data!N$1:N$1000,Data!$A$1:$A$1000,$B4,Data!$C$1:$C$1000,1,Data!$I$1:$I$1000,1)","v":541},{"$f":"SUMIFS(Data!O$1:O$1000,Data!$A$1:$A$1000,$B4,Data!$C$1:$C$1000,1,Data!$I$1:$I$1000,1)","v":574},{"$f":"SUMIFS(Data!P$1:P$1000,Data!$A$1:$A$1000,$B4,Data!$C$1:$C$1000,1,Data!$I$1:$I$1000,1)","v":551},{"$f":"SUMIFS(Data!Q$1:Q$1000,Data!$A$1:$A$1000,$B4,Data!$C$1:$C$1000,1,Data!$I$1:$I$1000,1)","v":539},{"$f":"SUMIFS(Data!R$1:R$1000,Data!$A$1:$A$1000,$B4,Data!$C$1:$C$1000,1,Data!$I$1:$I$1000,1)","v":509},{"$f":"SUMIFS(Data!S$1:S$1000,Data!$A$1:$A$1000,$B4,Data!$C$1:$C$1000,1,Data!$I$1:$I$1000,1)","v":695},{"$f":"SUMIFS(Data!T$1:T$1000,Data!$A$1:$A$1000,$B4,Data!$C$1:$C$1000,1,Data!$I$1:$I$1000,1)","v":583},{"$f":"SUMIFS(Data!U$1:U$1000,Data!$A$1:$A$1000,$B4,Data!$C$1:$C$1000,1,Data!$I$1:$I$1000,1)","v":544},{"$f":"SUMIFS(Data!V$1:V$1000,Data!$A$1:$A$1000,$B4,Data!$C$1:$C$1000,1,Data!$I$1:$I$1000,1)","v":547},{"$f":"SUMIFS(Data!W$1:W$1000,Data!$A$1:$A$1000,$B4,Data!$C$1:$C$1000,1,Data!$I$1:$I$1000,1)","v":551},{"$f":"SUMIFS(Data!X$1:X$5000,Data!$A$1:$A$5000,$B4,Data!$C$1:$C$5000,1,Data!$I$1:$I$5000,1)","v":695},{"$f":"SUMIFS(Data!Y$1:Y$1000,Data!$A$1:$A$1000,$B4,Data!$C$1:$C$1000,1,Data!$I$1:$I$1000,1)","v":600},{"$f":"SUMIFS(Data!Z$1:Z$1000,Data!$A$1:$A$1000,$B4,Data!$C$1:$C$1000,1,Data!$I$1:$I$1000,1)","v":590},{"$f":"SUMIFS(Data!AA$1:AA$1000,Data!$A$1:$A$1000,$B4,Data!$C$1:$C$1000,1,Data!$I$1:$I$1000,1)","v":502},{"$f":"SUMIFS(Data!AB$1:AB$1000,Data!$A$1:$A$1000,$B4,Data!$C$1:$C$1000,1,Data!$I$1:$I$1000,1)","v":577},{"$f":"SUMIFS(Data!AC$1:AC$1000,Data!$A$1:$A$1000,$B4,Data!$C$1:$C$1000,1,Data!$I$1:$I$1000,1)","v":525},{"$f":"SUMIFS(Data!AD$1:AD$2000,Data!$A$1:$A$2000,$B4,Data!$C$1:$C$2000,1,Data!$I$1:$I$2000,1)","v":0}]
[null,"2015/16 Q4","Total (without NE)",null,{"$f":"SUMIFS(Data!L$1:L$2000,Data!$A$1:$A$2000,$B5,Data!$C$1:$C$2000,1,Data!$I$1:$I$2000,1)","v":230445},{"$f":"SUMIFS(Data!M$1:M$1000,Data!$A$1:$A$1000,$B5,Data!$C$1:$C$1000,1,Data!$I$1:$I$1000,1)","v":695},{"$f":"SUMIFS(Data!N$1:N$1000,Data!$A$1:$A$1000,$B5,Data!$C$1:$C$1000,1,Data!$I$1:$I$1000,1)","v":566},{"$f":"SUMIFS(Data!O$1:O$1000,Data!$A$1:$A$1000,$B5,Data!$C$1:$C$1000,1,Data!$I$1:$I$1000,1)","v":604},{"$f":"SUMIFS(Data!P$1:P$1000,Data!$A$1:$A$1000,$B5,Data!$C$1:$C$1000,1,Data!$I$1:$I$1000,1)","v":574},{"$f":"SUMIFS(Data!Q$1:Q$1000,Data!$A$1:$A$1000,$B5,Data!$C$1:$C$1000,1,Data!$I$1:$I$1000,1)","v":551},{"$f":"SUMIFS(Data!R$1:R$1000,Data!$A$1:$A$1000,$B5,Data!$C$1:$C$1000,1,Data!$I$1:$I$1000,1)","v":512},{"$f":"SUMIFS(Data!S$1:S$1000,Data!$A$1:$A$1000,$B5,Data!$C$1:$C$1000,1,Data!$I$1:$I$1000,1)","v":662},{"$f":"SUMIFS(Data!T$1:T$1000,Data!$A$1:$A$1000,$B5,Data!$C$1:$C$1000,1,Data!$I$1:$I$1000,1)","v":542},{"$f":"SUMIFS(Data!U$1:U$1000,Data!$A$1:$A$1000,$B5,Data!$C$1:$C$1000,1,Data!$I$1:$I$1000,1)","v":486},{"$f":"SUMIFS(Data!V$1:V$1000,Data!$A$1:$A$1000,$B5,Data!$C$1:$C$1000,1,Data!$I$1:$I$1000,1)","v":495},{"$f":"SUMIFS(Data!W$1:W$1000,Data!$A$1:$A$1000,$B5,Data!$C$1:$C$1000,1,Data!$I$1:$I$1000,1)","v":504},{"$f":"SUMIFS(Data!X$1:X$5000,Data!$A$1:$A$5000,$B5,Data!$C$1:$C$5000,1,Data!$I$1:$I$5000,1)","v":659},{"$f":"SUMIFS(Data!Y$1:Y$1000,Data!$A$1:$A$1000,$B5,Data!$C$1:$C$1000,1,Data!$I$1:$I$1000,1)","v":575},{"$f":"SUMIFS(Data!Z$1:Z$1000,Data!$A$1:$A$1000,$B5,Data!$C$1:$C$1000,1,Data!$I$1:$I$1000,1)","v":560},{"$f":"SUMIFS(Data!AA$1:AA$1000,Data!$A$1:$A$1000,$B5,Data!$C$1:$C$1000,1,Data!$I$1:$I$1000,1)","v":479},{"$f":"SUMIFS(Data!AB$1:AB$1000,Data!$A$1:$A$1000,$B5,Data!$C$1:$C$1000,1,Data!$I$1:$I$1000,1)","v":512},{"$f":"SUMIFS(Data!AC$1:AC$1000,Data!$A$1:$A$1000,$B5,Data!$C$1:$C$1000,1,Data!$I$1:$I$1000,1)","v":542},{"$f":"SUMIFS(Data!AD$1:AD$2000,Data!$A$1:$A$2000,$B5,Data!$C$1:$C$2000,1,Data!$I$1:$I$2000,1)","v":0}]
[null,"2016/17 Q1","Total (without NE)",null,{"$f":"SUMIFS(Data!L$1:L$2000,Data!$A$1:$A$2000,$B6,Data!$C$1:$C$2000,1,Data!$I$1:$I$2000,1)","v":231971},{"$f":"SUMIFS(Data!M$1:M$1000,Data!$A$1:$A$1000,$B6,Data!$C$1:$C$1000,1,Data!$I$1:$I$1000,1)","v":717},{"$f":"SUMIFS(Data!N$1:N$1000,Data!$A$1:$A$1000,$B6,Data!$C$1:$C$1000,1,Data!$I$1:$I$1000,1)","v":583},{"$f":"SUMIFS(Data!O$1:O$1000,Data!$A$1:$A$1000,$B6,Data!$C$1:$C$1000,1,Data!$I$1:$I$1000,1)","v":616},{"$f":"SUMIFS(Data!P$1:P$1000,Data!$A$1:$A$1000,$B6,Data!$C$1:$C$1000,1,Data!$I$1:$I$1000,1)","v":590},{"$f":"SUMIFS(Data!Q$1:Q$1000,Data!$A$1:$A$1000,$B6,Data!$C$1:$C$1000,1,Data!$I$1:$I$1000,1)","v":577},{"$f":"SUMIFS(Data!R$1:R$1000,Data!$A$1:$A$1000,$B6,Data!$C$1:$C$1000,1,Data!$I$1:$I$1000,1)","v":539},{"$f":"SUMIFS(Data!S$1:S$1000,Data!$A$1:$A$1000,$B6,Data!$C$1:$C$1000,1,Data!$I$1:$I$1000,1)","v":739},{"$f":"SUMIFS(Data!T$1:T$1000,Data!$A$1:$A$1000,$B6,Data!$C$1:$C$1000,1,Data!$I$1:$I$1000,1)","v":650},{"$f":"SUMIFS(Data!U$1:U$1000,Data!$A$1:$A$1000,$B6,Data!$C$1:$C$1000,1,Data!$I$1:$I$1000,1)","v":587},{"$f":"SUMIFS(Data!V$1:V$1000,Data!$A$1:$A$1000,$B6,Data!$C$1:$C$1000,1,Data!$I$1:$I$1000,1)","v":588},{"$f":"SUMIFS(Data!W$1:W$1000,Data!$A$1:$A$1000,$B6,Data!$C$1:$C$1000,1,Data!$I$1:$I$1000,1)","v":587},{"$f":"SUMIFS(Data!X$1:X$5000,Data!$A$1:$A$5000,$B6,Data!$C$1:$C$5000,1,Data!$I$1:$I$5000,1)","v":595},{"$f":"SUMIFS(Data!Y$1:Y$1000,Data!$A$1:$A$1000,$B6,Data!$C$1:$C$1000,1,Data!$I$1:$I$1000,1)","v":532},{"$f":"SUMIFS(Data!Z$1:Z$1000,Data!$A$1:$A$1000,$B6,Data!$C$1:$C$1000,1,Data!$I$1:$I$1000,1)","v":513},{"$f":"SUMIFS(Data!AA$1:AA$1000,Data!$A$1:$A$1000,$B6,Data!$C$1:$C$1000,1,Data!$I$1:$I$1000,1)","v":429},{"$f":"SUMIFS(Data!AB$1:AB$1000,Data!$A$1:$A$1000,$B6,Data!$C$1:$C$1000,1,Data!$I$1:$I$1000,1)","v":497},{"$f":"SUMIFS(Data!AC$1:AC$1000,Data!$A$1:$A$1000,$B6,Data!$C$1:$C$1000,1,Data!$I$1:$I$1000,1)","v":432},{"$f":"SUMIFS(Data!AD$1:AD$2000,Data!$A$1:$A$2000,$B6,Data!$C$1:$C$2000,1,Data!$I$1:$I$2000,1)","v":0}]
[null,"2016/17 Q2","Total (without NE)",null,{"$f":"SUMIFS(Data!L$1:L$2000,Data!$A$1:$A$2000,$B7,Data!$C$1:$C$2000,1,Data!$I$1:$I$2000,1)","v":233793},{"$f":"SUMIFS(Data!M$1:M$1000,Data!$A$1:$A$1000,$B7,Data!$C$1:$C$1000,1,Data!$I$1:$I$1000,1)","v":758},{"$f":"SUMIFS(Data!N$1:N$1000,Data!$A$1:$A$1000,$B7,Data!$C$1:$C$1000,1,Data!$I$1:$I$1000,1)","v":658},{"$f":"SUMIFS(Data!O$1:O$1000,Data!$A$1:$A$1000,$B7,Data!$C$1:$C$1000,1,Data!$I$1:$I$1000,1)","v":671},{"$f":"SUMIFS(Data!P$1:P$1000,Data!$A$1:$A$1000,$B7,Data!$C$1:$C$1000,1,Data!$I$1:$I$1000,1)","v":658},{"$f":"SUMIFS(Data!Q$1:Q$1000,Data!$A$1:$A$1000,$B7,Data!$C$1:$C$1000,1,Data!$I$1:$I$1000,1)","v":619},{"$f":"SUMIFS(Data!R$1:R$1000,Data!$A$1:$A$1000,$B7,Data!$C$1:$C$1000,1,Data!$I$1:$I$1000,1)","v":579},{"$f":"SUMIFS(Data!S$1:S$1000,Data!$A$1:$A$1000,$B7,Data!$C$1:$C$1000,1,Data!$I$1:$I$1000,1)","v":717},{"$f":"SUMIFS(Data!T$1:T$1000,Data!$A$1:$A$1000,$B7,Data!$C$1:$C$1000,1,Data!$I$1:$I$1000,1)","v":614},{"$f":"SUMIFS(Data!U$1:U$1000,Data!$A$1:$A$1000,$B7,Data!$C$1:$C$1000,1,Data!$I$1:$I$1000,1)","v":556},{"$f":"SUMIFS(Data!V$1:V$1000,Data!$A$1:$A$1000,$B7,Data!$C$1:$C$1000,1,Data!$I$1:$I$1000,1)","v":555},{"$f":"SUMIFS(Data!W$1:W$1000,Data!$A$1:$A$1000,$B7,Data!$C$1:$C$1000,1,Data!$I$1:$I$1000,1)","v":559},{"$f":"SUMIFS(Data!X$1:X$5000,Data!$A$1:$A$5000,$B7,Data!$C$1:$C$5000,1,Data!$I$1:$I$5000,1)","v":646},{"$f":"SUMIFS(Data!Y$1:Y$1000,Data!$A$1:$A$1000,$B7,Data!$C$1:$C$1000,1,Data!$I$1:$I$1000,1)","v":576},{"$f":"SUMIFS(Data!Z$1:Z$1000,Data!$A$1:$A$1000,$B7,Data!$C$1:$C$1000,1,Data!$I$1:$I$1000,1)","v":564},{"$f":"SUMIFS(Data!AA$1:AA$1000,Data!$A$1:$A$1000,$B7,Data!$C$1:$C$1000,1,Data!$I$1:$I$1000,1)","v":462},{"$f":"SUMIFS(Data!AB$1:AB$1000,Data!$A$1:$A$1000,$B7,Data!$C$1:$C$1000,1,Data!$I$1:$I$1000,1)","v":537},{"$f":"SUMIFS(Data!AC$1:AC$1000,Data!$A$1:$A$1000,$B7,Data!$C$1:$C$1000,1,Data!$I$1:$I$1000,1)","v":470},{"$f":"SUMIFS(Data!AD$1:AD$2000,Data!$A$1:$A$2000,$B7,Data!$C$1:$C$2000,1,Data!$I$1:$I$2000,1)","v":0}]
[null,"2016/17 Q3","Total (without NE)",null,{"$f":"SUMIFS(Data!L$1:L$2000,Data!$A$1:$A$2000,$B8,Data!$C$1:$C$2000,1,Data!$I$1:$I$2000,1)","v":235493},{"$f":"SUMIFS(Data!M$1:M$1000,Data!$A$1:$A$1000,$B8,Data!$C$1:$C$1000,1,Data!$I$1:$I$1000,1)","v":777},{"$f":"SUMIFS(Data!N$1:N$1000,Data!$A$1:$A$1000,$B8,Data!$C$1:$C$1000,1,Data!$I$1:$I$1000,1)","v":697},{"$f":"SUMIFS(Data!O$1:O$1000,Data!$A$1:$A$1000,$B8,Data!$C$1:$C$1000,1,Data!$I$1:$I$1000,1)","v":676},{"$f":"SUMIFS(Data!P$1:P$1000,Data!$A$1:$A$1000,$B8,Data!$C$1:$C$1000,1,Data!$I$1:$I$1000,1)","v":701},{"$f":"SUMIFS(Data!Q$1:Q$1000,Data!$A$1:$A$1000,$B8,Data!$C$1:$C$1000,1,Data!$I$1:$I$1000,1)","v":661},{"$f":"SUMIFS(Data!R$1:R$1000,Data!$A$1:$A$1000,$B8,Data!$C$1:$C$1000,1,Data!$I$1:$I$1000,1)","v":620},{"$f":"SUMIFS(Data!S$1:S$1000,Data!$A$1:$A$1000,$B8,Data!$C$1:$C$1000,1,Data!$I$1:$I$1000,1)","v":659},{"$f":"SUMIFS(Data!T$1:T$1000,Data!$A$1:$A$1000,$B8,Data!$C$1:$C$1000,1,Data!$I$1:$I$1000,1)","v":584},{"$f":"SUMIFS(Data!U$1:U$1000,Data!$A$1:$A$1000,$B8,Data!$C$1:$C$1000,1,Data!$I$1:$I$1000,1)","v":551},{"$f":"SUMIFS(Data!V$1:V$1000,Data!$A$1:$A$1000,$B8,Data!$C$1:$C$1000,1,Data!$I$1:$I$1000,1)","v":552},{"$f":"SUMIFS(Data!W$1:W$1000,Data!$A$1:$A$1000,$B8,Data!$C$1:$C$1000,1,Data!$I$1:$I$1000,1)","v":546},{"$f":"SUMIFS(Data!X$1:X$5000,Data!$A$1:$A$5000,$B8,Data!$C$1:$C$5000,1,Data!$I$1:$I$5000,1)","v":627},{"$f":"SUMIFS(Data!Y$1:Y$1000,Data!$A$1:$A$1000,$B8,Data!$C$1:$C$1000,1,Data!$I$1:$I$1000,1)","v":564},{"$f":"SUMIFS(Data!Z$1:Z$1000,Data!$A$1:$A$1000,$B8,Data!$C$1:$C$1000,1,Data!$I$1:$I$1000,1)","v":546},{"$f":"SUMIFS(Data!AA$1:AA$1000,Data!$A$1:$A$1000,$B8,Data!$C$1:$C$1000,1,Data!$I$1:$I$1000,1)","v":473},{"$f":"SUMIFS(Data!AB$1:AB$1000,Data!$A$1:$A$1000,$B8,Data!$C$1:$C$1000,1,Data!$I$1:$I$1000,1)","v":531},{"$f":"SUMIFS(Data!AC$1:AC$1000,Data!$A$1:$A$1000,$B8,Data!$C$1:$C$1000,1,Data!$I$1:$I$1000,1)","v":489},{"$f":"SUMIFS(Data!AD$1:AD$2000,Data!$A$1:$A$2000,$B8,Data!$C$1:$C$2000,1,Data!$I$1:$I$2000,1)","v":0}]
[null,"2016/17 Q4","Total (without NE)",null,{"$f":"SUMIFS(Data!L$1:L$2000,Data!$A$1:$A$2000,$B9,Data!$C$1:$C$2000,1,Data!$I$1:$I$2000,1)","v":243357},{"$f":"SUMIFS(Data!M$1:M$1000,Data!$A$1:$A$1000,$B9,Data!$C$1:$C$1000,1,Data!$I$1:$I$1000,1)","v":711},{"$f":"SUMIFS(Data!N$1:N$1000,Data!$A$1:$A$1000,$B9,Data!$C$1:$C$1000,1,Data!$I$1:$I$1000,1)","v":628},{"$f":"SUMIFS(Data!O$1:O$1000,Data!$A$1:$A$1000,$B9,Data!$C$1:$C$1000,1,Data!$I$1:$I$1000,1)","v":629},{"$f":"SUMIFS(Data!P$1:P$1000,Data!$A$1:$A$1000,$B9,Data!$C$1:$C$1000,1,Data!$I$1:$I$1000,1)","v":645},{"$f":"SUMIFS(Data!Q$1:Q$1000,Data!$A$1:$A$1000,$B9,Data!$C$1:$C$1000,1,Data!$I$1:$I$1000,1)","v":613},{"$f":"SUMIFS(Data!R$1:R$1000,Data!$A$1:$A$1000,$B9,Data!$C$1:$C$1000,1,Data!$I$1:$I$1000,1)","v":139},{"$f":"SUMIFS(Data!S$1:S$1000,Data!$A$1:$A$1000,$B9,Data!$C$1:$C$1000,1,Data!$I$1:$I$1000,1)","v":671},{"$f":"SUMIFS(Data!T$1:T$1000,Data!$A$1:$A$1000,$B9,Data!$C$1:$C$1000,1,Data!$I$1:$I$1000,1)","v":608},{"$f":"SUMIFS(Data!U$1:U$1000,Data!$A$1:$A$1000,$B9,Data!$C$1:$C$1000,1,Data!$I$1:$I$1000,1)","v":546},{"$f":"SUMIFS(Data!V$1:V$1000,Data!$A$1:$A$1000,$B9,Data!$C$1:$C$1000,1,Data!$I$1:$I$1000,1)","v":545},{"$f":"SUMIFS(Data!W$1:W$1000,Data!$A$1:$A$1000,$B9,Data!$C$1:$C$1000,1,Data!$I$1:$I$1000,1)","v":554},{"$f":"SUMIFS(Data!X$1:X$5000,Data!$A$1:$A$5000,$B9,Data!$C$1:$C$5000,1,Data!$I$1:$I$5000,1)","v":654},{"$f":"SUMIFS(Data!Y$1:Y$1000,Data!$A$1:$A$1000,$B9,Data!$C$1:$C$1000,1,Data!$I$1:$I$1000,1)","v":571},{"$f":"SUMIFS(Data!Z$1:Z$1000,Data!$A$1:$A$1000,$B9,Data!$C$1:$C$1000,1,Data!$I$1:$I$1000,1)","v":546},{"$f":"SUMIFS(Data!AA$1:AA$1000,Data!$A$1:$A$1000,$B9,Data!$C$1:$C$1000,1,Data!$I$1:$I$1000,1)","v":454},{"$f":"SUMIFS(Data!AB$1:AB$1000,Data!$A$1:$A$1000,$B9,Data!$C$1:$C$1000,1,Data!$I$1:$I$1000,1)","v":542},{"$f":"SUMIFS(Data!AC$1:AC$1000,Data!$A$1:$A$1000,$B9,Data!$C$1:$C$1000,1,Data!$I$1:$I$1000,1)","v":467},{"$f":"SUMIFS(Data!AD$1:AD$2000,Data!$A$1:$A$2000,$B9,Data!$C$1:$C$2000,1,Data!$I$1:$I$2000,1)","v":0}]
[null,"2017/18 Q1","Total (without NE)",null,{"$f":"SUMIFS(Data!L$1:L$2000,Data!$A$1:$A$2000,$B10,Data!$C$1:$C$2000,1,Data!$I$1:$I$2000,1)","v":238900},{"$f":"SUMIFS(Data!M$1:M$1000,Data!$A$1:$A$1000,$B10,Data!$C$1:$C$1000,1,Data!$I$1:$I$1000,1)","v":745},{"$f":"SUMIFS(Data!N$1:N$1000,Data!$A$1:$A$1000,$B10,Data!$C$1:$C$1000,1,Data!$I$1:$I$1000,1)","v":646},{"$f":"SUMIFS(Data!O$1:O$1000,Data!$A$1:$A$1000,$B10,Data!$C$1:$C$1000,1,Data!$I$1:$I$1000,1)","v":633},{"$f":"SUMIFS(Data!P$1:P$1000,Data!$A$1:$A$1000,$B10,Data!$C$1:$C$1000,1,Data!$I$1:$I$1000,1)","v":648},{"$f":"SUMIFS(Data!Q$1:Q$1000,Data!$A$1:$A$1000,$B10,Data!$C$1:$C$1000,1,Data!$I$1:$I$1000,1)","v":632},{"$f":"SUMIFS(Data!R$1:R$1000,Data!$A$1:$A$1000,$B10,Data!$C$1:$C$1000,1,Data!$I$1:$I$1000,1)","v":438},{"$f":"SUMIFS(Data!S$1:S$1000,Data!$A$1:$A$1000,$B10,Data!$C$1:$C$1000,1,Data!$I$1:$I$1000,1)","v":698},{"$f":"SUMIFS(Data!T$1:T$1000,Data!$A$1:$A$1000,$B10,Data!$C$1:$C$1000,1,Data!$I$1:$I$1000,1)","v":601},{"$f":"SUMIFS(Data!U$1:U$1000,Data!$A$1:$A$1000,$B10,Data!$C$1:$C$1000,1,Data!$I$1:$I$1000,1)","v":566},{"$f":"SUMIFS(Data!V$1:V$1000,Data!$A$1:$A$1000,$B10,Data!$C$1:$C$1000,1,Data!$I$1:$I$1000,1)","v":557},{"$f":"SUMIFS(Data!W$1:W$1000,Data!$A$1:$A$1000,$B10,Data!$C$1:$C$1000,1,Data!$I$1:$I$1000,1)","v":556},{"$f":"SUMIFS(Data!X$1:X$5000,Data!$A$1:$A$5000,$B10,Data!$C$1:$C$5000,1,Data!$I$1:$I$5000,1)","v":676},{"$f":"SUMIFS(Data!Y$1:Y$1000,Data!$A$1:$A$1000,$B10,Data!$C$1:$C$1000,1,Data!$I$1:$I$1000,1)","v":612},{"$f":"SUMIFS(Data!Z$1:Z$1000,Data!$A$1:$A$1000,$B10,Data!$C$1:$C$1000,1,Data!$I$1:$I$1000,1)","v":597},{"$f":"SUMIFS(Data!AA$1:AA$1000,Data!$A$1:$A$1000,$B10,Data!$C$1:$C$1000,1,Data!$I$1:$I$1000,1)","v":495},{"$f":"SUMIFS(Data!AB$1:AB$1000,Data!$A$1:$A$1000,$B10,Data!$C$1:$C$1000,1,Data!$I$1:$I$1000,1)","v":575},{"$f":"SUMIFS(Data!AC$1:AC$1000,Data!$A$1:$A$1000,$B10,Data!$C$1:$C$1000,1,Data!$I$1:$I$1000,1)","v":511},{"$f":"SUMIFS(Data!AD$1:AD$2000,Data!$A$1:$A$2000,$B10,Data!$C$1:$C$2000,1,Data!$I$1:$I$2000,1)","v":0}]
[null,"2017/18 Q2","Total (without NE)",null,{"$f":"SUMIFS(Data!L$1:L$2000,Data!$A$1:$A$2000,$B11,Data!$C$1:$C$2000,1,Data!$I$1:$I$2000,1)","v":241156},{"$f":"SUMIFS(Data!M$1:M$1000,Data!$A$1:$A$1000,$B11,Data!$C$1:$C$1000,1,Data!$I$1:$I$1000,1)","v":763},{"$f":"SUMIFS(Data!N$1:N$1000,Data!$A$1:$A$1000,$B11,Data!$C$1:$C$1000,1,Data!$I$1:$I$1000,1)","v":667},{"$f":"SUMIFS(Data!O$1:O$1000,Data!$A$1:$A$1000,$B11,Data!$C$1:$C$1000,1,Data!$I$1:$I$1000,1)","v":656},{"$f":"SUMIFS(Data!P$1:P$1000,Data!$A$1:$A$1000,$B11,Data!$C$1:$C$1000,1,Data!$I$1:$I$1000,1)","v":667},{"$f":"SUMIFS(Data!Q$1:Q$1000,Data!$A$1:$A$1000,$B11,Data!$C$1:$C$1000,1,Data!$I$1:$I$1000,1)","v":648},{"$f":"SUMIFS(Data!R$1:R$1000,Data!$A$1:$A$1000,$B11,Data!$C$1:$C$1000,1,Data!$I$1:$I$1000,1)","v":142},{"$f":"SUMIFS(Data!S$1:S$1000,Data!$A$1:$A$1000,$B11,Data!$C$1:$C$1000,1,Data!$I$1:$I$1000,1)","v":736},{"$f":"SUMIFS(Data!T$1:T$1000,Data!$A$1:$A$1000,$B11,Data!$C$1:$C$1000,1,Data!$I$1:$I$1000,1)","v":650},{"$f":"SUMIFS(Data!U$1:U$1000,Data!$A$1:$A$1000,$B11,Data!$C$1:$C$1000,1,Data!$I$1:$I$1000,1)","v":589},{"$f":"SUMIFS(Data!V$1:V$1000,Data!$A$1:$A$1000,$B11,Data!$C$1:$C$1000,1,Data!$I$1:$I$1000,1)","v":589},{"$f":"SUMIFS(Data!W$1:W$1000,Data!$A$1:$A$1000,$B11,Data!$C$1:$C$1000,1,Data!$I$1:$I$1000,1)","v":597},{"$f":"SUMIFS(Data!X$1:X$5000,Data!$A$1:$A$5000,$B11,Data!$C$1:$C$5000,1,Data!$I$1:$I$5000,1)","v":673},{"$f":"SUMIFS(Data!Y$1:Y$1000,Data!$A$1:$A$1000,$B11,Data!$C$1:$C$1000,1,Data!$I$1:$I$1000,1)","v":601},{"$f":"SUMIFS(Data!Z$1:Z$1000,Data!$A$1:$A$1000,$B11,Data!$C$1:$C$1000,1,Data!$I$1:$I$1000,1)","v":587},{"$f":"SUMIFS(Data!AA$1:AA$1000,Data!$A$1:$A$1000,$B11,Data!$C$1:$C$1000,1,Data!$I$1:$I$1000,1)","v":524},{"$f":"SUMIFS(Data!AB$1:AB$1000,Data!$A$1:$A$1000,$B11,Data!$C$1:$C$1000,1,Data!$I$1:$I$1000,1)","v":578},{"$f":"SUMIFS(Data!AC$1:AC$1000,Data!$A$1:$A$1000,$B11,Data!$C$1:$C$1000,1,Data!$I$1:$I$1000,1)","v":545},{"$f":"SUMIFS(Data!AD$1:AD$2000,Data!$A$1:$A$2000,$B11,Data!$C$1:$C$2000,1,Data!$I$1:$I$2000,1)","v":0}]
[null,"2017/18 Q3","Total (without NE)",null,{"$f":"SUMIFS(Data!L$1:L$2000,Data!$A$1:$A$2000,$B12,Data!$C$1:$C$2000,1,Data!$I$1:$I$2000,1)","v":242212},{"$f":"SUMIFS(Data!M$1:M$1000,Data!$A$1:$A$1000,$B12,Data!$C$1:$C$1000,1,Data!$I$1:$I$1000,1)","v":714},{"$f":"SUMIFS(Data!N$1:N$1000,Data!$A$1:$A$1000,$B12,Data!$C$1:$C$1000,1,Data!$I$1:$I$1000,1)","v":618},{"$f":"SUMIFS(Data!O$1:O$1000,Data!$A$1:$A$1000,$B12,Data!$C$1:$C$1000,1,Data!$I$1:$I$1000,1)","v":613},{"$f":"SUMIFS(Data!P$1:P$1000,Data!$A$1:$A$1000,$B12,Data!$C$1:$C$1000,1,Data!$I$1:$I$1000,1)","v":627},{"$f":"SUMIFS(Data!Q$1:Q$1000,Data!$A$1:$A$1000,$B12,Data!$C$1:$C$1000,1,Data!$I$1:$I$1000,1)","v":602},{"$f":"SUMIFS(Data!R$1:R$1000,Data!$A$1:$A$1000,$B12,Data!$C$1:$C$1000,1,Data!$I$1:$I$1000,1)","v":123},{"$f":"SUMIFS(Data!S$1:S$1000,Data!$A$1:$A$1000,$B12,Data!$C$1:$C$1000,1,Data!$I$1:$I$1000,1)","v":763},{"$f":"SUMIFS(Data!T$1:T$1000,Data!$A$1:$A$1000,$B12,Data!$C$1:$C$1000,1,Data!$I$1:$I$1000,1)","v":684},{"$f":"SUMIFS(Data!U$1:U$1000,Data!$A$1:$A$1000,$B12,Data!$C$1:$C$1000,1,Data!$I$1:$I$1000,1)","v":613},{"$f":"SUMIFS(Data!V$1:V$1000,Data!$A$1:$A$1000,$B12,Data!$C$1:$C$1000,1,Data!$I$1:$I$1000,1)","v":609},{"$f":"SUMIFS(Data!W$1:W$1000,Data!$A$1:$A$1000,$B12,Data!$C$1:$C$1000,1,Data!$I$1:$I$1000,1)","v":616},{"$f":"SUMIFS(Data!X$1:X$5000,Data!$A$1:$A$5000,$B12,Data!$C$1:$C$5000,1,Data!$I$1:$I$5000,1)","v":674},{"$f":"SUMIFS(Data!Y$1:Y$1000,Data!$A$1:$A$1000,$B12,Data!$C$1:$C$1000,1,Data!$I$1:$I$1000,1)","v":599},{"$f":"SUMIFS(Data!Z$1:Z$1000,Data!$A$1:$A$1000,$B12,Data!$C$1:$C$1000,1,Data!$I$1:$I$1000,1)","v":570},{"$f":"SUMIFS(Data!AA$1:AA$1000,Data!$A$1:$A$1000,$B12,Data!$C$1:$C$1000,1,Data!$I$1:$I$1000,1)","v":495},{"$f":"SUMIFS(Data!AB$1:AB$1000,Data!$A$1:$A$1000,$B12,Data!$C$1:$C$1000,1,Data!$I$1:$I$1000,1)","v":559},{"$f":"SUMIFS(Data!AC$1:AC$1000,Data!$A$1:$A$1000,$B12,Data!$C$1:$C$1000,1,Data!$I$1:$I$1000,1)","v":508},{"$f":"SUMIFS(Data!AD$1:AD$2000,Data!$A$1:$A$2000,$B12,Data!$C$1:$C$2000,1,Data!$I$1:$I$2000,1)","v":0}]
[null,"2017/18 Q4","Total (without NE)",null,{"$f":"SUMIFS(Data!L$1:L$2000,Data!$A$1:$A$2000,$B13,Data!$C$1:$C$2000,1,Data!$I$1:$I$2000,1)","v":243357},{"$f":"SUMIFS(Data!M$1:M$1000,Data!$A$1:$A$1000,$B13,Data!$C$1:$C$1000,1,Data!$I$1:$I$1000,1)","v":711},{"$f":"SUMIFS(Data!N$1:N$1000,Data!$A$1:$A$1000,$B13,Data!$C$1:$C$1000,1,Data!$I$1:$I$1000,1)","v":628},{"$f":"SUMIFS(Data!O$1:O$1000,Data!$A$1:$A$1000,$B13,Data!$C$1:$C$1000,1,Data!$I$1:$I$1000,1)","v":629},{"$f":"SUMIFS(Data!P$1:P$1000,Data!$A$1:$A$1000,$B13,Data!$C$1:$C$1000,1,Data!$I$1:$I$1000,1)","v":645},{"$f":"SUMIFS(Data!Q$1:Q$1000,Data!$A$1:$A$1000,$B13,Data!$C$1:$C$1000,1,Data!$I$1:$I$1000,1)","v":613},{"$f":"SUMIFS(Data!R$1:R$1000,Data!$A$1:$A$1000,$B13,Data!$C$1:$C$1000,1,Data!$I$1:$I$1000,1)","v":139},{"$f":"SUMIFS(Data!S$1:S$1000,Data!$A$1:$A$1000,$B13,Data!$C$1:$C$1000,1,Data!$I$1:$I$1000,1)","v":671},{"$f":"SUMIFS(Data!T$1:T$1000,Data!$A$1:$A$1000,$B13,Data!$C$1:$C$1000,1,Data!$I$1:$I$1000,1)","v":608},{"$f":"SUMIFS(Data!U$1:U$1000,Data!$A$1:$A$1000,$B13,Data!$C$1:$C$1000,1,Data!$I$1:$I$1000,1)","v":546},{"$f":"SUMIFS(Data!V$1:V$1000,Data!$A$1:$A$1000,$B13,Data!$C$1:$C$1000,1,Data!$I$1:$I$1000,1)","v":545},{"$f":"SUMIFS(Data!W$1:W$1000,Data!$A$1:$A$1000,$B13,Data!$C$1:$C$1000,1,Data!$I$1:$I$1000,1)","v":554},{"$f":"SUMIFS(Data!X$1:X$5000,Data!$A$1:$A$5000,$B13,Data!$C$1:$C$5000,1,Data!$I$1:$I$5000,1)","v":654},{"$f":"SUMIFS(Data!Y$1:Y$1000,Data!$A$1:$A$1000,$B13,Data!$C$1:$C$1000,1,Data!$I$1:$I$1000,1)","v":571},{"$f":"SUMIFS(Data!Z$1:Z$1000,Data!$A$1:$A$1000,$B13,Data!$C$1:$C$1000,1,Data!$I$1:$I$1000,1)","v":546},{"$f":"SUMIFS(Data!AA$1:AA$1000,Data!$A$1:$A$1000,$B13,Data!$C$1:$C$1000,1,Data!$I$1:$I$1000,1)","v":454},{"$f":"SUMIFS(Data!AB$1:AB$1000,Data!$A$1:$A$1000,$B13,Data!$C$1:$C$1000,1,Data!$I$1:$I$1000,1)","v":542},{"$f":"SUMIFS(Data!AC$1:AC$1000,Data!$A$1:$A$1000,$B13,Data!$C$1:$C$1000,1,Data!$I$1:$I$1000,1)","v":467},{"$f":"SUMIFS(Data!AD$1:AD$2000,Data!$A$1:$A$2000,$B13,Data!$C$1:$C$2000,1,Data!$I$1:$I$2000,1)","v":0}]
[null,"2018-06-01","Total (without NE)",null,{"$f":"SUMIFS(Data!L$1:L$2000,Data!$A$1:$A$2000,$B14,Data!$C$1:$C$2000,1,Data!$I$1:$I$2000,1)","v":244588},{"$f":"SUMIFS(Data!M$1:M$1000,Data!$A$1:$A$1000,$B14,Data!$C$1:$C$1000,1,Data!$I$1:$I$1000,1)","v":700},{"$f":"SUMIFS(Data!N$1:N$1000,Data!$A$1:$A$1000,$B14,Data!$C$1:$C$1000,1,Data!$I$1:$I$1000,1)","v":608},{"$f":"SUMIFS(Data!O$1:O$1000,Data!$A$1:$A$1000,$B14,Data!$C$1:$C$1000,1,Data!$I$1:$I$1000,1)","v":596},{"$f":"SUMIFS(Data!P$1:P$1000,Data!$A$1:$A$1000,$B14,Data!$C$1:$C$1000,1,Data!$I$1:$I$1000,1)","v":618},{"$f":"SUMIFS(Data!Q$1:Q$1000,Data!$A$1:$A$1000,$B14,Data!$C$1:$C$1000,1,Data!$I$1:$I$1000,1)","v":584},{"$f":"SUMIFS(Data!R$1:R$1000,Data!$A$1:$A$1000,$B14,Data!$C$1:$C$1000,1,Data!$I$1:$I$1000,1)","v":142},{"$f":"SUMIFS(Data!S$1:S$1000,Data!$A$1:$A$1000,$B14,Data!$C$1:$C$1000,1,Data!$I$1:$I$1000,1)","v":709},{"$f":"SUMIFS(Data!T$1:T$1000,Data!$A$1:$A$1000,$B14,Data!$C$1:$C$1000,1,Data!$I$1:$I$1000,1)","v":630},{"$f":"SUMIFS(Data!U$1:U$1000,Data!$A$1:$A$1000,$B14,Data!$C$1:$C$1000,1,Data!$I$1:$I$1000,1)","v":570},{"$f":"SUMIFS(Data!V$1:V$1000,Data!$A$1:$A$1000,$B14,Data!$C$1:$C$1000,1,Data!$I$1:$I$1000,1)","v":573},{"$f":"SUMIFS(Data!W$1:W$1000,Data!$A$1:$A$1000,$B14,Data!$C$1:$C$1000,1,Data!$I$1:$I$1000,1)","v":571},{"$f":"SUMIFS(Data!X$1:X$5000,Data!$A$1:$A$5000,$B14,Data!$C$1:$C$5000,1,Data!$I$1:$I$5000,1)","v":648},{"$f":"SUMIFS(Data!Y$1:Y$1000,Data!$A$1:$A$1000,$B14,Data!$C$1:$C$1000,1,Data!$I$1:$I$1000,1)","v":575},{"$f":"SUMIFS(Data!Z$1:Z$1000,Data!$A$1:$A$1000,$B14,Data!$C$1:$C$1000,1,Data!$I$1:$I$1000,1)","v":544},{"$f":"SUMIFS(Data!AA$1:AA$1000,Data!$A$1:$A$1000,$B14,Data!$C$1:$C$1000,1,Data!$I$1:$I$1000,1)","v":430},{"$f":"SUMIFS(Data!AB$1:AB$1000,Data!$A$1:$A$1000,$B14,Data!$C$1:$C$1000,1,Data!$I$1:$I$1000,1)","v":542},{"$f":"SUMIFS(Data!AC$1:AC$1000,Data!$A$1:$A$1000,$B14,Data!$C$1:$C$1000,1,Data!$I$1:$I$1000,1)","v":447},{"$f":"SUMIFS(Data!AD$1:AD$2000,Data!$A$1:$A$2000,$B14,Data!$C$1:$C$2000,1,Data!$I$1:$I$2000,1)","v":571}]
[null,"2018-09-01","Total (without NE)",null,{"$f":"SUMIFS(Data!L$1:L$2000,Data!$A$1:$A$2000,$B15,Data!$C$1:$C$2000,1,Data!$I$1:$I$2000,1)","v":246505},{"$f":"SUMIFS(Data!M$1:M$1000,Data!$A$1:$A$1000,$B15,Data!$C$1:$C$1000,1,Data!$I$1:$I$1000,1)","v":695},{"$f":"SUMIFS(Data!N$1:N$1000,Data!$A$1:$A$1000,$B15,Data!$C$1:$C$1000,1,Data!$I$1:$I$1000,1)","v":595},{"$f":"SUMIFS(Data!O$1:O$1000,Data!$A$1:$A$1000,$B15,Data!$C$1:$C$1000,1,Data!$I$1:$I$1000,1)","v":600},{"$f":"SUMIFS(Data!P$1:P$1000,Data!$A$1:$A$1000,$B15,Data!$C$1:$C$1000,1,Data!$I$1:$I$1000,1)","v":606},{"$f":"SUMIFS(Data!Q$1:Q$1000,Data!$A$1:$A$1000,$B15,Data!$C$1:$C$1000,1,Data!$I$1:$I$1000,1)","v":586},{"$f":"SUMIFS(Data!R$1:R$1000,Data!$A$1:$A$1000,$B15,Data!$C$1:$C$1000,1,Data!$I$1:$I$1000,1)","v":153},{"$f":"SUMIFS(Data!S$1:S$1000,Data!$A$1:$A$1000,$B15,Data!$C$1:$C$1000,1,Data!$I$1:$I$1000,1)","v":723},{"$f":"SUMIFS(Data!T$1:T$1000,Data!$A$1:$A$1000,$B15,Data!$C$1:$C$1000,1,Data!$I$1:$I$1000,1)","v":651},{"$f":"SUMIFS(Data!U$1:U$1000,Data!$A$1:$A$1000,$B15,Data!$C$1:$C$1000,1,Data!$I$1:$I$1000,1)","v":589},{"$f":"SUMIFS(Data!V$1:V$1000,Data!$A$1:$A$1000,$B15,Data!$C$1:$C$1000,1,Data!$I$1:$I$1000,1)","v":584},{"$f":"SUMIFS(Data!W$1:W$1000,Data!$A$1:$A$1000,$B15,Data!$C$1:$C$1000,1,Data!$I$1:$I$1000,1)","v":584},{"$f":"SUMIFS(Data!X$1:X$5000,Data!$A$1:$A$5000,$B15,Data!$C$1:$C$5000,1,Data!$I$1:$I$5000,1)","v":627},{"$f":"SUMIFS(Data!Y$1:Y$1000,Data!$A$1:$A$1000,$B15,Data!$C$1:$C$1000,1,Data!$I$1:$I$1000,1)","v":541},{"$f":"SUMIFS(Data!Z$1:Z$1000,Data!$A$1:$A$1000,$B15,Data!$C$1:$C$1000,1,Data!$I$1:$I$1000,1)","v":534},{"$f":"SUMIFS(Data!AA$1:AA$1000,Data!$A$1:$A$1000,$B15,Data!$C$1:$C$1000,1,Data!$I$1:$I$1000,1)","v":441},{"$f":"SUMIFS(Data!AB$1:AB$1000,Data!$A$1:$A$1000,$B15,Data!$C$1:$C$1000,1,Data!$I$1:$I$1000,1)","v":521},{"$f":"SUMIFS(Data!AC$1:AC$1000,Data!$A$1:$A$1000,$B15,Data!$C$1:$C$1000,1,Data!$I$1:$I$1000,1)","v":455},{"$f":"SUMIFS(Data!AD$1:AD$2000,Data!$A$1:$A$2000,$B15,Data!$C$1:$C$2000,1,Data!$I$1:$I$2000,1)","v":585}]
[null,"2018-12-01","Total (without NE)",null,{"$f":"SUMIFS(Data!L$1:L$2000,Data!$A$1:$A$2000,$B16,Data!$C$1:$C$2000,1,Data!$I$1:$I$2000,1)","v":247393},{"$f":"SUMIFS(Data!M$1:M$2000,Data!$A$1:$A$2000,$B16,Data!$C$1:$C$2000,1,Data!$I$1:$I$2000,1)","v":685},{"$f":"SUMIFS(Data!N$1:N$2000,Data!$A$1:$A$2000,$B16,Data!$C$1:$C$2000,1,Data!$I$1:$I$2000,1)","v":586},{"$f":"SUMIFS(Data!O$1:O$2000,Data!$A$1:$A$2000,$B16,Data!$C$1:$C$2000,1,Data!$I$1:$I$2000,1)","v":584},{"$f":"SUMIFS(Data!P$1:P$2000,Data!$A$1:$A$2000,$B16,Data!$C$1:$C$2000,1,Data!$I$1:$I$2000,1)","v":596},{"$f":"SUMIFS(Data!Q$1:Q$2000,Data!$A$1:$A$2000,$B16,Data!$C$1:$C$2000,1,Data!$I$1:$I$2000,1)","v":574},{"$f":"SUMIFS(Data!R$1:R$2000,Data!$A$1:$A$2000,$B16,Data!$C$1:$C$2000,1,Data!$I$1:$I$2000,1)","v":167},{"$f":"SUMIFS(Data!S$1:S$2000,Data!$A$1:$A$2000,$B16,Data!$C$1:$C$2000,1,Data!$I$1:$I$2000,1)","v":681},{"$f":"SUMIFS(Data!T$1:T$2000,Data!$A$1:$A$2000,$B16,Data!$C$1:$C$2000,1,Data!$I$1:$I$2000,1)","v":614},{"$f":"SUMIFS(Data!U$1:U$2000,Data!$A$1:$A$2000,$B16,Data!$C$1:$C$2000,1,Data!$I$1:$I$2000,1)","v":555},{"$f":"SUMIFS(Data!V$1:V$2000,Data!$A$1:$A$2000,$B16,Data!$C$1:$C$2000,1,Data!$I$1:$I$2000,1)","v":556},{"$f":"SUMIFS(Data!W$1:W$2000,Data!$A$1:$A$2000,$B16,Data!$C$1:$C$2000,1,Data!$I$1:$I$2000,1)","v":553},{"$f":"SUMIFS(Data!X$1:X$5000,Data!$A$1:$A$5000,$B16,Data!$C$1:$C$5000,1,Data!$I$1:$I$5000,1)","v":627},{"$f":"SUMIFS(Data!Y$1:Y$2000,Data!$A$1:$A$2000,$B16,Data!$C$1:$C$2000,1,Data!$I$1:$I$2000,1)","v":556},{"$f":"SUMIFS(Data!Z$1:Z$2000,Data!$A$1:$A$2000,$B16,Data!$C$1:$C$2000,1,Data!$I$1:$I$2000,1)","v":535},{"$f":"SUMIFS(Data!AA$1:AA$2000,Data!$A$1:$A$2000,$B16,Data!$C$1:$C$2000,1,Data!$I$1:$I$2000,1)","v":441},{"$f":"SUMIFS(Data!AB$1:AB$2000,Data!$A$1:$A$2000,$B16,Data!$C$1:$C$2000,1,Data!$I$1:$I$2000,1)","v":524},{"$f":"SUMIFS(Data!AC$1:AC$2000,Data!$A$1:$A$2000,$B16,Data!$C$1:$C$2000,1,Data!$I$1:$I$2000,1)","v":453},{"$f":"SUMIFS(Data!AD$1:AD$2000,Data!$A$1:$A$2000,$B16,Data!$C$1:$C$2000,1,Data!$I$1:$I$2000,1)","v":547}]
[null,"2019-03-01","Total (without NE)",null,{"$f":"SUMIFS(Data!L$1:L$2000,Data!$A$1:$A$2000,$B17,Data!$C$1:$C$2000,1,Data!$I$1:$I$2000,1)","v":247851},{"$f":"SUMIFS(Data!M$1:M$2000,Data!$A$1:$A$2000,$B17,Data!$C$1:$C$2000,1,Data!$I$1:$I$2000,1)","v":675},{"$f":"SUMIFS(Data!N$1:N$2000,Data!$A$1:$A$2000,$B17,Data!$C$1:$C$2000,1,Data!$I$1:$I$2000,1)","v":582},{"$f":"SUMIFS(Data!O$1:O$2000,Data!$A$1:$A$2000,$B17,Data!$C$1:$C$2000,1,Data!$I$1:$I$2000,1)","v":581},{"$f":"SUMIFS(Data!P$1:P$2000,Data!$A$1:$A$2000,$B17,Data!$C$1:$C$2000,1,Data!$I$1:$I$2000,1)","v":589},{"$f":"SUMIFS(Data!Q$1:Q$2000,Data!$A$1:$A$2000,$B17,Data!$C$1:$C$2000,1,Data!$I$1:$I$2000,1)","v":579},{"$f":"SUMIFS(Data!R$1:R$2000,Data!$A$1:$A$2000,$B17,Data!$C$1:$C$2000,1,Data!$I$1:$I$2000,1)","v":175},{"$f":"SUMIFS(Data!S$1:S$2000,Data!$A$1:$A$2000,$B17,Data!$C$1:$C$2000,1,Data!$I$1:$I$2000,1)","v":670},{"$f":"SUMIFS(Data!T$1:T$2000,Data!$A$1:$A$2000,$B17,Data!$C$1:$C$2000,1,Data!$I$1:$I$2000,1)","v":630},{"$f":"SUMIFS(Data!U$1:U$2000,Data!$A$1:$A$2000,$B17,Data!$C$1:$C$2000,1,Data!$I$1:$I$2000,1)","v":553},{"$f":"SUMIFS(Data!V$1:V$2000,Data!$A$1:$A$2000,$B17,Data!$C$1:$C$2000,1,Data!$I$1:$I$2000,1)","v":552},{"$f":"SUMIFS(Data!W$1:W$2000,Data!$A$1:$A$2000,$B17,Data!$C$1:$C$2000,1,Data!$I$1:$I$2000,1)","v":551},{"$f":"SUMIFS(Data!X$1:X$5000,Data!$A$1:$A$5000,$B17,Data!$C$1:$C$5000,1,Data!$I$1:$I$5000,1)","v":618},{"$f":"SUMIFS(Data!Y$1:Y$2000,Data!$A$1:$A$2000,$B17,Data!$C$1:$C$2000,1,Data!$I$1:$I$2000,1)","v":538},{"$f":"SUMIFS(Data!Z$1:Z$2000,Data!$A$1:$A$2000,$B17,Data!$C$1:$C$2000,1,Data!$I$1:$I$2000,1)","v":515},{"$f":"SUMIFS(Data!AA$1:AA$2000,Data!$A$1:$A$2000,$B17,Data!$C$1:$C$2000,1,Data!$I$1:$I$2000,1)","v":420},{"$f":"SUMIFS(Data!AB$1:AB$2000,Data!$A$1:$A$2000,$B17,Data!$C$1:$C$2000,1,Data!$I$1:$I$2000,1)","v":506},{"$f":"SUMIFS(Data!AC$1:AC$2000,Data!$A$1:$A$2000,$B17,Data!$C$1:$C$2000,1,Data!$I$1:$I$2000,1)","v":437},{"$f":"SUMIFS(Data!AD$1:AD$2000,Data!$A$1:$A$2000,$B17,Data!$C$1:$C$2000,1,Data!$I$1:$I$2000,1)","v":559}]
[null,"2019-06-01","Total (without NE)",null,{"$f":"SUMIFS(Data!L$1:L$2000,Data!$A$1:$A$2000,$B18,Data!$C$1:$C$2000,1,Data!$I$1:$I$2000,1)","v":248502},{"$f":"SUMIFS(Data!M$1:M$2000,Data!$A$1:$A$2000,$B18,Data!$C$1:$C$2000,1,Data!$I$1:$I$2000,1)","v":710},{"$f":"SUMIFS(Data!N$1:N$2000,Data!$A$1:$A$2000,$B18,Data!$C$1:$C$2000,1,Data!$I$1:$I$2000,1)","v":620},{"$f":"SUMIFS(Data!O$1:O$2000,Data!$A$1:$A$2000,$B18,Data!$C$1:$C$2000,1,Data!$I$1:$I$2000,1)","v":613},{"$f":"SUMIFS(Data!P$1:P$2000,Data!$A$1:$A$2000,$B18,Data!$C$1:$C$2000,1,Data!$I$1:$I$2000,1)","v":623},{"$f":"SUMIFS(Data!Q$1:Q$2000,Data!$A$1:$A$2000,$B18,Data!$C$1:$C$2000,1,Data!$I$1:$I$2000,1)","v":604},{"$f":"SUMIFS(Data!R$1:R$2000,Data!$A$1:$A$2000,$B18,Data!$C$1:$C$2000,1,Data!$I$1:$I$2000,1)","v":156},{"$f":"SUMIFS(Data!S$1:S$2000,Data!$A$1:$A$2000,$B18,Data!$C$1:$C$2000,1,Data!$I$1:$I$2000,1)","v":680},{"$f":"SUMIFS(Data!T$1:T$2000,Data!$A$1:$A$2000,$B18,Data!$C$1:$C$2000,1,Data!$I$1:$I$2000,1)","v":618},{"$f":"SUMIFS(Data!U$1:U$2000,Data!$A$1:$A$2000,$B18,Data!$C$1:$C$2000,1,Data!$I$1:$I$2000,1)","v":565},{"$f":"SUMIFS(Data!V$1:V$2000,Data!$A$1:$A$2000,$B18,Data!$C$1:$C$2000,1,Data!$I$1:$I$2000,1)","v":557},{"$f":"SUMIFS(Data!W$1:W$2000,Data!$A$1:$A$2000,$B18,Data!$C$1:$C$2000,1,Data!$I$1:$I$2000,1)","v":564},{"$f":"SUMIFS(Data!X$1:X$5000,Data!$A$1:$A$5000,$B18,Data!$C$1:$C$5000,1,Data!$I$1:$I$5000,1)","v":630},{"$f":"SUMIFS(Data!Y$1:Y$2000,Data!$A$1:$A$2000,$B18,Data!$C$1:$C$2000,1,Data!$I$1:$I$2000,1)","v":577},{"$f":"SUMIFS(Data!Z$1:Z$2000,Data!$A$1:$A$2000,$B18,Data!$C$1:$C$2000,1,Data!$I$1:$I$2000,1)","v":552},{"$f":"SUMIFS(Data!AA$1:AA$2000,Data!$A$1:$A$2000,$B18,Data!$C$1:$C$2000,1,Data!$I$1:$I$2000,1)","v":458},{"$f":"SUMIFS(Data!AB$1:AB$2000,Data!$A$1:$A$2000,$B18,Data!$C$1:$C$2000,1,Data!$I$1:$I$2000,1)","v":543},{"$f":"SUMIFS(Data!AC$1:AC$2000,Data!$A$1:$A$2000,$B18,Data!$C$1:$C$2000,1,Data!$I$1:$I$2000,1)","v":472},{"$f":"SUMIFS(Data!AD$1:AD$2000,Data!$A$1:$A$2000,$B18,Data!$C$1:$C$2000,1,Data!$I$1:$I$2000,1)","v":553}]
[null,"2019-09-01","Total (without NE)",null,{"$f":"SUMIFS(Data!L$1:L$2000,Data!$A$1:$A$2000,$B19,Data!$C$1:$C$2000,1,Data!$I$1:$I$2000,1)","v":250255},{"$f":"SUMIFS(Data!M$1:M$2000,Data!$A$1:$A$2000,$B19,Data!$C$1:$C$2000,1,Data!$I$1:$I$2000,1)","v":712},{"$f":"SUMIFS(Data!N$1:N$2000,Data!$A$1:$A$2000,$B19,Data!$C$1:$C$2000,1,Data!$I$1:$I$2000,1)","v":631},{"$f":"SUMIFS(Data!O$1:O$2000,Data!$A$1:$A$2000,$B19,Data!$C$1:$C$2000,1,Data!$I$1:$I$2000,1)","v":630},{"$f":"SUMIFS(Data!P$1:P$2000,Data!$A$1:$A$2000,$B19,Data!$C$1:$C$2000,1,Data!$I$1:$I$2000,1)","v":643},{"$f":"SUMIFS(Data!Q$1:Q$2000,Data!$A$1:$A$2000,$B19,Data!$C$1:$C$2000,1,Data!$I$1:$I$2000,1)","v":612},{"$f":"SUMIFS(Data!R$1:R$2000,Data!$A$1:$A$2000,$B19,Data!$C$1:$C$2000,1,Data!$I$1:$I$2000,1)","v":188},{"$f":"SUMIFS(Data!S$1:S$2000,Data!$A$1:$A$2000,$B19,Data!$C$1:$C$2000,1,Data!$I$1:$I$2000,1)","v":677},{"$f":"SUMIFS(Data!T$1:T$2000,Data!$A$1:$A$2000,$B19,Data!$C$1:$C$2000,1,Data!$I$1:$I$2000,1)","v":614},{"$f":"SUMIFS(Data!U$1:U$2000,Data!$A$1:$A$2000,$B19,Data!$C$1:$C$2000,1,Data!$I$1:$I$2000,1)","v":565},{"$f":"SUMIFS(Data!V$1:V$2000,Data!$A$1:$A$2000,$B19,Data!$C$1:$C$2000,1,Data!$I$1:$I$2000,1)","v":566},{"$f":"SUMIFS(Data!W$1:W$2000,Data!$A$1:$A$2000,$B19,Data!$C$1:$C$2000,1,Data!$I$1:$I$2000,1)","v":567},{"$f":"SUMIFS(Data!X$1:X$5000,Data!$A$1:$A$5000,$B19,Data!$C$1:$C$5000,1,Data!$I$1:$I$5000,1)","v":645},{"$f":"SUMIFS(Data!Y$1:Y$2000,Data!$A$1:$A$2000,$B19,Data!$C$1:$C$2000,1,Data!$I$1:$I$2000,1)","v":582},{"$f":"SUMIFS(Data!Z$1:Z$2000,Data!$A$1:$A$2000,$B19,Data!$C$1:$C$2000,1,Data!$I$1:$I$2000,1)","v":572},{"$f":"SUMIFS(Data!AA$1:AA$2000,Data!$A$1:$A$2000,$B19,Data!$C$1:$C$2000,1,Data!$I$1:$I$2000,1)","v":488},{"$f":"SUMIFS(Data!AB$1:AB$2000,Data!$A$1:$A$2000,$B19,Data!$C$1:$C$2000,1,Data!$I$1:$I$2000,1)","v":563},{"$f":"SUMIFS(Data!AC$1:AC$2000,Data!$A$1:$A$2000,$B19,Data!$C$1:$C$2000,1,Data!$I$1:$I$2000,1)","v":508},{"$f":"SUMIFS(Data!AD$1:AD$2000,Data!$A$1:$A$2000,$B19,Data!$C$1:$C$2000,1,Data!$I$1:$I$2000,1)","v":566}]
[null,"2019-12-01","Total (without NE)",null,{"$f":"SUMIFS(Data!L$1:L$2000,Data!$A$1:$A$2000,$B20,Data!$C$1:$C$2000,1,Data!$I$1:$I$2000,1)","v":249979},{"$f":"SUMIFS(Data!M$1:M$2000,Data!$A$1:$A$2000,$B20,Data!$C$1:$C$2000,1,Data!$I$1:$I$2000,1)","v":733},{"$f":"SUMIFS(Data!N$1:N$2000,Data!$A$1:$A$2000,$B20,Data!$C$1:$C$2000,1,Data!$I$1:$I$2000,1)","v":638},{"$f":"SUMIFS(Data!O$1:O$2000,Data!$A$1:$A$2000,$B20,Data!$C$1:$C$2000,1,Data!$I$1:$I$2000,1)","v":630},{"$f":"SUMIFS(Data!P$1:P$2000,Data!$A$1:$A$2000,$B20,Data!$C$1:$C$2000,1,Data!$I$1:$I$2000,1)","v":648},{"$f":"SUMIFS(Data!Q$1:Q$2000,Data!$A$1:$A$2000,$B20,Data!$C$1:$C$2000,1,Data!$I$1:$I$2000,1)","v":619},{"$f":"SUMIFS(Data!R$1:R$2000,Data!$A$1:$A$2000,$B20,Data!$C$1:$C$2000,1,Data!$I$1:$I$2000,1)","v":224},{"$f":"SUMIFS(Data!S$1:S$2000,Data!$A$1:$A$2000,$B20,Data!$C$1:$C$2000,1,Data!$I$1:$I$2000,1)","v":633},{"$f":"SUMIFS(Data!T$1:T$2000,Data!$A$1:$A$2000,$B20,Data!$C$1:$C$2000,1,Data!$I$1:$I$2000,1)","v":564},{"$f":"SUMIFS(Data!U$1:U$2000,Data!$A$1:$A$2000,$B20,Data!$C$1:$C$2000,1,Data!$I$1:$I$2000,1)","v":526},{"$f":"SUMIFS(Data!V$1:V$2000,Data!$A$1:$A$2000,$B20,Data!$C$1:$C$2000,1,Data!$I$1:$I$2000,1)","v":519},{"$f":"SUMIFS(Data!W$1:W$2000,Data!$A$1:$A$2000,$B20,Data!$C$1:$C$2000,1,Data!$I$1:$I$2000,1)","v":517},{"$f":"SUMIFS(Data!X$1:X$5000,Data!$A$1:$A$5000,$B20,Data!$C$1:$C$5000,1,Data!$I$1:$I$5000,1)","v":608},{"$f":"SUMIFS(Data!Y$1:Y$2000,Data!$A$1:$A$2000,$B20,Data!$C$1:$C$2000,1,Data!$I$1:$I$2000,1)","v":535},{"$f":"SUMIFS(Data!Z$1:Z$2000,Data!$A$1:$A$2000,$B20,Data!$C$1:$C$2000,1,Data!$I$1:$I$2000,1)","v":527},{"$f":"SUMIFS(Data!AA$1:AA$2000,Data!$A$1:$A$2000,$B20,Data!$C$1:$C$2000,1,Data!$I$1:$I$2000,1)","v":442},{"$f":"SUMIFS(Data!AB$1:AB$2000,Data!$A$1:$A$2000,$B20,Data!$C$1:$C$2000,1,Data!$I$1:$I$2000,1)","v":526},{"$f":"SUMIFS(Data!AC$1:AC$2000,Data!$A$1:$A$2000,$B20,Data!$C$1:$C$2000,1,Data!$I$1:$I$2000,1)","v":452},{"$f":"SUMIFS(Data!AD$1:AD$2000,Data!$A$1:$A$2000,$B20,Data!$C$1:$C$2000,1,Data!$I$1:$I$2000,1)","v":518}]
[null,"2020-03-01","Total (without NE)",null,{"$f":"SUMIFS(Data!L$1:L$2000,Data!$A$1:$A$2000,$B21,Data!$C$1:$C$2000,1,Data!$I$1:$I$2000,1)","v":250693},{"$f":"SUMIFS(Data!M$1:M$2000,Data!$A$1:$A$2000,$B21,Data!$C$1:$C$2000,1,Data!$I$1:$I$2000,1)","v":662},{"$f":"SUMIFS(Data!N$1:N$2000,Data!$A$1:$A$2000,$B21,Data!$C$1:$C$2000,1,Data!$I$1:$I$2000,1)","v":580},{"$f":"SUMIFS(Data!O$1:O$2000,Data!$A$1:$A$2000,$B21,Data!$C$1:$C$2000,1,Data!$I$1:$I$2000,1)","v":584},{"$f":"SUMIFS(Data!P$1:P$2000,Data!$A$1:$A$2000,$B21,Data!$C$1:$C$2000,1,Data!$I$1:$I$2000,1)","v":588},{"$f":"SUMIFS(Data!Q$1:Q$2000,Data!$A$1:$A$2000,$B21,Data!$C$1:$C$2000,1,Data!$I$1:$I$2000,1)","v":576},{"$f":"SUMIFS(Data!R$1:R$2000,Data!$A$1:$A$2000,$B21,Data!$C$1:$C$2000,1,Data!$I$1:$I$2000,1)","v":177},{"$f":"SUMIFS(Data!S$1:S$2000,Data!$A$1:$A$2000,$B21,Data!$C$1:$C$2000,1,Data!$I$1:$I$2000,1)","v":635},{"$f":"SUMIFS(Data!T$1:T$2000,Data!$A$1:$A$2000,$B21,Data!$C$1:$C$2000,1,Data!$I$1:$I$2000,1)","v":563},{"$f":"SUMIFS(Data!U$1:U$2000,Data!$A$1:$A$2000,$B21,Data!$C$1:$C$2000,1,Data!$I$1:$I$2000,1)","v":519},{"$f":"SUMIFS(Data!V$1:V$2000,Data!$A$1:$A$2000,$B21,Data!$C$1:$C$2000,1,Data!$I$1:$I$2000,1)","v":517},{"$f":"SUMIFS(Data!W$1:W$2000,Data!$A$1:$A$2000,$B21,Data!$C$1:$C$2000,1,Data!$I$1:$I$2000,1)","v":520},{"$f":"SUMIFS(Data!X$1:X$5000,Data!$A$1:$A$5000,$B21,Data!$C$1:$C$5000,1,Data!$I$1:$I$5000,1)","v":604},{"$f":"SUMIFS(Data!Y$1:Y$2000,Data!$A$1:$A$2000,$B21,Data!$C$1:$C$2000,1,Data!$I$1:$I$2000,1)","v":538},{"$f":"SUMIFS(Data!Z$1:Z$2000,Data!$A$1:$A$2000,$B21,Data!$C$1:$C$2000,1,Data!$I$1:$I$2000,1)","v":532},{"$f":"SUMIFS(Data!AA$1:AA$2000,Data!$A$1:$A$2000,$B21,Data!$C$1:$C$2000,1,Data!$I$1:$I$2000,1)","v":444},{"$f":"SUMIFS(Data!AB$1:AB$2000,Data!$A$1:$A$2000,$B21,Data!$C$1:$C$2000,1,Data!$I$1:$I$2000,1)","v":529},{"$f":"SUMIFS(Data!AC$1:AC$2000,Data!$A$1:$A$2000,$B21,Data!$C$1:$C$2000,1,Data!$I$1:$I$2000,1)","v":459},{"$f":"SUMIFS(Data!AD$1:AD$2000,Data!$A$1:$A$2000,$B21,Data!$C$1:$C$2000,1,Data!$I$1:$I$2000,1)","v":515}]
[null,"2020-06-01","Total (without NE)",null,{"$f":"SUMIFS(Data!L$1:L$2000,Data!$A$1:$A$2000,$B22,Data!$C$1:$C$2000,1,Data!$I$1:$I$2000,1)","v":250443},{"$f":"SUMIFS(Data!M$1:M$2000,Data!$A$1:$A$2000,$B22,Data!$C$1:$C$2000,1,Data!$I$1:$I$2000,1)","v":673},{"$f":"SUMIFS(Data!N$1:N$2000,Data!$A$1:$A$2000,$B22,Data!$C$1:$C$2000,1,Data!$I$1:$I$2000,1)","v":586},{"$f":"SUMIFS(Data!O$1:O$2000,Data!$A$1:$A$2000,$B22,Data!$C$1:$C$2000,1,Data!$I$1:$I$2000,1)","v":585},{"$f":"SUMIFS(Data!P$1:P$2000,Data!$A$1:$A$2000,$B22,Data!$C$1:$C$2000,1,Data!$I$1:$I$2000,1)","v":594},{"$f":"SUMIFS(Data!Q$1:Q$2000,Data!$A$1:$A$2000,$B22,Data!$C$1:$C$2000,1,Data!$I$1:$I$2000,1)","v":576},{"$f":"SUMIFS(Data!R$1:R$2000,Data!$A$1:$A$2000,$B22,Data!$C$1:$C$2000,1,Data!$I$1:$I$2000,1)","v":192},{"$f":"SUMIFS(Data!S$1:S$2000,Data!$A$1:$A$2000,$B22,Data!$C$1:$C$2000,1,Data!$I$1:$I$2000,1)","v":674},{"$f":"SUMIFS(Data!T$1:T$2000,Data!$A$1:$A$2000,$B22,Data!$C$1:$C$2000,1,Data!$I$1:$I$2000,1)","v":605},{"$f":"SUMIFS(Data!U$1:U$2000,Data!$A$1:$A$2000,$B22,Data!$C$1:$C$2000,1,Data!$I$1:$I$2000,1)","v":545},{"$f":"SUMIFS(Data!V$1:V$2000,Data!$A$1:$A$2000,$B22,Data!$C$1:$C$2000,1,Data!$I$1:$I$2000,1)","v":543},{"$f":"SUMIFS(Data!W$1:W$2000,Data!$A$1:$A$2000,$B22,Data!$C$1:$C$2000,1,Data!$I$1:$I$2000,1)","v":543},{"$f":"SUMIFS(Data!X$1:X$5000,Data!$A$1:$A$5000,$B22,Data!$C$1:$C$5000,1,Data!$I$1:$I$5000,1)","v":596},{"$f":"SUMIFS(Data!Y$1:Y$2000,Data!$A$1:$A$2000,$B22,Data!$C$1:$C$2000,1,Data!$I$1:$I$2000,1)","v":538},{"$f":"SUMIFS(Data!Z$1:Z$2000,Data!$A$1:$A$2000,$B22,Data!$C$1:$C$2000,1,Data!$I$1:$I$2000,1)","v":532},{"$f":"SUMIFS(Data!AA$1:AA$2000,Data!$A$1:$A$2000,$B22,Data!$C$1:$C$2000,1,Data!$I$1:$I$2000,1)","v":433},{"$f":"SUMIFS(Data!AB$1:AB$2000,Data!$A$1:$A$2000,$B22,Data!$C$1:$C$2000,1,Data!$I$1:$I$2000,1)","v":525},{"$f":"SUMIFS(Data!AC$1:AC$2000,Data!$A$1:$A$2000,$B22,Data!$C$1:$C$2000,1,Data!$I$1:$I$2000,1)","v":447},{"$f":"SUMIFS(Data!AD$1:AD$2000,Data!$A$1:$A$2000,$B22,Data!$C$1:$C$2000,1,Data!$I$1:$I$2000,1)","v":544}]
[null,"2020-09-01","Total (without NE)",null,{"$f":"SUMIFS(Data!L$1:L$2000,Data!$A$1:$A$2000,$B23,Data!$C$1:$C$2000,1,Data!$I$1:$I$2000,1)","v":251358},{"$f":"SUMIFS(Data!M$1:M$2000,Data!$A$1:$A$2000,$B23,Data!$C$1:$C$2000,1,Data!$I$1:$I$2000,1)","v":682},{"$f":"SUMIFS(Data!N$1:N$2000,Data!$A$1:$A$2000,$B23,Data!$C$1:$C$2000,1,Data!$I$1:$I$2000,1)","v":589},{"$f":"SUMIFS(Data!O$1:O$2000,Data!$A$1:$A$2000,$B23,Data!$C$1:$C$2000,1,Data!$I$1:$I$2000,1)","v":585},{"$f":"SUMIFS(Data!P$1:P$2000,Data!$A$1:$A$2000,$B23,Data!$C$1:$C$2000,1,Data!$I$1:$I$2000,1)","v":586},{"$f":"SUMIFS(Data!Q$1:Q$2000,Data!$A$1:$A$2000,$B23,Data!$C$1:$C$2000,1,Data!$I$1:$I$2000,1)","v":575},{"$f":"SUMIFS(Data!R$1:R$2000,Data!$A$1:$A$2000,$B23,Data!$C$1:$C$2000,1,Data!$I$1:$I$2000,1)","v":192},{"$f":"SUMIFS(Data!S$1:S$2000,Data!$A$1:$A$2000,$B23,Data!$C$1:$C$2000,1,Data!$I$1:$I$2000,1)","v":670},{"$f":"SUMIFS(Data!T$1:T$2000,Data!$A$1:$A$2000,$B23,Data!$C$1:$C$2000,1,Data!$I$1:$I$2000,1)","v":601},{"$f":"SUMIFS(Data!U$1:U$2000,Data!$A$1:$A$2000,$B23,Data!$C$1:$C$2000,1,Data!$I$1:$I$2000,1)","v":556},{"$f":"SUMIFS(Data!V$1:V$2000,Data!$A$1:$A$2000,$B23,Data!$C$1:$C$2000,1,Data!$I$1:$I$2000,1)","v":555},{"$f":"SUMIFS(Data!W$1:W$2000,Data!$A$1:$A$2000,$B23,Data!$C$1:$C$2000,1,Data!$I$1:$I$2000,1)","v":555},{"$f":"SUMIFS(Data!X$1:X$5000,Data!$A$1:$A$5000,$B23,Data!$C$1:$C$5000,1,Data!$I$1:$I$5000,1)","v":645},{"$f":"SUMIFS(Data!Y$1:Y$2000,Data!$A$1:$A$2000,$B23,Data!$C$1:$C$2000,1,Data!$I$1:$I$2000,1)","v":586},{"$f":"SUMIFS(Data!Z$1:Z$2000,Data!$A$1:$A$2000,$B23,Data!$C$1:$C$2000,1,Data!$I$1:$I$2000,1)","v":568},{"$f":"SUMIFS(Data!AA$1:AA$2000,Data!$A$1:$A$2000,$B23,Data!$C$1:$C$2000,1,Data!$I$1:$I$2000,1)","v":449},{"$f":"SUMIFS(Data!AB$1:AB$2000,Data!$A$1:$A$2000,$B23,Data!$C$1:$C$2000,1,Data!$I$1:$I$2000,1)","v":569},{"$f":"SUMIFS(Data!AC$1:AC$2000,Data!$A$1:$A$2000,$B23,Data!$C$1:$C$2000,1,Data!$I$1:$I$2000,1)","v":458},{"$f":"SUMIFS(Data!AD$1:AD$2000,Data!$A$1:$A$2000,$B23,Data!$C$1:$C$2000,1,Data!$I$1:$I$2000,1)","v":556}]
[null,"2020-12-01","Total (without NE)",null,{"$f":"SUMIFS(Data!L$1:L$2000,Data!$A$1:$A$2000,$B24,Data!$C$1:$C$2000,1,Data!$I$1:$I$2000,1)","v":251500},{"$f":"SUMIFS(Data!M$1:M$2000,Data!$A$1:$A$2000,$B24,Data!$C$1:$C$2000,1,Data!$I$1:$I$2000,1)","v":634},{"$f":"SUMIFS(Data!N$1:N$2000,Data!$A$1:$A$2000,$B24,Data!$C$1:$C$2000,1,Data!$I$1:$I$2000,1)","v":529},{"$f":"SUMIFS(Data!O$1:O$2000,Data!$A$1:$A$2000,$B24,Data!$C$1:$C$2000,1,Data!$I$1:$I$2000,1)","v":524},{"$f":"SUMIFS(Data!P$1:P$2000,Data!$A$1:$A$2000,$B24,Data!$C$1:$C$2000,1,Data!$I$1:$I$2000,1)","v":511},{"$f":"SUMIFS(Data!Q$1:Q$2000,Data!$A$1:$A$2000,$B24,Data!$C$1:$C$2000,1,Data!$I$1:$I$2000,1)","v":520},{"$f":"SUMIFS(Data!R$1:R$2000,Data!$A$1:$A$2000,$B24,Data!$C$1:$C$2000,1,Data!$I$1:$I$2000,1)","v":191},{"$f":"SUMIFS(Data!S$1:S$2000,Data!$A$1:$A$2000,$B24,Data!$C$1:$C$2000,1,Data!$I$1:$I$2000,1)","v":710},{"$f":"SUMIFS(Data!T$1:T$2000,Data!$A$1:$A$2000,$B24,Data!$C$1:$C$2000,1,Data!$I$1:$I$2000,1)","v":635},{"$f":"SUMIFS(Data!U$1:U$2000,Data!$A$1:$A$2000,$B24,Data!$C$1:$C$2000,1,Data!$I$1:$I$2000,1)","v":570},{"$f":"SUMIFS(Data!V$1:V$2000,Data!$A$1:$A$2000,$B24,Data!$C$1:$C$2000,1,Data!$I$1:$I$2000,1)","v":570},{"$f":"SUMIFS(Data!W$1:W$2000,Data!$A$1:$A$2000,$B24,Data!$C$1:$C$2000,1,Data!$I$1:$I$2000,1)","v":574},{"$f":"SUMIFS(Data!X$1:X$5000,Data!$A$1:$A$5000,$B24,Data!$C$1:$C$5000,1,Data!$I$1:$I$5000,1)","v":679},{"$f":"SUMIFS(Data!Y$1:Y$2000,Data!$A$1:$A$2000,$B24,Data!$C$1:$C$2000,1,Data!$I$1:$I$2000,1)","v":622},{"$f":"SUMIFS(Data!Z$1:Z$2000,Data!$A$1:$A$2000,$B24,Data!$C$1:$C$2000,1,Data!$I$1:$I$2000,1)","v":597},{"$f":"SUMIFS(Data!AA$1:AA$2000,Data!$A$1:$A$2000,$B24,Data!$C$1:$C$2000,1,Data!$I$1:$I$2000,1)","v":464},{"$f":"SUMIFS(Data!AB$1:AB$2000,Data!$A$1:$A$2000,$B24,Data!$C$1:$C$2000,1,Data!$I$1:$I$2000,1)","v":592},{"$f":"SUMIFS(Data!AC$1:AC$2000,Data!$A$1:$A$2000,$B24,Data!$C$1:$C$2000,1,Data!$I$1:$I$2000,1)","v":473},{"$f":"SUMIFS(Data!AD$1:AD$2000,Data!$A$1:$A$2000,$B24,Data!$C$1:$C$2000,1,Data!$I$1:$I$2000,1)","v":568}]
[null,"2021-03-01","Total (without NE)",null,{"$f":"SUMIFS(Data!L$1:L$5000,Data!$A$1:$A$5000,$B25,Data!$C$1:$C$5000,1,Data!$I$1:$I$5000,1)","v":251986},{"$f":"SUMIFS(Data!M$1:M$5000,Data!$A$1:$A$5000,$B25,Data!$C$1:$C$5000,1,Data!$I$1:$I$5000,1)","v":600},{"$f":"SUMIFS(Data!N$1:N$5000,Data!$A$1:$A$5000,$B25,Data!$C$1:$C$5000,1,Data!$I$1:$I$5000,1)","v":505},{"$f":"SUMIFS(Data!O$1:O$5000,Data!$A$1:$A$5000,$B25,Data!$C$1:$C$5000,1,Data!$I$1:$I$5000,1)","v":503},{"$f":"SUMIFS(Data!P$1:P$5000,Data!$A$1:$A$5000,$B25,Data!$C$1:$C$5000,1,Data!$I$1:$I$5000,1)","v":531},{"$f":"SUMIFS(Data!Q$1:Q$5000,Data!$A$1:$A$5000,$B25,Data!$C$1:$C$5000,1,Data!$I$1:$I$5000,1)","v":502},{"$f":"SUMIFS(Data!R$1:R$5000,Data!$A$1:$A$5000,$B25,Data!$C$1:$C$5000,1,Data!$I$1:$I$5000,1)","v":157},{"$f":"SUMIFS(Data!S$1:S$5000,Data!$A$1:$A$5000,$B25,Data!$C$1:$C$5000,1,Data!$I$1:$I$5000,1)","v":605},{"$f":"SUMIFS(Data!T$1:T$5000,Data!$A$1:$A$5000,$B25,Data!$C$1:$C$5000,1,Data!$I$1:$I$5000,1)","v":536},{"$f":"SUMIFS(Data!U$1:U$5000,Data!$A$1:$A$5000,$B25,Data!$C$1:$C$5000,1,Data!$I$1:$I$5000,1)","v":487},{"$f":"SUMIFS(Data!V$1:V$5000,Data!$A$1:$A$5000,$B25,Data!$C$1:$C$5000,1,Data!$I$1:$I$5000,1)","v":484},{"$f":"SUMIFS(Data!W$1:W$5000,Data!$A$1:$A$5000,$B25,Data!$C$1:$C$5000,1,Data!$I$1:$I$5000,1)","v":493},{"$f":"SUMIFS(Data!X$1:X$5000,Data!$A$1:$A$5000,$B25,Data!$C$1:$C$5000,1,Data!$I$1:$I$5000,1)","v":576},{"$f":"SUMIFS(Data!Y$1:Y$5000,Data!$A$1:$A$5000,$B25,Data!$C$1:$C$5000,1,Data!$I$1:$I$5000,1)","v":535},{"$f":"SUMIFS(Data!Z$1:Z$5000,Data!$A$1:$A$5000,$B25,Data!$C$1:$C$5000,1,Data!$I$1:$I$5000,1)","v":515},{"$f":"SUMIFS(Data!AA$1:AA$5000,Data!$A$1:$A$5000,$B25,Data!$C$1:$C$5000,1,Data!$I$1:$I$5000,1)","v":406},{"$f":"SUMIFS(Data!AB$1:AB$5000,Data!$A$1:$A$5000,$B25,Data!$C$1:$C$5000,1,Data!$I$1:$I$5000,1)","v":513},{"$f":"SUMIFS(Data!AC$1:AC$5000,Data!$A$1:$A$5000,$B25,Data!$C$1:$C$5000,1,Data!$I$1:$I$5000,1)","v":411},{"$f":"SUMIFS(Data!AD$1:AD$5000,Data!$A$1:$A$5000,$B25,Data!$C$1:$C$5000,1,Data!$I$1:$I$5000,1)","v":487}]
[null,"2021-06-01","Total (without NE)",null,{"$f":"SUMIFS(Data!L$1:L$5000,Data!$A$1:$A$5000,$B26,Data!$C$1:$C$5000,1,Data!$I$1:$I$5000,1)","v":254996},{"$f":"SUMIFS(Data!M$1:M$5000,Data!$A$1:$A$5000,$B26,Data!$C$1:$C$5000,1,Data!$I$1:$I$5000,1)","v":637},{"$f":"SUMIFS(Data!N$1:N$5000,Data!$A$1:$A$5000,$B26,Data!$C$1:$C$5000,1,Data!$I$1:$I$5000,1)","v":540},{"$f":"SUMIFS(Data!O$1:O$5000,Data!$A$1:$A$5000,$B26,Data!$C$1:$C$5000,1,Data!$I$1:$I$5000,1)","v":536},{"$f":"SUMIFS(Data!P$1:P$5000,Data!$A$1:$A$5000,$B26,Data!$C$1:$C$5000,1,Data!$I$1:$I$5000,1)","v":557},{"$f":"SUMIFS(Data!Q$1:Q$5000,Data!$A$1:$A$5000,$B26,Data!$C$1:$C$5000,1,Data!$I$1:$I$5000,1)","v":528},{"$f":"SUMIFS(Data!R$1:R$5000,Data!$A$1:$A$5000,$B26,Data!$C$1:$C$5000,1,Data!$I$1:$I$5000,1)","v":164},{"$f":"SUMIFS(Data!S$1:S$5000,Data!$A$1:$A$5000,$B26,Data!$C$1:$C$5000,1,Data!$I$1:$I$5000,1)","v":620},{"$f":"SUMIFS(Data!T$1:T$5000,Data!$A$1:$A$5000,$B26,Data!$C$1:$C$5000,1,Data!$I$1:$I$5000,1)","v":543},{"$f":"SUMIFS(Data!U$1:U$5000,Data!$A$1:$A$5000,$B26,Data!$C$1:$C$5000,1,Data!$I$1:$I$5000,1)","v":477},{"$f":"SUMIFS(Data!V$1:V$5000,Data!$A$1:$A$5000,$B26,Data!$C$1:$C$5000,1,Data!$I$1:$I$5000,1)","v":472},{"$f":"SUMIFS(Data!W$1:W$5000,Data!$A$1:$A$5000,$B26,Data!$C$1:$C$5000,1,Data!$I$1:$I$5000,1)","v":471},{"$f":"SUMIFS(Data!X$1:X$5000,Data!$A$1:$A$5000,$B26,Data!$C$1:$C$5000,1,Data!$I$1:$I$5000,1)","v":607},{"$f":"SUMIFS(Data!Y$1:Y$5000,Data!$A$1:$A$5000,$B26,Data!$C$1:$C$5000,1,Data!$I$1:$I$5000,1)","v":551},{"$f":"SUMIFS(Data!Z$1:Z$5000,Data!$A$1:$A$5000,$B26,Data!$C$1:$C$5000,1,Data!$I$1:$I$5000,1)","v":536},{"$f":"SUMIFS(Data!AA$1:AA$5000,Data!$A$1:$A$5000,$B26,Data!$C$1:$C$5000,1,Data!$I$1:$I$5000,1)","v":423},{"$f":"SUMIFS(Data!AB$1:AB$5000,Data!$A$1:$A$5000,$B26,Data!$C$1:$C$5000,1,Data!$I$1:$I$5000,1)","v":532},{"$f":"SUMIFS(Data!AC$1:AC$5000,Data!$A$1:$A$5000,$B26,Data!$C$1:$C$5000,1,Data!$I$1:$I$5000,1)","v":437},{"$f":"SUMIFS(Data!AD$1:AD$5000,Data!$A$1:$A$5000,$B26,Data!$C$1:$C$5000,1,Data!$I$1:$I$5000,1)","v":475}]
[null,"2021-09-01","Total (without NE)",null,{"$f":"SUMIFS(Data!L$1:L$5000,Data!$A$1:$A$5000,$B27,Data!$C$1:$C$5000,1,Data!$I$1:$I$5000,1)","v":257501},{"$f":"SUMIFS(Data!M$1:M$5000,Data!$A$1:$A$5000,$B27,Data!$C$1:$C$5000,1,Data!$I$1:$I$5000,1)","v":626},{"$f":"SUMIFS(Data!N$1:N$5000,Data!$A$1:$A$5000,$B27,Data!$C$1:$C$5000,1,Data!$I$1:$I$5000,1)","v":516},{"$f":"SUMIFS(Data!O$1:O$5000,Data!$A$1:$A$5000,$B27,Data!$C$1:$C$5000,1,Data!$I$1:$I$5000,1)","v":515},{"$f":"SUMIFS(Data!P$1:P$5000,Data!$A$1:$A$5000,$B27,Data!$C$1:$C$5000,1,Data!$I$1:$I$5000,1)","v":543},{"$f":"SUMIFS(Data!Q$1:Q$5000,Data!$A$1:$A$5000,$B27,Data!$C$1:$C$5000,1,Data!$I$1:$I$5000,1)","v":509},{"$f":"SUMIFS(Data!R$1:R$5000,Data!$A$1:$A$5000,$B27,Data!$C$1:$C$5000,1,Data!$I$1:$I$5000,1)","v":160},{"$f":"SUMIFS(Data!S$1:S$5000,Data!$A$1:$A$5000,$B27,Data!$C$1:$C$5000,1,Data!$I$1:$I$5000,1)","v":639},{"$f":"SUMIFS(Data!T$1:T$5000,Data!$A$1:$A$5000,$B27,Data!$C$1:$C$5000,1,Data!$I$1:$I$5000,1)","v":553},{"$f":"SUMIFS(Data!U$1:U$5000,Data!$A$1:$A$5000,$B27,Data!$C$1:$C$5000,1,Data!$I$1:$I$5000,1)","v":495},{"$f":"SUMIFS(Data!V$1:V$5000,Data!$A$1:$A$5000,$B27,Data!$C$1:$C$5000,1,Data!$I$1:$I$5000,1)","v":495},{"$f":"SUMIFS(Data!W$1:W$5000,Data!$A$1:$A$5000,$B27,Data!$C$1:$C$5000,1,Data!$I$1:$I$5000,1)","v":494},{"$f":"SUMIFS(Data!X$1:X$5000,Data!$A$1:$A$5000,$B27,Data!$C$1:$C$5000,1,Data!$I$1:$I$5000,1)","v":633},{"$f":"SUMIFS(Data!Y$1:Y$5000,Data!$A$1:$A$5000,$B27,Data!$C$1:$C$5000,1,Data!$I$1:$I$5000,1)","v":576},{"$f":"SUMIFS(Data!Z$1:Z$5000,Data!$A$1:$A$5000,$B27,Data!$C$1:$C$5000,1,Data!$I$1:$I$5000,1)","v":559},{"$f":"SUMIFS(Data!AA$1:AA$5000,Data!$A$1:$A$5000,$B27,Data!$C$1:$C$5000,1,Data!$I$1:$I$5000,1)","v":443},{"$f":"SUMIFS(Data!AB$1:AB$5000,Data!$A$1:$A$5000,$B27,Data!$C$1:$C$5000,1,Data!$I$1:$I$5000,1)","v":551},{"$f":"SUMIFS(Data!AC$1:AC$5000,Data!$A$1:$A$5000,$B27,Data!$C$1:$C$5000,1,Data!$I$1:$I$5000,1)","v":453},{"$f":"SUMIFS(Data!AD$1:AD$5000,Data!$A$1:$A$5000,$B27,Data!$C$1:$C$5000,1,Data!$I$1:$I$5000,1)","v":497}]
[null,"2021-12-01","Total (without NE)",null,{"$f":"SUMIFS(Data!L$1:L$5000,Data!$A$1:$A$5000,$B28,Data!$C$1:$C$5000,1,Data!$I$1:$I$5000,1)","v":259370},{"$f":"SUMIFS(Data!M$1:M$5000,Data!$A$1:$A$5000,$B28,Data!$C$1:$C$5000,1,Data!$I$1:$I$5000,1)","v":585},{"$f":"SUMIFS(Data!N$1:N$5000,Data!$A$1:$A$5000,$B28,Data!$C$1:$C$5000,1,Data!$I$1:$I$5000,1)","v":501},{"$f":"SUMIFS(Data!O$1:O$5000,Data!$A$1:$A$5000,$B28,Data!$C$1:$C$5000,1,Data!$I$1:$I$5000,1)","v":499},{"$f":"SUMIFS(Data!P$1:P$5000,Data!$A$1:$A$5000,$B28,Data!$C$1:$C$5000,1,Data!$I$1:$I$5000,1)","v":519},{"$f":"SUMIFS(Data!Q$1:Q$5000,Data!$A$1:$A$5000,$B28,Data!$C$1:$C$5000,1,Data!$I$1:$I$5000,1)","v":489},{"$f":"SUMIFS(Data!R$1:R$5000,Data!$A$1:$A$5000,$B28,Data!$C$1:$C$5000,1,Data!$I$1:$I$5000,1)","v":106},{"$f":"SUMIFS(Data!S$1:S$5000,Data!$A$1:$A$5000,$B28,Data!$C$1:$C$5000,1,Data!$I$1:$I$5000,1)","v":590},{"$f":"SUMIFS(Data!T$1:T$5000,Data!$A$1:$A$5000,$B28,Data!$C$1:$C$5000,1,Data!$I$1:$I$5000,1)","v":500},{"$f":"SUMIFS(Data!U$1:U$5000,Data!$A$1:$A$5000,$B28,Data!$C$1:$C$5000,1,Data!$I$1:$I$5000,1)","v":454},{"$f":"SUMIFS(Data!V$1:V$5000,Data!$A$1:$A$5000,$B28,Data!$C$1:$C$5000,1,Data!$I$1:$I$5000,1)","v":453},{"$f":"SUMIFS(Data!W$1:W$5000,Data!$A$1:$A$5000,$B28,Data!$C$1:$C$5000,1,Data!$I$1:$I$5000,1)","v":455},{"$f":"SUMIFS(Data!X$1:X$5000,Data!$A$1:$A$5000,$B28,Data!$C$1:$C$5000,1,Data!$I$1:$I$5000,1)","v":601},{"$f":"SUMIFS(Data!Y$1:Y$5000,Data!$A$1:$A$5000,$B28,Data!$C$1:$C$5000,1,Data!$I$1:$I$5000,1)","v":542},{"$f":"SUMIFS(Data!Z$1:Z$5000,Data!$A$1:$A$5000,$B28,Data!$C$1:$C$5000,1,Data!$I$1:$I$5000,1)","v":527},{"$f":"SUMIFS(Data!AA$1:AA$5000,Data!$A$1:$A$5000,$B28,Data!$C$1:$C$5000,1,Data!$I$1:$I$5000,1)","v":416},{"$f":"SUMIFS(Data!AB$1:AB$5000,Data!$A$1:$A$5000,$B28,Data!$C$1:$C$5000,1,Data!$I$1:$I$5000,1)","v":525},{"$f":"SUMIFS(Data!AC$1:AC$5000,Data!$A$1:$A$5000,$B28,Data!$C$1:$C$5000,1,Data!$I$1:$I$5000,1)","v":423},{"$f":"SUMIFS(Data!AD$1:AD$5000,Data!$A$1:$A$5000,$B28,Data!$C$1:$C$5000,1,Data!$I$1:$I$5000,1)","v":455}]
[null,"2022-03-01","Total (without NE)",null,{"$f":"SUMIFS(Data!L$1:L$5000,Data!$A$1:$A$5000,$B29,Data!$C$1:$C$5000,1,Data!$I$1:$I$5000,1)","v":258907},{"$f":"SUMIFS(Data!M$1:M$5000,Data!$A$1:$A$5000,$B29,Data!$C$1:$C$5000,1,Data!$I$1:$I$5000,1)","v":609},{"$f":"SUMIFS(Data!N$1:N$5000,Data!$A$1:$A$5000,$B29,Data!$C$1:$C$5000,1,Data!$I$1:$I$5000,1)","v":507},{"$f":"SUMIFS(Data!O$1:O$5000,Data!$A$1:$A$5000,$B29,Data!$C$1:$C$5000,1,Data!$I$1:$I$5000,1)","v":504},{"$f":"SUMIFS(Data!P$1:P$5000,Data!$A$1:$A$5000,$B29,Data!$C$1:$C$5000,1,Data!$I$1:$I$5000,1)","v":532},{"$f":"SUMIFS(Data!Q$1:Q$5000,Data!$A$1:$A$5000,$B29,Data!$C$1:$C$5000,1,Data!$I$1:$I$5000,1)","v":504},{"$f":"SUMIFS(Data!R$1:R$5000,Data!$A$1:$A$5000,$B29,Data!$C$1:$C$5000,1,Data!$I$1:$I$5000,1)","v":112},{"$f":"SUMIFS(Data!S$1:S$5000,Data!$A$1:$A$5000,$B29,Data!$C$1:$C$5000,1,Data!$I$1:$I$5000,1)","v":568},{"$f":"SUMIFS(Data!T$1:T$5000,Data!$A$1:$A$5000,$B29,Data!$C$1:$C$5000,1,Data!$I$1:$I$5000,1)","v":498},{"$f":"SUMIFS(Data!U$1:U$5000,Data!$A$1:$A$5000,$B29,Data!$C$1:$C$5000,1,Data!$I$1:$I$5000,1)","v":474},{"$f":"SUMIFS(Data!V$1:V$5000,Data!$A$1:$A$5000,$B29,Data!$C$1:$C$5000,1,Data!$I$1:$I$5000,1)","v":473},{"$f":"SUMIFS(Data!W$1:W$5000,Data!$A$1:$A$5000,$B29,Data!$C$1:$C$5000,1,Data!$I$1:$I$5000,1)","v":468},{"$f":"SUMIFS(Data!X$1:X$5000,Data!$A$1:$A$5000,$B29,Data!$C$1:$C$5000,1,Data!$I$1:$I$5000,1)","v":578},{"$f":"SUMIFS(Data!Y$1:Y$5000,Data!$A$1:$A$5000,$B29,Data!$C$1:$C$5000,1,Data!$I$1:$I$5000,1)","v":541},{"$f":"SUMIFS(Data!Z$1:Z$5000,Data!$A$1:$A$5000,$B29,Data!$C$1:$C$5000,1,Data!$I$1:$I$5000,1)","v":514},{"$f":"SUMIFS(Data!AA$1:AA$5000,Data!$A$1:$A$5000,$B29,Data!$C$1:$C$5000,1,Data!$I$1:$I$5000,1)","v":443},{"$f":"SUMIFS(Data!AB$1:AB$5000,Data!$A$1:$A$5000,$B29,Data!$C$1:$C$5000,1,Data!$I$1:$I$5000,1)","v":511},{"$f":"SUMIFS(Data!AC$1:AC$5000,Data!$A$1:$A$5000,$B29,Data!$C$1:$C$5000,1,Data!$I$1:$I$5000,1)","v":449},{"$f":"SUMIFS(Data!AD$1:AD$5000,Data!$A$1:$A$5000,$B29,Data!$C$1:$C$5000,1,Data!$I$1:$I$5000,1)","v":470}]